Workbook

Sheet Liste des joueurs
A1: Numéro | B1: NOM Prénom
A2: 12 | B2: MARTIN Jean
A3: 13 | B3: DUPONT Albert
A4: 20 | B4: TOTO Jeanne
A5: 25 | B5: TATA Martine
A6: 30 | B6: LAMBDA Alain
A7: 50 | B7: IOTA Georges
A8: 90 | B8: Test

Sheet 28 Février
A1: Numéro | B1: NOM Prénom | C1: Eng. | D1: Score | E1: P1 | F1: Score2 | G1: P2 | H1: Score3 | I1: P3 | J1: Score4 | K1: P4 | L1: Total Points | M1: G/A si Egalité
A2: =INDEX(T_SIGNALETIQUE[#All],MATCH(T_RESULTATS[[#This Row],[NOM Prénom]],T_SIGNALETIQUE[[#All],[NOM Prénom]],0),1) -> 13 | B2: DUPONT Albert | C2: 1 | D2: 13 | E2: 10 | F2: 0 | G2: 13 | H2: 13 | I2: 4 | J2: 13 | K2: 5 | L2: =IF(D2>12,"2","0")+IF(F2>12,"2","0")+IF(H2>12,"2","0")+IF(J2>12,"2","0")+C2 -> 7 | M2: =IF(D2>12,D2-E2)+IF(F2>12,F2-G2)+IF(H2>12,H2-I2)+IF(J2>12,J2-K2) -> 20
A3: =INDEX(T_SIGNALETIQUE[#All],MATCH(T_RESULTATS[[#This Row],[NOM Prénom]],T_SIGNALETIQUE[[#All],[NOM Prénom]],0),1) -> 50 | B3: IOTA Georges | L3: =IF(D3>12,"2","0")+IF(F3>12,"2","0")+IF(H3>12,"2","0")+IF(J3>12,"2","0")+C3 -> 0 | M3: =IF(D3>12,D3-E3)+IF(F3>12,F3-G3)+IF(H3>12,H3-I3)+IF(J3>12,J3-K3) -> 0
A4: =INDEX(T_SIGNALETIQUE[#All],MATCH(T_RESULTATS[[#This Row],[NOM Prénom]],T_SIGNALETIQUE[[#All],[NOM Prénom]],0),1) -> 30 | B4: LAMBDA Alain | C4: 1 | D4: 13 | E4: 0 | F4: 13 | G4: 0 | H4: 13 | I4: 0 | J4: 13 | K4: 0 | L4: =IF(D4>12,"2","0")+IF(F4>12,"2","0")+IF(H4>12,"2","0")+IF(J4>12,"2","0")+C4 -> 9 | M4: =IF(D4>12,D4-E4)+IF(F4>12,F4-G4)+IF(H4>12,H4-I4)+IF(J4>12,J4-K4) -> 52
A5: =INDEX(T_SIGNALETIQUE[#All],MATCH(T_RESULTATS[[#This Row],[NOM Prénom]],T_SIGNALETIQUE[[#All],[NOM Prénom]],0),1) -> 12 | B5: MARTIN Jean | C5: 1 | D5: 0 | E5: 13 | F5: 5 | G5: 13 | H5: 7 | I5: 13 | J5: 13 | K5: 10 | L5: =IF(D5>12,"2","0")+IF(F5>12,"2","0")+IF(H5>12,"2","0")+IF(J5>12,"2","0")+C5 -> 3 | M5: =IF(D5>12,D5-E5)+IF(F5>12,F5-G5)+IF(H5>12,H5-I5)+IF(J5>12,J5-K5) -> 3
A6: =INDEX(T_SIGNALETIQUE[#All],MATCH(T_RESULTATS[[#This Row],[NOM Prénom]],T_SIGNALETIQUE[[#All],[NOM Prénom]],0),1) -> 25 | B6: TATA Martine | L6: =IF(D6>12,"2","0")+IF(F6>12,"2","0")+IF(H6>12,"2","0")+IF(J6>12,"2","0")+C6 -> 0 | M6: =IF(D6>12,D6-E6)+IF(F6>12,F6-G6)+IF(H6>12,H6-I6)+IF(J6>12,J6-K6) -> 0
A7: =INDEX(T_SIGNALETIQUE[#All],MATCH(T_RESULTATS[[#This Row],[NOM Prénom]],T_SIGNALETIQUE[[#All],[NOM Prénom]],0),1) -> 90 | B7: Test
A8: =INDEX(T_SIGNALETIQUE[#All],MATCH(T_RESULTATS[[#This Row],[NOM Prénom]],T_SIGNALETIQUE[[#All],[NOM Prénom]],0),1) -> 20 | B8: TOTO Jeanne | L8: =IF(D8>12,"2","0")+IF(F8>12,"2","0")+IF(H8>12,"2","0")+IF(J8>12,"2","0")+C8 -> 0 | M8: =IF(D8>12,D8-E8)+IF(F8>12,F8-G8)+IF(H8>12,H8-I8)+IF(J8>12,J8-K8) -> 0

Sheet Classement
A1: Numéro | B1: NOM Prénom | C1: Total cumulé | D1: G/A Cumulé
A2: ='Liste des joueurs'!A:A -> 12 | B2: ='Liste des joueurs'!B:B -> MARTIN Jean | C2: ='28 Février'!L:L -> 7 | D2: ='28 Février'!M:M -> 20
A3: ='Liste des joueurs'!A:A -> 13 | B3: ='Liste des joueurs'!B:B -> DUPONT Albert | C3: ='28 Février'!L:L -> 0 | D3: ='28 Février'!M:M -> 0
A4: ='Liste des joueurs'!A:A -> 20 | B4: ='Liste des joueurs'!B:B -> TOTO Jeanne | C4: ='28 Février'!L:L -> 9 | D4: ='28 Février'!M:M -> 52
A5: ='Liste des joueurs'!A:A -> 25 | B5: ='Liste des joueurs'!B:B -> TATA Martine | C5: ='28 Février'!L:L -> 3 | D5: ='28 Février'!M:M -> 3
A6: ='Liste des joueurs'!A:A -> 30 | B6: ='Liste des joueurs'!B:B -> LAMBDA Alain | C6: ='28 Février'!L:L -> 0 | D6: ='28 Février'!M:M -> 0
A7: ='Liste des joueurs'!A:A -> 50 | B7: ='Liste des joueurs'!B:B -> IOTA Georges | C7: ='28 Février'!L:L -> 0 | D7: ='28 Février'!M:M -> 0
