Workbook
Name Y2Y: #REF!

Sheet Export
A1: datafeed | E1: Segment
A2: GRPO | B2: PECO | C2: HITKA | D2: GRPS | E2: =IF(C2="","",IFERROR(INDEX('BDD Détaillée'!$E$2:$E$41,MATCH(C2,'BDD Détaillée'!$C$2:$C$41,0),1),"INCONNU")) -> TO Étranger Groupes
A3: CEVA | B3: CEVA | C3: OBIZ | E3: =IF(C3="","",IFERROR(INDEX('BDD Détaillée'!$E$2:$E$41,MATCH(C3,'BDD Détaillée'!$C$2:$C$41,0),1),"INCONNU")) -> CE
A4: CEVA | B4: C.G.O.S. PRIX REDUITS | E4: =IF(C4="","",IFERROR(INDEX('BDD Détaillée'!$E$2:$E$41,MATCH(C4,'BDD Détaillée'!$C$2:$C$41,0),1),"INCONNU"))
A5: CEVA | B5: CALL | C5: CCAS DE L'ENERGIE | E5: =IF(C5="","",IFERROR(INDEX('BDD Détaillée'!$E$2:$E$41,MATCH(C5,'BDD Détaillée'!$C$2:$C$41,0),1),"INCONNU")) -> CE
A6: CEVA | B6: CEVA | C6: CSE MAIF | E6: =IF(C6="","",IFERROR(INDEX('BDD Détaillée'!$E$2:$E$41,MATCH(C6,'BDD Détaillée'!$C$2:$C$41,0),1),"INCONNU")) -> INCONNU
A7: TOVA | B7: TOFR | C7: MES VACANCES EN FAMILLE | E7: =IF(C7="","",IFERROR(INDEX('BDD Détaillée'!$E$2:$E$41,MATCH(C7,'BDD Détaillée'!$C$2:$C$41,0),1),"INCONNU")) -> CE
A8: CEVA | B8: CSE CPAM DU RHONE | E8: =IF(C8="","",IFERROR(INDEX('BDD Détaillée'!$E$2:$E$41,MATCH(C8,'BDD Détaillée'!$C$2:$C$41,0),1),"INCONNU"))
E9: =IF(C9="","",IFERROR(INDEX('BDD Détaillée'!$E$2:$E$41,MATCH(C9,'BDD Détaillée'!$C$2:$C$41,0),1),"INCONNU"))
E10: =IF(C10="","",IFERROR(INDEX('BDD Détaillée'!$E$2:$E$41,MATCH(C10,'BDD Détaillée'!$C$2:$C$41,0),1),"INCONNU"))
E11: =IF(C11="","",IFERROR(INDEX('BDD Détaillée'!$E$2:$E$41,MATCH(C11,'BDD Détaillée'!$C$2:$C$41,0),1),"INCONNU"))
E12: =IF(C12="","",IFERROR(INDEX('BDD Détaillée'!$E$2:$E$41,MATCH(C12,'BDD Détaillée'!$C$2:$C$41,0),1),"INCONNU"))
E13: =IF(C13="","",IFERROR(INDEX('BDD Détaillée'!$E$2:$E$41,MATCH(C13,'BDD Détaillée'!$C$2:$C$41,0),1),"INCONNU"))
E14: =IF(C14="","",IFERROR(INDEX('BDD Détaillée'!$E$2:$E$41,MATCH(C14,'BDD Détaillée'!$C$2:$C$41,0),1),"INCONNU"))
E15: =IF(C15="","",IFERROR(INDEX('BDD Détaillée'!$E$2:$E$41,MATCH(C15,'BDD Détaillée'!$C$2:$C$41,0),1),"INCONNU"))
E16: =IF(C16="","",IFERROR(INDEX('BDD Détaillée'!$E$2:$E$41,MATCH(C16,'BDD Détaillée'!$C$2:$C$41,0),1),"INCONNU"))
E17: =IF(C17="","",IFERROR(INDEX('BDD Détaillée'!$E$2:$E$41,MATCH(C17,'BDD Détaillée'!$C$2:$C$41,0),1),"INCONNU"))
E18: =IF(C18="","",IFERROR(INDEX('BDD Détaillée'!$E$2:$E$41,MATCH(C18,'BDD Détaillée'!$C$2:$C$41,0),1),"INCONNU"))
E19: =IF(C19="","",IFERROR(INDEX('BDD Détaillée'!$E$2:$E$41,MATCH(C19,'BDD Détaillée'!$C$2:$C$41,0),1),"INCONNU"))
E20: =IF(C20="","",IFERROR(INDEX('BDD Détaillée'!$E$2:$E$41,MATCH(C20,'BDD Détaillée'!$C$2:$C$41,0),1),"INCONNU"))
... E41: =IF(C41="","",IFERROR(INDEX('BDD Détaillée'!$E$2:$E$41,MATCH(C41,'BDD Détaillée'!$C$2:$C$41,0),1),"INCONNU"))

Sheet BDD Détaillée
A1: Code Partenaire | B1: Nom du Partenaire | C1: Libellé Convention | D1: Partenaire | E1: Sous Segment | F1: Segment | G1: Canal | H1: Type de clients | I1: Commercial/vendeur | J1: Type de réservation
A2: 3105 | B2: MES VACANCES EN FAMILLE | C2: MES VACANCES EN FAMILLE | D2: MES VACANCES EN FAMILLE | E2: CE | F2: =IFERROR(VLOOKUP('BDD Détaillée'!$E2,'[1]BDD Globale'!$A$2:$D$22,2,FALSE),"") -> CE | G2: =IFERROR(VLOOKUP('BDD Détaillée'!$E2,'[1]BDD Globale'!$A$2:$D$22,3,FALSE),"") -> INDIRECT | H2: =IFERROR(VLOOKUP('BDD Détaillée'!$E2,'[1]BDD Globale'!$A$2:$D$22,4,FALSE),"") -> LOISIRS | I2: Maitre Pierre-Louis | J2: Allotement/Linéaire
A3: 3105 | B3: MES VACANCES EN FAMILLE 2023 | C3: MES VACANCES EN FAMILLE 2023 | D3: MES VACANCES EN FAMILLE | E3: CE | F3: =IFERROR(VLOOKUP('BDD Détaillée'!$E3,'[1]BDD Globale'!$A$2:$D$22,2,FALSE),"") -> CE | G3: =IFERROR(VLOOKUP('BDD Détaillée'!$E3,'[1]BDD Globale'!$A$2:$D$22,3,FALSE),"") -> INDIRECT | H3: =IFERROR(VLOOKUP('BDD Détaillée'!$E3,'[1]BDD Globale'!$A$2:$D$22,4,FALSE),"") -> LOISIRS | I3: Maitre Pierre-Louis | J3: Allotement/Linéaire
A4: 3105 | B4: MES VACANCES EN FAMILLE 2023.1 | C4: MES VACANCES EN FAMILLE 2023.1 | D4: MES VACANCES EN FAMILLE | E4: CE | F4: =IFERROR(VLOOKUP('BDD Détaillée'!$E4,'[1]BDD Globale'!$A$2:$D$22,2,FALSE),"") -> CE | G4: =IFERROR(VLOOKUP('BDD Détaillée'!$E4,'[1]BDD Globale'!$A$2:$D$22,3,FALSE),"") -> INDIRECT | H4: =IFERROR(VLOOKUP('BDD Détaillée'!$E4,'[1]BDD Globale'!$A$2:$D$22,4,FALSE),"") -> LOISIRS | I4: Maitre Pierre-Louis | J4: Allotement/Linéaire
A5: 3226 | B5: HITKA | C5: HITKA | D5: HITKA | E5: TO Étranger Groupes | F5: =IFERROR(VLOOKUP('BDD Détaillée'!$E5,'[1]BDD Globale'!$A$2:$D$22,2,FALSE),"") -> TO GROUPES | G5: =IFERROR(VLOOKUP('BDD Détaillée'!$E5,'[1]BDD Globale'!$A$2:$D$22,3,FALSE),"") -> INDIRECT | H5: =IFERROR(VLOOKUP('BDD Détaillée'!$E5,'[1]BDD Globale'!$A$2:$D$22,4,FALSE),"") -> LOISIRS
A6: 3226 | B6: HITKA | C6: HITKA PECO | D6: HITKA | E6: TO Étranger | F6: =IFERROR(VLOOKUP('BDD Détaillée'!$E6,'[1]BDD Globale'!$A$2:$D$22,2,FALSE),"") -> TO | G6: =IFERROR(VLOOKUP('BDD Détaillée'!$E6,'[1]BDD Globale'!$A$2:$D$22,3,FALSE),"") -> INDIRECT | H6: =IFERROR(VLOOKUP('BDD Détaillée'!$E6,'[1]BDD Globale'!$A$2:$D$22,4,FALSE),"") -> LOISIRS
A7: 3226 | B7: HITKA - GRPS | C7: Groupes Etrangers PECO | D7: HITKA - GRPS | E7: TO Étranger Groupes | F7: =IFERROR(VLOOKUP('BDD Détaillée'!$E7,'[1]BDD Globale'!$A$2:$D$22,2,FALSE),"") -> TO GROUPES | G7: =IFERROR(VLOOKUP('BDD Détaillée'!$E7,'[1]BDD Globale'!$A$2:$D$22,3,FALSE),"") -> INDIRECT | H7: =IFERROR(VLOOKUP('BDD Détaillée'!$E7,'[1]BDD Globale'!$A$2:$D$22,4,FALSE),"") -> LOISIRS
A8: 3226 | B8: HITKA - GRPS | C8: HITKA - GRPS | D8: HITKA - GROUPES | E8: TO Étranger Groupes | F8: =IFERROR(VLOOKUP('BDD Détaillée'!$E8,'[1]BDD Globale'!$A$2:$D$22,2,FALSE),"") -> TO GROUPES | G8: =IFERROR(VLOOKUP('BDD Détaillée'!$E8,'[1]BDD Globale'!$A$2:$D$22,3,FALSE),"") -> INDIRECT | H8: =IFERROR(VLOOKUP('BDD Détaillée'!$E8,'[1]BDD Globale'!$A$2:$D$22,4,FALSE),"") -> LOISIRS
A9: 3587 | B9: CCAS SARREGUEMINES | C9: CCAS SARREGUEMINES | D9: =C9 -> CCAS SARREGUEMINES | E9: CE | F9: =IFERROR(VLOOKUP('BDD Détaillée'!$E9,'[1]BDD Globale'!$A$2:$D$22,2,FALSE),"") -> CE | G9: =IFERROR(VLOOKUP('BDD Détaillée'!$E9,'[1]BDD Globale'!$A$2:$D$22,3,FALSE),"") -> INDIRECT | H9: =IFERROR(VLOOKUP('BDD Détaillée'!$E9,'[1]BDD Globale'!$A$2:$D$22,4,FALSE),"") -> LOISIRS | I9: Maitre Pierre-Louis | J9: Allotement/Linéaire
A10: 3587 | B10: CCAS SARREGUEMINES | C10: L’AMICALE DU PERSONNEL DE LA VILLE DE SARREGUEMINES | D10: L’AMICALE DU PERSONNEL DE LA VILLE DE SARREGUEMINES | E10: CE | F10: =IFERROR(VLOOKUP('BDD Détaillée'!$E10,'[1]BDD Globale'!$A$2:$D$22,2,FALSE),"") -> CE | G10: =IFERROR(VLOOKUP('BDD Détaillée'!$E10,'[1]BDD Globale'!$A$2:$D$22,3,FALSE),"") -> INDIRECT | H10: =IFERROR(VLOOKUP('BDD Détaillée'!$E10,'[1]BDD Globale'!$A$2:$D$22,4,FALSE),"") -> LOISIRS | I10: Maitre Pierre-Louis | J10: Allotement/Linéaire
A11: 3918 | B11: CCAS DES INDUSTRIES ELECTRIQUE ET GAZIERE | C11: CCAS DES INDUSTRIES ELECTRIQUE ET GAZIERE | D11: CCAS DES INDUSTRIES ELECTRIQUE ET GAZIERE | E11: CE | F11: =IFERROR(VLOOKUP('BDD Détaillée'!$E11,'[1]BDD Globale'!$A$2:$D$22,2,FALSE),"") -> CE | G11: =IFERROR(VLOOKUP('BDD Détaillée'!$E11,'[1]BDD Globale'!$A$2:$D$22,3,FALSE),"") -> INDIRECT | H11: =IFERROR(VLOOKUP('BDD Détaillée'!$E11,'[1]BDD Globale'!$A$2:$D$22,4,FALSE),"") -> LOISIRS | I11: Duché Didier | J11: Allotement/Linéaire
A12: 3918 | B12: CCAS DES INDUSTRIES ELECTRIQUE ET GAZIERE - HIVER 2023 | C12: CCAS DES INDUSTRIES ELECTRIQUE ET GAZIERE HIVER 2023 | D12: CCAS DES INDUSTRIES ELECTRIQUE ET GAZIERE | E12: CE | F12: =IFERROR(VLOOKUP('BDD Détaillée'!$E12,'[1]BDD Globale'!$A$2:$D$22,2,FALSE),"") -> CE | G12: =IFERROR(VLOOKUP('BDD Détaillée'!$E12,'[1]BDD Globale'!$A$2:$D$22,3,FALSE),"") -> INDIRECT | H12: =IFERROR(VLOOKUP('BDD Détaillée'!$E12,'[1]BDD Globale'!$A$2:$D$22,4,FALSE),"") -> LOISIRS | I12: Duché Didier | J12: Allotement/Linéaire
A13: 3999 | B13: OBIZ | C13: OBIZ | D13: OBIZ | E13: CE | F13: =IFERROR(VLOOKUP('BDD Détaillée'!$E13,'[1]BDD Globale'!$A$2:$D$22,2,FALSE),"") -> CE | G13: =IFERROR(VLOOKUP('BDD Détaillée'!$E13,'[1]BDD Globale'!$A$2:$D$22,3,FALSE),"") -> INDIRECT | H13: =IFERROR(VLOOKUP('BDD Détaillée'!$E13,'[1]BDD Globale'!$A$2:$D$22,4,FALSE),"") -> LOISIRS | I13: Coup par coup | J13: Coup par coup
A14: 4172 | B14: CCAS DE L'ENERGIE | C14: CCAS DE L'ENERGIE | D14: =C14 -> CCAS DE L'ENERGIE | E14: CE | F14: =IFERROR(VLOOKUP('BDD Détaillée'!$E14,'[1]BDD Globale'!$A$2:$D$22,2,FALSE),"") -> CE | G14: =IFERROR(VLOOKUP('BDD Détaillée'!$E14,'[1]BDD Globale'!$A$2:$D$22,3,FALSE),"") -> INDIRECT | H14: =IFERROR(VLOOKUP('BDD Détaillée'!$E14,'[1]BDD Globale'!$A$2:$D$22,4,FALSE),"") -> LOISIRS | I14: Coup par coup | J14: Coup par coup
A15: 3105 | B15: MES VACANCES EN FAMILLE 2023 | C15: MES VACANCES EN FAMILLE linéaire | D15: MES VACANCES EN FAMILLE | E15: CE | F15: =IFERROR(VLOOKUP('BDD Détaillée'!$E15,'[1]BDD Globale'!$A$2:$D$22,2,FALSE),"") -> CE | G15: =IFERROR(VLOOKUP('BDD Détaillée'!$E15,'[1]BDD Globale'!$A$2:$D$22,3,FALSE),"") -> INDIRECT | H15: =IFERROR(VLOOKUP('BDD Détaillée'!$E15,'[1]BDD Globale'!$A$2:$D$22,4,FALSE),"") -> LOISIRS | I15: Maitre Pierre-Louis | J15: Allotement/Linéaire
A16: 3105 | B16: MES VACANCES EN FAMILLE | C16: TO | D16: MES VACANCES EN FAMILLE | E16: CE | F16: =IFERROR(VLOOKUP('BDD Détaillée'!$E16,'[1]BDD Globale'!$A$2:$D$22,2,FALSE),"") -> CE | G16: =IFERROR(VLOOKUP('BDD Détaillée'!$E16,'[1]BDD Globale'!$A$2:$D$22,3,FALSE),"") -> INDIRECT | H16: =IFERROR(VLOOKUP('BDD Détaillée'!$E16,'[1]BDD Globale'!$A$2:$D$22,4,FALSE),"") -> LOISIRS | I16: Maitre Pierre-Louis | J16: Allotement/Linéaire
A17: 3105 | B17: MES VACANCES EN FAMILLE | C17: MES VACANCES EN FAMILLE linéaire | D17: MES VACANCES EN FAMILLE | E17: CE | F17: =IFERROR(VLOOKUP('BDD Détaillée'!$E17,'[1]BDD Globale'!$A$2:$D$22,2,FALSE),"") -> CE | G17: =IFERROR(VLOOKUP('BDD Détaillée'!$E17,'[1]BDD Globale'!$A$2:$D$22,3,FALSE),"") -> INDIRECT | H17: =IFERROR(VLOOKUP('BDD Détaillée'!$E17,'[1]BDD Globale'!$A$2:$D$22,4,FALSE),"") -> LOISIRS
A18: 3105 | B18: MES VACANCES EN FAMILLE | C18: MES VACANCES EN FAMILLE 2025 | D18: MES VACANCES EN FAMILLE | E18: CE | F18: =IFERROR(VLOOKUP('BDD Détaillée'!$E18,'[1]BDD Globale'!$A$2:$D$22,2,FALSE),"") -> CE | G18: =IFERROR(VLOOKUP('BDD Détaillée'!$E18,'[1]BDD Globale'!$A$2:$D$22,3,FALSE),"") -> INDIRECT | H18: =IFERROR(VLOOKUP('BDD Détaillée'!$E18,'[1]BDD Globale'!$A$2:$D$22,4,FALSE),"") -> LOISIRS | I18: Maitre Pierre-Louis | J18: Allotement/Linéaire
F19: =IFERROR(VLOOKUP('BDD Détaillée'!$E19,'[1]BDD Globale'!$A$2:$D$22,2,FALSE),"") | G19: =IFERROR(VLOOKUP('BDD Détaillée'!$E19,'[1]BDD Globale'!$A$2:$D$22,3,FALSE),"") | H19: =IFERROR(VLOOKUP('BDD Détaillée'!$E19,'[1]BDD Globale'!$A$2:$D$22,4,FALSE),"")
F20: =IFERROR(VLOOKUP('BDD Détaillée'!$E20,'[1]BDD Globale'!$A$2:$D$22,2,FALSE),"") | G20: =IFERROR(VLOOKUP('BDD Détaillée'!$E20,'[1]BDD Globale'!$A$2:$D$22,3,FALSE),"") | H20: =IFERROR(VLOOKUP('BDD Détaillée'!$E20,'[1]BDD Globale'!$A$2:$D$22,4,FALSE),"")
F21: =IFERROR(VLOOKUP('BDD Détaillée'!$E21,'[1]BDD Globale'!$A$2:$D$22,2,FALSE),"") | G21: =IFERROR(VLOOKUP('BDD Détaillée'!$E21,'[1]BDD Globale'!$A$2:$D$22,3,FALSE),"") | H21: =IFERROR(VLOOKUP('BDD Détaillée'!$E21,'[1]BDD Globale'!$A$2:$D$22,4,FALSE),"")
F22: =IFERROR(VLOOKUP('BDD Détaillée'!$E22,'[1]BDD Globale'!$A$2:$D$22,2,FALSE),"") | G22: =IFERROR(VLOOKUP('BDD Détaillée'!$E22,'[1]BDD Globale'!$A$2:$D$22,3,FALSE),"") | H22: =IFERROR(VLOOKUP('BDD Détaillée'!$E22,'[1]BDD Globale'!$A$2:$D$22,4,FALSE),"")
F23: =IFERROR(VLOOKUP('BDD Détaillée'!$E23,'[1]BDD Globale'!$A$2:$D$22,2,FALSE),"") | G23: =IFERROR(VLOOKUP('BDD Détaillée'!$E23,'[1]BDD Globale'!$A$2:$D$22,3,FALSE),"") | H23: =IFERROR(VLOOKUP('BDD Détaillée'!$E23,'[1]BDD Globale'!$A$2:$D$22,4,FALSE),"")
F24: =IFERROR(VLOOKUP('BDD Détaillée'!$E24,'[1]BDD Globale'!$A$2:$D$22,2,FALSE),"") | G24: =IFERROR(VLOOKUP('BDD Détaillée'!$E24,'[1]BDD Globale'!$A$2:$D$22,3,FALSE),"") | H24: =IFERROR(VLOOKUP('BDD Détaillée'!$E24,'[1]BDD Globale'!$A$2:$D$22,4,FALSE),"")
F25: =IFERROR(VLOOKUP('BDD Détaillée'!$E25,'[1]BDD Globale'!$A$2:$D$22,2,FALSE),"") | G25: =IFERROR(VLOOKUP('BDD Détaillée'!$E25,'[1]BDD Globale'!$A$2:$D$22,3,FALSE),"") | H25: =IFERROR(VLOOKUP('BDD Détaillée'!$E25,'[1]BDD Globale'!$A$2:$D$22,4,FALSE),"")
F26: =IFERROR(VLOOKUP('BDD Détaillée'!$E26,'[1]BDD Globale'!$A$2:$D$22,2,FALSE),"") | G26: =IFERROR(VLOOKUP('BDD Détaillée'!$E26,'[1]BDD Globale'!$A$2:$D$22,3,FALSE),"") | H26: =IFERROR(VLOOKUP('BDD Détaillée'!$E26,'[1]BDD Globale'!$A$2:$D$22,4,FALSE),"")
F27: =IFERROR(VLOOKUP('BDD Détaillée'!$E27,'[1]BDD Globale'!$A$2:$D$22,2,FALSE),"") | G27: =IFERROR(VLOOKUP('BDD Détaillée'!$E27,'[1]BDD Globale'!$A$2:$D$22,3,FALSE),"") | H27: =IFERROR(VLOOKUP('BDD Détaillée'!$E27,'[1]BDD Globale'!$A$2:$D$22,4,FALSE),"")
F28: =IFERROR(VLOOKUP('BDD Détaillée'!$E28,'[1]BDD Globale'!$A$2:$D$22,2,FALSE),"") | G28: =IFERROR(VLOOKUP('BDD Détaillée'!$E28,'[1]BDD Globale'!$A$2:$D$22,3,FALSE),"") | H28: =IFERROR(VLOOKUP('BDD Détaillée'!$E28,'[1]BDD Globale'!$A$2:$D$22,4,FALSE),"")
F29: =IFERROR(VLOOKUP('BDD Détaillée'!$E29,'[1]BDD Globale'!$A$2:$D$22,2,FALSE),"") | G29: =IFERROR(VLOOKUP('BDD Détaillée'!$E29,'[1]BDD Globale'!$A$2:$D$22,3,FALSE),"") | H29: =IFERROR(VLOOKUP('BDD Détaillée'!$E29,'[1]BDD Globale'!$A$2:$D$22,4,FALSE),"")
F30: =IFERROR(VLOOKUP('BDD Détaillée'!$E30,'[1]BDD Globale'!$A$2:$D$22,2,FALSE),"") | G30: =IFERROR(VLOOKUP('BDD Détaillée'!$E30,'[1]BDD Globale'!$A$2:$D$22,3,FALSE),"") | H30: =IFERROR(VLOOKUP('BDD Détaillée'!$E30,'[1]BDD Globale'!$A$2:$D$22,4,FALSE),"")
... F134: =IFERROR(VLOOKUP('BDD Détaillée'!$E134,'[1]BDD Globale'!$A$2:$D$22,2,FALSE),"") | G134: =IFERROR(VLOOKUP('BDD Détaillée'!$E134,'[1]BDD Globale'!$A$2:$D$22,3,FALSE),"") | H134: =IFERROR(VLOOKUP('BDD Détaillée'!$E134,'[1]BDD Globale'!$A$2:$D$22,4,FALSE),"")
