Workbook

Sheet Calendrier ASPTT Nice U13F
G2: Calendrier ASPTT Nice U13F
C5: PHASE ALLER | K5: PHASE RETOUR
C8: Samedi 11 janvier 2025 | K8: Samedi 08 mars 2025
C9: ASPTT Nice | G9: A.S. des Moulins | K9: ES Cannet Roche | O9: ASPTT Nice
C12: Samedi 18 janvier 2025 | K12: Samedi 22 mars 2025
C13: ASPTT Nice | G13: ES Cannet Roche | K13: R.C. Pays de Grasse | O13: ASPTT Nice
C16: Samedi 25 janvier 2025 | K16: Samedi 29 mars 2025
C17: ASPTT Nice | G17: R.C. Pays de Grasse | K17: AS Cannes | O17: ASPTT Nice
C20: Samedi 08 février 2025 | K20: Samedi 26 avril 2025
C21: ASPTT Nice | G21: AS Cannes | K21: Cavigal Nice S. | O21: ASPTT Nice
C24: Samedi 01 mars 2025 | K24: Samedi 10 mai 2025
C25: ASPTT Nice | G25: Cavigal Nice S. | K25: A.S. des Moulins | O25: ASPTT Nice

Sheet Classement U13F
C3: Classement U13 F Niveau 2
C5: Place | D5: Équipe | E5: Points | F5: Joués | G5: Victoire | H5: Nul | I5: Défaite | J5: Forfait | K5: Buts marqués | L5: Buts encaissés | M5: Différence
C6: 1 | D6: AS Cannes | E6: 0 | F6: 0 | G6: 0 | H6: 0 | I6: 0 | J6: 0 | K6: 0 | L6: 0 | M6: =K6-L6 -> 0
C8: 2 | D8: A.S. des Moulins | E8: 0 | F8: 0 | G8: 0 | H8: 0 | I8: 0 | J8: 0 | K8: 0 | L8: 0 | M8: =K8-L8 -> 0
C10: 3 | D10: ASPTT Nice | E10: 0 | F10: 0 | G10: 0 | H10: 0 | I10: 0 | J10: 0 | K10: 0 | L10: 0 | M10: =K10-L10 -> 0
C12: 4 | D12: Cavigal Nice S. | E12: 0 | F12: 0 | G12: 0 | H12: 0 | I12: 0 | J12: 0 | K12: 0 | L12: 0 | M12: =K12-L12 -> 0
C14: 5 | D14: ES Cannet Roche | E14: 0 | F14: 0 | G14: 0 | H14: 0 | I14: 0 | J14: 0 | K14: 0 | L14: 0 | M14: =K14-L14 -> 0
C16: 6 | D16: R.C. Pays de Grasse | E16: 0 | F16: 0 | G16: 0 | H16: 0 | I16: 0 | J16: 0 | K16: 0 | L16: 0 | M16: =K16-L16 -> 0

Sheet Résultats U13F
G2: Résultats U13F Niveau 2
B5: Journée 1 | I5: Journée 2 | P5: Journée 3 | W5: Points | Z5: Points | AC5: Points
W6: Équipe A | X6: Équipe B | Z6: Équipe A | AA6: Équipe B | AC6: Équipe A | AD6: Équipe B
B7: Samedi 11 janvier 2025 | I7: Samedi 18 janvier 2025 | P7: Samedi 25 janvier 2025 | W7: =IF(OR($D8="",$E8=""),"",IF($D8>$E8,3,IF($D8=$E8,1,0))) -> 0 | X7: =IF(OR($E8="",$D8=""),"",IF($E8>$D8,3,IF($E8=$D8,1,0))) -> 3 | Z7: =IF(OR($K8="",$L8=""),"",IF($K8>$L8,3,IF($K8=$L8,1,0))) -> 3 | AA7: =IF(OR($L8="",$K8=""),"",IF($L8>$K8,3,IF($L8=$K8,1,0))) -> 0 | AC7: =IF(OR($R8="",$S8=""),"",IF($R8>$S8,3,IF($R8=$S8,1,0))) -> 3 | AD7: =IF(OR($S8="",$R8=""),"",IF($S8>$R8,3,IF($S8=$R8,1,0))) -> 0
B8: R.C. Pays de Grasse | D8: 0 | E8: 1 | F8: Cavigal Nice S. | I8: A.S. des Moulins | K8: 2 | L8: 1 | M8: R.C. Pays de Grasse | P8: R.C. Pays de Grasse | R8: 4 | S8: 3 | T8: ASPTT Nice | W8: =IF(OR($D11="",$E11=""),"",IF($D11>$E11,3,IF($D11=$E11,1,0))) -> 1 | X8: =IF(OR($E11="",$D11=""),"",IF($E11>$D11,3,IF($E11=$D11,1,0))) -> 1 | Z8: =IF(OR($K11="",$L11=""),"",IF($K11>$L11,3,IF($K11=$L11,1,0))) -> 3 | AA8: =IF(OR($L11="",$K11=""),"",IF($L11>$K11,3,IF($L11=$K11,1,0))) -> 0 | AC8: =IF(OR($R11="",$S11=""),"",IF($R11>$S11,3,IF($R11=$S11,1,0))) -> 3 | AD8: =IF(OR($S11="",$R11=""),"",IF($S11>$R11,3,IF($S11=$R11,1,0))) -> 0
W9: =IF(OR($D14="",$E14=""),"",IF($D14>$E14,3,IF($D14=$E14,1,0))) -> 3 | X9: =IF(OR($E14="",$D14=""),"",IF($E14>$D14,3,IF($E14=$D14,1,0))) -> 0 | Z9: =IF(OR($K14="",$L14=""),"",IF($K14>$L14,3,IF($K14=$L14,1,0))) -> 3 | AA9: =IF(OR($L14="",$K14=""),"",IF($L14>$K14,3,IF($L14=$K14,1,0))) -> 0 | AC9: =IF(OR($R14="",$S14=""),"",IF($R14>$S14,3,IF($R14=$S14,1,0))) -> 1 | AD9: =IF(OR($S14="",$R14=""),"",IF($S14>$R14,3,IF($S14=$R14,1,0))) -> 1
B10: Samedi 11 janvier 2025 | I10: Samedi 18 janvier 2025 | P10: Samedi 25 janvier 2025
B11: ES Cannet Roche | D11: 0 | E11: 0 | F11: AS Cannes | I11: Cavigal Nice S. | K11: 1 | L11: 0 | M11: AS Cannes | P11: AS Cannes | R11: 2 | S11: 1 | T11: A.S. des Moulins
B13: Samedi 11 janvier 2025 | I13: Samedi 18 janvier 2025 | P13: Samedi 25 janvier 2025
B14: ASPTT Nice | D14: 2 | E14: 1 | F14: A.S. des Moulins | I14: ASPTT Nice | K14: 3 | L14: 2 | M14: ES Cannet Roche | P14: ES Cannet Roche | R14: 1 | S14: 1 | T14: Cavigal Nice S.
B18: Journée 4 | I18: Journée 5 | P18: Journée 6 | W18: Points | Z18: Points | AC18: Points
W19: Équipe A | X19: Équipe B | Z19: Équipe A | AA19: Équipe B | AC19: Équipe A | AD19: Équipe B
B20: Samedi 08 février 2025 | I20: Samedi 01 mars 2025 | P20: Samedi 08 mars 2025 | W20: =IF(OR($D21="",$E21=""),"",IF($D21>$E21,3,IF($D21=$E21,1,0))) -> 3 | X20: =IF(OR($E21="",$D21=""),"",IF($E21>$D21,3,IF($E21=$D21,1,0))) -> 0 | Z20: =IF(OR($K21="",$L21=""),"",IF($K21>$L21,3,IF($K21=$L21,1,0))) -> 0 | AA20: =IF(OR($L21="",$K21=""),"",IF($L21>$K21,3,IF($L21=$K21,1,0))) -> 3 | AC20: =IF(OR($R21="",$S21=""),"",IF($R21>$S21,3,IF($R21=$S21,1,0))) -> 0 | AD20: =IF(OR($S21="",$R21=""),"",IF($S21>$R21,3,IF($S21=$R21,1,0))) -> 3
B21: ASPTT Nice | D21: 2 | E21: 0 | F21: AS Cannes | I21: AS Cannes | K21: 1 | L21: 2 | M21: R.C. Pays de Grasse | P21: R.C. Pays de Grasse | R21: 0 | S21: 1 | T21: A.S. des Moulins | W21: =IF(OR($D24="",$E24=""),"",IF($D24>$E24,3,IF($D24=$E24,1,0))) -> 1 | X21: =IF(OR($E24="",$D24=""),"",IF($E24>$D24,3,IF($E24=$D24,1,0))) -> 1 | Z21: =IF(OR($K24="",$L24=""),"",IF($K24>$L24,3,IF($K24=$L24,1,0))) -> 3 | AA21: =IF(OR($L24="",$K24=""),"",IF($L24>$K24,3,IF($L24=$K24,1,0))) -> 0 | AC21: =IF(OR($R24="",$S24=""),"",IF($R24>$S24,3,IF($R24=$S24,1,0))) -> 0 | AD21: =IF(OR($S24="",$R24=""),"",IF($S24>$R24,3,IF($S24=$R24,1,0))) -> 3
W22: =IF(OR($D27="",$E27=""),"",IF($D27>$E27,3,IF($D27=$E27,1,0))) -> 1 | X22: =IF(OR($E27="",$D27=""),"",IF($E27>$D27,3,IF($E27=$D27,1,0))) -> 1 | Z22: =IF(OR($K27="",$L27=""),"",IF($K27>$L27,3,IF($K27=$L27,1,0))) -> 1 | AA22: =IF(OR($L27="",$K27=""),"",IF($L27>$K27,3,IF($L27=$K27,1,0))) -> 1 | AC22: =IF(OR($R27="",$S27=""),"",IF($R27>$S27,3,IF($R27=$S27,1,0))) -> 0 | AD22: =IF(OR($S27="",$R27=""),"",IF($S27>$R27,3,IF($S27=$R27,1,0))) -> 3
B23: Samedi 08 février 2025 | I23: Samedi 01 mars 2025 | P23: Samedi 08 mars 2025
B24: A.S. des Moulins | D24: 0 | E24: 0 | F24: Cavigal Nice S. | I24: A.S. des Moulins | K24: 3 | L24: 1 | M24: ES Cannet Roche | P24: AS Cannes | R24: 2 | S24: 3 | T24: Cavigal Nice S.
B26: Samedi 08 février 2025 | I26: Samedi 01 mars 2025 | P26: Samedi 08 mars 2025
B27: R.C. Pays de Grasse | D27: 1 | E27: 1 | F27: ES Cannet Roche | I27: Cavigal Nice S. | K27: 2 | L27: 2 | M27: ASPTT Nice | P27: ES Cannet Roche | R27: 0 | S27: 2 | T27: ASPTT Nice
B31: Journée 7 | I31: Journée 8 | P31: Journée 9 | W31: Points | Z31: Points | AC31: Points
W32: Équipe A | X32: Équipe B | Z32: Équipe A | AA32: Équipe B | AC32: Équipe A | AD32: Équipe B
B33: Samedi 22 mars 2025 | I33: Samedi 29 mars 2025 | P33: Samedi 26 avril 2025 | W33: =IF(OR($D34="",$E34=""),"",IF($D34>$E34,3,IF($D34=$E34,1,0))) -> 1 | X33: =IF(OR($E34="",$D34=""),"",IF($E34>$D34,3,IF($E34=$D34,1,0))) -> 1 | Z33: =IF(OR($K34="",$L34=""),"",IF($K34>$L34,3,IF($K34=$L34,1,0))) -> 1 | AA33: =IF(OR($L34="",$K34=""),"",IF($L34>$K34,3,IF($L34=$K34,1,0))) -> 1 | AC33: =IF(OR($R34="",$S34=""),"",IF($R34>$S34,3,IF($R34=$S34,1,0))) -> 0 | AD33: =IF(OR($S34="",$R34=""),"",IF($S34>$R34,3,IF($S34=$R34,1,0))) -> 3
B34: ASPTT Nice | D34: 1 | E34: 1 | F34: R.C. Pays de Grasse | I34: Cavigal Nice S. | K34: 2 | L34: 2 | M34: A.S. des Moulins | P34: ES Cannet Roche | R34: 1 | S34: 2 | T34: A.S. des Moulins | W34: =IF(OR($D37="",$E37=""),"",IF($D37>$E37,3,IF($D37=$E37,1,0))) -> 0 | X34: =IF(OR($E37="",$D37=""),"",IF($E37>$D37,3,IF($E37=$D37,1,0))) -> 3 | Z34: =IF(OR($K37="",$L37=""),"",IF($K37>$L37,3,IF($K37=$L37,1,0))) -> 0 | AA34: =IF(OR($L37="",$K37=""),"",IF($L37>$K37,3,IF($L37=$K37,1,0))) -> 3 | AC34: =IF(OR($R37="",$S37=""),"",IF($R37>$S37,3,IF($R37=$S37,1,0))) -> 0 | AD34: =IF(OR($S37="",$R37=""),"",IF($S37>$R37,3,IF($S37=$R37,1,0))) -> 3
W35: =IF(OR($D40="",$E40=""),"",IF($D40>$E40,3,IF($D40=$E40,1,0))) -> 1 | X35: =IF(OR($E40="",$D40=""),"",IF($E40>$D40,3,IF($E40=$D40,1,0))) -> 1 | Z35: =IF(OR($K40="",$L40=""),"",IF($K40>$L40,3,IF($K40=$L40,1,0))) -> 1 | AA35: =IF(OR($L40="",$K40=""),"",IF($L40>$K40,3,IF($L40=$K40,1,0))) -> 1 | AC35: =IF(OR($R40="",$S40=""),"",IF($R40>$S40,3,IF($R40=$S40,1,0))) -> 1 | AD35: =IF(OR($S40="",$R40=""),"",IF($S40>$R40,3,IF($S40=$R40,1,0))) -> 1
B36: Samedi 22 mars 2025 | I36: Samedi 29 mars 2025 | P36: Samedi 26 avril 2025
B37: Cavigal Nice S. | D37: 1 | E37: 3 | F37: ES Cannet Roche | I37: AS Cannes | K37: 1 | L37: 3 | M37: ASPTT Nice | P37: ASPTT Nice | R37: 2 | S37: 3 | T37: Cavigal Nice S.
B39: Samedi 22 mars 2025 | I39: Samedi 29 mars 2025 | P39: Samedi 26 avril 2025
B40: A.S. des Moulins | D40: 2 | E40: 2 | F40: AS Cannes | I40: ES Cannet Roche | K40: 1 | L40: 1 | M40: R.C. Pays de Grasse | P40: R.C. Pays de Grasse | R40: 2 | S40: 2 | T40: AS Cannes
B44: Journée 10 | W44: Points
W45: Équipe A | X45: Équipe B
B46: Samedi 10 mai 2025 | W46: =IF(OR($D47="",$E47=""),"",IF($D47>$E47,3,IF($D47=$E47,1,0))) -> 3 | X46: =IF(OR($E47="",$D47=""),"",IF($E47>$D47,3,IF($E47=$D47,1,0))) -> 0
B47: Cavigal Nice S. | D47: 2 | E47: 1 | F47: R.C. Pays de Grasse | W47: =IF(OR($D50="",$E50=""),"",IF($D50>$E50,3,IF($D50=$E50,1,0))) -> 1 | X47: =IF(OR($E50="",$D50=""),"",IF($E50>$D50,3,IF($E50=$D50,1,0))) -> 1
W48: =IF(OR($D53="",$E53=""),"",IF($D53>$E53,3,IF($D53=$E53,1,0))) -> 3 | X48: =IF(OR($E53="",$D53=""),"",IF($E53>$D53,3,IF($E53=$D53,1,0))) -> 0
B49: Samedi 10 mai 2025
B50: A.S. des Moulins | D50: 3 | E50: 3 | F50: ASPTT Nice
B52: Samedi 10 mai 2025
B53: AS Cannes | D53: 4 | E53: 2 | F53: ES Cannet Roche

Sheet Tournois U13F
D2: Tournois U13F
B5: Dimanche 01 juin 2025
B6: Tournoi Var (Fayence) | H6: Tournoi Saint Laurentin (Saint Laurent du Var)
B10: Dimanche 08 juin 2025
B11: Tournoi DESCALIS (ASPTT Nice) | H11: Tournoi ES Cannet Roche (Cannet Rocheville)
B16: Tournoi ESSNN (Saint Sylvestre) | H16: Tournoi Cerc.Art.S. Des Eaux (CASE)
B21: Tournoi FC Carros (Carros)

Sheet Résultats U13F_2
B2: Résultats U13F Niveau 2
B5: Journée 1 | I5: ADR.EQU. | J5: Équipe | K5: Points | L5: Joués | M5: Victoire | N5: Nul | O5: Défaite | P5: Forfait | Q5: Buts marqués | R5: Buts encaissés | S5: Différence | T5: ADR.ADV. | Z5: 0 | AA5: {="T_J" & RIGHT(INDIRECT(ADDRESS(5+Z5,2,1,1)),1) &"[" & T_J1[[#Headers],[Equ.Visité]] & "]"} -> T_J1[Equ.Visité] | AB5: {="T_J" & RIGHT(INDIRECT(ADDRESS(5+Z5,2,1,1)),1) &"[" & T_J1[[#Headers],[Equ.Visiteur]] & "]"} -> T_J1[Equ.Visiteur]
B6: Samedi 11 janvier 2025 | I6: =IF(ISNA(MATCH(J6,INDIRECT($AA5),0))=TRUE,ADDRESS(MATCH(J6,INDIRECT($AB5),0)+7+Z5,4,1,1,),ADDRESS(MATCH(J6,INDIRECT($AA5),0)+7,3,1,1)) -> $D$10 | J6: A.S. des Moulins | K6: {=IF(OR(INDIRECT(I6)="",INDIRECT(T6)=""),"",IF(INDIRECT(I6)>INDIRECT(T6),3,IF(INDIRECT(I6)=INDIRECT(T6),1,0)))} -> 0 | L6: =IF(K6="",0,1) -> 1 | M6: =IF(K6=3,1,0) -> 0 | N6: =IF(K6=1,1,0) -> 0 | O6: =IF(K6=0,1,0) -> 1 | P6: =IF(K6="",1,0) -> 0 | Q6: {=INDIRECT(I6)} -> 1 | R6: {=INDIRECT(T6)} -> 2 | S6: =Q6-R6 -> -1 | T6: {=ADDRESS(ROW(INDIRECT(I6)),IF(COLUMN(INDIRECT(I6))=4,3,4),1,1)} -> $C$10 | Z6: 0 | AA6: {="T_J" & RIGHT(INDIRECT(ADDRESS(5+Z6,2,1,1)),1) &"[" & T_J1[[#Headers],[Equ.Visité]] & "]"} -> T_J1[Equ.Visité] | AB6: {="T_J" & RIGHT(INDIRECT(ADDRESS(5+Z6,2,1,1)),1) &"[" & T_J1[[#Headers],[Equ.Visiteur]] & "]"} -> T_J1[Equ.Visiteur]
B7: Equ.Visité | C7: Rés.Vté | D7: Rés.Veur | E7: Equ.Visiteur | I7: =IF(ISNA(MATCH(J7,INDIRECT($AA6),0))=TRUE,ADDRESS(MATCH(J7,INDIRECT($AB6),0)+7+Z6,4,1,1,),ADDRESS(MATCH(J7,INDIRECT($AA6),0)+7,3,1,1)) -> $D$9 | J7: AS Cannes | K7: {=IF(OR(INDIRECT(I7)="",INDIRECT(T7)=""),"",IF(INDIRECT(I7)>INDIRECT(T7),3,IF(INDIRECT(I7)=INDIRECT(T7),1,0)))} -> 1 | L7: =IF(K7="",0,1) -> 1 | M7: =IF(K7=3,1,0) -> 0 | N7: =IF(K7=1,1,0) -> 1 | O7: =IF(K7=0,1,0) -> 0 | P7: =IF(K7="",1,0) -> 0 | Q7: {=INDIRECT(I7)} -> 0 | R7: {=INDIRECT(T7)} -> 0 | S7: =Q7-R7 -> 0 | T7: {=ADDRESS(ROW(INDIRECT(I7)),IF(COLUMN(INDIRECT(I7))=4,3,4),1,1)} -> $C$9 | Z7: 0 | AA7: {="T_J" & RIGHT(INDIRECT(ADDRESS(5+Z7,2,1,1)),1) &"[" & T_J1[[#Headers],[Equ.Visité]] & "]"} -> T_J1[Equ.Visité] | AB7: {="T_J" & RIGHT(INDIRECT(ADDRESS(5+Z7,2,1,1)),1) &"[" & T_J1[[#Headers],[Equ.Visiteur]] & "]"} -> T_J1[Equ.Visiteur]
B8: R.C. Pays de Grasse | C8: 0 | D8: 1 | E8: Cavigal Nice S. | I8: =IF(ISNA(MATCH(J8,INDIRECT($AA7),0))=TRUE,ADDRESS(MATCH(J8,INDIRECT($AB7),0)+7+Z7,4,1,1,),ADDRESS(MATCH(J8,INDIRECT($AA7),0)+7,3,1,1)) -> $C$10 | J8: ASPTT Nice | K8: {=IF(OR(INDIRECT(I8)="",INDIRECT(T8)=""),"",IF(INDIRECT(I8)>INDIRECT(T8),3,IF(INDIRECT(I8)=INDIRECT(T8),1,0)))} -> 3 | L8: =IF(K8="",0,1) -> 1 | M8: =IF(K8=3,1,0) -> 1 | N8: =IF(K8=1,1,0) -> 0 | O8: =IF(K8=0,1,0) -> 0 | P8: =IF(K8="",1,0) -> 0 | Q8: {=INDIRECT(I8)} -> 2 | R8: {=INDIRECT(T8)} -> 1 | S8: =Q8-R8 -> 1 | T8: {=ADDRESS(ROW(INDIRECT(I8)),IF(COLUMN(INDIRECT(I8))=4,3,4),1,1)} -> $D$10 | Z8: 0 | AA8: {="T_J" & RIGHT(INDIRECT(ADDRESS(5+Z8,2,1,1)),1) &"[" & T_J1[[#Headers],[Equ.Visité]] & "]"} -> T_J1[Equ.Visité] | AB8: {="T_J" & RIGHT(INDIRECT(ADDRESS(5+Z8,2,1,1)),1) &"[" & T_J1[[#Headers],[Equ.Visiteur]] & "]"} -> T_J1[Equ.Visiteur]
B9: ES Cannet Roche | C9: 0 | D9: 0 | E9: AS Cannes | I9: =IF(ISNA(MATCH(J9,INDIRECT($AA8),0))=TRUE,ADDRESS(MATCH(J9,INDIRECT($AB8),0)+7+Z8,4,1,1,),ADDRESS(MATCH(J9,INDIRECT($AA8),0)+7,3,1,1)) -> $D$8 | J9: Cavigal Nice S. | K9: {=IF(OR(INDIRECT(I9)="",INDIRECT(T9)=""),"",IF(INDIRECT(I9)>INDIRECT(T9),3,IF(INDIRECT(I9)=INDIRECT(T9),1,0)))} -> 3 | L9: =IF(K9="",0,1) -> 1 | M9: =IF(K9=3,1,0) -> 1 | N9: =IF(K9=1,1,0) -> 0 | O9: =IF(K9=0,1,0) -> 0 | P9: =IF(K9="",1,0) -> 0 | Q9: {=INDIRECT(I9)} -> 1 | R9: {=INDIRECT(T9)} -> 0 | S9: =Q9-R9 -> 1 | T9: {=ADDRESS(ROW(INDIRECT(I9)),IF(COLUMN(INDIRECT(I9))=4,3,4),1,1)} -> $C$8 | Z9: 0 | AA9: {="T_J" & RIGHT(INDIRECT(ADDRESS(5+Z9,2,1,1)),1) &"[" & T_J1[[#Headers],[Equ.Visité]] & "]"} -> T_J1[Equ.Visité] | AB9: {="T_J" & RIGHT(INDIRECT(ADDRESS(5+Z9,2,1,1)),1) &"[" & T_J1[[#Headers],[Equ.Visiteur]] & "]"} -> T_J1[Equ.Visiteur]
B10: ASPTT Nice | C10: 2 | D10: 1 | E10: A.S. des Moulins | I10: =IF(ISNA(MATCH(J10,INDIRECT($AA9),0))=TRUE,ADDRESS(MATCH(J10,INDIRECT($AB9),0)+7+Z9,4,1,1,),ADDRESS(MATCH(J10,INDIRECT($AA9),0)+7,3,1,1)) -> $C$9 | J10: ES Cannet Roche | K10: {=IF(OR(INDIRECT(I10)="",INDIRECT(T10)=""),"",IF(INDIRECT(I10)>INDIRECT(T10),3,IF(INDIRECT(I10)=INDIRECT(T10),1,0)))} -> 1 | L10: =IF(K10="",0,1) -> 1 | M10: =IF(K10=3,1,0) -> 0 | N10: =IF(K10=1,1,0) -> 1 | O10: =IF(K10=0,1,0) -> 0 | P10: =IF(K10="",1,0) -> 0 | Q10: {=INDIRECT(I10)} -> 0 | R10: {=INDIRECT(T10)} -> 0 | S10: =Q10-R10 -> 0 | T10: {=ADDRESS(ROW(INDIRECT(I10)),IF(COLUMN(INDIRECT(I10))=4,3,4),1,1)} -> $D$9 | Z10: 0 | AA10: {="T_J" & RIGHT(INDIRECT(ADDRESS(5+Z10,2,1,1)),1) &"[" & T_J1[[#Headers],[Equ.Visité]] & "]"} -> T_J1[Equ.Visité] | AB10: {="T_J" & RIGHT(INDIRECT(ADDRESS(5+Z10,2,1,1)),1) &"[" & T_J1[[#Headers],[Equ.Visiteur]] & "]"} -> T_J1[Equ.Visiteur]
I11: =IF(ISNA(MATCH(J11,INDIRECT($AA10),0))=TRUE,ADDRESS(MATCH(J11,INDIRECT($AB10),0)+7+Z10,4,1,1,),ADDRESS(MATCH(J11,INDIRECT($AA10),0)+7,3,1,1)) -> $C$8 | J11: R.C. Pays de Grasse | K11: {=IF(OR(INDIRECT(I11)="",INDIRECT(T11)=""),"",IF(INDIRECT(I11)>INDIRECT(T11),3,IF(INDIRECT(I11)=INDIRECT(T11),1,0)))} -> 0 | L11: =IF(K11="",0,1) -> 1 | M11: =IF(K11=3,1,0) -> 0 | N11: =IF(K11=1,1,0) -> 0 | O11: =IF(K11=0,1,0) -> 1 | P11: =IF(K11="",1,0) -> 0 | Q11: {=INDIRECT(I11)} -> 0 | R11: {=INDIRECT(T11)} -> 1 | S11: =Q11-R11 -> -1 | T11: {=ADDRESS(ROW(INDIRECT(I11)),IF(COLUMN(INDIRECT(I11))=4,3,4),1,1)} -> $D$8 | Z11: 0 | AA11: {="T_J" & RIGHT(INDIRECT(ADDRESS(5+Z11,2,1,1)),1) &"[" & T_J1[[#Headers],[Equ.Visité]] & "]"} -> T_J1[Equ.Visité] | AB11: {="T_J" & RIGHT(INDIRECT(ADDRESS(5+Z11,2,1,1)),1) &"[" & T_J1[[#Headers],[Equ.Visiteur]] & "]"} -> T_J1[Equ.Visiteur]
B13: ="Journée " & TEXT(RIGHT(B5,1),"0")+1 -> Journée 2 | I13: ADR.EQU. | J13: Équipe | K13: Points | L13: Joués | M13: Victoire | N13: Nul | O13: Défaite | P13: Forfait | Q13: Buts marqués | R13: Buts encaissés | S13: Différence | T13: ADR.ADV. | Z13: =Z5+8 -> 8 | AA13: {="T_J" & RIGHT(INDIRECT(ADDRESS(5+Z13,2,1,1)),1) &"[" & T_J1[[#Headers],[Equ.Visité]] & "]"} -> T_J2[Equ.Visité] | AB13: {="T_J" & RIGHT(INDIRECT(ADDRESS(5+Z13,2,1,1)),1) &"[" & T_J1[[#Headers],[Equ.Visiteur]] & "]"} -> T_J2[Equ.Visiteur]
B14: Samedi 18 janvier 2025 | I14: =IF(ISNA(MATCH(J14,INDIRECT($AA13),0))=TRUE,ADDRESS(MATCH(J14,INDIRECT($AB13),0)+7+Z13,4,1,1,),ADDRESS(MATCH(J14,INDIRECT($AA13),0)+7+Z13,3,1,1)) -> $C$16 | J14: A.S. des Moulins | K14: {=IF(OR(INDIRECT(I14)="",INDIRECT(T14)=""),"",IF(INDIRECT(I14)>INDIRECT(T14),3,IF(INDIRECT(I14)=INDIRECT(T14),1,0)))} -> 3 | L14: =IF(K14="",0,1) -> 1 | M14: =IF(K14=3,1,0) -> 1 | N14: =IF(K14=1,1,0) -> 0 | O14: =IF(K14=0,1,0) -> 0 | P14: =IF(K14="",1,0) -> 0 | Q14: {=INDIRECT(I14)} -> 2 | R14: {=INDIRECT(T14)} -> 1 | S14: =Q14-R14 -> 1 | T14: {=ADDRESS(ROW(INDIRECT(I14)),IF(COLUMN(INDIRECT(I14))=4,3,4),1,1)} -> $D$16 | Z14: =Z6+8 -> 8 | AA14: {="T_J" & RIGHT(INDIRECT(ADDRESS(5+Z14,2,1,1)),1) &"[" & T_J1[[#Headers],[Equ.Visité]] & "]"} -> T_J2[Equ.Visité] | AB14: {="T_J" & RIGHT(INDIRECT(ADDRESS(5+Z14,2,1,1)),1) &"[" & T_J1[[#Headers],[Equ.Visiteur]] & "]"} -> T_J2[Equ.Visiteur]
B15: Equ.Visité | C15: Rés.Vté | D15: Rés.Veur | E15: Equ.Visiteur | I15: =IF(ISNA(MATCH(J15,INDIRECT($AA14),0))=TRUE,ADDRESS(MATCH(J15,INDIRECT($AB14),0)+7+Z14,4,1,1,),ADDRESS(MATCH(J15,INDIRECT($AA14),0)+7+Z14,3,1,1)) -> $D$17 | J15: AS Cannes | K15: {=IF(OR(INDIRECT(I15)="",INDIRECT(T15)=""),"",IF(INDIRECT(I15)>INDIRECT(T15),3,IF(INDIRECT(I15)=INDIRECT(T15),1,0)))} -> 0 | L15: =IF(K15="",0,1) -> 1 | M15: =IF(K15=3,1,0) -> 0 | N15: =IF(K15=1,1,0) -> 0 | O15: =IF(K15=0,1,0) -> 1 | P15: =IF(K15="",1,0) -> 0 | Q15: {=INDIRECT(I15)} -> 0 | R15: {=INDIRECT(T15)} -> 1 | S15: =Q15-R15 -> -1 | T15: {=ADDRESS(ROW(INDIRECT(I15)),IF(COLUMN(INDIRECT(I15))=4,3,4),1,1)} -> $C$17 | Z15: =Z7+8 -> 8 | AA15: {="T_J" & RIGHT(INDIRECT(ADDRESS(5+Z15,2,1,1)),1) &"[" & T_J1[[#Headers],[Equ.Visité]] & "]"} -> T_J2[Equ.Visité] | AB15: {="T_J" & RIGHT(INDIRECT(ADDRESS(5+Z15,2,1,1)),1) &"[" & T_J1[[#Headers],[Equ.Visiteur]] & "]"} -> T_J2[Equ.Visiteur]
B16: A.S. des Moulins | C16: 2 | D16: 1 | E16: R.C. Pays de Grasse | I16: =IF(ISNA(MATCH(J16,INDIRECT($AA15),0))=TRUE,ADDRESS(MATCH(J16,INDIRECT($AB15),0)+7+Z15,4,1,1,),ADDRESS(MATCH(J16,INDIRECT($AA15),0)+7+Z15,3,1,1)) -> $C$18 | J16: ASPTT Nice | K16: {=IF(OR(INDIRECT(I16)="",INDIRECT(T16)=""),"",IF(INDIRECT(I16)>INDIRECT(T16),3,IF(INDIRECT(I16)=INDIRECT(T16),1,0)))} -> 1 | L16: =IF(K16="",0,1) -> 1 | M16: =IF(K16=3,1,0) -> 0 | N16: =IF(K16=1,1,0) -> 1 | O16: =IF(K16=0,1,0) -> 0 | P16: =IF(K16="",1,0) -> 0 | Q16: {=INDIRECT(I16)} -> 2 | R16: {=INDIRECT(T16)} -> 2 | S16: =Q16-R16 -> 0 | T16: {=ADDRESS(ROW(INDIRECT(I16)),IF(COLUMN(INDIRECT(I16))=4,3,4),1,1)} -> $D$18 | Z16: =Z8+8 -> 8 | AA16: {="T_J" & RIGHT(INDIRECT(ADDRESS(5+Z16,2,1,1)),1) &"[" & T_J1[[#Headers],[Equ.Visité]] & "]"} -> T_J2[Equ.Visité] | AB16: {="T_J" & RIGHT(INDIRECT(ADDRESS(5+Z16,2,1,1)),1) &"[" & T_J1[[#Headers],[Equ.Visiteur]] & "]"} -> T_J2[Equ.Visiteur]
B17: Cavigal Nice S. | C17: 1 | D17: 0 | E17: AS Cannes | I17: =IF(ISNA(MATCH(J17,INDIRECT($AA16),0))=TRUE,ADDRESS(MATCH(J17,INDIRECT($AB16),0)+7+Z16,4,1,1,),ADDRESS(MATCH(J17,INDIRECT($AA16),0)+7+Z16,3,1,1)) -> $C$17 | J17: Cavigal Nice S. | K17: {=IF(OR(INDIRECT(I17)="",INDIRECT(T17)=""),"",IF(INDIRECT(I17)>INDIRECT(T17),3,IF(INDIRECT(I17)=INDIRECT(T17),1,0)))} -> 3 | L17: =IF(K17="",0,1) -> 1 | M17: =IF(K17=3,1,0) -> 1 | N17: =IF(K17=1,1,0) -> 0 | O17: =IF(K17=0,1,0) -> 0 | P17: =IF(K17="",1,0) -> 0 | Q17: {=INDIRECT(I17)} -> 1 | R17: {=INDIRECT(T17)} -> 0 | S17: =Q17-R17 -> 1 | T17: {=ADDRESS(ROW(INDIRECT(I17)),IF(COLUMN(INDIRECT(I17))=4,3,4),1,1)} -> $D$17 | Z17: =Z9+8 -> 8 | AA17: {="T_J" & RIGHT(INDIRECT(ADDRESS(5+Z17,2,1,1)),1) &"[" & T_J1[[#Headers],[Equ.Visité]] & "]"} -> T_J2[Equ.Visité] | AB17: {="T_J" & RIGHT(INDIRECT(ADDRESS(5+Z17,2,1,1)),1) &"[" & T_J1[[#Headers],[Equ.Visiteur]] & "]"} -> T_J2[Equ.Visiteur]
B18: ASPTT Nice | C18: 2 | D18: 2 | E18: ES Cannet Roche | I18: =IF(ISNA(MATCH(J18,INDIRECT($AA17),0))=TRUE,ADDRESS(MATCH(J18,INDIRECT($AB17),0)+7+Z17,4,1,1,),ADDRESS(MATCH(J18,INDIRECT($AA17),0)+7+Z17,3,1,1)) -> $D$18 | J18: ES Cannet Roche | K18: {=IF(OR(INDIRECT(I18)="",INDIRECT(T18)=""),"",IF(INDIRECT(I18)>INDIRECT(T18),3,IF(INDIRECT(I18)=INDIRECT(T18),1,0)))} -> 1 | L18: =IF(K18="",0,1) -> 1 | M18: =IF(K18=3,1,0) -> 0 | N18: =IF(K18=1,1,0) -> 1 | O18: =IF(K18=0,1,0) -> 0 | P18: =IF(K18="",1,0) -> 0 | Q18: {=INDIRECT(I18)} -> 2 | R18: {=INDIRECT(T18)} -> 2 | S18: =Q18-R18 -> 0 | T18: {=ADDRESS(ROW(INDIRECT(I18)),IF(COLUMN(INDIRECT(I18))=4,3,4),1,1)} -> $C$18 | Z18: =Z10+8 -> 8 | AA18: {="T_J" & RIGHT(INDIRECT(ADDRESS(5+Z18,2,1,1)),1) &"[" & T_J1[[#Headers],[Equ.Visité]] & "]"} -> T_J2[Equ.Visité] | AB18: {="T_J" & RIGHT(INDIRECT(ADDRESS(5+Z18,2,1,1)),1) &"[" & T_J1[[#Headers],[Equ.Visiteur]] & "]"} -> T_J2[Equ.Visiteur]
I19: =IF(ISNA(MATCH(J19,INDIRECT($AA18),0))=TRUE,ADDRESS(MATCH(J19,INDIRECT($AB18),0)+7+Z18,4,1,1,),ADDRESS(MATCH(J19,INDIRECT($AA18),0)+7+Z18,3,1,1)) -> $D$16 | J19: R.C. Pays de Grasse | K19: {=IF(OR(INDIRECT(I19)="",INDIRECT(T19)=""),"",IF(INDIRECT(I19)>INDIRECT(T19),3,IF(INDIRECT(I19)=INDIRECT(T19),1,0)))} -> 0 | L19: =IF(K19="",0,1) -> 1 | M19: =IF(K19=3,1,0) -> 0 | N19: =IF(K19=1,1,0) -> 0 | O19: =IF(K19=0,1,0) -> 1 | P19: =IF(K19="",1,0) -> 0 | Q19: {=INDIRECT(I19)} -> 1 | R19: {=INDIRECT(T19)} -> 2 | S19: =Q19-R19 -> -1 | T19: {=ADDRESS(ROW(INDIRECT(I19)),IF(COLUMN(INDIRECT(I19))=4,3,4),1,1)} -> $C$16 | Z19: =Z11+8 -> 8 | AA19: {="T_J" & RIGHT(INDIRECT(ADDRESS(5+Z19,2,1,1)),1) &"[" & T_J1[[#Headers],[Equ.Visité]] & "]"} -> T_J2[Equ.Visité] | AB19: {="T_J" & RIGHT(INDIRECT(ADDRESS(5+Z19,2,1,1)),1) &"[" & T_J1[[#Headers],[Equ.Visiteur]] & "]"} -> T_J2[Equ.Visiteur]
B21: ="Journée " & TEXT(RIGHT(B13,1),"0")+1 -> Journée 3 | I21: ADR.EQU. | J21: Équipe | K21: Points | L21: Joués | M21: Victoire | N21: Nul | O21: Défaite | P21: Forfait | Q21: Buts marqués | R21: Buts encaissés | S21: Différence | T21: ADR.ADV. | Z21: =Z13+8 -> 16 | AA21: {="T_J" & RIGHT(INDIRECT(ADDRESS(5+Z21,2,1,1)),1) &"[" & T_J1[[#Headers],[Equ.Visité]] & "]"} -> T_J3[Equ.Visité] | AB21: {="T_J" & RIGHT(INDIRECT(ADDRESS(5+Z21,2,1,1)),1) &"[" & T_J1[[#Headers],[Equ.Visiteur]] & "]"} -> T_J3[Equ.Visiteur]
B22: Samedi 25 janvier 2025 | I22: =IF(ISNA(MATCH(J22,INDIRECT($AA21),0))=TRUE,ADDRESS(MATCH(J22,INDIRECT($AB21),0)+7+Z21,4,1,1,),ADDRESS(MATCH(J22,INDIRECT($AA21),0)+7+Z21,3,1,1)) -> $D$25 | J22: A.S. des Moulins | K22: {=IF(OR(INDIRECT(I22)="",INDIRECT(T22)=""),"",IF(INDIRECT(I22)>INDIRECT(T22),3,IF(INDIRECT(I22)=INDIRECT(T22),1,0)))} -> 0 | L22: =IF(K22="",0,1) -> 1 | M22: =IF(K22=3,1,0) -> 0 | N22: =IF(K22=1,1,0) -> 0 | O22: =IF(K22=0,1,0) -> 1 | P22: =IF(K22="",1,0) -> 0 | Q22: {=INDIRECT(I22)} -> 1 | R22: {=INDIRECT(T22)} -> 2 | S22: =Q22-R22 -> -1 | T22: {=ADDRESS(ROW(INDIRECT(I22)),IF(COLUMN(INDIRECT(I22))=4,3,4),1,1)} -> $C$25 | Z22: =Z14+8 -> 16 | AA22: {="T_J" & RIGHT(INDIRECT(ADDRESS(5+Z22,2,1,1)),1) &"[" & T_J1[[#Headers],[Equ.Visité]] & "]"} -> T_J3[Equ.Visité] | AB22: {="T_J" & RIGHT(INDIRECT(ADDRESS(5+Z22,2,1,1)),1) &"[" & T_J1[[#Headers],[Equ.Visiteur]] & "]"} -> T_J3[Equ.Visiteur]
B23: Equ.Visité | C23: Rés.Vté | D23: Rés.Veur | E23: Equ.Visiteur | I23: =IF(ISNA(MATCH(J23,INDIRECT($AA22),0))=TRUE,ADDRESS(MATCH(J23,INDIRECT($AB22),0)+7+Z22,4,1,1,),ADDRESS(MATCH(J23,INDIRECT($AA22),0)+7+Z22,3,1,1)) -> $C$25 | J23: AS Cannes | K23: {=IF(OR(INDIRECT(I23)="",INDIRECT(T23)=""),"",IF(INDIRECT(I23)>INDIRECT(T23),3,IF(INDIRECT(I23)=INDIRECT(T23),1,0)))} -> 3 | L23: =IF(K23="",0,1) -> 1 | M23: =IF(K23=3,1,0) -> 1 | N23: =IF(K23=1,1,0) -> 0 | O23: =IF(K23=0,1,0) -> 0 | P23: =IF(K23="",1,0) -> 0 | Q23: {=INDIRECT(I23)} -> 2 | R23: {=INDIRECT(T23)} -> 1 | S23: =Q23-R23 -> 1 | T23: {=ADDRESS(ROW(INDIRECT(I23)),IF(COLUMN(INDIRECT(I23))=4,3,4),1,1)} -> $D$25 | Z23: =Z15+8 -> 16 | AA23: {="T_J" & RIGHT(INDIRECT(ADDRESS(5+Z23,2,1,1)),1) &"[" & T_J1[[#Headers],[Equ.Visité]] & "]"} -> T_J3[Equ.Visité] | AB23: {="T_J" & RIGHT(INDIRECT(ADDRESS(5+Z23,2,1,1)),1) &"[" & T_J1[[#Headers],[Equ.Visiteur]] & "]"} -> T_J3[Equ.Visiteur]
B24: R.C. Pays de Grasse | C24: 4 | D24: 3 | E24: ASPTT Nice | I24: =IF(ISNA(MATCH(J24,INDIRECT($AA23),0))=TRUE,ADDRESS(MATCH(J24,INDIRECT($AB23),0)+7+Z23,4,1,1,),ADDRESS(MATCH(J24,INDIRECT($AA23),0)+7+Z23,3,1,1)) -> $D$24 | J24: ASPTT Nice | K24: {=IF(OR(INDIRECT(I24)="",INDIRECT(T24)=""),"",IF(INDIRECT(I24)>INDIRECT(T24),3,IF(INDIRECT(I24)=INDIRECT(T24),1,0)))} -> 0 | L24: =IF(K24="",0,1) -> 1 | M24: =IF(K24=3,1,0) -> 0 | N24: =IF(K24=1,1,0) -> 0 | O24: =IF(K24=0,1,0) -> 1 | P24: =IF(K24="",1,0) -> 0 | Q24: {=INDIRECT(I24)} -> 3 | R24: {=INDIRECT(T24)} -> 4 | S24: =Q24-R24 -> -1 | T24: {=ADDRESS(ROW(INDIRECT(I24)),IF(COLUMN(INDIRECT(I24))=4,3,4),1,1)} -> $C$24 | Z24: =Z16+8 -> 16 | AA24: {="T_J" & RIGHT(INDIRECT(ADDRESS(5+Z24,2,1,1)),1) &"[" & T_J1[[#Headers],[Equ.Visité]] & "]"} -> T_J3[Equ.Visité] | AB24: {="T_J" & RIGHT(INDIRECT(ADDRESS(5+Z24,2,1,1)),1) &"[" & T_J1[[#Headers],[Equ.Visiteur]] & "]"} -> T_J3[Equ.Visiteur]
B25: AS Cannes | C25: 2 | D25: 1 | E25: A.S. des Moulins | I25: =IF(ISNA(MATCH(J25,INDIRECT($AA24),0))=TRUE,ADDRESS(MATCH(J25,INDIRECT($AB24),0)+7+Z24,4,1,1,),ADDRESS(MATCH(J25,INDIRECT($AA24),0)+7+Z24,3,1,1)) -> $D$26 | J25: Cavigal Nice S. | K25: {=IF(OR(INDIRECT(I25)="",INDIRECT(T25)=""),"",IF(INDIRECT(I25)>INDIRECT(T25),3,IF(INDIRECT(I25)=INDIRECT(T25),1,0)))} -> 1 | L25: =IF(K25="",0,1) -> 1 | M25: =IF(K25=3,1,0) -> 0 | N25: =IF(K25=1,1,0) -> 1 | O25: =IF(K25=0,1,0) -> 0 | P25: =IF(K25="",1,0) -> 0 | Q25: {=INDIRECT(I25)} -> 1 | R25: {=INDIRECT(T25)} -> 1 | S25: =Q25-R25 -> 0 | T25: {=ADDRESS(ROW(INDIRECT(I25)),IF(COLUMN(INDIRECT(I25))=4,3,4),1,1)} -> $C$26 | Z25: =Z17+8 -> 16 | AA25: {="T_J" & RIGHT(INDIRECT(ADDRESS(5+Z25,2,1,1)),1) &"[" & T_J1[[#Headers],[Equ.Visité]] & "]"} -> T_J3[Equ.Visité] | AB25: {="T_J" & RIGHT(INDIRECT(ADDRESS(5+Z25,2,1,1)),1) &"[" & T_J1[[#Headers],[Equ.Visiteur]] & "]"} -> T_J3[Equ.Visiteur]
B26: ES Cannet Roche | C26: 1 | D26: 1 | E26: Cavigal Nice S. | I26: =IF(ISNA(MATCH(J26,INDIRECT($AA25),0))=TRUE,ADDRESS(MATCH(J26,INDIRECT($AB25),0)+7+Z25,4,1,1,),ADDRESS(MATCH(J26,INDIRECT($AA25),0)+7+Z25,3,1,1)) -> $C$26 | J26: ES Cannet Roche | K26: {=IF(OR(INDIRECT(I26)="",INDIRECT(T26)=""),"",IF(INDIRECT(I26)>INDIRECT(T26),3,IF(INDIRECT(I26)=INDIRECT(T26),1,0)))} -> 1 | L26: =IF(K26="",0,1) -> 1 | M26: =IF(K26=3,1,0) -> 0 | N26: =IF(K26=1,1,0) -> 1 | O26: =IF(K26=0,1,0) -> 0 | P26: =IF(K26="",1,0) -> 0 | Q26: {=INDIRECT(I26)} -> 1 | R26: {=INDIRECT(T26)} -> 1 | S26: =Q26-R26 -> 0 | T26: {=ADDRESS(ROW(INDIRECT(I26)),IF(COLUMN(INDIRECT(I26))=4,3,4),1,1)} -> $D$26 | Z26: =Z18+8 -> 16 | AA26: {="T_J" & RIGHT(INDIRECT(ADDRESS(5+Z26,2,1,1)),1) &"[" & T_J1[[#Headers],[Equ.Visité]] & "]"} -> T_J3[Equ.Visité] | AB26: {="T_J" & RIGHT(INDIRECT(ADDRESS(5+Z26,2,1,1)),1) &"[" & T_J1[[#Headers],[Equ.Visiteur]] & "]"} -> T_J3[Equ.Visiteur]
I27: =IF(ISNA(MATCH(J27,INDIRECT($AA26),0))=TRUE,ADDRESS(MATCH(J27,INDIRECT($AB26),0)+7+Z26,4,1,1,),ADDRESS(MATCH(J27,INDIRECT($AA26),0)+7+Z26,3,1,1)) -> $C$24 | J27: R.C. Pays de Grasse | K27: {=IF(OR(INDIRECT(I27)="",INDIRECT(T27)=""),"",IF(INDIRECT(I27)>INDIRECT(T27),3,IF(INDIRECT(I27)=INDIRECT(T27),1,0)))} -> 3 | L27: =IF(K27="",0,1) -> 1 | M27: =IF(K27=3,1,0) -> 1 | N27: =IF(K27=1,1,0) -> 0 | O27: =IF(K27=0,1,0) -> 0 | P27: =IF(K27="",1,0) -> 0 | Q27: {=INDIRECT(I27)} -> 4 | R27: {=INDIRECT(T27)} -> 3 | S27: =Q27-R27 -> 1 | T27: {=ADDRESS(ROW(INDIRECT(I27)),IF(COLUMN(INDIRECT(I27))=4,3,4),1,1)} -> $D$24 | Z27: =Z19+8 -> 16 | AA27: {="T_J" & RIGHT(INDIRECT(ADDRESS(5+Z27,2,1,1)),1) &"[" & T_J1[[#Headers],[Equ.Visité]] & "]"} -> T_J3[Equ.Visité] | AB27: {="T_J" & RIGHT(INDIRECT(ADDRESS(5+Z27,2,1,1)),1) &"[" & T_J1[[#Headers],[Equ.Visiteur]] & "]"} -> T_J3[Equ.Visiteur]
B29: ="Journée " & TEXT(RIGHT(B21,1),"0")+1 -> Journée 4 | I29: ADR.EQU. | J29: Équipe | K29: Points | L29: Joués | M29: Victoire | N29: Nul | O29: Défaite | P29: Forfait | Q29: Buts marqués | R29: Buts encaissés | S29: Différence | T29: ADR.ADV. | Z29: =Z21+8 -> 24 | AA29: {="T_J" & RIGHT(INDIRECT(ADDRESS(5+Z29,2,1,1)),1) &"[" & T_J1[[#Headers],[Equ.Visité]] & "]"} -> T_J4[Equ.Visité] | AB29: {="T_J" & RIGHT(INDIRECT(ADDRESS(5+Z29,2,1,1)),1) &"[" & T_J1[[#Headers],[Equ.Visiteur]] & "]"} -> T_J4[Equ.Visiteur]
B30: 45696 | I30: =IF(ISNA(MATCH(J30,INDIRECT($AA29),0))=TRUE,ADDRESS(MATCH(J30,INDIRECT($AB29),0)+7+Z29,4,1,1,),ADDRESS(MATCH(J30,INDIRECT($AA29),0)+7+Z29,3,1,1)) -> $C$33 | J30: A.S. des Moulins | K30: {=IF(OR(INDIRECT(I30)="",INDIRECT(T30)=""),"",IF(INDIRECT(I30)>INDIRECT(T30),3,IF(INDIRECT(I30)=INDIRECT(T30),1,0)))} -> 1 | L30: =IF(K30="",0,1) -> 1 | M30: =IF(K30=3,1,0) -> 0 | N30: =IF(K30=1,1,0) -> 1 | O30: =IF(K30=0,1,0) -> 0 | P30: =IF(K30="",1,0) -> 0 | Q30: {=INDIRECT(I30)} -> 0 | R30: {=INDIRECT(T30)} -> 0 | S30: =Q30-R30 -> 0 | T30: {=ADDRESS(ROW(INDIRECT(I30)),IF(COLUMN(INDIRECT(I30))=4,3,4),1,1)} -> $D$33 | Z30: =Z22+8 -> 24 | AA30: {="T_J" & RIGHT(INDIRECT(ADDRESS(5+Z30,2,1,1)),1) &"[" & T_J1[[#Headers],[Equ.Visité]] & "]"} -> T_J4[Equ.Visité] | AB30: {="T_J" & RIGHT(INDIRECT(ADDRESS(5+Z30,2,1,1)),1) &"[" & T_J1[[#Headers],[Equ.Visiteur]] & "]"} -> T_J4[Equ.Visiteur]
B31: Equ.Visité | C31: Rés.Vté | D31: Rés.Veur | E31: Equ.Visiteur | I31: =IF(ISNA(MATCH(J31,INDIRECT($AA30),0))=TRUE,ADDRESS(MATCH(J31,INDIRECT($AB30),0)+7+Z30,4,1,1,),ADDRESS(MATCH(J31,INDIRECT($AA30),0)+7+Z30,3,1,1)) -> $D$32 | J31: AS Cannes | K31: {=IF(OR(INDIRECT(I31)="",INDIRECT(T31)=""),"",IF(INDIRECT(I31)>INDIRECT(T31),3,IF(INDIRECT(I31)=INDIRECT(T31),1,0)))} -> 0 | L31: =IF(K31="",0,1) -> 1 | M31: =IF(K31=3,1,0) -> 0 | N31: =IF(K31=1,1,0) -> 0 | O31: =IF(K31=0,1,0) -> 1 | P31: =IF(K31="",1,0) -> 0 | Q31: {=INDIRECT(I31)} -> 0 | R31: {=INDIRECT(T31)} -> 2 | S31: =Q31-R31 -> -2 | T31: {=ADDRESS(ROW(INDIRECT(I31)),IF(COLUMN(INDIRECT(I31))=4,3,4),1,1)} -> $C$32 | Z31: =Z23+8 -> 24 | AA31: {="T_J" & RIGHT(INDIRECT(ADDRESS(5+Z31,2,1,1)),1) &"[" & T_J1[[#Headers],[Equ.Visité]] & "]"} -> T_J4[Equ.Visité] | AB31: {="T_J" & RIGHT(INDIRECT(ADDRESS(5+Z31,2,1,1)),1) &"[" & T_J1[[#Headers],[Equ.Visiteur]] & "]"} -> T_J4[Equ.Visiteur]
B32: ASPTT Nice | C32: 2 | D32: 0 | E32: AS Cannes | I32: =IF(ISNA(MATCH(J32,INDIRECT($AA31),0))=TRUE,ADDRESS(MATCH(J32,INDIRECT($AB31),0)+7+Z31,4,1,1,),ADDRESS(MATCH(J32,INDIRECT($AA31),0)+7+Z31,3,1,1)) -> $C$32 | J32: ASPTT Nice | K32: {=IF(OR(INDIRECT(I32)="",INDIRECT(T32)=""),"",IF(INDIRECT(I32)>INDIRECT(T32),3,IF(INDIRECT(I32)=INDIRECT(T32),1,0)))} -> 3 | L32: =IF(K32="",0,1) -> 1 | M32: =IF(K32=3,1,0) -> 1 | N32: =IF(K32=1,1,0) -> 0 | O32: =IF(K32=0,1,0) -> 0 | P32: =IF(K32="",1,0) -> 0 | Q32: {=INDIRECT(I32)} -> 2 | R32: {=INDIRECT(T32)} -> 0 | S32: =Q32-R32 -> 2 | T32: {=ADDRESS(ROW(INDIRECT(I32)),IF(COLUMN(INDIRECT(I32))=4,3,4),1,1)} -> $D$32 | Z32: =Z24+8 -> 24 | AA32: {="T_J" & RIGHT(INDIRECT(ADDRESS(5+Z32,2,1,1)),1) &"[" & T_J1[[#Headers],[Equ.Visité]] & "]"} -> T_J4[Equ.Visité] | AB32: {="T_J" & RIGHT(INDIRECT(ADDRESS(5+Z32,2,1,1)),1) &"[" & T_J1[[#Headers],[Equ.Visiteur]] & "]"} -> T_J4[Equ.Visiteur]
B33: A.S. des Moulins | C33: 0 | D33: 0 | E33: Cavigal Nice S. | I33: =IF(ISNA(MATCH(J33,INDIRECT($AA32),0))=TRUE,ADDRESS(MATCH(J33,INDIRECT($AB32),0)+7+Z32,4,1,1,),ADDRESS(MATCH(J33,INDIRECT($AA32),0)+7+Z32,3,1,1)) -> $D$33 | J33: Cavigal Nice S. | K33: {=IF(OR(INDIRECT(I33)="",INDIRECT(T33)=""),"",IF(INDIRECT(I33)>INDIRECT(T33),3,IF(INDIRECT(I33)=INDIRECT(T33),1,0)))} -> 1 | L33: =IF(K33="",0,1) -> 1 | M33: =IF(K33=3,1,0) -> 0 | N33: =IF(K33=1,1,0) -> 1 | O33: =IF(K33=0,1,0) -> 0 | P33: =IF(K33="",1,0) -> 0 | Q33: {=INDIRECT(I33)} -> 0 | R33: {=INDIRECT(T33)} -> 0 | S33: =Q33-R33 -> 0 | T33: {=ADDRESS(ROW(INDIRECT(I33)),IF(COLUMN(INDIRECT(I33))=4,3,4),1,1)} -> $C$33 | Z33: =Z25+8 -> 24 | AA33: {="T_J" & RIGHT(INDIRECT(ADDRESS(5+Z33,2,1,1)),1) &"[" & T_J1[[#Headers],[Equ.Visité]] & "]"} -> T_J4[Equ.Visité] | AB33: {="T_J" & RIGHT(INDIRECT(ADDRESS(5+Z33,2,1,1)),1) &"[" & T_J1[[#Headers],[Equ.Visiteur]] & "]"} -> T_J4[Equ.Visiteur]
B34: R.C. Pays de Grasse | C34: 1 | D34: 1 | E34: ES Cannet Roche | I34: =IF(ISNA(MATCH(J34,INDIRECT($AA33),0))=TRUE,ADDRESS(MATCH(J34,INDIRECT($AB33),0)+7+Z33,4,1,1,),ADDRESS(MATCH(J34,INDIRECT($AA33),0)+7+Z33,3,1,1)) -> $D$34 | J34: ES Cannet Roche | K34: {=IF(OR(INDIRECT(I34)="",INDIRECT(T34)=""),"",IF(INDIRECT(I34)>INDIRECT(T34),3,IF(INDIRECT(I34)=INDIRECT(T34),1,0)))} -> 1 | L34: =IF(K34="",0,1) -> 1 | M34: =IF(K34=3,1,0) -> 0 | N34: =IF(K34=1,1,0) -> 1 | O34: =IF(K34=0,1,0) -> 0 | P34: =IF(K34="",1,0) -> 0 | Q34: {=INDIRECT(I34)} -> 1 | R34: {=INDIRECT(T34)} -> 1 | S34: =Q34-R34 -> 0 | T34: {=ADDRESS(ROW(INDIRECT(I34)),IF(COLUMN(INDIRECT(I34))=4,3,4),1,1)} -> $C$34 | Z34: =Z26+8 -> 24 | AA34: {="T_J" & RIGHT(INDIRECT(ADDRESS(5+Z34,2,1,1)),1) &"[" & T_J1[[#Headers],[Equ.Visité]] & "]"} -> T_J4[Equ.Visité] | AB34: {="T_J" & RIGHT(INDIRECT(ADDRESS(5+Z34,2,1,1)),1) &"[" & T_J1[[#Headers],[Equ.Visiteur]] & "]"} -> T_J4[Equ.Visiteur]
I35: =IF(ISNA(MATCH(J35,INDIRECT($AA34),0))=TRUE,ADDRESS(MATCH(J35,INDIRECT($AB34),0)+7+Z34,4,1,1,),ADDRESS(MATCH(J35,INDIRECT($AA34),0)+7+Z34,3,1,1)) -> $C$34 | J35: R.C. Pays de Grasse | K35: {=IF(OR(INDIRECT(I35)="",INDIRECT(T35)=""),"",IF(INDIRECT(I35)>INDIRECT(T35),3,IF(INDIRECT(I35)=INDIRECT(T35),1,0)))} -> 1 | L35: =IF(K35="",0,1) -> 1 | M35: =IF(K35=3,1,0) -> 0 | N35: =IF(K35=1,1,0) -> 1 | O35: =IF(K35=0,1,0) -> 0 | P35: =IF(K35="",1,0) -> 0 | Q35: {=INDIRECT(I35)} -> 1 | R35: {=INDIRECT(T35)} -> 1 | S35: =Q35-R35 -> 0 | T35: {=ADDRESS(ROW(INDIRECT(I35)),IF(COLUMN(INDIRECT(I35))=4,3,4),1,1)} -> $D$34 | Z35: =Z27+8 -> 24 | AA35: {="T_J" & RIGHT(INDIRECT(ADDRESS(5+Z35,2,1,1)),1) &"[" & T_J1[[#Headers],[Equ.Visité]] & "]"} -> T_J4[Equ.Visité] | AB35: {="T_J" & RIGHT(INDIRECT(ADDRESS(5+Z35,2,1,1)),1) &"[" & T_J1[[#Headers],[Equ.Visiteur]] & "]"} -> T_J4[Equ.Visiteur]
B37: ="Journée " & TEXT(RIGHT(B29,1),"0")+1 -> Journée 5 | I37: ADR.EQU. | J37: Équipe | K37: Points | L37: Joués | M37: Victoire | N37: Nul | O37: Défaite | P37: Forfait | Q37: Buts marqués | R37: Buts encaissés | S37: Différence | T37: ADR.ADV. | Z37: =Z29+8 -> 32 | AA37: {="T_J" & RIGHT(INDIRECT(ADDRESS(5+Z37,2,1,1)),1) &"[" & T_J1[[#Headers],[Equ.Visité]] & "]"} -> T_J5[Equ.Visité] | AB37: {="T_J" & RIGHT(INDIRECT(ADDRESS(5+Z37,2,1,1)),1) &"[" & T_J1[[#Headers],[Equ.Visiteur]] & "]"} -> T_J5[Equ.Visiteur]
B38: 45717 | I38: =IF(ISNA(MATCH(J38,INDIRECT($AA37),0))=TRUE,ADDRESS(MATCH(J38,INDIRECT($AB37),0)+7+Z37,4,1,1,),ADDRESS(MATCH(J38,INDIRECT($AA37),0)+7+Z37,3,1,1)) -> $C$41 | J38: A.S. des Moulins | K38: {=IF(OR(INDIRECT(I38)="",INDIRECT(T38)=""),"",IF(INDIRECT(I38)>INDIRECT(T38),3,IF(INDIRECT(I38)=INDIRECT(T38),1,0)))} -> 3 | L38: =IF(K38="",0,1) -> 1 | M38: =IF(K38=3,1,0) -> 1 | N38: =IF(K38=1,1,0) -> 0 | O38: =IF(K38=0,1,0) -> 0 | P38: =IF(K38="",1,0) -> 0 | Q38: {=INDIRECT(I38)} -> 3 | R38: {=INDIRECT(T38)} -> 1 | S38: =Q38-R38 -> 2 | T38: {=ADDRESS(ROW(INDIRECT(I38)),IF(COLUMN(INDIRECT(I38))=4,3,4),1,1)} -> $D$41 | Z38: =Z30+8 -> 32 | AA38: {="T_J" & RIGHT(INDIRECT(ADDRESS(5+Z38,2,1,1)),1) &"[" & T_J1[[#Headers],[Equ.Visité]] & "]"} -> T_J5[Equ.Visité] | AB38: {="T_J" & RIGHT(INDIRECT(ADDRESS(5+Z38,2,1,1)),1) &"[" & T_J1[[#Headers],[Equ.Visiteur]] & "]"} -> T_J5[Equ.Visiteur]
B39: Equ.Visité | C39: Rés.Vté | D39: Rés.Veur | E39: Equ.Visiteur | I39: =IF(ISNA(MATCH(J39,INDIRECT($AA38),0))=TRUE,ADDRESS(MATCH(J39,INDIRECT($AB38),0)+7+Z38,4,1,1,),ADDRESS(MATCH(J39,INDIRECT($AA38),0)+7+Z38,3,1,1)) -> $C$40 | J39: AS Cannes | K39: {=IF(OR(INDIRECT(I39)="",INDIRECT(T39)=""),"",IF(INDIRECT(I39)>INDIRECT(T39),3,IF(INDIRECT(I39)=INDIRECT(T39),1,0)))} -> 0 | L39: =IF(K39="",0,1) -> 1 | M39: =IF(K39=3,1,0) -> 0 | N39: =IF(K39=1,1,0) -> 0 | O39: =IF(K39=0,1,0) -> 1 | P39: =IF(K39="",1,0) -> 0 | Q39: {=INDIRECT(I39)} -> 1 | R39: {=INDIRECT(T39)} -> 2 | S39: =Q39-R39 -> -1 | T39: {=ADDRESS(ROW(INDIRECT(I39)),IF(COLUMN(INDIRECT(I39))=4,3,4),1,1)} -> $D$40 | Z39: =Z31+8 -> 32 | AA39: {="T_J" & RIGHT(INDIRECT(ADDRESS(5+Z39,2,1,1)),1) &"[" & T_J1[[#Headers],[Equ.Visité]] & "]"} -> T_J5[Equ.Visité] | AB39: {="T_J" & RIGHT(INDIRECT(ADDRESS(5+Z39,2,1,1)),1) &"[" & T_J1[[#Headers],[Equ.Visiteur]] & "]"} -> T_J5[Equ.Visiteur]
B40: AS Cannes | C40: 1 | D40: 2 | E40: R.C. Pays de Grasse | I40: =IF(ISNA(MATCH(J40,INDIRECT($AA39),0))=TRUE,ADDRESS(MATCH(J40,INDIRECT($AB39),0)+7+Z39,4,1,1,),ADDRESS(MATCH(J40,INDIRECT($AA39),0)+7+Z39,3,1,1)) -> $D$42 | J40: ASPTT Nice | K40: {=IF(OR(INDIRECT(I40)="",INDIRECT(T40)=""),"",IF(INDIRECT(I40)>INDIRECT(T40),3,IF(INDIRECT(I40)=INDIRECT(T40),1,0)))} -> 1 | L40: =IF(K40="",0,1) -> 1 | M40: =IF(K40=3,1,0) -> 0 | N40: =IF(K40=1,1,0) -> 1 | O40: =IF(K40=0,1,0) -> 0 | P40: =IF(K40="",1,0) -> 0 | Q40: {=INDIRECT(I40)} -> 2 | R40: {=INDIRECT(T40)} -> 2 | S40: =Q40-R40 -> 0 | T40: {=ADDRESS(ROW(INDIRECT(I40)),IF(COLUMN(INDIRECT(I40))=4,3,4),1,1)} -> $C$42 | Z40: =Z32+8 -> 32 | AA40: {="T_J" & RIGHT(INDIRECT(ADDRESS(5+Z40,2,1,1)),1) &"[" & T_J1[[#Headers],[Equ.Visité]] & "]"} -> T_J5[Equ.Visité] | AB40: {="T_J" & RIGHT(INDIRECT(ADDRESS(5+Z40,2,1,1)),1) &"[" & T_J1[[#Headers],[Equ.Visiteur]] & "]"} -> T_J5[Equ.Visiteur]
B41: A.S. des Moulins | C41: 3 | D41: 1 | E41: ES Cannet Roche | I41: =IF(ISNA(MATCH(J41,INDIRECT($AA40),0))=TRUE,ADDRESS(MATCH(J41,INDIRECT($AB40),0)+7+Z40,4,1,1,),ADDRESS(MATCH(J41,INDIRECT($AA40),0)+7+Z40,3,1,1)) -> $C$42 | J41: Cavigal Nice S. | K41: {=IF(OR(INDIRECT(I41)="",INDIRECT(T41)=""),"",IF(INDIRECT(I41)>INDIRECT(T41),3,IF(INDIRECT(I41)=INDIRECT(T41),1,0)))} -> 1 | L41: =IF(K41="",0,1) -> 1 | M41: =IF(K41=3,1,0) -> 0 | N41: =IF(K41=1,1,0) -> 1 | O41: =IF(K41=0,1,0) -> 0 | P41: =IF(K41="",1,0) -> 0 | Q41: {=INDIRECT(I41)} -> 2 | R41: {=INDIRECT(T41)} -> 2 | S41: =Q41-R41 -> 0 | T41: {=ADDRESS(ROW(INDIRECT(I41)),IF(COLUMN(INDIRECT(I41))=4,3,4),1,1)} -> $D$42 | Z41: =Z33+8 -> 32 | AA41: {="T_J" & RIGHT(INDIRECT(ADDRESS(5+Z41,2,1,1)),1) &"[" & T_J1[[#Headers],[Equ.Visité]] & "]"} -> T_J5[Equ.Visité] | AB41: {="T_J" & RIGHT(INDIRECT(ADDRESS(5+Z41,2,1,1)),1) &"[" & T_J1[[#Headers],[Equ.Visiteur]] & "]"} -> T_J5[Equ.Visiteur]
B42: Cavigal Nice S. | C42: 2 | D42: 2 | E42: ASPTT Nice | I42: =IF(ISNA(MATCH(J42,INDIRECT($AA41),0))=TRUE,ADDRESS(MATCH(J42,INDIRECT($AB41),0)+7+Z41,4,1,1,),ADDRESS(MATCH(J42,INDIRECT($AA41),0)+7+Z41,3,1,1)) -> $D$41 | J42: ES Cannet Roche | K42: {=IF(OR(INDIRECT(I42)="",INDIRECT(T42)=""),"",IF(INDIRECT(I42)>INDIRECT(T42),3,IF(INDIRECT(I42)=INDIRECT(T42),1,0)))} -> 0 | L42: =IF(K42="",0,1) -> 1 | M42: =IF(K42=3,1,0) -> 0 | N42: =IF(K42=1,1,0) -> 0 | O42: =IF(K42=0,1,0) -> 1 | P42: =IF(K42="",1,0) -> 0 | Q42: {=INDIRECT(I42)} -> 1 | R42: {=INDIRECT(T42)} -> 3 | S42: =Q42-R42 -> -2 | T42: {=ADDRESS(ROW(INDIRECT(I42)),IF(COLUMN(INDIRECT(I42))=4,3,4),1,1)} -> $C$41 | Z42: =Z34+8 -> 32 | AA42: {="T_J" & RIGHT(INDIRECT(ADDRESS(5+Z42,2,1,1)),1) &"[" & T_J1[[#Headers],[Equ.Visité]] & "]"} -> T_J5[Equ.Visité] | AB42: {="T_J" & RIGHT(INDIRECT(ADDRESS(5+Z42,2,1,1)),1) &"[" & T_J1[[#Headers],[Equ.Visiteur]] & "]"} -> T_J5[Equ.Visiteur]
I43: =IF(ISNA(MATCH(J43,INDIRECT($AA42),0))=TRUE,ADDRESS(MATCH(J43,INDIRECT($AB42),0)+7+Z42,4,1,1,),ADDRESS(MATCH(J43,INDIRECT($AA42),0)+7+Z42,3,1,1)) -> $D$40 | J43: R.C. Pays de Grasse | K43: {=IF(OR(INDIRECT(I43)="",INDIRECT(T43)=""),"",IF(INDIRECT(I43)>INDIRECT(T43),3,IF(INDIRECT(I43)=INDIRECT(T43),1,0)))} -> 3 | L43: =IF(K43="",0,1) -> 1 | M43: =IF(K43=3,1,0) -> 1 | N43: =IF(K43=1,1,0) -> 0 | O43: =IF(K43=0,1,0) -> 0 | P43: =IF(K43="",1,0) -> 0 | Q43: {=INDIRECT(I43)} -> 2 | R43: {=INDIRECT(T43)} -> 1 | S43: =Q43-R43 -> 1 | T43: {=ADDRESS(ROW(INDIRECT(I43)),IF(COLUMN(INDIRECT(I43))=4,3,4),1,1)} -> $C$40 | Z43: =Z35+8 -> 32 | AA43: {="T_J" & RIGHT(INDIRECT(ADDRESS(5+Z43,2,1,1)),1) &"[" & T_J1[[#Headers],[Equ.Visité]] & "]"} -> T_J5[Equ.Visité] | AB43: {="T_J" & RIGHT(INDIRECT(ADDRESS(5+Z43,2,1,1)),1) &"[" & T_J1[[#Headers],[Equ.Visiteur]] & "]"} -> T_J5[Equ.Visiteur]
B45: ="Journée " & TEXT(RIGHT(B37,1),"0")+1 -> Journée 6 | I45: ADR.EQU. | J45: Équipe | K45: Points | L45: Joués | M45: Victoire | N45: Nul | O45: Défaite | P45: Forfait | Q45: Buts marqués | R45: Buts encaissés | S45: Différence | T45: ADR.ADV. | Z45: =Z37+8 -> 40 | AA45: {="T_J" & RIGHT(INDIRECT(ADDRESS(5+Z45,2,1,1)),1) &"[" & T_J1[[#Headers],[Equ.Visité]] & "]"} -> T_J6[Equ.Visité] | AB45: {="T_J" & RIGHT(INDIRECT(ADDRESS(5+Z45,2,1,1)),1) &"[" & T_J1[[#Headers],[Equ.Visiteur]] & "]"} -> T_J6[Equ.Visiteur]
B46: 45724 | I46: =IF(ISNA(MATCH(J46,INDIRECT($AA45),0))=TRUE,ADDRESS(MATCH(J46,INDIRECT($AB45),0)+7+Z45,4,1,1,),ADDRESS(MATCH(J46,INDIRECT($AA45),0)+7+Z45,3,1,1)) -> $D$48 | J46: A.S. des Moulins | K46: {=IF(OR(INDIRECT(I46)="",INDIRECT(T46)=""),"",IF(INDIRECT(I46)>INDIRECT(T46),3,IF(INDIRECT(I46)=INDIRECT(T46),1,0)))} -> 3 | L46: =IF(K46="",0,1) -> 1 | M46: =IF(K46=3,1,0) -> 1 | N46: =IF(K46=1,1,0) -> 0 | O46: =IF(K46=0,1,0) -> 0 | P46: =IF(K46="",1,0) -> 0 | Q46: {=INDIRECT(I46)} -> 1 | R46: {=INDIRECT(T46)} -> 0 | S46: =Q46-R46 -> 1 | T46: {=ADDRESS(ROW(INDIRECT(I46)),IF(COLUMN(INDIRECT(I46))=4,3,4),1,1)} -> $C$48 | Z46: =Z38+8 -> 40 | AA46: {="T_J" & RIGHT(INDIRECT(ADDRESS(5+Z46,2,1,1)),1) &"[" & T_J1[[#Headers],[Equ.Visité]] & "]"} -> T_J6[Equ.Visité] | AB46: {="T_J" & RIGHT(INDIRECT(ADDRESS(5+Z46,2,1,1)),1) &"[" & T_J1[[#Headers],[Equ.Visiteur]] & "]"} -> T_J6[Equ.Visiteur]
B47: Equ.Visité | C47: Rés.Vté | D47: Rés.Veur | E47: Equ.Visiteur | I47: =IF(ISNA(MATCH(J47,INDIRECT($AA46),0))=TRUE,ADDRESS(MATCH(J47,INDIRECT($AB46),0)+7+Z46,4,1,1,),ADDRESS(MATCH(J47,INDIRECT($AA46),0)+7+Z46,3,1,1)) -> $C$49 | J47: AS Cannes | K47: {=IF(OR(INDIRECT(I47)="",INDIRECT(T47)=""),"",IF(INDIRECT(I47)>INDIRECT(T47),3,IF(INDIRECT(I47)=INDIRECT(T47),1,0)))} -> 0 | L47: =IF(K47="",0,1) -> 1 | M47: =IF(K47=3,1,0) -> 0 | N47: =IF(K47=1,1,0) -> 0 | O47: =IF(K47=0,1,0) -> 1 | P47: =IF(K47="",1,0) -> 0 | Q47: {=INDIRECT(I47)} -> 2 | R47: {=INDIRECT(T47)} -> 3 | S47: =Q47-R47 -> -1 | T47: {=ADDRESS(ROW(INDIRECT(I47)),IF(COLUMN(INDIRECT(I47))=4,3,4),1,1)} -> $D$49 | Z47: =Z39+8 -> 40 | AA47: {="T_J" & RIGHT(INDIRECT(ADDRESS(5+Z47,2,1,1)),1) &"[" & T_J1[[#Headers],[Equ.Visité]] & "]"} -> T_J6[Equ.Visité] | AB47: {="T_J" & RIGHT(INDIRECT(ADDRESS(5+Z47,2,1,1)),1) &"[" & T_J1[[#Headers],[Equ.Visiteur]] & "]"} -> T_J6[Equ.Visiteur]
B48: R.C. Pays de Grasse | C48: 0 | D48: 1 | E48: A.S. des Moulins | I48: =IF(ISNA(MATCH(J48,INDIRECT($AA47),0))=TRUE,ADDRESS(MATCH(J48,INDIRECT($AB47),0)+7+Z47,4,1,1,),ADDRESS(MATCH(J48,INDIRECT($AA47),0)+7+Z47,3,1,1)) -> $D$50 | J48: ASPTT Nice | K48: {=IF(OR(INDIRECT(I48)="",INDIRECT(T48)=""),"",IF(INDIRECT(I48)>INDIRECT(T48),3,IF(INDIRECT(I48)=INDIRECT(T48),1,0)))} -> 3 | L48: =IF(K48="",0,1) -> 1 | M48: =IF(K48=3,1,0) -> 1 | N48: =IF(K48=1,1,0) -> 0 | O48: =IF(K48=0,1,0) -> 0 | P48: =IF(K48="",1,0) -> 0 | Q48: {=INDIRECT(I48)} -> 2 | R48: {=INDIRECT(T48)} -> 0 | S48: =Q48-R48 -> 2 | T48: {=ADDRESS(ROW(INDIRECT(I48)),IF(COLUMN(INDIRECT(I48))=4,3,4),1,1)} -> $C$50 | Z48: =Z40+8 -> 40 | AA48: {="T_J" & RIGHT(INDIRECT(ADDRESS(5+Z48,2,1,1)),1) &"[" & T_J1[[#Headers],[Equ.Visité]] & "]"} -> T_J6[Equ.Visité] | AB48: {="T_J" & RIGHT(INDIRECT(ADDRESS(5+Z48,2,1,1)),1) &"[" & T_J1[[#Headers],[Equ.Visiteur]] & "]"} -> T_J6[Equ.Visiteur]
...

Sheet CONSOLIDATION
I3: RESULTATS CONSOLIDES DU TOURNOI
J5: Points | K5: Joués | L5: Victoire | M5: Nul | N5: Défaite | O5: Forfait | P5: Buts marqués | Q5: Buts encaissés | R5: Différence
J6: ='Résultats U13F_2'!$K$6 -> 0 | K6: ='Résultats U13F_2'!$L$6 -> 1 | L6: ='Résultats U13F_2'!$M$6 -> 0 | M6: ='Résultats U13F_2'!$N$6 -> 0 | N6: ='Résultats U13F_2'!$O$6 -> 1 | O6: ='Résultats U13F_2'!$P$6 -> 0 | P6: ='Résultats U13F_2'!$Q$6 -> 1 | Q6: ='Résultats U13F_2'!$R$6 -> 2 | R6: ='Résultats U13F_2'!$S$6 -> -1
J7: ='Résultats U13F_2'!$K$14 -> 3 | K7: ='Résultats U13F_2'!$L$14 -> 1 | L7: ='Résultats U13F_2'!$M$14 -> 1 | M7: ='Résultats U13F_2'!$N$14 -> 0 | N7: ='Résultats U13F_2'!$O$14 -> 0 | O7: ='Résultats U13F_2'!$P$14 -> 0 | P7: ='Résultats U13F_2'!$Q$14 -> 2 | Q7: ='Résultats U13F_2'!$R$14 -> 1 | R7: ='Résultats U13F_2'!$S$14 -> 1
J8: ='Résultats U13F_2'!$K$22 -> 0 | K8: ='Résultats U13F_2'!$L$22 -> 1 | L8: ='Résultats U13F_2'!$M$22 -> 0 | M8: ='Résultats U13F_2'!$N$22 -> 0 | N8: ='Résultats U13F_2'!$O$22 -> 1 | O8: ='Résultats U13F_2'!$P$22 -> 0 | P8: ='Résultats U13F_2'!$Q$22 -> 1 | Q8: ='Résultats U13F_2'!$R$22 -> 2 | R8: ='Résultats U13F_2'!$S$22 -> -1
J9: ='Résultats U13F_2'!$K$30 -> 1 | K9: ='Résultats U13F_2'!$L$30 -> 1 | L9: ='Résultats U13F_2'!$M$30 -> 0 | M9: ='Résultats U13F_2'!$N$30 -> 1 | N9: ='Résultats U13F_2'!$O$30 -> 0 | O9: ='Résultats U13F_2'!$P$30 -> 0 | P9: ='Résultats U13F_2'!$Q$30 -> 0 | Q9: ='Résultats U13F_2'!$R$30 -> 0 | R9: ='Résultats U13F_2'!$S$30 -> 0
J10: ='Résultats U13F_2'!$K$38 -> 3 | K10: ='Résultats U13F_2'!$L$38 -> 1 | L10: ='Résultats U13F_2'!$M$38 -> 1 | M10: ='Résultats U13F_2'!$N$38 -> 0 | N10: ='Résultats U13F_2'!$O$38 -> 0 | O10: ='Résultats U13F_2'!$P$38 -> 0 | P10: ='Résultats U13F_2'!$Q$38 -> 3 | Q10: ='Résultats U13F_2'!$R$38 -> 1 | R10: ='Résultats U13F_2'!$S$38 -> 2
J11: ='Résultats U13F_2'!$K$46 -> 3 | K11: ='Résultats U13F_2'!$L$46 -> 1 | L11: ='Résultats U13F_2'!$M$46 -> 1 | M11: ='Résultats U13F_2'!$N$46 -> 0 | N11: ='Résultats U13F_2'!$O$46 -> 0 | O11: ='Résultats U13F_2'!$P$46 -> 0 | P11: ='Résultats U13F_2'!$Q$46 -> 1 | Q11: ='Résultats U13F_2'!$R$46 -> 0 | R11: ='Résultats U13F_2'!$S$46 -> 1
J12: ='Résultats U13F_2'!$K$54 -> 1 | K12: ='Résultats U13F_2'!$L$54 -> 1 | L12: ='Résultats U13F_2'!$M$54 -> 0 | M12: ='Résultats U13F_2'!$N$54 -> 1 | N12: ='Résultats U13F_2'!$O$54 -> 0 | O12: ='Résultats U13F_2'!$P$54 -> 0 | P12: ='Résultats U13F_2'!$Q$54 -> 2 | Q12: ='Résultats U13F_2'!$R$54 -> 2 | R12: ='Résultats U13F_2'!$S$54 -> 0
J13: ='Résultats U13F_2'!$K$62 -> 1 | K13: ='Résultats U13F_2'!$L$62 -> 1 | L13: ='Résultats U13F_2'!$M$62 -> 0 | M13: ='Résultats U13F_2'!$N$62 -> 1 | N13: ='Résultats U13F_2'!$O$62 -> 0 | O13: ='Résultats U13F_2'!$P$62 -> 0 | P13: ='Résultats U13F_2'!$Q$62 -> 2 | Q13: ='Résultats U13F_2'!$R$62 -> 2 | R13: ='Résultats U13F_2'!$S$62 -> 0
J14: ='Résultats U13F_2'!$K$70 -> 3 | K14: ='Résultats U13F_2'!$L$70 -> 1 | L14: ='Résultats U13F_2'!$M$70 -> 1 | M14: ='Résultats U13F_2'!$N$70 -> 0 | N14: ='Résultats U13F_2'!$O$70 -> 0 | O14: ='Résultats U13F_2'!$P$70 -> 0 | P14: ='Résultats U13F_2'!$Q$70 -> 2 | Q14: ='Résultats U13F_2'!$R$70 -> 1 | R14: ='Résultats U13F_2'!$S$70 -> 1
J15: ='Résultats U13F_2'!$K$78 -> 1 | K15: ='Résultats U13F_2'!$L$78 -> 1 | L15: ='Résultats U13F_2'!$M$78 -> 0 | M15: ='Résultats U13F_2'!$N$78 -> 1 | N15: ='Résultats U13F_2'!$O$78 -> 0 | O15: ='Résultats U13F_2'!$P$78 -> 0 | P15: ='Résultats U13F_2'!$Q$78 -> 3 | Q15: ='Résultats U13F_2'!$R$78 -> 3 | R15: ='Résultats U13F_2'!$S$78 -> 0
I16: A.S. des Moulins | J16: =SUM(J6:J15) -> 16 | K16: =SUM(K6:K15) -> 10 | L16: =SUM(L6:L15) -> 4 | M16: =SUM(M6:M15) -> 4 | N16: =SUM(N6:N15) -> 2 | O16: =SUM(O6:O15) -> 0 | P16: =SUM(P6:P15) -> 17 | Q16: =SUM(Q6:Q15) -> 14 | R16: =SUM(R6:R15) -> 3
J17: ='Résultats U13F_2'!$K$7 -> 1 | K17: ='Résultats U13F_2'!$L$7 -> 1 | L17: ='Résultats U13F_2'!$M$7 -> 0 | M17: ='Résultats U13F_2'!$N$7 -> 1 | N17: ='Résultats U13F_2'!$O$7 -> 0 | O17: ='Résultats U13F_2'!$P$7 -> 0 | P17: ='Résultats U13F_2'!$Q$7 -> 0 | Q17: ='Résultats U13F_2'!$R$7 -> 0 | R17: ='Résultats U13F_2'!$S$7 -> 0
J18: ='Résultats U13F_2'!$K$15 -> 0 | K18: ='Résultats U13F_2'!$L$15 -> 1 | L18: ='Résultats U13F_2'!$M$15 -> 0 | M18: ='Résultats U13F_2'!$N$15 -> 0 | N18: ='Résultats U13F_2'!$O$15 -> 1 | O18: ='Résultats U13F_2'!$P$15 -> 0 | P18: ='Résultats U13F_2'!$Q$15 -> 0 | Q18: ='Résultats U13F_2'!$R$15 -> 1 | R18: ='Résultats U13F_2'!$S$15 -> -1
J19: ='Résultats U13F_2'!$K$23 -> 3 | K19: ='Résultats U13F_2'!$L$23 -> 1 | L19: ='Résultats U13F_2'!$M$23 -> 1 | M19: ='Résultats U13F_2'!$N$23 -> 0 | N19: ='Résultats U13F_2'!$O$23 -> 0 | O19: ='Résultats U13F_2'!$P$23 -> 0 | P19: ='Résultats U13F_2'!$Q$23 -> 2 | Q19: ='Résultats U13F_2'!$R$23 -> 1 | R19: ='Résultats U13F_2'!$S$23 -> 1
J20: ='Résultats U13F_2'!$K$31 -> 0 | K20: ='Résultats U13F_2'!$L$31 -> 1 | L20: ='Résultats U13F_2'!$M$31 -> 0 | M20: ='Résultats U13F_2'!$N$31 -> 0 | N20: ='Résultats U13F_2'!$O$31 -> 1 | O20: ='Résultats U13F_2'!$P$31 -> 0 | P20: ='Résultats U13F_2'!$Q$31 -> 0 | Q20: ='Résultats U13F_2'!$R$31 -> 2 | R20: ='Résultats U13F_2'!$S$31 -> -2
J21: ='Résultats U13F_2'!$K$39 -> 0 | K21: ='Résultats U13F_2'!$L$39 -> 1 | L21: ='Résultats U13F_2'!$M$39 -> 0 | M21: ='Résultats U13F_2'!$N$39 -> 0 | N21: ='Résultats U13F_2'!$O$39 -> 1 | O21: ='Résultats U13F_2'!$P$39 -> 0 | P21: ='Résultats U13F_2'!$Q$39 -> 1 | Q21: ='Résultats U13F_2'!$R$39 -> 2 | R21: ='Résultats U13F_2'!$S$39 -> -1
J22: ='Résultats U13F_2'!$K$47 -> 0 | K22: ='Résultats U13F_2'!$L$47 -> 1 | L22: ='Résultats U13F_2'!$M$47 -> 0 | M22: ='Résultats U13F_2'!$N$47 -> 0 | N22: ='Résultats U13F_2'!$O$47 -> 1 | O22: ='Résultats U13F_2'!$P$47 -> 0 | P22: ='Résultats U13F_2'!$Q$47 -> 2 | Q22: ='Résultats U13F_2'!$R$47 -> 3 | R22: ='Résultats U13F_2'!$S$47 -> -1
J23: ='Résultats U13F_2'!$K$55 -> 1 | K23: ='Résultats U13F_2'!$L$55 -> 1 | L23: ='Résultats U13F_2'!$M$55 -> 0 | M23: ='Résultats U13F_2'!$N$55 -> 1 | N23: ='Résultats U13F_2'!$O$55 -> 0 | O23: ='Résultats U13F_2'!$P$55 -> 0 | P23: ='Résultats U13F_2'!$Q$55 -> 2 | Q23: ='Résultats U13F_2'!$R$55 -> 2 | R23: ='Résultats U13F_2'!$S$55 -> 0
J24: ='Résultats U13F_2'!$K$63 -> 0 | K24: ='Résultats U13F_2'!$L$63 -> 1 | L24: ='Résultats U13F_2'!$M$63 -> 0 | M24: ='Résultats U13F_2'!$N$63 -> 0 | N24: ='Résultats U13F_2'!$O$63 -> 1 | O24: ='Résultats U13F_2'!$P$63 -> 0 | P24: ='Résultats U13F_2'!$Q$63 -> 1 | Q24: ='Résultats U13F_2'!$R$63 -> 3 | R24: ='Résultats U13F_2'!$S$63 -> -2
J25: ='Résultats U13F_2'!$K$71 -> 1 | K25: ='Résultats U13F_2'!$L$71 -> 1 | L25: ='Résultats U13F_2'!$M$71 -> 0 | M25: ='Résultats U13F_2'!$N$71 -> 1 | N25: ='Résultats U13F_2'!$O$71 -> 0 | O25: ='Résultats U13F_2'!$P$71 -> 0 | P25: ='Résultats U13F_2'!$Q$71 -> 2 | Q25: ='Résultats U13F_2'!$R$71 -> 2 | R25: ='Résultats U13F_2'!$S$71 -> 0
J26: ='Résultats U13F_2'!$K$79 -> 3 | K26: ='Résultats U13F_2'!$L$79 -> 1 | L26: ='Résultats U13F_2'!$M$79 -> 1 | M26: ='Résultats U13F_2'!$N$79 -> 0 | N26: ='Résultats U13F_2'!$O$79 -> 0 | O26: ='Résultats U13F_2'!$P$79 -> 0 | P26: ='Résultats U13F_2'!$Q$79 -> 4 | Q26: ='Résultats U13F_2'!$R$79 -> 2 | R26: ='Résultats U13F_2'!$S$79 -> 2
I27: AS Cannes | J27: =SUM(J17:J26) -> 9 | K27: =SUM(K17:K26) -> 10 | L27: =SUM(L17:L26) -> 2 | M27: =SUM(M17:M26) -> 3 | N27: =SUM(N17:N26) -> 5 | O27: =SUM(O17:O26) -> 0 | P27: =SUM(P17:P26) -> 14 | Q27: =SUM(Q17:Q26) -> 18 | R27: =SUM(R17:R26) -> -4
J28: ='Résultats U13F_2'!$K$8 -> 3 | K28: ='Résultats U13F_2'!$L$8 -> 1 | L28: ='Résultats U13F_2'!$M$8 -> 1 | M28: ='Résultats U13F_2'!$N$8 -> 0 | N28: ='Résultats U13F_2'!$O$8 -> 0 | O28: ='Résultats U13F_2'!$P$8 -> 0 | P28: ='Résultats U13F_2'!$Q$8 -> 2 | Q28: ='Résultats U13F_2'!$R$8 -> 1 | R28: ='Résultats U13F_2'!$S$8 -> 1
J29: ='Résultats U13F_2'!$K$16 -> 1 | K29: ='Résultats U13F_2'!$L$16 -> 1 | L29: ='Résultats U13F_2'!$M$16 -> 0 | M29: ='Résultats U13F_2'!$N$16 -> 1 | N29: ='Résultats U13F_2'!$O$16 -> 0 | O29: ='Résultats U13F_2'!$P$16 -> 0 | P29: ='Résultats U13F_2'!$Q$16 -> 2 | Q29: ='Résultats U13F_2'!$R$16 -> 2 | R29: ='Résultats U13F_2'!$S$16 -> 0
J30: ='Résultats U13F_2'!$K$24 -> 0 | K30: ='Résultats U13F_2'!$L$24 -> 1 | L30: ='Résultats U13F_2'!$M$24 -> 0 | M30: ='Résultats U13F_2'!$N$24 -> 0 | N30: ='Résultats U13F_2'!$O$24 -> 1 | O30: ='Résultats U13F_2'!$P$24 -> 0 | P30: ='Résultats U13F_2'!$Q$24 -> 3 | Q30: ='Résultats U13F_2'!$R$24 -> 4 | R30: ='Résultats U13F_2'!$S$24 -> -1
J31: ='Résultats U13F_2'!$K$32 -> 3 | K31: ='Résultats U13F_2'!$L$32 -> 1 | L31: ='Résultats U13F_2'!$M$32 -> 1 | M31: ='Résultats U13F_2'!$N$32 -> 0 | N31: ='Résultats U13F_2'!$O$32 -> 0 | O31: ='Résultats U13F_2'!$P$32 -> 0 | P31: ='Résultats U13F_2'!$Q$32 -> 2 | Q31: ='Résultats U13F_2'!$R$32 -> 0 | R31: ='Résultats U13F_2'!$S$32 -> 2
J32: ='Résultats U13F_2'!$K$40 -> 1 | K32: ='Résultats U13F_2'!$L$40 -> 1 | L32: ='Résultats U13F_2'!$M$40 -> 0 | M32: ='Résultats U13F_2'!$N$40 -> 1 | N32: ='Résultats U13F_2'!$O$40 -> 0 | O32: ='Résultats U13F_2'!$P$40 -> 0 | P32: ='Résultats U13F_2'!$Q$40 -> 2 | Q32: ='Résultats U13F_2'!$R$40 -> 2 | R32: ='Résultats U13F_2'!$S$40 -> 0
J33: ='Résultats U13F_2'!$K$48 -> 3 | K33: ='Résultats U13F_2'!$L$48 -> 1 | L33: ='Résultats U13F_2'!$M$48 -> 1 | M33: ='Résultats U13F_2'!$N$48 -> 0 | N33: ='Résultats U13F_2'!$O$48 -> 0 | O33: ='Résultats U13F_2'!$P$48 -> 0 | P33: ='Résultats U13F_2'!$Q$48 -> 2 | Q33: ='Résultats U13F_2'!$R$48 -> 0 | R33: ='Résultats U13F_2'!$S$48 -> 2
J34: ='Résultats U13F_2'!$K$56 -> 0 | K34: ='Résultats U13F_2'!$L$56 -> 1 | L34: ='Résultats U13F_2'!$M$56 -> 0 | M34: ='Résultats U13F_2'!$N$56 -> 0 | N34: ='Résultats U13F_2'!$O$56 -> 1 | O34: ='Résultats U13F_2'!$P$56 -> 0 | P34: ='Résultats U13F_2'!$Q$56 -> 1 | Q34: ='Résultats U13F_2'!$R$56 -> 3 | R34: ='Résultats U13F_2'!$S$56 -> -2
J35: ='Résultats U13F_2'!$K$64 -> 3 | K35: ='Résultats U13F_2'!$L$64 -> 1 | L35: ='Résultats U13F_2'!$M$64 -> 1 | M35: ='Résultats U13F_2'!$N$64 -> 0 | N35: ='Résultats U13F_2'!$O$64 -> 0 | O35: ='Résultats U13F_2'!$P$64 -> 0 | P35: ='Résultats U13F_2'!$Q$64 -> 3 | Q35: ='Résultats U13F_2'!$R$64 -> 1 | R35: ='Résultats U13F_2'!$S$64 -> 2
J36: ='Résultats U13F_2'!$K$72 -> 0 | K36: ='Résultats U13F_2'!$L$72 -> 1 | L36: ='Résultats U13F_2'!$M$72 -> 0 | M36: ='Résultats U13F_2'!$N$72 -> 0 | N36: ='Résultats U13F_2'!$O$72 -> 1 | O36: ='Résultats U13F_2'!$P$72 -> 0 | P36: ='Résultats U13F_2'!$Q$72 -> 2 | Q36: ='Résultats U13F_2'!$R$72 -> 3 | R36: ='Résultats U13F_2'!$S$72 -> -1
J37: ='Résultats U13F_2'!$K$80 -> 1 | K37: ='Résultats U13F_2'!$L$80 -> 1 | L37: ='Résultats U13F_2'!$M$80 -> 0 | M37: ='Résultats U13F_2'!$N$80 -> 1 | N37: ='Résultats U13F_2'!$O$80 -> 0 | O37: ='Résultats U13F_2'!$P$80 -> 0 | P37: ='Résultats U13F_2'!$Q$80 -> 3 | Q37: ='Résultats U13F_2'!$R$80 -> 3 | R37: ='Résultats U13F_2'!$S$80 -> 0
I38: ASPTT Nice | J38: =SUM(J28:J37) -> 15 | K38: =SUM(K28:K37) -> 10 | L38: =SUM(L28:L37) -> 4 | M38: =SUM(M28:M37) -> 3 | N38: =SUM(N28:N37) -> 3 | O38: =SUM(O28:O37) -> 0 | P38: =SUM(P28:P37) -> 22 | Q38: =SUM(Q28:Q37) -> 19 | R38: =SUM(R28:R37) -> 3
J39: ='Résultats U13F_2'!$K$9 -> 3 | K39: ='Résultats U13F_2'!$L$9 -> 1 | L39: ='Résultats U13F_2'!$M$9 -> 1 | M39: ='Résultats U13F_2'!$N$9 -> 0 | N39: ='Résultats U13F_2'!$O$9 -> 0 | O39: ='Résultats U13F_2'!$P$9 -> 0 | P39: ='Résultats U13F_2'!$Q$9 -> 1 | Q39: ='Résultats U13F_2'!$R$9 -> 0 | R39: ='Résultats U13F_2'!$S$9 -> 1
J40: ='Résultats U13F_2'!$K$17 -> 3 | K40: ='Résultats U13F_2'!$L$17 -> 1 | L40: ='Résultats U13F_2'!$M$17 -> 1 | M40: ='Résultats U13F_2'!$N$17 -> 0 | N40: ='Résultats U13F_2'!$O$17 -> 0 | O40: ='Résultats U13F_2'!$P$17 -> 0 | P40: ='Résultats U13F_2'!$Q$17 -> 1 | Q40: ='Résultats U13F_2'!$R$17 -> 0 | R40: ='Résultats U13F_2'!$S$17 -> 1
J41: ='Résultats U13F_2'!$K$25 -> 1 | K41: ='Résultats U13F_2'!$L$25 -> 1 | L41: ='Résultats U13F_2'!$M$25 -> 0 | M41: ='Résultats U13F_2'!$N$25 -> 1 | N41: ='Résultats U13F_2'!$O$25 -> 0 | O41: ='Résultats U13F_2'!$P$25 -> 0 | P41: ='Résultats U13F_2'!$Q$25 -> 1 | Q41: ='Résultats U13F_2'!$R$25 -> 1 | R41: ='Résultats U13F_2'!$S$25 -> 0
J42: ='Résultats U13F_2'!$K$33 -> 1 | K42: ='Résultats U13F_2'!$L$33 -> 1 | L42: ='Résultats U13F_2'!$M$33 -> 0 | M42: ='Résultats U13F_2'!$N$33 -> 1 | N42: ='Résultats U13F_2'!$O$33 -> 0 | O42: ='Résultats U13F_2'!$P$33 -> 0 | P42: ='Résultats U13F_2'!$Q$33 -> 0 | Q42: ='Résultats U13F_2'!$R$33 -> 0 | R42: ='Résultats U13F_2'!$S$33 -> 0
J43: ='Résultats U13F_2'!$K$41 -> 1 | K43: ='Résultats U13F_2'!$L$41 -> 1 | L43: ='Résultats U13F_2'!$M$41 -> 0 | M43: ='Résultats U13F_2'!$N$41 -> 1 | N43: ='Résultats U13F_2'!$O$41 -> 0 | O43: ='Résultats U13F_2'!$P$41 -> 0 | P43: ='Résultats U13F_2'!$Q$41 -> 2 | Q43: ='Résultats U13F_2'!$R$41 -> 2 | R43: ='Résultats U13F_2'!$S$41 -> 0
...
