Workbook

Sheet s52
A1: CODE | B1: Légumes | C1: Prix | D1: UC | F1: CODE | G1: Fruits | H1: Prix | I1: UC
A2: 1 | B2: =IF(A2<>"",VLOOKUP(A2,bdd!A8:B999,2,FALSE),"") -> LEGUME 1 | C2: 2.9 | D2: Kg | E2: =IF(C2<VLOOKUP(A2,'s51'!$A$8:$C$22,3,FALSE),"V",IF(C2>VLOOKUP(A2,'s51'!$A$8:$C$22,3,FALSE),"R","")) -> R | F2: 16 | G2: =IF(F2<>"",VLOOKUP(F2,bdd!A8:B999,2,FALSE),"") -> FRUIT 1 | H2: 1.4 | I2: Pu | J2: =IF(H2<VLOOKUP(F2,'s51'!$F$8:$H$22,3,FALSE),"V",IF(H2>VLOOKUP(F2,'s51'!$F$8:$H$22,3,FALSE),"R","")) -> R
A3: 2 | B3: =IF(A3<>"",VLOOKUP(A3,bdd!A9:B1000,2,FALSE),"") -> LEGUME 2 | C3: 0.65 | D3: Pu | E3: =IF(C3<VLOOKUP(A3,'s51'!$A$8:$C$22,3,FALSE),"V",IF(C3>VLOOKUP(A3,'s51'!$A$8:$C$22,3,FALSE),"R","")) -> V | F3: 17 | G3: =IF(F3<>"",VLOOKUP(F3,bdd!A9:B1000,2,FALSE),"") -> FRUIT 2 | H3: 1.2 | I3: Kg | J3: =IF(H3<VLOOKUP(F3,'s51'!$F$8:$H$22,3,FALSE),"V",IF(H3>VLOOKUP(F3,'s51'!$F$8:$H$22,3,FALSE),"R","")) -> V
A4: 3 | B4: =IF(A4<>"",VLOOKUP(A4,bdd!A10:B1001,2,FALSE),"") -> LEGUME 3 | C4: 1.85 | D4: Kg | E4: =IF(C4<VLOOKUP(A4,'s51'!$A$8:$C$22,3,FALSE),"V",IF(C4>VLOOKUP(A4,'s51'!$A$8:$C$22,3,FALSE),"R","")) -> V | F4: 18 | G4: =IF(F4<>"",VLOOKUP(F4,bdd!A10:B1001,2,FALSE),"") -> FRUIT 3 | H4: 1.1 | I4: Kg | J4: =IF(H4<VLOOKUP(F4,'s51'!$F$8:$H$22,3,FALSE),"V",IF(H4>VLOOKUP(F4,'s51'!$F$8:$H$22,3,FALSE),"R","")) -> R
A5: 4 | B5: =IF(A5<>"",VLOOKUP(A5,bdd!A11:B1002,2,FALSE),"") -> LEGUME 4 | C5: 1.75 | D5: Pu | E5: =IF(C5<VLOOKUP(A5,'s51'!$A$8:$C$22,3,FALSE),"V",IF(C5>VLOOKUP(A5,'s51'!$A$8:$C$22,3,FALSE),"R","")) -> R | F5: 19 | G5: =IF(F5<>"",VLOOKUP(F5,bdd!A11:B1002,2,FALSE),"") -> FRUIT 4 | H5: 1.1 | I5: Kg | J5: =IF(H5<VLOOKUP(F5,'s51'!$F$8:$H$22,3,FALSE),"V",IF(H5>VLOOKUP(F5,'s51'!$F$8:$H$22,3,FALSE),"R","")) -> V
A6: 5 | B6: =IF(A6<>"",VLOOKUP(A6,bdd!A12:B1003,2,FALSE),"") -> LEGUME 5 | C6: 0.99 | D6: Kg | E6: =IF(C6<VLOOKUP(A6,'s51'!$A$8:$C$22,3,FALSE),"V",IF(C6>VLOOKUP(A6,'s51'!$A$8:$C$22,3,FALSE),"R","")) -> V | F6: 20 | G6: =IF(F6<>"",VLOOKUP(F6,bdd!A12:B1003,2,FALSE),"") -> FRUIT 5 | H6: 2.05 | I6: Kg | J6: =IF(H6<VLOOKUP(F6,'s51'!$F$8:$H$22,3,FALSE),"V",IF(H6>VLOOKUP(F6,'s51'!$F$8:$H$22,3,FALSE),"R","")) -> R
A7: 6 | B7: =IF(A7<>"",VLOOKUP(A7,bdd!A13:B1004,2,FALSE),"") -> LEGUME 6 | C7: 1.25 | D7: Kg | E7: =IF(C7<VLOOKUP(A7,'s51'!$A$8:$C$22,3,FALSE),"V",IF(C7>VLOOKUP(A7,'s51'!$A$8:$C$22,3,FALSE),"R","")) -> R | F7: 21 | G7: =IF(F7<>"",VLOOKUP(F7,bdd!A13:B1004,2,FALSE),"") -> FRUIT 6 | H7: 1.25 | I7: Kg | J7: =IF(H7<VLOOKUP(F7,'s51'!$F$8:$H$22,3,FALSE),"V",IF(H7>VLOOKUP(F7,'s51'!$F$8:$H$22,3,FALSE),"R","")) -> R
A8: 7 | B8: =IF(A8<>"",VLOOKUP(A8,bdd!A14:B1005,2,FALSE),"") -> LEGUME 7 | C8: 1.45 | D8: Pu | E8: =IF(C8<VLOOKUP(A8,'s51'!$A$8:$C$22,3,FALSE),"V",IF(C8>VLOOKUP(A8,'s51'!$A$8:$C$22,3,FALSE),"R","")) -> R | F8: 22 | G8: =IF(F8<>"",VLOOKUP(F8,bdd!A14:B1005,2,FALSE),"") -> FRUIT 7 | H8: 1.55 | I8: Kg | J8: =IF(H8<VLOOKUP(F8,'s51'!$F$8:$H$22,3,FALSE),"V",IF(H8>VLOOKUP(F8,'s51'!$F$8:$H$22,3,FALSE),"R",""))
A9: 8 | B9: =IF(A9<>"",VLOOKUP(A9,bdd!A15:B1006,2,FALSE),"") -> LEGUME 8 | C9: 1.25 | D9: Kg | E9: =IF(C9<VLOOKUP(A9,'s51'!$A$8:$C$22,3,FALSE),"V",IF(C9>VLOOKUP(A9,'s51'!$A$8:$C$22,3,FALSE),"R","")) | F9: 23 | G9: =IF(F9<>"",VLOOKUP(F9,bdd!A15:B1006,2,FALSE),"") -> FRUIT 8 | H9: 3.45 | I9: Kg | J9: =IF(H9<VLOOKUP(F9,'s51'!$F$8:$H$22,3,FALSE),"V",IF(H9>VLOOKUP(F9,'s51'!$F$8:$H$22,3,FALSE),"R",""))
A10: 9 | B10: =IF(A10<>"",VLOOKUP(A10,bdd!A16:B1007,2,FALSE),"") -> LEGUME 9 | C10: 0.9 | D10: Pu | E10: =IF(C10<VLOOKUP(A10,'s51'!$A$8:$C$22,3,FALSE),"V",IF(C10>VLOOKUP(A10,'s51'!$A$8:$C$22,3,FALSE),"R","")) | F10: 24 | G10: =IF(F10<>"",VLOOKUP(F10,bdd!A16:B1007,2,FALSE),"") -> FRUIT 9 | H10: 1.5 | I10: Kg | J10: =IF(H10<VLOOKUP(F10,'s51'!$F$8:$H$22,3,FALSE),"V",IF(H10>VLOOKUP(F10,'s51'!$F$8:$H$22,3,FALSE),"R",""))
A11: 10 | B11: =IF(A11<>"",VLOOKUP(A11,bdd!A17:B1008,2,FALSE),"") -> LEGUME 10 | C11: 3.2 | D11: Kg | E11: =IF(C11<VLOOKUP(A11,'s51'!$A$8:$C$22,3,FALSE),"V",IF(C11>VLOOKUP(A11,'s51'!$A$8:$C$22,3,FALSE),"R","")) | F11: 25 | G11: =IF(F11<>"",VLOOKUP(F11,bdd!A17:B1008,2,FALSE),"") -> FRUIT 10 | H11: 1.6 | I11: Kg | J11: =IF(H11<VLOOKUP(F11,'s51'!$F$8:$H$22,3,FALSE),"V",IF(H11>VLOOKUP(F11,'s51'!$F$8:$H$22,3,FALSE),"R",""))
A12: 11 | B12: =IF(A12<>"",VLOOKUP(A12,bdd!A18:B1009,2,FALSE),"") -> LEGUME 11 | C12: 2.8 | D12: Kg | E12: =IF(C12<VLOOKUP(A12,'s51'!$A$8:$C$22,3,FALSE),"V",IF(C12>VLOOKUP(A12,'s51'!$A$8:$C$22,3,FALSE),"R","")) -> R | F12: 26 | G12: =IF(F12<>"",VLOOKUP(F12,bdd!A18:B1009,2,FALSE),"") -> FRUIT 11 | H12: 2.2 | I12: Kg | J12: =IF(H12<VLOOKUP(F12,'s51'!$F$8:$H$22,3,FALSE),"V",IF(H12>VLOOKUP(F12,'s51'!$F$8:$H$22,3,FALSE),"R","")) -> V
A13: 12 | B13: =IF(A13<>"",VLOOKUP(A13,bdd!A19:B1010,2,FALSE),"") -> LEGUME 12 | C13: 0.6 | D13: Pu | E13: =IF(C13<VLOOKUP(A13,'s51'!$A$8:$C$22,3,FALSE),"V",IF(C13>VLOOKUP(A13,'s51'!$A$8:$C$22,3,FALSE),"R","")) -> V | F13: 27 | G13: =IF(F13<>"",VLOOKUP(F13,bdd!A19:B1010,2,FALSE),"") -> FRUIT 12 | H13: 1.99 | I13: Kg | J13: =IF(H13<VLOOKUP(F13,'s51'!$F$8:$H$22,3,FALSE),"V",IF(H13>VLOOKUP(F13,'s51'!$F$8:$H$22,3,FALSE),"R","")) -> R
... A16: 15 | B16: =IF(A16<>"",VLOOKUP(A16,bdd!A22:B1013,2,FALSE),"") -> LEGUME 15 | C16: 1.25 | D16: Kg | E16: =IF(C16<VLOOKUP(A16,'s51'!$A$8:$C$22,3,FALSE),"V",IF(C16>VLOOKUP(A16,'s51'!$A$8:$C$22,3,FALSE),"R","")) -> V | F16: 30 | G16: =IF(F16<>"",VLOOKUP(F16,bdd!A22:B1013,2,FALSE),"") -> FRUIT 15 | H16: 0.65 | I16: Pu | J16: =IF(H16<VLOOKUP(F16,'s51'!$F$8:$H$22,3,FALSE),"V",IF(H16>VLOOKUP(F16,'s51'!$F$8:$H$22,3,FALSE),"R","")) -> R

Sheet s51
A7: CODE | B7: Légumes | C7: Prix | D7: UC | F7: CODE | G7: Fruits | H7: Prix | I7: UC
A8: 1 | B8: =IF(A8<>"",VLOOKUP(A8,bdd!A8:B37,2,FALSE),"") -> LEGUME 1 | C8: 2.8 | D8: Kg | F8: 16 | G8: =IF(F8<>"",VLOOKUP(F8,bdd!A14:B1005,2,FALSE),"") -> FRUIT 1 | H8: 1.35 | I8: Pu
A9: 2 | B9: =IF(A9<>"",VLOOKUP(A9,bdd!A9:B38,2,FALSE),"") -> LEGUME 2 | C9: 0.7 | D9: Pu | F9: 17 | G9: =IF(F9<>"",VLOOKUP(F9,bdd!A15:B1006,2,FALSE),"") -> FRUIT 2 | H9: 1.35 | I9: Kg
A10: 3 | B10: =IF(A10<>"",VLOOKUP(A10,bdd!A10:B39,2,FALSE),"") -> LEGUME 3 | C10: 1.9 | D10: Kg | F10: 18 | G10: =IF(F10<>"",VLOOKUP(F10,bdd!A16:B1007,2,FALSE),"") -> FRUIT 3 | H10: 1.05 | I10: Kg
A11: 4 | B11: =IF(A11<>"",VLOOKUP(A11,bdd!A11:B40,2,FALSE),"") -> LEGUME 4 | C11: 1.45 | D11: Pu | F11: 19 | G11: =IF(F11<>"",VLOOKUP(F11,bdd!A17:B1008,2,FALSE),"") -> FRUIT 4 | H11: 1.25 | I11: Kg
A12: 5 | B12: =IF(A12<>"",VLOOKUP(A12,bdd!A12:B41,2,FALSE),"") -> LEGUME 5 | C12: 1.1 | D12: Kg | F12: 20 | G12: =IF(F12<>"",VLOOKUP(F12,bdd!A18:B1009,2,FALSE),"") -> FRUIT 5 | H12: 1.95 | I12: Kg
A13: 6 | B13: =IF(A13<>"",VLOOKUP(A13,bdd!A13:B42,2,FALSE),"") -> LEGUME 6 | C13: 0.65 | D13: Kg | F13: 21 | G13: =IF(F13<>"",VLOOKUP(F13,bdd!A19:B1010,2,FALSE),"") -> FRUIT 6 | H13: 1.2 | I13: Kg
A14: 7 | B14: =IF(A14<>"",VLOOKUP(A14,bdd!A14:B43,2,FALSE),"") -> LEGUME 7 | C14: 1.35 | D14: Pu | F14: 22 | G14: =IF(F14<>"",VLOOKUP(F14,bdd!A20:B1011,2,FALSE),"") -> FRUIT 7 | H14: 1.55 | I14: Kg
A15: 8 | B15: =IF(A15<>"",VLOOKUP(A15,bdd!A15:B44,2,FALSE),"") -> LEGUME 8 | C15: 1.25 | D15: Kg | F15: 23 | G15: =IF(F15<>"",VLOOKUP(F15,bdd!A21:B1012,2,FALSE),"") -> FRUIT 8 | H15: 3.45 | I15: Kg
A16: 9 | B16: =IF(A16<>"",VLOOKUP(A16,bdd!A16:B45,2,FALSE),"") -> LEGUME 9 | C16: 0.9 | D16: Pu | F16: 24 | G16: =IF(F16<>"",VLOOKUP(F16,bdd!A22:B1013,2,FALSE),"") -> FRUIT 9 | H16: 1.5 | I16: Kg
A17: 10 | B17: =IF(A17<>"",VLOOKUP(A17,bdd!A17:B46,2,FALSE),"") -> LEGUME 10 | C17: 3.2 | D17: Kg | F17: 25 | G17: =IF(F17<>"",VLOOKUP(F17,bdd!A23:B1014,2,FALSE),"") -> FRUIT 10 | H17: 1.6 | I17: Kg
A18: 11 | B18: =IF(A18<>"",VLOOKUP(A18,bdd!A18:B47,2,FALSE),"") -> LEGUME 11 | C18: 2.75 | D18: Kg | F18: 26 | G18: =IF(F18<>"",VLOOKUP(F18,bdd!A24:B1015,2,FALSE),"") -> FRUIT 11 | H18: 2.85 | I18: Kg
A19: 12 | B19: =IF(A19<>"",VLOOKUP(A19,bdd!A19:B48,2,FALSE),"") -> LEGUME 12 | C19: 0.65 | D19: Pu | F19: 27 | G19: =IF(F19<>"",VLOOKUP(F19,bdd!A25:B1016,2,FALSE),"") -> FRUIT 12 | H19: 1.9 | I19: Kg
... A21: 14 | B21: =IF(A21<>"",VLOOKUP(A21,bdd!A21:B50,2,FALSE),"") -> LEGUME 14 | C21: 0.95 | D21: Pu | F21: 29 | G21: =IF(F21<>"",VLOOKUP(F21,bdd!A27:B1018,2,FALSE),"") -> FRUIT 14 | H21: 1.75 | I21: Kg
A22: 15 | B22: =IF(A22<>"",VLOOKUP(A22,bdd!A22:B51,2,FALSE),"") -> LEGUME 15 | C22: N/D | D22: Kg | F22: 30 | G22: =IF(F22<>"",VLOOKUP(F22,bdd!A28:B1019,2,FALSE),"") -> FRUIT 15 | H22: 0.6 | I22: Pu

Sheet bdd
A7: CODE | B7: Légumes
A8: 1 | B8: LEGUME 1
A9: 2 | B9: LEGUME 2
A10: 3 | B10: LEGUME 3
A11: 4 | B11: LEGUME 4
A12: 5 | B12: LEGUME 5
A13: 6 | B13: LEGUME 6
A14: 7 | B14: LEGUME 7
A15: 8 | B15: LEGUME 8
A16: 9 | B16: LEGUME 9
A17: 10 | B17: LEGUME 10
A18: 11 | B18: LEGUME 11
A19: 12 | B19: LEGUME 12
... A37: 30 | B37: FRUIT 15
