Workbook
Name Joueurs: Joueur!$AA$11:$AA$38
Name Nom: Joueur!$B$1

Sheet Stats
A1: Date | B1: Nom du jeu | C1: Durée de la partie | D1: Nombre de joueurs | E1: Participants | F1: Gagnant | G1: Type de jeu
A2: 42251 | B2: Gueules Noires | C2: - | D2: 2 | E2: Jean, Jayme | F2: Jayme | G2: S
A3: 42255 | B3: Splendor | C3: 0.041666667 | D3: 3 | E3: Joh, Ben, Jayme | F3: Jayme | G3: S | I3: S: Stratégique
A4: 42260 | B4: L'Age de Pierre | C4: 0.083333333 | D4: 2 | E4: Julien, Jayme | F4: Jayme | G4: S | I4: C: coopératif
A5: 42272 | B5: Abyss | C5: 0.038194444 | D5: 2 | E5: Jean, Jayme | F5: Jayme | G5: S
A6: 42274 | B6: Splendor | C6: 0.027777778 | D6: 3 | E6: Julien, Jean, Jayme | F6: Jayme | G6: S
A7: 42275 | B7: Splendor | C7: 0.024305556 | D7: 2 | E7: Jean, Jayme | F7: Egalité | G7: S
A8: 42275 | B8: Splendor | C8: 0.020833333 | D8: 2 | E8: Jean, Jayme | F8: Jean | G8: S
A9: 42280 | B9: Gueules Noires | C9: 0.072916667 | D9: 2 | E9: Jean, Jayme | F9: Jean | G9: S
A10: 42280 | B10: Abyss | C10: 0.03125 | D10: 2 | E10: Jean, Jayme | F10: Jean | G10: S
A11: 42280 | B11: Abyss | C11: 0.03125 | D11: 2 | E11: Jean, Jayme | F11: Jayme | G11: S
A12: 42292 | B12: Abyss | C12: 0.041666667 | D12: 2 | E12: Eri, Jayme | F12: Jayme | G12: S
A13: 42292 | B13: Splendor | C13: 0.034722222 | D13: 2 | E13: Eri, Jayme | F13: Jayme | G13: S
A14: 42292 | B14: Agricola | C14: 0.072916667 | D14: 2 | E14: Eri, Jayme | F14: Jayme | G14: S
A15: 42296 | B15: Abyss | C15: 0.052083333 | D15: 3 | E15: Eri, Julien, Jayme | F15: Julien | G15: S
A16: 42296 | B16: 7 Wonders (Eri) | C16: 0.0625 | D16: 3 | E16: Eri, Julien, Jayme | F16: Jayme | G16: S
... A29: 42374 | B29: 7 Wonders Duel | C29: 0.034722222 | D29: 2 | E29: Jean, Jayme | F29: Jayme | G29: S

Sheet Fréquence
A1: Mois et année | B1: Total parties
A2: 42248 | B2: =SUMPRODUCT((YEAR(Stats!$A$2:A229)=YEAR(A2))*(MONTH(Stats!$A$2:A229)=MONTH(A2))*1) -> 7
A3: 42278 | B3: =SUMPRODUCT((YEAR(Stats!$A$2:A230)=YEAR(A3))*(MONTH(Stats!$A$2:A230)=MONTH(A3))*1) -> 13
A4: 42309 | B4: =SUMPRODUCT((YEAR(Stats!$A$2:A231)=YEAR(A4))*(MONTH(Stats!$A$2:A231)=MONTH(A4))*1) -> 4
A5: 42339 | B5: =SUMPRODUCT((YEAR(Stats!$A$2:A232)=YEAR(A5))*(MONTH(Stats!$A$2:A232)=MONTH(A5))*1) -> 2
A6: 42370 | B6: =SUMPRODUCT((YEAR(Stats!$A$2:A233)=YEAR(A6))*(MONTH(Stats!$A$2:A233)=MONTH(A6))*1) -> 2
A7: 42401 | B7: =SUMPRODUCT((YEAR(Stats!$A$2:A234)=YEAR(A7))*(MONTH(Stats!$A$2:A234)=MONTH(A7))*1) -> 0
A8: 42430 | B8: =SUMPRODUCT((YEAR(Stats!$A$2:A235)=YEAR(A8))*(MONTH(Stats!$A$2:A235)=MONTH(A8))*1) -> 0
A9: 42461 | B9: =SUMPRODUCT((YEAR(Stats!$A$2:A236)=YEAR(A9))*(MONTH(Stats!$A$2:A236)=MONTH(A9))*1) -> 0
A10: 42491 | B10: =SUMPRODUCT((YEAR(Stats!$A$2:A237)=YEAR(A10))*(MONTH(Stats!$A$2:A237)=MONTH(A10))*1) -> 0
A11: 42522 | B11: =SUMPRODUCT((YEAR(Stats!$A$2:A238)=YEAR(A11))*(MONTH(Stats!$A$2:A238)=MONTH(A11))*1) -> 0

Sheet Joueur
A1: Nom du Joueur : | B1: Eri | AA1: ="Répartition des jeux pratiqués par "&B1 -> Répartition des jeux pratiqués par Eri
A2: Nom du jeu | B2: Nbre de parties jouées | C2: Nbre de parties gagnées | D2: % de victoire | E2: Durée | AA2: ="Fréquence des parties de : "&B1 -> Fréquence des parties de : Eri
A3: Gueules Noires | B3: =COUNTIFS(Stats!E$2:$E$240,"*"&Nom&"*",Stats!B$2:$B$240,$A3) -> 0 | C3: =COUNTIFS(Stats!$F$2:$F$240,Nom,Stats!$B$2:$B$240,$A3) -> 0 | D3: =IF(B3=0,0,C3/B3) -> 0 | E3: =SUMIFS(Stats!$C$3:$C$250,Stats!$E$3:$E$250,"*Eri*",Stats!$B$3:$B$250,"Gueules Noires") -> 0
A4: Splendor | B4: =COUNTIFS(Stats!E$2:$E$240,"*"&Nom&"*",Stats!B$2:$B$240,$A4) -> 1 | C4: =COUNTIFS(Stats!$F$2:$F$240,Nom,Stats!$B$2:$B$240,$A4) -> 0 | D4: =IF(B4=0,0,C4/B4) -> 0 | E4: =SUMIFS(Stats!$C$3:$C$250,Stats!$E$3:$E$250,"*Eri*",Stats!$B$3:$B$250,"Splendor") -> 0.034722222
A5: Abyss | B5: =COUNTIFS(Stats!E$2:$E$240,"*"&Nom&"*",Stats!B$2:$B$240,$A5) -> 3 | C5: =COUNTIFS(Stats!$F$2:$F$240,Nom,Stats!$B$2:$B$240,$A5) -> 0 | D5: =IF(B5=0,0,C5/B5) -> 0 | E5: =SUMIFS(Stats!$C$3:$C$250,Stats!$E$3:$E$250,"*Eri*",Stats!$B$3:$B$250,"Abyss") -> 0.15625
A6: Seigneur des Anneaux | B6: =COUNTIFS(Stats!E$2:$E$240,"*"&Nom&"*",Stats!B$2:$B$240,$A6) -> 0 | C6: =COUNTIFS(Stats!$F$2:$F$240,Nom,Stats!$B$2:$B$240,$A6) -> 0 | D6: =IF(B6=0,0,C6/B6) -> 0 | E6: =SUMIFS(Stats!$C$3:$C$250,Stats!$E$3:$E$250,"*Eri*",Stats!$B$3:$B$250,"Seigneur des Anneaux") -> 0
A7: Agricola | B7: =COUNTIFS(Stats!E$2:$E$240,"*"&Nom&"*",Stats!B$2:$B$240,$A7) -> 1 | C7: =COUNTIFS(Stats!$F$2:$F$240,Nom,Stats!$B$2:$B$240,$A7) -> 0 | D7: =IF(B7=0,0,C7/B7) -> 0 | E7: =SUMIFS(Stats!$C$3:$C$250,Stats!$E$3:$E$250,"*Eri*",Stats!$B$3:$B$250,"Agricola") -> 0.072916667
A8: Dungeon Petz | B8: =COUNTIFS(Stats!E$2:$E$240,"*"&Nom&"*",Stats!B$2:$B$240,$A8) -> 0 | C8: =COUNTIFS(Stats!$F$2:$F$240,Nom,Stats!$B$2:$B$240,$A8) -> 0 | D8: =IF(B8=0,0,C8/B8) -> 0 | E8: =SUMIFS(Stats!$C$3:$C$250,Stats!$E$3:$E$250,"*Eri*",Stats!$B$3:$B$250,"Dungeon Petz") -> 0
A9: Terres d'Arle | B9: =COUNTIFS(Stats!E$2:$E$240,"*"&Nom&"*",Stats!B$2:$B$240,$A9) -> 1 | C9: =COUNTIFS(Stats!$F$2:$F$240,Nom,Stats!$B$2:$B$240,$A9) -> 0 | D9: =IF(B9=0,0,C9/B9) -> 0 | E9: =SUMIFS(Stats!$C$3:$C$250,Stats!$E$3:$E$250,"*Eri*",Stats!$B$3:$B$250,"Terres d'Arle") -> 0.09375
A10: Egizia | B10: =COUNTIFS(Stats!E$2:$E$240,"*"&Nom&"*",Stats!B$2:$B$240,$A10) -> 0 | C10: =COUNTIFS(Stats!$F$2:$F$240,Nom,Stats!$B$2:$B$240,$A10) -> 0 | D10: =IF(B10=0,0,C10/B10) -> 0 | E10: =SUMIFS(Stats!$C$3:$C$250,Stats!$E$3:$E$250,"*Eri*",Stats!$B$3:$B$250,"Egizia") -> 0
A11: Les Piliers de la Terre | B11: =COUNTIFS(Stats!E$2:$E$240,"*"&Nom&"*",Stats!B$2:$B$240,$A11) -> 0 | C11: =COUNTIFS(Stats!$F$2:$F$240,Nom,Stats!$B$2:$B$240,$A11) -> 0 | D11: =IF(B11=0,0,C11/B11) -> 0 | E11: =SUMIFS(Stats!$C$3:$C$250,Stats!$E$3:$E$250,"*Eri*",Stats!$B$3:$B$250,"Les Piliers de la Terre") -> 0 | AA11: Ben
A12: Sherlock Holmes | B12: =COUNTIFS(Stats!E$2:$E$240,"*"&Nom&"*",Stats!B$2:$B$240,$A12) -> 0 | C12: =COUNTIFS(Stats!$F$2:$F$240,Nom,Stats!$B$2:$B$240,$A12) -> 0 | D12: =IF(B12=0,0,C12/B12) -> 0 | E12: =SUMIFS(Stats!$C$3:$C$250,Stats!$E$3:$E$250,"*Eri*",Stats!$B$3:$B$250,"Sherlock Holmes") -> 0 | AA12: Célia
A13: Civilizations | B13: =COUNTIFS(Stats!E$2:$E$240,"*"&Nom&"*",Stats!B$2:$B$240,$A13) -> 0 | C13: =COUNTIFS(Stats!$F$2:$F$240,Nom,Stats!$B$2:$B$240,$A13) -> 0 | D13: =IF(B13=0,0,C13/B13) -> 0 | E13: =SUMIFS(Stats!$C$3:$C$250,Stats!$E$3:$E$250,"*Eri*",Stats!$B$3:$B$250,"Civilizations") -> 0 | AA13: Eri
A14: Horreur à Arkham | B14: =COUNTIFS(Stats!E$2:$E$240,"*"&Nom&"*",Stats!B$2:$B$240,$A14) -> 0 | C14: =COUNTIFS(Stats!$F$2:$F$240,Nom,Stats!$B$2:$B$240,$A14) -> 0 | D14: =IF(B14=0,0,C14/B14) -> 0 | E14: =SUMIFS(Stats!$C$3:$C$250,Stats!$E$3:$E$250,"*Eri*",Stats!$B$3:$B$250,"Horreur à Arkham") -> 0 | AA14: Jean
A15: Les Princes de Catane | B15: =COUNTIFS(Stats!E$2:$E$240,"*"&Nom&"*",Stats!B$2:$B$240,$A15) -> 0 | C15: =COUNTIFS(Stats!$F$2:$F$240,Nom,Stats!$B$2:$B$240,$A15) -> 0 | D15: =IF(B15=0,0,C15/B15) -> 0 | E15: =SUMIFS(Stats!$C$3:$C$250,Stats!$E$3:$E$250,"*Eri*",Stats!$B$3:$B$250,"Les Princes de Catane") -> 0 | AA15: Julien
A16: Andor | B16: =COUNTIFS(Stats!E$2:$E$240,"*"&Nom&"*",Stats!B$2:$B$240,$A16) -> 0 | C16: =COUNTIFS(Stats!$F$2:$F$240,Nom,Stats!$B$2:$B$240,$A16) -> 0 | D16: =IF(B16=0,0,C16/B16) -> 0 | E16: =SUMIFS(Stats!$C$3:$C$250,Stats!$E$3:$E$250,"*Eri*",Stats!$B$3:$B$250,"Andor") -> 0
A17: Tournay | B17: =COUNTIFS(Stats!E$2:$E$240,"*"&Nom&"*",Stats!B$2:$B$240,$A17) -> 0 | C17: =COUNTIFS(Stats!$F$2:$F$240,Nom,Stats!$B$2:$B$240,$A17) -> 0 | D17: =IF(B17=0,0,C17/B17) -> 0 | E17: =SUMIFS(Stats!$C$3:$C$250,Stats!$E$3:$E$250,"*Eri*",Stats!$B$3:$B$250,"Tournay") -> 0
A18: Viceroy | B18: =COUNTIFS(Stats!E$2:$E$240,"*"&Nom&"*",Stats!B$2:$B$240,$A18) -> 1 | C18: =COUNTIFS(Stats!$F$2:$F$240,Nom,Stats!$B$2:$B$240,$A18) -> 0 | D18: =IF(B18=0,0,C18/B18) -> 0 | E18: =SUMIFS(Stats!$C$3:$C$250,Stats!$E$3:$E$250,"*Eri*",Stats!$B$3:$B$250,"Viceroy") -> 0.027777778
A19: Dominant Species | B19: =COUNTIFS(Stats!E$2:$E$240,"*"&Nom&"*",Stats!B$2:$B$240,$A19) -> 0 | C19: =COUNTIFS(Stats!$F$2:$F$240,Nom,Stats!$B$2:$B$240,$A19) -> 0 | D19: =IF(B19=0,0,C19/B19) -> 0 | E19: =SUMIFS(Stats!$C$3:$C$250,Stats!$E$3:$E$250,"*Eri*",Stats!$B$3:$B$250,"Dominant Species") -> 0
A20: Autres | B20: =COUNTIF(Stats!E$2:$E257,"*"&Nom&"*")-SUM(B3:B19) -> 4 | C20: =COUNTIF(Stats!$F$2:F240,Nom)-SUM(C3:C19) -> 2 | D20: =IF(B20=0,0,C20/B20) -> 0.5 | E20: =SUMIFS(Stats!$C$3:$C$250,Stats!$E$3:$E$250,"*Eri*",Stats!$B$3:$B$250,"*Eri*") -> 0.20833333
A21: Total | B21: =SUM(B3:B20) -> 11 | C21: =SUM(C3:C20) -> 2 | D21: =IF(B21=0,0,C21/B21) -> 0.18181818 | E21: =SUM(E3:E20) -> 0.59375
A24: Mois et année | B24: Total parties
A25: 42248 | B25: =COUNTIFS(Stats!E$2:$E$240,"*"&Nom&"*",Stats!$A$2:$A$240,">="&DATE(YEAR(A25),MONTH(A25),1),Stats!$A$2:$A$240,"<="&DATE(YEAR(A25),MONTH(A25)+1,0)) -> 0
A26: 42278 | B26: =COUNTIFS(Stats!E$2:$E$240,"*"&Nom&"*",Stats!$A$2:$A$240,">="&DATE(YEAR(A26),MONTH(A26),1),Stats!$A$2:$A$240,"<="&DATE(YEAR(A26),MONTH(A26)+1,0)) -> 9
A27: 42309 | B27: =COUNTIFS(Stats!E$2:$E$240,"*"&Nom&"*",Stats!$A$2:$A$240,">="&DATE(YEAR(A27),MONTH(A27),1),Stats!$A$2:$A$240,"<="&DATE(YEAR(A27),MONTH(A27)+1,0)) -> 2
A28: 42339 | B28: =COUNTIFS(Stats!E$2:$E$240,"*"&Nom&"*",Stats!$A$2:$A$240,">="&DATE(YEAR(A28),MONTH(A28),1),Stats!$A$2:$A$240,"<="&DATE(YEAR(A28),MONTH(A28)+1,0)) -> 0
A29: 42370 | B29: =COUNTIFS(Stats!E$2:$E$240,"*"&Nom&"*",Stats!$A$2:$A$240,">="&DATE(YEAR(A29),MONTH(A29),1),Stats!$A$2:$A$240,"<="&DATE(YEAR(A29),MONTH(A29)+1,0)) -> 0
A30: 42401 | B30: =COUNTIFS(Stats!E$2:$E$240,"*"&Nom&"*",Stats!$A$2:$A$240,">="&DATE(YEAR(A30),MONTH(A30),1),Stats!$A$2:$A$240,"<="&DATE(YEAR(A30),MONTH(A30)+1,0)) -> 0
A31: 42430 | B31: =COUNTIFS(Stats!E$2:$E$240,"*"&Nom&"*",Stats!$A$2:$A$240,">="&DATE(YEAR(A31),MONTH(A31),1),Stats!$A$2:$A$240,"<="&DATE(YEAR(A31),MONTH(A31)+1,0)) -> 0
A32: 42461 | B32: =COUNTIFS(Stats!E$2:$E$240,"*"&Nom&"*",Stats!$A$2:$A$240,">="&DATE(YEAR(A32),MONTH(A32),1),Stats!$A$2:$A$240,"<="&DATE(YEAR(A32),MONTH(A32)+1,0)) -> 0
A33: 42491 | B33: =COUNTIFS(Stats!E$2:$E$240,"*"&Nom&"*",Stats!$A$2:$A$240,">="&DATE(YEAR(A33),MONTH(A33),1),Stats!$A$2:$A$240,"<="&DATE(YEAR(A33),MONTH(A33)+1,0)) -> 0
A34: 42522 | B34: =COUNTIFS(Stats!E$2:$E$240,"*"&Nom&"*",Stats!$A$2:$A$240,">="&DATE(YEAR(A34),MONTH(A34),1),Stats!$A$2:$A$240,"<="&DATE(YEAR(A34),MONTH(A34)+1,0)) -> 0
B36: =SUM(B25:B35) -> 11

Sheet Eri
A1: Nom du jeu | B1: Nbre de parties jouées | C1: Nbre de parties gagnées | D1: % de victoire | E1: Durée
A2: Gueules Noires | B2: =COUNTIFS(Stats!D$2:$E240,"*Eri*",Stats!A$2:$B240,"Gueules Noires") -> 0 | C2: =COUNTIFS(Stats!$F$2:G240,"Eri",Stats!$B$2:C240,"Gueules Noires") -> 0 | D2: =C2/B2 -> #DIV/0! | E2: =SUMIFS(Stats!$C$3:$C$250,Stats!$E$3:$E$250,"*Eri*",Stats!$B$3:$B$250,"Gueules Noires") -> 0
A3: Splendor | B3: =COUNTIFS(Stats!D$2:$E241,"*Eri*",Stats!A$2:$B241,"Splendor") -> 1 | C3: =COUNTIFS(Stats!$F$2:G241,"Eri",Stats!$B$2:C241,"Splendor") -> 0 | D3: =C3/B3 -> 0 | E3: =SUMIFS(Stats!$C$3:$C$250,Stats!$E$3:$E$250,"*Eri*",Stats!$B$3:$B$250,"Splendor") -> 0.034722222
A4: Abyss | B4: =COUNTIFS(Stats!D$2:$E243,"*Eri*",Stats!A$2:$B243,"Abyss") -> 3 | C4: =COUNTIFS(Stats!$F$2:G243,"Eri",Stats!$B$2:C243,"Abyss") -> 0 | D4: =C4/B4 -> 0 | E4: =SUMIFS(Stats!$C$3:$C$250,Stats!$E$3:$E$250,"*Eri*",Stats!$B$3:$B$250,"Abyss") -> 0.15625
A5: Seigneur des Anneaux | B5: =COUNTIFS(Stats!D$2:$E244,"*Eri*",Stats!A$2:$B244,"Seigneur des Anneaux") -> 0 | C5: =COUNTIFS(Stats!$F$2:G244,"Eri",Stats!$B$2:C244,"Seigneur des Anneaux") -> 0 | D5: =C5/B5 -> #DIV/0! | E5: =SUMIFS(Stats!$C$3:$C$250,Stats!$E$3:$E$250,"*Eri*",Stats!$B$3:$B$250,"Seigneur des Anneaux") -> 0
A6: Agricola | B6: =COUNTIFS(Stats!D$2:$E245,"*Eri*",Stats!A$2:$B245,"Agricola") -> 1 | C6: =COUNTIFS(Stats!$F$2:G245,"Eri",Stats!$B$2:C245,"Agricola") -> 0 | D6: =C6/B6 -> 0 | E6: =SUMIFS(Stats!$C$3:$C$250,Stats!$E$3:$E$250,"*Eri*",Stats!$B$3:$B$250,"Agricola") -> 0.072916667
A7: Dungeon Petz | B7: =COUNTIFS(Stats!D$2:$E246,"*Eri*",Stats!A$2:$B246,"Dungeon Petz") -> 0 | C7: =COUNTIFS(Stats!$F$2:G246,"Eri",Stats!$B$2:C246,"Dungeon Petz") -> 0 | D7: =C7/B7 -> #DIV/0! | E7: =SUMIFS(Stats!$C$3:$C$250,Stats!$E$3:$E$250,"*Eri*",Stats!$B$3:$B$250,"Dungeon Petz") -> 0
A8: Terres d'Arle | B8: =COUNTIFS(Stats!D$2:$E247,"*Eri*",Stats!A$2:$B247,"Terres d'Arle") -> 1 | C8: =COUNTIFS(Stats!$F$2:G247,"Eri",Stats!$B$2:C247,"Terres d'Arle") -> 0 | D8: =C8/B8 -> 0 | E8: =SUMIFS(Stats!$C$3:$C$250,Stats!$E$3:$E$250,"*Eri*",Stats!$B$3:$B$250,"Terres d'Arle") -> 0.09375
A9: Egizia | B9: =COUNTIFS(Stats!D$2:$E248,"*Eri*",Stats!A$2:$B248,"Egizia") -> 0 | C9: =COUNTIFS(Stats!$F$2:G248,"Eri",Stats!$B$2:C248,"Egizia") -> 0 | D9: =C9/B9 -> #DIV/0! | E9: =SUMIFS(Stats!$C$3:$C$250,Stats!$E$3:$E$250,"*Eri*",Stats!$B$3:$B$250,"Egizia") -> 0
A10: Les Piliers de la Terre | B10: =COUNTIFS(Stats!D$2:$E249,"*Eri*",Stats!A$2:$B249,"Les Piliers de la Terre") -> 0 | C10: =COUNTIFS(Stats!$F$2:G249,"Eri",Stats!$B$2:C249,"Les Piliers de la Terre") -> 0 | D10: =C10/B10 -> #DIV/0! | E10: =SUMIFS(Stats!$C$3:$C$250,Stats!$E$3:$E$250,"*Eri*",Stats!$B$3:$B$250,"Les Piliers de la Terre") -> 0
A11: Sherlock Holmes | B11: =COUNTIFS(Stats!D$2:$E250,"*Eri*",Stats!A$2:$B250,"Sherlock Holmes") -> 0 | C11: =COUNTIFS(Stats!$F$2:G250,"Victoire*",Stats!D$2:$E250,"*Eri*",Stats!$B$2:C250,"Sherlock Holmes") -> 0 | D11: =C11/B11 -> #DIV/0! | E11: =SUMIFS(Stats!$C$3:$C$250,Stats!$E$3:$E$250,"*Eri*",Stats!$B$3:$B$250,"Sherlock Holmes") -> 0
A12: Civilizations | B12: =COUNTIFS(Stats!D$2:$E251,"*Eri*",Stats!A$2:$B251,"Civilizations") -> 0 | C12: =COUNTIFS(Stats!$F$2:G251,"Eri",Stats!$B$2:C251,"Civilizations") -> 0 | D12: =C12/B12 -> #DIV/0! | E12: =SUMIFS(Stats!$C$3:$C$250,Stats!$E$3:$E$250,"*Eri*",Stats!$B$3:$B$250,"Civilizations") -> 0
A13: Horreur à Arkham | B13: =COUNTIFS(Stats!D$2:$E252,"*Eri*",Stats!A$2:$B252,"Horreur à Arkham") -> 0 | C13: =COUNTIFS(Stats!$F$2:G252,"Eri",Stats!$B$2:C252,"Horreur à Arkham") -> 0 | D13: =C13/B13 -> #DIV/0! | E13: =SUMIFS(Stats!$C$3:$C$250,Stats!$E$3:$E$250,"*Eri*",Stats!$B$3:$B$250,"Horreur à Arkham") -> 0
A14: Les Princes de Catane | B14: =COUNTIFS(Stats!D$2:$E253,"*Eri*",Stats!A$2:$B253,"Les Princes de Catane") -> 0 | C14: =COUNTIFS(Stats!$F$2:G253,"Eri",Stats!$B$2:C253,"Les Princes de Catane") -> 0 | D14: =C14/B14 -> #DIV/0! | E14: =SUMIFS(Stats!$C$3:$C$250,Stats!$E$3:$E$250,"*Eri*",Stats!$B$3:$B$250,"Les Princes de Catane") -> 0
A15: Andor | B15: =COUNTIFS(Stats!D$2:$E254,"*Eri*",Stats!A$2:$B254,"Andor") -> 0 | C15: =COUNTIFS(Stats!$F$2:G254,"Eri",Stats!$B$2:C254,"Andor") -> 0 | D15: =C15/B15 -> #DIV/0! | E15: =SUMIFS(Stats!$C$3:$C$250,Stats!$E$3:$E$250,"*Eri*",Stats!$B$3:$B$250,"Andor") -> 0
A16: Tournay | B16: =COUNTIFS(Stats!D$2:$E255,"*Eri*",Stats!A$2:$B255,"Tournay") -> 0 | C16: =COUNTIFS(Stats!$F$2:G255,"Eri",Stats!$B$2:C255,"Tournay") -> 0 | D16: =C16/B16 -> #DIV/0! | E16: =SUMIFS(Stats!$C$3:$C$250,Stats!$E$3:$E$250,"*Eri*",Stats!$B$3:$B$250,"Tournay") -> 0
A17: Viceroy | B17: =COUNTIFS(Stats!D$2:$E256,"*Eri*",Stats!A$2:$B256,"Viceroy") -> 1 | C17: =COUNTIFS(Stats!$F$2:G256,"Eri",Stats!$B$2:C256,"Viceroy") -> 0 | D17: =C17/B17 -> 0 | E17: =SUMIFS(Stats!$C$3:$C$250,Stats!$E$3:$E$250,"*Eri*",Stats!$B$3:$B$250,"Viceroy") -> 0.027777778
A18: Dominant Species | B18: =COUNTIFS(Stats!D$2:$E256,"*Eri*",Stats!A$2:$B256,"Dominant Species") -> 0 | C18: =COUNTIFS(Stats!$F$2:G256,"Eri",Stats!$B$2:C256,"Dominant Species") -> 0 | D18: =C18/B18 -> #DIV/0! | E18: =SUMIFS(Stats!$C$3:$C$250,Stats!$E$3:$E$250,"*Eri*",Stats!$B$3:$B$250,"Dominant Species") -> 0
A19: Autres (Eri) | B19: =COUNTIFS(Stats!D$2:$E257,"*Eri*",Stats!A$2:$B257,"*Eri*") -> 4 | C19: =COUNTIFS(Stats!$F$2:G257,"Eri",Stats!$B$2:C257,"*Eri*") -> 2 | D19: =C19/B19 -> 0.5 | E19: =SUMIFS(Stats!$C$3:$C$250,Stats!$E$3:$E$250,"*Eri*",Stats!$B$3:$B$250,"*Eri*") -> 0.20833333
A20: Total | B20: =SUM(B2:B19) -> 11 | C20: =SUM(C2:C19) -> 2 | D20: =C20/B20 -> 0.18181818 | E20: =SUM(E2:E19) -> 0.59375
A23: Mois et année | B23: Total parties
A24: 42248 | B24: 0
A25: 42278 | B25: 9
A26: 42309 | B26: 2
A27: 42339 | B27: 0
A28: 42370 | B28: =SUMPRODUCT((YEAR(Stats!$A$2:$A$229)=2016)*(MONTH(Stats!$A$2:$A$229)=1)*(Stats!$E$2:$E$229="*Jeanne*")) -> 0
A29: 42401 | B29: =SUMPRODUCT((YEAR(Stats!$A$2:$A$229)=2016)*(MONTH(Stats!$A$2:$A$229)=2)*(Stats!$E$2:$E$229="*Jeanne*")) -> 0
A30: 42430 | B30: =SUMPRODUCT((YEAR(Stats!$A$2:$A$229)=2016)*(MONTH(Stats!$A$2:$A$229)=3)*(Stats!$E$2:$E$229="*Jeanne*")) -> 0
A31: 42461 | B31: =SUMPRODUCT((YEAR(Stats!$A$2:$A$229)=2016)*(MONTH(Stats!$A$2:$A$229)=4)*(Stats!$E$2:$E$229="*Jeanne*")) -> 0
A32: 42491 | B32: =SUMPRODUCT((YEAR(Stats!$A$2:$A$229)=2016)*(MONTH(Stats!$A$2:$A$229)=5)*(Stats!$E$2:$E$229="*Jeanne*")) -> 0
A33: 42522 | B33: =SUMPRODUCT((YEAR(Stats!$A$2:$A$229)=2016)*(MONTH(Stats!$A$2:$A$229)=6)*(Stats!$E$2:$E$229="*Jeanne*")) -> 0
B35: =SUMPRODUCT((YEAR(Stats!$A$2:A240)=2015)*(MONTH(Stats!$A$2:A240)=9)*(Stats!$E$2:E240="*Jeanne*")) -> 0

Sheet Julien
A1: Nom du jeu | B1: Nbre de parties jouées | C1: Nbre de parties gagnées | D1: % de victoire | E1: Durée
A2: Gueules Noires | B2: =COUNTIFS(Stats!D$2:$E240,"*Jayme*",Stats!A$2:$B240,"Gueules Noires") -> 2 | C2: =COUNTIFS(Stats!$F$2:G240,"Julien",Stats!$B$2:C240,"Gueules Noires") -> 0 | D2: =IF(B2=0,0,C2/B2) -> 0 | E2: =SUMIFS(Stats!$C$3:$C$250,Stats!$E$3:$E$250,"*Julien*",Stats!$B$3:$B$250,"Gueules Noires") -> 0
A3: Splendor | B3: =COUNTIFS(Stats!D$2:$E241,"*Julien*",Stats!A$2:$B241,"Splendor") -> 1 | C3: =COUNTIFS(Stats!$F$2:G241,"Julien",Stats!$B$2:C241,"Splendor") -> 0 | D3: =IF(B3=0,0,C3/B3) -> 0 | E3: =SUMIFS(Stats!$C$3:$C$250,Stats!$E$3:$E$250,"*Julien*",Stats!$B$3:$B$250,"Splendor") -> 0.027777778
A4: Abyss | B4: =COUNTIFS(Stats!D$2:$E243,"*Julien*",Stats!A$2:$B243,"Abyss") -> 2 | C4: =COUNTIFS(Stats!$F$2:G243,"Julien",Stats!$B$2:C243,"Abyss") -> 1 | D4: =IF(B4=0,0,C4/B4) -> 0.5 | E4: =SUMIFS(Stats!$C$3:$C$250,Stats!$E$3:$E$250,"*Julien*",Stats!$B$3:$B$250,"Abyss") -> 0.11458333
A5: Seigneur des Anneaux | B5: =COUNTIFS(Stats!D$2:$E244,"*Julien*",Stats!A$2:$B244,"Seigneur des Anneaux") -> 0 | C5: =COUNTIFS(Stats!$F$2:G244,"Julien",Stats!$B$2:C244,"Seigneur des Anneaux") -> 0 | D5: =IF(B5=0,0,C5/B5) -> 0 | E5: =SUMIFS(Stats!$C$3:$C$250,Stats!$E$3:$E$250,"*Julien*",Stats!$B$3:$B$250,"Seigneur des Anneaux") -> 0
A6: Agricola | B6: =COUNTIFS(Stats!D$2:$E245,"*Julien*",Stats!A$2:$B245,"Agricola") -> 0 | C6: =COUNTIFS(Stats!$F$2:G245,"Julien",Stats!$B$2:C245,"Agricola") -> 0 | D6: =IF(B6=0,0,C6/B6) -> 0 | E6: =SUMIFS(Stats!$C$3:$C$250,Stats!$E$3:$E$250,"*Julien*",Stats!$B$3:$B$250,"Agricola") -> 0
A7: Dungeon Petz | B7: =COUNTIFS(Stats!D$2:$E246,"*Julien*",Stats!A$2:$B246,"Dungeon Petz") -> 0 | C7: =COUNTIFS(Stats!$F$2:G246,"Julien",Stats!$B$2:C246,"Dungeon Petz") -> 0 | D7: =IF(B7=0,0,C7/B7) -> 0 | E7: =SUMIFS(Stats!$C$3:$C$250,Stats!$E$3:$E$250,"*Julien*",Stats!$B$3:$B$250,"Dungeon Petz") -> 0
A8: Terres d'Arle | B8: =COUNTIFS(Stats!D$2:$E247,"*Julien*",Stats!A$2:$B247,"Terres d'Arle") -> 0 | C8: =COUNTIFS(Stats!$F$2:G247,"Julien",Stats!$B$2:C247,"Terres d'Arle") -> 0 | D8: =IF(B8=0,0,C8/B8) -> 0 | E8: =SUMIFS(Stats!$C$3:$C$250,Stats!$E$3:$E$250,"*Julien*",Stats!$B$3:$B$250,"Terres d'Arle") -> 0
A9: Egizia | B9: =COUNTIFS(Stats!D$2:$E248,"*Julien*",Stats!A$2:$B248,"Egizia") -> 0 | C9: =COUNTIFS(Stats!$F$2:G248,"Julien",Stats!$B$2:C248,"Egizia") -> 0 | D9: =IF(B9=0,0,C9/B9) -> 0 | E9: =SUMIFS(Stats!$C$3:$C$250,Stats!$E$3:$E$250,"*Julien*",Stats!$B$3:$B$250,"Egizia") -> 0
A10: Les Piliers de la Terre | B10: =COUNTIFS(Stats!D$2:$E249,"*Julien*",Stats!A$2:$B249,"Les Piliers de la Terre") -> 0 | C10: =COUNTIFS(Stats!$F$2:G249,"Julien",Stats!$B$2:C249,"Les Piliers de la Terre") -> 0 | D10: =IF(B10=0,0,C10/B10) -> 0 | E10: =SUMIFS(Stats!$C$3:$C$250,Stats!$E$3:$E$250,"*Julien*",Stats!$B$3:$B$250,"Les Piliers de la Terre") -> 0
A11: Sherlock Holmes | B11: =COUNTIFS(Stats!D$2:$E250,"*Julien*",Stats!A$2:$B250,"Sherlock Holmes") -> 0 | C11: =COUNTIFS(Stats!$F$2:G250,"Victoire*",Stats!D$2:$E250,"*Julien*",Stats!$B$2:C250,"Sherlock Holmes") -> 0 | D11: =IF(B11=0,0,C11/B11) -> 0 | E11: =SUMIFS(Stats!$C$3:$C$250,Stats!$E$3:$E$250,"*Julien*",Stats!$B$3:$B$250,"Sherlock Holmes") -> 0
A12: Civilizations | B12: =COUNTIFS(Stats!D$2:$E251,"*Julien*",Stats!A$2:$B251,"Civilizations") -> 0 | C12: =COUNTIFS(Stats!$F$2:G251,"Julien",Stats!$B$2:C251,"Civilizations") -> 0 | D12: =IF(B12=0,0,C12/B12) -> 0 | E12: =SUMIFS(Stats!$C$3:$C$250,Stats!$E$3:$E$250,"*Julien*",Stats!$B$3:$B$250,"Civilizations") -> 0
A13: Horreur à Arkham | B13: =COUNTIFS(Stats!D$2:$E252,"*Julien*",Stats!A$2:$B252,"Horreur à Arkham") -> 0 | C13: =COUNTIFS(Stats!$F$2:G252,"Julien",Stats!$B$2:C252,"Horreur à Arkham") -> 0 | D13: =IF(B13=0,0,C13/B13) -> 0 | E13: =SUMIFS(Stats!$C$3:$C$250,Stats!$E$3:$E$250,"*Julien*",Stats!$B$3:$B$250,"Horreur à Arkham") -> 0
A14: Les Princes de Catane | B14: =COUNTIFS(Stats!D$2:$E253,"*Julien*",Stats!A$2:$B253,"Les Princes de Catane") -> 0 | C14: =COUNTIFS(Stats!$F$2:G253,"Julien",Stats!$B$2:C253,"Les Princes de Catane") -> 0 | D14: =IF(B14=0,0,C14/B14) -> 0 | E14: =SUMIFS(Stats!$C$3:$C$250,Stats!$E$3:$E$250,"*Julien*",Stats!$B$3:$B$250,"Les Princes de Catane") -> 0
A15: Andor | B15: =COUNTIFS(Stats!D$2:$E254,"*Julien*",Stats!A$2:$B254,"Andor") -> 0 | C15: =COUNTIFS(Stats!$F$2:G254,"Julien",Stats!$B$2:C254,"Andor") -> 0 | D15: =IF(B15=0,0,C15/B15) -> 0 | E15: =SUMIFS(Stats!$C$3:$C$250,Stats!$E$3:$E$250,"*Julien*",Stats!$B$3:$B$250,"Andor") -> 0
A16: Tournay | B16: =COUNTIFS(Stats!D$2:$E255,"*Julien*",Stats!A$2:$B255,"Tournay") -> 0 | C16: =COUNTIFS(Stats!$F$2:G255,"Julien",Stats!$B$2:C255,"Tournay") -> 0 | D16: =IF(B16=0,0,C16/B16) -> 0 | E16: =SUMIFS(Stats!$C$3:$C$250,Stats!$E$3:$E$250,"*Julien*",Stats!$B$3:$B$250,"Tournay") -> 0
A17: Viceroy | B17: =COUNTIFS(Stats!D$2:$E256,"*Julien*",Stats!A$2:$B256,"Viceroy") -> 0 | C17: =COUNTIFS(Stats!$F$2:G256,"Julien",Stats!$B$2:C256,"Viceroy") -> 0 | D17: =IF(B17=0,0,C17/B17) -> 0 | E17: =SUMIFS(Stats!$C$3:$C$250,Stats!$E$3:$E$250,"*Julien*",Stats!$B$3:$B$250,"Viceroy") -> 0
A18: Dominant Species | B18: =COUNTIFS(Stats!D$2:$E256,"*Julien*",Stats!A$2:$B256,"Dominant Species") -> 0 | C18: =COUNTIFS(Stats!$F$2:G256,"Julien",Stats!$B$2:C256,"Dominant Species") -> 0 | D18: =IF(B18=0,0,C18/B18) -> 0 | E18: =SUMIFS(Stats!$C$3:$C$250,Stats!$E$3:$E$250,"*Julien*",Stats!$B$3:$B$250,"Dominant Species") -> 0
A19: L'Age de Pierre | B19: =COUNTIFS(Stats!D$2:$E256,"*Julien*",Stats!A$2:$B256,"L'Age de Pierre") -> 1 | C19: =COUNTIFS(Stats!$F$2:G256,"Julien",Stats!$B$2:C256,"L'Age de Pierre") -> 0 | D19: =IF(B19=0,0,C19/B19) -> 0 | E19: =SUMIFS(Stats!$C$3:$C$250,Stats!$E$3:$E$250,"*Julien*",Stats!$B$3:$B$250,"L'Age de Pierre") -> 0.083333333
A20: Autres (Eri) | B20: =COUNTIFS(Stats!D$2:$E257,"*Julien*",Stats!A$2:$B257,"*Eri*") -> 1 | C20: =COUNTIFS(Stats!$F$2:G257,"Julien",Stats!$B$2:C257,"*Eri*") -> 0 | D20: =IF(B20=0,0,C20/B20) -> 0 | E20: =SUMIFS(Stats!$C$3:$C$250,Stats!$E$3:$E$250,"*Julien*",Stats!$B$3:$B$250,"*Eri*") -> 0.0625
A21: Total | B21: =SUM(B2:B20) -> 7 | C21: =SUM(C2:C20) -> 1 | D21: =C21/B21 -> 0.14285714 | E21: =SUM(E2:E20) -> 0.28819444
A24: Mois et année | B24: Total parties
A25: 42248 | B25: 2
A26: 42278 | B26: 2
A27: 42309 | B27: 1
A28: 42339 | B28: =SUMPRODUCT((YEAR(Stats!$A$2:$A$229)=2015)*(MONTH(Stats!$A$2:$A$229)=12)*(Stats!$E$2:$E$229="*Jeanne*")) -> 0
A29: 42370 | B29: =SUMPRODUCT((YEAR(Stats!$A$2:$A$229)=2016)*(MONTH(Stats!$A$2:$A$229)=1)*(Stats!$E$2:$E$229="*Jeanne*")) -> 0
A30: 42401 | B30: =SUMPRODUCT((YEAR(Stats!$A$2:$A$229)=2016)*(MONTH(Stats!$A$2:$A$229)=2)*(Stats!$E$2:$E$229="*Jeanne*")) -> 0
A31: 42430 | B31: =SUMPRODUCT((YEAR(Stats!$A$2:$A$229)=2016)*(MONTH(Stats!$A$2:$A$229)=3)*(Stats!$E$2:$E$229="*Jeanne*")) -> 0
A32: 42461 | B32: =SUMPRODUCT((YEAR(Stats!$A$2:$A$229)=2016)*(MONTH(Stats!$A$2:$A$229)=4)*(Stats!$E$2:$E$229="*Jeanne*")) -> 0
A33: 42491 | B33: =SUMPRODUCT((YEAR(Stats!$A$2:$A$229)=2016)*(MONTH(Stats!$A$2:$A$229)=5)*(Stats!$E$2:$E$229="*Jeanne*")) -> 0
A34: 42522 | B34: =SUMPRODUCT((YEAR(Stats!$A$2:$A$229)=2016)*(MONTH(Stats!$A$2:$A$229)=6)*(Stats!$E$2:$E$229="*Jeanne*")) -> 0
B36: =SUMPRODUCT((YEAR(Stats!$A$2:A240)=2015)*(MONTH(Stats!$A$2:A240)=9)*(Stats!$E$2:E240="*Julien*")) -> 0
