Workbook

Sheet input
A1: ID date | B1: Semaine | C1: Date | D1: Client | E1: Valeur | F1: Nombre | G1: Total | H1: Jour | I1: Nbligne
A2: =H2&B2 -> lundi42 | B2: =+WEEKNUM(C2) -> 42 | C2: 42289 | D2: MISTER 01 | E2: 66 | F2: 1 | G2: =E2*F2 -> 66 | H2: =TEXT(C2,"jjjj") -> lundi | I2: 1
A3: =H3&B3 -> mercredi42 | B3: =+WEEKNUM(C3) -> 42 | C3: 42291 | D3: MISTER 02 | E3: 79 | F3: 2 | G3: =E3*F3 -> 158 | H3: =TEXT(C3,"jjjj") -> mercredi | I3: 2
A4: =H4&B4 -> jeudi42 | B4: =+WEEKNUM(C4) -> 42 | C4: 42292 | D4: MISTER 03 | E4: 66 | F4: 1 | G4: =E4*F4 -> 66 | H4: =TEXT(C4,"jjjj") -> jeudi | I4: 3
A5: =H5&B5 -> jeudi42 | B5: =+WEEKNUM(C5) -> 42 | C5: 42292 | D5: MISTER 04 | E5: 59 | F5: 1 | G5: =E5*F5 -> 59 | H5: =TEXT(C5,"jjjj") -> jeudi | I5: 4
A6: =H6&B6 -> jeudi42 | B6: =+WEEKNUM(C6) -> 42 | C6: 42292 | D6: MISTER 05 | E6: 66 | F6: 1 | G6: =E6*F6 -> 66 | H6: =TEXT(C6,"jjjj") -> jeudi | I6: 5
A7: =H7&B7 -> jeudi42 | B7: =+WEEKNUM(C7) -> 42 | C7: 42292 | D7: MISTER 06 | E7: 62 | F7: 7 | G7: =E7*F7 -> 434 | H7: =TEXT(C7,"jjjj") -> jeudi | I7: 6
A8: =H8&B8 -> vendredi42 | B8: =+WEEKNUM(C8) -> 42 | C8: 42293 | D8: MISTER 07 | E8: 66 | F8: 5 | G8: =E8*F8 -> 330 | H8: =TEXT(C8,"jjjj") -> vendredi | I8: 7
A9: =H9&B9 -> vendredi42 | B9: =+WEEKNUM(C9) -> 42 | C9: 42293 | D9: MISTER 08 | E9: 79 | F9: 2 | G9: =E9*F9 -> 158 | H9: =TEXT(C9,"jjjj") -> vendredi | I9: 8
A10: =H10&B10 -> lundi43 | B10: =+WEEKNUM(C10) -> 43 | C10: 42296 | D10: MISTER 09 | E10: 66 | F10: 1 | G10: =E10*F10 -> 66 | H10: =TEXT(C10,"jjjj") -> lundi | I10: 9
A11: =H11&B11 -> lundi43 | B11: =+WEEKNUM(C11) -> 43 | C11: 42296 | D11: MISTER 10 | E11: 79 | F11: 1 | G11: =E11*F11 -> 79 | H11: =TEXT(C11,"jjjj") -> lundi | I11: 10
A12: =H12&B12 -> mardi43 | B12: =+WEEKNUM(C12) -> 43 | C12: 42297 | D12: MISTER 11 | E12: 0 | F12: 1 | G12: =E12*F12 -> 0 | H12: =TEXT(C12,"jjjj") -> mardi | I12: 11
A13: =H13&B13 -> mardi43 | B13: =+WEEKNUM(C13) -> 43 | C13: 42297 | D13: MISTER 12 | E13: 66 | F13: 1 | G13: =E13*F13 -> 66 | H13: =TEXT(C13,"jjjj") -> mardi | I13: 12
... A124: =H124&B124 -> mercredi51 | B124: =+WEEKNUM(C124) -> 51 | C124: 42354 | D124: MISTER 123 | E124: 66 | F124: 1 | G124: =E124*F124 -> 66 | H124: =TEXT(C124,"jjjj") -> mercredi | I124: 123
A125: =H125&B125 | I125: 124
A126: =H126&B126 | I126: 125
A127: =H127&B127 | I127: 126
A128: =H128&B128 | I128: 127
A129: =H129&B129 | I129: 128
A130: =H130&B130 | I130: 129
A131: =H131&B131 | I131: 130
A132: =H132&B132 | I132: 131
A133: =H133&B133 | I133: 132
A134: =H134&B134 | I134: 133
A135: =H135&B135 | I135: 134
A136: =H136&B136 | I136: 135
... A241: =H241&B241 | I241: 240

Sheet output
XFD1: ="Semaine "&C3 -> Semaine 49
XFD2: ="Prix moyen "&XFD10 -> Prix moyen 71,35
B3: Semaine : | C3: 49 | XFD3: =B5&$C$3 -> Lundi49
XFD4: =B6&$C$3 -> Mardi49
B5: Lundi | C5: =SUMIF(input!A$2:A$250,data!F2,input!F$2:F$250) -> 17 | D5: =IFERROR(VLOOKUP(XFD3,data!I:J,2,FALSE),"Aucune vente") -> nom de tous les vendeurs 31 | XFD5: =B7&$C$3 -> Mercredi49
B6: Mardi | C6: =SUMIF(input!A$2:A$250,data!F3,input!F$2:F$250) -> 0 | D6: =IFERROR(VLOOKUP(XFD4,data!I:J,2,FALSE),"Aucune vente") -> 0 | XFD6: =B8&$C$3 -> Jeudi49
B7: Mercredi | C7: =SUMIF(input!A$2:A$250,data!F4,input!F$2:F$250) -> 0 | D7: =IFERROR(VLOOKUP(XFD5,data!I:J,2,FALSE),"Aucune vente") -> 0 | XFD7: =B9&$C$3 -> Vendredi49
B8: Jeudi | C8: =SUMIF(input!A$2:A$250,data!F5,input!F$2:F$250) -> 2 | D8: =IFERROR(VLOOKUP(XFD6,data!I:J,2,FALSE),"Aucune vente") -> nom de tous les vendeurs 32 | XFD8: =B10&$C$3 -> Samedi49
B9: Vendredi | C9: =SUMIF(input!A$2:A$250,data!F6,input!F$2:F$250) -> 1 | D9: =IFERROR(VLOOKUP(XFD7,data!I:J,2,FALSE),"Aucune vente") -> nom de tous les vendeurs 33 | XFD9: =B11&$C$3 -> Dimanche49
B10: Samedi | C10: =SUMIF(input!A$2:A$250,data!F7,input!F$2:F$250) -> 0 | D10: =IFERROR(VLOOKUP(XFD8,data!I:J,2,FALSE),"Aucune vente") -> 0 | XFD10: =IFERROR(SUMIF(input!B2:B250,output!C3,input!G2:G250)/SUMIF(input!B2:B250,output!C3,input!F2:F250),"") -> 71.35
B11: Dimanche | C11: =SUMIF(input!A$2:A$250,data!F7,input!F$2:F$250) -> 0 | D11: =IFERROR(VLOOKUP(XFD8,data!I:J,2,FALSE),"Aucune vente") -> 0
B13: Total : | C13: =SUM(C5:C9) -> 20

Sheet data
A1: Semaine | B1: Vente | D1: Jour | E1: Vente | G1: 42 | I1: lundi42 | J1: nom de tous les vendeurs 01 | K1: =COUNTIF(input!A:A,data!I1) -> 1
A2: 42 | B2: =SUMIF(input!B$2:B$250,data!A2,input!F$2:F$250) -> 20 | D2: Lundi | E2: =SUMIF(input!H$2:H$250,data!D2,input!F$2:F$250) -> 131 | F2: =D2&output!$C$3 -> Lundi49 | G2: 43 | I2: mercredi42 | J2: nom de tous les vendeurs 02 | K2: =COUNTIF(input!A:A,data!I2) -> 1
A3: 43 | B3: =SUMIF(input!B$2:B$250,data!A3,input!F$2:F$250) -> 17 | D3: Mardi | E3: =SUMIF(input!H$2:H$250,data!D3,input!F$2:F$250) -> 45 | F3: =D3&output!$C$3 -> Mardi49 | G3: 44 | I3: jeudi42 | J3: nom de tous les vendeurs 03 | K3: =COUNTIF(input!A:A,data!I3) -> 4
A4: 44 | B4: =SUMIF(input!B$2:B$250,data!A4,input!F$2:F$250) -> 14 | D4: Mercredi | E4: =SUMIF(input!H$2:H$250,data!D4,input!F$2:F$250) -> 27 | F4: =D4&output!$C$3 -> Mercredi49 | G4: 45 | I4: vendredi42 | J4: nom de tous les vendeurs 04 | K4: =COUNTIF(input!A:A,data!I4) -> 2
A5: 45 | B5: =SUMIF(input!B$2:B$250,data!A5,input!F$2:F$250) -> 38 | D5: Jeudi | E5: =SUMIF(input!H$2:H$250,data!D5,input!F$2:F$250) -> 54 | F5: =D5&output!$C$3 -> Jeudi49 | G5: 46 | I5: lundi43 | J5: nom de tous les vendeurs 05 | K5: =COUNTIF(input!A:A,data!I5) -> 2
A6: 46 | B6: =SUMIF(input!B$2:B$250,data!A6,input!F$2:F$250) -> 34 | D6: Vendredi | E6: =SUMIF(input!H$2:H$250,data!D6,input!F$2:F$250) -> 45 | F6: =D6&output!$C$3 -> Vendredi49 | G6: 47 | I6: mardi43 | J6: nom de tous les vendeurs 06 | K6: =COUNTIF(input!A:A,data!I6) -> 4
A7: 47 | B7: =SUMIF(input!B$2:B$250,data!A7,input!F$2:F$250) -> 76 | D7: Samedi | E7: =SUMIF(input!H$2:H$250,data!D7,input!F$2:F$250) -> 0 | F7: =D7&output!$C$3 -> Samedi49 | G7: 48 | I7: mercredi43 | J7: nom de tous les vendeurs 07 | K7: =COUNTIF(input!A:A,data!I7) -> 1
A8: 48 | B8: =SUMIF(input!B$2:B$250,data!A8,input!F$2:F$250) -> 27 | D8: Dimanche | E8: =SUMIF(input!H$2:H$250,data!D8,input!F$2:F$250) -> 0 | F8: =D8&output!$C$3 -> Dimanche49 | G8: 49 | I8: jeudi43 | J8: nom de tous les vendeurs 08 | K8: =COUNTIF(input!A:A,data!I8) -> 3
A9: 49 | B9: =SUMIF(input!B$2:B$250,data!A9,input!F$2:F$250) -> 20 | G9: 50 | I9: vendredi43 | J9: nom de tous les vendeurs 09 | K9: =COUNTIF(input!A:A,data!I9) -> 2
A10: 50 | B10: =SUMIF(input!B$2:B$250,data!A10,input!F$2:F$250) -> 44 | G10: 51 | I10: lundi44 | J10: nom de tous les vendeurs 10 | K10: =COUNTIF(input!A:A,data!I10) -> 2
A11: 51 | B11: =SUMIF(input!B$2:B$250,data!A11,input!F$2:F$250) -> 12 | G11: 52 | I11: mardi44 | J11: nom de tous les vendeurs 11 | K11: =COUNTIF(input!A:A,data!I11) -> 4
A12: 52 | B12: =SUMIF(input!B$2:B$250,data!A12,input!F$2:F$250) -> 0 | G12: 1 | I12: mercredi44 | J12: nom de tous les vendeurs 12 | K12: =COUNTIF(input!A:A,data!I12) -> 2
A13: 1 | B13: =SUMIF(input!B$2:B$250,data!A13,input!F$2:F$250) -> 0 | G13: =1+G12 -> 2 | I13: vendredi44 | J13: nom de tous les vendeurs 13 | K13: =COUNTIF(input!A:A,data!I13) -> 3
A14: 2 | B14: =SUMIF(input!B$2:B$250,data!A14,input!F$2:F$250) -> 0 | G14: =1+G13 -> 3 | I14: lundi45 | J14: nom de tous les vendeurs 14 | K14: =COUNTIF(input!A:A,data!I14) -> 5
A15: 3 | B15: =SUMIF(input!B$2:B$250,data!A15,input!F$2:F$250) -> 0 | G15: =1+G14 -> 4 | I15: mardi45 | J15: nom de tous les vendeurs 15 | K15: =COUNTIF(input!A:A,data!I15) -> 4
A16: 4 | B16: =SUMIF(input!B$2:B$250,data!A16,input!F$2:F$250) -> 0 | G16: =1+G15 -> 5 | I16: mercredi45 | J16: nom de tous les vendeurs 16 | K16: =COUNTIF(input!A:A,data!I16) -> 3
A17: 5 | B17: =SUMIF(input!B$2:B$250,data!A17,input!F$2:F$250) -> 0 | G17: =1+G16 -> 6 | I17: jeudi45 | J17: nom de tous les vendeurs 17 | K17: =COUNTIF(input!A:A,data!I17) -> 2
A18: 6 | B18: =SUMIF(input!B$2:B$250,data!A18,input!F$2:F$250) -> 0 | G18: =1+G17 -> 7 | I18: vendredi45 | J18: nom de tous les vendeurs 18 | K18: =COUNTIF(input!A:A,data!I18) -> 4
A19: 7 | B19: =SUMIF(input!B$2:B$250,data!A19,input!F$2:F$250) -> 0 | I19: lundi46 | J19: nom de tous les vendeurs 19 | K19: =COUNTIF(input!A:A,data!I19) -> 5
A20: 8 | B20: =SUMIF(input!B$2:B$250,data!A20,input!F$2:F$250) -> 0 | I20: mardi46 | J20: nom de tous les vendeurs 20 | K20: =COUNTIF(input!A:A,data!I20) -> 4
A21: 9 | B21: =SUMIF(input!B$2:B$250,data!A21,input!F$2:F$250) -> 0 | I21: jeudi46 | J21: nom de tous les vendeurs 21 | K21: =COUNTIF(input!A:A,data!I21) -> 3
A22: 10 | B22: =SUMIF(input!B$2:B$250,data!A22,input!F$2:F$250) -> 0 | I22: vendredi46 | J22: nom de tous les vendeurs 22 | K22: =COUNTIF(input!A:A,data!I22) -> 1
A23: 11 | B23: =SUMIF(input!B$2:B$250,data!A23,input!F$2:F$250) -> 0 | I23: lundi47 | J23: nom de tous les vendeurs 23 | K23: =COUNTIF(input!A:A,data!I23) -> 2
A24: 12 | B24: =SUMIF(input!B$2:B$250,data!A24,input!F$2:F$250) -> 0 | I24: mercredi47 | J24: nom de tous les vendeurs 24 | K24: =COUNTIF(input!A:A,data!I24) -> 3
A25: 13 | B25: =SUMIF(input!B$2:B$250,data!A25,input!F$2:F$250) -> 0 | I25: jeudi47 | J25: nom de tous les vendeurs 25 | K25: =COUNTIF(input!A:A,data!I25) -> 2
A26: 14 | B26: =SUMIF(input!B$2:B$250,data!A26,input!F$2:F$250) -> 0 | I26: lundi48 | J26: nom de tous les vendeurs 26 | K26: =COUNTIF(input!A:A,data!I26) -> 5
A27: 15 | B27: =SUMIF(input!B$2:B$250,data!A27,input!F$2:F$250) -> 0 | I27: mardi48 | J27: nom de tous les vendeurs 27 | K27: =COUNTIF(input!A:A,data!I27) -> 3
A28: 16 | B28: =SUMIF(input!B$2:B$250,data!A28,input!F$2:F$250) -> 0 | I28: mercredi48 | J28: nom de tous les vendeurs 28 | K28: =COUNTIF(input!A:A,data!I28) -> 1
A29: 17 | B29: =SUMIF(input!B$2:B$250,data!A29,input!F$2:F$250) -> 0 | I29: jeudi48 | J29: nom de tous les vendeurs 29 | K29: =COUNTIF(input!A:A,data!I29) -> 2
A30: 18 | B30: =SUMIF(input!B$2:B$250,data!A30,input!F$2:F$250) -> 0 | I30: vendredi48 | J30: nom de tous les vendeurs 30 | K30: =COUNTIF(input!A:A,data!I30) -> 2
... A36: 24 | B36: =SUMIF(input!B$2:B$250,data!A36,input!F$2:F$250) -> 0 | I36: mercredi50 | J36: nom de tous les vendeurs 36 | K36: =COUNTIF(input!A:A,data!I36) -> 5
I37: jeudi50 | J37: nom de tous les vendeurs 37 | K37: =COUNTIF(input!A:A,data!I37) -> 5
I38: vendredi50 | J38: nom de tous les vendeurs 38 | K38: =COUNTIF(input!A:A,data!I38) -> 1
I39: lundi51 | J39: nom de tous les vendeurs 39 | K39: =COUNTIF(input!A:A,data!I39) -> 2
I40: lundi52 | K40: =COUNTIF(input!A:A,data!I40) -> 0
I41: lundi1 | K41: =COUNTIF(input!A:A,data!I41) -> 0
I42: lundi2 | K42: =COUNTIF(input!A:A,data!I42) -> 0
I43: lundi3 | K43: =COUNTIF(input!A:A,data!I43) -> 0
I44: lundi4 | K44: =COUNTIF(input!A:A,data!I44) -> 0
I45: lundi5 | K45: =COUNTIF(input!A:A,data!I45) -> 0
I46: lundi6 | K46: =COUNTIF(input!A:A,data!I46) -> 0
I47: lundi7 | K47: =COUNTIF(input!A:A,data!I47) -> 0
I48: lundi8 | K48: =COUNTIF(input!A:A,data!I48) -> 0
I49: lundi9 | K49: =COUNTIF(input!A:A,data!I49) -> 0
I50: lundi10 | K50: =COUNTIF(input!A:A,data!I50) -> 0
I51: lundi11 | K51: =COUNTIF(input!A:A,data!I51) -> 0
... I364: dimanche41 | K364: =COUNTIF(input!A:A,data!I364) -> 0

Sheet Feuil2
A1: lundi42 | B1: =VLOOKUP($A1,input!$A$2:$H$250,4,FALSE)&" "&VLOOKUP($A1,input!$A$2:$H$250,6,FALSE) -> MISTER 01 1 | C1: =VLOOKUP($A1,input!$A$2:$I$250,9,FALSE)+2 -> 3 | D1: =VLOOKUP(A1,input!A&Feuil2!C1:I250,4,FALSE) -> 0
A2: lundi43 | B2: =VLOOKUP(A2,input!$A$2:$H$250,4,FALSE)&" "&VLOOKUP(A2,input!$A$2:$H$250,6,FALSE) -> MISTER 09 1 | C2: =VLOOKUP($A2,input!$A$2:$I$250,9,FALSE)+2 -> 11 | D2: =VLOOKUP(A2,input!A&Feuil2!C2:I251,4,FALSE) -> 0
A3: lundi44 | B3: =VLOOKUP(A3,input!$A$2:$H$250,4,FALSE)&" "&VLOOKUP(A3,input!$A$2:$H$250,6,FALSE) -> MISTER 21 2 | C3: =VLOOKUP($A3,input!$A$2:$I$250,9,FALSE)+2 -> 23 | D3: =VLOOKUP(A3,input!A&Feuil2!C3:I252,4,FALSE) -> 0
A4: lundi45 | B4: =VLOOKUP(A4,input!$A$2:$H$250,4,FALSE)&" "&VLOOKUP(A4,input!$A$2:$H$250,6,FALSE) -> MISTER 32 1 | C4: =VLOOKUP($A4,input!$A$2:$I$250,9,FALSE)+2 -> 34 | D4: =VLOOKUP(A4,input!A&Feuil2!C4:I253,4,FALSE) -> 0
A5: lundi46 | B5: =VLOOKUP(A5,input!$A$2:$H$250,4,FALSE)&" "&VLOOKUP(A5,input!$A$2:$H$250,6,FALSE) -> MISTER 50 1 | C5: =VLOOKUP($A5,input!$A$2:$I$250,9,FALSE)+2 -> 52 | D5: =VLOOKUP(A5,input!A&Feuil2!C5:I254,4,FALSE) -> 0
A6: lundi47 | B6: =VLOOKUP(A6,input!$A$2:$H$250,4,FALSE)&" "&VLOOKUP(A6,input!$A$2:$H$250,6,FALSE) -> MISTER 63 1 | C6: =VLOOKUP($A6,input!$A$2:$I$250,9,FALSE)+2 -> 65 | D6: =VLOOKUP(A6,input!A&Feuil2!C6:I255,4,FALSE) -> 0
A7: lundi48 | B7: =VLOOKUP(A7,input!$A$2:$H$250,4,FALSE)&" "&VLOOKUP(A7,input!$A$2:$H$250,6,FALSE) -> MISTER 70 1 | C7: =VLOOKUP($A7,input!$A$2:$I$250,9,FALSE)+2 -> 72 | D7: =VLOOKUP(A7,input!A&Feuil2!C7:I256,4,FALSE) -> 0
A8: lundi49 | B8: =VLOOKUP(A8,input!$A$2:$H$250,4,FALSE)&" "&VLOOKUP(A8,input!$A$2:$H$250,6,FALSE) -> MISTER 83 1 | C8: =VLOOKUP($A8,input!$A$2:$I$250,9,FALSE)+2 -> 85 | D8: =VLOOKUP(A8,input!A&Feuil2!C8:I257,4,FALSE) -> 0
A9: lundi50 | B9: =VLOOKUP(A9,input!$A$2:$H$250,4,FALSE)&" "&VLOOKUP(A9,input!$A$2:$H$250,6,FALSE) -> MISTER 95 1 | C9: =VLOOKUP($A9,input!$A$2:$I$250,9,FALSE)+2 -> 97 | D9: =VLOOKUP(A9,input!A&Feuil2!C9:I258,4,FALSE) -> 0
A10: lundi51 | B10: =VLOOKUP(A10,input!$A$2:$H$250,4,FALSE)&" "&VLOOKUP(A10,input!$A$2:$H$250,6,FALSE) -> MISTER 117 1 | C10: =VLOOKUP($A10,input!$A$2:$I$250,9,FALSE)+2 -> 119 | D10: =VLOOKUP(A10,input!A&Feuil2!C10:I259,4,FALSE) -> 0
A11: lundi52 | B11: =VLOOKUP(A11,input!$A$2:$H$250,4,FALSE)&" "&VLOOKUP(A11,input!$A$2:$H$250,6,FALSE) -> #N/A | C11: =VLOOKUP($A11,input!$A$2:$I$250,9,FALSE)+2 -> #N/A | D11: =VLOOKUP(A11,input!A&Feuil2!C11:I260,4,FALSE) -> 0
A12: lundi1 | B12: =VLOOKUP(A12,input!$A$2:$H$250,4,FALSE)&" "&VLOOKUP(A12,input!$A$2:$H$250,6,FALSE) -> #N/A | C12: =VLOOKUP($A12,input!$A$2:$I$250,9,FALSE)+2 -> #N/A | D12: =VLOOKUP(A12,input!A&Feuil2!C12:I261,4,FALSE) -> 0
A13: lundi2 | B13: =VLOOKUP(A13,input!$A$2:$H$250,4,FALSE)&" "&VLOOKUP(A13,input!$A$2:$H$250,6,FALSE) -> #N/A | C13: =VLOOKUP($A13,input!$A$2:$I$250,9,FALSE)+2 -> #N/A | D13: =VLOOKUP(A13,input!A&Feuil2!C13:I262,4,FALSE) -> 0
... A364: dimanche41 | B364: =VLOOKUP(A364,input!$A$2:$H$250,4,FALSE)&" "&VLOOKUP(A364,input!$A$2:$H$250,6,FALSE) -> #N/A | C364: =VLOOKUP($A364,input!$A$2:$I$250,9,FALSE)+2 -> #N/A | D364: =VLOOKUP(A364,input!A&Feuil2!C364:I613,4,FALSE) -> 0
