Workbook

Sheet Données
B1: Heure début < | H1: CP | I1: 42156 | J1: 42155
A2: Midi | B2: 0.48958333 | I2: =DATEDIF(I3,J3,"m")*2.08 -> 101.92 | O2: TRUC POUR CORRIGER LA SOMME DES HEURES | V2: [h]:mm
A3: Soir | B3: 0.78125 | I3: 40798 | J3: =TODAY() -> 42289
O4: .
A5: Taux horaire | B5: Pour | I5: période d'acquisition des congés
A6: 1 | B6: =< | C6: 1.4583333 | I6: du 01/04/N au 31/03/N+1 | O6: Tout est une question de format de cellules. Si vous utilisez le format de cellules suivant: [h]:mm, vous pourrez corriger le tir.
A7: 1.1 | B7: entre | C7: 1.4583333 | D7: et | E7: 1.625
A8: 1.2 | B8: entre | C8: 1.625 | D8: et | E8: 1.7916667 | I8: période de prise des congés | O8: .
A9: 1.4 | B9: > | C9: 1.7916667 | I9: du 01/05/N au 30/04/N+1
O10: Pour modifier le format des cellules, sélectionnez d’abord la zone de données, cliquez à droite sur votre souris, choisissez l’option "Format de cellules" ("Format Cells") et cliquez sur "Personnaliser" ("Custom"). Entrez ensuite le format [h]:mm et cliquez sur OK.
A12: 2010 | B12: Janvier | O12: .
A13: 2011 | B13: Février
A14: 2012 | B14: Mars
A15: 2013 | B15: Avril
A16: 2014 | B16: Mai
A17: 2015 | B17: Juin
A18: 2016 | B18: Juillet
A19: 2017 | B19: Août
A20: 2018 | B20: Septembre
A21: 2019 | B21: Octobre
A22: 2020 | B22: Novembre
A23: 2021 | B23: Décembre
A24: 2022
A25: 2023
A26: 2024
A27: 2025
A28: 2026
A29: 2027
A30: 2028
A31: 2029
A32: 2030
A33: 2031
A34: 2032
A35: 2033
A36: 2034
A37: 2035 | O37: .
A38: 2036
A39: 2037 | O39: Résultat? Vos données seront converties dans un format compréhensible par Excel. Vous obtiendrez donc un total de 40 heures, tel que l’on pourrait s’y attendre.
A40: 2038
A41: 2039 | O41: .
...

Sheet Exemple (2)
D1: TEMPS DE TRAVAIL | Q1: Impôts :
F2: 2 | J2: 2
B3: Jour | D3: Midi | F3: Cumul Midi | G3: Repas | H3: Soir | J3: Cumul Soir | K3: Repas | L3: Totaux | M3: Total Repas
D4: Début | E4: Fin | H4: Début | I4: Fin
B5: =DATE(J2+2014,F2,1) -> 42401 | F5: =$E5-$D5+IF($D5>$E5,1) -> 0 | G5: =IF($D5<>"",IF($D5<[1]Données!$B$2,1,0),0) -> 0 | J5: =$I5-$H5+IF($H5>$I5,1) -> 0 | K5: =IF($H5<>"",IF($H5<[1]Données!$B$3,1,0),0) -> 0 | L5: =$F5+$J5-($G5+$K5)*("00:30") -> 0 | M5: =$G5+$K5 -> 0 | O5: Numéro Fiscal :
B6: =B5+1 -> 42402 | F6: =$E6-$D6+IF($D6>$E6,1) -> 0 | G6: =IF($D6<>"",IF($D6<[1]Données!$B$2,1,0),0) -> 0 | J6: =$I6-$H6+IF($H6>$I6,1) -> 0 | K6: =IF($H6<>"",IF($H6<[1]Données!$B$3,1,0),0) -> 0 | L6: =$F6+$J6-($G6+$K6)*("00:30") -> 0 | M6: =$G6+$K6 -> 0 | O6: MDP:
B7: =B6+1 -> 42403 | F7: =$E7-$D7+IF($D7>$E7,1) -> 0 | G7: =IF($D7<>"",IF($D7<[1]Données!$B$2,1,0),0) -> 0 | J7: =$I7-$H7+IF($H7>$I7,1) -> 0 | K7: =IF($H7<>"",IF($H7<[1]Données!$B$3,1,0),0) -> 0 | L7: =$F7+$J7-($G7+$K7)*("00:30") -> 0 | M7: =$G7+$K7 -> 0
B8: =B7+1 -> 42404 | F8: =$E8-$D8+IF($D8>$E8,1) -> 0 | G8: =IF($D8<>"",IF($D8<[1]Données!$B$2,1,0),0) -> 0 | J8: =$I8-$H8+IF($H8>$I8,1) -> 0 | K8: =IF($H8<>"",IF($H8<[1]Données!$B$3,1,0),0) -> 0 | L8: =$F8+$J8-($G8+$K8)*("00:30") -> 0 | M8: =$G8+$K8 -> 0 | O8: Adresse domicile:
B9: =B8+1 -> 42405 | F9: =$E9-$D9+IF($D9>$E9,1) -> 0 | G9: =IF($D9<>"",IF($D9<[1]Données!$B$2,1,0),0) -> 0 | J9: =$I9-$H9+IF($H9>$I9,1) -> 0 | K9: =IF($H9<>"",IF($H9<[1]Données!$B$3,1,0),0) -> 0 | L9: =$F9+$J9-($G9+$K9)*("00:30") -> 0 | M9: =$G9+$K9 -> 0
B10: =B9+1 -> 42406 | F10: =$E10-$D10+IF($D10>$E10,1) -> 0 | G10: =IF($D10<>"",IF($D10<[1]Données!$B$2,1,0),0) -> 0 | J10: =$I10-$H10+IF($H10>$I10,1) -> 0 | K10: =IF($H10<>"",IF($H10<[1]Données!$B$3,1,0),0) -> 0 | L10: =$F10+$J10-($G10+$K10)*("00:30") -> 0 | M10: =$G10+$K10 -> 0
B11: =B10+1 -> 42407 | F11: =$E11-$D11+IF($D11>$E11,1) -> 0 | G11: =IF($D11<>"",IF($D11<[1]Données!$B$2,1,0),0) -> 0 | J11: =$I11-$H11+IF($H11>$I11,1) -> 0 | K11: =IF($H11<>"",IF($H11<[1]Données!$B$3,1,0),0) -> 0 | L11: =$F11+$J11-($G11+$K11)*("00:30") -> 0 | M11: =$G11+$K11 -> 0
B12: Total Semaine | F12: =SUM($F5:$F11) -> 0 | G12: =G5+G6+G7+G8+G9+G10+G11 -> 0 | J12: =SUM(J5:J11) -> 0 | K12: =K5+K6+K7+K8+K9+K10+K11 -> 0 | L12: =SUM(L5:L11) -> 0 | M12: =SUM(M5:M11) -> 0 | O12: Adresse lieu de travail:
B13: =B11+1 -> 42408 | F13: =$E13-$D13+IF($D13>$E13,1) -> 0 | G13: =IF($D13<>"",IF($D13<[1]Données!$B$2,1,0),0) -> 0 | J13: =$I13-$H13+IF($H13>$I13,1) -> 0 | K13: =IF($H13<>"",IF($H13<[1]Données!$B$3,1,0),0) -> 0 | L13: =$F13+$J13-($G13+$K13)*("00:30") -> 0 | M13: =$G13+$K13 -> 0
B14: =B13+1 -> 42409 | F14: =$E14-$D14+IF($D14>$E14,1) -> 0 | G14: =IF($D14<>"",IF($D14<[1]Données!$B$2,1,0),0) -> 0 | J14: =$I14-$H14+IF($H14>$I14,1) -> 0 | K14: =IF($H14<>"",IF($H14<[1]Données!$B$3,1,0),0) -> 0 | L14: =$F14+$J14-($G14+$K14)*("00:30") -> 0 | M14: =$G14+$K14 -> 0
B15: =B14+1 -> 42410 | F15: =$E15-$D15+IF($D15>$E15,1) -> 0 | G15: =IF($D15<>"",IF($D15<[1]Données!$B$2,1,0),0) -> 0 | J15: =$I15-$H15+IF($H15>$I15,1) -> 0 | K15: =IF($H15<>"",IF($H15<[1]Données!$B$3,1,0),0) -> 0 | L15: =$F15+$J15-($G15+$K15)*("00:30") -> 0 | M15: =$G15+$K15 -> 0 | O15: Distance ( Source Mappy) : | S15: 7,4 KM
B16: =B15+1 -> 42411 | F16: =$E16-$D16+IF($D16>$E16,1) -> 0 | G16: =IF($D16<>"",IF($D16<[1]Données!$B$2,1,0),0) -> 0 | J16: =$I16-$H16+IF($H16>$I16,1) -> 0 | K16: =IF($H16<>"",IF($H16<[1]Données!$B$3,1,0),0) -> 0 | L16: =$F16+$J16-($G16+$K16)*("00:30") -> 0 | M16: =$G16+$K16 -> 0
B17: =B16+1 -> 42412 | F17: =$E17-$D17+IF($D17>$E17,1) -> 0 | G17: =IF($D17<>"",IF($D17<[1]Données!$B$2,1,0),0) -> 0 | J17: =$I17-$H17+IF($H17>$I17,1) -> 0 | K17: =IF($H17<>"",IF($H17<[1]Données!$B$3,1,0),0) -> 0 | L17: =$F17+$J17-($G17+$K17)*("00:30") -> 0 | M17: =$G17+$K17 -> 0 | O17: Nombre Aller-Retour : | S17: =COUNT(E5:E11,I5:I11,E13:E19,I13:I19,E21:E27,I21:I27,E29:E35,I29:I35,E37:E43,I37:I43,E45:E51,I45:I51) -> 0
B18: =B17+1 -> 42413 | F18: =$E18-$D18+IF($D18>$E18,1) -> 0 | G18: =IF($D18<>"",IF($D18<[1]Données!$B$2,1,0),0) -> 0 | J18: =$I18-$H18+IF($H18>$I18,1) -> 0 | K18: =IF($H18<>"",IF($H18<[1]Données!$B$3,1,0),0) -> 0 | L18: =$F18+$J18-($G18+$K18)*("00:30") -> 0 | M18: =$G18+$K18 -> 0 | O18: Km Parcourue : | S18: =SUM(S17*14.8) -> 0 | T18: Km
B19: =B18+1 -> 42414 | F19: =$E19-$D19+IF($D19>$E19,1) -> 0 | G19: =IF($D19<>"",IF($D19<[1]Données!$B$2,1,0),0) -> 0 | J19: =$I19-$H19+IF($H19>$I19,1) -> 0 | K19: =IF($H19<>"",IF($H19<[1]Données!$B$3,1,0),0) -> 0 | L19: =$F19+$J19-($G19+$K19)*("00:30") -> 0 | M19: =$G19+$K19 -> 0 | O19: Horradateur Payé : | T19: Eu
B20: Total Semaine | F20: =SUM($F13:$F19) -> 0 | G20: =G13+G14+G15+G16+G17+G18+G19 -> 0 | J20: =SUM(J13:J19) -> 0 | K20: =K13+K14+K15+K16+K17+K18+K19 -> 0 | L20: =SUM(L13:L19) -> 0 | M20: =SUM(M13:M19) -> 0
B21: =B19+1 -> 42415 | F21: =$E21-$D21+IF($D21>$E21,1) -> 0 | G21: =IF($D21<>"",IF($D21<[1]Données!$B$2,1,0),0) -> 0 | J21: =$I21-$H21+IF($H21>$I21,1) -> 0 | K21: =IF($H21<>"",IF($H21<[1]Données!$B$3,1,0),0) -> 0 | L21: =$F21+$J21-($G21+$K21)*("00:30") -> 0 | M21: =$G21+$K21 -> 0
B22: =B21+1 -> 42416 | F22: =$E22-$D22+IF($D22>$E22,1) -> 0 | G22: =IF($D22<>"",IF($D22<[1]Données!$B$2,1,0),0) -> 0 | J22: =$I22-$H22+IF($H22>$I22,1) -> 0 | K22: =IF($H22<>"",IF($H22<[1]Données!$B$3,1,0),0) -> 0 | L22: =$F22+$J22-($G22+$K22)*("00:30") -> 0 | M22: =$G22+$K22 -> 0
B23: =B22+1 -> 42417 | F23: =$E23-$D23+IF($D23>$E23,1) -> 0 | G23: =IF($D23<>"",IF($D23<[1]Données!$B$2,1,0),0) -> 0 | J23: =$I23-$H23+IF($H23>$I23,1) -> 0 | K23: =IF($H23<>"",IF($H23<[1]Données!$B$3,1,0),0) -> 0 | L23: =$F23+$J23-($G23+$K23)*("00:30") -> 0 | M23: =$G23+$K23 -> 0
B24: =B23+1 -> 42418 | F24: =$E24-$D24+IF($D24>$E24,1) -> 0 | G24: =IF($D24<>"",IF($D24<[1]Données!$B$2,1,0),0) -> 0 | J24: =$I24-$H24+IF($H24>$I24,1) -> 0 | K24: =IF($H24<>"",IF($H24<[1]Données!$B$3,1,0),0) -> 0 | L24: =$F24+$J24-($G24+$K24)*("00:30") -> 0 | M24: =$G24+$K24 -> 0
B25: =B24+1 -> 42419 | F25: =$E25-$D25+IF($D25>$E25,1) -> 0 | G25: =IF($D25<>"",IF($D25<[1]Données!$B$2,1,0),0) -> 0 | J25: =$I25-$H25+IF($H25>$I25,1) -> 0 | K25: =IF($H25<>"",IF($H25<[1]Données!$B$3,1,0),0) -> 0 | L25: =$F25+$J25-($G25+$K25)*("00:30") -> 0 | M25: =$G25+$K25 -> 0
B26: =B25+1 -> 42420 | F26: =$E26-$D26+IF($D26>$E26,1) -> 0 | G26: =IF($D26<>"",IF($D26<[1]Données!$B$2,1,0),0) -> 0 | J26: =$I26-$H26+IF($H26>$I26,1) -> 0 | K26: =IF($H26<>"",IF($H26<[1]Données!$B$3,1,0),0) -> 0 | L26: =$F26+$J26-($G26+$K26)*("00:30") -> 0 | M26: =$G26+$K26 -> 0
B27: =B26+1 -> 42421 | F27: =$E27-$D27+IF($D27>$E27,1) -> 0 | G27: =IF($D27<>"",IF($D27<[1]Données!$B$2,1,0),0) -> 0 | J27: =$I27-$H27+IF($H27>$I27,1) -> 0 | K27: =IF($H27<>"",IF($H27<[1]Données!$B$3,1,0),0) -> 0 | L27: =$F27+$J27-($G27+$K27)*("00:30") -> 0 | M27: =$G27+$K27 -> 0
B28: Total Semaine | F28: =SUM($F21:$F27) -> 0 | G28: =G21+G22+G23+G24+G25+G26+G27 -> 0 | J28: =SUM(J21:J27) -> 0 | K28: =K21+K22+K23+K24+K25+K26+K27 -> 0 | L28: =SUM(L21:L27) -> 0 | M28: =SUM(M21:M27) -> 0
B29: =B27+1 -> 42422 | F29: =$E29-$D29+IF($D29>$E29,1) -> 0 | G29: =IF($D29<>"",IF($D29<[1]Données!$B$2,1,0),0) -> 0 | J29: =$I29-$H29+IF($H29>$I29,1) -> 0 | K29: =IF($H29<>"",IF($H29<[1]Données!$B$3,1,0),0) -> 0 | L29: =$F29+$J29-($G29+$K29)*("00:30") -> 0 | M29: =$G29+$K29 -> 0
B30: =B29+1 -> 42423 | F30: =$E30-$D30+IF($D30>$E30,1) -> 0 | G30: =IF($D30<>"",IF($D30<[1]Données!$B$2,1,0),0) -> 0 | J30: =$I30-$H30+IF($H30>$I30,1) -> 0 | K30: =IF($H30<>"",IF($H30<[1]Données!$B$3,1,0),0) -> 0 | L30: =$F30+$J30-($G30+$K30)*("00:30") -> 0 | M30: =$G30+$K30 -> 0
B31: =B30+1 -> 42424 | F31: =$E31-$D31+IF($D31>$E31,1) -> 0 | G31: =IF($D31<>"",IF($D31<[1]Données!$B$2,1,0),0) -> 0 | J31: =$I31-$H31+IF($H31>$I31,1) -> 0 | K31: =IF($H31<>"",IF($H31<[1]Données!$B$3,1,0),0) -> 0 | L31: =$F31+$J31-($G31+$K31)*("00:30") -> 0 | M31: =$G31+$K31 -> 0
B32: =B31+1 -> 42425 | F32: =$E32-$D32+IF($D32>$E32,1) -> 0 | G32: =IF($D32<>"",IF($D32<[1]Données!$B$2,1,0),0) -> 0 | J32: =$I32-$H32+IF($H32>$I32,1) -> 0 | K32: =IF($H32<>"",IF($H32<[1]Données!$B$3,1,0),0) -> 0 | L32: =$F32+$J32-($G32+$K32)*("00:30") -> 0 | M32: =$G32+$K32 -> 0
B33: =B32+1 -> 42426 | F33: =$E33-$D33+IF($D33>$E33,1) -> 0 | G33: =IF($D33<>"",IF($D33<[1]Données!$B$2,1,0),0) -> 0 | J33: =$I33-$H33+IF($H33>$I33,1) -> 0 | K33: =IF($H33<>"",IF($H33<[1]Données!$B$3,1,0),0) -> 0 | L33: =$F33+$J33-($G33+$K33)*("00:30") -> 0 | M33: =$G33+$K33 -> 0
B34: =B33+1 -> 42427 | F34: =$E34-$D34+IF($D34>$E34,1) -> 0 | G34: =IF($D34<>"",IF($D34<[1]Données!$B$2,1,0),0) -> 0 | J34: =$I34-$H34+IF($H34>$I34,1) -> 0 | K34: =IF($H34<>"",IF($H34<[1]Données!$B$3,1,0),0) -> 0 | L34: =$F34+$J34-($G34+$K34)*("00:30") -> 0 | M34: =$G34+$K34 -> 0
B35: =B34+1 -> 42428 | F35: =$E35-$D35+IF($D35>$E35,1) -> 0 | G35: =IF($D35<>"",IF($D35<[1]Données!$B$2,1,0),0) -> 0 | J35: =$I35-$H35+IF($H35>$I35,1) -> 0 | K35: =IF($H35<>"",IF($H35<[1]Données!$B$3,1,0),0) -> 0 | L35: =$F35+$J35-($G35+$K35)*("00:30") -> 0 | M35: =$G35+$K35 -> 0
B36: Total Semaine | F36: =SUM($F29:$F35) -> 0 | G36: =G29+G30+G31+G32+G33+G34+G35 -> 0 | J36: =SUM(J29:J35) -> 0 | K36: =K29+K30+K31+K32+K33+K34+K35 -> 0 | L36: =SUM(L29:L35) -> 0 | M36: =SUM(M29:M35) -> 0
B37: =B35+1 -> 42429 | F37: =$E37-$D37+IF($D37>$E37,1) -> 0 | G37: =IF($D37<>"",IF($D37<[1]Données!$B$2,1,0),0) -> 0 | J37: =$I37-$H37+IF($H37>$I37,1) -> 0 | K37: =IF($H37<>"",IF($H37<[1]Données!$B$3,1,0),0) -> 0 | L37: =$F37+$J37-($G37+$K37)*("00:30") -> 0 | M37: =$G37+$K37 -> 0
B38: =B37+1 -> 42430 | F38: =$E38-$D38+IF($D38>$E38,1) -> 0 | G38: =IF($D38<>"",IF($D38<[1]Données!$B$2,1,0),0) -> 0 | J38: =$I38-$H38+IF($H38>$I38,1) -> 0 | K38: =IF($H38<>"",IF($H38<[1]Données!$B$3,1,0),0) -> 0 | L38: =$F38+$J38-($G38+$K38)*("00:30") -> 0 | M38: =$G38+$K38 -> 0
B39: =B38+1 -> 42431 | F39: =$E39-$D39+IF($D39>$E39,1) -> 0 | G39: =IF($D39<>"",IF($D39<[1]Données!$B$2,1,0),0) -> 0 | J39: =$I39-$H39+IF($H39>$I39,1) -> 0 | K39: =IF($H39<>"",IF($H39<[1]Données!$B$3,1,0),0) -> 0 | L39: =$F39+$J39-($G39+$K39)*("00:30") -> 0 | M39: =$G39+$K39 -> 0
B40: =B39+1 -> 42432 | F40: =$E40-$D40+IF($D40>$E40,1) -> 0 | G40: =IF($D40<>"",IF($D40<[1]Données!$B$2,1,0),0) -> 0 | J40: =$I40-$H40+IF($H40>$I40,1) -> 0 | K40: =IF($H40<>"",IF($H40<[1]Données!$B$3,1,0),0) -> 0 | L40: =$F40+$J40-($G40+$K40)*("00:30") -> 0 | M40: =$G40+$K40 -> 0
...
