Workbook
Name FERIES: feries!$A$2:$B$17
Name HEURES: feries!$A$39:$A$39
Name mois: 'Relevé d''heures'!$A$6:$AJ$6

Sheet Relevé d'heures
A1: ="TABLEAU RA "&feries!B1 -> TABLEAU RA 2017
A3: NOM : | E3: PRENOM : | J3: PROJET
A5: 42736 | B5: 42736 | C5: 42736 | D5: 42767 | E5: 42767 | F5: 42767 | G5: 42795 | H5: 42796 | I5: 42797 | J5: 42826 | K5: 42827 | L5: 42828 | M5: 42856 | N5: 42857 | O5: 42858 | P5: 42887 | Q5: 42888 | R5: 42889 | S5: 42917 | T5: 42918 | U5: 42919 | V5: 42948 | W5: 42949 | X5: 42950 | Y5: 42979 | Z5: 42980 | AA5: 42981 | AB5: 43009 | AC5: 43010 | AD5: 43011 | AE5: 43040 | AF5: 43041 | AG5: 43042 | AH5: 43070 | AI5: 43071 | AJ5: 43072
A6: =DATE(feries!$B$1,1,1) -> 42736 | D6: =DATE(feries!$B$1,2,1) -> 42767 | G6: =DATE(feries!$B$1,3,1) -> 42795 | J6: =DATE(feries!$B$1,4,1) -> 42826 | M6: =DATE(feries!$B$1,5,1) -> 42856 | P6: =DATE(feries!$B$1,6,1) -> 42887 | S6: =DATE(feries!$B$1,7,1) -> 42917 | V6: =DATE(feries!$B$1,8,1) -> 42948 | Y6: =DATE(feries!$B$1,9,1) -> 42979 | AB6: =DATE(feries!$B$1,10,1) -> 43009 | AE6: =DATE(feries!$B$1,11,1) -> 43040 | AH6: =DATE(feries!$B$1,12,1) -> 43070
A7: =A6 -> 42736 | D7: =D6 -> 42767 | G7: =G6 -> 42795 | J7: =J6 -> 42826 | M7: =M6 -> 42856 | O7: F | P7: =P6 -> 42887 | S7: =S6 -> 42917 | V7: =V6 -> 42948 | Y7: =Y6 -> 42979 | AB7: =AB6 -> 43009 | AE7: =AE6 -> 43040 | AG7: F | AH7: =AH6 -> 43070
A8: =IF(A7="","",IF(MONTH(A7+1)=MONTH(A7),A7+1,"")) -> 42737 | D8: =IF(D7="","",IF(MONTH(D7+1)=MONTH(D7),D7+1,"")) -> 42768 | G8: =IF(G7="","",IF(MONTH(G7+1)=MONTH(G7),G7+1,"")) -> 42796 | J8: =IF(J7="","",IF(MONTH(J7+1)=MONTH(J7),J7+1,"")) -> 42827 | M8: =IF(M7="","",IF(MONTH(M7+1)=MONTH(M7),M7+1,"")) -> 42857 | P8: =IF(P7="","",IF(MONTH(P7+1)=MONTH(P7),P7+1,"")) -> 42888 | S8: =IF(S7="","",IF(MONTH(S7+1)=MONTH(S7),S7+1,"")) -> 42918 | V8: =IF(V7="","",IF(MONTH(V7+1)=MONTH(V7),V7+1,"")) -> 42949 | Y8: =IF(Y7="","",IF(MONTH(Y7+1)=MONTH(Y7),Y7+1,"")) -> 42980 | AB8: =IF(AB7="","",IF(MONTH(AB7+1)=MONTH(AB7),AB7+1,"")) -> 43010 | AE8: =IF(AE7="","",IF(MONTH(AE7+1)=MONTH(AE7),AE7+1,"")) -> 43041 | AH8: =IF(AH7="","",IF(MONTH(AH7+1)=MONTH(AH7),AH7+1,"")) -> 43071
A9: =IF(A8="","",IF(MONTH(A8+1)=MONTH(A8),A8+1,"")) -> 42738 | D9: =IF(D8="","",IF(MONTH(D8+1)=MONTH(D8),D8+1,"")) -> 42769 | G9: =IF(G8="","",IF(MONTH(G8+1)=MONTH(G8),G8+1,"")) -> 42797 | J9: =IF(J8="","",IF(MONTH(J8+1)=MONTH(J8),J8+1,"")) -> 42828 | M9: =IF(M8="","",IF(MONTH(M8+1)=MONTH(M8),M8+1,"")) -> 42858 | P9: =IF(P8="","",IF(MONTH(P8+1)=MONTH(P8),P8+1,"")) -> 42889 | S9: =IF(S8="","",IF(MONTH(S8+1)=MONTH(S8),S8+1,"")) -> 42919 | V9: =IF(V8="","",IF(MONTH(V8+1)=MONTH(V8),V8+1,"")) -> 42950 | Y9: =IF(Y8="","",IF(MONTH(Y8+1)=MONTH(Y8),Y8+1,"")) -> 42981 | AB9: =IF(AB8="","",IF(MONTH(AB8+1)=MONTH(AB8),AB8+1,"")) -> 43011 | AE9: =IF(AE8="","",IF(MONTH(AE8+1)=MONTH(AE8),AE8+1,"")) -> 43042 | AH9: =IF(AH8="","",IF(MONTH(AH8+1)=MONTH(AH8),AH8+1,"")) -> 43072
A10: =IF(A9="","",IF(MONTH(A9+1)=MONTH(A9),A9+1,"")) -> 42739 | D10: =IF(D9="","",IF(MONTH(D9+1)=MONTH(D9),D9+1,"")) -> 42770 | G10: =IF(G9="","",IF(MONTH(G9+1)=MONTH(G9),G9+1,"")) -> 42798 | J10: =IF(J9="","",IF(MONTH(J9+1)=MONTH(J9),J9+1,"")) -> 42829 | M10: =IF(M9="","",IF(MONTH(M9+1)=MONTH(M9),M9+1,"")) -> 42859 | P10: =IF(P9="","",IF(MONTH(P9+1)=MONTH(P9),P9+1,"")) -> 42890 | S10: =IF(S9="","",IF(MONTH(S9+1)=MONTH(S9),S9+1,"")) -> 42920 | V10: =IF(V9="","",IF(MONTH(V9+1)=MONTH(V9),V9+1,"")) -> 42951 | Y10: =IF(Y9="","",IF(MONTH(Y9+1)=MONTH(Y9),Y9+1,"")) -> 42982 | AB10: =IF(AB9="","",IF(MONTH(AB9+1)=MONTH(AB9),AB9+1,"")) -> 43012 | AE10: =IF(AE9="","",IF(MONTH(AE9+1)=MONTH(AE9),AE9+1,"")) -> 43043 | AH10: =IF(AH9="","",IF(MONTH(AH9+1)=MONTH(AH9),AH9+1,"")) -> 43073
A11: =IF(A10="","",IF(MONTH(A10+1)=MONTH(A10),A10+1,"")) -> 42740 | D11: =IF(D10="","",IF(MONTH(D10+1)=MONTH(D10),D10+1,"")) -> 42771 | G11: =IF(G10="","",IF(MONTH(G10+1)=MONTH(G10),G10+1,"")) -> 42799 | J11: =IF(J10="","",IF(MONTH(J10+1)=MONTH(J10),J10+1,"")) -> 42830 | M11: =IF(M10="","",IF(MONTH(M10+1)=MONTH(M10),M10+1,"")) -> 42860 | P11: =IF(P10="","",IF(MONTH(P10+1)=MONTH(P10),P10+1,"")) -> 42891 | S11: =IF(S10="","",IF(MONTH(S10+1)=MONTH(S10),S10+1,"")) -> 42921 | V11: =IF(V10="","",IF(MONTH(V10+1)=MONTH(V10),V10+1,"")) -> 42952 | Y11: =IF(Y10="","",IF(MONTH(Y10+1)=MONTH(Y10),Y10+1,"")) -> 42983 | AB11: =IF(AB10="","",IF(MONTH(AB10+1)=MONTH(AB10),AB10+1,"")) -> 43013 | AE11: =IF(AE10="","",IF(MONTH(AE10+1)=MONTH(AE10),AE10+1,"")) -> 43044 | AH11: =IF(AH10="","",IF(MONTH(AH10+1)=MONTH(AH10),AH10+1,"")) -> 43074
A12: =IF(A11="","",IF(MONTH(A11+1)=MONTH(A11),A11+1,"")) -> 42741 | D12: =IF(D11="","",IF(MONTH(D11+1)=MONTH(D11),D11+1,"")) -> 42772 | G12: =IF(G11="","",IF(MONTH(G11+1)=MONTH(G11),G11+1,"")) -> 42800 | J12: =IF(J11="","",IF(MONTH(J11+1)=MONTH(J11),J11+1,"")) -> 42831 | M12: =IF(M11="","",IF(MONTH(M11+1)=MONTH(M11),M11+1,"")) -> 42861 | P12: =IF(P11="","",IF(MONTH(P11+1)=MONTH(P11),P11+1,"")) -> 42892 | S12: =IF(S11="","",IF(MONTH(S11+1)=MONTH(S11),S11+1,"")) -> 42922 | V12: =IF(V11="","",IF(MONTH(V11+1)=MONTH(V11),V11+1,"")) -> 42953 | Y12: =IF(Y11="","",IF(MONTH(Y11+1)=MONTH(Y11),Y11+1,"")) -> 42984 | AB12: =IF(AB11="","",IF(MONTH(AB11+1)=MONTH(AB11),AB11+1,"")) -> 43014 | AE12: =IF(AE11="","",IF(MONTH(AE11+1)=MONTH(AE11),AE11+1,"")) -> 43045 | AH12: =IF(AH11="","",IF(MONTH(AH11+1)=MONTH(AH11),AH11+1,"")) -> 43075
A13: =IF(A12="","",IF(MONTH(A12+1)=MONTH(A12),A12+1,"")) -> 42742 | D13: =IF(D12="","",IF(MONTH(D12+1)=MONTH(D12),D12+1,"")) -> 42773 | G13: =IF(G12="","",IF(MONTH(G12+1)=MONTH(G12),G12+1,"")) -> 42801 | J13: =IF(J12="","",IF(MONTH(J12+1)=MONTH(J12),J12+1,"")) -> 42832 | M13: =IF(M12="","",IF(MONTH(M12+1)=MONTH(M12),M12+1,"")) -> 42862 | P13: =IF(P12="","",IF(MONTH(P12+1)=MONTH(P12),P12+1,"")) -> 42893 | S13: =IF(S12="","",IF(MONTH(S12+1)=MONTH(S12),S12+1,"")) -> 42923 | V13: =IF(V12="","",IF(MONTH(V12+1)=MONTH(V12),V12+1,"")) -> 42954 | Y13: =IF(Y12="","",IF(MONTH(Y12+1)=MONTH(Y12),Y12+1,"")) -> 42985 | AB13: =IF(AB12="","",IF(MONTH(AB12+1)=MONTH(AB12),AB12+1,"")) -> 43015 | AE13: =IF(AE12="","",IF(MONTH(AE12+1)=MONTH(AE12),AE12+1,"")) -> 43046 | AH13: =IF(AH12="","",IF(MONTH(AH12+1)=MONTH(AH12),AH12+1,"")) -> 43076
A14: =IF(A13="","",IF(MONTH(A13+1)=MONTH(A13),A13+1,"")) -> 42743 | D14: =IF(D13="","",IF(MONTH(D13+1)=MONTH(D13),D13+1,"")) -> 42774 | G14: =IF(G13="","",IF(MONTH(G13+1)=MONTH(G13),G13+1,"")) -> 42802 | J14: =IF(J13="","",IF(MONTH(J13+1)=MONTH(J13),J13+1,"")) -> 42833 | M14: =IF(M13="","",IF(MONTH(M13+1)=MONTH(M13),M13+1,"")) -> 42863 | O14: F | P14: =IF(P13="","",IF(MONTH(P13+1)=MONTH(P13),P13+1,"")) -> 42894 | S14: =IF(S13="","",IF(MONTH(S13+1)=MONTH(S13),S13+1,"")) -> 42924 | V14: =IF(V13="","",IF(MONTH(V13+1)=MONTH(V13),V13+1,"")) -> 42955 | Y14: =IF(Y13="","",IF(MONTH(Y13+1)=MONTH(Y13),Y13+1,"")) -> 42986 | AB14: =IF(AB13="","",IF(MONTH(AB13+1)=MONTH(AB13),AB13+1,"")) -> 43016 | AE14: =IF(AE13="","",IF(MONTH(AE13+1)=MONTH(AE13),AE13+1,"")) -> 43047 | AH14: =IF(AH13="","",IF(MONTH(AH13+1)=MONTH(AH13),AH13+1,"")) -> 43077
A15: =IF(A14="","",IF(MONTH(A14+1)=MONTH(A14),A14+1,"")) -> 42744 | D15: =IF(D14="","",IF(MONTH(D14+1)=MONTH(D14),D14+1,"")) -> 42775 | G15: =IF(G14="","",IF(MONTH(G14+1)=MONTH(G14),G14+1,"")) -> 42803 | J15: =IF(J14="","",IF(MONTH(J14+1)=MONTH(J14),J14+1,"")) -> 42834 | M15: =IF(M14="","",IF(MONTH(M14+1)=MONTH(M14),M14+1,"")) -> 42864 | P15: =IF(P14="","",IF(MONTH(P14+1)=MONTH(P14),P14+1,"")) -> 42895 | S15: =IF(S14="","",IF(MONTH(S14+1)=MONTH(S14),S14+1,"")) -> 42925 | V15: =IF(V14="","",IF(MONTH(V14+1)=MONTH(V14),V14+1,"")) -> 42956 | Y15: =IF(Y14="","",IF(MONTH(Y14+1)=MONTH(Y14),Y14+1,"")) -> 42987 | AB15: =IF(AB14="","",IF(MONTH(AB14+1)=MONTH(AB14),AB14+1,"")) -> 43017 | AE15: =IF(AE14="","",IF(MONTH(AE14+1)=MONTH(AE14),AE14+1,"")) -> 43048 | AH15: =IF(AH14="","",IF(MONTH(AH14+1)=MONTH(AH14),AH14+1,"")) -> 43078
A16: =IF(A15="","",IF(MONTH(A15+1)=MONTH(A15),A15+1,"")) -> 42745 | D16: =IF(D15="","",IF(MONTH(D15+1)=MONTH(D15),D15+1,"")) -> 42776 | G16: =IF(G15="","",IF(MONTH(G15+1)=MONTH(G15),G15+1,"")) -> 42804 | J16: =IF(J15="","",IF(MONTH(J15+1)=MONTH(J15),J15+1,"")) -> 42835 | M16: =IF(M15="","",IF(MONTH(M15+1)=MONTH(M15),M15+1,"")) -> 42865 | P16: =IF(P15="","",IF(MONTH(P15+1)=MONTH(P15),P15+1,"")) -> 42896 | S16: =IF(S15="","",IF(MONTH(S15+1)=MONTH(S15),S15+1,"")) -> 42926 | V16: =IF(V15="","",IF(MONTH(V15+1)=MONTH(V15),V15+1,"")) -> 42957 | Y16: =IF(Y15="","",IF(MONTH(Y15+1)=MONTH(Y15),Y15+1,"")) -> 42988 | AB16: =IF(AB15="","",IF(MONTH(AB15+1)=MONTH(AB15),AB15+1,"")) -> 43018 | AE16: =IF(AE15="","",IF(MONTH(AE15+1)=MONTH(AE15),AE15+1,"")) -> 43049 | AH16: =IF(AH15="","",IF(MONTH(AH15+1)=MONTH(AH15),AH15+1,"")) -> 43079
A17: =IF(A16="","",IF(MONTH(A16+1)=MONTH(A16),A16+1,"")) -> 42746 | D17: =IF(D16="","",IF(MONTH(D16+1)=MONTH(D16),D16+1,"")) -> 42777 | G17: =IF(G16="","",IF(MONTH(G16+1)=MONTH(G16),G16+1,"")) -> 42805 | J17: =IF(J16="","",IF(MONTH(J16+1)=MONTH(J16),J16+1,"")) -> 42836 | M17: =IF(M16="","",IF(MONTH(M16+1)=MONTH(M16),M16+1,"")) -> 42866 | P17: =IF(P16="","",IF(MONTH(P16+1)=MONTH(P16),P16+1,"")) -> 42897 | S17: =IF(S16="","",IF(MONTH(S16+1)=MONTH(S16),S16+1,"")) -> 42927 | V17: =IF(V16="","",IF(MONTH(V16+1)=MONTH(V16),V16+1,"")) -> 42958 | Y17: =IF(Y16="","",IF(MONTH(Y16+1)=MONTH(Y16),Y16+1,"")) -> 42989 | AB17: =IF(AB16="","",IF(MONTH(AB16+1)=MONTH(AB16),AB16+1,"")) -> 43019 | AE17: =IF(AE16="","",IF(MONTH(AE16+1)=MONTH(AE16),AE16+1,"")) -> 43050 | AH17: =IF(AH16="","",IF(MONTH(AH16+1)=MONTH(AH16),AH16+1,"")) -> 43080
A18: =IF(A17="","",IF(MONTH(A17+1)=MONTH(A17),A17+1,"")) -> 42747 | D18: =IF(D17="","",IF(MONTH(D17+1)=MONTH(D17),D17+1,"")) -> 42778 | G18: =IF(G17="","",IF(MONTH(G17+1)=MONTH(G17),G17+1,"")) -> 42806 | J18: =IF(J17="","",IF(MONTH(J17+1)=MONTH(J17),J17+1,"")) -> 42837 | M18: =IF(M17="","",IF(MONTH(M17+1)=MONTH(M17),M17+1,"")) -> 42867 | P18: =IF(P17="","",IF(MONTH(P17+1)=MONTH(P17),P17+1,"")) -> 42898 | S18: =IF(S17="","",IF(MONTH(S17+1)=MONTH(S17),S17+1,"")) -> 42928 | V18: =IF(V17="","",IF(MONTH(V17+1)=MONTH(V17),V17+1,"")) -> 42959 | Y18: =IF(Y17="","",IF(MONTH(Y17+1)=MONTH(Y17),Y17+1,"")) -> 42990 | AB18: =IF(AB17="","",IF(MONTH(AB17+1)=MONTH(AB17),AB17+1,"")) -> 43020 | AE18: =IF(AE17="","",IF(MONTH(AE17+1)=MONTH(AE17),AE17+1,"")) -> 43051 | AH18: =IF(AH17="","",IF(MONTH(AH17+1)=MONTH(AH17),AH17+1,"")) -> 43081
A19: =IF(A18="","",IF(MONTH(A18+1)=MONTH(A18),A18+1,"")) -> 42748 | D19: =IF(D18="","",IF(MONTH(D18+1)=MONTH(D18),D18+1,"")) -> 42779 | G19: =IF(G18="","",IF(MONTH(G18+1)=MONTH(G18),G18+1,"")) -> 42807 | J19: =IF(J18="","",IF(MONTH(J18+1)=MONTH(J18),J18+1,"")) -> 42838 | M19: =IF(M18="","",IF(MONTH(M18+1)=MONTH(M18),M18+1,"")) -> 42868 | P19: =IF(P18="","",IF(MONTH(P18+1)=MONTH(P18),P18+1,"")) -> 42899 | S19: =IF(S18="","",IF(MONTH(S18+1)=MONTH(S18),S18+1,"")) -> 42929 | V19: =IF(V18="","",IF(MONTH(V18+1)=MONTH(V18),V18+1,"")) -> 42960 | Y19: =IF(Y18="","",IF(MONTH(Y18+1)=MONTH(Y18),Y18+1,"")) -> 42991 | AB19: =IF(AB18="","",IF(MONTH(AB18+1)=MONTH(AB18),AB18+1,"")) -> 43021 | AE19: =IF(AE18="","",IF(MONTH(AE18+1)=MONTH(AE18),AE18+1,"")) -> 43052 | AH19: =IF(AH18="","",IF(MONTH(AH18+1)=MONTH(AH18),AH18+1,"")) -> 43082
A20: =IF(A19="","",IF(MONTH(A19+1)=MONTH(A19),A19+1,"")) -> 42749 | D20: =IF(D19="","",IF(MONTH(D19+1)=MONTH(D19),D19+1,"")) -> 42780 | G20: =IF(G19="","",IF(MONTH(G19+1)=MONTH(G19),G19+1,"")) -> 42808 | J20: =IF(J19="","",IF(MONTH(J19+1)=MONTH(J19),J19+1,"")) -> 42839 | M20: =IF(M19="","",IF(MONTH(M19+1)=MONTH(M19),M19+1,"")) -> 42869 | P20: =IF(P19="","",IF(MONTH(P19+1)=MONTH(P19),P19+1,"")) -> 42900 | S20: =IF(S19="","",IF(MONTH(S19+1)=MONTH(S19),S19+1,"")) -> 42930 | U20: F | V20: =IF(V19="","",IF(MONTH(V19+1)=MONTH(V19),V19+1,"")) -> 42961 | Y20: =IF(Y19="","",IF(MONTH(Y19+1)=MONTH(Y19),Y19+1,"")) -> 42992 | AB20: =IF(AB19="","",IF(MONTH(AB19+1)=MONTH(AB19),AB19+1,"")) -> 43022 | AE20: =IF(AE19="","",IF(MONTH(AE19+1)=MONTH(AE19),AE19+1,"")) -> 43053 | AH20: =IF(AH19="","",IF(MONTH(AH19+1)=MONTH(AH19),AH19+1,"")) -> 43083
A21: =IF(A20="","",IF(MONTH(A20+1)=MONTH(A20),A20+1,"")) -> 42750 | D21: =IF(D20="","",IF(MONTH(D20+1)=MONTH(D20),D20+1,"")) -> 42781 | G21: =IF(G20="","",IF(MONTH(G20+1)=MONTH(G20),G20+1,"")) -> 42809 | J21: =IF(J20="","",IF(MONTH(J20+1)=MONTH(J20),J20+1,"")) -> 42840 | M21: =IF(M20="","",IF(MONTH(M20+1)=MONTH(M20),M20+1,"")) -> 42870 | P21: =IF(P20="","",IF(MONTH(P20+1)=MONTH(P20),P20+1,"")) -> 42901 | S21: =IF(S20="","",IF(MONTH(S20+1)=MONTH(S20),S20+1,"")) -> 42931 | V21: =IF(V20="","",IF(MONTH(V20+1)=MONTH(V20),V20+1,"")) -> 42962 | X21: F | Y21: =IF(Y20="","",IF(MONTH(Y20+1)=MONTH(Y20),Y20+1,"")) -> 42993 | AB21: =IF(AB20="","",IF(MONTH(AB20+1)=MONTH(AB20),AB20+1,"")) -> 43023 | AE21: =IF(AE20="","",IF(MONTH(AE20+1)=MONTH(AE20),AE20+1,"")) -> 43054 | AH21: =IF(AH20="","",IF(MONTH(AH20+1)=MONTH(AH20),AH20+1,"")) -> 43084
A22: =IF(A21="","",IF(MONTH(A21+1)=MONTH(A21),A21+1,"")) -> 42751 | D22: =IF(D21="","",IF(MONTH(D21+1)=MONTH(D21),D21+1,"")) -> 42782 | G22: =IF(G21="","",IF(MONTH(G21+1)=MONTH(G21),G21+1,"")) -> 42810 | J22: =IF(J21="","",IF(MONTH(J21+1)=MONTH(J21),J21+1,"")) -> 42841 | M22: =IF(M21="","",IF(MONTH(M21+1)=MONTH(M21),M21+1,"")) -> 42871 | P22: =IF(P21="","",IF(MONTH(P21+1)=MONTH(P21),P21+1,"")) -> 42902 | S22: =IF(S21="","",IF(MONTH(S21+1)=MONTH(S21),S21+1,"")) -> 42932 | V22: =IF(V21="","",IF(MONTH(V21+1)=MONTH(V21),V21+1,"")) -> 42963 | Y22: =IF(Y21="","",IF(MONTH(Y21+1)=MONTH(Y21),Y21+1,"")) -> 42994 | AB22: =IF(AB21="","",IF(MONTH(AB21+1)=MONTH(AB21),AB21+1,"")) -> 43024 | AE22: =IF(AE21="","",IF(MONTH(AE21+1)=MONTH(AE21),AE21+1,"")) -> 43055 | AH22: =IF(AH21="","",IF(MONTH(AH21+1)=MONTH(AH21),AH21+1,"")) -> 43085
A23: =IF(A22="","",IF(MONTH(A22+1)=MONTH(A22),A22+1,"")) -> 42752 | D23: =IF(D22="","",IF(MONTH(D22+1)=MONTH(D22),D22+1,"")) -> 42783 | G23: =IF(G22="","",IF(MONTH(G22+1)=MONTH(G22),G22+1,"")) -> 42811 | J23: =IF(J22="","",IF(MONTH(J22+1)=MONTH(J22),J22+1,"")) -> 42842 | L23: F | M23: =IF(M22="","",IF(MONTH(M22+1)=MONTH(M22),M22+1,"")) -> 42872 | P23: =IF(P22="","",IF(MONTH(P22+1)=MONTH(P22),P22+1,"")) -> 42903 | S23: =IF(S22="","",IF(MONTH(S22+1)=MONTH(S22),S22+1,"")) -> 42933 | V23: =IF(V22="","",IF(MONTH(V22+1)=MONTH(V22),V22+1,"")) -> 42964 | Y23: =IF(Y22="","",IF(MONTH(Y22+1)=MONTH(Y22),Y22+1,"")) -> 42995 | AB23: =IF(AB22="","",IF(MONTH(AB22+1)=MONTH(AB22),AB22+1,"")) -> 43025 | AE23: =IF(AE22="","",IF(MONTH(AE22+1)=MONTH(AE22),AE22+1,"")) -> 43056 | AH23: =IF(AH22="","",IF(MONTH(AH22+1)=MONTH(AH22),AH22+1,"")) -> 43086
A24: =IF(A23="","",IF(MONTH(A23+1)=MONTH(A23),A23+1,"")) -> 42753 | D24: =IF(D23="","",IF(MONTH(D23+1)=MONTH(D23),D23+1,"")) -> 42784 | G24: =IF(G23="","",IF(MONTH(G23+1)=MONTH(G23),G23+1,"")) -> 42812 | J24: =IF(J23="","",IF(MONTH(J23+1)=MONTH(J23),J23+1,"")) -> 42843 | M24: =IF(M23="","",IF(MONTH(M23+1)=MONTH(M23),M23+1,"")) -> 42873 | P24: =IF(P23="","",IF(MONTH(P23+1)=MONTH(P23),P23+1,"")) -> 42904 | S24: =IF(S23="","",IF(MONTH(S23+1)=MONTH(S23),S23+1,"")) -> 42934 | V24: =IF(V23="","",IF(MONTH(V23+1)=MONTH(V23),V23+1,"")) -> 42965 | Y24: =IF(Y23="","",IF(MONTH(Y23+1)=MONTH(Y23),Y23+1,"")) -> 42996 | AB24: =IF(AB23="","",IF(MONTH(AB23+1)=MONTH(AB23),AB23+1,"")) -> 43026 | AE24: =IF(AE23="","",IF(MONTH(AE23+1)=MONTH(AE23),AE23+1,"")) -> 43057 | AH24: =IF(AH23="","",IF(MONTH(AH23+1)=MONTH(AH23),AH23+1,"")) -> 43087
A25: =IF(A24="","",IF(MONTH(A24+1)=MONTH(A24),A24+1,"")) -> 42754 | D25: =IF(D24="","",IF(MONTH(D24+1)=MONTH(D24),D24+1,"")) -> 42785 | G25: =IF(G24="","",IF(MONTH(G24+1)=MONTH(G24),G24+1,"")) -> 42813 | J25: =IF(J24="","",IF(MONTH(J24+1)=MONTH(J24),J24+1,"")) -> 42844 | M25: =IF(M24="","",IF(MONTH(M24+1)=MONTH(M24),M24+1,"")) -> 42874 | P25: =IF(P24="","",IF(MONTH(P24+1)=MONTH(P24),P24+1,"")) -> 42905 | S25: =IF(S24="","",IF(MONTH(S24+1)=MONTH(S24),S24+1,"")) -> 42935 | V25: =IF(V24="","",IF(MONTH(V24+1)=MONTH(V24),V24+1,"")) -> 42966 | Y25: =IF(Y24="","",IF(MONTH(Y24+1)=MONTH(Y24),Y24+1,"")) -> 42997 | AB25: =IF(AB24="","",IF(MONTH(AB24+1)=MONTH(AB24),AB24+1,"")) -> 43027 | AE25: =IF(AE24="","",IF(MONTH(AE24+1)=MONTH(AE24),AE24+1,"")) -> 43058 | AH25: =IF(AH24="","",IF(MONTH(AH24+1)=MONTH(AH24),AH24+1,"")) -> 43088
A26: =IF(A25="","",IF(MONTH(A25+1)=MONTH(A25),A25+1,"")) -> 42755 | D26: =IF(D25="","",IF(MONTH(D25+1)=MONTH(D25),D25+1,"")) -> 42786 | G26: =IF(G25="","",IF(MONTH(G25+1)=MONTH(G25),G25+1,"")) -> 42814 | J26: =IF(J25="","",IF(MONTH(J25+1)=MONTH(J25),J25+1,"")) -> 42845 | M26: =IF(M25="","",IF(MONTH(M25+1)=MONTH(M25),M25+1,"")) -> 42875 | P26: =IF(P25="","",IF(MONTH(P25+1)=MONTH(P25),P25+1,"")) -> 42906 | S26: =IF(S25="","",IF(MONTH(S25+1)=MONTH(S25),S25+1,"")) -> 42936 | V26: =IF(V25="","",IF(MONTH(V25+1)=MONTH(V25),V25+1,"")) -> 42967 | Y26: =IF(Y25="","",IF(MONTH(Y25+1)=MONTH(Y25),Y25+1,"")) -> 42998 | AB26: =IF(AB25="","",IF(MONTH(AB25+1)=MONTH(AB25),AB25+1,"")) -> 43028 | AE26: =IF(AE25="","",IF(MONTH(AE25+1)=MONTH(AE25),AE25+1,"")) -> 43059 | AH26: =IF(AH25="","",IF(MONTH(AH25+1)=MONTH(AH25),AH25+1,"")) -> 43089
A27: =IF(A26="","",IF(MONTH(A26+1)=MONTH(A26),A26+1,"")) -> 42756 | D27: =IF(D26="","",IF(MONTH(D26+1)=MONTH(D26),D26+1,"")) -> 42787 | G27: =IF(G26="","",IF(MONTH(G26+1)=MONTH(G26),G26+1,"")) -> 42815 | J27: =IF(J26="","",IF(MONTH(J26+1)=MONTH(J26),J26+1,"")) -> 42846 | M27: =IF(M26="","",IF(MONTH(M26+1)=MONTH(M26),M26+1,"")) -> 42876 | P27: =IF(P26="","",IF(MONTH(P26+1)=MONTH(P26),P26+1,"")) -> 42907 | S27: =IF(S26="","",IF(MONTH(S26+1)=MONTH(S26),S26+1,"")) -> 42937 | V27: =IF(V26="","",IF(MONTH(V26+1)=MONTH(V26),V26+1,"")) -> 42968 | Y27: =IF(Y26="","",IF(MONTH(Y26+1)=MONTH(Y26),Y26+1,"")) -> 42999 | AB27: =IF(AB26="","",IF(MONTH(AB26+1)=MONTH(AB26),AB26+1,"")) -> 43029 | AE27: =IF(AE26="","",IF(MONTH(AE26+1)=MONTH(AE26),AE26+1,"")) -> 43060 | AH27: =IF(AH26="","",IF(MONTH(AH26+1)=MONTH(AH26),AH26+1,"")) -> 43090
A28: =IF(A27="","",IF(MONTH(A27+1)=MONTH(A27),A27+1,"")) -> 42757 | D28: =IF(D27="","",IF(MONTH(D27+1)=MONTH(D27),D27+1,"")) -> 42788 | G28: =IF(G27="","",IF(MONTH(G27+1)=MONTH(G27),G27+1,"")) -> 42816 | J28: =IF(J27="","",IF(MONTH(J27+1)=MONTH(J27),J27+1,"")) -> 42847 | M28: =IF(M27="","",IF(MONTH(M27+1)=MONTH(M27),M27+1,"")) -> 42877 | P28: =IF(P27="","",IF(MONTH(P27+1)=MONTH(P27),P27+1,"")) -> 42908 | S28: =IF(S27="","",IF(MONTH(S27+1)=MONTH(S27),S27+1,"")) -> 42938 | V28: =IF(V27="","",IF(MONTH(V27+1)=MONTH(V27),V27+1,"")) -> 42969 | Y28: =IF(Y27="","",IF(MONTH(Y27+1)=MONTH(Y27),Y27+1,"")) -> 43000 | AB28: =IF(AB27="","",IF(MONTH(AB27+1)=MONTH(AB27),AB27+1,"")) -> 43030 | AE28: =IF(AE27="","",IF(MONTH(AE27+1)=MONTH(AE27),AE27+1,"")) -> 43061 | AH28: =IF(AH27="","",IF(MONTH(AH27+1)=MONTH(AH27),AH27+1,"")) -> 43091
A29: =IF(A28="","",IF(MONTH(A28+1)=MONTH(A28),A28+1,"")) -> 42758 | D29: =IF(D28="","",IF(MONTH(D28+1)=MONTH(D28),D28+1,"")) -> 42789 | G29: =IF(G28="","",IF(MONTH(G28+1)=MONTH(G28),G28+1,"")) -> 42817 | J29: =IF(J28="","",IF(MONTH(J28+1)=MONTH(J28),J28+1,"")) -> 42848 | M29: =IF(M28="","",IF(MONTH(M28+1)=MONTH(M28),M28+1,"")) -> 42878 | P29: =IF(P28="","",IF(MONTH(P28+1)=MONTH(P28),P28+1,"")) -> 42909 | S29: =IF(S28="","",IF(MONTH(S28+1)=MONTH(S28),S28+1,"")) -> 42939 | V29: =IF(V28="","",IF(MONTH(V28+1)=MONTH(V28),V28+1,"")) -> 42970 | Y29: =IF(Y28="","",IF(MONTH(Y28+1)=MONTH(Y28),Y28+1,"")) -> 43001 | AB29: =IF(AB28="","",IF(MONTH(AB28+1)=MONTH(AB28),AB28+1,"")) -> 43031 | AE29: =IF(AE28="","",IF(MONTH(AE28+1)=MONTH(AE28),AE28+1,"")) -> 43062 | AH29: =IF(AH28="","",IF(MONTH(AH28+1)=MONTH(AH28),AH28+1,"")) -> 43092
A30: =IF(A29="","",IF(MONTH(A29+1)=MONTH(A29),A29+1,"")) -> 42759 | D30: =IF(D29="","",IF(MONTH(D29+1)=MONTH(D29),D29+1,"")) -> 42790 | G30: =IF(G29="","",IF(MONTH(G29+1)=MONTH(G29),G29+1,"")) -> 42818 | J30: =IF(J29="","",IF(MONTH(J29+1)=MONTH(J29),J29+1,"")) -> 42849 | M30: =IF(M29="","",IF(MONTH(M29+1)=MONTH(M29),M29+1,"")) -> 42879 | P30: =IF(P29="","",IF(MONTH(P29+1)=MONTH(P29),P29+1,"")) -> 42910 | S30: =IF(S29="","",IF(MONTH(S29+1)=MONTH(S29),S29+1,"")) -> 42940 | V30: =IF(V29="","",IF(MONTH(V29+1)=MONTH(V29),V29+1,"")) -> 42971 | Y30: =IF(Y29="","",IF(MONTH(Y29+1)=MONTH(Y29),Y29+1,"")) -> 43002 | AB30: =IF(AB29="","",IF(MONTH(AB29+1)=MONTH(AB29),AB29+1,"")) -> 43032 | AE30: =IF(AE29="","",IF(MONTH(AE29+1)=MONTH(AE29),AE29+1,"")) -> 43063 | AH30: =IF(AH29="","",IF(MONTH(AH29+1)=MONTH(AH29),AH29+1,"")) -> 43093
A31: =IF(A30="","",IF(MONTH(A30+1)=MONTH(A30),A30+1,"")) -> 42760 | D31: =IF(D30="","",IF(MONTH(D30+1)=MONTH(D30),D30+1,"")) -> 42791 | G31: =IF(G30="","",IF(MONTH(G30+1)=MONTH(G30),G30+1,"")) -> 42819 | J31: =IF(J30="","",IF(MONTH(J30+1)=MONTH(J30),J30+1,"")) -> 42850 | M31: =IF(M30="","",IF(MONTH(M30+1)=MONTH(M30),M30+1,"")) -> 42880 | O31: F | P31: =IF(P30="","",IF(MONTH(P30+1)=MONTH(P30),P30+1,"")) -> 42911 | S31: =IF(S30="","",IF(MONTH(S30+1)=MONTH(S30),S30+1,"")) -> 42941 | V31: =IF(V30="","",IF(MONTH(V30+1)=MONTH(V30),V30+1,"")) -> 42972 | Y31: =IF(Y30="","",IF(MONTH(Y30+1)=MONTH(Y30),Y30+1,"")) -> 43003 | AB31: =IF(AB30="","",IF(MONTH(AB30+1)=MONTH(AB30),AB30+1,"")) -> 43033 | AE31: =IF(AE30="","",IF(MONTH(AE30+1)=MONTH(AE30),AE30+1,"")) -> 43064 | AH31: =IF(AH30="","",IF(MONTH(AH30+1)=MONTH(AH30),AH30+1,"")) -> 43094 | AJ31: F
A32: =IF(A31="","",IF(MONTH(A31+1)=MONTH(A31),A31+1,"")) -> 42761 | D32: =IF(D31="","",IF(MONTH(D31+1)=MONTH(D31),D31+1,"")) -> 42792 | G32: =IF(G31="","",IF(MONTH(G31+1)=MONTH(G31),G31+1,"")) -> 42820 | J32: =IF(J31="","",IF(MONTH(J31+1)=MONTH(J31),J31+1,"")) -> 42851 | M32: =IF(M31="","",IF(MONTH(M31+1)=MONTH(M31),M31+1,"")) -> 42881 | P32: =IF(P31="","",IF(MONTH(P31+1)=MONTH(P31),P31+1,"")) -> 42912 | S32: =IF(S31="","",IF(MONTH(S31+1)=MONTH(S31),S31+1,"")) -> 42942 | V32: =IF(V31="","",IF(MONTH(V31+1)=MONTH(V31),V31+1,"")) -> 42973 | Y32: =IF(Y31="","",IF(MONTH(Y31+1)=MONTH(Y31),Y31+1,"")) -> 43004 | AB32: =IF(AB31="","",IF(MONTH(AB31+1)=MONTH(AB31),AB31+1,"")) -> 43034 | AE32: =IF(AE31="","",IF(MONTH(AE31+1)=MONTH(AE31),AE31+1,"")) -> 43065 | AH32: =IF(AH31="","",IF(MONTH(AH31+1)=MONTH(AH31),AH31+1,"")) -> 43095
A33: =IF(A32="","",IF(MONTH(A32+1)=MONTH(A32),A32+1,"")) -> 42762 | D33: =IF(D32="","",IF(MONTH(D32+1)=MONTH(D32),D32+1,"")) -> 42793 | G33: =IF(G32="","",IF(MONTH(G32+1)=MONTH(G32),G32+1,"")) -> 42821 | J33: =IF(J32="","",IF(MONTH(J32+1)=MONTH(J32),J32+1,"")) -> 42852 | M33: =IF(M32="","",IF(MONTH(M32+1)=MONTH(M32),M32+1,"")) -> 42882 | P33: =IF(P32="","",IF(MONTH(P32+1)=MONTH(P32),P32+1,"")) -> 42913 | S33: =IF(S32="","",IF(MONTH(S32+1)=MONTH(S32),S32+1,"")) -> 42943 | V33: =IF(V32="","",IF(MONTH(V32+1)=MONTH(V32),V32+1,"")) -> 42974 | Y33: =IF(Y32="","",IF(MONTH(Y32+1)=MONTH(Y32),Y32+1,"")) -> 43005 | AB33: =IF(AB32="","",IF(MONTH(AB32+1)=MONTH(AB32),AB32+1,"")) -> 43035 | AE33: =IF(AE32="","",IF(MONTH(AE32+1)=MONTH(AE32),AE32+1,"")) -> 43066 | AH33: =IF(AH32="","",IF(MONTH(AH32+1)=MONTH(AH32),AH32+1,"")) -> 43096
A34: =IF(A33="","",IF(MONTH(A33+1)=MONTH(A33),A33+1,"")) -> 42763 | D34: =IF(D33="","",IF(MONTH(D33+1)=MONTH(D33),D33+1,"")) -> 42794 | G34: =IF(G33="","",IF(MONTH(G33+1)=MONTH(G33),G33+1,"")) -> 42822 | J34: =IF(J33="","",IF(MONTH(J33+1)=MONTH(J33),J33+1,"")) -> 42853 | M34: =IF(M33="","",IF(MONTH(M33+1)=MONTH(M33),M33+1,"")) -> 42883 | P34: =IF(P33="","",IF(MONTH(P33+1)=MONTH(P33),P33+1,"")) -> 42914 | S34: =IF(S33="","",IF(MONTH(S33+1)=MONTH(S33),S33+1,"")) -> 42944 | V34: =IF(V33="","",IF(MONTH(V33+1)=MONTH(V33),V33+1,"")) -> 42975 | Y34: =IF(Y33="","",IF(MONTH(Y33+1)=MONTH(Y33),Y33+1,"")) -> 43006 | AB34: =IF(AB33="","",IF(MONTH(AB33+1)=MONTH(AB33),AB33+1,"")) -> 43036 | AE34: =IF(AE33="","",IF(MONTH(AE33+1)=MONTH(AE33),AE33+1,"")) -> 43067 | AH34: =IF(AH33="","",IF(MONTH(AH33+1)=MONTH(AH33),AH33+1,"")) -> 43097
A35: =IF(A34="","",IF(MONTH(A34+1)=MONTH(A34),A34+1,"")) -> 42764 | D35: =IF(D34="","",IF(MONTH(D34+1)=MONTH(D34),D34+1,"")) | G35: =IF(G34="","",IF(MONTH(G34+1)=MONTH(G34),G34+1,"")) -> 42823 | J35: =IF(J34="","",IF(MONTH(J34+1)=MONTH(J34),J34+1,"")) -> 42854 | M35: =IF(M34="","",IF(MONTH(M34+1)=MONTH(M34),M34+1,"")) -> 42884 | P35: =IF(P34="","",IF(MONTH(P34+1)=MONTH(P34),P34+1,"")) -> 42915 | S35: =IF(S34="","",IF(MONTH(S34+1)=MONTH(S34),S34+1,"")) -> 42945 | V35: =IF(V34="","",IF(MONTH(V34+1)=MONTH(V34),V34+1,"")) -> 42976 | Y35: =IF(Y34="","",IF(MONTH(Y34+1)=MONTH(Y34),Y34+1,"")) -> 43007 | AB35: =IF(AB34="","",IF(MONTH(AB34+1)=MONTH(AB34),AB34+1,"")) -> 43037 | AE35: =IF(AE34="","",IF(MONTH(AE34+1)=MONTH(AE34),AE34+1,"")) -> 43068 | AH35: =IF(AH34="","",IF(MONTH(AH34+1)=MONTH(AH34),AH34+1,"")) -> 43098
A36: =IF(A35="","",IF(MONTH(A35+1)=MONTH(A35),A35+1,"")) -> 42765 | D36: =IF(D35="","",IF(MONTH(D35+1)=MONTH(D35),D35+1,"")) | G36: =IF(G35="","",IF(MONTH(G35+1)=MONTH(G35),G35+1,"")) -> 42824 | J36: =IF(J35="","",IF(MONTH(J35+1)=MONTH(J35),J35+1,"")) -> 42855 | M36: =IF(M35="","",IF(MONTH(M35+1)=MONTH(M35),M35+1,"")) -> 42885 | P36: =IF(P35="","",IF(MONTH(P35+1)=MONTH(P35),P35+1,"")) -> 42916 | S36: =IF(S35="","",IF(MONTH(S35+1)=MONTH(S35),S35+1,"")) -> 42946 | V36: =IF(V35="","",IF(MONTH(V35+1)=MONTH(V35),V35+1,"")) -> 42977 | Y36: =IF(Y35="","",IF(MONTH(Y35+1)=MONTH(Y35),Y35+1,"")) -> 43008 | AB36: =IF(AB35="","",IF(MONTH(AB35+1)=MONTH(AB35),AB35+1,"")) -> 43038 | AE36: =IF(AE35="","",IF(MONTH(AE35+1)=MONTH(AE35),AE35+1,"")) -> 43069 | AH36: =IF(AH35="","",IF(MONTH(AH35+1)=MONTH(AH35),AH35+1,"")) -> 43099
A37: =IF(A36="","",IF(MONTH(A36+1)=MONTH(A36),A36+1,"")) -> 42766 | D37: =IF(D36="","",IF(MONTH(D36+1)=MONTH(D36),D36+1,"")) | G37: =IF(G36="","",IF(MONTH(G36+1)=MONTH(G36),G36+1,"")) -> 42825 | J37: =IF(J36="","",IF(MONTH(J36+1)=MONTH(J36),J36+1,"")) | M37: =IF(M36="","",IF(MONTH(M36+1)=MONTH(M36),M36+1,"")) -> 42886 | P37: =IF(P36="","",IF(MONTH(P36+1)=MONTH(P36),P36+1,"")) | S37: =IF(S36="","",IF(MONTH(S36+1)=MONTH(S36),S36+1,"")) -> 42947 | V37: =IF(V36="","",IF(MONTH(V36+1)=MONTH(V36),V36+1,"")) -> 42978 | Y37: =IF(Y36="","",IF(MONTH(Y36+1)=MONTH(Y36),Y36+1,"")) | AB37: =IF(AB36="","",IF(MONTH(AB36+1)=MONTH(AB36),AB36+1,"")) -> 43039 | AE37: =IF(AE36="","",IF(MONTH(AE36+1)=MONTH(AE36),AE36+1,"")) | AH37: =IF(AH36="","",IF(MONTH(AH36+1)=MONTH(AH36),AH36+1,"")) -> 43100
A38: Projet | D38: Projet | G38: Projet | J38: Projet | M38: Projet | P38: Projet | S38: Projet | V38: Projet | Y38: Projet | AB38: Projet | AE38: Projet | AH38: Projet
A39: Total mensuel | B39: =SUM(B7:B37) -> 0 | D39: Total mensuel | E39: =SUM(E7:E37) -> 0 | G39: Total mensuel | H39: =SUM(H7:H37) -> 0 | J39: Total mensuel | K39: =SUM(K7:K37) -> 0 | M39: Total mensuel | N39: =SUM(N7:N37) -> 0 | P39: Total mensuel | Q39: =SUM(Q7:Q37) -> 0 | S39: Total mensuel | T39: =SUM(T7:T37) -> 0 | V39: Total mensuel | W39: =SUM(W7:W37) -> 0 | Y39: Total mensuel | Z39: =SUM(Z7:Z37) -> 0 | AB39: Total mensuel | AC39: =SUM(AC7:AC37) -> 0 | AE39: Total mensuel | AF39: =SUM(AF7:AF37) -> 0 | AH39: Total mensuel | AI39: =SUM(AI7:AI37) -> 0
A40: Heures réelles | B40: =(((NETWORKDAYS(A7,A37))-(COUNTA(C7:C37)))+((COUNTIF(C7:C37,"(RTT)"))*0.5))*7 -> 154 | D40: Heures réelles | E40: =(NETWORKDAYS(D7,D34)*7)-(COUNTIF(F7:F34,"F"))*7 -> 140 | G40: Heures réelles | H40: =(NETWORKDAYS(G7,G37)*7)-(COUNTIF(I7:I37,"F"))*7 -> 161 | J40: Heures réelles | K40: =(NETWORKDAYS(J7,J36)*7)-(COUNTIF(L7:L36,"F"))*7 -> 133 | M40: Heures réelles | N40: =(NETWORKDAYS(M7,M37)*7)-(COUNTIF(O7:O37,"F"))*7 -> 140 | P40: Heures réelles | Q40: =(NETWORKDAYS(P7,P36)*7)-(COUNTIF(R7:R36,"F"))*7 -> 154 | S40: Heures réelles | T40: =(NETWORKDAYS(S7,S37)*7)-(COUNTIF(U7:U37,"F"))*7 -> 140 | V40: Heures réelles | W40: =(NETWORKDAYS(V7,V37)*7)-(COUNTIF(X7:X37,"F"))*7 -> 154 | Y40: Heures réelles | Z40: =(NETWORKDAYS(Y7,Y36)*7)-(COUNTIF(AA7:AA36,"F"))*7 -> 147 | AB40: Heures réelles | AC40: =(NETWORKDAYS(AB7,AB37)*7)-(COUNTIF(AD7:AD37,"F"))*7 -> 154 | AE40: Heures réelles | AF40: =(NETWORKDAYS(AE7,AE36)*7)-(COUNTIF(AG7:AG36,"F"))*7 -> 147 | AH40: Heures réelles | AI40: =(NETWORKDAYS(AH7,AH37)*7)-(COUNTIF(AJ7:AJ37,"F"))*7 -> 140
A41: Cumul H. annuelle | B41: =B39 -> 0 | D41: Cumul H. annuelle | E41: =E39+B41 -> 0 | G41: Cumul H. annuelle | H41: =H39+E41 -> 0 | J41: Cumul H. annuelle | K41: =K39+H41 -> 0 | M41: Cumul H. annuelle | N41: =N39+K41 -> 0 | P41: Cumul H. annuelle | Q41: =Q39+N41 -> 0 | S41: Cumul H. annuelle | T41: =T39+Q41 -> 0 | V41: Cumul H. annuelle | W41: =W39+T41 -> 0 | Y41: Cumul H. annuelle | Z41: =Z39+W41 -> 0 | AB41: Cumul H. annuelle | AC41: =AC39+Z41 -> 0 | AE41: Cumul H. annuelle | AF41: =AF39+AC41 -> 0 | AH41: Cumul H. annuelle | AI41: =AI39+AF41 -> 0
A43: H.S. mensuelles | B43: =IF(B39=0,0,B39-B40) -> 0 | D43: H.S. mensuelles | E43: =IF(E39=0,0,E39-E40) -> 0 | G43: H.S. mensuelles | H43: =IF(H39=0,0,H39-H40) -> 0 | J43: H.S. mensuelles | K43: =IF(K39=0,0,K39-K40) -> 0 | M43: H.S. mensuelles | N43: =IF(N39=0,0,N39-N40) -> 0 | P43: H.S. mensuelles | Q43: =IF(Q39=0,0,Q39-Q40) -> 0 | S43: H.S. mensuelles | T43: =IF(T39=0,0,T39-T40) -> 0 | V43: H.S. mensuelles | W43: =IF(W39=0,0,W39-W40) -> 0 | Y43: H.S. mensuelles | Z43: =IF(Z39=0,0,Z39-Z40) -> 0 | AB43: H.S. mensuelles | AC43: =IF(AC39=0,0,AC39-AC40) -> 0 | AE43: H.S. mensuelles | AF43: =IF(AF39=0,0,AF39-AF40) -> 0 | AH43: H.S. mensuelles | AI43: =IF(AI39=0,0,AI39-AI40) -> 0
...

Sheet Impression RA
B3: 42736

Sheet feries
B1: 2017
A2: Nouvel An | B2: =DATE(B1,1,1) -> 42736
A3: Pâques | B3: =FLOOR(DATE(B1,5,DAY(MINUTE(B1/38)/2+56)),7)-34 -> 42841
A4: Lundi de Pâques | B4: =B3+1 -> 42842
A5: Fête du travail | B5: =DATE(B1,5,1) -> 42856
A6: Victoire | B6: =DATE(B1,5,8) -> 42863
A7: Ascension | B7: =B3+39 -> 42880
A8: Pentecôte | B8: =B7+10 -> 42890
A9: Fête nationale | B9: =DATE(B1,7,14) -> 42930
A10: Assomption | B10: =DATE(B1,8,15) -> 42962
A11: Toussaint | B11: =DATE(B1,11,1) -> 43040
A12: Armistice | B12: =DATE(B1,11,11) -> 43050
A13: Noël | B13: =DATE(B1,12,25) -> 43094

Sheet ,
A1: RTT | B1: 42736
A2: (RTT) | B2: 42767
A3: CP | B3: 42795
A4: (CP) | B4: 42826
A5: M | B5: 42856
A6: SS | B6: 42887
A7: F | B7: 42917
B8: 42948
B9: 42979
B10: 43009
B11: 43040
B12: 43070
