Workbook

Sheet Manquant
A1: Date du besoin | B1: Ordre | C1: Composé | D1: CIE | E1: Article de l'élément de réappro | F1: Composant | G1: Désignation article | H1: Type de réapprovisionnement | I1: Date de réapprovisionnement | J1: Date de réappro estimée | K1: Commentaires | L1: DATE | M1: Besoin Client | N1: Critique (-20j)
C2: test | D2: =IFERROR(VLOOKUP(C2,'[1]Liste articles'!A:B,2,FALSE),"") | H2: Alternatives | L2: =IF(ISBLANK(Tableau2[[#This Row],[Date de réapprovisionnement]]),IF(ISBLANK(Tableau2[[#This Row],[Date de réappro estimée]]),"NO DATE",Tableau2[[#This Row],[Date de réappro estimée]]),Tableau2[[#This Row],[Date de réapprovisionnement]]) -> NO DATE | M2: =VLOOKUP(Tableau2[[#This Row],[Composé]],Planning!K:X,14,FALSE) -> #N/A | N2: =(IF(Tableau2[[#This Row],[DATE]]="NO DATE",TRUE,(IF(Tableau2[[#This Row],[Besoin Client]]-Tableau2[[#This Row],[DATE]]<20,TRUE,"")))) -> TRUE
C3: test | D3: =IFERROR(VLOOKUP(C3,'[1]Liste articles'!A:B,2,FALSE),"") | H3: CDE_HA | L3: =IF(ISBLANK(Tableau2[[#This Row],[Date de réapprovisionnement]]),IF(ISBLANK(Tableau2[[#This Row],[Date de réappro estimée]]),"NO DATE",Tableau2[[#This Row],[Date de réappro estimée]]),Tableau2[[#This Row],[Date de réapprovisionnement]]) -> NO DATE | M3: =VLOOKUP(Tableau2[[#This Row],[Composé]],Planning!K:X,14,FALSE) -> #N/A | N3: =(IF(Tableau2[[#This Row],[DATE]]="NO DATE",TRUE,(IF(Tableau2[[#This Row],[Besoin Client]]-Tableau2[[#This Row],[DATE]]<20,TRUE,"")))) -> TRUE
C4: test | D4: =IFERROR(VLOOKUP(C4,'[1]Liste articles'!A:B,2,FALSE),"") | H4: CDE_HA_AR | L4: =IF(ISBLANK(Tableau2[[#This Row],[Date de réapprovisionnement]]),IF(ISBLANK(Tableau2[[#This Row],[Date de réappro estimée]]),"NO DATE",Tableau2[[#This Row],[Date de réappro estimée]]),Tableau2[[#This Row],[Date de réapprovisionnement]]) -> NO DATE | M4: =VLOOKUP(Tableau2[[#This Row],[Composé]],Planning!K:X,14,FALSE) -> #N/A | N4: =(IF(Tableau2[[#This Row],[DATE]]="NO DATE",TRUE,(IF(Tableau2[[#This Row],[Besoin Client]]-Tableau2[[#This Row],[DATE]]<20,TRUE,"")))) -> TRUE
C5: test | D5: =IFERROR(VLOOKUP(C5,'[1]Liste articles'!A:B,2,FALSE),"") | H5: CDE_HA_AR_C | L5: =IF(ISBLANK(Tableau2[[#This Row],[Date de réapprovisionnement]]),IF(ISBLANK(Tableau2[[#This Row],[Date de réappro estimée]]),"NO DATE",Tableau2[[#This Row],[Date de réappro estimée]]),Tableau2[[#This Row],[Date de réapprovisionnement]]) -> NO DATE | M5: =VLOOKUP(Tableau2[[#This Row],[Composé]],Planning!K:X,14,FALSE) -> #N/A | N5: =(IF(Tableau2[[#This Row],[DATE]]="NO DATE",TRUE,(IF(Tableau2[[#This Row],[Besoin Client]]-Tableau2[[#This Row],[DATE]]<20,TRUE,"")))) -> TRUE
C6: test | D6: =IFERROR(VLOOKUP(C6,'[1]Liste articles'!A:B,2,FALSE),"") | H6: DA_LANCEE | L6: =IF(ISBLANK(Tableau2[[#This Row],[Date de réapprovisionnement]]),IF(ISBLANK(Tableau2[[#This Row],[Date de réappro estimée]]),"NO DATE",Tableau2[[#This Row],[Date de réappro estimée]]),Tableau2[[#This Row],[Date de réapprovisionnement]]) -> NO DATE | M6: =VLOOKUP(Tableau2[[#This Row],[Composé]],Planning!K:X,14,FALSE) -> #N/A | N6: =(IF(Tableau2[[#This Row],[DATE]]="NO DATE",TRUE,(IF(Tableau2[[#This Row],[Besoin Client]]-Tableau2[[#This Row],[DATE]]<20,TRUE,"")))) -> TRUE
C7: test | D7: =IFERROR(VLOOKUP(C7,'[1]Liste articles'!A:B,2,FALSE),"") | H7: DA | L7: =IF(ISBLANK(Tableau2[[#This Row],[Date de réapprovisionnement]]),IF(ISBLANK(Tableau2[[#This Row],[Date de réappro estimée]]),"NO DATE",Tableau2[[#This Row],[Date de réappro estimée]]),Tableau2[[#This Row],[Date de réapprovisionnement]]) -> NO DATE | M7: =VLOOKUP(Tableau2[[#This Row],[Composé]],Planning!K:X,14,FALSE) -> #N/A | N7: =(IF(Tableau2[[#This Row],[DATE]]="NO DATE",TRUE,(IF(Tableau2[[#This Row],[Besoin Client]]-Tableau2[[#This Row],[DATE]]<20,TRUE,"")))) -> TRUE
C8: test | D8: =IFERROR(VLOOKUP(C8,'[1]Liste articles'!A:B,2,FALSE),"") | H8: Devis | L8: =IF(ISBLANK(Tableau2[[#This Row],[Date de réapprovisionnement]]),IF(ISBLANK(Tableau2[[#This Row],[Date de réappro estimée]]),"NO DATE",Tableau2[[#This Row],[Date de réappro estimée]]),Tableau2[[#This Row],[Date de réapprovisionnement]]) -> NO DATE | M8: =VLOOKUP(Tableau2[[#This Row],[Composé]],Planning!K:X,14,FALSE) -> #N/A | N8: =(IF(Tableau2[[#This Row],[DATE]]="NO DATE",TRUE,(IF(Tableau2[[#This Row],[Besoin Client]]-Tableau2[[#This Row],[DATE]]<20,TRUE,"")))) -> TRUE
C9: produit1 | D9: =IFERROR(VLOOKUP(C9,'[1]Liste articles'!A:B,2,FALSE),"") | F9: composant1 | G9: CIU composant1 | H9: Alternatives | I9: 43813 | J9: 43780 | L9: =IF(ISBLANK(Tableau2[[#This Row],[Date de réapprovisionnement]]),IF(ISBLANK(Tableau2[[#This Row],[Date de réappro estimée]]),"NO DATE",Tableau2[[#This Row],[Date de réappro estimée]]),Tableau2[[#This Row],[Date de réapprovisionnement]]) -> 43813 | M9: =VLOOKUP(Tableau2[[#This Row],[Composé]],Planning!K:X,14,FALSE) -> 43811 | N9: =(IF(Tableau2[[#This Row],[DATE]]="NO DATE",TRUE,(IF(Tableau2[[#This Row],[Besoin Client]]-Tableau2[[#This Row],[DATE]]<20,TRUE,"")))) -> TRUE
C10: produit1 | D10: =IFERROR(VLOOKUP(C10,'[1]Liste articles'!A:B,2,FALSE),"") | F10: composant2 | G10: composant 2 | H10: CDE_HA | J10: 43748 | L10: =IF(ISBLANK(Tableau2[[#This Row],[Date de réapprovisionnement]]),IF(ISBLANK(Tableau2[[#This Row],[Date de réappro estimée]]),"NO DATE",Tableau2[[#This Row],[Date de réappro estimée]]),Tableau2[[#This Row],[Date de réapprovisionnement]]) -> 43748 | M10: =VLOOKUP(Tableau2[[#This Row],[Composé]],Planning!K:X,14,FALSE) -> 43811 | N10: =(IF(Tableau2[[#This Row],[DATE]]="NO DATE",TRUE,(IF(Tableau2[[#This Row],[Besoin Client]]-Tableau2[[#This Row],[DATE]]<20,TRUE,""))))
C11: produit1 | D11: =IFERROR(VLOOKUP(C11,'[1]Liste articles'!A:B,2,FALSE),"") | F11: composant3 | G11: composant 3 | H11: CDE_HA_AR_C | I11: 43812 | L11: =IF(ISBLANK(Tableau2[[#This Row],[Date de réapprovisionnement]]),IF(ISBLANK(Tableau2[[#This Row],[Date de réappro estimée]]),"NO DATE",Tableau2[[#This Row],[Date de réappro estimée]]),Tableau2[[#This Row],[Date de réapprovisionnement]]) -> 43812 | M11: =VLOOKUP(Tableau2[[#This Row],[Composé]],Planning!K:X,14,FALSE) -> 43811 | N11: =(IF(Tableau2[[#This Row],[DATE]]="NO DATE",TRUE,(IF(Tableau2[[#This Row],[Besoin Client]]-Tableau2[[#This Row],[DATE]]<20,TRUE,"")))) -> TRUE
C12: produit1 | D12: =IFERROR(VLOOKUP(C12,'[1]Liste articles'!A:B,2,FALSE),"") | F12: composant4 | G12: composant 4 | H12: CDE_HA_AR | I12: 43807 | L12: =IF(ISBLANK(Tableau2[[#This Row],[Date de réapprovisionnement]]),IF(ISBLANK(Tableau2[[#This Row],[Date de réappro estimée]]),"NO DATE",Tableau2[[#This Row],[Date de réappro estimée]]),Tableau2[[#This Row],[Date de réapprovisionnement]]) -> 43807 | M12: =VLOOKUP(Tableau2[[#This Row],[Composé]],Planning!K:X,14,FALSE) -> 43811 | N12: =(IF(Tableau2[[#This Row],[DATE]]="NO DATE",TRUE,(IF(Tableau2[[#This Row],[Besoin Client]]-Tableau2[[#This Row],[DATE]]<20,TRUE,"")))) -> TRUE
C13: produit2 | D13: =IFERROR(VLOOKUP(C13,'[1]Liste articles'!A:B,2,FALSE),"") | F13: composant5 | G13: composant 5 | H13: DA_LANCEE | J13: 43748 | L13: =IF(ISBLANK(Tableau2[[#This Row],[Date de réapprovisionnement]]),IF(ISBLANK(Tableau2[[#This Row],[Date de réappro estimée]]),"NO DATE",Tableau2[[#This Row],[Date de réappro estimée]]),Tableau2[[#This Row],[Date de réapprovisionnement]]) -> 43748 | M13: =VLOOKUP(Tableau2[[#This Row],[Composé]],Planning!K:X,14,FALSE) -> 43497 | N13: =(IF(Tableau2[[#This Row],[DATE]]="NO DATE",TRUE,(IF(Tableau2[[#This Row],[Besoin Client]]-Tableau2[[#This Row],[DATE]]<20,TRUE,"")))) -> TRUE
C14: produit2 | D14: =IFERROR(VLOOKUP(C14,'[1]Liste articles'!A:B,2,FALSE),"") | F14: composant6 | G14: composant 6 | H14: DA | J14: 43748 | L14: =IF(ISBLANK(Tableau2[[#This Row],[Date de réapprovisionnement]]),IF(ISBLANK(Tableau2[[#This Row],[Date de réappro estimée]]),"NO DATE",Tableau2[[#This Row],[Date de réappro estimée]]),Tableau2[[#This Row],[Date de réapprovisionnement]]) -> 43748 | M14: =VLOOKUP(Tableau2[[#This Row],[Composé]],Planning!K:X,14,FALSE) -> 43497 | N14: =(IF(Tableau2[[#This Row],[DATE]]="NO DATE",TRUE,(IF(Tableau2[[#This Row],[Besoin Client]]-Tableau2[[#This Row],[DATE]]<20,TRUE,"")))) -> TRUE
C15: produit2 | D15: =IFERROR(VLOOKUP(C15,'[1]Liste articles'!A:B,2,FALSE),"") | F15: composant7 | G15: composant 7 | H15: Devis | L15: =IF(ISBLANK(Tableau2[[#This Row],[Date de réapprovisionnement]]),IF(ISBLANK(Tableau2[[#This Row],[Date de réappro estimée]]),"NO DATE",Tableau2[[#This Row],[Date de réappro estimée]]),Tableau2[[#This Row],[Date de réapprovisionnement]]) -> NO DATE | M15: =VLOOKUP(Tableau2[[#This Row],[Composé]],Planning!K:X,14,FALSE) -> 43497 | N15: =(IF(Tableau2[[#This Row],[DATE]]="NO DATE",TRUE,(IF(Tableau2[[#This Row],[Besoin Client]]-Tableau2[[#This Row],[DATE]]<20,TRUE,"")))) -> TRUE
C16: produit3 | D16: =IFERROR(VLOOKUP(C16,'[1]Liste articles'!A:B,2,FALSE),"") | F16: composant8 | G16: composant 8 | H16: DA | J16: 43748 | L16: =IF(ISBLANK(Tableau2[[#This Row],[Date de réapprovisionnement]]),IF(ISBLANK(Tableau2[[#This Row],[Date de réappro estimée]]),"NO DATE",Tableau2[[#This Row],[Date de réappro estimée]]),Tableau2[[#This Row],[Date de réapprovisionnement]]) -> 43748 | M16: =VLOOKUP(Tableau2[[#This Row],[Composé]],Planning!K:X,14,FALSE) -> 45729 | N16: =(IF(Tableau2[[#This Row],[DATE]]="NO DATE",TRUE,(IF(Tableau2[[#This Row],[Besoin Client]]-Tableau2[[#This Row],[DATE]]<20,TRUE,""))))
C17: produit3 | D17: =IFERROR(VLOOKUP(C17,'[1]Liste articles'!A:B,2,FALSE),"") | F17: composant9 | G17: composant 9 | H17: CDE_HA_AR | I17: 43748 | L17: =IF(ISBLANK(Tableau2[[#This Row],[Date de réapprovisionnement]]),IF(ISBLANK(Tableau2[[#This Row],[Date de réappro estimée]]),"NO DATE",Tableau2[[#This Row],[Date de réappro estimée]]),Tableau2[[#This Row],[Date de réapprovisionnement]]) -> 43748 | M17: =VLOOKUP(Tableau2[[#This Row],[Composé]],Planning!K:X,14,FALSE) -> 45729 | N17: =(IF(Tableau2[[#This Row],[DATE]]="NO DATE",TRUE,(IF(Tableau2[[#This Row],[Besoin Client]]-Tableau2[[#This Row],[DATE]]<20,TRUE,""))))
C18: produit4 | D18: =IFERROR(VLOOKUP(C18,'[1]Liste articles'!A:B,2,FALSE),"") | F18: composant10 | G18: composant 10 | H18: CDE_HA_AR | I18: 43748 | L18: =IF(ISBLANK(Tableau2[[#This Row],[Date de réapprovisionnement]]),IF(ISBLANK(Tableau2[[#This Row],[Date de réappro estimée]]),"NO DATE",Tableau2[[#This Row],[Date de réappro estimée]]),Tableau2[[#This Row],[Date de réapprovisionnement]]) -> 43748 | M18: =VLOOKUP(Tableau2[[#This Row],[Composé]],Planning!K:X,14,FALSE) -> 201291 | N18: =(IF(Tableau2[[#This Row],[DATE]]="NO DATE",TRUE,(IF(Tableau2[[#This Row],[Besoin Client]]-Tableau2[[#This Row],[DATE]]<20,TRUE,""))))

Sheet TCD Manquant
A1: Nombre de Composant | B1: Étiquettes de colonnes
A2: Étiquettes de lignes | B2: Alternatives | C2: CDE_HA | D2: CDE_HA_AR | E2: CDE_HA_AR_C | F2: DA | G2: DA_LANCEE | H2: Devis | I2: Total général
A3: produit1 | B3: 1 | C3: 1 | D3: 1 | E3: 1 | I3: 4
A4: produit2 | F4: 1 | G4: 1 | H4: 1 | I4: 3
A5: produit3 | D5: 1 | F5: 1 | I5: 2
A6: produit4 | D6: 1 | I6: 1
A7: Total général | B7: 1 | C7: 1 | D7: 3 | E7: 1 | F7: 2 | G7: 1 | H7: 1 | I7: 10

Sheet Synthese
A4: N° | B4: Ref | C4: Désignation | D4: CIU reçu | E4: Date Besoin Client | F4: Date Lancement Prod | G4: NBR ref | H4: Manquant Composants | I4: Combien ? | J4: Date de livraison dernier composant | K4: Commentaires
A5: 1 | B5: produit1 | C5: =IF((Tableau1[[#This Row],[Ref]]=""),"",(VLOOKUP(Tableau1[[#This Row],[Ref]],Planning!K:L,2,FALSE))) -> produit1 | D5: =IF(COUNTIFS(Tableau2[Composé],Tableau1[[#This Row],[Ref]],Tableau2[Désignation article],"*CIU*")=1,"NON","") -> NON | E5: =IF((Tableau1[[#This Row],[Ref]]=""),"",_xlfn.IFNA(IF((VLOOKUP(Tableau1[[#This Row],[Ref]],Planning!K:X,14,FALSE)=0),"NO DATE",(VLOOKUP(Tableau1[[#This Row],[Ref]],Planning!K:X,14,FALSE))),"NO DATE")) -> 43811 | F5: =IF((Tableau1[[#This Row],[Ref]]=""),"",IF( Tableau1[[#This Row],[Date Besoin Client]]="NO DATE","NO DATE",Tableau1[[#This Row],[Date Besoin Client]]-20)) -> 43791 | G5: =IF((Tableau1[[#This Row],[Ref]]=""),"",(VLOOKUP(Tableau1[[#This Row],[Ref]],'Infos complémentaires'!A:D,4,FALSE))) -> 100 | H5: =IF((Tableau1[[#This Row],[Ref]]=""),"",(_xlfn.IFNA(IF(VLOOKUP(Tableau1[[#This Row],[Ref]],Manquant!C:C,1,FALSE)=Tableau1[[#This Row],[Ref]],TRUE,FALSE),FALSE))) -> TRUE | I5: =IF((Tableau1[[#This Row],[Ref]]=""),"",COUNTIFS(Manquant!C:C,Tableau1[[#This Row],[Ref]])) -> 4 | J5: =IF((Tableau1[[#This Row],[Ref]]=""),"",(IF(Tableau1[[#This Row],[Manquant Composants]]=FALSE,"",LOOKUP(Tableau1[[#This Row],[Ref]],(IF(ISBLANK(Tableau2[Date de réapprovisionnement]),(IF(ISBLANK(Tableau2[Date de réappro estimée]),"NO DATE",Tableau2[Date de réappro estimée])),Tableau2[Date de réapprovisionnement])))))) -> #VALUE! | K5: =MAX((Tableau2[Composé]=Tableau1[[#This Row],[Ref]])*(Tableau2[DATE])) -> #VALUE!
A6: 2 | B6: produit2 | C6: =IF((Tableau1[[#This Row],[Ref]]=""),"",(VLOOKUP(Tableau1[[#This Row],[Ref]],Planning!K:L,2,FALSE))) -> produit2 | D6: =IF(COUNTIFS(Tableau2[Composé],Tableau1[[#This Row],[Ref]],Tableau2[Désignation article],"*CIU*")=1,"NON","") | E6: =IF((Tableau1[[#This Row],[Ref]]=""),"",_xlfn.IFNA(IF((VLOOKUP(Tableau1[[#This Row],[Ref]],Planning!K:X,14,FALSE)=0),"NO DATE",(VLOOKUP(Tableau1[[#This Row],[Ref]],Planning!K:X,14,FALSE))),"NO DATE")) -> 43497 | F6: =IF((Tableau1[[#This Row],[Ref]]=""),"",IF( Tableau1[[#This Row],[Date Besoin Client]]="NO DATE","NO DATE",Tableau1[[#This Row],[Date Besoin Client]]-20)) -> 43477 | G6: =IF((Tableau1[[#This Row],[Ref]]=""),"",(VLOOKUP(Tableau1[[#This Row],[Ref]],'Infos complémentaires'!A:D,4,FALSE))) -> 200 | H6: =IF((Tableau1[[#This Row],[Ref]]=""),"",(_xlfn.IFNA(IF(VLOOKUP(Tableau1[[#This Row],[Ref]],Manquant!C:C,1,FALSE)=Tableau1[[#This Row],[Ref]],TRUE,FALSE),FALSE))) -> TRUE | I6: =IF((Tableau1[[#This Row],[Ref]]=""),"",COUNTIFS(Manquant!C:C,Tableau1[[#This Row],[Ref]])) -> 3 | J6: =IF((Tableau1[[#This Row],[Ref]]=""),"",(IF(Tableau1[[#This Row],[Manquant Composants]]=FALSE,"",LOOKUP(Tableau1[[#This Row],[Ref]],(IF(ISBLANK(Tableau2[Date de réapprovisionnement]),(IF(ISBLANK(Tableau2[Date de réappro estimée]),"NO DATE",Tableau2[Date de réappro estimée])),Tableau2[Date de réapprovisionnement])))))) -> #VALUE!
A7: 3 | B7: produit3 | C7: =IF((Tableau1[[#This Row],[Ref]]=""),"",(VLOOKUP(Tableau1[[#This Row],[Ref]],Planning!K:L,2,FALSE))) -> produit3 | D7: =IF(COUNTIFS(Tableau2[Composé],Tableau1[[#This Row],[Ref]],Tableau2[Désignation article],"*CIU*")=1,"NON","") | E7: =IF((Tableau1[[#This Row],[Ref]]=""),"",_xlfn.IFNA(IF((VLOOKUP(Tableau1[[#This Row],[Ref]],Planning!K:X,14,FALSE)=0),"NO DATE",(VLOOKUP(Tableau1[[#This Row],[Ref]],Planning!K:X,14,FALSE))),"NO DATE")) -> 45729 | F7: =IF((Tableau1[[#This Row],[Ref]]=""),"",IF( Tableau1[[#This Row],[Date Besoin Client]]="NO DATE","NO DATE",Tableau1[[#This Row],[Date Besoin Client]]-20)) -> 45709 | G7: =IF((Tableau1[[#This Row],[Ref]]=""),"",(VLOOKUP(Tableau1[[#This Row],[Ref]],'Infos complémentaires'!A:D,4,FALSE))) -> 300 | H7: =IF((Tableau1[[#This Row],[Ref]]=""),"",(_xlfn.IFNA(IF(VLOOKUP(Tableau1[[#This Row],[Ref]],Manquant!C:C,1,FALSE)=Tableau1[[#This Row],[Ref]],TRUE,FALSE),FALSE))) -> TRUE | I7: =IF((Tableau1[[#This Row],[Ref]]=""),"",COUNTIFS(Manquant!C:C,Tableau1[[#This Row],[Ref]])) -> 2 | J7: =IF((Tableau1[[#This Row],[Ref]]=""),"",(IF(Tableau1[[#This Row],[Manquant Composants]]=FALSE,"",LOOKUP(Tableau1[[#This Row],[Ref]],(IF(ISBLANK(Tableau2[Date de réapprovisionnement]),(IF(ISBLANK(Tableau2[Date de réappro estimée]),"NO DATE",Tableau2[Date de réappro estimée])),Tableau2[Date de réapprovisionnement])))))) -> #VALUE!
A8: 4 | B8: produit4 | C8: =IF((Tableau1[[#This Row],[Ref]]=""),"",(VLOOKUP(Tableau1[[#This Row],[Ref]],Planning!K:L,2,FALSE))) -> produit4 | D8: =IF(COUNTIFS(Tableau2[Composé],Tableau1[[#This Row],[Ref]],Tableau2[Désignation article],"*CIU*")=1,"NON","") | E8: =IF((Tableau1[[#This Row],[Ref]]=""),"",_xlfn.IFNA(IF((VLOOKUP(Tableau1[[#This Row],[Ref]],Planning!K:X,14,FALSE)=0),"NO DATE",(VLOOKUP(Tableau1[[#This Row],[Ref]],Planning!K:X,14,FALSE))),"NO DATE")) -> 201291 | F8: =IF((Tableau1[[#This Row],[Ref]]=""),"",IF( Tableau1[[#This Row],[Date Besoin Client]]="NO DATE","NO DATE",Tableau1[[#This Row],[Date Besoin Client]]-20)) -> 201271 | G8: =IF((Tableau1[[#This Row],[Ref]]=""),"",(VLOOKUP(Tableau1[[#This Row],[Ref]],'Infos complémentaires'!A:D,4,FALSE))) -> 400 | H8: =IF((Tableau1[[#This Row],[Ref]]=""),"",(_xlfn.IFNA(IF(VLOOKUP(Tableau1[[#This Row],[Ref]],Manquant!C:C,1,FALSE)=Tableau1[[#This Row],[Ref]],TRUE,FALSE),FALSE))) -> TRUE | I8: =IF((Tableau1[[#This Row],[Ref]]=""),"",COUNTIFS(Manquant!C:C,Tableau1[[#This Row],[Ref]])) -> 1 | J8: =IF((Tableau1[[#This Row],[Ref]]=""),"",(IF(Tableau1[[#This Row],[Manquant Composants]]=FALSE,"",LOOKUP(Tableau1[[#This Row],[Ref]],(IF(ISBLANK(Tableau2[Date de réapprovisionnement]),(IF(ISBLANK(Tableau2[Date de réappro estimée]),"NO DATE",Tableau2[Date de réappro estimée])),Tableau2[Date de réapprovisionnement])))))) -> #VALUE!
A9: 5 | C9: =IF((Tableau1[[#This Row],[Ref]]=""),"",(VLOOKUP(Tableau1[[#This Row],[Ref]],Planning!K:L,2,FALSE))) | D9: =IF(COUNTIFS(Tableau2[Composé],Tableau1[[#This Row],[Ref]],Tableau2[Désignation article],"*CIU*")=1,"NON","") | E9: =IF((Tableau1[[#This Row],[Ref]]=""),"",_xlfn.IFNA(IF((VLOOKUP(Tableau1[[#This Row],[Ref]],Planning!K:X,14,FALSE)=0),"NO DATE",(VLOOKUP(Tableau1[[#This Row],[Ref]],Planning!K:X,14,FALSE))),"NO DATE")) | F9: =IF((Tableau1[[#This Row],[Ref]]=""),"",IF( Tableau1[[#This Row],[Date Besoin Client]]="NO DATE","NO DATE",Tableau1[[#This Row],[Date Besoin Client]]-20)) | G9: =IF((Tableau1[[#This Row],[Ref]]=""),"",(VLOOKUP(Tableau1[[#This Row],[Ref]],'Infos complémentaires'!A:D,4,FALSE))) | H9: =IF((Tableau1[[#This Row],[Ref]]=""),"",(_xlfn.IFNA(IF(VLOOKUP(Tableau1[[#This Row],[Ref]],Manquant!C:C,1,FALSE)=Tableau1[[#This Row],[Ref]],TRUE,FALSE),FALSE))) | I9: =IF((Tableau1[[#This Row],[Ref]]=""),"",COUNTIFS(Manquant!C:C,Tableau1[[#This Row],[Ref]])) | J9: =IF((Tableau1[[#This Row],[Ref]]=""),"",(IF(Tableau1[[#This Row],[Manquant Composants]]=FALSE,"",LOOKUP(Tableau1[[#This Row],[Ref]],(IF(ISBLANK(Tableau2[Date de réapprovisionnement]),(IF(ISBLANK(Tableau2[Date de réappro estimée]),"NO DATE",Tableau2[Date de réappro estimée])),Tableau2[Date de réapprovisionnement]))))))
A10: 6 | C10: =IF((Tableau1[[#This Row],[Ref]]=""),"",(VLOOKUP(Tableau1[[#This Row],[Ref]],Planning!K:L,2,FALSE))) | D10: =IF(COUNTIFS(Tableau2[Composé],Tableau1[[#This Row],[Ref]],Tableau2[Désignation article],"*CIU*")=1,"NON","") | E10: =IF((Tableau1[[#This Row],[Ref]]=""),"",_xlfn.IFNA(IF((VLOOKUP(Tableau1[[#This Row],[Ref]],Planning!K:X,14,FALSE)=0),"NO DATE",(VLOOKUP(Tableau1[[#This Row],[Ref]],Planning!K:X,14,FALSE))),"NO DATE")) | F10: =IF((Tableau1[[#This Row],[Ref]]=""),"",IF( Tableau1[[#This Row],[Date Besoin Client]]="NO DATE","NO DATE",Tableau1[[#This Row],[Date Besoin Client]]-20)) | G10: =IF((Tableau1[[#This Row],[Ref]]=""),"",(VLOOKUP(Tableau1[[#This Row],[Ref]],'Infos complémentaires'!A:D,4,FALSE))) | H10: =IF((Tableau1[[#This Row],[Ref]]=""),"",(_xlfn.IFNA(IF(VLOOKUP(Tableau1[[#This Row],[Ref]],Manquant!C:C,1,FALSE)=Tableau1[[#This Row],[Ref]],TRUE,FALSE),FALSE))) | I10: =IF((Tableau1[[#This Row],[Ref]]=""),"",COUNTIFS(Manquant!C:C,Tableau1[[#This Row],[Ref]])) | J10: =IF((Tableau1[[#This Row],[Ref]]=""),"",(IF(Tableau1[[#This Row],[Manquant Composants]]=FALSE,"",LOOKUP(Tableau1[[#This Row],[Ref]],(IF(ISBLANK(Tableau2[Date de réapprovisionnement]),(IF(ISBLANK(Tableau2[Date de réappro estimée]),"NO DATE",Tableau2[Date de réappro estimée])),Tableau2[Date de réapprovisionnement])))))) | K10: =IF(ISBLANK(Tableau1[[#This Row],[Ref]]),"",(IF(ISBLANK(Tableau1[[#This Row],[Manquant Composants]]),"",(IF(ISBLANK(Manquant!I:I),(IF(ISBLANK(Manquant!J:J),"NO DATE",Manquant!J:J)),Manquant!I:I)))))
A11: 7 | C11: =IF((Tableau1[[#This Row],[Ref]]=""),"",(VLOOKUP(Tableau1[[#This Row],[Ref]],Planning!K:L,2,FALSE))) | D11: =IF(COUNTIFS(Tableau2[Composé],Tableau1[[#This Row],[Ref]],Tableau2[Désignation article],"*CIU*")=1,"NON","") | E11: =IF((Tableau1[[#This Row],[Ref]]=""),"",_xlfn.IFNA(IF((VLOOKUP(Tableau1[[#This Row],[Ref]],Planning!K:X,14,FALSE)=0),"NO DATE",(VLOOKUP(Tableau1[[#This Row],[Ref]],Planning!K:X,14,FALSE))),"NO DATE")) | F11: =IF((Tableau1[[#This Row],[Ref]]=""),"",IF( Tableau1[[#This Row],[Date Besoin Client]]="NO DATE","NO DATE",Tableau1[[#This Row],[Date Besoin Client]]-20)) | G11: =IF((Tableau1[[#This Row],[Ref]]=""),"",(VLOOKUP(Tableau1[[#This Row],[Ref]],'Infos complémentaires'!A:D,4,FALSE))) | H11: =IF((Tableau1[[#This Row],[Ref]]=""),"",(_xlfn.IFNA(IF(VLOOKUP(Tableau1[[#This Row],[Ref]],Manquant!C:C,1,FALSE)=Tableau1[[#This Row],[Ref]],TRUE,FALSE),FALSE))) | I11: =IF((Tableau1[[#This Row],[Ref]]=""),"",COUNTIFS(Manquant!C:C,Tableau1[[#This Row],[Ref]])) | J11: =IF((Tableau1[[#This Row],[Ref]]=""),"",(IF(Tableau1[[#This Row],[Manquant Composants]]=FALSE,"",LOOKUP(Tableau1[[#This Row],[Ref]],(IF(ISBLANK(Tableau2[Date de réapprovisionnement]),(IF(ISBLANK(Tableau2[Date de réappro estimée]),"NO DATE",Tableau2[Date de réappro estimée])),Tableau2[Date de réapprovisionnement])))))) | K11: =IF(ISBLANK(Tableau1[[#This Row],[Ref]]),"",(IF(ISBLANK(Tableau1[[#This Row],[Manquant Composants]]),"",(IF(ISBLANK(Manquant!I:I),(IF(ISBLANK(Manquant!J:J),"NO DATE",Manquant!J:J)),Manquant!I:I)))))
A12: 8 | C12: =IF((Tableau1[[#This Row],[Ref]]=""),"",(VLOOKUP(Tableau1[[#This Row],[Ref]],Planning!K:L,2,FALSE))) | D12: =IF(COUNTIFS(Tableau2[Composé],Tableau1[[#This Row],[Ref]],Tableau2[Désignation article],"*CIU*")=1,"NON","") | E12: =IF((Tableau1[[#This Row],[Ref]]=""),"",_xlfn.IFNA(IF((VLOOKUP(Tableau1[[#This Row],[Ref]],Planning!K:X,14,FALSE)=0),"NO DATE",(VLOOKUP(Tableau1[[#This Row],[Ref]],Planning!K:X,14,FALSE))),"NO DATE")) | F12: =IF((Tableau1[[#This Row],[Ref]]=""),"",IF( Tableau1[[#This Row],[Date Besoin Client]]="NO DATE","NO DATE",Tableau1[[#This Row],[Date Besoin Client]]-20)) | G12: =IF((Tableau1[[#This Row],[Ref]]=""),"",(VLOOKUP(Tableau1[[#This Row],[Ref]],'Infos complémentaires'!A:D,4,FALSE))) | H12: =IF((Tableau1[[#This Row],[Ref]]=""),"",(_xlfn.IFNA(IF(VLOOKUP(Tableau1[[#This Row],[Ref]],Manquant!C:C,1,FALSE)=Tableau1[[#This Row],[Ref]],TRUE,FALSE),FALSE))) | I12: =IF((Tableau1[[#This Row],[Ref]]=""),"",COUNTIFS(Manquant!C:C,Tableau1[[#This Row],[Ref]])) | J12: =IF((Tableau1[[#This Row],[Ref]]=""),"",(IF(Tableau1[[#This Row],[Manquant Composants]]=FALSE,"",LOOKUP(Tableau1[[#This Row],[Ref]],(IF(ISBLANK(Tableau2[Date de réapprovisionnement]),(IF(ISBLANK(Tableau2[Date de réappro estimée]),"NO DATE",Tableau2[Date de réappro estimée])),Tableau2[Date de réapprovisionnement])))))) | K12: =IF(ISBLANK(Tableau1[[#This Row],[Ref]]),"",(IF(ISBLANK(Tableau1[[#This Row],[Manquant Composants]]),"",(IF(ISBLANK(Manquant!I:I),(IF(ISBLANK(Manquant!J:J),"NO DATE",Manquant!J:J)),Manquant!I:I)))))
A13: 9 | C13: =IF((Tableau1[[#This Row],[Ref]]=""),"",(VLOOKUP(Tableau1[[#This Row],[Ref]],Planning!K:L,2,FALSE))) | D13: =IF(COUNTIFS(Tableau2[Composé],Tableau1[[#This Row],[Ref]],Tableau2[Désignation article],"*CIU*")=1,"NON","") | E13: =IF((Tableau1[[#This Row],[Ref]]=""),"",_xlfn.IFNA(IF((VLOOKUP(Tableau1[[#This Row],[Ref]],Planning!K:X,14,FALSE)=0),"NO DATE",(VLOOKUP(Tableau1[[#This Row],[Ref]],Planning!K:X,14,FALSE))),"NO DATE")) | F13: =IF((Tableau1[[#This Row],[Ref]]=""),"",IF( Tableau1[[#This Row],[Date Besoin Client]]="NO DATE","NO DATE",Tableau1[[#This Row],[Date Besoin Client]]-20)) | G13: =IF((Tableau1[[#This Row],[Ref]]=""),"",(VLOOKUP(Tableau1[[#This Row],[Ref]],'Infos complémentaires'!A:D,4,FALSE))) | H13: =IF((Tableau1[[#This Row],[Ref]]=""),"",(_xlfn.IFNA(IF(VLOOKUP(Tableau1[[#This Row],[Ref]],Manquant!C:C,1,FALSE)=Tableau1[[#This Row],[Ref]],TRUE,FALSE),FALSE))) | I13: =IF((Tableau1[[#This Row],[Ref]]=""),"",COUNTIFS(Manquant!C:C,Tableau1[[#This Row],[Ref]])) | J13: =IF((Tableau1[[#This Row],[Ref]]=""),"",(IF(Tableau1[[#This Row],[Manquant Composants]]=FALSE,"",LOOKUP(Tableau1[[#This Row],[Ref]],(IF(ISBLANK(Tableau2[Date de réapprovisionnement]),(IF(ISBLANK(Tableau2[Date de réappro estimée]),"NO DATE",Tableau2[Date de réappro estimée])),Tableau2[Date de réapprovisionnement])))))) | K13: =IF(ISBLANK(Tableau1[[#This Row],[Ref]]),"",(IF(ISBLANK(Tableau1[[#This Row],[Manquant Composants]]),"",(IF(ISBLANK(Manquant!I:I),(IF(ISBLANK(Manquant!J:J),"NO DATE",Manquant!J:J)),Manquant!I:I)))))
A14: 10 | C14: =IF((Tableau1[[#This Row],[Ref]]=""),"",(VLOOKUP(Tableau1[[#This Row],[Ref]],Planning!K:L,2,FALSE))) | D14: =IF(COUNTIFS(Tableau2[Composé],Tableau1[[#This Row],[Ref]],Tableau2[Désignation article],"*CIU*")=1,"NON","") | E14: =IF((Tableau1[[#This Row],[Ref]]=""),"",_xlfn.IFNA(IF((VLOOKUP(Tableau1[[#This Row],[Ref]],Planning!K:X,14,FALSE)=0),"NO DATE",(VLOOKUP(Tableau1[[#This Row],[Ref]],Planning!K:X,14,FALSE))),"NO DATE")) | F14: =IF((Tableau1[[#This Row],[Ref]]=""),"",IF( Tableau1[[#This Row],[Date Besoin Client]]="NO DATE","NO DATE",Tableau1[[#This Row],[Date Besoin Client]]-20)) | G14: =IF((Tableau1[[#This Row],[Ref]]=""),"",(VLOOKUP(Tableau1[[#This Row],[Ref]],'Infos complémentaires'!A:D,4,FALSE))) | H14: =IF((Tableau1[[#This Row],[Ref]]=""),"",(_xlfn.IFNA(IF(VLOOKUP(Tableau1[[#This Row],[Ref]],Manquant!C:C,1,FALSE)=Tableau1[[#This Row],[Ref]],TRUE,FALSE),FALSE))) | I14: =IF((Tableau1[[#This Row],[Ref]]=""),"",COUNTIFS(Manquant!C:C,Tableau1[[#This Row],[Ref]])) | J14: =IF((Tableau1[[#This Row],[Ref]]=""),"",(IF(Tableau1[[#This Row],[Manquant Composants]]=FALSE,"",LOOKUP(Tableau1[[#This Row],[Ref]],(IF(ISBLANK(Tableau2[Date de réapprovisionnement]),(IF(ISBLANK(Tableau2[Date de réappro estimée]),"NO DATE",Tableau2[Date de réappro estimée])),Tableau2[Date de réapprovisionnement])))))) | K14: =IF(ISBLANK(Tableau1[[#This Row],[Ref]]),"",(IF(ISBLANK(Tableau1[[#This Row],[Manquant Composants]]),"",(IF(ISBLANK(Manquant!I:I),(IF(ISBLANK(Manquant!J:J),"NO DATE",Manquant!J:J)),Manquant!I:I)))))
A15: 11 | C15: =IF((Tableau1[[#This Row],[Ref]]=""),"",(VLOOKUP(Tableau1[[#This Row],[Ref]],Planning!K:L,2,FALSE))) | D15: =IF(COUNTIFS(Tableau2[Composé],Tableau1[[#This Row],[Ref]],Tableau2[Désignation article],"*CIU*")=1,"NON","") | E15: =IF((Tableau1[[#This Row],[Ref]]=""),"",_xlfn.IFNA(IF((VLOOKUP(Tableau1[[#This Row],[Ref]],Planning!K:X,14,FALSE)=0),"NO DATE",(VLOOKUP(Tableau1[[#This Row],[Ref]],Planning!K:X,14,FALSE))),"NO DATE")) | F15: =IF((Tableau1[[#This Row],[Ref]]=""),"",IF( Tableau1[[#This Row],[Date Besoin Client]]="NO DATE","NO DATE",Tableau1[[#This Row],[Date Besoin Client]]-20)) | G15: =IF((Tableau1[[#This Row],[Ref]]=""),"",(VLOOKUP(Tableau1[[#This Row],[Ref]],'Infos complémentaires'!A:D,4,FALSE))) | H15: =IF((Tableau1[[#This Row],[Ref]]=""),"",(_xlfn.IFNA(IF(VLOOKUP(Tableau1[[#This Row],[Ref]],Manquant!C:C,1,FALSE)=Tableau1[[#This Row],[Ref]],TRUE,FALSE),FALSE))) | I15: =IF((Tableau1[[#This Row],[Ref]]=""),"",COUNTIFS(Manquant!C:C,Tableau1[[#This Row],[Ref]])) | J15: =IF((Tableau1[[#This Row],[Ref]]=""),"",(IF(Tableau1[[#This Row],[Manquant Composants]]=FALSE,"",LOOKUP(Tableau1[[#This Row],[Ref]],(IF(ISBLANK(Tableau2[Date de réapprovisionnement]),(IF(ISBLANK(Tableau2[Date de réappro estimée]),"NO DATE",Tableau2[Date de réappro estimée])),Tableau2[Date de réapprovisionnement])))))) | K15: =IF(ISBLANK(Tableau1[[#This Row],[Ref]]),"",(IF(ISBLANK(Tableau1[[#This Row],[Manquant Composants]]),"",(IF(ISBLANK(Manquant!I:I),(IF(ISBLANK(Manquant!J:J),"NO DATE",Manquant!J:J)),Manquant!I:I)))))
A16: 12 | C16: =IF((Tableau1[[#This Row],[Ref]]=""),"",(VLOOKUP(Tableau1[[#This Row],[Ref]],Planning!K:L,2,FALSE))) | D16: =IF(COUNTIFS(Tableau2[Composé],Tableau1[[#This Row],[Ref]],Tableau2[Désignation article],"*CIU*")=1,"NON","") | E16: =IF((Tableau1[[#This Row],[Ref]]=""),"",_xlfn.IFNA(IF((VLOOKUP(Tableau1[[#This Row],[Ref]],Planning!K:X,14,FALSE)=0),"NO DATE",(VLOOKUP(Tableau1[[#This Row],[Ref]],Planning!K:X,14,FALSE))),"NO DATE")) | F16: =IF((Tableau1[[#This Row],[Ref]]=""),"",IF( Tableau1[[#This Row],[Date Besoin Client]]="NO DATE","NO DATE",Tableau1[[#This Row],[Date Besoin Client]]-20)) | G16: =IF((Tableau1[[#This Row],[Ref]]=""),"",(VLOOKUP(Tableau1[[#This Row],[Ref]],'Infos complémentaires'!A:D,4,FALSE))) | H16: =IF((Tableau1[[#This Row],[Ref]]=""),"",(_xlfn.IFNA(IF(VLOOKUP(Tableau1[[#This Row],[Ref]],Manquant!C:C,1,FALSE)=Tableau1[[#This Row],[Ref]],TRUE,FALSE),FALSE))) | I16: =IF((Tableau1[[#This Row],[Ref]]=""),"",COUNTIFS(Manquant!C:C,Tableau1[[#This Row],[Ref]])) | J16: =IF((Tableau1[[#This Row],[Ref]]=""),"",(IF(Tableau1[[#This Row],[Manquant Composants]]=FALSE,"",LOOKUP(Tableau1[[#This Row],[Ref]],(IF(ISBLANK(Tableau2[Date de réapprovisionnement]),(IF(ISBLANK(Tableau2[Date de réappro estimée]),"NO DATE",Tableau2[Date de réappro estimée])),Tableau2[Date de réapprovisionnement])))))) | K16: =IF(ISBLANK(Tableau1[[#This Row],[Ref]]),"",(IF(ISBLANK(Tableau1[[#This Row],[Manquant Composants]]),"",(IF(ISBLANK(Manquant!I:I),(IF(ISBLANK(Manquant!J:J),"NO DATE",Manquant!J:J)),Manquant!I:I)))))
A17: 13 | C17: =IF((Tableau1[[#This Row],[Ref]]=""),"",(VLOOKUP(Tableau1[[#This Row],[Ref]],Planning!K:L,2,FALSE))) | D17: =IF(COUNTIFS(Tableau2[Composé],Tableau1[[#This Row],[Ref]],Tableau2[Désignation article],"*CIU*")=1,"NON","") | E17: =IF((Tableau1[[#This Row],[Ref]]=""),"",_xlfn.IFNA(IF((VLOOKUP(Tableau1[[#This Row],[Ref]],Planning!K:X,14,FALSE)=0),"NO DATE",(VLOOKUP(Tableau1[[#This Row],[Ref]],Planning!K:X,14,FALSE))),"NO DATE")) | F17: =IF((Tableau1[[#This Row],[Ref]]=""),"",IF( Tableau1[[#This Row],[Date Besoin Client]]="NO DATE","NO DATE",Tableau1[[#This Row],[Date Besoin Client]]-20)) | G17: =IF((Tableau1[[#This Row],[Ref]]=""),"",(VLOOKUP(Tableau1[[#This Row],[Ref]],'Infos complémentaires'!A:D,4,FALSE))) | H17: =IF((Tableau1[[#This Row],[Ref]]=""),"",(_xlfn.IFNA(IF(VLOOKUP(Tableau1[[#This Row],[Ref]],Manquant!C:C,1,FALSE)=Tableau1[[#This Row],[Ref]],TRUE,FALSE),FALSE))) | I17: =IF((Tableau1[[#This Row],[Ref]]=""),"",COUNTIFS(Manquant!C:C,Tableau1[[#This Row],[Ref]])) | J17: =IF((Tableau1[[#This Row],[Ref]]=""),"",(IF(Tableau1[[#This Row],[Manquant Composants]]=FALSE,"",LOOKUP(Tableau1[[#This Row],[Ref]],(IF(ISBLANK(Tableau2[Date de réapprovisionnement]),(IF(ISBLANK(Tableau2[Date de réappro estimée]),"NO DATE",Tableau2[Date de réappro estimée])),Tableau2[Date de réapprovisionnement])))))) | K17: =IF(ISBLANK(Tableau1[[#This Row],[Ref]]),"",(IF(ISBLANK(Tableau1[[#This Row],[Manquant Composants]]),"",(IF(ISBLANK(Manquant!I:I),(IF(ISBLANK(Manquant!J:J),"NO DATE",Manquant!J:J)),Manquant!I:I)))))
A20: N° | B20: Ref | C20: Désignation | D20: NBR Alternatives | E20: NBR CDE-HA | F20: NBR CDE_HA_AR | G20: NBR CDE_HA_AR_C | H20: NBR DA-LANCEE | I20: NBR DA | J20: NBR DEVIS | K20: TOTAL | L20: Dont CRITIQUE
A21: 1 | B21: =IF(ISBLANK(B5),"",B5) -> produit1 | C21: =IF((Tableau14[[#This Row],[Ref]]=""),"",(VLOOKUP(Tableau14[[#This Row],[Ref]],Planning!K:L,2,FALSE))) -> produit1 | D21: =IF((Tableau14[[#This Row],[Ref]]=""),"",COUNTIFS(Manquant!C:C,Tableau14[[#This Row],[Ref]],Manquant!H:H,"Alternatives")) -> 1 | E21: =IF((Tableau14[[#This Row],[Ref]]=""),"",COUNTIFS(Manquant!C:C,Tableau14[[#This Row],[Ref]],Manquant!H:H,"CDE_HA")) -> 1 | F21: =IF((Tableau14[[#This Row],[Ref]]=""),"",COUNTIFS(Manquant!C:C,Tableau14[[#This Row],[Ref]],Manquant!H:H,"CDE_HA_AR")) -> 1 | G21: =IF((Tableau14[[#This Row],[Ref]]=""),"",COUNTIFS(Manquant!C:C,Tableau14[[#This Row],[Ref]],Manquant!H:H,"CDE_HA_AR_C")) -> 1 | H21: =IF((Tableau14[[#This Row],[Ref]]=""),"",COUNTIFS(Manquant!C:C,Tableau14[[#This Row],[Ref]],Manquant!H:H,"DA_LANCEE")) -> 0 | I21: =IF((Tableau14[[#This Row],[Ref]]=""),"",COUNTIFS(Manquant!C:C,Tableau14[[#This Row],[Ref]],Manquant!H:H,"DA")) -> 0 | J21: =IF((Tableau14[[#This Row],[Ref]]=""),"",COUNTIFS(Manquant!C:C,Tableau14[[#This Row],[Ref]],Manquant!H:H,"DEVIS")) -> 0 | K21: =IF((Tableau14[[#This Row],[Ref]]=""),"",SUM(Tableau14[[#This Row],[NBR Alternatives]:[NBR DEVIS]])) -> 4 | L21: =IF((Tableau14[[#This Row],[Ref]]=""),"",COUNTIFS(Manquant!C:C,Tableau14[[#This Row],[Ref]],Manquant!N:N,TRUE)) -> 3
A22: 2 | B22: =IF(ISBLANK(B6),"",B6) -> produit2 | C22: =IF((Tableau14[[#This Row],[Ref]]=""),"",(VLOOKUP(Tableau14[[#This Row],[Ref]],Planning!K:L,2,FALSE))) -> produit2 | D22: =IF((Tableau14[[#This Row],[Ref]]=""),"",COUNTIFS(Manquant!C:C,Tableau14[[#This Row],[Ref]],Manquant!H:H,"Alternatives")) -> 0 | E22: =IF((Tableau14[[#This Row],[Ref]]=""),"",COUNTIFS(Manquant!C:C,Tableau14[[#This Row],[Ref]],Manquant!H:H,"CDE_HA")) -> 0 | F22: =IF((Tableau14[[#This Row],[Ref]]=""),"",COUNTIFS(Manquant!C:C,Tableau14[[#This Row],[Ref]],Manquant!H:H,"CDE_HA_AR")) -> 0 | G22: =IF((Tableau14[[#This Row],[Ref]]=""),"",COUNTIFS(Manquant!C:C,Tableau14[[#This Row],[Ref]],Manquant!H:H,"CDE_HA_AR_C")) -> 0 | H22: =IF((Tableau14[[#This Row],[Ref]]=""),"",COUNTIFS(Manquant!C:C,Tableau14[[#This Row],[Ref]],Manquant!H:H,"DA_LANCEE")) -> 1 | I22: =IF((Tableau14[[#This Row],[Ref]]=""),"",COUNTIFS(Manquant!C:C,Tableau14[[#This Row],[Ref]],Manquant!H:H,"DA")) -> 1 | J22: =IF((Tableau14[[#This Row],[Ref]]=""),"",COUNTIFS(Manquant!C:C,Tableau14[[#This Row],[Ref]],Manquant!H:H,"DEVIS")) -> 1 | K22: =IF((Tableau14[[#This Row],[Ref]]=""),"",SUM(Tableau14[[#This Row],[NBR Alternatives]:[NBR DEVIS]])) -> 3 | L22: =IF((Tableau14[[#This Row],[Ref]]=""),"",COUNTIFS(Manquant!C:C,Tableau14[[#This Row],[Ref]],Manquant!N:N,TRUE)) -> 3
A23: 3 | B23: =IF(ISBLANK(B7),"",B7) -> produit3 | C23: =IF((Tableau14[[#This Row],[Ref]]=""),"",(VLOOKUP(Tableau14[[#This Row],[Ref]],Planning!K:L,2,FALSE))) -> produit3 | D23: =IF((Tableau14[[#This Row],[Ref]]=""),"",COUNTIFS(Manquant!C:C,Tableau14[[#This Row],[Ref]],Manquant!H:H,"Alternatives")) -> 0 | E23: =IF((Tableau14[[#This Row],[Ref]]=""),"",COUNTIFS(Manquant!C:C,Tableau14[[#This Row],[Ref]],Manquant!H:H,"CDE_HA")) -> 0 | F23: =IF((Tableau14[[#This Row],[Ref]]=""),"",COUNTIFS(Manquant!C:C,Tableau14[[#This Row],[Ref]],Manquant!H:H,"CDE_HA_AR")) -> 1 | G23: =IF((Tableau14[[#This Row],[Ref]]=""),"",COUNTIFS(Manquant!C:C,Tableau14[[#This Row],[Ref]],Manquant!H:H,"CDE_HA_AR_C")) -> 0 | H23: =IF((Tableau14[[#This Row],[Ref]]=""),"",COUNTIFS(Manquant!C:C,Tableau14[[#This Row],[Ref]],Manquant!H:H,"DA_LANCEE")) -> 0 | I23: =IF((Tableau14[[#This Row],[Ref]]=""),"",COUNTIFS(Manquant!C:C,Tableau14[[#This Row],[Ref]],Manquant!H:H,"DA")) -> 1 | J23: =IF((Tableau14[[#This Row],[Ref]]=""),"",COUNTIFS(Manquant!C:C,Tableau14[[#This Row],[Ref]],Manquant!H:H,"DEVIS")) -> 0 | K23: =IF((Tableau14[[#This Row],[Ref]]=""),"",SUM(Tableau14[[#This Row],[NBR Alternatives]:[NBR DEVIS]])) -> 2 | L23: =IF((Tableau14[[#This Row],[Ref]]=""),"",COUNTIFS(Manquant!C:C,Tableau14[[#This Row],[Ref]],Manquant!N:N,TRUE)) -> 0
A24: 4 | B24: =IF(ISBLANK(B8),"",B8) -> produit4 | C24: =IF((Tableau14[[#This Row],[Ref]]=""),"",(VLOOKUP(Tableau14[[#This Row],[Ref]],Planning!K:L,2,FALSE))) -> produit4 | D24: =IF((Tableau14[[#This Row],[Ref]]=""),"",COUNTIFS(Manquant!C:C,Tableau14[[#This Row],[Ref]],Manquant!H:H,"Alternatives")) -> 0 | E24: =IF((Tableau14[[#This Row],[Ref]]=""),"",COUNTIFS(Manquant!C:C,Tableau14[[#This Row],[Ref]],Manquant!H:H,"CDE_HA")) -> 0 | F24: =IF((Tableau14[[#This Row],[Ref]]=""),"",COUNTIFS(Manquant!C:C,Tableau14[[#This Row],[Ref]],Manquant!H:H,"CDE_HA_AR")) -> 1 | G24: =IF((Tableau14[[#This Row],[Ref]]=""),"",COUNTIFS(Manquant!C:C,Tableau14[[#This Row],[Ref]],Manquant!H:H,"CDE_HA_AR_C")) -> 0 | H24: =IF((Tableau14[[#This Row],[Ref]]=""),"",COUNTIFS(Manquant!C:C,Tableau14[[#This Row],[Ref]],Manquant!H:H,"DA_LANCEE")) -> 0 | I24: =IF((Tableau14[[#This Row],[Ref]]=""),"",COUNTIFS(Manquant!C:C,Tableau14[[#This Row],[Ref]],Manquant!H:H,"DA")) -> 0 | J24: =IF((Tableau14[[#This Row],[Ref]]=""),"",COUNTIFS(Manquant!C:C,Tableau14[[#This Row],[Ref]],Manquant!H:H,"DEVIS")) -> 0 | K24: =IF((Tableau14[[#This Row],[Ref]]=""),"",SUM(Tableau14[[#This Row],[NBR Alternatives]:[NBR DEVIS]])) -> 1 | L24: =IF((Tableau14[[#This Row],[Ref]]=""),"",COUNTIFS(Manquant!C:C,Tableau14[[#This Row],[Ref]],Manquant!N:N,TRUE)) -> 0
A25: 5 | B25: =IF(ISBLANK(B9),"",B9) | C25: =IF((Tableau14[[#This Row],[Ref]]=""),"",(VLOOKUP(Tableau14[[#This Row],[Ref]],Planning!K:L,2,FALSE))) | D25: =IF((Tableau14[[#This Row],[Ref]]=""),"",COUNTIFS(Manquant!C:C,Tableau14[[#This Row],[Ref]],Manquant!H:H,"Alternatives")) | E25: =IF((Tableau14[[#This Row],[Ref]]=""),"",COUNTIFS(Manquant!C:C,Tableau14[[#This Row],[Ref]],Manquant!H:H,"CDE_HA")) | F25: =IF((Tableau14[[#This Row],[Ref]]=""),"",COUNTIFS(Manquant!C:C,Tableau14[[#This Row],[Ref]],Manquant!H:H,"CDE_HA_AR")) | G25: =IF((Tableau14[[#This Row],[Ref]]=""),"",COUNTIFS(Manquant!C:C,Tableau14[[#This Row],[Ref]],Manquant!H:H,"CDE_HA_AR_C")) | H25: =IF((Tableau14[[#This Row],[Ref]]=""),"",COUNTIFS(Manquant!C:C,Tableau14[[#This Row],[Ref]],Manquant!H:H,"DA_LANCEE")) | I25: =IF((Tableau14[[#This Row],[Ref]]=""),"",COUNTIFS(Manquant!C:C,Tableau14[[#This Row],[Ref]],Manquant!H:H,"DA")) | J25: =IF((Tableau14[[#This Row],[Ref]]=""),"",COUNTIFS(Manquant!C:C,Tableau14[[#This Row],[Ref]],Manquant!H:H,"DEVIS")) | K25: =IF((Tableau14[[#This Row],[Ref]]=""),"",SUM(Tableau14[[#This Row],[NBR Alternatives]:[NBR DEVIS]])) | L25: =IF((Tableau14[[#This Row],[Ref]]=""),"",COUNTIFS(Manquant!C:C,Tableau14[[#This Row],[Ref]],Manquant!N:N,TRUE))
A26: 6 | B26: =IF(ISBLANK(B10),"",B10) | C26: =IF((Tableau14[[#This Row],[Ref]]=""),"",(VLOOKUP(Tableau14[[#This Row],[Ref]],Planning!K:L,2,FALSE))) | D26: =IF((Tableau14[[#This Row],[Ref]]=""),"",COUNTIFS(Manquant!C:C,Tableau14[[#This Row],[Ref]],Manquant!H:H,"Alternatives")) | E26: =IF((Tableau14[[#This Row],[Ref]]=""),"",COUNTIFS(Manquant!C:C,Tableau14[[#This Row],[Ref]],Manquant!H:H,"CDE_HA")) | F26: =IF((Tableau14[[#This Row],[Ref]]=""),"",COUNTIFS(Manquant!C:C,Tableau14[[#This Row],[Ref]],Manquant!H:H,"CDE_HA_AR")) | G26: =IF((Tableau14[[#This Row],[Ref]]=""),"",COUNTIFS(Manquant!C:C,Tableau14[[#This Row],[Ref]],Manquant!H:H,"CDE_HA_AR_C")) | H26: =IF((Tableau14[[#This Row],[Ref]]=""),"",COUNTIFS(Manquant!C:C,Tableau14[[#This Row],[Ref]],Manquant!H:H,"DA_LANCEE")) | I26: =IF((Tableau14[[#This Row],[Ref]]=""),"",COUNTIFS(Manquant!C:C,Tableau14[[#This Row],[Ref]],Manquant!H:H,"DA")) | J26: =IF((Tableau14[[#This Row],[Ref]]=""),"",COUNTIFS(Manquant!C:C,Tableau14[[#This Row],[Ref]],Manquant!H:H,"DEVIS")) | K26: =IF((Tableau14[[#This Row],[Ref]]=""),"",SUM(Tableau14[[#This Row],[NBR Alternatives]:[NBR DEVIS]])) | L26: =IF((Tableau14[[#This Row],[Ref]]=""),"",COUNTIFS(Manquant!C:C,Tableau14[[#This Row],[Ref]],Manquant!N:N,TRUE))
A27: 7 | B27: =IF(ISBLANK(B11),"",B11) | C27: =IF((Tableau14[[#This Row],[Ref]]=""),"",(VLOOKUP(Tableau14[[#This Row],[Ref]],Planning!K:L,2,FALSE))) | D27: =IF((Tableau14[[#This Row],[Ref]]=""),"",COUNTIFS(Manquant!C:C,Tableau14[[#This Row],[Ref]],Manquant!H:H,"Alternatives")) | E27: =IF((Tableau14[[#This Row],[Ref]]=""),"",COUNTIFS(Manquant!C:C,Tableau14[[#This Row],[Ref]],Manquant!H:H,"CDE_HA")) | F27: =IF((Tableau14[[#This Row],[Ref]]=""),"",COUNTIFS(Manquant!C:C,Tableau14[[#This Row],[Ref]],Manquant!H:H,"CDE_HA_AR")) | G27: =IF((Tableau14[[#This Row],[Ref]]=""),"",COUNTIFS(Manquant!C:C,Tableau14[[#This Row],[Ref]],Manquant!H:H,"CDE_HA_AR_C")) | H27: =IF((Tableau14[[#This Row],[Ref]]=""),"",COUNTIFS(Manquant!C:C,Tableau14[[#This Row],[Ref]],Manquant!H:H,"DA_LANCEE")) | I27: =IF((Tableau14[[#This Row],[Ref]]=""),"",COUNTIFS(Manquant!C:C,Tableau14[[#This Row],[Ref]],Manquant!H:H,"DA")) | J27: =IF((Tableau14[[#This Row],[Ref]]=""),"",COUNTIFS(Manquant!C:C,Tableau14[[#This Row],[Ref]],Manquant!H:H,"DEVIS")) | K27: =IF((Tableau14[[#This Row],[Ref]]=""),"",SUM(Tableau14[[#This Row],[NBR Alternatives]:[NBR DEVIS]])) | L27: =IF((Tableau14[[#This Row],[Ref]]=""),"",COUNTIFS(Manquant!C:C,Tableau14[[#This Row],[Ref]],Manquant!N:N,TRUE))
A28: 8 | B28: =IF(ISBLANK(B12),"",B12) | C28: =IF((Tableau14[[#This Row],[Ref]]=""),"",(VLOOKUP(Tableau14[[#This Row],[Ref]],Planning!K:L,2,FALSE))) | D28: =IF((Tableau14[[#This Row],[Ref]]=""),"",COUNTIFS(Manquant!C:C,Tableau14[[#This Row],[Ref]],Manquant!H:H,"Alternatives")) | E28: =IF((Tableau14[[#This Row],[Ref]]=""),"",COUNTIFS(Manquant!C:C,Tableau14[[#This Row],[Ref]],Manquant!H:H,"CDE_HA")) | F28: =IF((Tableau14[[#This Row],[Ref]]=""),"",COUNTIFS(Manquant!C:C,Tableau14[[#This Row],[Ref]],Manquant!H:H,"CDE_HA_AR")) | G28: =IF((Tableau14[[#This Row],[Ref]]=""),"",COUNTIFS(Manquant!C:C,Tableau14[[#This Row],[Ref]],Manquant!H:H,"CDE_HA_AR_C")) | H28: =IF((Tableau14[[#This Row],[Ref]]=""),"",COUNTIFS(Manquant!C:C,Tableau14[[#This Row],[Ref]],Manquant!H:H,"DA_LANCEE")) | I28: =IF((Tableau14[[#This Row],[Ref]]=""),"",COUNTIFS(Manquant!C:C,Tableau14[[#This Row],[Ref]],Manquant!H:H,"DA")) | J28: =IF((Tableau14[[#This Row],[Ref]]=""),"",COUNTIFS(Manquant!C:C,Tableau14[[#This Row],[Ref]],Manquant!H:H,"DEVIS")) | K28: =IF((Tableau14[[#This Row],[Ref]]=""),"",SUM(Tableau14[[#This Row],[NBR Alternatives]:[NBR DEVIS]])) | L28: =IF((Tableau14[[#This Row],[Ref]]=""),"",COUNTIFS(Manquant!C:C,Tableau14[[#This Row],[Ref]],Manquant!N:N,TRUE))
A29: 9 | B29: =IF(ISBLANK(B13),"",B13) | C29: =IF((Tableau14[[#This Row],[Ref]]=""),"",(VLOOKUP(Tableau14[[#This Row],[Ref]],Planning!K:L,2,FALSE))) | D29: =IF((Tableau14[[#This Row],[Ref]]=""),"",COUNTIFS(Manquant!C:C,Tableau14[[#This Row],[Ref]],Manquant!H:H,"Alternatives")) | E29: =IF((Tableau14[[#This Row],[Ref]]=""),"",COUNTIFS(Manquant!C:C,Tableau14[[#This Row],[Ref]],Manquant!H:H,"CDE_HA")) | F29: =IF((Tableau14[[#This Row],[Ref]]=""),"",COUNTIFS(Manquant!C:C,Tableau14[[#This Row],[Ref]],Manquant!H:H,"CDE_HA_AR")) | G29: =IF((Tableau14[[#This Row],[Ref]]=""),"",COUNTIFS(Manquant!C:C,Tableau14[[#This Row],[Ref]],Manquant!H:H,"CDE_HA_AR_C")) | H29: =IF((Tableau14[[#This Row],[Ref]]=""),"",COUNTIFS(Manquant!C:C,Tableau14[[#This Row],[Ref]],Manquant!H:H,"DA_LANCEE")) | I29: =IF((Tableau14[[#This Row],[Ref]]=""),"",COUNTIFS(Manquant!C:C,Tableau14[[#This Row],[Ref]],Manquant!H:H,"DA")) | J29: =IF((Tableau14[[#This Row],[Ref]]=""),"",COUNTIFS(Manquant!C:C,Tableau14[[#This Row],[Ref]],Manquant!H:H,"DEVIS")) | K29: =IF((Tableau14[[#This Row],[Ref]]=""),"",SUM(Tableau14[[#This Row],[NBR Alternatives]:[NBR DEVIS]])) | L29: =IF((Tableau14[[#This Row],[Ref]]=""),"",COUNTIFS(Manquant!C:C,Tableau14[[#This Row],[Ref]],Manquant!N:N,TRUE))
A30: 10 | B30: =IF(ISBLANK(B14),"",B14) | C30: =IF((Tableau14[[#This Row],[Ref]]=""),"",(VLOOKUP(Tableau14[[#This Row],[Ref]],Planning!K:L,2,FALSE))) | D30: =IF((Tableau14[[#This Row],[Ref]]=""),"",COUNTIFS(Manquant!C:C,Tableau14[[#This Row],[Ref]],Manquant!H:H,"Alternatives")) | E30: =IF((Tableau14[[#This Row],[Ref]]=""),"",COUNTIFS(Manquant!C:C,Tableau14[[#This Row],[Ref]],Manquant!H:H,"CDE_HA")) | F30: =IF((Tableau14[[#This Row],[Ref]]=""),"",COUNTIFS(Manquant!C:C,Tableau14[[#This Row],[Ref]],Manquant!H:H,"CDE_HA_AR")) | G30: =IF((Tableau14[[#This Row],[Ref]]=""),"",COUNTIFS(Manquant!C:C,Tableau14[[#This Row],[Ref]],Manquant!H:H,"CDE_HA_AR_C")) | H30: =IF((Tableau14[[#This Row],[Ref]]=""),"",COUNTIFS(Manquant!C:C,Tableau14[[#This Row],[Ref]],Manquant!H:H,"DA_LANCEE")) | I30: =IF((Tableau14[[#This Row],[Ref]]=""),"",COUNTIFS(Manquant!C:C,Tableau14[[#This Row],[Ref]],Manquant!H:H,"DA")) | J30: =IF((Tableau14[[#This Row],[Ref]]=""),"",COUNTIFS(Manquant!C:C,Tableau14[[#This Row],[Ref]],Manquant!H:H,"DEVIS")) | K30: =IF((Tableau14[[#This Row],[Ref]]=""),"",SUM(Tableau14[[#This Row],[NBR Alternatives]:[NBR DEVIS]])) | L30: =IF((Tableau14[[#This Row],[Ref]]=""),"",COUNTIFS(Manquant!C:C,Tableau14[[#This Row],[Ref]],Manquant!N:N,TRUE))
A31: 11 | B31: =IF(ISBLANK(B15),"",B15) | C31: =IF((Tableau14[[#This Row],[Ref]]=""),"",(VLOOKUP(Tableau14[[#This Row],[Ref]],Planning!K:L,2,FALSE))) | D31: =IF((Tableau14[[#This Row],[Ref]]=""),"",COUNTIFS(Manquant!C:C,Tableau14[[#This Row],[Ref]],Manquant!H:H,"Alternatives")) | E31: =IF((Tableau14[[#This Row],[Ref]]=""),"",COUNTIFS(Manquant!C:C,Tableau14[[#This Row],[Ref]],Manquant!H:H,"CDE_HA")) | F31: =IF((Tableau14[[#This Row],[Ref]]=""),"",COUNTIFS(Manquant!C:C,Tableau14[[#This Row],[Ref]],Manquant!H:H,"CDE_HA_AR")) | G31: =IF((Tableau14[[#This Row],[Ref]]=""),"",COUNTIFS(Manquant!C:C,Tableau14[[#This Row],[Ref]],Manquant!H:H,"CDE_HA_AR_C")) | H31: =IF((Tableau14[[#This Row],[Ref]]=""),"",COUNTIFS(Manquant!C:C,Tableau14[[#This Row],[Ref]],Manquant!H:H,"DA_LANCEE")) | I31: =IF((Tableau14[[#This Row],[Ref]]=""),"",COUNTIFS(Manquant!C:C,Tableau14[[#This Row],[Ref]],Manquant!H:H,"DA")) | J31: =IF((Tableau14[[#This Row],[Ref]]=""),"",COUNTIFS(Manquant!C:C,Tableau14[[#This Row],[Ref]],Manquant!H:H,"DEVIS")) | K31: =IF((Tableau14[[#This Row],[Ref]]=""),"",SUM(Tableau14[[#This Row],[NBR Alternatives]:[NBR DEVIS]])) | L31: =IF((Tableau14[[#This Row],[Ref]]=""),"",COUNTIFS(Manquant!C:C,Tableau14[[#This Row],[Ref]],Manquant!N:N,TRUE))
A32: 12 | B32: =IF(ISBLANK(B16),"",B16) | C32: =IF((Tableau14[[#This Row],[Ref]]=""),"",(VLOOKUP(Tableau14[[#This Row],[Ref]],Planning!K:L,2,FALSE))) | D32: =IF((Tableau14[[#This Row],[Ref]]=""),"",COUNTIFS(Manquant!C:C,Tableau14[[#This Row],[Ref]],Manquant!H:H,"Alternatives")) | E32: =IF((Tableau14[[#This Row],[Ref]]=""),"",COUNTIFS(Manquant!C:C,Tableau14[[#This Row],[Ref]],Manquant!H:H,"CDE_HA")) | F32: =IF((Tableau14[[#This Row],[Ref]]=""),"",COUNTIFS(Manquant!C:C,Tableau14[[#This Row],[Ref]],Manquant!H:H,"CDE_HA_AR")) | G32: =IF((Tableau14[[#This Row],[Ref]]=""),"",COUNTIFS(Manquant!C:C,Tableau14[[#This Row],[Ref]],Manquant!H:H,"CDE_HA_AR_C")) | H32: =IF((Tableau14[[#This Row],[Ref]]=""),"",COUNTIFS(Manquant!C:C,Tableau14[[#This Row],[Ref]],Manquant!H:H,"DA_LANCEE")) | I32: =IF((Tableau14[[#This Row],[Ref]]=""),"",COUNTIFS(Manquant!C:C,Tableau14[[#This Row],[Ref]],Manquant!H:H,"DA")) | J32: =IF((Tableau14[[#This Row],[Ref]]=""),"",COUNTIFS(Manquant!C:C,Tableau14[[#This Row],[Ref]],Manquant!H:H,"DEVIS")) | K32: =IF((Tableau14[[#This Row],[Ref]]=""),"",SUM(Tableau14[[#This Row],[NBR Alternatives]:[NBR DEVIS]])) | L32: =IF((Tableau14[[#This Row],[Ref]]=""),"",COUNTIFS(Manquant!C:C,Tableau14[[#This Row],[Ref]],Manquant!N:N,TRUE))
A33: 13 | B33: =IF(ISBLANK(B17),"",B17) | C33: =IF((Tableau14[[#This Row],[Ref]]=""),"",(VLOOKUP(Tableau14[[#This Row],[Ref]],Planning!K:L,2,FALSE))) | D33: =IF((Tableau14[[#This Row],[Ref]]=""),"",COUNTIFS(Manquant!C:C,Tableau14[[#This Row],[Ref]],Manquant!H:H,"Alternatives")) | E33: =IF((Tableau14[[#This Row],[Ref]]=""),"",COUNTIFS(Manquant!C:C,Tableau14[[#This Row],[Ref]],Manquant!H:H,"CDE_HA")) | F33: =IF((Tableau14[[#This Row],[Ref]]=""),"",COUNTIFS(Manquant!C:C,Tableau14[[#This Row],[Ref]],Manquant!H:H,"CDE_HA_AR")) | G33: =IF((Tableau14[[#This Row],[Ref]]=""),"",COUNTIFS(Manquant!C:C,Tableau14[[#This Row],[Ref]],Manquant!H:H,"CDE_HA_AR_C")) | H33: =IF((Tableau14[[#This Row],[Ref]]=""),"",COUNTIFS(Manquant!C:C,Tableau14[[#This Row],[Ref]],Manquant!H:H,"DA_LANCEE")) | I33: =IF((Tableau14[[#This Row],[Ref]]=""),"",COUNTIFS(Manquant!C:C,Tableau14[[#This Row],[Ref]],Manquant!H:H,"DA")) | J33: =IF((Tableau14[[#This Row],[Ref]]=""),"",COUNTIFS(Manquant!C:C,Tableau14[[#This Row],[Ref]],Manquant!H:H,"DEVIS")) | K33: =IF((Tableau14[[#This Row],[Ref]]=""),"",SUM(Tableau14[[#This Row],[NBR Alternatives]:[NBR DEVIS]])) | L33: =IF((Tableau14[[#This Row],[Ref]]=""),"",COUNTIFS(Manquant!C:C,Tableau14[[#This Row],[Ref]],Manquant!N:N,TRUE))

Sheet Infos complémentaires
A1: Ref Produit | B1: Designation Produit | C1: Qtt produit | D1: nbr ref composants/produit
A2: produit1 | D2: 100
A3: produit2 | D3: 200
A4: produit3 | D4: 300
A5: produit4 | D5: 400

Sheet Planning
A1: N° affaire | B1: N° devis | C1: Date de la Demande | D1: Demandeur DT | E1: Demandeur DI | F1: Centre | G1: Activité | H1: Statut DD GITIS | I1: Projet | J1: N° RUN | K1: Référence | L1: Désignation | M1: Qté | N1: Profil de Four | O1: RoHS Plomb | P1: SN | Q1: OI , LT | R1: Livraison client | S1: Date de publication CR | T1: N° de compte-rendu | U1: OF | V1: Statut ADV | W1: Préparateur | X1: Date besoin client | Y1: Date de passage en Statut 22 ou Accord Client commande CIU | Z1: Démarrage CMS | AA1: Livraison de la 1ère cartes ou date d'annulation | AB1: Nb de jour restant avant livraison Ou total de jours St22/livraison. | AC1: Temps de traversée du démarrage CMS à la livraison des cartes | AD1: Commentaires
K2: produit1 | L2: produit1 | X2: 43811
K3: produit2 | L3: produit2 | X3: 43497
K4: produit3 | L4: produit3 | X4: 45729
K5: produit4 | L5: produit4 | X5: 201291
