Workbook

Sheet Manquant
A1: Composé | B1: CIE | C1: Date du besoin | D1: Ordre | E1: Article de l'élément de réappro | F1: Composant | G1: Désignation article | H1: Type de réapprovisionnement | I1: Date de réapprovisionnement | J1: Date de réappro estimée | K1: Commentaires | L1: DATE Réappro | M1: Date Estimée | N1: DATE | O1: Besoin Client | P1: Critique (-25j) | Q1: Commentaires1 | R1: Commentaires2 | S1: Commentaires3 | T1: CommentaireFinal
A2: 263479892MKP | B2: CIE PRO_TV-000 | C2: 43571 | D2: 71208445 | E2: 193546721-01 | F2: 193546700 | G2: DIODE PROTEC.CMS 14V BI 30KW PLAD SP | H2: CDE_HA_AR | I2: 43613 | L2: =IF(ISNUMBER(Manquant[[#This Row],[Date de réapprovisionnement]]),Manquant[[#This Row],[Date de réapprovisionnement]],"") -> 43613 | M2: =IF(ISNUMBER(Manquant[[#This Row],[Date de réappro estimée]]),Manquant[[#This Row],[Date de réappro estimée]],"") | N2: =IF(Manquant[[#This Row],[DATE Réappro]]="",(IF(Manquant[[#This Row],[Date Estimée]]="","NO DATE",Manquant[[#This Row],[Date Estimée]])),Manquant[[#This Row],[DATE Réappro]]) -> 43613 | O2: =IF((VLOOKUP(Manquant[[#This Row],[Composé]],Planning!E:M,9,FALSE))=0,"",(VLOOKUP(Manquant[[#This Row],[Composé]],Planning!E:M,9,FALSE))) | P2: =IF(Manquant[[#This Row],[Besoin Client]]="","NO DATE CLIENT",(IF(Manquant[[#This Row],[DATE]]="NO DATE",TRUE,(IF(Manquant[[#This Row],[Besoin Client]]-Manquant[[#This Row],[DATE]]<25,TRUE,""))))) -> NO DATE CLIENT | Q2: =IF(ISTEXT(Manquant[[#This Row],[Date de réapprovisionnement]]),Manquant[[#This Row],[Date de réapprovisionnement]],"") | R2: =IF(ISTEXT(Manquant[[#This Row],[Date de réappro estimée]]),Manquant[[#This Row],[Date de réappro estimée]],"") | S2: =IF((Manquant[Commentaires]=""),"",Manquant[Commentaires]) | T2: =Manquant[Commentaires1]&CHAR(10)&Manquant[Commentaires2]&CHAR(10)&Manquant[Commentaires3]
A3: 263479892MKP | B3: CIE PRO_TV-000 | C3: 43571 | D3: 71208445 | E3: 193546771-01 | F3: 193546763 | G3: DIODE PROTEC.CMS 22V 30KW PLAD SP | H3: CDE_HA_AR | I3: 43585 | L3: =IF(ISNUMBER(Manquant[[#This Row],[Date de réapprovisionnement]]),Manquant[[#This Row],[Date de réapprovisionnement]],"") -> 43585 | M3: =IF(ISNUMBER(Manquant[[#This Row],[Date de réappro estimée]]),Manquant[[#This Row],[Date de réappro estimée]],"") | N3: =IF(Manquant[[#This Row],[DATE Réappro]]="",(IF(Manquant[[#This Row],[Date Estimée]]="","NO DATE",Manquant[[#This Row],[Date Estimée]])),Manquant[[#This Row],[DATE Réappro]]) -> 43585 | O3: =IF((VLOOKUP(Manquant[[#This Row],[Composé]],Planning!E:M,9,FALSE))=0,"",(VLOOKUP(Manquant[[#This Row],[Composé]],Planning!E:M,9,FALSE))) | P3: =IF(Manquant[[#This Row],[Besoin Client]]="","NO DATE CLIENT",(IF(Manquant[[#This Row],[DATE]]="NO DATE",TRUE,(IF(Manquant[[#This Row],[Besoin Client]]-Manquant[[#This Row],[DATE]]<25,TRUE,""))))) -> NO DATE CLIENT | Q3: =IF(ISTEXT(Manquant[[#This Row],[Date de réapprovisionnement]]),Manquant[[#This Row],[Date de réapprovisionnement]],"") | R3: =IF(ISTEXT(Manquant[[#This Row],[Date de réappro estimée]]),Manquant[[#This Row],[Date de réappro estimée]],"") | S3: =IF((Manquant[Commentaires]=""),"",Manquant[Commentaires]) | T3: =Manquant[Commentaires1]&CHAR(10)&Manquant[Commentaires2]&CHAR(10)&Manquant[Commentaires3]
A4: 263479892MKP | B4: CIE PRO_TV-000 | C4: 43571 | D4: 71208445 | E4: 193546875-01 | F4: 193546867 | G4: DIODE PROTEC.CMS 22V BI 30KW PLAD SP | H4: CDE_HA_AR | I4: 43627 | L4: =IF(ISNUMBER(Manquant[[#This Row],[Date de réapprovisionnement]]),Manquant[[#This Row],[Date de réapprovisionnement]],"") -> 43627 | M4: =IF(ISNUMBER(Manquant[[#This Row],[Date de réappro estimée]]),Manquant[[#This Row],[Date de réappro estimée]],"") | N4: =IF(Manquant[[#This Row],[DATE Réappro]]="",(IF(Manquant[[#This Row],[Date Estimée]]="","NO DATE",Manquant[[#This Row],[Date Estimée]])),Manquant[[#This Row],[DATE Réappro]]) -> 43627 | O4: =IF((VLOOKUP(Manquant[[#This Row],[Composé]],Planning!E:M,9,FALSE))=0,"",(VLOOKUP(Manquant[[#This Row],[Composé]],Planning!E:M,9,FALSE))) | P4: =IF(Manquant[[#This Row],[Besoin Client]]="","NO DATE CLIENT",(IF(Manquant[[#This Row],[DATE]]="NO DATE",TRUE,(IF(Manquant[[#This Row],[Besoin Client]]-Manquant[[#This Row],[DATE]]<25,TRUE,""))))) -> NO DATE CLIENT | Q4: =IF(ISTEXT(Manquant[[#This Row],[Date de réapprovisionnement]]),Manquant[[#This Row],[Date de réapprovisionnement]],"") | R4: =IF(ISTEXT(Manquant[[#This Row],[Date de réappro estimée]]),Manquant[[#This Row],[Date de réappro estimée]],"") | S4: =IF((Manquant[Commentaires]=""),"",Manquant[Commentaires]) | T4: =Manquant[Commentaires1]&CHAR(10)&Manquant[Commentaires2]&CHAR(10)&Manquant[Commentaires3]
A5: MKP9028378 | B5: Fadec HC | C5: 43595 | D5: 71245415 | E5: 189203290-02 | F5: 189203282 | G5: RELAIS CENTIGRID CMS SERIE 114 2RT 26V | H5: CDE_HA_AR | I5: 43619 | L5: =IF(ISNUMBER(Manquant[[#This Row],[Date de réapprovisionnement]]),Manquant[[#This Row],[Date de réapprovisionnement]],"") -> 43619 | M5: =IF(ISNUMBER(Manquant[[#This Row],[Date de réappro estimée]]),Manquant[[#This Row],[Date de réappro estimée]],"") | N5: =IF(Manquant[[#This Row],[DATE Réappro]]="",(IF(Manquant[[#This Row],[Date Estimée]]="","NO DATE",Manquant[[#This Row],[Date Estimée]])),Manquant[[#This Row],[DATE Réappro]]) -> 43619 | O5: =IF((VLOOKUP(Manquant[[#This Row],[Composé]],Planning!E:M,9,FALSE))=0,"",(VLOOKUP(Manquant[[#This Row],[Composé]],Planning!E:M,9,FALSE))) | P5: =IF(Manquant[[#This Row],[Besoin Client]]="","NO DATE CLIENT",(IF(Manquant[[#This Row],[DATE]]="NO DATE",TRUE,(IF(Manquant[[#This Row],[Besoin Client]]-Manquant[[#This Row],[DATE]]<25,TRUE,""))))) -> NO DATE CLIENT | Q5: =IF(ISTEXT(Manquant[[#This Row],[Date de réapprovisionnement]]),Manquant[[#This Row],[Date de réapprovisionnement]],"") | R5: =IF(ISTEXT(Manquant[[#This Row],[Date de réappro estimée]]),Manquant[[#This Row],[Date de réappro estimée]],"") | S5: =IF((Manquant[Commentaires]=""),"",Manquant[Commentaires]) | T5: =Manquant[Commentaires1]&CHAR(10)&Manquant[Commentaires2]&CHAR(10)&Manquant[Commentaires3]
A6: MKP9028378 | B6: Fadec HC | C6: 43595 | D6: 71245415 | E6: 191724822-01 | F6: 191724801 | G6: IC.CMS ADUM3200 ISOLAT. 2 CHAN. SO8 SP | H6: CDE_HA_AR | I6: 43629 | L6: =IF(ISNUMBER(Manquant[[#This Row],[Date de réapprovisionnement]]),Manquant[[#This Row],[Date de réapprovisionnement]],"") -> 43629 | M6: =IF(ISNUMBER(Manquant[[#This Row],[Date de réappro estimée]]),Manquant[[#This Row],[Date de réappro estimée]],"") | N6: =IF(Manquant[[#This Row],[DATE Réappro]]="",(IF(Manquant[[#This Row],[Date Estimée]]="","NO DATE",Manquant[[#This Row],[Date Estimée]])),Manquant[[#This Row],[DATE Réappro]]) -> 43629 | O6: =IF((VLOOKUP(Manquant[[#This Row],[Composé]],Planning!E:M,9,FALSE))=0,"",(VLOOKUP(Manquant[[#This Row],[Composé]],Planning!E:M,9,FALSE))) | P6: =IF(Manquant[[#This Row],[Besoin Client]]="","NO DATE CLIENT",(IF(Manquant[[#This Row],[DATE]]="NO DATE",TRUE,(IF(Manquant[[#This Row],[Besoin Client]]-Manquant[[#This Row],[DATE]]<25,TRUE,""))))) -> NO DATE CLIENT | Q6: =IF(ISTEXT(Manquant[[#This Row],[Date de réapprovisionnement]]),Manquant[[#This Row],[Date de réapprovisionnement]],"") | R6: =IF(ISTEXT(Manquant[[#This Row],[Date de réappro estimée]]),Manquant[[#This Row],[Date de réappro estimée]],"") | S6: =IF((Manquant[Commentaires]=""),"",Manquant[Commentaires]) | T6: =Manquant[Commentaires1]&CHAR(10)&Manquant[Commentaires2]&CHAR(10)&Manquant[Commentaires3]
A7: MKP9028378 | B7: Fadec HC | C7: 43595 | D7: 71245415 | E7: 191736690-01 | F7: 191736637 | G7: TRANSFO CMS MB09904 SP | H7: CDE_HA | I7: Attente AR | J7: 43588 | K7: Commande retour en signature cause mauvais prix (26/04) | L7: =IF(ISNUMBER(Manquant[[#This Row],[Date de réapprovisionnement]]),Manquant[[#This Row],[Date de réapprovisionnement]],"") | M7: =IF(ISNUMBER(Manquant[[#This Row],[Date de réappro estimée]]),Manquant[[#This Row],[Date de réappro estimée]],"") -> 43588 | N7: =IF(Manquant[[#This Row],[DATE Réappro]]="",(IF(Manquant[[#This Row],[Date Estimée]]="","NO DATE",Manquant[[#This Row],[Date Estimée]])),Manquant[[#This Row],[DATE Réappro]]) -> 43588 | O7: =IF((VLOOKUP(Manquant[[#This Row],[Composé]],Planning!E:M,9,FALSE))=0,"",(VLOOKUP(Manquant[[#This Row],[Composé]],Planning!E:M,9,FALSE))) | P7: =IF(Manquant[[#This Row],[Besoin Client]]="","NO DATE CLIENT",(IF(Manquant[[#This Row],[DATE]]="NO DATE",TRUE,(IF(Manquant[[#This Row],[Besoin Client]]-Manquant[[#This Row],[DATE]]<25,TRUE,""))))) -> NO DATE CLIENT | Q7: =IF(ISTEXT(Manquant[[#This Row],[Date de réapprovisionnement]]),Manquant[[#This Row],[Date de réapprovisionnement]],"") -> Attente AR | R7: =IF(ISTEXT(Manquant[[#This Row],[Date de réappro estimée]]),Manquant[[#This Row],[Date de réappro estimée]],"") | S7: =IF((Manquant[Commentaires]=""),"",Manquant[Commentaires]) -> Commande retour en signature cause mauvais prix (26/04) | T7: =Manquant[Commentaires1]&CHAR(10)&Manquant[Commentaires2]&CHAR(10)&Manquant[Commentaires3] -> Attente AR Commande retour en signature cause mauvais prix (26/04)
A8: MKP9028378 | B8: Fadec HC | C8: 43600 | D8: 71245415 | E8: 193089573-01 | F8: 193089560 | G8: IC.CMS IGLOO2 FLASH FPGA 256KB FBGA484 | H8: CDE_HA_AR | I8: 43584 | L8: =IF(ISNUMBER(Manquant[[#This Row],[Date de réapprovisionnement]]),Manquant[[#This Row],[Date de réapprovisionnement]],"") -> 43584 | M8: =IF(ISNUMBER(Manquant[[#This Row],[Date de réappro estimée]]),Manquant[[#This Row],[Date de réappro estimée]],"") | N8: =IF(Manquant[[#This Row],[DATE Réappro]]="",(IF(Manquant[[#This Row],[Date Estimée]]="","NO DATE",Manquant[[#This Row],[Date Estimée]])),Manquant[[#This Row],[DATE Réappro]]) -> 43584 | O8: =IF((VLOOKUP(Manquant[[#This Row],[Composé]],Planning!E:M,9,FALSE))=0,"",(VLOOKUP(Manquant[[#This Row],[Composé]],Planning!E:M,9,FALSE))) | P8: =IF(Manquant[[#This Row],[Besoin Client]]="","NO DATE CLIENT",(IF(Manquant[[#This Row],[DATE]]="NO DATE",TRUE,(IF(Manquant[[#This Row],[Besoin Client]]-Manquant[[#This Row],[DATE]]<25,TRUE,""))))) -> NO DATE CLIENT | Q8: =IF(ISTEXT(Manquant[[#This Row],[Date de réapprovisionnement]]),Manquant[[#This Row],[Date de réapprovisionnement]],"") | R8: =IF(ISTEXT(Manquant[[#This Row],[Date de réappro estimée]]),Manquant[[#This Row],[Date de réappro estimée]],"") | S8: =IF((Manquant[Commentaires]=""),"",Manquant[Commentaires]) | T8: =Manquant[Commentaires1]&CHAR(10)&Manquant[Commentaires2]&CHAR(10)&Manquant[Commentaires3]
A9: MKP9028378 | B9: Fadec HC | C9: 43595 | D9: 71245415 | E9: 192877289-02 | F9: 193293453 | G9: IC.CMS SDRAM 128MX16 FBGA-96 SP | H9: CDE_HA_AR | I9: 43600 | L9: =IF(ISNUMBER(Manquant[[#This Row],[Date de réapprovisionnement]]),Manquant[[#This Row],[Date de réapprovisionnement]],"") -> 43600 | M9: =IF(ISNUMBER(Manquant[[#This Row],[Date de réappro estimée]]),Manquant[[#This Row],[Date de réappro estimée]],"") | N9: =IF(Manquant[[#This Row],[DATE Réappro]]="",(IF(Manquant[[#This Row],[Date Estimée]]="","NO DATE",Manquant[[#This Row],[Date Estimée]])),Manquant[[#This Row],[DATE Réappro]]) -> 43600 | O9: =IF((VLOOKUP(Manquant[[#This Row],[Composé]],Planning!E:M,9,FALSE))=0,"",(VLOOKUP(Manquant[[#This Row],[Composé]],Planning!E:M,9,FALSE))) | P9: =IF(Manquant[[#This Row],[Besoin Client]]="","NO DATE CLIENT",(IF(Manquant[[#This Row],[DATE]]="NO DATE",TRUE,(IF(Manquant[[#This Row],[Besoin Client]]-Manquant[[#This Row],[DATE]]<25,TRUE,""))))) -> NO DATE CLIENT | Q9: =IF(ISTEXT(Manquant[[#This Row],[Date de réapprovisionnement]]),Manquant[[#This Row],[Date de réapprovisionnement]],"") | R9: =IF(ISTEXT(Manquant[[#This Row],[Date de réappro estimée]]),Manquant[[#This Row],[Date de réappro estimée]],"") | S9: =IF((Manquant[Commentaires]=""),"",Manquant[Commentaires]) | T9: =Manquant[Commentaires1]&CHAR(10)&Manquant[Commentaires2]&CHAR(10)&Manquant[Commentaires3]
A10: MKP9028378 | B10: Fadec HC | C10: 43600 | D10: 71245415 | F10: 193384733MKP | G10: IC.CMS MICROPROC.1,4GHZ FC-PBGA780 SP | H10: CDE_HA | I10: Attente AR | J10: 43610 | K10: Commande Mouser / attente réception end user vierge | L10: =IF(ISNUMBER(Manquant[[#This Row],[Date de réapprovisionnement]]),Manquant[[#This Row],[Date de réapprovisionnement]],"") | M10: =IF(ISNUMBER(Manquant[[#This Row],[Date de réappro estimée]]),Manquant[[#This Row],[Date de réappro estimée]],"") -> 43610 | N10: =IF(Manquant[[#This Row],[DATE Réappro]]="",(IF(Manquant[[#This Row],[Date Estimée]]="","NO DATE",Manquant[[#This Row],[Date Estimée]])),Manquant[[#This Row],[DATE Réappro]]) -> 43610 | O10: =IF((VLOOKUP(Manquant[[#This Row],[Composé]],Planning!E:M,9,FALSE))=0,"",(VLOOKUP(Manquant[[#This Row],[Composé]],Planning!E:M,9,FALSE))) | P10: =IF(Manquant[[#This Row],[Besoin Client]]="","NO DATE CLIENT",(IF(Manquant[[#This Row],[DATE]]="NO DATE",TRUE,(IF(Manquant[[#This Row],[Besoin Client]]-Manquant[[#This Row],[DATE]]<25,TRUE,""))))) -> NO DATE CLIENT | Q10: =IF(ISTEXT(Manquant[[#This Row],[Date de réapprovisionnement]]),Manquant[[#This Row],[Date de réapprovisionnement]],"") -> Attente AR | R10: =IF(ISTEXT(Manquant[[#This Row],[Date de réappro estimée]]),Manquant[[#This Row],[Date de réappro estimée]],"") | S10: =IF((Manquant[Commentaires]=""),"",Manquant[Commentaires]) -> Commande Mouser / attente réception end user vierge | T10: =Manquant[Commentaires1]&CHAR(10)&Manquant[Commentaires2]&CHAR(10)&Manquant[Commentaires3] -> Attente AR Commande Mouser / attente réception end user vierge
A11: MKP9028378 | B11: Fadec HC | C11: 43595 | D11: 71245415 | E11: 193560664-01 | F11: 193560651 | G11: IC.CMS POLARFIRE FPGA MPF300 FCVG484 SP | H11: CDE_HA_AR | I11: 43584 | L11: =IF(ISNUMBER(Manquant[[#This Row],[Date de réapprovisionnement]]),Manquant[[#This Row],[Date de réapprovisionnement]],"") -> 43584 | M11: =IF(ISNUMBER(Manquant[[#This Row],[Date de réappro estimée]]),Manquant[[#This Row],[Date de réappro estimée]],"") | N11: =IF(Manquant[[#This Row],[DATE Réappro]]="",(IF(Manquant[[#This Row],[Date Estimée]]="","NO DATE",Manquant[[#This Row],[Date Estimée]])),Manquant[[#This Row],[DATE Réappro]]) -> 43584 | O11: =IF((VLOOKUP(Manquant[[#This Row],[Composé]],Planning!E:M,9,FALSE))=0,"",(VLOOKUP(Manquant[[#This Row],[Composé]],Planning!E:M,9,FALSE))) | P11: =IF(Manquant[[#This Row],[Besoin Client]]="","NO DATE CLIENT",(IF(Manquant[[#This Row],[DATE]]="NO DATE",TRUE,(IF(Manquant[[#This Row],[Besoin Client]]-Manquant[[#This Row],[DATE]]<25,TRUE,""))))) -> NO DATE CLIENT | Q11: =IF(ISTEXT(Manquant[[#This Row],[Date de réapprovisionnement]]),Manquant[[#This Row],[Date de réapprovisionnement]],"") | R11: =IF(ISTEXT(Manquant[[#This Row],[Date de réappro estimée]]),Manquant[[#This Row],[Date de réappro estimée]],"") | S11: =IF((Manquant[Commentaires]=""),"",Manquant[Commentaires]) | T11: =Manquant[Commentaires1]&CHAR(10)&Manquant[Commentaires2]&CHAR(10)&Manquant[Commentaires3]
A12: MKP9028378 | B12: Fadec HC | C12: 43600 | D12: 71245415 | F12: MKP9028380 | G12: EMB.CIR.806-022-ME-18-85P2CA GLENAIR | H12: CDE_HA_AR | I12: 43598 | L12: =IF(ISNUMBER(Manquant[[#This Row],[Date de réapprovisionnement]]),Manquant[[#This Row],[Date de réapprovisionnement]],"") -> 43598 | M12: =IF(ISNUMBER(Manquant[[#This Row],[Date de réappro estimée]]),Manquant[[#This Row],[Date de réappro estimée]],"") | N12: =IF(Manquant[[#This Row],[DATE Réappro]]="",(IF(Manquant[[#This Row],[Date Estimée]]="","NO DATE",Manquant[[#This Row],[Date Estimée]])),Manquant[[#This Row],[DATE Réappro]]) -> 43598 | O12: =IF((VLOOKUP(Manquant[[#This Row],[Composé]],Planning!E:M,9,FALSE))=0,"",(VLOOKUP(Manquant[[#This Row],[Composé]],Planning!E:M,9,FALSE))) | P12: =IF(Manquant[[#This Row],[Besoin Client]]="","NO DATE CLIENT",(IF(Manquant[[#This Row],[DATE]]="NO DATE",TRUE,(IF(Manquant[[#This Row],[Besoin Client]]-Manquant[[#This Row],[DATE]]<25,TRUE,""))))) -> NO DATE CLIENT | Q12: =IF(ISTEXT(Manquant[[#This Row],[Date de réapprovisionnement]]),Manquant[[#This Row],[Date de réapprovisionnement]],"") | R12: =IF(ISTEXT(Manquant[[#This Row],[Date de réappro estimée]]),Manquant[[#This Row],[Date de réappro estimée]],"") | S12: =IF((Manquant[Commentaires]=""),"",Manquant[Commentaires]) | T12: =Manquant[Commentaires1]&CHAR(10)&Manquant[Commentaires2]&CHAR(10)&Manquant[Commentaires3]
A13: MKP9028378 | B13: Fadec HC | C13: 43600 | D13: 71245415 | F13: MKP9028398 | G13: EMB.CIR.806-022-ME-18-85P2CB GLENAIR | H13: CDE_HA_AR | I13: 43598 | L13: =IF(ISNUMBER(Manquant[[#This Row],[Date de réapprovisionnement]]),Manquant[[#This Row],[Date de réapprovisionnement]],"") -> 43598 | M13: =IF(ISNUMBER(Manquant[[#This Row],[Date de réappro estimée]]),Manquant[[#This Row],[Date de réappro estimée]],"") | N13: =IF(Manquant[[#This Row],[DATE Réappro]]="",(IF(Manquant[[#This Row],[Date Estimée]]="","NO DATE",Manquant[[#This Row],[Date Estimée]])),Manquant[[#This Row],[DATE Réappro]]) -> 43598 | O13: =IF((VLOOKUP(Manquant[[#This Row],[Composé]],Planning!E:M,9,FALSE))=0,"",(VLOOKUP(Manquant[[#This Row],[Composé]],Planning!E:M,9,FALSE))) | P13: =IF(Manquant[[#This Row],[Besoin Client]]="","NO DATE CLIENT",(IF(Manquant[[#This Row],[DATE]]="NO DATE",TRUE,(IF(Manquant[[#This Row],[Besoin Client]]-Manquant[[#This Row],[DATE]]<25,TRUE,""))))) -> NO DATE CLIENT | Q13: =IF(ISTEXT(Manquant[[#This Row],[Date de réapprovisionnement]]),Manquant[[#This Row],[Date de réapprovisionnement]],"") | R13: =IF(ISTEXT(Manquant[[#This Row],[Date de réappro estimée]]),Manquant[[#This Row],[Date de réappro estimée]],"") | S13: =IF((Manquant[Commentaires]=""),"",Manquant[Commentaires]) | T13: =Manquant[Commentaires1]&CHAR(10)&Manquant[Commentaires2]&CHAR(10)&Manquant[Commentaires3]
A14: MKP9028378 | B14: Fadec HC | C14: 43600 | D14: 71245415 | F14: MKP9028400 | G14: EMB.CIR.806-022-ME-20-110P2CA GLENAIR | H14: CDE_HA_AR | I14: 43598 | L14: =IF(ISNUMBER(Manquant[[#This Row],[Date de réapprovisionnement]]),Manquant[[#This Row],[Date de réapprovisionnement]],"") -> 43598 | M14: =IF(ISNUMBER(Manquant[[#This Row],[Date de réappro estimée]]),Manquant[[#This Row],[Date de réappro estimée]],"") | N14: =IF(Manquant[[#This Row],[DATE Réappro]]="",(IF(Manquant[[#This Row],[Date Estimée]]="","NO DATE",Manquant[[#This Row],[Date Estimée]])),Manquant[[#This Row],[DATE Réappro]]) -> 43598 | O14: =IF((VLOOKUP(Manquant[[#This Row],[Composé]],Planning!E:M,9,FALSE))=0,"",(VLOOKUP(Manquant[[#This Row],[Composé]],Planning!E:M,9,FALSE))) | P14: =IF(Manquant[[#This Row],[Besoin Client]]="","NO DATE CLIENT",(IF(Manquant[[#This Row],[DATE]]="NO DATE",TRUE,(IF(Manquant[[#This Row],[Besoin Client]]-Manquant[[#This Row],[DATE]]<25,TRUE,""))))) -> NO DATE CLIENT | Q14: =IF(ISTEXT(Manquant[[#This Row],[Date de réapprovisionnement]]),Manquant[[#This Row],[Date de réapprovisionnement]],"") | R14: =IF(ISTEXT(Manquant[[#This Row],[Date de réappro estimée]]),Manquant[[#This Row],[Date de réappro estimée]],"") | S14: =IF((Manquant[Commentaires]=""),"",Manquant[Commentaires]) | T14: =Manquant[Commentaires1]&CHAR(10)&Manquant[Commentaires2]&CHAR(10)&Manquant[Commentaires3]
A15: MKP9028378 | B15: Fadec HC | C15: 43600 | D15: 71245415 | F15: MKP9028418 | G15: EMB.CIR.806-022-ME-20-110P2CB GLENAIR | H15: CDE_HA_AR | I15: 43598 | L15: =IF(ISNUMBER(Manquant[[#This Row],[Date de réapprovisionnement]]),Manquant[[#This Row],[Date de réapprovisionnement]],"") -> 43598 | M15: =IF(ISNUMBER(Manquant[[#This Row],[Date de réappro estimée]]),Manquant[[#This Row],[Date de réappro estimée]],"") | N15: =IF(Manquant[[#This Row],[DATE Réappro]]="",(IF(Manquant[[#This Row],[Date Estimée]]="","NO DATE",Manquant[[#This Row],[Date Estimée]])),Manquant[[#This Row],[DATE Réappro]]) -> 43598 | O15: =IF((VLOOKUP(Manquant[[#This Row],[Composé]],Planning!E:M,9,FALSE))=0,"",(VLOOKUP(Manquant[[#This Row],[Composé]],Planning!E:M,9,FALSE))) | P15: =IF(Manquant[[#This Row],[Besoin Client]]="","NO DATE CLIENT",(IF(Manquant[[#This Row],[DATE]]="NO DATE",TRUE,(IF(Manquant[[#This Row],[Besoin Client]]-Manquant[[#This Row],[DATE]]<25,TRUE,""))))) -> NO DATE CLIENT | Q15: =IF(ISTEXT(Manquant[[#This Row],[Date de réapprovisionnement]]),Manquant[[#This Row],[Date de réapprovisionnement]],"") | R15: =IF(ISTEXT(Manquant[[#This Row],[Date de réappro estimée]]),Manquant[[#This Row],[Date de réappro estimée]],"") | S15: =IF((Manquant[Commentaires]=""),"",Manquant[Commentaires]) | T15: =Manquant[Commentaires1]&CHAR(10)&Manquant[Commentaires2]&CHAR(10)&Manquant[Commentaires3]
A16: MKP9028378 | B16: Fadec HC | C16: 43600 | D16: 71245415 | F16: MKP9028421 | G16: EMB.CIR.806-022-ME-14-39S2CA GLENAIR | H16: CDE_HA_AR | I16: 43598 | L16: =IF(ISNUMBER(Manquant[[#This Row],[Date de réapprovisionnement]]),Manquant[[#This Row],[Date de réapprovisionnement]],"") -> 43598 | M16: =IF(ISNUMBER(Manquant[[#This Row],[Date de réappro estimée]]),Manquant[[#This Row],[Date de réappro estimée]],"") | N16: =IF(Manquant[[#This Row],[DATE Réappro]]="",(IF(Manquant[[#This Row],[Date Estimée]]="","NO DATE",Manquant[[#This Row],[Date Estimée]])),Manquant[[#This Row],[DATE Réappro]]) -> 43598 | O16: =IF((VLOOKUP(Manquant[[#This Row],[Composé]],Planning!E:M,9,FALSE))=0,"",(VLOOKUP(Manquant[[#This Row],[Composé]],Planning!E:M,9,FALSE))) | P16: =IF(Manquant[[#This Row],[Besoin Client]]="","NO DATE CLIENT",(IF(Manquant[[#This Row],[DATE]]="NO DATE",TRUE,(IF(Manquant[[#This Row],[Besoin Client]]-Manquant[[#This Row],[DATE]]<25,TRUE,""))))) -> NO DATE CLIENT | Q16: =IF(ISTEXT(Manquant[[#This Row],[Date de réapprovisionnement]]),Manquant[[#This Row],[Date de réapprovisionnement]],"") | R16: =IF(ISTEXT(Manquant[[#This Row],[Date de réappro estimée]]),Manquant[[#This Row],[Date de réappro estimée]],"") | S16: =IF((Manquant[Commentaires]=""),"",Manquant[Commentaires]) | T16: =Manquant[Commentaires1]&CHAR(10)&Manquant[Commentaires2]&CHAR(10)&Manquant[Commentaires3]
A17: MKP9028378 | B17: Fadec HC | C17: 43600 | D17: 71245415 | F17: MKP9028801 | G17: INDUCT.CMS Coilcraft ML465PYA153MLZ | H17: CDE_HA_AR | I17: 43606 | L17: =IF(ISNUMBER(Manquant[[#This Row],[Date de réapprovisionnement]]),Manquant[[#This Row],[Date de réapprovisionnement]],"") -> 43606 | M17: =IF(ISNUMBER(Manquant[[#This Row],[Date de réappro estimée]]),Manquant[[#This Row],[Date de réappro estimée]],"") | N17: =IF(Manquant[[#This Row],[DATE Réappro]]="",(IF(Manquant[[#This Row],[Date Estimée]]="","NO DATE",Manquant[[#This Row],[Date Estimée]])),Manquant[[#This Row],[DATE Réappro]]) -> 43606 | O17: =IF((VLOOKUP(Manquant[[#This Row],[Composé]],Planning!E:M,9,FALSE))=0,"",(VLOOKUP(Manquant[[#This Row],[Composé]],Planning!E:M,9,FALSE))) | P17: =IF(Manquant[[#This Row],[Besoin Client]]="","NO DATE CLIENT",(IF(Manquant[[#This Row],[DATE]]="NO DATE",TRUE,(IF(Manquant[[#This Row],[Besoin Client]]-Manquant[[#This Row],[DATE]]<25,TRUE,""))))) -> NO DATE CLIENT | Q17: =IF(ISTEXT(Manquant[[#This Row],[Date de réapprovisionnement]]),Manquant[[#This Row],[Date de réapprovisionnement]],"") | R17: =IF(ISTEXT(Manquant[[#This Row],[Date de réappro estimée]]),Manquant[[#This Row],[Date de réappro estimée]],"") | S17: =IF((Manquant[Commentaires]=""),"",Manquant[Commentaires]) | T17: =Manquant[Commentaires1]&CHAR(10)&Manquant[Commentaires2]&CHAR(10)&Manquant[Commentaires3]
A18: MKP9028378 | B18: Fadec HC | C18: 43600 | D18: 71245415 | F18: MKP9028819 | G18: INDUCT.CMS Coilcraft ML524PYA302MLZ | H18: CDE_HA_AR | I18: 43606 | L18: =IF(ISNUMBER(Manquant[[#This Row],[Date de réapprovisionnement]]),Manquant[[#This Row],[Date de réapprovisionnement]],"") -> 43606 | M18: =IF(ISNUMBER(Manquant[[#This Row],[Date de réappro estimée]]),Manquant[[#This Row],[Date de réappro estimée]],"") | N18: =IF(Manquant[[#This Row],[DATE Réappro]]="",(IF(Manquant[[#This Row],[Date Estimée]]="","NO DATE",Manquant[[#This Row],[Date Estimée]])),Manquant[[#This Row],[DATE Réappro]]) -> 43606 | O18: =IF((VLOOKUP(Manquant[[#This Row],[Composé]],Planning!E:M,9,FALSE))=0,"",(VLOOKUP(Manquant[[#This Row],[Composé]],Planning!E:M,9,FALSE))) | P18: =IF(Manquant[[#This Row],[Besoin Client]]="","NO DATE CLIENT",(IF(Manquant[[#This Row],[DATE]]="NO DATE",TRUE,(IF(Manquant[[#This Row],[Besoin Client]]-Manquant[[#This Row],[DATE]]<25,TRUE,""))))) -> NO DATE CLIENT | Q18: =IF(ISTEXT(Manquant[[#This Row],[Date de réapprovisionnement]]),Manquant[[#This Row],[Date de réapprovisionnement]],"") | R18: =IF(ISTEXT(Manquant[[#This Row],[Date de réappro estimée]]),Manquant[[#This Row],[Date de réappro estimée]],"") | S18: =IF((Manquant[Commentaires]=""),"",Manquant[Commentaires]) | T18: =Manquant[Commentaires1]&CHAR(10)&Manquant[Commentaires2]&CHAR(10)&Manquant[Commentaires3]
A19: MKP9028378 | B19: Fadec HC | C19: 43600 | D19: 71245415 | F19: MKP9028822 | G19: INDUCT.CMS Coilcraft ML524PYA182MLZ | H19: CDE_HA_AR | I19: 43606 | L19: =IF(ISNUMBER(Manquant[[#This Row],[Date de réapprovisionnement]]),Manquant[[#This Row],[Date de réapprovisionnement]],"") -> 43606 | M19: =IF(ISNUMBER(Manquant[[#This Row],[Date de réappro estimée]]),Manquant[[#This Row],[Date de réappro estimée]],"") | N19: =IF(Manquant[[#This Row],[DATE Réappro]]="",(IF(Manquant[[#This Row],[Date Estimée]]="","NO DATE",Manquant[[#This Row],[Date Estimée]])),Manquant[[#This Row],[DATE Réappro]]) -> 43606 | O19: =IF((VLOOKUP(Manquant[[#This Row],[Composé]],Planning!E:M,9,FALSE))=0,"",(VLOOKUP(Manquant[[#This Row],[Composé]],Planning!E:M,9,FALSE))) | P19: =IF(Manquant[[#This Row],[Besoin Client]]="","NO DATE CLIENT",(IF(Manquant[[#This Row],[DATE]]="NO DATE",TRUE,(IF(Manquant[[#This Row],[Besoin Client]]-Manquant[[#This Row],[DATE]]<25,TRUE,""))))) -> NO DATE CLIENT | Q19: =IF(ISTEXT(Manquant[[#This Row],[Date de réapprovisionnement]]),Manquant[[#This Row],[Date de réapprovisionnement]],"") | R19: =IF(ISTEXT(Manquant[[#This Row],[Date de réappro estimée]]),Manquant[[#This Row],[Date de réappro estimée]],"") | S19: =IF((Manquant[Commentaires]=""),"",Manquant[Commentaires]) | T19: =Manquant[Commentaires1]&CHAR(10)&Manquant[Commentaires2]&CHAR(10)&Manquant[Commentaires3]
A20: MKP9028378 | B20: Fadec HC | C20: 43600 | D20: 71245415 | F20: MKP9028892 | G20: EMB.CIR.806-012-ME-18-85SMA GLENAIR | H20: CDE_HA_AR | I20: 43619 | L20: =IF(ISNUMBER(Manquant[[#This Row],[Date de réapprovisionnement]]),Manquant[[#This Row],[Date de réapprovisionnement]],"") -> 43619 | M20: =IF(ISNUMBER(Manquant[[#This Row],[Date de réappro estimée]]),Manquant[[#This Row],[Date de réappro estimée]],"") | N20: =IF(Manquant[[#This Row],[DATE Réappro]]="",(IF(Manquant[[#This Row],[Date Estimée]]="","NO DATE",Manquant[[#This Row],[Date Estimée]])),Manquant[[#This Row],[DATE Réappro]]) -> 43619 | O20: =IF((VLOOKUP(Manquant[[#This Row],[Composé]],Planning!E:M,9,FALSE))=0,"",(VLOOKUP(Manquant[[#This Row],[Composé]],Planning!E:M,9,FALSE))) | P20: =IF(Manquant[[#This Row],[Besoin Client]]="","NO DATE CLIENT",(IF(Manquant[[#This Row],[DATE]]="NO DATE",TRUE,(IF(Manquant[[#This Row],[Besoin Client]]-Manquant[[#This Row],[DATE]]<25,TRUE,""))))) -> NO DATE CLIENT | Q20: =IF(ISTEXT(Manquant[[#This Row],[Date de réapprovisionnement]]),Manquant[[#This Row],[Date de réapprovisionnement]],"") | R20: =IF(ISTEXT(Manquant[[#This Row],[Date de réappro estimée]]),Manquant[[#This Row],[Date de réappro estimée]],"") | S20: =IF((Manquant[Commentaires]=""),"",Manquant[Commentaires]) | T20: =Manquant[Commentaires1]&CHAR(10)&Manquant[Commentaires2]&CHAR(10)&Manquant[Commentaires3]
A21: MKP9028378 | B21: Fadec HC | C21: 43600 | D21: 71245415 | F21: MKP9028905 | G21: EMB.CIR.806-012-ME-18-85SMB GLENAIR | H21: CDE_HA_AR | I21: 43641 | L21: =IF(ISNUMBER(Manquant[[#This Row],[Date de réapprovisionnement]]),Manquant[[#This Row],[Date de réapprovisionnement]],"") -> 43641 | M21: =IF(ISNUMBER(Manquant[[#This Row],[Date de réappro estimée]]),Manquant[[#This Row],[Date de réappro estimée]],"") | N21: =IF(Manquant[[#This Row],[DATE Réappro]]="",(IF(Manquant[[#This Row],[Date Estimée]]="","NO DATE",Manquant[[#This Row],[Date Estimée]])),Manquant[[#This Row],[DATE Réappro]]) -> 43641 | O21: =IF((VLOOKUP(Manquant[[#This Row],[Composé]],Planning!E:M,9,FALSE))=0,"",(VLOOKUP(Manquant[[#This Row],[Composé]],Planning!E:M,9,FALSE))) | P21: =IF(Manquant[[#This Row],[Besoin Client]]="","NO DATE CLIENT",(IF(Manquant[[#This Row],[DATE]]="NO DATE",TRUE,(IF(Manquant[[#This Row],[Besoin Client]]-Manquant[[#This Row],[DATE]]<25,TRUE,""))))) -> NO DATE CLIENT | Q21: =IF(ISTEXT(Manquant[[#This Row],[Date de réapprovisionnement]]),Manquant[[#This Row],[Date de réapprovisionnement]],"") | R21: =IF(ISTEXT(Manquant[[#This Row],[Date de réappro estimée]]),Manquant[[#This Row],[Date de réappro estimée]],"") | S21: =IF((Manquant[Commentaires]=""),"",Manquant[Commentaires]) | T21: =Manquant[Commentaires1]&CHAR(10)&Manquant[Commentaires2]&CHAR(10)&Manquant[Commentaires3]
A22: MKP9028378 | B22: Fadec HC | C22: 43600 | D22: 71245415 | F22: MKP9028918 | G22: EMB.CIR.806-012-ME-20-110SMA GLENAIR | H22: CDE_HA_AR | I22: 43641 | L22: =IF(ISNUMBER(Manquant[[#This Row],[Date de réapprovisionnement]]),Manquant[[#This Row],[Date de réapprovisionnement]],"") -> 43641 | M22: =IF(ISNUMBER(Manquant[[#This Row],[Date de réappro estimée]]),Manquant[[#This Row],[Date de réappro estimée]],"") | N22: =IF(Manquant[[#This Row],[DATE Réappro]]="",(IF(Manquant[[#This Row],[Date Estimée]]="","NO DATE",Manquant[[#This Row],[Date Estimée]])),Manquant[[#This Row],[DATE Réappro]]) -> 43641 | O22: =IF((VLOOKUP(Manquant[[#This Row],[Composé]],Planning!E:M,9,FALSE))=0,"",(VLOOKUP(Manquant[[#This Row],[Composé]],Planning!E:M,9,FALSE))) | P22: =IF(Manquant[[#This Row],[Besoin Client]]="","NO DATE CLIENT",(IF(Manquant[[#This Row],[DATE]]="NO DATE",TRUE,(IF(Manquant[[#This Row],[Besoin Client]]-Manquant[[#This Row],[DATE]]<25,TRUE,""))))) -> NO DATE CLIENT | Q22: =IF(ISTEXT(Manquant[[#This Row],[Date de réapprovisionnement]]),Manquant[[#This Row],[Date de réapprovisionnement]],"") | R22: =IF(ISTEXT(Manquant[[#This Row],[Date de réappro estimée]]),Manquant[[#This Row],[Date de réappro estimée]],"") | S22: =IF((Manquant[Commentaires]=""),"",Manquant[Commentaires]) | T22: =Manquant[Commentaires1]&CHAR(10)&Manquant[Commentaires2]&CHAR(10)&Manquant[Commentaires3]
A23: MKP9028378 | B23: Fadec HC | C23: 43600 | D23: 71245415 | F23: MKP9028926 | G23: EMB.CIR.806-012-ME-20-110SMB GLENAIR | H23: CDE_HA_AR | I23: 43641 | L23: =IF(ISNUMBER(Manquant[[#This Row],[Date de réapprovisionnement]]),Manquant[[#This Row],[Date de réapprovisionnement]],"") -> 43641 | M23: =IF(ISNUMBER(Manquant[[#This Row],[Date de réappro estimée]]),Manquant[[#This Row],[Date de réappro estimée]],"") | N23: =IF(Manquant[[#This Row],[DATE Réappro]]="",(IF(Manquant[[#This Row],[Date Estimée]]="","NO DATE",Manquant[[#This Row],[Date Estimée]])),Manquant[[#This Row],[DATE Réappro]]) -> 43641 | O23: =IF((VLOOKUP(Manquant[[#This Row],[Composé]],Planning!E:M,9,FALSE))=0,"",(VLOOKUP(Manquant[[#This Row],[Composé]],Planning!E:M,9,FALSE))) | P23: =IF(Manquant[[#This Row],[Besoin Client]]="","NO DATE CLIENT",(IF(Manquant[[#This Row],[DATE]]="NO DATE",TRUE,(IF(Manquant[[#This Row],[Besoin Client]]-Manquant[[#This Row],[DATE]]<25,TRUE,""))))) -> NO DATE CLIENT | Q23: =IF(ISTEXT(Manquant[[#This Row],[Date de réapprovisionnement]]),Manquant[[#This Row],[Date de réapprovisionnement]],"") | R23: =IF(ISTEXT(Manquant[[#This Row],[Date de réappro estimée]]),Manquant[[#This Row],[Date de réappro estimée]],"") | S23: =IF((Manquant[Commentaires]=""),"",Manquant[Commentaires]) | T23: =Manquant[Commentaires1]&CHAR(10)&Manquant[Commentaires2]&CHAR(10)&Manquant[Commentaires3]
A24: MKP9028378 | B24: Fadec HC | C24: 43600 | D24: 71245415 | F24: MKP9028939 | G24: EMB.CIR.806-012-ME-14-39PMA GLENAIR | H24: CDE_HA_AR | I24: 43619 | L24: =IF(ISNUMBER(Manquant[[#This Row],[Date de réapprovisionnement]]),Manquant[[#This Row],[Date de réapprovisionnement]],"") -> 43619 | M24: =IF(ISNUMBER(Manquant[[#This Row],[Date de réappro estimée]]),Manquant[[#This Row],[Date de réappro estimée]],"") | N24: =IF(Manquant[[#This Row],[DATE Réappro]]="",(IF(Manquant[[#This Row],[Date Estimée]]="","NO DATE",Manquant[[#This Row],[Date Estimée]])),Manquant[[#This Row],[DATE Réappro]]) -> 43619 | O24: =IF((VLOOKUP(Manquant[[#This Row],[Composé]],Planning!E:M,9,FALSE))=0,"",(VLOOKUP(Manquant[[#This Row],[Composé]],Planning!E:M,9,FALSE))) | P24: =IF(Manquant[[#This Row],[Besoin Client]]="","NO DATE CLIENT",(IF(Manquant[[#This Row],[DATE]]="NO DATE",TRUE,(IF(Manquant[[#This Row],[Besoin Client]]-Manquant[[#This Row],[DATE]]<25,TRUE,""))))) -> NO DATE CLIENT | Q24: =IF(ISTEXT(Manquant[[#This Row],[Date de réapprovisionnement]]),Manquant[[#This Row],[Date de réapprovisionnement]],"") | R24: =IF(ISTEXT(Manquant[[#This Row],[Date de réappro estimée]]),Manquant[[#This Row],[Date de réappro estimée]],"") | S24: =IF((Manquant[Commentaires]=""),"",Manquant[Commentaires]) | T24: =Manquant[Commentaires1]&CHAR(10)&Manquant[Commentaires2]&CHAR(10)&Manquant[Commentaires3]
A25: MKP9028378 | B25: Fadec HC | C25: 43595 | D25: 71246411 | E25: 189203290-02 | F25: 189203282 | G25: RELAIS CENTIGRID CMS SERIE 114 2RT 26V | H25: CDE_HA_AR | I25: 43619 | L25: =IF(ISNUMBER(Manquant[[#This Row],[Date de réapprovisionnement]]),Manquant[[#This Row],[Date de réapprovisionnement]],"") -> 43619 | M25: =IF(ISNUMBER(Manquant[[#This Row],[Date de réappro estimée]]),Manquant[[#This Row],[Date de réappro estimée]],"") | N25: =IF(Manquant[[#This Row],[DATE Réappro]]="",(IF(Manquant[[#This Row],[Date Estimée]]="","NO DATE",Manquant[[#This Row],[Date Estimée]])),Manquant[[#This Row],[DATE Réappro]]) -> 43619 | O25: =IF((VLOOKUP(Manquant[[#This Row],[Composé]],Planning!E:M,9,FALSE))=0,"",(VLOOKUP(Manquant[[#This Row],[Composé]],Planning!E:M,9,FALSE))) | P25: =IF(Manquant[[#This Row],[Besoin Client]]="","NO DATE CLIENT",(IF(Manquant[[#This Row],[DATE]]="NO DATE",TRUE,(IF(Manquant[[#This Row],[Besoin Client]]-Manquant[[#This Row],[DATE]]<25,TRUE,""))))) -> NO DATE CLIENT | Q25: =IF(ISTEXT(Manquant[[#This Row],[Date de réapprovisionnement]]),Manquant[[#This Row],[Date de réapprovisionnement]],"") | R25: =IF(ISTEXT(Manquant[[#This Row],[Date de réappro estimée]]),Manquant[[#This Row],[Date de réappro estimée]],"") | S25: =IF((Manquant[Commentaires]=""),"",Manquant[Commentaires]) | T25: =Manquant[Commentaires1]&CHAR(10)&Manquant[Commentaires2]&CHAR(10)&Manquant[Commentaires3]
A26: MKP9028378 | B26: Fadec HC | C26: 43595 | D26: 71246411 | E26: 191724421-01 | F26: 191724413 | G26: IC CMS MRAM 256KX16 35NS TSOP44 SP | H26: CDE_HA_AR | I26: 43584 | L26: =IF(ISNUMBER(Manquant[[#This Row],[Date de réapprovisionnement]]),Manquant[[#This Row],[Date de réapprovisionnement]],"") -> 43584 | M26: =IF(ISNUMBER(Manquant[[#This Row],[Date de réappro estimée]]),Manquant[[#This Row],[Date de réappro estimée]],"") | N26: =IF(Manquant[[#This Row],[DATE Réappro]]="",(IF(Manquant[[#This Row],[Date Estimée]]="","NO DATE",Manquant[[#This Row],[Date Estimée]])),Manquant[[#This Row],[DATE Réappro]]) -> 43584 | O26: =IF((VLOOKUP(Manquant[[#This Row],[Composé]],Planning!E:M,9,FALSE))=0,"",(VLOOKUP(Manquant[[#This Row],[Composé]],Planning!E:M,9,FALSE))) | P26: =IF(Manquant[[#This Row],[Besoin Client]]="","NO DATE CLIENT",(IF(Manquant[[#This Row],[DATE]]="NO DATE",TRUE,(IF(Manquant[[#This Row],[Besoin Client]]-Manquant[[#This Row],[DATE]]<25,TRUE,""))))) -> NO DATE CLIENT | Q26: =IF(ISTEXT(Manquant[[#This Row],[Date de réapprovisionnement]]),Manquant[[#This Row],[Date de réapprovisionnement]],"") | R26: =IF(ISTEXT(Manquant[[#This Row],[Date de réappro estimée]]),Manquant[[#This Row],[Date de réappro estimée]],"") | S26: =IF((Manquant[Commentaires]=""),"",Manquant[Commentaires]) | T26: =Manquant[Commentaires1]&CHAR(10)&Manquant[Commentaires2]&CHAR(10)&Manquant[Commentaires3]
A27: MKP9028378 | B27: Fadec HC | C27: 43595 | D27: 71246411 | E27: 191724822-01 | F27: 191724801 | G27: IC.CMS ADUM3200 ISOLAT. 2 CHAN. SO8 SP | H27: CDE_HA_AR | I27: 43629 | L27: =IF(ISNUMBER(Manquant[[#This Row],[Date de réapprovisionnement]]),Manquant[[#This Row],[Date de réapprovisionnement]],"") -> 43629 | M27: =IF(ISNUMBER(Manquant[[#This Row],[Date de réappro estimée]]),Manquant[[#This Row],[Date de réappro estimée]],"") | N27: =IF(Manquant[[#This Row],[DATE Réappro]]="",(IF(Manquant[[#This Row],[Date Estimée]]="","NO DATE",Manquant[[#This Row],[Date Estimée]])),Manquant[[#This Row],[DATE Réappro]]) -> 43629 | O27: =IF((VLOOKUP(Manquant[[#This Row],[Composé]],Planning!E:M,9,FALSE))=0,"",(VLOOKUP(Manquant[[#This Row],[Composé]],Planning!E:M,9,FALSE))) | P27: =IF(Manquant[[#This Row],[Besoin Client]]="","NO DATE CLIENT",(IF(Manquant[[#This Row],[DATE]]="NO DATE",TRUE,(IF(Manquant[[#This Row],[Besoin Client]]-Manquant[[#This Row],[DATE]]<25,TRUE,""))))) -> NO DATE CLIENT | Q27: =IF(ISTEXT(Manquant[[#This Row],[Date de réapprovisionnement]]),Manquant[[#This Row],[Date de réapprovisionnement]],"") | R27: =IF(ISTEXT(Manquant[[#This Row],[Date de réappro estimée]]),Manquant[[#This Row],[Date de réappro estimée]],"") | S27: =IF((Manquant[Commentaires]=""),"",Manquant[Commentaires]) | T27: =Manquant[Commentaires1]&CHAR(10)&Manquant[Commentaires2]&CHAR(10)&Manquant[Commentaires3]
A28: MKP9028378 | B28: Fadec HC | C28: 43595 | D28: 71246411 | E28: 191736690-01 | F28: 191736637 | G28: TRANSFO CMS MB09904 SP | H28: CDE_HA | I28: Attente AR | J28: 43588 | K28: Commande retour en signature cause mauvais prix (26/04) | L28: =IF(ISNUMBER(Manquant[[#This Row],[Date de réapprovisionnement]]),Manquant[[#This Row],[Date de réapprovisionnement]],"") | M28: =IF(ISNUMBER(Manquant[[#This Row],[Date de réappro estimée]]),Manquant[[#This Row],[Date de réappro estimée]],"") -> 43588 | N28: =IF(Manquant[[#This Row],[DATE Réappro]]="",(IF(Manquant[[#This Row],[Date Estimée]]="","NO DATE",Manquant[[#This Row],[Date Estimée]])),Manquant[[#This Row],[DATE Réappro]]) -> 43588 | O28: =IF((VLOOKUP(Manquant[[#This Row],[Composé]],Planning!E:M,9,FALSE))=0,"",(VLOOKUP(Manquant[[#This Row],[Composé]],Planning!E:M,9,FALSE))) | P28: =IF(Manquant[[#This Row],[Besoin Client]]="","NO DATE CLIENT",(IF(Manquant[[#This Row],[DATE]]="NO DATE",TRUE,(IF(Manquant[[#This Row],[Besoin Client]]-Manquant[[#This Row],[DATE]]<25,TRUE,""))))) -> NO DATE CLIENT | Q28: =IF(ISTEXT(Manquant[[#This Row],[Date de réapprovisionnement]]),Manquant[[#This Row],[Date de réapprovisionnement]],"") -> Attente AR | R28: =IF(ISTEXT(Manquant[[#This Row],[Date de réappro estimée]]),Manquant[[#This Row],[Date de réappro estimée]],"") | S28: =IF((Manquant[Commentaires]=""),"",Manquant[Commentaires]) -> Commande retour en signature cause mauvais prix (26/04) | T28: =Manquant[Commentaires1]&CHAR(10)&Manquant[Commentaires2]&CHAR(10)&Manquant[Commentaires3] -> Attente AR Commande retour en signature cause mauvais prix (26/04)
A29: MKP9028378 | B29: Fadec HC | C29: 43601 | D29: 71246411 | E29: 193089573-01 | F29: 193089560 | G29: IC.CMS IGLOO2 FLASH FPGA 256KB FBGA484 | H29: CDE_HA_AR | I29: 43584 | L29: =IF(ISNUMBER(Manquant[[#This Row],[Date de réapprovisionnement]]),Manquant[[#This Row],[Date de réapprovisionnement]],"") -> 43584 | M29: =IF(ISNUMBER(Manquant[[#This Row],[Date de réappro estimée]]),Manquant[[#This Row],[Date de réappro estimée]],"") | N29: =IF(Manquant[[#This Row],[DATE Réappro]]="",(IF(Manquant[[#This Row],[Date Estimée]]="","NO DATE",Manquant[[#This Row],[Date Estimée]])),Manquant[[#This Row],[DATE Réappro]]) -> 43584 | O29: =IF((VLOOKUP(Manquant[[#This Row],[Composé]],Planning!E:M,9,FALSE))=0,"",(VLOOKUP(Manquant[[#This Row],[Composé]],Planning!E:M,9,FALSE))) | P29: =IF(Manquant[[#This Row],[Besoin Client]]="","NO DATE CLIENT",(IF(Manquant[[#This Row],[DATE]]="NO DATE",TRUE,(IF(Manquant[[#This Row],[Besoin Client]]-Manquant[[#This Row],[DATE]]<25,TRUE,""))))) -> NO DATE CLIENT | Q29: =IF(ISTEXT(Manquant[[#This Row],[Date de réapprovisionnement]]),Manquant[[#This Row],[Date de réapprovisionnement]],"") | R29: =IF(ISTEXT(Manquant[[#This Row],[Date de réappro estimée]]),Manquant[[#This Row],[Date de réappro estimée]],"") | S29: =IF((Manquant[Commentaires]=""),"",Manquant[Commentaires]) | T29: =Manquant[Commentaires1]&CHAR(10)&Manquant[Commentaires2]&CHAR(10)&Manquant[Commentaires3]
A30: MKP9028378 | B30: Fadec HC | C30: 43595 | D30: 71246411 | E30: 192877289-02 | F30: 193293453 | G30: IC.CMS SDRAM 128MX16 FBGA-96 SP | H30: CDE_HA_AR | I30: 43600 | L30: =IF(ISNUMBER(Manquant[[#This Row],[Date de réapprovisionnement]]),Manquant[[#This Row],[Date de réapprovisionnement]],"") -> 43600 | M30: =IF(ISNUMBER(Manquant[[#This Row],[Date de réappro estimée]]),Manquant[[#This Row],[Date de réappro estimée]],"") | N30: =IF(Manquant[[#This Row],[DATE Réappro]]="",(IF(Manquant[[#This Row],[Date Estimée]]="","NO DATE",Manquant[[#This Row],[Date Estimée]])),Manquant[[#This Row],[DATE Réappro]]) -> 43600 | O30: =IF((VLOOKUP(Manquant[[#This Row],[Composé]],Planning!E:M,9,FALSE))=0,"",(VLOOKUP(Manquant[[#This Row],[Composé]],Planning!E:M,9,FALSE))) | P30: =IF(Manquant[[#This Row],[Besoin Client]]="","NO DATE CLIENT",(IF(Manquant[[#This Row],[DATE]]="NO DATE",TRUE,(IF(Manquant[[#This Row],[Besoin Client]]-Manquant[[#This Row],[DATE]]<25,TRUE,""))))) -> NO DATE CLIENT | Q30: =IF(ISTEXT(Manquant[[#This Row],[Date de réapprovisionnement]]),Manquant[[#This Row],[Date de réapprovisionnement]],"") | R30: =IF(ISTEXT(Manquant[[#This Row],[Date de réappro estimée]]),Manquant[[#This Row],[Date de réappro estimée]],"") | S30: =IF((Manquant[Commentaires]=""),"",Manquant[Commentaires]) | T30: =Manquant[Commentaires1]&CHAR(10)&Manquant[Commentaires2]&CHAR(10)&Manquant[Commentaires3]
A31: MKP9028378 | B31: Fadec HC | C31: 43601 | D31: 71246411 | F31: 193384733MKP | G31: IC.CMS MICROPROC.1,4GHZ FC-PBGA780 SP | H31: CDE_HA | I31: Attente AR | J31: 43610 | K31: Commande Mouser / attente réception end user vierge | L31: =IF(ISNUMBER(Manquant[[#This Row],[Date de réapprovisionnement]]),Manquant[[#This Row],[Date de réapprovisionnement]],"") | M31: =IF(ISNUMBER(Manquant[[#This Row],[Date de réappro estimée]]),Manquant[[#This Row],[Date de réappro estimée]],"") -> 43610 | N31: =IF(Manquant[[#This Row],[DATE Réappro]]="",(IF(Manquant[[#This Row],[Date Estimée]]="","NO DATE",Manquant[[#This Row],[Date Estimée]])),Manquant[[#This Row],[DATE Réappro]]) -> 43610 | O31: =IF((VLOOKUP(Manquant[[#This Row],[Composé]],Planning!E:M,9,FALSE))=0,"",(VLOOKUP(Manquant[[#This Row],[Composé]],Planning!E:M,9,FALSE))) | P31: =IF(Manquant[[#This Row],[Besoin Client]]="","NO DATE CLIENT",(IF(Manquant[[#This Row],[DATE]]="NO DATE",TRUE,(IF(Manquant[[#This Row],[Besoin Client]]-Manquant[[#This Row],[DATE]]<25,TRUE,""))))) -> NO DATE CLIENT | Q31: =IF(ISTEXT(Manquant[[#This Row],[Date de réapprovisionnement]]),Manquant[[#This Row],[Date de réapprovisionnement]],"") -> Attente AR | R31: =IF(ISTEXT(Manquant[[#This Row],[Date de réappro estimée]]),Manquant[[#This Row],[Date de réappro estimée]],"") | S31: =IF((Manquant[Commentaires]=""),"",Manquant[Commentaires]) -> Commande Mouser / attente réception end user vierge | T31: =Manquant[Commentaires1]&CHAR(10)&Manquant[Commentaires2]&CHAR(10)&Manquant[Commentaires3] -> Attente AR Commande Mouser / attente réception end user vierge
A32: MKP9028378 | B32: Fadec HC | C32: 43595 | D32: 71246411 | E32: 193560664-01 | F32: 193560651 | G32: IC.CMS POLARFIRE FPGA MPF300 FCVG484 SP | H32: CDE_HA_AR | I32: 43584 | L32: =IF(ISNUMBER(Manquant[[#This Row],[Date de réapprovisionnement]]),Manquant[[#This Row],[Date de réapprovisionnement]],"") -> 43584 | M32: =IF(ISNUMBER(Manquant[[#This Row],[Date de réappro estimée]]),Manquant[[#This Row],[Date de réappro estimée]],"") | N32: =IF(Manquant[[#This Row],[DATE Réappro]]="",(IF(Manquant[[#This Row],[Date Estimée]]="","NO DATE",Manquant[[#This Row],[Date Estimée]])),Manquant[[#This Row],[DATE Réappro]]) -> 43584 | O32: =IF((VLOOKUP(Manquant[[#This Row],[Composé]],Planning!E:M,9,FALSE))=0,"",(VLOOKUP(Manquant[[#This Row],[Composé]],Planning!E:M,9,FALSE))) | P32: =IF(Manquant[[#This Row],[Besoin Client]]="","NO DATE CLIENT",(IF(Manquant[[#This Row],[DATE]]="NO DATE",TRUE,(IF(Manquant[[#This Row],[Besoin Client]]-Manquant[[#This Row],[DATE]]<25,TRUE,""))))) -> NO DATE CLIENT | Q32: =IF(ISTEXT(Manquant[[#This Row],[Date de réapprovisionnement]]),Manquant[[#This Row],[Date de réapprovisionnement]],"") | R32: =IF(ISTEXT(Manquant[[#This Row],[Date de réappro estimée]]),Manquant[[#This Row],[Date de réappro estimée]],"") | S32: =IF((Manquant[Commentaires]=""),"",Manquant[Commentaires]) | T32: =Manquant[Commentaires1]&CHAR(10)&Manquant[Commentaires2]&CHAR(10)&Manquant[Commentaires3]
A33: MKP9028378 | B33: Fadec HC | C33: 43601 | D33: 71246411 | F33: MKP9028380 | G33: EMB.CIR.806-022-ME-18-85P2CA GLENAIR | H33: CDE_HA_AR | I33: 43598 | L33: =IF(ISNUMBER(Manquant[[#This Row],[Date de réapprovisionnement]]),Manquant[[#This Row],[Date de réapprovisionnement]],"") -> 43598 | M33: =IF(ISNUMBER(Manquant[[#This Row],[Date de réappro estimée]]),Manquant[[#This Row],[Date de réappro estimée]],"") | N33: =IF(Manquant[[#This Row],[DATE Réappro]]="",(IF(Manquant[[#This Row],[Date Estimée]]="","NO DATE",Manquant[[#This Row],[Date Estimée]])),Manquant[[#This Row],[DATE Réappro]]) -> 43598 | O33: =IF((VLOOKUP(Manquant[[#This Row],[Composé]],Planning!E:M,9,FALSE))=0,"",(VLOOKUP(Manquant[[#This Row],[Composé]],Planning!E:M,9,FALSE))) | P33: =IF(Manquant[[#This Row],[Besoin Client]]="","NO DATE CLIENT",(IF(Manquant[[#This Row],[DATE]]="NO DATE",TRUE,(IF(Manquant[[#This Row],[Besoin Client]]-Manquant[[#This Row],[DATE]]<25,TRUE,""))))) -> NO DATE CLIENT | Q33: =IF(ISTEXT(Manquant[[#This Row],[Date de réapprovisionnement]]),Manquant[[#This Row],[Date de réapprovisionnement]],"") | R33: =IF(ISTEXT(Manquant[[#This Row],[Date de réappro estimée]]),Manquant[[#This Row],[Date de réappro estimée]],"") | S33: =IF((Manquant[Commentaires]=""),"",Manquant[Commentaires]) | T33: =Manquant[Commentaires1]&CHAR(10)&Manquant[Commentaires2]&CHAR(10)&Manquant[Commentaires3]
A34: MKP9028378 | B34: Fadec HC | C34: 43601 | D34: 71246411 | F34: MKP9028398 | G34: EMB.CIR.806-022-ME-18-85P2CB GLENAIR | H34: CDE_HA_AR | I34: 43598 | L34: =IF(ISNUMBER(Manquant[[#This Row],[Date de réapprovisionnement]]),Manquant[[#This Row],[Date de réapprovisionnement]],"") -> 43598 | M34: =IF(ISNUMBER(Manquant[[#This Row],[Date de réappro estimée]]),Manquant[[#This Row],[Date de réappro estimée]],"") | N34: =IF(Manquant[[#This Row],[DATE Réappro]]="",(IF(Manquant[[#This Row],[Date Estimée]]="","NO DATE",Manquant[[#This Row],[Date Estimée]])),Manquant[[#This Row],[DATE Réappro]]) -> 43598 | O34: =IF((VLOOKUP(Manquant[[#This Row],[Composé]],Planning!E:M,9,FALSE))=0,"",(VLOOKUP(Manquant[[#This Row],[Composé]],Planning!E:M,9,FALSE))) | P34: =IF(Manquant[[#This Row],[Besoin Client]]="","NO DATE CLIENT",(IF(Manquant[[#This Row],[DATE]]="NO DATE",TRUE,(IF(Manquant[[#This Row],[Besoin Client]]-Manquant[[#This Row],[DATE]]<25,TRUE,""))))) -> NO DATE CLIENT | Q34: =IF(ISTEXT(Manquant[[#This Row],[Date de réapprovisionnement]]),Manquant[[#This Row],[Date de réapprovisionnement]],"") | R34: =IF(ISTEXT(Manquant[[#This Row],[Date de réappro estimée]]),Manquant[[#This Row],[Date de réappro estimée]],"") | S34: =IF((Manquant[Commentaires]=""),"",Manquant[Commentaires]) | T34: =Manquant[Commentaires1]&CHAR(10)&Manquant[Commentaires2]&CHAR(10)&Manquant[Commentaires3]
A35: MKP9028378 | B35: Fadec HC | C35: 43601 | D35: 71246411 | F35: MKP9028400 | G35: EMB.CIR.806-022-ME-20-110P2CA GLENAIR | H35: CDE_HA_AR | I35: 43598 | L35: =IF(ISNUMBER(Manquant[[#This Row],[Date de réapprovisionnement]]),Manquant[[#This Row],[Date de réapprovisionnement]],"") -> 43598 | M35: =IF(ISNUMBER(Manquant[[#This Row],[Date de réappro estimée]]),Manquant[[#This Row],[Date de réappro estimée]],"") | N35: =IF(Manquant[[#This Row],[DATE Réappro]]="",(IF(Manquant[[#This Row],[Date Estimée]]="","NO DATE",Manquant[[#This Row],[Date Estimée]])),Manquant[[#This Row],[DATE Réappro]]) -> 43598 | O35: =IF((VLOOKUP(Manquant[[#This Row],[Composé]],Planning!E:M,9,FALSE))=0,"",(VLOOKUP(Manquant[[#This Row],[Composé]],Planning!E:M,9,FALSE))) | P35: =IF(Manquant[[#This Row],[Besoin Client]]="","NO DATE CLIENT",(IF(Manquant[[#This Row],[DATE]]="NO DATE",TRUE,(IF(Manquant[[#This Row],[Besoin Client]]-Manquant[[#This Row],[DATE]]<25,TRUE,""))))) -> NO DATE CLIENT | Q35: =IF(ISTEXT(Manquant[[#This Row],[Date de réapprovisionnement]]),Manquant[[#This Row],[Date de réapprovisionnement]],"") | R35: =IF(ISTEXT(Manquant[[#This Row],[Date de réappro estimée]]),Manquant[[#This Row],[Date de réappro estimée]],"") | S35: =IF((Manquant[Commentaires]=""),"",Manquant[Commentaires]) | T35: =Manquant[Commentaires1]&CHAR(10)&Manquant[Commentaires2]&CHAR(10)&Manquant[Commentaires3]
A36: MKP9028378 | B36: Fadec HC | C36: 43601 | D36: 71246411 | F36: MKP9028418 | G36: EMB.CIR.806-022-ME-20-110P2CB GLENAIR | H36: CDE_HA_AR | I36: 43598 | L36: =IF(ISNUMBER(Manquant[[#This Row],[Date de réapprovisionnement]]),Manquant[[#This Row],[Date de réapprovisionnement]],"") -> 43598 | M36: =IF(ISNUMBER(Manquant[[#This Row],[Date de réappro estimée]]),Manquant[[#This Row],[Date de réappro estimée]],"") | N36: =IF(Manquant[[#This Row],[DATE Réappro]]="",(IF(Manquant[[#This Row],[Date Estimée]]="","NO DATE",Manquant[[#This Row],[Date Estimée]])),Manquant[[#This Row],[DATE Réappro]]) -> 43598 | O36: =IF((VLOOKUP(Manquant[[#This Row],[Composé]],Planning!E:M,9,FALSE))=0,"",(VLOOKUP(Manquant[[#This Row],[Composé]],Planning!E:M,9,FALSE))) | P36: =IF(Manquant[[#This Row],[Besoin Client]]="","NO DATE CLIENT",(IF(Manquant[[#This Row],[DATE]]="NO DATE",TRUE,(IF(Manquant[[#This Row],[Besoin Client]]-Manquant[[#This Row],[DATE]]<25,TRUE,""))))) -> NO DATE CLIENT | Q36: =IF(ISTEXT(Manquant[[#This Row],[Date de réapprovisionnement]]),Manquant[[#This Row],[Date de réapprovisionnement]],"") | R36: =IF(ISTEXT(Manquant[[#This Row],[Date de réappro estimée]]),Manquant[[#This Row],[Date de réappro estimée]],"") | S36: =IF((Manquant[Commentaires]=""),"",Manquant[Commentaires]) | T36: =Manquant[Commentaires1]&CHAR(10)&Manquant[Commentaires2]&CHAR(10)&Manquant[Commentaires3]
A37: MKP9028378 | B37: Fadec HC | C37: 43601 | D37: 71246411 | F37: MKP9028421 | G37: EMB.CIR.806-022-ME-14-39S2CA GLENAIR | H37: CDE_HA_AR | I37: 43598 | L37: =IF(ISNUMBER(Manquant[[#This Row],[Date de réapprovisionnement]]),Manquant[[#This Row],[Date de réapprovisionnement]],"") -> 43598 | M37: =IF(ISNUMBER(Manquant[[#This Row],[Date de réappro estimée]]),Manquant[[#This Row],[Date de réappro estimée]],"") | N37: =IF(Manquant[[#This Row],[DATE Réappro]]="",(IF(Manquant[[#This Row],[Date Estimée]]="","NO DATE",Manquant[[#This Row],[Date Estimée]])),Manquant[[#This Row],[DATE Réappro]]) -> 43598 | O37: =IF((VLOOKUP(Manquant[[#This Row],[Composé]],Planning!E:M,9,FALSE))=0,"",(VLOOKUP(Manquant[[#This Row],[Composé]],Planning!E:M,9,FALSE))) | P37: =IF(Manquant[[#This Row],[Besoin Client]]="","NO DATE CLIENT",(IF(Manquant[[#This Row],[DATE]]="NO DATE",TRUE,(IF(Manquant[[#This Row],[Besoin Client]]-Manquant[[#This Row],[DATE]]<25,TRUE,""))))) -> NO DATE CLIENT | Q37: =IF(ISTEXT(Manquant[[#This Row],[Date de réapprovisionnement]]),Manquant[[#This Row],[Date de réapprovisionnement]],"") | R37: =IF(ISTEXT(Manquant[[#This Row],[Date de réappro estimée]]),Manquant[[#This Row],[Date de réappro estimée]],"") | S37: =IF((Manquant[Commentaires]=""),"",Manquant[Commentaires]) | T37: =Manquant[Commentaires1]&CHAR(10)&Manquant[Commentaires2]&CHAR(10)&Manquant[Commentaires3]
A38: MKP9028378 | B38: Fadec HC | C38: 43601 | D38: 71246411 | F38: MKP9028801 | G38: INDUCT.CMS Coilcraft ML465PYA153MLZ | H38: CDE_HA_AR | I38: 43606 | L38: =IF(ISNUMBER(Manquant[[#This Row],[Date de réapprovisionnement]]),Manquant[[#This Row],[Date de réapprovisionnement]],"") -> 43606 | M38: =IF(ISNUMBER(Manquant[[#This Row],[Date de réappro estimée]]),Manquant[[#This Row],[Date de réappro estimée]],"") | N38: =IF(Manquant[[#This Row],[DATE Réappro]]="",(IF(Manquant[[#This Row],[Date Estimée]]="","NO DATE",Manquant[[#This Row],[Date Estimée]])),Manquant[[#This Row],[DATE Réappro]]) -> 43606 | O38: =IF((VLOOKUP(Manquant[[#This Row],[Composé]],Planning!E:M,9,FALSE))=0,"",(VLOOKUP(Manquant[[#This Row],[Composé]],Planning!E:M,9,FALSE))) | P38: =IF(Manquant[[#This Row],[Besoin Client]]="","NO DATE CLIENT",(IF(Manquant[[#This Row],[DATE]]="NO DATE",TRUE,(IF(Manquant[[#This Row],[Besoin Client]]-Manquant[[#This Row],[DATE]]<25,TRUE,""))))) -> NO DATE CLIENT | Q38: =IF(ISTEXT(Manquant[[#This Row],[Date de réapprovisionnement]]),Manquant[[#This Row],[Date de réapprovisionnement]],"") | R38: =IF(ISTEXT(Manquant[[#This Row],[Date de réappro estimée]]),Manquant[[#This Row],[Date de réappro estimée]],"") | S38: =IF((Manquant[Commentaires]=""),"",Manquant[Commentaires]) | T38: =Manquant[Commentaires1]&CHAR(10)&Manquant[Commentaires2]&CHAR(10)&Manquant[Commentaires3]
A39: MKP9028378 | B39: Fadec HC | C39: 43601 | D39: 71246411 | F39: MKP9028819 | G39: INDUCT.CMS Coilcraft ML524PYA302MLZ | H39: CDE_HA_AR | I39: 43606 | L39: =IF(ISNUMBER(Manquant[[#This Row],[Date de réapprovisionnement]]),Manquant[[#This Row],[Date de réapprovisionnement]],"") -> 43606 | M39: =IF(ISNUMBER(Manquant[[#This Row],[Date de réappro estimée]]),Manquant[[#This Row],[Date de réappro estimée]],"") | N39: =IF(Manquant[[#This Row],[DATE Réappro]]="",(IF(Manquant[[#This Row],[Date Estimée]]="","NO DATE",Manquant[[#This Row],[Date Estimée]])),Manquant[[#This Row],[DATE Réappro]]) -> 43606 | O39: =IF((VLOOKUP(Manquant[[#This Row],[Composé]],Planning!E:M,9,FALSE))=0,"",(VLOOKUP(Manquant[[#This Row],[Composé]],Planning!E:M,9,FALSE))) | P39: =IF(Manquant[[#This Row],[Besoin Client]]="","NO DATE CLIENT",(IF(Manquant[[#This Row],[DATE]]="NO DATE",TRUE,(IF(Manquant[[#This Row],[Besoin Client]]-Manquant[[#This Row],[DATE]]<25,TRUE,""))))) -> NO DATE CLIENT | Q39: =IF(ISTEXT(Manquant[[#This Row],[Date de réapprovisionnement]]),Manquant[[#This Row],[Date de réapprovisionnement]],"") | R39: =IF(ISTEXT(Manquant[[#This Row],[Date de réappro estimée]]),Manquant[[#This Row],[Date de réappro estimée]],"") | S39: =IF((Manquant[Commentaires]=""),"",Manquant[Commentaires]) | T39: =Manquant[Commentaires1]&CHAR(10)&Manquant[Commentaires2]&CHAR(10)&Manquant[Commentaires3]
A40: MKP9028378 | B40: Fadec HC | C40: 43601 | D40: 71246411 | F40: MKP9028822 | G40: INDUCT.CMS Coilcraft ML524PYA182MLZ | H40: CDE_HA_AR | I40: 43606 | L40: =IF(ISNUMBER(Manquant[[#This Row],[Date de réapprovisionnement]]),Manquant[[#This Row],[Date de réapprovisionnement]],"") -> 43606 | M40: =IF(ISNUMBER(Manquant[[#This Row],[Date de réappro estimée]]),Manquant[[#This Row],[Date de réappro estimée]],"") | N40: =IF(Manquant[[#This Row],[DATE Réappro]]="",(IF(Manquant[[#This Row],[Date Estimée]]="","NO DATE",Manquant[[#This Row],[Date Estimée]])),Manquant[[#This Row],[DATE Réappro]]) -> 43606 | O40: =IF((VLOOKUP(Manquant[[#This Row],[Composé]],Planning!E:M,9,FALSE))=0,"",(VLOOKUP(Manquant[[#This Row],[Composé]],Planning!E:M,9,FALSE))) | P40: =IF(Manquant[[#This Row],[Besoin Client]]="","NO DATE CLIENT",(IF(Manquant[[#This Row],[DATE]]="NO DATE",TRUE,(IF(Manquant[[#This Row],[Besoin Client]]-Manquant[[#This Row],[DATE]]<25,TRUE,""))))) -> NO DATE CLIENT | Q40: =IF(ISTEXT(Manquant[[#This Row],[Date de réapprovisionnement]]),Manquant[[#This Row],[Date de réapprovisionnement]],"") | R40: =IF(ISTEXT(Manquant[[#This Row],[Date de réappro estimée]]),Manquant[[#This Row],[Date de réappro estimée]],"") | S40: =IF((Manquant[Commentaires]=""),"",Manquant[Commentaires]) | T40: =Manquant[Commentaires1]&CHAR(10)&Manquant[Commentaires2]&CHAR(10)&Manquant[Commentaires3]
A41: 263527705MKP | B41: CIE ETCU_CONTROL | C41: 43598 | D41: 71246998 | E41: 189528671-09 | F41: 186398612 | G41: TRANS.CMS PZT2222A NPN 40V SOT223 SP | H41: CDE_HA_AR | I41: 43594 | L41: =IF(ISNUMBER(Manquant[[#This Row],[Date de réapprovisionnement]]),Manquant[[#This Row],[Date de réapprovisionnement]],"") -> 43594 | M41: =IF(ISNUMBER(Manquant[[#This Row],[Date de réappro estimée]]),Manquant[[#This Row],[Date de réappro estimée]],"") | N41: =IF(Manquant[[#This Row],[DATE Réappro]]="",(IF(Manquant[[#This Row],[Date Estimée]]="","NO DATE",Manquant[[#This Row],[Date Estimée]])),Manquant[[#This Row],[DATE Réappro]]) -> 43594 | O41: =IF((VLOOKUP(Manquant[[#This Row],[Composé]],Planning!E:M,9,FALSE))=0,"",(VLOOKUP(Manquant[[#This Row],[Composé]],Planning!E:M,9,FALSE))) | P41: =IF(Manquant[[#This Row],[Besoin Client]]="","NO DATE CLIENT",(IF(Manquant[[#This Row],[DATE]]="NO DATE",TRUE,(IF(Manquant[[#This Row],[Besoin Client]]-Manquant[[#This Row],[DATE]]<25,TRUE,""))))) -> NO DATE CLIENT | Q41: =IF(ISTEXT(Manquant[[#This Row],[Date de réapprovisionnement]]),Manquant[[#This Row],[Date de réapprovisionnement]],"") | R41: =IF(ISTEXT(Manquant[[#This Row],[Date de réappro estimée]]),Manquant[[#This Row],[Date de réappro estimée]],"") | S41: =IF((Manquant[Commentaires]=""),"",Manquant[Commentaires]) | T41: =Manquant[Commentaires1]&CHAR(10)&Manquant[Commentaires2]&CHAR(10)&Manquant[Commentaires3]
A42: 263527705MKP | B42: CIE ETCU_CONTROL | C42: 43598 | D42: 71246998 | E42: 187172190-10 | F42: 186492605 | G42: IC.CMS LM193 DBLE.COMP. TENSION SO8 SP | H42: CDE_HA_AR | I42: 43585 | L42: =IF(ISNUMBER(Manquant[[#This Row],[Date de réapprovisionnement]]),Manquant[[#This Row],[Date de réapprovisionnement]],"") -> 43585 | M42: =IF(ISNUMBER(Manquant[[#This Row],[Date de réappro estimée]]),Manquant[[#This Row],[Date de réappro estimée]],"") | N42: =IF(Manquant[[#This Row],[DATE Réappro]]="",(IF(Manquant[[#This Row],[Date Estimée]]="","NO DATE",Manquant[[#This Row],[Date Estimée]])),Manquant[[#This Row],[DATE Réappro]]) -> 43585 | O42: =IF((VLOOKUP(Manquant[[#This Row],[Composé]],Planning!E:M,9,FALSE))=0,"",(VLOOKUP(Manquant[[#This Row],[Composé]],Planning!E:M,9,FALSE))) | P42: =IF(Manquant[[#This Row],[Besoin Client]]="","NO DATE CLIENT",(IF(Manquant[[#This Row],[DATE]]="NO DATE",TRUE,(IF(Manquant[[#This Row],[Besoin Client]]-Manquant[[#This Row],[DATE]]<25,TRUE,""))))) -> NO DATE CLIENT | Q42: =IF(ISTEXT(Manquant[[#This Row],[Date de réapprovisionnement]]),Manquant[[#This Row],[Date de réapprovisionnement]],"") | R42: =IF(ISTEXT(Manquant[[#This Row],[Date de réappro estimée]]),Manquant[[#This Row],[Date de réappro estimée]],"") | S42: =IF((Manquant[Commentaires]=""),"",Manquant[Commentaires]) | T42: =Manquant[Commentaires1]&CHAR(10)&Manquant[Commentaires2]&CHAR(10)&Manquant[Commentaires3]
A43: 263527705MKP | B43: CIE ETCU_CONTROL | C43: 43598 | D43: 71246998 | E43: 191625376-02 | F43: 191625313 | G43: INDUCT.DE MODE COMMUN 2,59MH 6A 8BR SP | H43: CDE_HA_AR | I43: 43619 | L43: =IF(ISNUMBER(Manquant[[#This Row],[Date de réapprovisionnement]]),Manquant[[#This Row],[Date de réapprovisionnement]],"") -> 43619 | M43: =IF(ISNUMBER(Manquant[[#This Row],[Date de réappro estimée]]),Manquant[[#This Row],[Date de réappro estimée]],"") | N43: =IF(Manquant[[#This Row],[DATE Réappro]]="",(IF(Manquant[[#This Row],[Date Estimée]]="","NO DATE",Manquant[[#This Row],[Date Estimée]])),Manquant[[#This Row],[DATE Réappro]]) -> 43619 | O43: =IF((VLOOKUP(Manquant[[#This Row],[Composé]],Planning!E:M,9,FALSE))=0,"",(VLOOKUP(Manquant[[#This Row],[Composé]],Planning!E:M,9,FALSE))) | P43: =IF(Manquant[[#This Row],[Besoin Client]]="","NO DATE CLIENT",(IF(Manquant[[#This Row],[DATE]]="NO DATE",TRUE,(IF(Manquant[[#This Row],[Besoin Client]]-Manquant[[#This Row],[DATE]]<25,TRUE,""))))) -> NO DATE CLIENT | Q43: =IF(ISTEXT(Manquant[[#This Row],[Date de réapprovisionnement]]),Manquant[[#This Row],[Date de réapprovisionnement]],"") | R43: =IF(ISTEXT(Manquant[[#This Row],[Date de réappro estimée]]),Manquant[[#This Row],[Date de réappro estimée]],"") | S43: =IF((Manquant[Commentaires]=""),"",Manquant[Commentaires]) | T43: =Manquant[Commentaires1]&CHAR(10)&Manquant[Commentaires2]&CHAR(10)&Manquant[Commentaires3]
A44: 263527705MKP | B44: CIE ETCU_CONTROL | C44: 43598 | D44: 71246998 | E44: 193367865-01 | F44: 191745722 | G44: RES.CMS 0402 22 OHM 1% 63MW 100PPM SP | H44: CDE_HA_AR | I44: 43591 | L44: =IF(ISNUMBER(Manquant[[#This Row],[Date de réapprovisionnement]]),Manquant[[#This Row],[Date de réapprovisionnement]],"") -> 43591 | M44: =IF(ISNUMBER(Manquant[[#This Row],[Date de réappro estimée]]),Manquant[[#This Row],[Date de réappro estimée]],"") | N44: =IF(Manquant[[#This Row],[DATE Réappro]]="",(IF(Manquant[[#This Row],[Date Estimée]]="","NO DATE",Manquant[[#This Row],[Date Estimée]])),Manquant[[#This Row],[DATE Réappro]]) -> 43591 | O44: =IF((VLOOKUP(Manquant[[#This Row],[Composé]],Planning!E:M,9,FALSE))=0,"",(VLOOKUP(Manquant[[#This Row],[Composé]],Planning!E:M,9,FALSE))) | P44: =IF(Manquant[[#This Row],[Besoin Client]]="","NO DATE CLIENT",(IF(Manquant[[#This Row],[DATE]]="NO DATE",TRUE,(IF(Manquant[[#This Row],[Besoin Client]]-Manquant[[#This Row],[DATE]]<25,TRUE,""))))) -> NO DATE CLIENT | Q44: =IF(ISTEXT(Manquant[[#This Row],[Date de réapprovisionnement]]),Manquant[[#This Row],[Date de réapprovisionnement]],"") | R44: =IF(ISTEXT(Manquant[[#This Row],[Date de réappro estimée]]),Manquant[[#This Row],[Date de réappro estimée]],"") | S44: =IF((Manquant[Commentaires]=""),"",Manquant[Commentaires]) | T44: =Manquant[Commentaires1]&CHAR(10)&Manquant[Commentaires2]&CHAR(10)&Manquant[Commentaires3]
A45: 263527705MKP | B45: CIE ETCU_CONTROL | C45: 43598 | D45: 71246998 | E45: 191819291-01 | F45: 191819217 | G45: DIODE SIGNAL CMS BAS16 75V SOD523 SP | H45: CDE_HA_AR | I45: 43595 | L45: =IF(ISNUMBER(Manquant[[#This Row],[Date de réapprovisionnement]]),Manquant[[#This Row],[Date de réapprovisionnement]],"") -> 43595 | M45: =IF(ISNUMBER(Manquant[[#This Row],[Date de réappro estimée]]),Manquant[[#This Row],[Date de réappro estimée]],"") | N45: =IF(Manquant[[#This Row],[DATE Réappro]]="",(IF(Manquant[[#This Row],[Date Estimée]]="","NO DATE",Manquant[[#This Row],[Date Estimée]])),Manquant[[#This Row],[DATE Réappro]]) -> 43595 | O45: =IF((VLOOKUP(Manquant[[#This Row],[Composé]],Planning!E:M,9,FALSE))=0,"",(VLOOKUP(Manquant[[#This Row],[Composé]],Planning!E:M,9,FALSE))) | P45: =IF(Manquant[[#This Row],[Besoin Client]]="","NO DATE CLIENT",(IF(Manquant[[#This Row],[DATE]]="NO DATE",TRUE,(IF(Manquant[[#This Row],[Besoin Client]]-Manquant[[#This Row],[DATE]]<25,TRUE,""))))) -> NO DATE CLIENT | Q45: =IF(ISTEXT(Manquant[[#This Row],[Date de réapprovisionnement]]),Manquant[[#This Row],[Date de réapprovisionnement]],"") | R45: =IF(ISTEXT(Manquant[[#This Row],[Date de réappro estimée]]),Manquant[[#This Row],[Date de réappro estimée]],"") | S45: =IF((Manquant[Commentaires]=""),"",Manquant[Commentaires]) | T45: =Manquant[Commentaires1]&CHAR(10)&Manquant[Commentaires2]&CHAR(10)&Manquant[Commentaires3]
A46: 263527705MKP | B46: CIE ETCU_CONTROL | C46: 43598 | D46: 71246998 | E46: 192808169-01 | F46: 192808119 | G46: IC.CMS INA149 AMPLI DIFF.SO8 SP | H46: CDE_HA_AR | I46: 43595 | L46: =IF(ISNUMBER(Manquant[[#This Row],[Date de réapprovisionnement]]),Manquant[[#This Row],[Date de réapprovisionnement]],"") -> 43595 | M46: =IF(ISNUMBER(Manquant[[#This Row],[Date de réappro estimée]]),Manquant[[#This Row],[Date de réappro estimée]],"") | N46: =IF(Manquant[[#This Row],[DATE Réappro]]="",(IF(Manquant[[#This Row],[Date Estimée]]="","NO DATE",Manquant[[#This Row],[Date Estimée]])),Manquant[[#This Row],[DATE Réappro]]) -> 43595 | O46: =IF((VLOOKUP(Manquant[[#This Row],[Composé]],Planning!E:M,9,FALSE))=0,"",(VLOOKUP(Manquant[[#This Row],[Composé]],Planning!E:M,9,FALSE))) | P46: =IF(Manquant[[#This Row],[Besoin Client]]="","NO DATE CLIENT",(IF(Manquant[[#This Row],[DATE]]="NO DATE",TRUE,(IF(Manquant[[#This Row],[Besoin Client]]-Manquant[[#This Row],[DATE]]<25,TRUE,""))))) -> NO DATE CLIENT | Q46: =IF(ISTEXT(Manquant[[#This Row],[Date de réapprovisionnement]]),Manquant[[#This Row],[Date de réapprovisionnement]],"") | R46: =IF(ISTEXT(Manquant[[#This Row],[Date de réappro estimée]]),Manquant[[#This Row],[Date de réappro estimée]],"") | S46: =IF((Manquant[Commentaires]=""),"",Manquant[Commentaires]) | T46: =Manquant[Commentaires1]&CHAR(10)&Manquant[Commentaires2]&CHAR(10)&Manquant[Commentaires3]
A47: 263527705MKP | B47: CIE ETCU_CONTROL | C47: 43598 | D47: 71246998 | E47: 193287299-01 | F47: 193287249 | G47: IC.LOG.CMS BUF.3STATE OUT.5V5 VSSOP8 SP | H47: CDE_HA_AR | I47: 43585 | L47: =IF(ISNUMBER(Manquant[[#This Row],[Date de réapprovisionnement]]),Manquant[[#This Row],[Date de réapprovisionnement]],"") -> 43585 | M47: =IF(ISNUMBER(Manquant[[#This Row],[Date de réappro estimée]]),Manquant[[#This Row],[Date de réappro estimée]],"") | N47: =IF(Manquant[[#This Row],[DATE Réappro]]="",(IF(Manquant[[#This Row],[Date Estimée]]="","NO DATE",Manquant[[#This Row],[Date Estimée]])),Manquant[[#This Row],[DATE Réappro]]) -> 43585 | O47: =IF((VLOOKUP(Manquant[[#This Row],[Composé]],Planning!E:M,9,FALSE))=0,"",(VLOOKUP(Manquant[[#This Row],[Composé]],Planning!E:M,9,FALSE))) | P47: =IF(Manquant[[#This Row],[Besoin Client]]="","NO DATE CLIENT",(IF(Manquant[[#This Row],[DATE]]="NO DATE",TRUE,(IF(Manquant[[#This Row],[Besoin Client]]-Manquant[[#This Row],[DATE]]<25,TRUE,""))))) -> NO DATE CLIENT | Q47: =IF(ISTEXT(Manquant[[#This Row],[Date de réapprovisionnement]]),Manquant[[#This Row],[Date de réapprovisionnement]],"") | R47: =IF(ISTEXT(Manquant[[#This Row],[Date de réappro estimée]]),Manquant[[#This Row],[Date de réappro estimée]],"") | S47: =IF((Manquant[Commentaires]=""),"",Manquant[Commentaires]) | T47: =Manquant[Commentaires1]&CHAR(10)&Manquant[Commentaires2]&CHAR(10)&Manquant[Commentaires3]
A48: 263527705MKP | B48: CIE ETCU_CONTROL | C48: 43598 | D48: 71246998 | E48: 193350935-01 | F48: 193350922 | G48: IC.CMS H.PRECISION A.O.P 36V MSOP8 SP | H48: CDE_HA_AR | I48: 43588 | L48: =IF(ISNUMBER(Manquant[[#This Row],[Date de réapprovisionnement]]),Manquant[[#This Row],[Date de réapprovisionnement]],"") -> 43588 | M48: =IF(ISNUMBER(Manquant[[#This Row],[Date de réappro estimée]]),Manquant[[#This Row],[Date de réappro estimée]],"") | N48: =IF(Manquant[[#This Row],[DATE Réappro]]="",(IF(Manquant[[#This Row],[Date Estimée]]="","NO DATE",Manquant[[#This Row],[Date Estimée]])),Manquant[[#This Row],[DATE Réappro]]) -> 43588 | O48: =IF((VLOOKUP(Manquant[[#This Row],[Composé]],Planning!E:M,9,FALSE))=0,"",(VLOOKUP(Manquant[[#This Row],[Composé]],Planning!E:M,9,FALSE))) | P48: =IF(Manquant[[#This Row],[Besoin Client]]="","NO DATE CLIENT",(IF(Manquant[[#This Row],[DATE]]="NO DATE",TRUE,(IF(Manquant[[#This Row],[Besoin Client]]-Manquant[[#This Row],[DATE]]<25,TRUE,""))))) -> NO DATE CLIENT | Q48: =IF(ISTEXT(Manquant[[#This Row],[Date de réapprovisionnement]]),Manquant[[#This Row],[Date de réapprovisionnement]],"") | R48: =IF(ISTEXT(Manquant[[#This Row],[Date de réappro estimée]]),Manquant[[#This Row],[Date de réappro estimée]],"") | S48: =IF((Manquant[Commentaires]=""),"",Manquant[Commentaires]) | T48: =Manquant[Commentaires1]&CHAR(10)&Manquant[Commentaires2]&CHAR(10)&Manquant[Commentaires3]
A49: 263527705MKP | B49: CIE ETCU_CONTROL | C49: 43598 | D49: 71246998 | E49: 193578182-01 | F49: 193578161 | G49: EMB.60C.MAL.COUDE P.CI.P=2.15MM SP | H49: CDE_HA_AR | I49: 43616 | L49: =IF(ISNUMBER(Manquant[[#This Row],[Date de réapprovisionnement]]),Manquant[[#This Row],[Date de réapprovisionnement]],"") -> 43616 | M49: =IF(ISNUMBER(Manquant[[#This Row],[Date de réappro estimée]]),Manquant[[#This Row],[Date de réappro estimée]],"") | N49: =IF(Manquant[[#This Row],[DATE Réappro]]="",(IF(Manquant[[#This Row],[Date Estimée]]="","NO DATE",Manquant[[#This Row],[Date Estimée]])),Manquant[[#This Row],[DATE Réappro]]) -> 43616 | O49: =IF((VLOOKUP(Manquant[[#This Row],[Composé]],Planning!E:M,9,FALSE))=0,"",(VLOOKUP(Manquant[[#This Row],[Composé]],Planning!E:M,9,FALSE))) | P49: =IF(Manquant[[#This Row],[Besoin Client]]="","NO DATE CLIENT",(IF(Manquant[[#This Row],[DATE]]="NO DATE",TRUE,(IF(Manquant[[#This Row],[Besoin Client]]-Manquant[[#This Row],[DATE]]<25,TRUE,""))))) -> NO DATE CLIENT | Q49: =IF(ISTEXT(Manquant[[#This Row],[Date de réapprovisionnement]]),Manquant[[#This Row],[Date de réapprovisionnement]],"") | R49: =IF(ISTEXT(Manquant[[#This Row],[Date de réappro estimée]]),Manquant[[#This Row],[Date de réappro estimée]],"") | S49: =IF((Manquant[Commentaires]=""),"",Manquant[Commentaires]) | T49: =Manquant[Commentaires1]&CHAR(10)&Manquant[Commentaires2]&CHAR(10)&Manquant[Commentaires3]
A50: 263527705MKP | B50: CIE ETCU_CONTROL | C50: 43605 | D50: 71246998 | E50: 263527680MKP | F50: 263527680MKP | G50: CIU ETCU_CONTROL | H50: DA | I50: MKP | L50: =IF(ISNUMBER(Manquant[[#This Row],[Date de réapprovisionnement]]),Manquant[[#This Row],[Date de réapprovisionnement]],"") | M50: =IF(ISNUMBER(Manquant[[#This Row],[Date de réappro estimée]]),Manquant[[#This Row],[Date de réappro estimée]],"") | N50: =IF(Manquant[[#This Row],[DATE Réappro]]="",(IF(Manquant[[#This Row],[Date Estimée]]="","NO DATE",Manquant[[#This Row],[Date Estimée]])),Manquant[[#This Row],[DATE Réappro]]) -> NO DATE | O50: =IF((VLOOKUP(Manquant[[#This Row],[Composé]],Planning!E:M,9,FALSE))=0,"",(VLOOKUP(Manquant[[#This Row],[Composé]],Planning!E:M,9,FALSE))) | P50: =IF(Manquant[[#This Row],[Besoin Client]]="","NO DATE CLIENT",(IF(Manquant[[#This Row],[DATE]]="NO DATE",TRUE,(IF(Manquant[[#This Row],[Besoin Client]]-Manquant[[#This Row],[DATE]]<25,TRUE,""))))) -> NO DATE CLIENT | Q50: =IF(ISTEXT(Manquant[[#This Row],[Date de réapprovisionnement]]),Manquant[[#This Row],[Date de réapprovisionnement]],"") -> MKP | R50: =IF(ISTEXT(Manquant[[#This Row],[Date de réappro estimée]]),Manquant[[#This Row],[Date de réappro estimée]],"") | S50: =IF((Manquant[Commentaires]=""),"",Manquant[Commentaires]) | T50: =Manquant[Commentaires1]&CHAR(10)&Manquant[Commentaires2]&CHAR(10)&Manquant[Commentaires3] -> MKP
A51: 263527705MKP | B51: CIE ETCU_CONTROL | C51: 43605 | D51: 71246998 | F51: MKP9028474 | G51: IC.CMS POLARFIRE FPGA MPF300T-FCG784I SP | H51: CDE_HA_AR | I51: 43588 | L51: =IF(ISNUMBER(Manquant[[#This Row],[Date de réapprovisionnement]]),Manquant[[#This Row],[Date de réapprovisionnement]],"") -> 43588 | M51: =IF(ISNUMBER(Manquant[[#This Row],[Date de réappro estimée]]),Manquant[[#This Row],[Date de réappro estimée]],"") | N51: =IF(Manquant[[#This Row],[DATE Réappro]]="",(IF(Manquant[[#This Row],[Date Estimée]]="","NO DATE",Manquant[[#This Row],[Date Estimée]])),Manquant[[#This Row],[DATE Réappro]]) -> 43588 | O51: =IF((VLOOKUP(Manquant[[#This Row],[Composé]],Planning!E:M,9,FALSE))=0,"",(VLOOKUP(Manquant[[#This Row],[Composé]],Planning!E:M,9,FALSE))) | P51: =IF(Manquant[[#This Row],[Besoin Client]]="","NO DATE CLIENT",(IF(Manquant[[#This Row],[DATE]]="NO DATE",TRUE,(IF(Manquant[[#This Row],[Besoin Client]]-Manquant[[#This Row],[DATE]]<25,TRUE,""))))) -> NO DATE CLIENT | Q51: =IF(ISTEXT(Manquant[[#This Row],[Date de réapprovisionnement]]),Manquant[[#This Row],[Date de réapprovisionnement]],"") | R51: =IF(ISTEXT(Manquant[[#This Row],[Date de réappro estimée]]),Manquant[[#This Row],[Date de réappro estimée]],"") | S51: =IF((Manquant[Commentaires]=""),"",Manquant[Commentaires]) | T51: =Manquant[Commentaires1]&CHAR(10)&Manquant[Commentaires2]&CHAR(10)&Manquant[Commentaires3]
A52: 263527705MKP | B52: CIE ETCU_CONTROL | C52: 43605 | D52: 71246998 | F52: MKP9029225 | G52: OSC.CMS CMOS 16MHZ 15PF XO53100UMTA | H52: CDE_HA_AR | I52: 43598 | L52: =IF(ISNUMBER(Manquant[[#This Row],[Date de réapprovisionnement]]),Manquant[[#This Row],[Date de réapprovisionnement]],"") -> 43598 | M52: =IF(ISNUMBER(Manquant[[#This Row],[Date de réappro estimée]]),Manquant[[#This Row],[Date de réappro estimée]],"") | N52: =IF(Manquant[[#This Row],[DATE Réappro]]="",(IF(Manquant[[#This Row],[Date Estimée]]="","NO DATE",Manquant[[#This Row],[Date Estimée]])),Manquant[[#This Row],[DATE Réappro]]) -> 43598 | O52: =IF((VLOOKUP(Manquant[[#This Row],[Composé]],Planning!E:M,9,FALSE))=0,"",(VLOOKUP(Manquant[[#This Row],[Composé]],Planning!E:M,9,FALSE))) | P52: =IF(Manquant[[#This Row],[Besoin Client]]="","NO DATE CLIENT",(IF(Manquant[[#This Row],[DATE]]="NO DATE",TRUE,(IF(Manquant[[#This Row],[Besoin Client]]-Manquant[[#This Row],[DATE]]<25,TRUE,""))))) -> NO DATE CLIENT | Q52: =IF(ISTEXT(Manquant[[#This Row],[Date de réapprovisionnement]]),Manquant[[#This Row],[Date de réapprovisionnement]],"") | R52: =IF(ISTEXT(Manquant[[#This Row],[Date de réappro estimée]]),Manquant[[#This Row],[Date de réappro estimée]],"") | S52: =IF((Manquant[Commentaires]=""),"",Manquant[Commentaires]) | T52: =Manquant[Commentaires1]&CHAR(10)&Manquant[Commentaires2]&CHAR(10)&Manquant[Commentaires3]
A53: 263527705MKP | B53: CIE ETCU_CONTROL | C53: 43605 | D53: 71246998 | F53: MKP9029352 | G53: EXTRACTEUR ALU - SCHROFF 107-73 | H53: CDE_HA_AR | I53: 43633 | L53: =IF(ISNUMBER(Manquant[[#This Row],[Date de réapprovisionnement]]),Manquant[[#This Row],[Date de réapprovisionnement]],"") -> 43633 | M53: =IF(ISNUMBER(Manquant[[#This Row],[Date de réappro estimée]]),Manquant[[#This Row],[Date de réappro estimée]],"") | N53: =IF(Manquant[[#This Row],[DATE Réappro]]="",(IF(Manquant[[#This Row],[Date Estimée]]="","NO DATE",Manquant[[#This Row],[Date Estimée]])),Manquant[[#This Row],[DATE Réappro]]) -> 43633 | O53: =IF((VLOOKUP(Manquant[[#This Row],[Composé]],Planning!E:M,9,FALSE))=0,"",(VLOOKUP(Manquant[[#This Row],[Composé]],Planning!E:M,9,FALSE))) | P53: =IF(Manquant[[#This Row],[Besoin Client]]="","NO DATE CLIENT",(IF(Manquant[[#This Row],[DATE]]="NO DATE",TRUE,(IF(Manquant[[#This Row],[Besoin Client]]-Manquant[[#This Row],[DATE]]<25,TRUE,""))))) -> NO DATE CLIENT | Q53: =IF(ISTEXT(Manquant[[#This Row],[Date de réapprovisionnement]]),Manquant[[#This Row],[Date de réapprovisionnement]],"") | R53: =IF(ISTEXT(Manquant[[#This Row],[Date de réappro estimée]]),Manquant[[#This Row],[Date de réappro estimée]],"") | S53: =IF((Manquant[Commentaires]=""),"",Manquant[Commentaires]) | T53: =Manquant[Commentaires1]&CHAR(10)&Manquant[Commentaires2]&CHAR(10)&Manquant[Commentaires3]
A54: 263527705MKP | B54: CIE ETCU_CONTROL | C54: 43605 | D54: 71246998 | F54: MKP9029390 | G54: Transformateur ISSI V2 | H54: CDE_HA | I54: Attente AR | J54: 43588 | L54: =IF(ISNUMBER(Manquant[[#This Row],[Date de réapprovisionnement]]),Manquant[[#This Row],[Date de réapprovisionnement]],"") | M54: =IF(ISNUMBER(Manquant[[#This Row],[Date de réappro estimée]]),Manquant[[#This Row],[Date de réappro estimée]],"") -> 43588 | N54: =IF(Manquant[[#This Row],[DATE Réappro]]="",(IF(Manquant[[#This Row],[Date Estimée]]="","NO DATE",Manquant[[#This Row],[Date Estimée]])),Manquant[[#This Row],[DATE Réappro]]) -> 43588 | O54: =IF((VLOOKUP(Manquant[[#This Row],[Composé]],Planning!E:M,9,FALSE))=0,"",(VLOOKUP(Manquant[[#This Row],[Composé]],Planning!E:M,9,FALSE))) | P54: =IF(Manquant[[#This Row],[Besoin Client]]="","NO DATE CLIENT",(IF(Manquant[[#This Row],[DATE]]="NO DATE",TRUE,(IF(Manquant[[#This Row],[Besoin Client]]-Manquant[[#This Row],[DATE]]<25,TRUE,""))))) -> NO DATE CLIENT | Q54: =IF(ISTEXT(Manquant[[#This Row],[Date de réapprovisionnement]]),Manquant[[#This Row],[Date de réapprovisionnement]],"") -> Attente AR | R54: =IF(ISTEXT(Manquant[[#This Row],[Date de réappro estimée]]),Manquant[[#This Row],[Date de réappro estimée]],"") | S54: =IF((Manquant[Commentaires]=""),"",Manquant[Commentaires]) | T54: =Manquant[Commentaires1]&CHAR(10)&Manquant[Commentaires2]&CHAR(10)&Manquant[Commentaires3] -> Attente AR
A55: 263527705MKP | B55: CIE ETCU_CONTROL | C55: 43598 | D55: 71246999 | E55: 189528671-09 | F55: 186398612 | G55: TRANS.CMS PZT2222A NPN 40V SOT223 SP | H55: CDE_HA_AR | I55: 43594 | L55: =IF(ISNUMBER(Manquant[[#This Row],[Date de réapprovisionnement]]),Manquant[[#This Row],[Date de réapprovisionnement]],"") -> 43594 | M55: =IF(ISNUMBER(Manquant[[#This Row],[Date de réappro estimée]]),Manquant[[#This Row],[Date de réappro estimée]],"") | N55: =IF(Manquant[[#This Row],[DATE Réappro]]="",(IF(Manquant[[#This Row],[Date Estimée]]="","NO DATE",Manquant[[#This Row],[Date Estimée]])),Manquant[[#This Row],[DATE Réappro]]) -> 43594 | O55: =IF((VLOOKUP(Manquant[[#This Row],[Composé]],Planning!E:M,9,FALSE))=0,"",(VLOOKUP(Manquant[[#This Row],[Composé]],Planning!E:M,9,FALSE))) | P55: =IF(Manquant[[#This Row],[Besoin Client]]="","NO DATE CLIENT",(IF(Manquant[[#This Row],[DATE]]="NO DATE",TRUE,(IF(Manquant[[#This Row],[Besoin Client]]-Manquant[[#This Row],[DATE]]<25,TRUE,""))))) -> NO DATE CLIENT | Q55: =IF(ISTEXT(Manquant[[#This Row],[Date de réapprovisionnement]]),Manquant[[#This Row],[Date de réapprovisionnement]],"") | R55: =IF(ISTEXT(Manquant[[#This Row],[Date de réappro estimée]]),Manquant[[#This Row],[Date de réappro estimée]],"") | S55: =IF((Manquant[Commentaires]=""),"",Manquant[Commentaires]) | T55: =Manquant[Commentaires1]&CHAR(10)&Manquant[Commentaires2]&CHAR(10)&Manquant[Commentaires3]
A56: 263527705MKP | B56: CIE ETCU_CONTROL | C56: 43598 | D56: 71246999 | E56: 187172190-10 | F56: 186492605 | G56: IC.CMS LM193 DBLE.COMP. TENSION SO8 SP | H56: CDE_HA_AR | I56: 43585 | L56: =IF(ISNUMBER(Manquant[[#This Row],[Date de réapprovisionnement]]),Manquant[[#This Row],[Date de réapprovisionnement]],"") -> 43585 | M56: =IF(ISNUMBER(Manquant[[#This Row],[Date de réappro estimée]]),Manquant[[#This Row],[Date de réappro estimée]],"") | N56: =IF(Manquant[[#This Row],[DATE Réappro]]="",(IF(Manquant[[#This Row],[Date Estimée]]="","NO DATE",Manquant[[#This Row],[Date Estimée]])),Manquant[[#This Row],[DATE Réappro]]) -> 43585 | O56: =IF((VLOOKUP(Manquant[[#This Row],[Composé]],Planning!E:M,9,FALSE))=0,"",(VLOOKUP(Manquant[[#This Row],[Composé]],Planning!E:M,9,FALSE))) | P56: =IF(Manquant[[#This Row],[Besoin Client]]="","NO DATE CLIENT",(IF(Manquant[[#This Row],[DATE]]="NO DATE",TRUE,(IF(Manquant[[#This Row],[Besoin Client]]-Manquant[[#This Row],[DATE]]<25,TRUE,""))))) -> NO DATE CLIENT | Q56: =IF(ISTEXT(Manquant[[#This Row],[Date de réapprovisionnement]]),Manquant[[#This Row],[Date de réapprovisionnement]],"") | R56: =IF(ISTEXT(Manquant[[#This Row],[Date de réappro estimée]]),Manquant[[#This Row],[Date de réappro estimée]],"") | S56: =IF((Manquant[Commentaires]=""),"",Manquant[Commentaires]) | T56: =Manquant[Commentaires1]&CHAR(10)&Manquant[Commentaires2]&CHAR(10)&Manquant[Commentaires3]
A57: 263527705MKP | B57: CIE ETCU_CONTROL | C57: 43598 | D57: 71246999 | E57: 189187441-02 | F57: 189187433 | G57: EMB. 26CT.MAL.(13x2) DROIT.CMS P=1,27 SP | H57: CDE_HA_AR | I57: 43591 | L57: =IF(ISNUMBER(Manquant[[#This Row],[Date de réapprovisionnement]]),Manquant[[#This Row],[Date de réapprovisionnement]],"") -> 43591 | M57: =IF(ISNUMBER(Manquant[[#This Row],[Date de réappro estimée]]),Manquant[[#This Row],[Date de réappro estimée]],"") | N57: =IF(Manquant[[#This Row],[DATE Réappro]]="",(IF(Manquant[[#This Row],[Date Estimée]]="","NO DATE",Manquant[[#This Row],[Date Estimée]])),Manquant[[#This Row],[DATE Réappro]]) -> 43591 | O57: =IF((VLOOKUP(Manquant[[#This Row],[Composé]],Planning!E:M,9,FALSE))=0,"",(VLOOKUP(Manquant[[#This Row],[Composé]],Planning!E:M,9,FALSE))) | P57: =IF(Manquant[[#This Row],[Besoin Client]]="","NO DATE CLIENT",(IF(Manquant[[#This Row],[DATE]]="NO DATE",TRUE,(IF(Manquant[[#This Row],[Besoin Client]]-Manquant[[#This Row],[DATE]]<25,TRUE,""))))) -> NO DATE CLIENT | Q57: =IF(ISTEXT(Manquant[[#This Row],[Date de réapprovisionnement]]),Manquant[[#This Row],[Date de réapprovisionnement]],"") | R57: =IF(ISTEXT(Manquant[[#This Row],[Date de réappro estimée]]),Manquant[[#This Row],[Date de réappro estimée]],"") | S57: =IF((Manquant[Commentaires]=""),"",Manquant[Commentaires]) | T57: =Manquant[Commentaires1]&CHAR(10)&Manquant[Commentaires2]&CHAR(10)&Manquant[Commentaires3]
A58: 263527705MKP | B58: CIE ETCU_CONTROL | C58: 43598 | D58: 71246999 | E58: 191625376-02 | F58: 191625313 | G58: INDUCT.DE MODE COMMUN 2,59MH 6A 8BR SP | H58: CDE_HA_AR | I58: 43619 | L58: =IF(ISNUMBER(Manquant[[#This Row],[Date de réapprovisionnement]]),Manquant[[#This Row],[Date de réapprovisionnement]],"") -> 43619 | M58: =IF(ISNUMBER(Manquant[[#This Row],[Date de réappro estimée]]),Manquant[[#This Row],[Date de réappro estimée]],"") | N58: =IF(Manquant[[#This Row],[DATE Réappro]]="",(IF(Manquant[[#This Row],[Date Estimée]]="","NO DATE",Manquant[[#This Row],[Date Estimée]])),Manquant[[#This Row],[DATE Réappro]]) -> 43619 | O58: =IF((VLOOKUP(Manquant[[#This Row],[Composé]],Planning!E:M,9,FALSE))=0,"",(VLOOKUP(Manquant[[#This Row],[Composé]],Planning!E:M,9,FALSE))) | P58: =IF(Manquant[[#This Row],[Besoin Client]]="","NO DATE CLIENT",(IF(Manquant[[#This Row],[DATE]]="NO DATE",TRUE,(IF(Manquant[[#This Row],[Besoin Client]]-Manquant[[#This Row],[DATE]]<25,TRUE,""))))) -> NO DATE CLIENT | Q58: =IF(ISTEXT(Manquant[[#This Row],[Date de réapprovisionnement]]),Manquant[[#This Row],[Date de réapprovisionnement]],"") | R58: =IF(ISTEXT(Manquant[[#This Row],[Date de réappro estimée]]),Manquant[[#This Row],[Date de réappro estimée]],"") | S58: =IF((Manquant[Commentaires]=""),"",Manquant[Commentaires]) | T58: =Manquant[Commentaires1]&CHAR(10)&Manquant[Commentaires2]&CHAR(10)&Manquant[Commentaires3]
A59: 263527705MKP | B59: CIE ETCU_CONTROL | C59: 43598 | D59: 71246999 | E59: 193367865-01 | F59: 191745722 | G59: RES.CMS 0402 22 OHM 1% 63MW 100PPM SP | H59: CDE_HA_AR | I59: 43591 | L59: =IF(ISNUMBER(Manquant[[#This Row],[Date de réapprovisionnement]]),Manquant[[#This Row],[Date de réapprovisionnement]],"") -> 43591 | M59: =IF(ISNUMBER(Manquant[[#This Row],[Date de réappro estimée]]),Manquant[[#This Row],[Date de réappro estimée]],"") | N59: =IF(Manquant[[#This Row],[DATE Réappro]]="",(IF(Manquant[[#This Row],[Date Estimée]]="","NO DATE",Manquant[[#This Row],[Date Estimée]])),Manquant[[#This Row],[DATE Réappro]]) -> 43591 | O59: =IF((VLOOKUP(Manquant[[#This Row],[Composé]],Planning!E:M,9,FALSE))=0,"",(VLOOKUP(Manquant[[#This Row],[Composé]],Planning!E:M,9,FALSE))) | P59: =IF(Manquant[[#This Row],[Besoin Client]]="","NO DATE CLIENT",(IF(Manquant[[#This Row],[DATE]]="NO DATE",TRUE,(IF(Manquant[[#This Row],[Besoin Client]]-Manquant[[#This Row],[DATE]]<25,TRUE,""))))) -> NO DATE CLIENT | Q59: =IF(ISTEXT(Manquant[[#This Row],[Date de réapprovisionnement]]),Manquant[[#This Row],[Date de réapprovisionnement]],"") | R59: =IF(ISTEXT(Manquant[[#This Row],[Date de réappro estimée]]),Manquant[[#This Row],[Date de réappro estimée]],"") | S59: =IF((Manquant[Commentaires]=""),"",Manquant[Commentaires]) | T59: =Manquant[Commentaires1]&CHAR(10)&Manquant[Commentaires2]&CHAR(10)&Manquant[Commentaires3]
A60: 263527705MKP | B60: CIE ETCU_CONTROL | C60: 43598 | D60: 71246999 | E60: 191819291-01 | F60: 191819217 | G60: DIODE SIGNAL CMS BAS16 75V SOD523 SP | H60: CDE_HA_AR | I60: 43595 | L60: =IF(ISNUMBER(Manquant[[#This Row],[Date de réapprovisionnement]]),Manquant[[#This Row],[Date de réapprovisionnement]],"") -> 43595 | M60: =IF(ISNUMBER(Manquant[[#This Row],[Date de réappro estimée]]),Manquant[[#This Row],[Date de réappro estimée]],"") | N60: =IF(Manquant[[#This Row],[DATE Réappro]]="",(IF(Manquant[[#This Row],[Date Estimée]]="","NO DATE",Manquant[[#This Row],[Date Estimée]])),Manquant[[#This Row],[DATE Réappro]]) -> 43595 | O60: =IF((VLOOKUP(Manquant[[#This Row],[Composé]],Planning!E:M,9,FALSE))=0,"",(VLOOKUP(Manquant[[#This Row],[Composé]],Planning!E:M,9,FALSE))) | P60: =IF(Manquant[[#This Row],[Besoin Client]]="","NO DATE CLIENT",(IF(Manquant[[#This Row],[DATE]]="NO DATE",TRUE,(IF(Manquant[[#This Row],[Besoin Client]]-Manquant[[#This Row],[DATE]]<25,TRUE,""))))) -> NO DATE CLIENT | Q60: =IF(ISTEXT(Manquant[[#This Row],[Date de réapprovisionnement]]),Manquant[[#This Row],[Date de réapprovisionnement]],"") | R60: =IF(ISTEXT(Manquant[[#This Row],[Date de réappro estimée]]),Manquant[[#This Row],[Date de réappro estimée]],"") | S60: =IF((Manquant[Commentaires]=""),"",Manquant[Commentaires]) | T60: =Manquant[Commentaires1]&CHAR(10)&Manquant[Commentaires2]&CHAR(10)&Manquant[Commentaires3]
A61: 263527705MKP | B61: CIE ETCU_CONTROL | C61: 43612 | D61: 71246999 | E61: 191825426MKP | F61: 191825426MKP | G61: IC.CMS DAC SOT23-8 SP AD5060YRJZ-1500RL7 | H61: DA | I61: MKP | L61: =IF(ISNUMBER(Manquant[[#This Row],[Date de réapprovisionnement]]),Manquant[[#This Row],[Date de réapprovisionnement]],"") | M61: =IF(ISNUMBER(Manquant[[#This Row],[Date de réappro estimée]]),Manquant[[#This Row],[Date de réappro estimée]],"") | N61: =IF(Manquant[[#This Row],[DATE Réappro]]="",(IF(Manquant[[#This Row],[Date Estimée]]="","NO DATE",Manquant[[#This Row],[Date Estimée]])),Manquant[[#This Row],[DATE Réappro]]) -> NO DATE | O61: =IF((VLOOKUP(Manquant[[#This Row],[Composé]],Planning!E:M,9,FALSE))=0,"",(VLOOKUP(Manquant[[#This Row],[Composé]],Planning!E:M,9,FALSE))) | P61: =IF(Manquant[[#This Row],[Besoin Client]]="","NO DATE CLIENT",(IF(Manquant[[#This Row],[DATE]]="NO DATE",TRUE,(IF(Manquant[[#This Row],[Besoin Client]]-Manquant[[#This Row],[DATE]]<25,TRUE,""))))) -> NO DATE CLIENT | Q61: =IF(ISTEXT(Manquant[[#This Row],[Date de réapprovisionnement]]),Manquant[[#This Row],[Date de réapprovisionnement]],"") -> MKP | R61: =IF(ISTEXT(Manquant[[#This Row],[Date de réappro estimée]]),Manquant[[#This Row],[Date de réappro estimée]],"") | S61: =IF((Manquant[Commentaires]=""),"",Manquant[Commentaires]) | T61: =Manquant[Commentaires1]&CHAR(10)&Manquant[Commentaires2]&CHAR(10)&Manquant[Commentaires3] -> MKP
A62: 263527705MKP | B62: CIE ETCU_CONTROL | C62: 43598 | D62: 71246999 | E62: 192641225-01 | F62: 191957942 | G62: DIODE SCHOT.CMS DBLE 170V 20A D2PAK SP | H62: CDE_HA_AR | I62: 43614 | L62: =IF(ISNUMBER(Manquant[[#This Row],[Date de réapprovisionnement]]),Manquant[[#This Row],[Date de réapprovisionnement]],"") -> 43614 | M62: =IF(ISNUMBER(Manquant[[#This Row],[Date de réappro estimée]]),Manquant[[#This Row],[Date de réappro estimée]],"") | N62: =IF(Manquant[[#This Row],[DATE Réappro]]="",(IF(Manquant[[#This Row],[Date Estimée]]="","NO DATE",Manquant[[#This Row],[Date Estimée]])),Manquant[[#This Row],[DATE Réappro]]) -> 43614 | O62: =IF((VLOOKUP(Manquant[[#This Row],[Composé]],Planning!E:M,9,FALSE))=0,"",(VLOOKUP(Manquant[[#This Row],[Composé]],Planning!E:M,9,FALSE))) | P62: =IF(Manquant[[#This Row],[Besoin Client]]="","NO DATE CLIENT",(IF(Manquant[[#This Row],[DATE]]="NO DATE",TRUE,(IF(Manquant[[#This Row],[Besoin Client]]-Manquant[[#This Row],[DATE]]<25,TRUE,""))))) -> NO DATE CLIENT | Q62: =IF(ISTEXT(Manquant[[#This Row],[Date de réapprovisionnement]]),Manquant[[#This Row],[Date de réapprovisionnement]],"") | R62: =IF(ISTEXT(Manquant[[#This Row],[Date de réappro estimée]]),Manquant[[#This Row],[Date de réappro estimée]],"") | S62: =IF((Manquant[Commentaires]=""),"",Manquant[Commentaires]) | T62: =Manquant[Commentaires1]&CHAR(10)&Manquant[Commentaires2]&CHAR(10)&Manquant[Commentaires3]
A63: 263527705MKP | B63: CIE ETCU_CONTROL | C63: 43598 | D63: 71246999 | E63: 192734476-01 | F63: 192734468 | G63: IC REG CMS LT3060 LDO ADJ.SOT23X8 SP | H63: CDE_HA_AR | I63: 43601 | L63: =IF(ISNUMBER(Manquant[[#This Row],[Date de réapprovisionnement]]),Manquant[[#This Row],[Date de réapprovisionnement]],"") -> 43601 | M63: =IF(ISNUMBER(Manquant[[#This Row],[Date de réappro estimée]]),Manquant[[#This Row],[Date de réappro estimée]],"") | N63: =IF(Manquant[[#This Row],[DATE Réappro]]="",(IF(Manquant[[#This Row],[Date Estimée]]="","NO DATE",Manquant[[#This Row],[Date Estimée]])),Manquant[[#This Row],[DATE Réappro]]) -> 43601 | O63: =IF((VLOOKUP(Manquant[[#This Row],[Composé]],Planning!E:M,9,FALSE))=0,"",(VLOOKUP(Manquant[[#This Row],[Composé]],Planning!E:M,9,FALSE))) | P63: =IF(Manquant[[#This Row],[Besoin Client]]="","NO DATE CLIENT",(IF(Manquant[[#This Row],[DATE]]="NO DATE",TRUE,(IF(Manquant[[#This Row],[Besoin Client]]-Manquant[[#This Row],[DATE]]<25,TRUE,""))))) -> NO DATE CLIENT | Q63: =IF(ISTEXT(Manquant[[#This Row],[Date de réapprovisionnement]]),Manquant[[#This Row],[Date de réapprovisionnement]],"") | R63: =IF(ISTEXT(Manquant[[#This Row],[Date de réappro estimée]]),Manquant[[#This Row],[Date de réappro estimée]],"") | S63: =IF((Manquant[Commentaires]=""),"",Manquant[Commentaires]) | T63: =Manquant[Commentaires1]&CHAR(10)&Manquant[Commentaires2]&CHAR(10)&Manquant[Commentaires3]
A64: 263527705MKP | B64: CIE ETCU_CONTROL | C64: 43598 | D64: 71246999 | E64: 192808169-01 | F64: 192808119 | G64: IC.CMS INA149 AMPLI DIFF.SO8 SP | H64: CDE_HA_AR | I64: 43595 | L64: =IF(ISNUMBER(Manquant[[#This Row],[Date de réapprovisionnement]]),Manquant[[#This Row],[Date de réapprovisionnement]],"") -> 43595 | M64: =IF(ISNUMBER(Manquant[[#This Row],[Date de réappro estimée]]),Manquant[[#This Row],[Date de réappro estimée]],"") | N64: =IF(Manquant[[#This Row],[DATE Réappro]]="",(IF(Manquant[[#This Row],[Date Estimée]]="","NO DATE",Manquant[[#This Row],[Date Estimée]])),Manquant[[#This Row],[DATE Réappro]]) -> 43595 | O64: =IF((VLOOKUP(Manquant[[#This Row],[Composé]],Planning!E:M,9,FALSE))=0,"",(VLOOKUP(Manquant[[#This Row],[Composé]],Planning!E:M,9,FALSE))) | P64: =IF(Manquant[[#This Row],[Besoin Client]]="","NO DATE CLIENT",(IF(Manquant[[#This Row],[DATE]]="NO DATE",TRUE,(IF(Manquant[[#This Row],[Besoin Client]]-Manquant[[#This Row],[DATE]]<25,TRUE,""))))) -> NO DATE CLIENT | Q64: =IF(ISTEXT(Manquant[[#This Row],[Date de réapprovisionnement]]),Manquant[[#This Row],[Date de réapprovisionnement]],"") | R64: =IF(ISTEXT(Manquant[[#This Row],[Date de réappro estimée]]),Manquant[[#This Row],[Date de réappro estimée]],"") | S64: =IF((Manquant[Commentaires]=""),"",Manquant[Commentaires]) | T64: =Manquant[Commentaires1]&CHAR(10)&Manquant[Commentaires2]&CHAR(10)&Manquant[Commentaires3]
A65: 263527705MKP | B65: CIE ETCU_CONTROL | C65: 43598 | D65: 71246999 | E65: 192821881 | F65: 192821881 | G65: RES.CMS 0402 23,7KOHM 1% 63MW 100PPM SP | H65: DA | I65: MKP | L65: =IF(ISNUMBER(Manquant[[#This Row],[Date de réapprovisionnement]]),Manquant[[#This Row],[Date de réapprovisionnement]],"") | M65: =IF(ISNUMBER(Manquant[[#This Row],[Date de réappro estimée]]),Manquant[[#This Row],[Date de réappro estimée]],"") | N65: =IF(Manquant[[#This Row],[DATE Réappro]]="",(IF(Manquant[[#This Row],[Date Estimée]]="","NO DATE",Manquant[[#This Row],[Date Estimée]])),Manquant[[#This Row],[DATE Réappro]]) -> NO DATE | O65: =IF((VLOOKUP(Manquant[[#This Row],[Composé]],Planning!E:M,9,FALSE))=0,"",(VLOOKUP(Manquant[[#This Row],[Composé]],Planning!E:M,9,FALSE))) | P65: =IF(Manquant[[#This Row],[Besoin Client]]="","NO DATE CLIENT",(IF(Manquant[[#This Row],[DATE]]="NO DATE",TRUE,(IF(Manquant[[#This Row],[Besoin Client]]-Manquant[[#This Row],[DATE]]<25,TRUE,""))))) -> NO DATE CLIENT | Q65: =IF(ISTEXT(Manquant[[#This Row],[Date de réapprovisionnement]]),Manquant[[#This Row],[Date de réapprovisionnement]],"") -> MKP | R65: =IF(ISTEXT(Manquant[[#This Row],[Date de réappro estimée]]),Manquant[[#This Row],[Date de réappro estimée]],"") | S65: =IF((Manquant[Commentaires]=""),"",Manquant[Commentaires]) | T65: =Manquant[Commentaires1]&CHAR(10)&Manquant[Commentaires2]&CHAR(10)&Manquant[Commentaires3] -> MKP
A66: 263527705MKP | B66: CIE ETCU_CONTROL | C66: 43598 | D66: 71246999 | E66: 192847278-01 | F66: 192847265 | G66: RES.CMS 0402 30,1KOHM 0,1% 40MW 25PPM SP | H66: CDE_HA_AR | I66: 43630 | L66: =IF(ISNUMBER(Manquant[[#This Row],[Date de réapprovisionnement]]),Manquant[[#This Row],[Date de réapprovisionnement]],"") -> 43630 | M66: =IF(ISNUMBER(Manquant[[#This Row],[Date de réappro estimée]]),Manquant[[#This Row],[Date de réappro estimée]],"") | N66: =IF(Manquant[[#This Row],[DATE Réappro]]="",(IF(Manquant[[#This Row],[Date Estimée]]="","NO DATE",Manquant[[#This Row],[Date Estimée]])),Manquant[[#This Row],[DATE Réappro]]) -> 43630 | O66: =IF((VLOOKUP(Manquant[[#This Row],[Composé]],Planning!E:M,9,FALSE))=0,"",(VLOOKUP(Manquant[[#This Row],[Composé]],Planning!E:M,9,FALSE))) | P66: =IF(Manquant[[#This Row],[Besoin Client]]="","NO DATE CLIENT",(IF(Manquant[[#This Row],[DATE]]="NO DATE",TRUE,(IF(Manquant[[#This Row],[Besoin Client]]-Manquant[[#This Row],[DATE]]<25,TRUE,""))))) -> NO DATE CLIENT | Q66: =IF(ISTEXT(Manquant[[#This Row],[Date de réapprovisionnement]]),Manquant[[#This Row],[Date de réapprovisionnement]],"") | R66: =IF(ISTEXT(Manquant[[#This Row],[Date de réappro estimée]]),Manquant[[#This Row],[Date de réappro estimée]],"") | S66: =IF((Manquant[Commentaires]=""),"",Manquant[Commentaires]) | T66: =Manquant[Commentaires1]&CHAR(10)&Manquant[Commentaires2]&CHAR(10)&Manquant[Commentaires3]
A67: 263527705MKP | B67: CIE ETCU_CONTROL | C67: 43598 | D67: 71246999 | E67: 192858383-01 | F67: 192858362 | G67: EMB.RJ45 8CT.F.COUD.AV.TRANFO P.CI SP | H67: CDE_HA_AR | I67: 43605 | L67: =IF(ISNUMBER(Manquant[[#This Row],[Date de réapprovisionnement]]),Manquant[[#This Row],[Date de réapprovisionnement]],"") -> 43605 | M67: =IF(ISNUMBER(Manquant[[#This Row],[Date de réappro estimée]]),Manquant[[#This Row],[Date de réappro estimée]],"") | N67: =IF(Manquant[[#This Row],[DATE Réappro]]="",(IF(Manquant[[#This Row],[Date Estimée]]="","NO DATE",Manquant[[#This Row],[Date Estimée]])),Manquant[[#This Row],[DATE Réappro]]) -> 43605 | O67: =IF((VLOOKUP(Manquant[[#This Row],[Composé]],Planning!E:M,9,FALSE))=0,"",(VLOOKUP(Manquant[[#This Row],[Composé]],Planning!E:M,9,FALSE))) | P67: =IF(Manquant[[#This Row],[Besoin Client]]="","NO DATE CLIENT",(IF(Manquant[[#This Row],[DATE]]="NO DATE",TRUE,(IF(Manquant[[#This Row],[Besoin Client]]-Manquant[[#This Row],[DATE]]<25,TRUE,""))))) -> NO DATE CLIENT | Q67: =IF(ISTEXT(Manquant[[#This Row],[Date de réapprovisionnement]]),Manquant[[#This Row],[Date de réapprovisionnement]],"") | R67: =IF(ISTEXT(Manquant[[#This Row],[Date de réappro estimée]]),Manquant[[#This Row],[Date de réappro estimée]],"") | S67: =IF((Manquant[Commentaires]=""),"",Manquant[Commentaires]) | T67: =Manquant[Commentaires1]&CHAR(10)&Manquant[Commentaires2]&CHAR(10)&Manquant[Commentaires3]
A68: 263527705MKP | B68: CIE ETCU_CONTROL | C68: 43598 | D68: 71246999 | E68: 193020561-01 | F68: 193020558 | G68: INDUCTANCE CMS 4,7UH 20% 7,5A SP | H68: DA | I68: Série | L68: =IF(ISNUMBER(Manquant[[#This Row],[Date de réapprovisionnement]]),Manquant[[#This Row],[Date de réapprovisionnement]],"") | M68: =IF(ISNUMBER(Manquant[[#This Row],[Date de réappro estimée]]),Manquant[[#This Row],[Date de réappro estimée]],"") | N68: =IF(Manquant[[#This Row],[DATE Réappro]]="",(IF(Manquant[[#This Row],[Date Estimée]]="","NO DATE",Manquant[[#This Row],[Date Estimée]])),Manquant[[#This Row],[DATE Réappro]]) -> NO DATE | O68: =IF((VLOOKUP(Manquant[[#This Row],[Composé]],Planning!E:M,9,FALSE))=0,"",(VLOOKUP(Manquant[[#This Row],[Composé]],Planning!E:M,9,FALSE))) | P68: =IF(Manquant[[#This Row],[Besoin Client]]="","NO DATE CLIENT",(IF(Manquant[[#This Row],[DATE]]="NO DATE",TRUE,(IF(Manquant[[#This Row],[Besoin Client]]-Manquant[[#This Row],[DATE]]<25,TRUE,""))))) -> NO DATE CLIENT | Q68: =IF(ISTEXT(Manquant[[#This Row],[Date de réapprovisionnement]]),Manquant[[#This Row],[Date de réapprovisionnement]],"") -> Série | R68: =IF(ISTEXT(Manquant[[#This Row],[Date de réappro estimée]]),Manquant[[#This Row],[Date de réappro estimée]],"") | S68: =IF((Manquant[Commentaires]=""),"",Manquant[Commentaires]) | T68: =Manquant[Commentaires1]&CHAR(10)&Manquant[Commentaires2]&CHAR(10)&Manquant[Commentaires3] -> Série
A69: 263527705MKP | B69: CIE ETCU_CONTROL | C69: 43598 | D69: 71246999 | E69: 193206062-01 | F69: 193206054 | G69: TRANSFO.DE COUR.CMS 10A RAPPORT 1/100 SP | H69: DA | I69: Série | L69: =IF(ISNUMBER(Manquant[[#This Row],[Date de réapprovisionnement]]),Manquant[[#This Row],[Date de réapprovisionnement]],"") | M69: =IF(ISNUMBER(Manquant[[#This Row],[Date de réappro estimée]]),Manquant[[#This Row],[Date de réappro estimée]],"") | N69: =IF(Manquant[[#This Row],[DATE Réappro]]="",(IF(Manquant[[#This Row],[Date Estimée]]="","NO DATE",Manquant[[#This Row],[Date Estimée]])),Manquant[[#This Row],[DATE Réappro]]) -> NO DATE | O69: =IF((VLOOKUP(Manquant[[#This Row],[Composé]],Planning!E:M,9,FALSE))=0,"",(VLOOKUP(Manquant[[#This Row],[Composé]],Planning!E:M,9,FALSE))) | P69: =IF(Manquant[[#This Row],[Besoin Client]]="","NO DATE CLIENT",(IF(Manquant[[#This Row],[DATE]]="NO DATE",TRUE,(IF(Manquant[[#This Row],[Besoin Client]]-Manquant[[#This Row],[DATE]]<25,TRUE,""))))) -> NO DATE CLIENT | Q69: =IF(ISTEXT(Manquant[[#This Row],[Date de réapprovisionnement]]),Manquant[[#This Row],[Date de réapprovisionnement]],"") -> Série | R69: =IF(ISTEXT(Manquant[[#This Row],[Date de réappro estimée]]),Manquant[[#This Row],[Date de réappro estimée]],"") | S69: =IF((Manquant[Commentaires]=""),"",Manquant[Commentaires]) | T69: =Manquant[Commentaires1]&CHAR(10)&Manquant[Commentaires2]&CHAR(10)&Manquant[Commentaires3] -> Série
A70: 263527705MKP | B70: CIE ETCU_CONTROL | C70: 43598 | D70: 71246999 | E70: 193208735 | F70: 193208735 | G70: IC.CMS LIN.REGULATOR 1,8V-45V MSOP-12 SP | H70: LOT_QM | L70: =IF(ISNUMBER(Manquant[[#This Row],[Date de réapprovisionnement]]),Manquant[[#This Row],[Date de réapprovisionnement]],"") | M70: =IF(ISNUMBER(Manquant[[#This Row],[Date de réappro estimée]]),Manquant[[#This Row],[Date de réappro estimée]],"") | N70: =IF(Manquant[[#This Row],[DATE Réappro]]="",(IF(Manquant[[#This Row],[Date Estimée]]="","NO DATE",Manquant[[#This Row],[Date Estimée]])),Manquant[[#This Row],[DATE Réappro]]) -> NO DATE | O70: =IF((VLOOKUP(Manquant[[#This Row],[Composé]],Planning!E:M,9,FALSE))=0,"",(VLOOKUP(Manquant[[#This Row],[Composé]],Planning!E:M,9,FALSE))) | P70: =IF(Manquant[[#This Row],[Besoin Client]]="","NO DATE CLIENT",(IF(Manquant[[#This Row],[DATE]]="NO DATE",TRUE,(IF(Manquant[[#This Row],[Besoin Client]]-Manquant[[#This Row],[DATE]]<25,TRUE,""))))) -> NO DATE CLIENT | Q70: =IF(ISTEXT(Manquant[[#This Row],[Date de réapprovisionnement]]),Manquant[[#This Row],[Date de réapprovisionnement]],"") | R70: =IF(ISTEXT(Manquant[[#This Row],[Date de réappro estimée]]),Manquant[[#This Row],[Date de réappro estimée]],"") | S70: =IF((Manquant[Commentaires]=""),"",Manquant[Commentaires]) | T70: =Manquant[Commentaires1]&CHAR(10)&Manquant[Commentaires2]&CHAR(10)&Manquant[Commentaires3]
A71: 263527705MKP | B71: CIE ETCU_CONTROL | C71: 43598 | D71: 71246999 | E71: 193287299-01 | F71: 193287249 | G71: IC.LOG.CMS BUF.3STATE OUT.5V5 VSSOP8 SP | H71: CDE_HA_AR | I71: 43585 | L71: =IF(ISNUMBER(Manquant[[#This Row],[Date de réapprovisionnement]]),Manquant[[#This Row],[Date de réapprovisionnement]],"") -> 43585 | M71: =IF(ISNUMBER(Manquant[[#This Row],[Date de réappro estimée]]),Manquant[[#This Row],[Date de réappro estimée]],"") | N71: =IF(Manquant[[#This Row],[DATE Réappro]]="",(IF(Manquant[[#This Row],[Date Estimée]]="","NO DATE",Manquant[[#This Row],[Date Estimée]])),Manquant[[#This Row],[DATE Réappro]]) -> 43585 | O71: =IF((VLOOKUP(Manquant[[#This Row],[Composé]],Planning!E:M,9,FALSE))=0,"",(VLOOKUP(Manquant[[#This Row],[Composé]],Planning!E:M,9,FALSE))) | P71: =IF(Manquant[[#This Row],[Besoin Client]]="","NO DATE CLIENT",(IF(Manquant[[#This Row],[DATE]]="NO DATE",TRUE,(IF(Manquant[[#This Row],[Besoin Client]]-Manquant[[#This Row],[DATE]]<25,TRUE,""))))) -> NO DATE CLIENT | Q71: =IF(ISTEXT(Manquant[[#This Row],[Date de réapprovisionnement]]),Manquant[[#This Row],[Date de réapprovisionnement]],"") | R71: =IF(ISTEXT(Manquant[[#This Row],[Date de réappro estimée]]),Manquant[[#This Row],[Date de réappro estimée]],"") | S71: =IF((Manquant[Commentaires]=""),"",Manquant[Commentaires]) | T71: =Manquant[Commentaires1]&CHAR(10)&Manquant[Commentaires2]&CHAR(10)&Manquant[Commentaires3]
A72: 263527705MKP | B72: CIE ETCU_CONTROL | C72: 43598 | D72: 71246999 | E72: 193326319 | F72: 193326319 | G72: IC.CMS ISOLATED ERROR AMP.SOIC-16 SP | H72: DA | I72: Série | L72: =IF(ISNUMBER(Manquant[[#This Row],[Date de réapprovisionnement]]),Manquant[[#This Row],[Date de réapprovisionnement]],"") | M72: =IF(ISNUMBER(Manquant[[#This Row],[Date de réappro estimée]]),Manquant[[#This Row],[Date de réappro estimée]],"") | N72: =IF(Manquant[[#This Row],[DATE Réappro]]="",(IF(Manquant[[#This Row],[Date Estimée]]="","NO DATE",Manquant[[#This Row],[Date Estimée]])),Manquant[[#This Row],[DATE Réappro]]) -> NO DATE | O72: =IF((VLOOKUP(Manquant[[#This Row],[Composé]],Planning!E:M,9,FALSE))=0,"",(VLOOKUP(Manquant[[#This Row],[Composé]],Planning!E:M,9,FALSE))) | P72: =IF(Manquant[[#This Row],[Besoin Client]]="","NO DATE CLIENT",(IF(Manquant[[#This Row],[DATE]]="NO DATE",TRUE,(IF(Manquant[[#This Row],[Besoin Client]]-Manquant[[#This Row],[DATE]]<25,TRUE,""))))) -> NO DATE CLIENT | Q72: =IF(ISTEXT(Manquant[[#This Row],[Date de réapprovisionnement]]),Manquant[[#This Row],[Date de réapprovisionnement]],"") -> Série | R72: =IF(ISTEXT(Manquant[[#This Row],[Date de réappro estimée]]),Manquant[[#This Row],[Date de réappro estimée]],"") | S72: =IF((Manquant[Commentaires]=""),"",Manquant[Commentaires]) | T72: =Manquant[Commentaires1]&CHAR(10)&Manquant[Commentaires2]&CHAR(10)&Manquant[Commentaires3] -> Série
A73: 263527705MKP | B73: CIE ETCU_CONTROL | C73: 43598 | D73: 71246999 | E73: 193345476-01 | F73: 193345447 | G73: DIODE PROTEC.CMS 51V BI 30KW PLAD SP | H73: DA | I73: Série | L73: =IF(ISNUMBER(Manquant[[#This Row],[Date de réapprovisionnement]]),Manquant[[#This Row],[Date de réapprovisionnement]],"") | M73: =IF(ISNUMBER(Manquant[[#This Row],[Date de réappro estimée]]),Manquant[[#This Row],[Date de réappro estimée]],"") | N73: =IF(Manquant[[#This Row],[DATE Réappro]]="",(IF(Manquant[[#This Row],[Date Estimée]]="","NO DATE",Manquant[[#This Row],[Date Estimée]])),Manquant[[#This Row],[DATE Réappro]]) -> NO DATE | O73: =IF((VLOOKUP(Manquant[[#This Row],[Composé]],Planning!E:M,9,FALSE))=0,"",(VLOOKUP(Manquant[[#This Row],[Composé]],Planning!E:M,9,FALSE))) | P73: =IF(Manquant[[#This Row],[Besoin Client]]="","NO DATE CLIENT",(IF(Manquant[[#This Row],[DATE]]="NO DATE",TRUE,(IF(Manquant[[#This Row],[Besoin Client]]-Manquant[[#This Row],[DATE]]<25,TRUE,""))))) -> NO DATE CLIENT | Q73: =IF(ISTEXT(Manquant[[#This Row],[Date de réapprovisionnement]]),Manquant[[#This Row],[Date de réapprovisionnement]],"") -> Série | R73: =IF(ISTEXT(Manquant[[#This Row],[Date de réappro estimée]]),Manquant[[#This Row],[Date de réappro estimée]],"") | S73: =IF((Manquant[Commentaires]=""),"",Manquant[Commentaires]) | T73: =Manquant[Commentaires1]&CHAR(10)&Manquant[Commentaires2]&CHAR(10)&Manquant[Commentaires3] -> Série
A74: 263527705MKP | B74: CIE ETCU_CONTROL | C74: 43598 | D74: 71246999 | E74: 193350935-01 | F74: 193350922 | G74: IC.CMS H.PRECISION A.O.P 36V MSOP8 SP | H74: CDE_HA_AR | I74: 43588 | L74: =IF(ISNUMBER(Manquant[[#This Row],[Date de réapprovisionnement]]),Manquant[[#This Row],[Date de réapprovisionnement]],"") -> 43588 | M74: =IF(ISNUMBER(Manquant[[#This Row],[Date de réappro estimée]]),Manquant[[#This Row],[Date de réappro estimée]],"") | N74: =IF(Manquant[[#This Row],[DATE Réappro]]="",(IF(Manquant[[#This Row],[Date Estimée]]="","NO DATE",Manquant[[#This Row],[Date Estimée]])),Manquant[[#This Row],[DATE Réappro]]) -> 43588 | O74: =IF((VLOOKUP(Manquant[[#This Row],[Composé]],Planning!E:M,9,FALSE))=0,"",(VLOOKUP(Manquant[[#This Row],[Composé]],Planning!E:M,9,FALSE))) | P74: =IF(Manquant[[#This Row],[Besoin Client]]="","NO DATE CLIENT",(IF(Manquant[[#This Row],[DATE]]="NO DATE",TRUE,(IF(Manquant[[#This Row],[Besoin Client]]-Manquant[[#This Row],[DATE]]<25,TRUE,""))))) -> NO DATE CLIENT | Q74: =IF(ISTEXT(Manquant[[#This Row],[Date de réapprovisionnement]]),Manquant[[#This Row],[Date de réapprovisionnement]],"") | R74: =IF(ISTEXT(Manquant[[#This Row],[Date de réappro estimée]]),Manquant[[#This Row],[Date de réappro estimée]],"") | S74: =IF((Manquant[Commentaires]=""),"",Manquant[Commentaires]) | T74: =Manquant[Commentaires1]&CHAR(10)&Manquant[Commentaires2]&CHAR(10)&Manquant[Commentaires3]
A75: 263527705MKP | B75: CIE ETCU_CONTROL | C75: 43598 | D75: 71246999 | E75: 193429579-01 | F75: 193429558 | G75: RES.CMS 2615 27,4 OHM 1% 1W 120PPM SP | H75: CDE_HA_AR | I75: 43584 | L75: =IF(ISNUMBER(Manquant[[#This Row],[Date de réapprovisionnement]]),Manquant[[#This Row],[Date de réapprovisionnement]],"") -> 43584 | M75: =IF(ISNUMBER(Manquant[[#This Row],[Date de réappro estimée]]),Manquant[[#This Row],[Date de réappro estimée]],"") | N75: =IF(Manquant[[#This Row],[DATE Réappro]]="",(IF(Manquant[[#This Row],[Date Estimée]]="","NO DATE",Manquant[[#This Row],[Date Estimée]])),Manquant[[#This Row],[DATE Réappro]]) -> 43584 | O75: =IF((VLOOKUP(Manquant[[#This Row],[Composé]],Planning!E:M,9,FALSE))=0,"",(VLOOKUP(Manquant[[#This Row],[Composé]],Planning!E:M,9,FALSE))) | P75: =IF(Manquant[[#This Row],[Besoin Client]]="","NO DATE CLIENT",(IF(Manquant[[#This Row],[DATE]]="NO DATE",TRUE,(IF(Manquant[[#This Row],[Besoin Client]]-Manquant[[#This Row],[DATE]]<25,TRUE,""))))) -> NO DATE CLIENT | Q75: =IF(ISTEXT(Manquant[[#This Row],[Date de réapprovisionnement]]),Manquant[[#This Row],[Date de réapprovisionnement]],"") | R75: =IF(ISTEXT(Manquant[[#This Row],[Date de réappro estimée]]),Manquant[[#This Row],[Date de réappro estimée]],"") | S75: =IF((Manquant[Commentaires]=""),"",Manquant[Commentaires]) | T75: =Manquant[Commentaires1]&CHAR(10)&Manquant[Commentaires2]&CHAR(10)&Manquant[Commentaires3]
A76: 263527705MKP | B76: CIE ETCU_CONTROL | C76: 43612 | D76: 71246999 | E76: 263527680MKP | F76: 263527680MKP | G76: CIU ETCU_CONTROL | H76: DA | I76: MKP | L76: =IF(ISNUMBER(Manquant[[#This Row],[Date de réapprovisionnement]]),Manquant[[#This Row],[Date de réapprovisionnement]],"") | M76: =IF(ISNUMBER(Manquant[[#This Row],[Date de réappro estimée]]),Manquant[[#This Row],[Date de réappro estimée]],"") | N76: =IF(Manquant[[#This Row],[DATE Réappro]]="",(IF(Manquant[[#This Row],[Date Estimée]]="","NO DATE",Manquant[[#This Row],[Date Estimée]])),Manquant[[#This Row],[DATE Réappro]]) -> NO DATE | O76: =IF((VLOOKUP(Manquant[[#This Row],[Composé]],Planning!E:M,9,FALSE))=0,"",(VLOOKUP(Manquant[[#This Row],[Composé]],Planning!E:M,9,FALSE))) | P76: =IF(Manquant[[#This Row],[Besoin Client]]="","NO DATE CLIENT",(IF(Manquant[[#This Row],[DATE]]="NO DATE",TRUE,(IF(Manquant[[#This Row],[Besoin Client]]-Manquant[[#This Row],[DATE]]<25,TRUE,""))))) -> NO DATE CLIENT | Q76: =IF(ISTEXT(Manquant[[#This Row],[Date de réapprovisionnement]]),Manquant[[#This Row],[Date de réapprovisionnement]],"") -> MKP | R76: =IF(ISTEXT(Manquant[[#This Row],[Date de réappro estimée]]),Manquant[[#This Row],[Date de réappro estimée]],"") | S76: =IF((Manquant[Commentaires]=""),"",Manquant[Commentaires]) | T76: =Manquant[Commentaires1]&CHAR(10)&Manquant[Commentaires2]&CHAR(10)&Manquant[Commentaires3] -> MKP
A77: 263527705MKP | B77: CIE ETCU_CONTROL | C77: 43612 | D77: 71246999 | F77: MKP9028474 | G77: IC.CMS POLARFIRE FPGA MPF300T-FCG784I SP | H77: CDE_HA_AR | I77: 43588 | L77: =IF(ISNUMBER(Manquant[[#This Row],[Date de réapprovisionnement]]),Manquant[[#This Row],[Date de réapprovisionnement]],"") -> 43588 | M77: =IF(ISNUMBER(Manquant[[#This Row],[Date de réappro estimée]]),Manquant[[#This Row],[Date de réappro estimée]],"") | N77: =IF(Manquant[[#This Row],[DATE Réappro]]="",(IF(Manquant[[#This Row],[Date Estimée]]="","NO DATE",Manquant[[#This Row],[Date Estimée]])),Manquant[[#This Row],[DATE Réappro]]) -> 43588 | O77: =IF((VLOOKUP(Manquant[[#This Row],[Composé]],Planning!E:M,9,FALSE))=0,"",(VLOOKUP(Manquant[[#This Row],[Composé]],Planning!E:M,9,FALSE))) | P77: =IF(Manquant[[#This Row],[Besoin Client]]="","NO DATE CLIENT",(IF(Manquant[[#This Row],[DATE]]="NO DATE",TRUE,(IF(Manquant[[#This Row],[Besoin Client]]-Manquant[[#This Row],[DATE]]<25,TRUE,""))))) -> NO DATE CLIENT | Q77: =IF(ISTEXT(Manquant[[#This Row],[Date de réapprovisionnement]]),Manquant[[#This Row],[Date de réapprovisionnement]],"") | R77: =IF(ISTEXT(Manquant[[#This Row],[Date de réappro estimée]]),Manquant[[#This Row],[Date de réappro estimée]],"") | S77: =IF((Manquant[Commentaires]=""),"",Manquant[Commentaires]) | T77: =Manquant[Commentaires1]&CHAR(10)&Manquant[Commentaires2]&CHAR(10)&Manquant[Commentaires3]
A78: 263527705MKP | B78: CIE ETCU_CONTROL | C78: 43612 | D78: 71246999 | F78: MKP9029225 | G78: OSC.CMS CMOS 16MHZ 15PF XO53100UMTA | H78: CDE_HA_AR | I78: 43598 | L78: =IF(ISNUMBER(Manquant[[#This Row],[Date de réapprovisionnement]]),Manquant[[#This Row],[Date de réapprovisionnement]],"") -> 43598 | M78: =IF(ISNUMBER(Manquant[[#This Row],[Date de réappro estimée]]),Manquant[[#This Row],[Date de réappro estimée]],"") | N78: =IF(Manquant[[#This Row],[DATE Réappro]]="",(IF(Manquant[[#This Row],[Date Estimée]]="","NO DATE",Manquant[[#This Row],[Date Estimée]])),Manquant[[#This Row],[DATE Réappro]]) -> 43598 | O78: =IF((VLOOKUP(Manquant[[#This Row],[Composé]],Planning!E:M,9,FALSE))=0,"",(VLOOKUP(Manquant[[#This Row],[Composé]],Planning!E:M,9,FALSE))) | P78: =IF(Manquant[[#This Row],[Besoin Client]]="","NO DATE CLIENT",(IF(Manquant[[#This Row],[DATE]]="NO DATE",TRUE,(IF(Manquant[[#This Row],[Besoin Client]]-Manquant[[#This Row],[DATE]]<25,TRUE,""))))) -> NO DATE CLIENT | Q78: =IF(ISTEXT(Manquant[[#This Row],[Date de réapprovisionnement]]),Manquant[[#This Row],[Date de réapprovisionnement]],"") | R78: =IF(ISTEXT(Manquant[[#This Row],[Date de réappro estimée]]),Manquant[[#This Row],[Date de réappro estimée]],"") | S78: =IF((Manquant[Commentaires]=""),"",Manquant[Commentaires]) | T78: =Manquant[Commentaires1]&CHAR(10)&Manquant[Commentaires2]&CHAR(10)&Manquant[Commentaires3]
A79: 263527705MKP | B79: CIE ETCU_CONTROL | C79: 43612 | D79: 71246999 | E79: MKP9029241 | F79: MKP9029241 | G79: OSC.CMS XO 25MHZ MCSJK-3N-25,00-3,3.50-C | H79: DA | I79: MKP | L79: =IF(ISNUMBER(Manquant[[#This Row],[Date de réapprovisionnement]]),Manquant[[#This Row],[Date de réapprovisionnement]],"") | M79: =IF(ISNUMBER(Manquant[[#This Row],[Date de réappro estimée]]),Manquant[[#This Row],[Date de réappro estimée]],"") | N79: =IF(Manquant[[#This Row],[DATE Réappro]]="",(IF(Manquant[[#This Row],[Date Estimée]]="","NO DATE",Manquant[[#This Row],[Date Estimée]])),Manquant[[#This Row],[DATE Réappro]]) -> NO DATE | O79: =IF((VLOOKUP(Manquant[[#This Row],[Composé]],Planning!E:M,9,FALSE))=0,"",(VLOOKUP(Manquant[[#This Row],[Composé]],Planning!E:M,9,FALSE))) | P79: =IF(Manquant[[#This Row],[Besoin Client]]="","NO DATE CLIENT",(IF(Manquant[[#This Row],[DATE]]="NO DATE",TRUE,(IF(Manquant[[#This Row],[Besoin Client]]-Manquant[[#This Row],[DATE]]<25,TRUE,""))))) -> NO DATE CLIENT | Q79: =IF(ISTEXT(Manquant[[#This Row],[Date de réapprovisionnement]]),Manquant[[#This Row],[Date de réapprovisionnement]],"") -> MKP | R79: =IF(ISTEXT(Manquant[[#This Row],[Date de réappro estimée]]),Manquant[[#This Row],[Date de réappro estimée]],"") | S79: =IF((Manquant[Commentaires]=""),"",Manquant[Commentaires]) | T79: =Manquant[Commentaires1]&CHAR(10)&Manquant[Commentaires2]&CHAR(10)&Manquant[Commentaires3] -> MKP
A80: 263527705MKP | B80: CIE ETCU_CONTROL | C80: 43612 | D80: 71246999 | F80: MKP9029390 | G80: Transformateur ISSI V2 | H80: CDE_HA | I80: Attente AR | J80: 43588 | L80: =IF(ISNUMBER(Manquant[[#This Row],[Date de réapprovisionnement]]),Manquant[[#This Row],[Date de réapprovisionnement]],"") | M80: =IF(ISNUMBER(Manquant[[#This Row],[Date de réappro estimée]]),Manquant[[#This Row],[Date de réappro estimée]],"") -> 43588 | N80: =IF(Manquant[[#This Row],[DATE Réappro]]="",(IF(Manquant[[#This Row],[Date Estimée]]="","NO DATE",Manquant[[#This Row],[Date Estimée]])),Manquant[[#This Row],[DATE Réappro]]) -> 43588 | O80: =IF((VLOOKUP(Manquant[[#This Row],[Composé]],Planning!E:M,9,FALSE))=0,"",(VLOOKUP(Manquant[[#This Row],[Composé]],Planning!E:M,9,FALSE))) | P80: =IF(Manquant[[#This Row],[Besoin Client]]="","NO DATE CLIENT",(IF(Manquant[[#This Row],[DATE]]="NO DATE",TRUE,(IF(Manquant[[#This Row],[Besoin Client]]-Manquant[[#This Row],[DATE]]<25,TRUE,""))))) -> NO DATE CLIENT | Q80: =IF(ISTEXT(Manquant[[#This Row],[Date de réapprovisionnement]]),Manquant[[#This Row],[Date de réapprovisionnement]],"") -> Attente AR | R80: =IF(ISTEXT(Manquant[[#This Row],[Date de réappro estimée]]),Manquant[[#This Row],[Date de réappro estimée]],"") | S80: =IF((Manquant[Commentaires]=""),"",Manquant[Commentaires]) | T80: =Manquant[Commentaires1]&CHAR(10)&Manquant[Commentaires2]&CHAR(10)&Manquant[Commentaires3] -> Attente AR
A81: 263527797MKP | B81: CIE ETCU_INTERCO | C81: 43598 | D81: 71255811 | E81: 193578319-01 | F81: 193578301 | G81: EMB.81C.FEM.COUDE P.CI.P=2MM SP | H81: CDE_HA_AR | I81: 43585 | L81: =IF(ISNUMBER(Manquant[[#This Row],[Date de réapprovisionnement]]),Manquant[[#This Row],[Date de réapprovisionnement]],"") -> 43585 | M81: =IF(ISNUMBER(Manquant[[#This Row],[Date de réappro estimée]]),Manquant[[#This Row],[Date de réappro estimée]],"") | N81: =IF(Manquant[[#This Row],[DATE Réappro]]="",(IF(Manquant[[#This Row],[Date Estimée]]="","NO DATE",Manquant[[#This Row],[Date Estimée]])),Manquant[[#This Row],[DATE Réappro]]) -> 43585 | O81: =IF((VLOOKUP(Manquant[[#This Row],[Composé]],Planning!E:M,9,FALSE))=0,"",(VLOOKUP(Manquant[[#This Row],[Composé]],Planning!E:M,9,FALSE))) | P81: =IF(Manquant[[#This Row],[Besoin Client]]="","NO DATE CLIENT",(IF(Manquant[[#This Row],[DATE]]="NO DATE",TRUE,(IF(Manquant[[#This Row],[Besoin Client]]-Manquant[[#This Row],[DATE]]<25,TRUE,""))))) -> NO DATE CLIENT | Q81: =IF(ISTEXT(Manquant[[#This Row],[Date de réapprovisionnement]]),Manquant[[#This Row],[Date de réapprovisionnement]],"") | R81: =IF(ISTEXT(Manquant[[#This Row],[Date de réappro estimée]]),Manquant[[#This Row],[Date de réappro estimée]],"") | S81: =IF((Manquant[Commentaires]=""),"",Manquant[Commentaires]) | T81: =Manquant[Commentaires1]&CHAR(10)&Manquant[Commentaires2]&CHAR(10)&Manquant[Commentaires3]
A82: 263527797MKP | B82: CIE ETCU_INTERCO | C82: 43602 | D82: 71255811 | E82: 263527789MKP | F82: 263527789MKP | G82: CIU ETCU_INTERCO | H82: DA | I82: MKP | L82: =IF(ISNUMBER(Manquant[[#This Row],[Date de réapprovisionnement]]),Manquant[[#This Row],[Date de réapprovisionnement]],"") | M82: =IF(ISNUMBER(Manquant[[#This Row],[Date de réappro estimée]]),Manquant[[#This Row],[Date de réappro estimée]],"") | N82: =IF(Manquant[[#This Row],[DATE Réappro]]="",(IF(Manquant[[#This Row],[Date Estimée]]="","NO DATE",Manquant[[#This Row],[Date Estimée]])),Manquant[[#This Row],[DATE Réappro]]) -> NO DATE | O82: =IF((VLOOKUP(Manquant[[#This Row],[Composé]],Planning!E:M,9,FALSE))=0,"",(VLOOKUP(Manquant[[#This Row],[Composé]],Planning!E:M,9,FALSE))) | P82: =IF(Manquant[[#This Row],[Besoin Client]]="","NO DATE CLIENT",(IF(Manquant[[#This Row],[DATE]]="NO DATE",TRUE,(IF(Manquant[[#This Row],[Besoin Client]]-Manquant[[#This Row],[DATE]]<25,TRUE,""))))) -> NO DATE CLIENT | Q82: =IF(ISTEXT(Manquant[[#This Row],[Date de réapprovisionnement]]),Manquant[[#This Row],[Date de réapprovisionnement]],"") -> MKP | R82: =IF(ISTEXT(Manquant[[#This Row],[Date de réappro estimée]]),Manquant[[#This Row],[Date de réappro estimée]],"") | S82: =IF((Manquant[Commentaires]=""),"",Manquant[Commentaires]) | T82: =Manquant[Commentaires1]&CHAR(10)&Manquant[Commentaires2]&CHAR(10)&Manquant[Commentaires3] -> MKP
A83: 263563962MKP | B83: CIE SOM2-22x | C83: 43682 | D83: 71258284 | E83: 189638422-02 | F83: 192649169 | G83: TRANS.CMS NMOS 20V 890MA SP | H83: CDE_HA_AR | I83: 43762 | L83: =IF(ISNUMBER(Manquant[[#This Row],[Date de réapprovisionnement]]),Manquant[[#This Row],[Date de réapprovisionnement]],"") -> 43762 | M83: =IF(ISNUMBER(Manquant[[#This Row],[Date de réappro estimée]]),Manquant[[#This Row],[Date de réappro estimée]],"") | N83: =IF(Manquant[[#This Row],[DATE Réappro]]="",(IF(Manquant[[#This Row],[Date Estimée]]="","NO DATE",Manquant[[#This Row],[Date Estimée]])),Manquant[[#This Row],[DATE Réappro]]) -> 43762 | O83: =IF((VLOOKUP(Manquant[[#This Row],[Composé]],Planning!E:M,9,FALSE))=0,"",(VLOOKUP(Manquant[[#This Row],[Composé]],Planning!E:M,9,FALSE))) -> 43710 | P83: =IF(Manquant[[#This Row],[Besoin Client]]="","NO DATE CLIENT",(IF(Manquant[[#This Row],[DATE]]="NO DATE",TRUE,(IF(Manquant[[#This Row],[Besoin Client]]-Manquant[[#This Row],[DATE]]<25,TRUE,""))))) -> TRUE | Q83: =IF(ISTEXT(Manquant[[#This Row],[Date de réapprovisionnement]]),Manquant[[#This Row],[Date de réapprovisionnement]],"") | R83: =IF(ISTEXT(Manquant[[#This Row],[Date de réappro estimée]]),Manquant[[#This Row],[Date de réappro estimée]],"") | S83: =IF((Manquant[Commentaires]=""),"",Manquant[Commentaires]) | T83: =Manquant[Commentaires1]&CHAR(10)&Manquant[Commentaires2]&CHAR(10)&Manquant[Commentaires3]
A84: 263563962MKP | B84: CIE SOM2-22x | C84: 43682 | D84: 71258284 | E84: 192841284-01 | F84: 192841271 | G84: FICH.CMS 60C.MAL.(2X30) DRT. P=0,4MM SP | H84: CDE_HA_AR | I84: 43584 | L84: =IF(ISNUMBER(Manquant[[#This Row],[Date de réapprovisionnement]]),Manquant[[#This Row],[Date de réapprovisionnement]],"") -> 43584 | M84: =IF(ISNUMBER(Manquant[[#This Row],[Date de réappro estimée]]),Manquant[[#This Row],[Date de réappro estimée]],"") | N84: =IF(Manquant[[#This Row],[DATE Réappro]]="",(IF(Manquant[[#This Row],[Date Estimée]]="","NO DATE",Manquant[[#This Row],[Date Estimée]])),Manquant[[#This Row],[DATE Réappro]]) -> 43584 | O84: =IF((VLOOKUP(Manquant[[#This Row],[Composé]],Planning!E:M,9,FALSE))=0,"",(VLOOKUP(Manquant[[#This Row],[Composé]],Planning!E:M,9,FALSE))) -> 43710 | P84: =IF(Manquant[[#This Row],[Besoin Client]]="","NO DATE CLIENT",(IF(Manquant[[#This Row],[DATE]]="NO DATE",TRUE,(IF(Manquant[[#This Row],[Besoin Client]]-Manquant[[#This Row],[DATE]]<25,TRUE,""))))) | Q84: =IF(ISTEXT(Manquant[[#This Row],[Date de réapprovisionnement]]),Manquant[[#This Row],[Date de réapprovisionnement]],"") | R84: =IF(ISTEXT(Manquant[[#This Row],[Date de réappro estimée]]),Manquant[[#This Row],[Date de réappro estimée]],"") | S84: =IF((Manquant[Commentaires]=""),"",Manquant[Commentaires]) | T84: =Manquant[Commentaires1]&CHAR(10)&Manquant[Commentaires2]&CHAR(10)&Manquant[Commentaires3]
A85: 263563962MKP | B85: CIE SOM2-22x | C85: 43682 | D85: 71258284 | E85: 193566583-01 | F85: 193566575 | G85: IC CMS.MODUL.DC-DC 2,7V/5,5V USIP8 SP | H85: CDE_HA | I85: Attente AR | J85: 43588 | L85: =IF(ISNUMBER(Manquant[[#This Row],[Date de réapprovisionnement]]),Manquant[[#This Row],[Date de réapprovisionnement]],"") | M85: =IF(ISNUMBER(Manquant[[#This Row],[Date de réappro estimée]]),Manquant[[#This Row],[Date de réappro estimée]],"") -> 43588 | N85: =IF(Manquant[[#This Row],[DATE Réappro]]="",(IF(Manquant[[#This Row],[Date Estimée]]="","NO DATE",Manquant[[#This Row],[Date Estimée]])),Manquant[[#This Row],[DATE Réappro]]) -> 43588 | O85: =IF((VLOOKUP(Manquant[[#This Row],[Composé]],Planning!E:M,9,FALSE))=0,"",(VLOOKUP(Manquant[[#This Row],[Composé]],Planning!E:M,9,FALSE))) -> 43710 | P85: =IF(Manquant[[#This Row],[Besoin Client]]="","NO DATE CLIENT",(IF(Manquant[[#This Row],[DATE]]="NO DATE",TRUE,(IF(Manquant[[#This Row],[Besoin Client]]-Manquant[[#This Row],[DATE]]<25,TRUE,""))))) | Q85: =IF(ISTEXT(Manquant[[#This Row],[Date de réapprovisionnement]]),Manquant[[#This Row],[Date de réapprovisionnement]],"") -> Attente AR | R85: =IF(ISTEXT(Manquant[[#This Row],[Date de réappro estimée]]),Manquant[[#This Row],[Date de réappro estimée]],"") | S85: =IF((Manquant[Commentaires]=""),"",Manquant[Commentaires]) | T85: =Manquant[Commentaires1]&CHAR(10)&Manquant[Commentaires2]&CHAR(10)&Manquant[Commentaires3] -> Attente AR
A86: 263563962MKP | B86: CIE SOM2-22x | C86: 43682 | D86: 71258284 | E86: 193569232-01 | F86: 193569224 | G86: IC.CMS EEPROM SERIE 64KX8 DFN-S8 SP | H86: CDE_HA_AR | I86: 43588 | L86: =IF(ISNUMBER(Manquant[[#This Row],[Date de réapprovisionnement]]),Manquant[[#This Row],[Date de réapprovisionnement]],"") -> 43588 | M86: =IF(ISNUMBER(Manquant[[#This Row],[Date de réappro estimée]]),Manquant[[#This Row],[Date de réappro estimée]],"") | N86: =IF(Manquant[[#This Row],[DATE Réappro]]="",(IF(Manquant[[#This Row],[Date Estimée]]="","NO DATE",Manquant[[#This Row],[Date Estimée]])),Manquant[[#This Row],[DATE Réappro]]) -> 43588 | O86: =IF((VLOOKUP(Manquant[[#This Row],[Composé]],Planning!E:M,9,FALSE))=0,"",(VLOOKUP(Manquant[[#This Row],[Composé]],Planning!E:M,9,FALSE))) -> 43710 | P86: =IF(Manquant[[#This Row],[Besoin Client]]="","NO DATE CLIENT",(IF(Manquant[[#This Row],[DATE]]="NO DATE",TRUE,(IF(Manquant[[#This Row],[Besoin Client]]-Manquant[[#This Row],[DATE]]<25,TRUE,""))))) | Q86: =IF(ISTEXT(Manquant[[#This Row],[Date de réapprovisionnement]]),Manquant[[#This Row],[Date de réapprovisionnement]],"") | R86: =IF(ISTEXT(Manquant[[#This Row],[Date de réappro estimée]]),Manquant[[#This Row],[Date de réappro estimée]],"") | S86: =IF((Manquant[Commentaires]=""),"",Manquant[Commentaires]) | T86: =Manquant[Commentaires1]&CHAR(10)&Manquant[Commentaires2]&CHAR(10)&Manquant[Commentaires3]
A87: 263563962MKP | B87: CIE SOM2-22x | C87: 43682 | D87: 71258284 | E87: 193570488-01 | F87: 193570467 | G87: IC.CMS CONV.DC/DC 3,6V-15V BGA-25 SP | H87: DA | I87: MKP | K87: Cotation Mouser en cours 24/04 | L87: =IF(ISNUMBER(Manquant[[#This Row],[Date de réapprovisionnement]]),Manquant[[#This Row],[Date de réapprovisionnement]],"") | M87: =IF(ISNUMBER(Manquant[[#This Row],[Date de réappro estimée]]),Manquant[[#This Row],[Date de réappro estimée]],"") | N87: =IF(Manquant[[#This Row],[DATE Réappro]]="",(IF(Manquant[[#This Row],[Date Estimée]]="","NO DATE",Manquant[[#This Row],[Date Estimée]])),Manquant[[#This Row],[DATE Réappro]]) -> NO DATE | O87: =IF((VLOOKUP(Manquant[[#This Row],[Composé]],Planning!E:M,9,FALSE))=0,"",(VLOOKUP(Manquant[[#This Row],[Composé]],Planning!E:M,9,FALSE))) -> 43710 | P87: =IF(Manquant[[#This Row],[Besoin Client]]="","NO DATE CLIENT",(IF(Manquant[[#This Row],[DATE]]="NO DATE",TRUE,(IF(Manquant[[#This Row],[Besoin Client]]-Manquant[[#This Row],[DATE]]<25,TRUE,""))))) -> TRUE | Q87: =IF(ISTEXT(Manquant[[#This Row],[Date de réapprovisionnement]]),Manquant[[#This Row],[Date de réapprovisionnement]],"") -> MKP | R87: =IF(ISTEXT(Manquant[[#This Row],[Date de réappro estimée]]),Manquant[[#This Row],[Date de réappro estimée]],"") | S87: =IF((Manquant[Commentaires]=""),"",Manquant[Commentaires]) -> Cotation Mouser en cours 24/04 | T87: =Manquant[Commentaires1]&CHAR(10)&Manquant[Commentaires2]&CHAR(10)&Manquant[Commentaires3] -> MKP Cotation Mouser en cours 24/04
A88: 263563962MKP | B88: CIE SOM2-22x | C88: 43682 | D88: 71258284 | E88: 193571279-01 | F88: 193571229 | G88: IC.CMS SDRAM 4GB 1,2V-2,5V TFBGA96 SP | H88: DA | I88: MKP | K88: Cotation Mouser en cours 24/04 | L88: =IF(ISNUMBER(Manquant[[#This Row],[Date de réapprovisionnement]]),Manquant[[#This Row],[Date de réapprovisionnement]],"") | M88: =IF(ISNUMBER(Manquant[[#This Row],[Date de réappro estimée]]),Manquant[[#This Row],[Date de réappro estimée]],"") | N88: =IF(Manquant[[#This Row],[DATE Réappro]]="",(IF(Manquant[[#This Row],[Date Estimée]]="","NO DATE",Manquant[[#This Row],[Date Estimée]])),Manquant[[#This Row],[DATE Réappro]]) -> NO DATE | O88: =IF((VLOOKUP(Manquant[[#This Row],[Composé]],Planning!E:M,9,FALSE))=0,"",(VLOOKUP(Manquant[[#This Row],[Composé]],Planning!E:M,9,FALSE))) -> 43710 | P88: =IF(Manquant[[#This Row],[Besoin Client]]="","NO DATE CLIENT",(IF(Manquant[[#This Row],[DATE]]="NO DATE",TRUE,(IF(Manquant[[#This Row],[Besoin Client]]-Manquant[[#This Row],[DATE]]<25,TRUE,""))))) -> TRUE | Q88: =IF(ISTEXT(Manquant[[#This Row],[Date de réapprovisionnement]]),Manquant[[#This Row],[Date de réapprovisionnement]],"") -> MKP | R88: =IF(ISTEXT(Manquant[[#This Row],[Date de réappro estimée]]),Manquant[[#This Row],[Date de réappro estimée]],"") | S88: =IF((Manquant[Commentaires]=""),"",Manquant[Commentaires]) -> Cotation Mouser en cours 24/04 | T88: =Manquant[Commentaires1]&CHAR(10)&Manquant[Commentaires2]&CHAR(10)&Manquant[Commentaires3] -> MKP Cotation Mouser en cours 24/04
A89: 263563962MKP | B89: CIE SOM2-22x | C89: 43703 | D89: 71258284 | E89: 193572180MKP | F89: 193572180MKP | G89: IC.CMS MCU STM32F412ZE UFBGA144 SP | H89: DA | I89: MKP | K89: Cotation Mouser en cours 24/04 | L89: =IF(ISNUMBER(Manquant[[#This Row],[Date de réapprovisionnement]]),Manquant[[#This Row],[Date de réapprovisionnement]],"") | M89: =IF(ISNUMBER(Manquant[[#This Row],[Date de réappro estimée]]),Manquant[[#This Row],[Date de réappro estimée]],"") | N89: =IF(Manquant[[#This Row],[DATE Réappro]]="",(IF(Manquant[[#This Row],[Date Estimée]]="","NO DATE",Manquant[[#This Row],[Date Estimée]])),Manquant[[#This Row],[DATE Réappro]]) -> NO DATE | O89: =IF((VLOOKUP(Manquant[[#This Row],[Composé]],Planning!E:M,9,FALSE))=0,"",(VLOOKUP(Manquant[[#This Row],[Composé]],Planning!E:M,9,FALSE))) -> 43710 | P89: =IF(Manquant[[#This Row],[Besoin Client]]="","NO DATE CLIENT",(IF(Manquant[[#This Row],[DATE]]="NO DATE",TRUE,(IF(Manquant[[#This Row],[Besoin Client]]-Manquant[[#This Row],[DATE]]<25,TRUE,""))))) -> TRUE | Q89: =IF(ISTEXT(Manquant[[#This Row],[Date de réapprovisionnement]]),Manquant[[#This Row],[Date de réapprovisionnement]],"") -> MKP | R89: =IF(ISTEXT(Manquant[[#This Row],[Date de réappro estimée]]),Manquant[[#This Row],[Date de réappro estimée]],"") | S89: =IF((Manquant[Commentaires]=""),"",Manquant[Commentaires]) -> Cotation Mouser en cours 24/04 | T89: =Manquant[Commentaires1]&CHAR(10)&Manquant[Commentaires2]&CHAR(10)&Manquant[Commentaires3] -> MKP Cotation Mouser en cours 24/04
A90: 263563962MKP | B90: CIE SOM2-22x | C90: 43682 | D90: 71258284 | E90: 193573794-01 | F90: 193573781 | G90: IC CMS XCZU7EV FPGA FFVC1156 SP | H90: CDE_HA_AR | I90: 43642 | L90: =IF(ISNUMBER(Manquant[[#This Row],[Date de réapprovisionnement]]),Manquant[[#This Row],[Date de réapprovisionnement]],"") -> 43642 | M90: =IF(ISNUMBER(Manquant[[#This Row],[Date de réappro estimée]]),Manquant[[#This Row],[Date de réappro estimée]],"") | N90: =IF(Manquant[[#This Row],[DATE Réappro]]="",(IF(Manquant[[#This Row],[Date Estimée]]="","NO DATE",Manquant[[#This Row],[Date Estimée]])),Manquant[[#This Row],[DATE Réappro]]) -> 43642 | O90: =IF((VLOOKUP(Manquant[[#This Row],[Composé]],Planning!E:M,9,FALSE))=0,"",(VLOOKUP(Manquant[[#This Row],[Composé]],Planning!E:M,9,FALSE))) -> 43710 | P90: =IF(Manquant[[#This Row],[Besoin Client]]="","NO DATE CLIENT",(IF(Manquant[[#This Row],[DATE]]="NO DATE",TRUE,(IF(Manquant[[#This Row],[Besoin Client]]-Manquant[[#This Row],[DATE]]<25,TRUE,""))))) | Q90: =IF(ISTEXT(Manquant[[#This Row],[Date de réapprovisionnement]]),Manquant[[#This Row],[Date de réapprovisionnement]],"") | R90: =IF(ISTEXT(Manquant[[#This Row],[Date de réappro estimée]]),Manquant[[#This Row],[Date de réappro estimée]],"") | S90: =IF((Manquant[Commentaires]=""),"",Manquant[Commentaires]) | T90: =Manquant[Commentaires1]&CHAR(10)&Manquant[Commentaires2]&CHAR(10)&Manquant[Commentaires3]
A91: 263563962MKP | B91: CIE SOM2-22x | C91: 43703 | D91: 71258284 | E91: 193574796MKP | F91: 193574796MKP | G91: COND.CMS 0201 X7R 100NF 10% 6,3V SP | H91: DA | I91: MKP | K91: Cotation Broker en cours 24/04 | L91: =IF(ISNUMBER(Manquant[[#This Row],[Date de réapprovisionnement]]),Manquant[[#This Row],[Date de réapprovisionnement]],"") | M91: =IF(ISNUMBER(Manquant[[#This Row],[Date de réappro estimée]]),Manquant[[#This Row],[Date de réappro estimée]],"") | N91: =IF(Manquant[[#This Row],[DATE Réappro]]="",(IF(Manquant[[#This Row],[Date Estimée]]="","NO DATE",Manquant[[#This Row],[Date Estimée]])),Manquant[[#This Row],[DATE Réappro]]) -> NO DATE | O91: =IF((VLOOKUP(Manquant[[#This Row],[Composé]],Planning!E:M,9,FALSE))=0,"",(VLOOKUP(Manquant[[#This Row],[Composé]],Planning!E:M,9,FALSE))) -> 43710 | P91: =IF(Manquant[[#This Row],[Besoin Client]]="","NO DATE CLIENT",(IF(Manquant[[#This Row],[DATE]]="NO DATE",TRUE,(IF(Manquant[[#This Row],[Besoin Client]]-Manquant[[#This Row],[DATE]]<25,TRUE,""))))) -> TRUE | Q91: =IF(ISTEXT(Manquant[[#This Row],[Date de réapprovisionnement]]),Manquant[[#This Row],[Date de réapprovisionnement]],"") -> MKP | R91: =IF(ISTEXT(Manquant[[#This Row],[Date de réappro estimée]]),Manquant[[#This Row],[Date de réappro estimée]],"") | S91: =IF((Manquant[Commentaires]=""),"",Manquant[Commentaires]) -> Cotation Broker en cours 24/04 | T91: =Manquant[Commentaires1]&CHAR(10)&Manquant[Commentaires2]&CHAR(10)&Manquant[Commentaires3] -> MKP Cotation Broker en cours 24/04
A92: 263563962MKP | B92: CIE SOM2-22x | C92: 43682 | D92: 71258284 | E92: 193579217-01 | F92: 193579189 | G92: IC.CMS LPDDR4 SDRAM 256MX32 WFBGA200 SP | H92: DA | I92: MKP | K92: MOQ de 1360 pièces / attente validation alternative | L92: =IF(ISNUMBER(Manquant[[#This Row],[Date de réapprovisionnement]]),Manquant[[#This Row],[Date de réapprovisionnement]],"") | M92: =IF(ISNUMBER(Manquant[[#This Row],[Date de réappro estimée]]),Manquant[[#This Row],[Date de réappro estimée]],"") | N92: =IF(Manquant[[#This Row],[DATE Réappro]]="",(IF(Manquant[[#This Row],[Date Estimée]]="","NO DATE",Manquant[[#This Row],[Date Estimée]])),Manquant[[#This Row],[DATE Réappro]]) -> NO DATE | O92: =IF((VLOOKUP(Manquant[[#This Row],[Composé]],Planning!E:M,9,FALSE))=0,"",(VLOOKUP(Manquant[[#This Row],[Composé]],Planning!E:M,9,FALSE))) -> 43710 | P92: =IF(Manquant[[#This Row],[Besoin Client]]="","NO DATE CLIENT",(IF(Manquant[[#This Row],[DATE]]="NO DATE",TRUE,(IF(Manquant[[#This Row],[Besoin Client]]-Manquant[[#This Row],[DATE]]<25,TRUE,""))))) -> TRUE | Q92: =IF(ISTEXT(Manquant[[#This Row],[Date de réapprovisionnement]]),Manquant[[#This Row],[Date de réapprovisionnement]],"") -> MKP | R92: =IF(ISTEXT(Manquant[[#This Row],[Date de réappro estimée]]),Manquant[[#This Row],[Date de réappro estimée]],"") | S92: =IF((Manquant[Commentaires]=""),"",Manquant[Commentaires]) -> MOQ de 1360 pièces / attente validation alternative | T92: =Manquant[Commentaires1]&CHAR(10)&Manquant[Commentaires2]&CHAR(10)&Manquant[Commentaires3] -> MKP MOQ de 1360 pièces / attente validation alternative
A93: 263563962MKP | B93: CIE SOM2-22x | C93: 43682 | D93: 71258284 | E93: 193581085-01 | F93: 193581043 | G93: IC.CMS SUPERVISORY CIRCUIT 6V5 WSON6 SP | H93: CDE_HA | I93: Attente AR | J93: 43588 | L93: =IF(ISNUMBER(Manquant[[#This Row],[Date de réapprovisionnement]]),Manquant[[#This Row],[Date de réapprovisionnement]],"") | M93: =IF(ISNUMBER(Manquant[[#This Row],[Date de réappro estimée]]),Manquant[[#This Row],[Date de réappro estimée]],"") -> 43588 | N93: =IF(Manquant[[#This Row],[DATE Réappro]]="",(IF(Manquant[[#This Row],[Date Estimée]]="","NO DATE",Manquant[[#This Row],[Date Estimée]])),Manquant[[#This Row],[DATE Réappro]]) -> 43588 | O93: =IF((VLOOKUP(Manquant[[#This Row],[Composé]],Planning!E:M,9,FALSE))=0,"",(VLOOKUP(Manquant[[#This Row],[Composé]],Planning!E:M,9,FALSE))) -> 43710 | P93: =IF(Manquant[[#This Row],[Besoin Client]]="","NO DATE CLIENT",(IF(Manquant[[#This Row],[DATE]]="NO DATE",TRUE,(IF(Manquant[[#This Row],[Besoin Client]]-Manquant[[#This Row],[DATE]]<25,TRUE,""))))) | Q93: =IF(ISTEXT(Manquant[[#This Row],[Date de réapprovisionnement]]),Manquant[[#This Row],[Date de réapprovisionnement]],"") -> Attente AR | R93: =IF(ISTEXT(Manquant[[#This Row],[Date de réappro estimée]]),Manquant[[#This Row],[Date de réappro estimée]],"") | S93: =IF((Manquant[Commentaires]=""),"",Manquant[Commentaires]) | T93: =Manquant[Commentaires1]&CHAR(10)&Manquant[Commentaires2]&CHAR(10)&Manquant[Commentaires3] -> Attente AR
A94: 263563962MKP | B94: CIE SOM2-22x | C94: 43682 | D94: 71258284 | E94: 193582248-01 | F94: 193582227 | G94: IC.CMS HIGH AC.ADJ.LDO 1A 6V WSON-6 SP | H94: CDE_HA | I94: Attente AR | J94: 43588 | L94: =IF(ISNUMBER(Manquant[[#This Row],[Date de réapprovisionnement]]),Manquant[[#This Row],[Date de réapprovisionnement]],"") | M94: =IF(ISNUMBER(Manquant[[#This Row],[Date de réappro estimée]]),Manquant[[#This Row],[Date de réappro estimée]],"") -> 43588 | N94: =IF(Manquant[[#This Row],[DATE Réappro]]="",(IF(Manquant[[#This Row],[Date Estimée]]="","NO DATE",Manquant[[#This Row],[Date Estimée]])),Manquant[[#This Row],[DATE Réappro]]) -> 43588 | O94: =IF((VLOOKUP(Manquant[[#This Row],[Composé]],Planning!E:M,9,FALSE))=0,"",(VLOOKUP(Manquant[[#This Row],[Composé]],Planning!E:M,9,FALSE))) -> 43710 | P94: =IF(Manquant[[#This Row],[Besoin Client]]="","NO DATE CLIENT",(IF(Manquant[[#This Row],[DATE]]="NO DATE",TRUE,(IF(Manquant[[#This Row],[Besoin Client]]-Manquant[[#This Row],[DATE]]<25,TRUE,""))))) | Q94: =IF(ISTEXT(Manquant[[#This Row],[Date de réapprovisionnement]]),Manquant[[#This Row],[Date de réapprovisionnement]],"") -> Attente AR | R94: =IF(ISTEXT(Manquant[[#This Row],[Date de réappro estimée]]),Manquant[[#This Row],[Date de réappro estimée]],"") | S94: =IF((Manquant[Commentaires]=""),"",Manquant[Commentaires]) | T94: =Manquant[Commentaires1]&CHAR(10)&Manquant[Commentaires2]&CHAR(10)&Manquant[Commentaires3] -> Attente AR
A95: 263563962MKP | B95: CIE SOM2-22x | C95: 43682 | D95: 71258284 | E95: 193582673-01 | F95: 193582652 | G95: IC.CMS D.CHA COMMUTATEUR 5V7 WSON14 SP | H95: CDE_HA | I95: Attente AR | J95: 43588 | L95: =IF(ISNUMBER(Manquant[[#This Row],[Date de réapprovisionnement]]),Manquant[[#This Row],[Date de réapprovisionnement]],"") | M95: =IF(ISNUMBER(Manquant[[#This Row],[Date de réappro estimée]]),Manquant[[#This Row],[Date de réappro estimée]],"") -> 43588 | N95: =IF(Manquant[[#This Row],[DATE Réappro]]="",(IF(Manquant[[#This Row],[Date Estimée]]="","NO DATE",Manquant[[#This Row],[Date Estimée]])),Manquant[[#This Row],[DATE Réappro]]) -> 43588 | O95: =IF((VLOOKUP(Manquant[[#This Row],[Composé]],Planning!E:M,9,FALSE))=0,"",(VLOOKUP(Manquant[[#This Row],[Composé]],Planning!E:M,9,FALSE))) -> 43710 | P95: =IF(Manquant[[#This Row],[Besoin Client]]="","NO DATE CLIENT",(IF(Manquant[[#This Row],[DATE]]="NO DATE",TRUE,(IF(Manquant[[#This Row],[Besoin Client]]-Manquant[[#This Row],[DATE]]<25,TRUE,""))))) | Q95: =IF(ISTEXT(Manquant[[#This Row],[Date de réapprovisionnement]]),Manquant[[#This Row],[Date de réapprovisionnement]],"") -> Attente AR | R95: =IF(ISTEXT(Manquant[[#This Row],[Date de réappro estimée]]),Manquant[[#This Row],[Date de réappro estimée]],"") | S95: =IF((Manquant[Commentaires]=""),"",Manquant[Commentaires]) | T95: =Manquant[Commentaires1]&CHAR(10)&Manquant[Commentaires2]&CHAR(10)&Manquant[Commentaires3] -> Attente AR
A96: 263563962MKP | B96: CIE SOM2-22x | C96: 43682 | D96: 71258284 | E96: 193587863-01 | F96: 193587855 | G96: IC.CMS NOR FLASH 1GB LFBGA24 SP | H96: DA | I96: MKP | K96: Cotation Mouser en cours 24/04 | L96: =IF(ISNUMBER(Manquant[[#This Row],[Date de réapprovisionnement]]),Manquant[[#This Row],[Date de réapprovisionnement]],"") | M96: =IF(ISNUMBER(Manquant[[#This Row],[Date de réappro estimée]]),Manquant[[#This Row],[Date de réappro estimée]],"") | N96: =IF(Manquant[[#This Row],[DATE Réappro]]="",(IF(Manquant[[#This Row],[Date Estimée]]="","NO DATE",Manquant[[#This Row],[Date Estimée]])),Manquant[[#This Row],[DATE Réappro]]) -> NO DATE | O96: =IF((VLOOKUP(Manquant[[#This Row],[Composé]],Planning!E:M,9,FALSE))=0,"",(VLOOKUP(Manquant[[#This Row],[Composé]],Planning!E:M,9,FALSE))) -> 43710 | P96: =IF(Manquant[[#This Row],[Besoin Client]]="","NO DATE CLIENT",(IF(Manquant[[#This Row],[DATE]]="NO DATE",TRUE,(IF(Manquant[[#This Row],[Besoin Client]]-Manquant[[#This Row],[DATE]]<25,TRUE,""))))) -> TRUE | Q96: =IF(ISTEXT(Manquant[[#This Row],[Date de réapprovisionnement]]),Manquant[[#This Row],[Date de réapprovisionnement]],"") -> MKP | R96: =IF(ISTEXT(Manquant[[#This Row],[Date de réappro estimée]]),Manquant[[#This Row],[Date de réappro estimée]],"") | S96: =IF((Manquant[Commentaires]=""),"",Manquant[Commentaires]) -> Cotation Mouser en cours 24/04 | T96: =Manquant[Commentaires1]&CHAR(10)&Manquant[Commentaires2]&CHAR(10)&Manquant[Commentaires3] -> MKP Cotation Mouser en cours 24/04
A97: 263563962MKP | B97: CIE SOM2-22x | C97: 43682 | D97: 71258284 | E97: 193589755-01 | F97: 193589721 | G97: IC.CMS NAND FLASH 4GB 1,8V BGA63 SP | H97: DA | I97: MKP | K97: Cotation Broker en cours 24/04 | L97: =IF(ISNUMBER(Manquant[[#This Row],[Date de réapprovisionnement]]),Manquant[[#This Row],[Date de réapprovisionnement]],"") | M97: =IF(ISNUMBER(Manquant[[#This Row],[Date de réappro estimée]]),Manquant[[#This Row],[Date de réappro estimée]],"") | N97: =IF(Manquant[[#This Row],[DATE Réappro]]="",(IF(Manquant[[#This Row],[Date Estimée]]="","NO DATE",Manquant[[#This Row],[Date Estimée]])),Manquant[[#This Row],[DATE Réappro]]) -> NO DATE | O97: =IF((VLOOKUP(Manquant[[#This Row],[Composé]],Planning!E:M,9,FALSE))=0,"",(VLOOKUP(Manquant[[#This Row],[Composé]],Planning!E:M,9,FALSE))) -> 43710 | P97: =IF(Manquant[[#This Row],[Besoin Client]]="","NO DATE CLIENT",(IF(Manquant[[#This Row],[DATE]]="NO DATE",TRUE,(IF(Manquant[[#This Row],[Besoin Client]]-Manquant[[#This Row],[DATE]]<25,TRUE,""))))) -> TRUE | Q97: =IF(ISTEXT(Manquant[[#This Row],[Date de réapprovisionnement]]),Manquant[[#This Row],[Date de réapprovisionnement]],"") -> MKP | R97: =IF(ISTEXT(Manquant[[#This Row],[Date de réappro estimée]]),Manquant[[#This Row],[Date de réappro estimée]],"") | S97: =IF((Manquant[Commentaires]=""),"",Manquant[Commentaires]) -> Cotation Broker en cours 24/04 | T97: =Manquant[Commentaires1]&CHAR(10)&Manquant[Commentaires2]&CHAR(10)&Manquant[Commentaires3] -> MKP Cotation Broker en cours 24/04
A98: 263563962MKP | B98: CIE SOM2-22x | C98: 43682 | D98: 71258284 | E98: 193602339-01 | F98: 193602318 | G98: IC.CMS CONV.DC-DC EN63A0QA 12A QFN76 SP | H98: DA | I98: MKP | K98: Cotation Mouser en cours 24/04 | L98: =IF(ISNUMBER(Manquant[[#This Row],[Date de réapprovisionnement]]),Manquant[[#This Row],[Date de réapprovisionnement]],"") | M98: =IF(ISNUMBER(Manquant[[#This Row],[Date de réappro estimée]]),Manquant[[#This Row],[Date de réappro estimée]],"") | N98: =IF(Manquant[[#This Row],[DATE Réappro]]="",(IF(Manquant[[#This Row],[Date Estimée]]="","NO DATE",Manquant[[#This Row],[Date Estimée]])),Manquant[[#This Row],[DATE Réappro]]) -> NO DATE | O98: =IF((VLOOKUP(Manquant[[#This Row],[Composé]],Planning!E:M,9,FALSE))=0,"",(VLOOKUP(Manquant[[#This Row],[Composé]],Planning!E:M,9,FALSE))) -> 43710 | P98: =IF(Manquant[[#This Row],[Besoin Client]]="","NO DATE CLIENT",(IF(Manquant[[#This Row],[DATE]]="NO DATE",TRUE,(IF(Manquant[[#This Row],[Besoin Client]]-Manquant[[#This Row],[DATE]]<25,TRUE,""))))) -> TRUE | Q98: =IF(ISTEXT(Manquant[[#This Row],[Date de réapprovisionnement]]),Manquant[[#This Row],[Date de réapprovisionnement]],"") -> MKP | R98: =IF(ISTEXT(Manquant[[#This Row],[Date de réappro estimée]]),Manquant[[#This Row],[Date de réappro estimée]],"") | S98: =IF((Manquant[Commentaires]=""),"",Manquant[Commentaires]) -> Cotation Mouser en cours 24/04 | T98: =Manquant[Commentaires1]&CHAR(10)&Manquant[Commentaires2]&CHAR(10)&Manquant[Commentaires3] -> MKP Cotation Mouser en cours 24/04
A99: 263563962MKP | B99: CIE SOM2-22x | C99: 43682 | D99: 71258284 | E99: 193606551-01 | F99: 193606543 | G99: OSC.CMS MEMS 26 MHZ 3,3V QFN4 SP | H99: DA | I99: MKP | K99: Cotation Broker en cours 24/04 | L99: =IF(ISNUMBER(Manquant[[#This Row],[Date de réapprovisionnement]]),Manquant[[#This Row],[Date de réapprovisionnement]],"") | M99: =IF(ISNUMBER(Manquant[[#This Row],[Date de réappro estimée]]),Manquant[[#This Row],[Date de réappro estimée]],"") | N99: =IF(Manquant[[#This Row],[DATE Réappro]]="",(IF(Manquant[[#This Row],[Date Estimée]]="","NO DATE",Manquant[[#This Row],[Date Estimée]])),Manquant[[#This Row],[DATE Réappro]]) -> NO DATE | O99: =IF((VLOOKUP(Manquant[[#This Row],[Composé]],Planning!E:M,9,FALSE))=0,"",(VLOOKUP(Manquant[[#This Row],[Composé]],Planning!E:M,9,FALSE))) -> 43710 | P99: =IF(Manquant[[#This Row],[Besoin Client]]="","NO DATE CLIENT",(IF(Manquant[[#This Row],[DATE]]="NO DATE",TRUE,(IF(Manquant[[#This Row],[Besoin Client]]-Manquant[[#This Row],[DATE]]<25,TRUE,""))))) -> TRUE | Q99: =IF(ISTEXT(Manquant[[#This Row],[Date de réapprovisionnement]]),Manquant[[#This Row],[Date de réapprovisionnement]],"") -> MKP | R99: =IF(ISTEXT(Manquant[[#This Row],[Date de réappro estimée]]),Manquant[[#This Row],[Date de réappro estimée]],"") | S99: =IF((Manquant[Commentaires]=""),"",Manquant[Commentaires]) -> Cotation Broker en cours 24/04 | T99: =Manquant[Commentaires1]&CHAR(10)&Manquant[Commentaires2]&CHAR(10)&Manquant[Commentaires3] -> MKP Cotation Broker en cours 24/04
A100: 263563962MKP | B100: CIE SOM2-22x | C100: 43682 | D100: 71258284 | E100: 193606585-01 | F100: 193606564 | G100: OSC.CMS MEMS 125 MHZ 1,8V 50PPM QFN4 SP | H100: DA | I100: MKP | K100: Cotation Broker en cours 24/04 | L100: =IF(ISNUMBER(Manquant[[#This Row],[Date de réapprovisionnement]]),Manquant[[#This Row],[Date de réapprovisionnement]],"") | M100: =IF(ISNUMBER(Manquant[[#This Row],[Date de réappro estimée]]),Manquant[[#This Row],[Date de réappro estimée]],"") | N100: =IF(Manquant[[#This Row],[DATE Réappro]]="",(IF(Manquant[[#This Row],[Date Estimée]]="","NO DATE",Manquant[[#This Row],[Date Estimée]])),Manquant[[#This Row],[DATE Réappro]]) -> NO DATE | O100: =IF((VLOOKUP(Manquant[[#This Row],[Composé]],Planning!E:M,9,FALSE))=0,"",(VLOOKUP(Manquant[[#This Row],[Composé]],Planning!E:M,9,FALSE))) -> 43710 | P100: =IF(Manquant[[#This Row],[Besoin Client]]="","NO DATE CLIENT",(IF(Manquant[[#This Row],[DATE]]="NO DATE",TRUE,(IF(Manquant[[#This Row],[Besoin Client]]-Manquant[[#This Row],[DATE]]<25,TRUE,""))))) -> TRUE | Q100: =IF(ISTEXT(Manquant[[#This Row],[Date de réapprovisionnement]]),Manquant[[#This Row],[Date de réapprovisionnement]],"") -> MKP | R100: =IF(ISTEXT(Manquant[[#This Row],[Date de réappro estimée]]),Manquant[[#This Row],[Date de réappro estimée]],"") | S100: =IF((Manquant[Commentaires]=""),"",Manquant[Commentaires]) -> Cotation Broker en cours 24/04 | T100: =Manquant[Commentaires1]&CHAR(10)&Manquant[Commentaires2]&CHAR(10)&Manquant[Commentaires3] -> MKP Cotation Broker en cours 24/04
...

Sheet Planning
A1: N° affaire | B1: Statut DD GITIS | C1: Projet | D1: N° RUN | E1: Référence | F1: Désignation | G1: Qté | H1: Profil de Four | I1: RoHS Plomb | J1: OF | K1: Statut ADV | L1: Préparateur | M1: Date besoin client
A2: 1093 | B2: 20 | C2: HORUS | D2: 1 | E2: 263323186MKP | F2: Bloc fond Press-fit | G2: 1 | I2: Calculateur | K2: En cours | L2: JGC
A3: 1306 | B3: 22 | C3: PASEO XLR | E3: 263430816MKP | F3: CIE MB_FSP_XLR | G3: 9 | H3: 1 | I3: RoHS | J3: 71200401 | K3: Soldé | L3: JH
A4: 1307 | B4: 22 | C4: PASEO XLR | E4: 263427525MKP | F4: CIE BKP_XLR | G4: 7 | H4: 1 | I4: RoHS | J4: 71200491 | K4: Soldé | L4: JH
A5: 1326 | B5: 20 | C5: CV GAN HF | E5: 263252585MKP | F5: CIE R&T ONDULEUR 3 NIVEAUX 3KW | G5: 3 | H5: 0 | I5: Plomb | J5: 71198078 | K5: Soldé | L5: JH
A6: 1327 | B6: 22 | C6: MISTRAL2 | E6: 263049722MKP | F6: CIE Outillage ASCII (Pour réparation) | G6: 2 | K6: Soldé | L6: JH
A7: 1334 | B7: 20 | C7: CoRoNu | D7: 1 | E7: 263501136MKP | F7: CIE POWER CORONU | G7: 4 | H7: 0 | I7: Plomb | J7: 71203430 | K7: En cours | L7: JGC
A8: 1335 | B8: 20 | C8: CoRoNu | D8: 1 | E8: 263475964MKP | F8: CIE_FPGA_Board_KINTEX7_XC7K160 | G8: 4 | H8: 0 | I8: Plomb | J8: 71203427 | K8: En cours | L8: JGC
A9: 1338 | B9: 22 | C9: BGS4G V3 | E9: 263504447MKP | F9: CIE MB_ECU_V3 | G9: 4 | H9: 1 | I9: RoHS | J9: 71208975 | K9: CR à réaliser | L9: JH
A10: 1342 | B10: 22 | C10: PASEO XLR | E10: 263479892MKP | F10: CIE PRO_TV-000 | G10: 5 | H10: 1 | I10: RoHS | J10: 71208445 | K10: En cours | L10: JH
A11: 1347 | B11: 22 | C11: PASEO XLR | E11: 263514394MKP | F11: CIE MB_FSP_XLR-TST | G11: 3 | H11: 1 | I11: RoHS | J11: 71214672 | K11: Soldé | L11: JH
A12: 1358 | B12: 22 | C12: BOMR F/3 HD | E12: 263520558MKP | F12: CIE CODLIN_HD_STEP_A | G12: 14 | H12: 1 | I12: Rohs | J12: 71218346 | K12: Soldé | L12: JH
A13: 1359 | B13: 22 | C13: CMM V3 | D13: 2 | E13: 262710786MKP | F13: CIE CMM Fille | G13: 6 | H13: 0 | I13: Plomb | J13: 71219945 | K13: Soldé | L13: JGC
A14: 1367 | B14: 22 | C14: BGS4G | D14: 7 | E14: 262793181MKP | F14: CIE MB_FSP SERIE | G14: 1 | H14: 0 | I14: RoHS | J14: 71241851 | K14: Soldé | L14: JGC
A15: 1368 | B15: 23 | C15: BGS4G | D15: 2 | E15: 262745185MKP | F15: CIE FSP_U060 | G15: 1 | H15: 0 | I15: RoHS | J15: 71243200 | K15: Soldé | L15: RL
A16: 1371 | B16: 22 | C16: BGS4G | E16: 263552456MKP | F16: CIE SELF_28VSPU_V2 | G16: 10 | H16: 0 | I16: RoHS | J16: 71228700 | K16: Soldé | L16: RL
A17: 1372 | B17: 22 | C17: BGS4G | E17: 263552464MKP | F17: CIE SELF_28VLAS_V2 | G17: 10 | H17: 0 | I17: RoHS | J17: 71228353 | K17: Soldé | L17: RL
A18: 1373 | B18: 22 | C18: PASEO_V4 | D18: 2 | E18: 263351560MKP | F18: CIE W9_PROX-D_PASEO_IR_HD | G18: 30 | H18: 0 | I18: RoHS | J18: 71228704 | K18: Soldé | L18: RL
A19: 1376 | B19: 22 | C19: P14 | E19: 263059603MKP | F19: CARTE CC MDD9 (Plot décapé) | G19: 5 | H19: 0 | I19: plomb | J19: 71233251 | K19: Soldé | L19: RL
A20: 1377 | B20: 22 | C20: BGS4G | E20: 262935309MKP | F20: CIE PROX-NUM-B | G20: 6 | H20: 0 | I20: Rohs | J20: 71235553 | K20: Soldé | L20: RL
A21: 1378 | B21: 22 | C21: AASM B4 | D21: 1 | E21: 263543217MKP | F21: CIE_FLEX_BDC_B4 | G21: 10 | H21: 0 | I21: Rohs | J21: 71234282 | K21: En cours | L21: RL
A22: 1379 | B22: 22 | C22: AASM B4 | E22: 263543262MKP | F22: CIE_FLEX_PAL_B4 | G22: 10 | H22: 0 | I22: Rohs | J22: 71234984 | K22: CR à réaliser | L22: RL
A23: 1383 | B23: 24 | C23: SYCOMORE | E23: 261772211MKP | F23: C.I.E. PREAMPLI GRH CRISTAL V5.3 BLINDE | G23: 24 | H23: 0 | I23: Plomb | J23: 71241000 | K23: Soldé | L23: RL
A24: 1384 | B24: 22 | C24: SYCOMORE | E24: 263414119MKP | F24: CIE FRONT_END_MULTICAP(Pour reprise) | G24: 2 | H24: 0 | I24: RoHS | K24: Soldé | L24: JGC
A25: 1385 | B25: 22 | C25: PASEO XLR | E25: 263544425MKP | F25: CIE FLEX_W1_PASEO_XLR | G25: 8 | H25: 1 | I25: RoHS | J25: 71243643 | K25: Soldé | L25: JH
A26: 1386 | B26: 22 | C26: BGS4G | D26: 4 | E26: 262578985MKP | F26: CIE MB_FSP | G26: 1 | H26: 0 | I26: RoHS | J26: 71241807 | K26: Soldé | L26: JGC
A27: 1387 | B27: 21 | C27: ETMCU | D27: 1 | E27: 263527705MKP | F27: CIE ETCU_CONTROL | G27: 10 | H27: 1 | I27: RoHS | J27: 71246998 | K27: En cours | L27: JGC
A28: 1388 | B28: 22 | C28: ETMCU | D28: 1 | E28: 263527797MKP | F28: CIE ETCU_INTERCO | G28: 4 | H28: 1 | I28: RoHS | J28: 71255811 | K28: En cours | L28: JGC
A29: 1389 | B29: 21 | C29: ETMCU | D29: 2 | E29: 263527705MKP | F29: CIE ETCU_CONTROL | G29: 33 | H29: 0 | I29: RoHS | J29: 71246999 | K29: En cours | L29: JGC
A30: 1390 | B30: 22 | C30: ETMCU | D30: 2 | E30: 263527797MKP | F30: CIE ETCU_INTERCO | G30: 14 | H30: 0 | I30: RoHS | J30: 71255812 | K30: En cours | L30: JGC
A31: 1391 | B31: 20 | C31: PresSense | E31: MKP9028342 | F31: CIE PRE-SENSE V02 | G31: 100 | K31: Annulé | L31: JGC
A32: 1392 | B32: 20 | C32: Techno | E32: 263353209 | F32: Carte prolongatrice IOT | G32: 2 | H32: 0 | I32: RoHS | J32: NA | K32: Soldé | L32: JGC
A33: 1393 | B33: 24 | C33: NA | D33: 8 | E33: 262227187MKP | F33: CIE OUTILLAGE PROX | G33: 5 | H33: 0 | I33: RoHS | J33: 71266701 | K33: Soldé | L33: RL
A34: 1394 | B34: 22 | C34: NA | D34: 6 | E34: 262217339MKP | F34: CIE FLEX OUTILLAGE MMT PROXS_2G | G34: 10 | H34: 0 | I34: RoHS | J34: 71266708 | K34: Soldé | L34: RL
A35: 1395 | B35: 22 | C35: Techno | D35: 3 | E35: NA | F35: qualification AG2S | G35: 16 | H35: 0 | I35: Plomb | K35: Soldé | L35: AJ | M35: 43485
A36: 1396 | B36: 20 | C36: FADEC HC | D36: 0 | E36: MKP9028378 | F36: FADEC HC | G36: 2 | H36: 1 | J36: 71245415 | K36: Remplacé | L36: JGC
A37: 1397 | B37: 20 | C37: FADEC HC | D37: 0 | E37: MKP9028378 | F37: FADEC HC | G37: 5 | H37: 0 | J37: 71246411 | K37: Remplacé | L37: JGC
A38: 1398 | B38: 20 | C38: EMU | E38: 263562134MKP | F38: EMU STD2 B01 PARK_SMI | G38: 6 | H38: 0 | I38: Plomb | K38: Annulé | L38: JH
A39: 1399 | B39: 20 | C39: EMU | E39: 263562027-00MKP | F39: EMU BMS_1 BOARD | G39: 6 | K39: Annulé | L39: RL
A40: 1400 | B40: 20 | C40: EMU | E40: 263562069-00MKP | F40: EMU BMS_2 BOARD | G40: 6 | K40: Annulé | L40: RL
A41: 1401 | B41: 22 | C41: PASEO MPF | E41: 263561546MKP | F41: CIE FLEX_W26_SWIR_PASEO_MPF | G41: 15 | H41: 1 | I41: RoHS | J41: 71250347 | K41: CR à réaliser | L41: RL
A42: 1402 | B42: 22 | C42: DAGAIE-SCU | D42: 0 | E42: 263306065MKP | F42: CIE AD-AFC (pour reprise) | G42: 1 | H42: 0 | I42: Rohs | J42: NA | K42: Soldé | L42: JGC
A43: 1403 | B43: 23 | C43: AASM B4 | E43: 263430902MKP | F43: CIE EPL_B4 | G43: 2 | H43: 0 | I43: Rohs | J43: 71250666 | K43: Soldé | L43: JH
A44: 1404 | B44: 23 | C44: AASM B4 | E44: 263430902MKP | F44: CIE EPL_B4 | G44: 3 | H44: 0 | I44: Rohs | J44: 71250666 | K44: Soldé | L44: JH
A45: 1405 | B45: 24 | C45: Outillage PROX | D45: 9 | E45: 262227187MKP | F45: CIE OUTILLAGE PROX | G45: 4 | H45: 0 | I45: RoHS | J45: 71254715 | K45: Soldé | L45: RL
A46: 1406 | B46: 22 | C46: MICA NG | D46: 1 | E46: 263519352MKP | F46: CIE PA GVPHP MQ4 | G46: 94 | H46: 0 | I46: Plomb | J46: 71251214 | K46: En cours | L46: RL
A47: 1407 | B47: 22 | C47: Bloc MEMS | D47: 1 | E47: 263493706MKP | F47: CIE SPI K10 | G47: 8 | H47: 1 | I47: RoHS | J47: 71250351 | K47: En cours | L47: RL | M47: 43553
A48: 1408 | B48: 22 | C48: AASM B4 | D48: 1 | E48: 263590922MKP | F48: CIE CMPL Delta | G48: 3 | H48: 1 | I48: Rohs | J48: 71251206 | K48: En cours | L48: JH
A49: 1409 | B49: 22 | C49: PASEO MPF | E49: 263076597MKP | F49: CIE PROX-NUM-D Eq. BETA | G49: 4 | H49: 0 | I49: Rohs | J49: 71255488 | K49: CR à réaliser | L49: JH
A50: 1409 bis | B50: 22 | C50: PASEO MPF | D50: 2 | E50: 263076597MKP | F50: CIE PROX-NUM-D Eq. BETA | G50: 12 | H50: 0 | I50: Rohs | J50: 71258009 | K50: En cours | L50: JH
A51: 1410 | B51: 22 | C51: PASEO MPF | D51: 1 | E51: 263577007MKP | F51: CIE ADAPTATION_BOARD_MPF | G51: 24 | H51: 1 | I51: RoHS | J51: 71254854 | K51: CR à réaliser | L51: JGC | M51: 43539
A52: 1411 | B52: 22 | C52: PASEO MPF | E52: 263561575MKP | F52: CIE FLEX_W27_SWIR_PASEO_MPF | G52: 15 | H52: 1 | I52: Rohs | J52: 71255687 | K52: CR à réaliser | L52: JGC | M52: 43539
A53: 1412 | B53: 22 | C53: PASEO MPF | E53: 263561504MKP | F53: CIE FLEX_W25_PASEO_MPF | G53: 15 | H53: 1 | I53: Rohs | J53: 71255301 | K53: CR à réaliser | L53: JH
A54: 1413 | B54: 22 | C54: PASEO MPF | E54: 263561596MKP | F54: CIE FLEX_W28_VJ_PASEO_MPF | G54: 25 | H54: 1 | I54: Rohs | J54: 71255315 | K54: CR à réaliser | L54: JH
A55: 1414 | B55: 22 | C55: BGS4G V3 | D55: 1 | E55: 263601577MKP | F55: CIE MB_SPU_V3 | G55: 5 | H55: 1 | I55: RoHs | J55: 71255487 | K55: En cours | L55: JH
A56: 1415 | B56: 22 | C56: UMI MICA NG | D56: 1 | E56: 263596705MKP | F56: CIE SUMAR_MICA OUTILLAGE | G56: 4 | H56: 1 | I56: RoHs | J56: 71255433 | K56: En cours | L56: RL
A57: 1416 | B57: 20 | C57: PresSense | D57: 1 | E57: 263482097MKP | F57: CIE PRESSENSE VT6_V7 | G57: 90 | H57: 0 | I57: Plomb | J57: 71256033 | K57: CR à réaliser | L57: JGC | M57: 43538
A58: 1416 bis | B58: 20 | C58: PRESENSE | D58: 2 | E58: 263482097MKP | F58: CIE PRESSENSE VT6_V7 | G58: 18 | H58: 0 | I58: Plomb | J58: 71262015 | K58: CR à réaliser | L58: JGC | M58: 43538
A59: 1417 | B59: 22 | C59: PASEO MPF | D59: 2 | E59: 263170618MKP | F59: CIE PBT PROX V2 | G59: 7 | H59: 1 | I59: RoHS | J59: 71256918 | K59: En cours | L59: JGC | M59: 43544
A60: 1418 | B60: 22 | C60: TECHNO | D60: 1 | E60: MKP9028746 | F60: PCB Green Belt | G60: 10 | I60: RoHS | J60: 71258285 | K60: Soldé | L60: AJ | M60: 43575
A61: 1419 | B61: 22 | C61: TECHNO | E61: MKP9028638 | F61: CIU TEST CONNECTEUR | G61: 10 | K61: Soldé | L61: AJ | M61: 43565
A62: 1420 | B62: 21 | C62: SOM V2 | D62: 1 | E62: 263563962MKP | F62: CIE SOM V2 | G62: 15 | H62: 1 | I62: RoHS | J62: 71258284 | K62: En cours | L62: RL | M62: 43710
A63: 1421 | B63: 22 | C63: SOVG | D63: 1 | E63: 263612182MKP | F63: CIE FLEX W07 PROX_VJ_TGC V1 | G63: 4 | H63: 1 | I63: RoHS | J63: 71263146 | K63: En cours | L63: JH | M63: 43585
A64: 1422 | B64: 20 | C64: EMBR_VDO | D64: 1 | E64: 263590815MKP | F64: CIE ALIM_QUAP | G64: 6 | H64: 1 | I64: RoHS | J64: 71264863 | K64: En cours | L64: JH
A65: 1423 | B65: 22 | C65: BPS-A320 | E65: 263597603MKP | F65: CIE Commande ElectroVanne | G65: 7 | I65: Plomb | J65: 71264173 | K65: CR à réaliser | L65: RL | M65: 43581
A66: 1424 | B66: 22 | C66: SATIS ASD HD | D66: 2 | E66: 263047343MKP | F66: CIE W9_MBK3_PROXD [CIE-A] | G66: 2 | I66: RoHS | J66: 71258830 | K66: Soldé | L66: RL | M66: 43553
A67: 1425 | B67: 22 | C67: SATIS ASD HD | D67: 2 | E67: 263047343MKP | F67: CIE W9_MBK3_PROXD [CIE-B] | G67: 2 | I67: RoHS | J67: 71258830 | K67: Soldé | L67: RL | M67: 43553
A68: 1426 | B68: 22 | C68: Techno | E68: NA | F68: cycle refusion PCB CIMULEC 679 F (J) | G68: 2 | I68: RoHS | K68: Soldé | L68: AJ | M68: 43565
A69: 1427 | B69: 22 | C69: AASM B4 | E69: 263608386MKP | F69: CIE IBIS_DELTA_D_CKT | G69: 5 | I69: Plomb | J69: 71259990 | K69: CR à réaliser | L69: JH
A70: 1428 | B70: 22 | C70: SOM V2 | D70: 1 | E70: 263608323MKP | F70: CIE TECHNO SOM2 | G70: 20 | H70: 1 | I70: RoHS | J70: 71267622 | K70: En cours | L70: RL
A71: 1429 | B71: 22 | C71: PASEO MPF | D71: 2 | E71: 263561546MKP | F71: CIE FLEX_W26_SWIR_PASEO_MPF | G71: 10 | I71: RoHS | J71: 71260796 | K71: Soldé | L71: RL | M71: 43555
A72: 1430 | B72: 22 | C72: PASEO MPF | D72: 2 | E72: 263561575MKP | F72: CIE FLEX_W27_SWIR_PASEO_MPF | G72: 10 | H72: 0 | I72: RoHS | J72: 71261469 | K72: Soldé | L72: JGC | M72: 43555
A73: 1431 | B73: 22 | C73: PASEO MPF | D73: 2 | E73: 263561504MKP | F73: CIE FLEX_W25_PASEO_MPF | G73: 10 | H73: 0 | I73: Rohs | J73: 71261470 | K73: CR à réaliser | L73: JH
A74: 1432 | B74: 22 | C74: PASEO MPF | E74: 262427480MKP | F74: CIE CAMLINK ENTRANT | G74: 10 | H74: 1 | I74: Rohs | J74: 71262653 | K74: CR à réaliser | L74: JH
A75: 1433 | B75: 22 | C75: BCU KC390 | E75: 261910861MKP | F75: CARTE FREINAGE PROG.EQUIPEE VERNIE | G75: 1 | H75: 0 | I75: Plomb | J75: NA | K75: Soldé | L75: JGC
A76: 1434 | B76: 20 | C76: D&E | E76: MKP9028993 | F76: CIE Backplane_JESB AFR_EA037_001 | G76: 2 | H76: 1 | I76: RoHS | K76: Annulé | L76: JGC | M76: 43647
A77: 1435 | B77: 20 | C77: D&E | E77: MKP9029001 | F77: CIE CPU AFR_EA031_001 | G77: 3 | H77: 1 | I77: RoHS | K77: Annulé | L77: RL | M77: 43647
A78: 1436 | B78: 20 | C78: D&E | E78: MKP9029019 | F78: CIE ISO_IDU AFR_EA032_001 | G78: 3 | H78: 1 | I78: RoHS | K78: Annulé | L78: JH | M78: 43647
A79: 1437 | B79: 20 | C79: D&E | E79: MKP9029022 | F79: CIE ISO_JESB AFR_EA034_001 | G79: 6 | H79: 1 | I79: RoHS | K79: Annulé | L79: RL | M79: 43647
A80: 1438 | B80: 20 | C80: D&E | E80: MKP9029030 | F80: CIE JESB AFR_EA033_001 | G80: 2 | H80: 1 | I80: RoHS | K80: Annulé | L80: JGC | M80: 43647
A81: 1439 | B81: 20 | C81: D&E | E81: MKP9029043 | F81: CIE RUBIDIUM AFR_EA066_001 | G81: 1 | H81: 1 | I81: RoHS | K81: Annulé | L81: JH | M81: 43647
A82: 1440 | B82: 20 | C82: MICA NG | D82: 1 | E82: 263624682MKP | F82: CIE PA MS1100 MICA | G82: 70 | H82: 1 | I82: RoHS | J82: 71277537 | K82: En cours | L82: RL
A83: 1441 | B83: 20 | C83: MICA NG | D83: 1 | E83: 263623594MKP | F83: CIE PA GVPHP MICA | G83: 50 | H83: 1 | I83: RoHS | K83: En cours | L83: RL
A84: 1442 | B84: 21 | C84: APIRS NG | D84: 1 | E84: 263346978MKP | F84: CIE AH Comp Board | G84: 14 | H84: 1 | I84: RoHS | J84: 71269232 | K84: En cours | L84: JH | M84: 43631
A85: 1443 | B85: 21 | C85: APIRS NG | D85: 1 | E85: 263347834MKP | F85: CIE Flex RMM | G85: 14 | H85: 1 | I85: RoHS | J85: 71269233 | K85: En cours | L85: JH / AV | M85: 43631
A86: 1444 | B86: 21 | C86: APIRS NG | D86: 1 | E86: 263346936MKP | F86: CIE PS Board | G86: 14 | H86: 1 | I86: RoHS | J86: 71269231 | K86: En cours | L86: JH / AV | M86: 43631
A87: 1445 | B87: 21 | C87: APIRS NG | D87: 1 | E87: 263352471MKP | F87: CIE RMM Board | G87: 24 | H87: 1 | I87: RoHS | J87: 71268838 | K87: En cours | L87: JGC | M87: 43631
A88: 1446 | B88: 21 | C88: APIRS NG | D88: 1 | E88: 263508924MKP | F88: I/O H/C Board | G88: 14 | H88: 1 | I88: RoHS | J88: 71269512 | K88: En cours | L88: JGC | M88: 43631
A89: 1447 | B89: 21 | C89: APIRS NG | D89: 1 | E89: 263508883MKP | F89: PROT H/C Board (CIE) | G89: 14 | H89: 1 | I89: RoHS | J89: 71269513 | K89: En cours | L89: JGC | M89: 43631
A90: 1448 | B90: 23 | C90: NEO MMT | D90: 1 | E90: 262226320MKP | F90: CARTE MAUMI-FUGAS | G90: 8 | H90: 0 | I90: Plomb | J90: 71277148 | K90: En cours | L90: RL
A91: 1449 | B91: 22 | C91: PASEO XLR | D91: 2 | E91: 263489885MKP | F91: CIE BGS4G_OUTILLAGE_MB-111 | G91: 9 | H91: 0 | I91: RoHS | J91: 71269701 | K91: En cours | L91: JGC | M91: 43587
A92: 1450 | B92: 22 | C92: BGS4G | E92: 263532061MKP | F92: CIE BGS4G_MB_IR_420_011 | G92: 3 | H92: 1 | I92: RoHS | J92: stand by | K92: En cours | L92: RL
A93: 1451 | B93: 22 | C93: BGS4G | E93: 263546239MKP | F93: CIE BGS4G_MB_PIRTV_420 120 | G93: 3 | H93: 1 | I93: RoHS | J93: stand by | K93: En cours | L93: RL
A94: 1452 | B94: 22 | C94: PASEO MPF | D94: 3 | E94: 263076597MKP | F94: CIE PROX-NUM-D Eq. BETA | G94: 3 | H94: 0 | I94: Rohs | J94: 71269503 | K94: En cours | L94: JH
A95: 1453 | B95: 22 | C95: PASEO MPF | E95: 263611359MKP | F95: CIE FLEX_W28_VJ_PASEO_MPF_V2 | G95: 10 | H95: 1 | I95: RoHS | J95: 71269414 | K95: En cours | L95: JH
A96: 1454 | B96: 22 | C96: PAVAM2+ | D96: 2 | E96: 263278555MKP | F96: C.I.E. IBIS-ALPHA NG (Sans les Accéléros) | G96: 4 | H96: 0 | I96: RoHS | J96: 71270078 | K96: En cours | L96: JGC | M96: 43602
A97: 1455 | B97: 22 | D97: 2 | E97: 262473354MKP | F97: CIE FLEX OUTILLAGE OLED | G97: 20 | H97: 1 | I97: Rohs | J97: Pas d'OF | K97: En cours | L97: JH | M97: 43616
A98: 1456 | B98: 22 | C98: Techno | E98: NA | F98: carte pour validation enrobage auto leap | G98: 9 | I98: Plomb | K98: Soldé | L98: AJ | M98: 43563
A99: 1457 | B99: 22 | C99: Techno | E99: NA | F99: Suite des essais composants enfouis (cycle refusion) | G99: 5 | K99: Soldé | L99: AJ | M99: 43563
A100: 1458 | B100: 22 | C100: TECHNO | E100: NA | F100: report de condensateurs tantale + cycles de lavage / séchage | G100: 160 | I100: Rohs | K100: Soldé | L100: AJ | M100: 43573
...

Sheet NBR Composants
A1: Column3 | B1: Column4 | C1: Column6
A2: PDC montés
A3: Finition pas de cms
A4: finition pas de cms | B4: Nombre REF COMPOSANTS en CMS | C4: QUANTITE OF+profil
A6: 263351560MKP | B6: 4 | C6: 30
A7: 263430816MKP | B7: 110 | C7: 9+1
A8: 263504447MKP | B8: 185 | C8: 4+1
A9: 263552464MKP | B9: 1 | C9: 10
A10: 263552456MKP | B10: 1 | C10: 10
A11: 263520558MKP | B11: 13 | C11: 14+1
A12: 263514394MKP | B12: 64 | C12: 3+1
A13: 261772211MKP | B13: 19 | C13: 24
A14: 263144548MKP | B14: 2 | C14: 15
A15: 263144535MKP | B15: 2 | C15: 15
A16: 263427525MKP | B16: 23 | C16: 7+1
A17: 262745185MKP | C17: 1
A18: 263544425MKP | B18: 5 | C18: 8+1
A19: 262793181MKP | B19: 120 | C19: 1
A20: 262578985MKP | B20: 120 | C20: 1
A21: 263430902MKP | B21: 89 | C21: 5
A22: 263543262MKP | B22: 2 | C22: 10+1
A23: 263543217MKP | B23: 1 | C23: 10+1
A24: 263561546MKP | B24: 4 | C24: 15
A25: 263047343MKP | B25: 6 | C25: 4
A26: 263076597MKP | B26: 104 | C26: 4
A27: 262227187MKP | B27: 22 | C27: 4
A28: 263561575MKP | B28: 3 | C28: 15 + 1
A29: 263482097MKP | C29: 90
A30: 263519352MKP | B30: 14 | C30: 94
A31: 262710786MKP | B31: 73 | C31: 6
A32: 263561504MKP | B32: 4 | C32: 15 + 1
A33: 263590922MKP | B33: 195 | C33: 3 + 1
A34: 262217339MKP | B34: 2 | C34: 10
A35: 262427480MKP | B35: 3 | C35: 10 + 1
A36: 263493706MKP | B36: 56 | C36: 8 + 1
A37: MKP9028638 | C37: 10
A38: 263597603MKP | B38: 3 | C38: 7
A39: 263608386MKP | B39: 2 | C39: 5
A40: 263561596MKP | B40: 3 | C40: 25 + 1
A41: 263577007MKP | B41: 24 | C41: 24 + 1
A42: 263475964MKP | B42: 60 | C42: 4
A43: MKP9028746 | B43: 16 | C43: 8
A44: 263601577MKP | B44: 170 | C44: 5 + 1
A45: 263596705MKP | B45: 123 | C45: 4 + 1
A46: 263170618MKP | B46: 71 | C46: 7 + 1
A47: 262427216MKP | B47: 2 | C47: 6
A48: 263489885MKP | B48: 52 | C48: 9
A49: 262431319MKP | B49: 2 | C49: 8
A50: 263501136MKP | B50: 82 | C50: 4
A51: 263526638MKP | B51: 167 | C51: 10+1
A52: 262473354MKP | B52: 2 | C52: 20 + 1
A53: 263612182MKP | B53: 3 | C53: 4+1
A54: 263527705MKP | B54: 410 | C54: 10 + 1
A55: 263527797MKP | B55: 4 | C55: 4 + 1
A56: 263479892MKP | B56: 3 | C56: 5 + 1
A57: 263624682MKP | C57: 70 + 1
A58: 263623594MKP | C58: 50 + 1
A59: 263346978MKP | C59: 15 + 1
A60: 263347834MKP | C60: 15 + 1
A61: 263346936MKP | C61: 15 + 1
A62: 263352471MKP | B62: 18 | C62: 25 + 1
A63: 263508924MKP | B63: 130 | C63: 15 + 1
A64: 263508883MKP | B64: 67 | C64: 15 + 1
A65: 262226320MKP
A66: 263532061MKP | C66: 3
A67: 263546239MKP | C67: 3
A68: 263611359MKP | C68: 10 + 1
A69: 263278555MKP | B69: 31 | C69: 4
A70: 263590815MKP | B70: 27 | C70: 6 + 1
A71: 263181679MKP | B71: 26 | C71: 50
A72: 263631046MKP | B72: 53 | C72: 12+1
A73: 263525970MKP | B73: 59 | C73: 10 + 1
A74: 263538047MKP | B74: 6 | C74: 7 + 1

Sheet Synthese
A1: N° | B1: Ref | C1: Désignation | D1: CIU reçu | E1: Date Besoin Client | F1: Date Lancement Prod | G1: NBR Cartes demandées | H1: NBR ref / carte | I1: Manquant Composants | J1: Combien de manquant? | K1: Combien sans date ? | L1: Combien de critique (-25j) | M1: Date de livraison dernier composant | N1: Commentaires
A2: 1 | B2: 263624682MKP | C2: =IF((Synthese[[#This Row],[Ref]]=""),"",(VLOOKUP(Synthese[[#This Row],[Ref]],Planning!E:F,2,FALSE))) -> CIE PA MS1100 MICA | D2: =IF(COUNTIFS(Manquant[Composé],Synthese[[#This Row],[Ref]],Manquant[Désignation article],"*CIU*")=1,"NON","") -> NON | E2: =IF((Synthese[[#This Row],[Ref]]=""),"",_xlfn.IFNA(IF((VLOOKUP(Synthese[[#This Row],[Ref]],Planning!E:M,9,FALSE)=0),"NO DATE CLIENT",(VLOOKUP(Synthese[[#This Row],[Ref]],Planning!E:M,9,FALSE))),"NO DATE")) -> NO DATE CLIENT | F2: =IF((Synthese[[#This Row],[Ref]]=""),"",IF( Synthese[[#This Row],[Date Besoin Client]]="NO DATE CLIENT","NO DATE CLIENT",Synthese[[#This Row],[Date Besoin Client]]-25)) -> NO DATE CLIENT | G2: =IF((Synthese[[#This Row],[Ref]]=""),"",(VLOOKUP(Synthese[[#This Row],[Ref]],Planning!E:G,3,FALSE))) -> 70 | H2: =IF((Synthese[[#This Row],[Ref]]=""),"",(VLOOKUP(Synthese[[#This Row],[Ref]],'NBR Composants'!A:B,2,FALSE))) -> 0 | I2: =IF((Synthese[[#This Row],[Ref]]=""),"",(_xlfn.IFNA(IF(VLOOKUP(Synthese[[#This Row],[Ref]],Manquant!A:A,1,FALSE)=Synthese[[#This Row],[Ref]],TRUE,FALSE),FALSE))) -> TRUE | J2: =IF((Synthese[[#This Row],[Ref]]=""),"",COUNTIFS(Manquant!A:A,Synthese[[#This Row],[Ref]])) -> 4 | K2: =IF((Synthese[[#This Row],[Ref]]=""),"",COUNTIFS(Manquant[Composé],Synthese[[#This Row],[Ref]],Manquant[DATE],"NO DATE")) -> 0 | L2: =IF((Synthese[[#This Row],[Ref]]=""),"",COUNTIFS(Manquant[Composé],Synthese[[#This Row],[Ref]],Manquant[Critique (-25j)],"VRAI")) -> 0 | M2: {=IF((Synthese[[#This Row],[Ref]]=""),"",IF(MAX(IF(Manquant[Composé]=Synthese[[#This Row],[Ref]],Manquant[DATE]))=0,"",MAX(IF(Manquant[Composé]=Synthese[[#This Row],[Ref]],Manquant[DATE]))))} | N2: {=IF((Synthese[[#This Row],[Ref]]=""),"",IF(MAX(IF(Manquant[Composé]=Synthese[[#This Row],[Ref]],Manquant[CommentaireFinal]))=0,"",MAX(IF(Manquant[Composé]=Synthese[[#This Row],[Ref]],Manquant[CommentaireFinal]))))}
A3: 2 | B3: 263623594MKP | C3: =IF((Synthese[[#This Row],[Ref]]=""),"",(VLOOKUP(Synthese[[#This Row],[Ref]],Planning!E:F,2,FALSE))) -> CIE PA GVPHP MICA | D3: =IF(COUNTIFS(Manquant[Composé],Synthese[[#This Row],[Ref]],Manquant[Désignation article],"*CIU*")=1,"NON","") | E3: =IF((Synthese[[#This Row],[Ref]]=""),"",_xlfn.IFNA(IF((VLOOKUP(Synthese[[#This Row],[Ref]],Planning!E:M,9,FALSE)=0),"NO DATE CLIENT",(VLOOKUP(Synthese[[#This Row],[Ref]],Planning!E:M,9,FALSE))),"NO DATE")) -> NO DATE CLIENT | F3: =IF((Synthese[[#This Row],[Ref]]=""),"",IF( Synthese[[#This Row],[Date Besoin Client]]="NO DATE CLIENT","NO DATE CLIENT",Synthese[[#This Row],[Date Besoin Client]]-25)) -> NO DATE CLIENT | G3: =IF((Synthese[[#This Row],[Ref]]=""),"",(VLOOKUP(Synthese[[#This Row],[Ref]],Planning!E:G,3,FALSE))) -> 50 | H3: =IF((Synthese[[#This Row],[Ref]]=""),"",(VLOOKUP(Synthese[[#This Row],[Ref]],'NBR Composants'!A:B,2,FALSE))) -> 0 | I3: =IF((Synthese[[#This Row],[Ref]]=""),"",(_xlfn.IFNA(IF(VLOOKUP(Synthese[[#This Row],[Ref]],Manquant!A:A,1,FALSE)=Synthese[[#This Row],[Ref]],TRUE,FALSE),FALSE))) -> FALSE | J3: =IF((Synthese[[#This Row],[Ref]]=""),"",COUNTIFS(Manquant!A:A,Synthese[[#This Row],[Ref]])) -> 0 | K3: =IF((Synthese[[#This Row],[Ref]]=""),"",COUNTIFS(Manquant[Composé],Synthese[[#This Row],[Ref]],Manquant[DATE],"NO DATE")) -> 0 | L3: =IF((Synthese[[#This Row],[Ref]]=""),"",COUNTIFS(Manquant[Composé],Synthese[[#This Row],[Ref]],Manquant[Critique (-25j)],"VRAI")) -> 0 | M3: {=IF((Synthese[[#This Row],[Ref]]=""),"",IF(MAX(IF(Manquant[Composé]=Synthese[[#This Row],[Ref]],Manquant[DATE]))=0,"",MAX(IF(Manquant[Composé]=Synthese[[#This Row],[Ref]],Manquant[DATE]))))} | N3: {=IF((Synthese[[#This Row],[Ref]]=""),"",IF(MAX(IF(Manquant[Composé]=Synthese[[#This Row],[Ref]],Manquant[DATE]))=0,"",MAX(IF(Manquant[Composé]=Synthese[[#This Row],[Ref]],Manquant[CommentaireFinal]))))}
A4: 3 | B4: 263567858MKP | C4: =IF((Synthese[[#This Row],[Ref]]=""),"",(VLOOKUP(Synthese[[#This Row],[Ref]],Planning!E:F,2,FALSE))) -> CIE MAGMA | D4: =IF(COUNTIFS(Manquant[Composé],Synthese[[#This Row],[Ref]],Manquant[Désignation article],"*CIU*")=1,"NON","") -> NON | E4: =IF((Synthese[[#This Row],[Ref]]=""),"",_xlfn.IFNA(IF((VLOOKUP(Synthese[[#This Row],[Ref]],Planning!E:M,9,FALSE)=0),"NO DATE CLIENT",(VLOOKUP(Synthese[[#This Row],[Ref]],Planning!E:M,9,FALSE))),"NO DATE")) -> 43738 | F4: =IF((Synthese[[#This Row],[Ref]]=""),"",IF( Synthese[[#This Row],[Date Besoin Client]]="NO DATE CLIENT","NO DATE CLIENT",Synthese[[#This Row],[Date Besoin Client]]-25)) -> 43713 | G4: =IF((Synthese[[#This Row],[Ref]]=""),"",(VLOOKUP(Synthese[[#This Row],[Ref]],Planning!E:G,3,FALSE))) -> 20 | H4: =IF((Synthese[[#This Row],[Ref]]=""),"",(VLOOKUP(Synthese[[#This Row],[Ref]],'NBR Composants'!A:B,2,FALSE))) -> #N/A | I4: =IF((Synthese[[#This Row],[Ref]]=""),"",(_xlfn.IFNA(IF(VLOOKUP(Synthese[[#This Row],[Ref]],Manquant!A:A,1,FALSE)=Synthese[[#This Row],[Ref]],TRUE,FALSE),FALSE))) -> TRUE | J4: =IF((Synthese[[#This Row],[Ref]]=""),"",COUNTIFS(Manquant!A:A,Synthese[[#This Row],[Ref]])) -> 17 | K4: =IF((Synthese[[#This Row],[Ref]]=""),"",COUNTIFS(Manquant[Composé],Synthese[[#This Row],[Ref]],Manquant[DATE],"NO DATE")) -> 16 | L4: =IF((Synthese[[#This Row],[Ref]]=""),"",COUNTIFS(Manquant[Composé],Synthese[[#This Row],[Ref]],Manquant[Critique (-25j)],"VRAI")) -> 16 | M4: {=IF((Synthese[[#This Row],[Ref]]=""),"",IF(MAX(IF(Manquant[Composé]=Synthese[[#This Row],[Ref]],Manquant[DATE]))=0,"",MAX(IF(Manquant[Composé]=Synthese[[#This Row],[Ref]],Manquant[DATE]))))} -> 43601 | N4: {=IF((Synthese[[#This Row],[Ref]]=""),"",IF(MAX(IF(Manquant[Composé]=Synthese[[#This Row],[Ref]],Manquant[DATE]))=0,"",MAX(IF(Manquant[Composé]=Synthese[[#This Row],[Ref]],Manquant[CommentaireFinal]))))} -> 0
A5: 4 | B5: 263567949MKP | C5: =IF((Synthese[[#This Row],[Ref]]=""),"",(VLOOKUP(Synthese[[#This Row],[Ref]],Planning!E:F,2,FALSE))) -> CIE ADES | D5: =IF(COUNTIFS(Manquant[Composé],Synthese[[#This Row],[Ref]],Manquant[Désignation article],"*CIU*")=1,"NON","") -> NON | E5: =IF((Synthese[[#This Row],[Ref]]=""),"",_xlfn.IFNA(IF((VLOOKUP(Synthese[[#This Row],[Ref]],Planning!E:M,9,FALSE)=0),"NO DATE CLIENT",(VLOOKUP(Synthese[[#This Row],[Ref]],Planning!E:M,9,FALSE))),"NO DATE")) -> 43738 | F5: =IF((Synthese[[#This Row],[Ref]]=""),"",IF( Synthese[[#This Row],[Date Besoin Client]]="NO DATE CLIENT","NO DATE CLIENT",Synthese[[#This Row],[Date Besoin Client]]-25)) -> 43713 | G5: =IF((Synthese[[#This Row],[Ref]]=""),"",(VLOOKUP(Synthese[[#This Row],[Ref]],Planning!E:G,3,FALSE))) -> 20 | H5: =IF((Synthese[[#This Row],[Ref]]=""),"",(VLOOKUP(Synthese[[#This Row],[Ref]],'NBR Composants'!A:B,2,FALSE))) -> #N/A | I5: =IF((Synthese[[#This Row],[Ref]]=""),"",(_xlfn.IFNA(IF(VLOOKUP(Synthese[[#This Row],[Ref]],Manquant!A:A,1,FALSE)=Synthese[[#This Row],[Ref]],TRUE,FALSE),FALSE))) -> TRUE | J5: =IF((Synthese[[#This Row],[Ref]]=""),"",COUNTIFS(Manquant!A:A,Synthese[[#This Row],[Ref]])) -> 31 | K5: =IF((Synthese[[#This Row],[Ref]]=""),"",COUNTIFS(Manquant[Composé],Synthese[[#This Row],[Ref]],Manquant[DATE],"NO DATE")) -> 28 | L5: =IF((Synthese[[#This Row],[Ref]]=""),"",COUNTIFS(Manquant[Composé],Synthese[[#This Row],[Ref]],Manquant[Critique (-25j)],"VRAI")) -> 28 | M5: {=IF((Synthese[[#This Row],[Ref]]=""),"",IF(MAX(IF(Manquant[Composé]=Synthese[[#This Row],[Ref]],Manquant[DATE]))=0,"",MAX(IF(Manquant[Composé]=Synthese[[#This Row],[Ref]],Manquant[DATE]))))} -> 43614 | N5: {=IF((Synthese[[#This Row],[Ref]]=""),"",IF(MAX(IF(Manquant[Composé]=Synthese[[#This Row],[Ref]],Manquant[DATE]))=0,"",MAX(IF(Manquant[Composé]=Synthese[[#This Row],[Ref]],Manquant[CommentaireFinal]))))} -> 0
A6: 5 | C6: =IF((Synthese[[#This Row],[Ref]]=""),"",(VLOOKUP(Synthese[[#This Row],[Ref]],Planning!E:F,2,FALSE))) | D6: =IF(COUNTIFS(Manquant[Composé],Synthese[[#This Row],[Ref]],Manquant[Désignation article],"*CIU*")=1,"NON","") | E6: =IF((Synthese[[#This Row],[Ref]]=""),"",_xlfn.IFNA(IF((VLOOKUP(Synthese[[#This Row],[Ref]],Planning!E:M,9,FALSE)=0),"NO DATE CLIENT",(VLOOKUP(Synthese[[#This Row],[Ref]],Planning!E:M,9,FALSE))),"NO DATE")) | F6: =IF((Synthese[[#This Row],[Ref]]=""),"",IF( Synthese[[#This Row],[Date Besoin Client]]="NO DATE CLIENT","NO DATE CLIENT",Synthese[[#This Row],[Date Besoin Client]]-25)) | G6: =IF((Synthese[[#This Row],[Ref]]=""),"",(VLOOKUP(Synthese[[#This Row],[Ref]],Planning!E:G,3,FALSE))) | H6: =IF((Synthese[[#This Row],[Ref]]=""),"",(VLOOKUP(Synthese[[#This Row],[Ref]],'NBR Composants'!A:B,2,FALSE))) | I6: =IF((Synthese[[#This Row],[Ref]]=""),"",(_xlfn.IFNA(IF(VLOOKUP(Synthese[[#This Row],[Ref]],Manquant!A:A,1,FALSE)=Synthese[[#This Row],[Ref]],TRUE,FALSE),FALSE))) | J6: =IF((Synthese[[#This Row],[Ref]]=""),"",COUNTIFS(Manquant!A:A,Synthese[[#This Row],[Ref]])) | K6: =IF((Synthese[[#This Row],[Ref]]=""),"",COUNTIFS(Manquant[Composé],Synthese[[#This Row],[Ref]],Manquant[DATE],"NO DATE")) | L6: =IF((Synthese[[#This Row],[Ref]]=""),"",COUNTIFS(Manquant[Composé],Synthese[[#This Row],[Ref]],Manquant[Critique (-25j)],"VRAI")) | M6: {=IF((Synthese[[#This Row],[Ref]]=""),"",IF(MAX(IF(Manquant[Composé]=Synthese[[#This Row],[Ref]],Manquant[DATE]))=0,"",MAX(IF(Manquant[Composé]=Synthese[[#This Row],[Ref]],Manquant[DATE]))))} | N6: {=IF((Synthese[[#This Row],[Ref]]=""),"",IF(MAX(IF(Manquant[Composé]=Synthese[[#This Row],[Ref]],Manquant[DATE]))=0,"",MAX(IF(Manquant[Composé]=Synthese[[#This Row],[Ref]],Manquant[CommentaireFinal]))))}
A7: 6 | C7: =IF((Synthese[[#This Row],[Ref]]=""),"",(VLOOKUP(Synthese[[#This Row],[Ref]],Planning!E:F,2,FALSE))) | D7: =IF(COUNTIFS(Manquant[Composé],Synthese[[#This Row],[Ref]],Manquant[Désignation article],"*CIU*")=1,"NON","") | E7: =IF((Synthese[[#This Row],[Ref]]=""),"",_xlfn.IFNA(IF((VLOOKUP(Synthese[[#This Row],[Ref]],Planning!E:M,9,FALSE)=0),"NO DATE CLIENT",(VLOOKUP(Synthese[[#This Row],[Ref]],Planning!E:M,9,FALSE))),"NO DATE")) | F7: =IF((Synthese[[#This Row],[Ref]]=""),"",IF( Synthese[[#This Row],[Date Besoin Client]]="NO DATE CLIENT","NO DATE CLIENT",Synthese[[#This Row],[Date Besoin Client]]-25)) | G7: =IF((Synthese[[#This Row],[Ref]]=""),"",(VLOOKUP(Synthese[[#This Row],[Ref]],Planning!E:G,3,FALSE))) | H7: =IF((Synthese[[#This Row],[Ref]]=""),"",(VLOOKUP(Synthese[[#This Row],[Ref]],'NBR Composants'!A:B,2,FALSE))) | I7: =IF((Synthese[[#This Row],[Ref]]=""),"",(_xlfn.IFNA(IF(VLOOKUP(Synthese[[#This Row],[Ref]],Manquant!A:A,1,FALSE)=Synthese[[#This Row],[Ref]],TRUE,FALSE),FALSE))) | J7: =IF((Synthese[[#This Row],[Ref]]=""),"",COUNTIFS(Manquant!A:A,Synthese[[#This Row],[Ref]])) | K7: =IF((Synthese[[#This Row],[Ref]]=""),"",COUNTIFS(Manquant[Composé],Synthese[[#This Row],[Ref]],Manquant[DATE],"NO DATE")) | L7: =IF((Synthese[[#This Row],[Ref]]=""),"",COUNTIFS(Manquant[Composé],Synthese[[#This Row],[Ref]],Manquant[Critique (-25j)],"VRAI")) | M7: {=IF((Synthese[[#This Row],[Ref]]=""),"",IF(MAX(IF(Manquant[Composé]=Synthese[[#This Row],[Ref]],Manquant[DATE]))=0,"",MAX(IF(Manquant[Composé]=Synthese[[#This Row],[Ref]],Manquant[DATE]))))} | N7: {=IF((Synthese[[#This Row],[Ref]]=""),"",IF(MAX(IF(Manquant[Composé]=Synthese[[#This Row],[Ref]],Manquant[DATE]))=0,"",MAX(IF(Manquant[Composé]=Synthese[[#This Row],[Ref]],Manquant[CommentaireFinal]))))}
A8: 7 | C8: =IF((Synthese[[#This Row],[Ref]]=""),"",(VLOOKUP(Synthese[[#This Row],[Ref]],Planning!E:F,2,FALSE))) | D8: =IF(COUNTIFS(Manquant[Composé],Synthese[[#This Row],[Ref]],Manquant[Désignation article],"*CIU*")=1,"NON","") | E8: =IF((Synthese[[#This Row],[Ref]]=""),"",_xlfn.IFNA(IF((VLOOKUP(Synthese[[#This Row],[Ref]],Planning!E:M,9,FALSE)=0),"NO DATE CLIENT",(VLOOKUP(Synthese[[#This Row],[Ref]],Planning!E:M,9,FALSE))),"NO DATE")) | F8: =IF((Synthese[[#This Row],[Ref]]=""),"",IF( Synthese[[#This Row],[Date Besoin Client]]="NO DATE CLIENT","NO DATE CLIENT",Synthese[[#This Row],[Date Besoin Client]]-25)) | G8: =IF((Synthese[[#This Row],[Ref]]=""),"",(VLOOKUP(Synthese[[#This Row],[Ref]],Planning!E:G,3,FALSE))) | H8: =IF((Synthese[[#This Row],[Ref]]=""),"",(VLOOKUP(Synthese[[#This Row],[Ref]],'NBR Composants'!A:B,2,FALSE))) | I8: =IF((Synthese[[#This Row],[Ref]]=""),"",(_xlfn.IFNA(IF(VLOOKUP(Synthese[[#This Row],[Ref]],Manquant!A:A,1,FALSE)=Synthese[[#This Row],[Ref]],TRUE,FALSE),FALSE))) | J8: =IF((Synthese[[#This Row],[Ref]]=""),"",COUNTIFS(Manquant!A:A,Synthese[[#This Row],[Ref]])) | K8: =IF((Synthese[[#This Row],[Ref]]=""),"",COUNTIFS(Manquant[Composé],Synthese[[#This Row],[Ref]],Manquant[DATE],"NO DATE")) | L8: =IF((Synthese[[#This Row],[Ref]]=""),"",COUNTIFS(Manquant[Composé],Synthese[[#This Row],[Ref]],Manquant[Critique (-25j)],"VRAI")) | M8: {=IF((Synthese[[#This Row],[Ref]]=""),"",IF(MAX(IF(Manquant[Composé]=Synthese[[#This Row],[Ref]],Manquant[DATE]))=0,"",MAX(IF(Manquant[Composé]=Synthese[[#This Row],[Ref]],Manquant[DATE]))))} | N8: {=IF((Synthese[[#This Row],[Ref]]=""),"",IF(MAX(IF(Manquant[Composé]=Synthese[[#This Row],[Ref]],Manquant[DATE]))=0,"",MAX(IF(Manquant[Composé]=Synthese[[#This Row],[Ref]],Manquant[CommentaireFinal]))))}
A9: 8 | C9: =IF((Synthese[[#This Row],[Ref]]=""),"",(VLOOKUP(Synthese[[#This Row],[Ref]],Planning!E:F,2,FALSE))) | D9: =IF(COUNTIFS(Manquant[Composé],Synthese[[#This Row],[Ref]],Manquant[Désignation article],"*CIU*")=1,"NON","") | E9: =IF((Synthese[[#This Row],[Ref]]=""),"",_xlfn.IFNA(IF((VLOOKUP(Synthese[[#This Row],[Ref]],Planning!E:M,9,FALSE)=0),"NO DATE CLIENT",(VLOOKUP(Synthese[[#This Row],[Ref]],Planning!E:M,9,FALSE))),"NO DATE")) | F9: =IF((Synthese[[#This Row],[Ref]]=""),"",IF( Synthese[[#This Row],[Date Besoin Client]]="NO DATE CLIENT","NO DATE CLIENT",Synthese[[#This Row],[Date Besoin Client]]-25)) | G9: =IF((Synthese[[#This Row],[Ref]]=""),"",(VLOOKUP(Synthese[[#This Row],[Ref]],Planning!E:G,3,FALSE))) | H9: =IF((Synthese[[#This Row],[Ref]]=""),"",(VLOOKUP(Synthese[[#This Row],[Ref]],'NBR Composants'!A:B,2,FALSE))) | I9: =IF((Synthese[[#This Row],[Ref]]=""),"",(_xlfn.IFNA(IF(VLOOKUP(Synthese[[#This Row],[Ref]],Manquant!A:A,1,FALSE)=Synthese[[#This Row],[Ref]],TRUE,FALSE),FALSE))) | J9: =IF((Synthese[[#This Row],[Ref]]=""),"",COUNTIFS(Manquant!A:A,Synthese[[#This Row],[Ref]])) | K9: =IF((Synthese[[#This Row],[Ref]]=""),"",COUNTIFS(Manquant[Composé],Synthese[[#This Row],[Ref]],Manquant[DATE],"NO DATE")) | L9: =IF((Synthese[[#This Row],[Ref]]=""),"",COUNTIFS(Manquant[Composé],Synthese[[#This Row],[Ref]],Manquant[Critique (-25j)],"VRAI")) | M9: {=IF((Synthese[[#This Row],[Ref]]=""),"",IF(MAX(IF(Manquant[Composé]=Synthese[[#This Row],[Ref]],Manquant[DATE]))=0,"",MAX(IF(Manquant[Composé]=Synthese[[#This Row],[Ref]],Manquant[DATE]))))} | N9: {=IF((Synthese[[#This Row],[Ref]]=""),"",IF(MAX(IF(Manquant[Composé]=Synthese[[#This Row],[Ref]],Manquant[DATE]))=0,"",MAX(IF(Manquant[Composé]=Synthese[[#This Row],[Ref]],Manquant[CommentaireFinal]))))}
A10: 9 | C10: =IF((Synthese[[#This Row],[Ref]]=""),"",(VLOOKUP(Synthese[[#This Row],[Ref]],Planning!E:F,2,FALSE))) | D10: =IF(COUNTIFS(Manquant[Composé],Synthese[[#This Row],[Ref]],Manquant[Désignation article],"*CIU*")=1,"NON","") | E10: =IF((Synthese[[#This Row],[Ref]]=""),"",_xlfn.IFNA(IF((VLOOKUP(Synthese[[#This Row],[Ref]],Planning!E:M,9,FALSE)=0),"NO DATE CLIENT",(VLOOKUP(Synthese[[#This Row],[Ref]],Planning!E:M,9,FALSE))),"NO DATE")) | F10: =IF((Synthese[[#This Row],[Ref]]=""),"",IF( Synthese[[#This Row],[Date Besoin Client]]="NO DATE CLIENT","NO DATE CLIENT",Synthese[[#This Row],[Date Besoin Client]]-25)) | G10: =IF((Synthese[[#This Row],[Ref]]=""),"",(VLOOKUP(Synthese[[#This Row],[Ref]],Planning!E:G,3,FALSE))) | H10: =IF((Synthese[[#This Row],[Ref]]=""),"",(VLOOKUP(Synthese[[#This Row],[Ref]],'NBR Composants'!A:B,2,FALSE))) | I10: =IF((Synthese[[#This Row],[Ref]]=""),"",(_xlfn.IFNA(IF(VLOOKUP(Synthese[[#This Row],[Ref]],Manquant!A:A,1,FALSE)=Synthese[[#This Row],[Ref]],TRUE,FALSE),FALSE))) | J10: =IF((Synthese[[#This Row],[Ref]]=""),"",COUNTIFS(Manquant!A:A,Synthese[[#This Row],[Ref]])) | K10: =IF((Synthese[[#This Row],[Ref]]=""),"",COUNTIFS(Manquant[Composé],Synthese[[#This Row],[Ref]],Manquant[DATE],"NO DATE")) | L10: =IF((Synthese[[#This Row],[Ref]]=""),"",COUNTIFS(Manquant[Composé],Synthese[[#This Row],[Ref]],Manquant[Critique (-25j)],"VRAI")) | M10: {=IF((Synthese[[#This Row],[Ref]]=""),"",IF(MAX(IF(Manquant[Composé]=Synthese[[#This Row],[Ref]],Manquant[DATE]))=0,"",MAX(IF(Manquant[Composé]=Synthese[[#This Row],[Ref]],Manquant[DATE]))))} | N10: {=IF((Synthese[[#This Row],[Ref]]=""),"",IF(MAX(IF(Manquant[Composé]=Synthese[[#This Row],[Ref]],Manquant[DATE]))=0,"",MAX(IF(Manquant[Composé]=Synthese[[#This Row],[Ref]],Manquant[CommentaireFinal]))))}
A11: 10 | C11: =IF((Synthese[[#This Row],[Ref]]=""),"",(VLOOKUP(Synthese[[#This Row],[Ref]],Planning!E:F,2,FALSE))) | D11: =IF(COUNTIFS(Manquant[Composé],Synthese[[#This Row],[Ref]],Manquant[Désignation article],"*CIU*")=1,"NON","") | E11: =IF((Synthese[[#This Row],[Ref]]=""),"",_xlfn.IFNA(IF((VLOOKUP(Synthese[[#This Row],[Ref]],Planning!E:M,9,FALSE)=0),"NO DATE CLIENT",(VLOOKUP(Synthese[[#This Row],[Ref]],Planning!E:M,9,FALSE))),"NO DATE")) | F11: =IF((Synthese[[#This Row],[Ref]]=""),"",IF( Synthese[[#This Row],[Date Besoin Client]]="NO DATE CLIENT","NO DATE CLIENT",Synthese[[#This Row],[Date Besoin Client]]-25)) | G11: =IF((Synthese[[#This Row],[Ref]]=""),"",(VLOOKUP(Synthese[[#This Row],[Ref]],Planning!E:G,3,FALSE))) | H11: =IF((Synthese[[#This Row],[Ref]]=""),"",(VLOOKUP(Synthese[[#This Row],[Ref]],'NBR Composants'!A:B,2,FALSE))) | I11: =IF((Synthese[[#This Row],[Ref]]=""),"",(_xlfn.IFNA(IF(VLOOKUP(Synthese[[#This Row],[Ref]],Manquant!A:A,1,FALSE)=Synthese[[#This Row],[Ref]],TRUE,FALSE),FALSE))) | J11: =IF((Synthese[[#This Row],[Ref]]=""),"",COUNTIFS(Manquant!A:A,Synthese[[#This Row],[Ref]])) | K11: =IF((Synthese[[#This Row],[Ref]]=""),"",COUNTIFS(Manquant[Composé],Synthese[[#This Row],[Ref]],Manquant[DATE],"NO DATE")) | L11: =IF((Synthese[[#This Row],[Ref]]=""),"",COUNTIFS(Manquant[Composé],Synthese[[#This Row],[Ref]],Manquant[Critique (-25j)],"VRAI")) | M11: {=IF((Synthese[[#This Row],[Ref]]=""),"",IF(MAX(IF(Manquant[Composé]=Synthese[[#This Row],[Ref]],Manquant[DATE]))=0,"",MAX(IF(Manquant[Composé]=Synthese[[#This Row],[Ref]],Manquant[DATE]))))} | N11: {=IF((Synthese[[#This Row],[Ref]]=""),"",IF(MAX(IF(Manquant[Composé]=Synthese[[#This Row],[Ref]],Manquant[DATE]))=0,"",MAX(IF(Manquant[Composé]=Synthese[[#This Row],[Ref]],Manquant[CommentaireFinal]))))}
A13: N° | B13: Ref | C13: Désignation | D13: NBR Alternatives | E13: NBR CDE-HA | F13: NBR CDE_HA_AR | G13: NBR CDE_HA_AR_C | H13: NBR DA-LANCEE | I13: NBR DA | J13: NBR DEVIS | K13: TOTAL | L13: Dont CRITIQUE (-25j)
A14: 1 | B14: =IF(ISBLANK(B2),"",B2) -> 263624682MKP | C14: =IF((SyntheseCommande[[#This Row],[Ref]]=""),"",(VLOOKUP(SyntheseCommande[[#This Row],[Ref]],Planning!E:F,2,FALSE))) -> CIE PA MS1100 MICA | D14: =IF((SyntheseCommande[[#This Row],[Ref]]=""),"",COUNTIFS(Manquant[Composé],SyntheseCommande[[#This Row],[Ref]],Manquant[Type de réapprovisionnement],"Alternatives")) -> 0 | E14: =IF((SyntheseCommande[[#This Row],[Ref]]=""),"",COUNTIFS(Manquant[Composé],SyntheseCommande[[#This Row],[Ref]],Manquant[Type de réapprovisionnement],"CDE_HA")) -> 0 | F14: =IF((SyntheseCommande[[#This Row],[Ref]]=""),"",COUNTIFS(Manquant[Composé],SyntheseCommande[[#This Row],[Ref]],Manquant[Type de réapprovisionnement],"CDE_HA_AR")) -> 0 | G14: =IF((SyntheseCommande[[#This Row],[Ref]]=""),"",COUNTIFS(Manquant[Composé],SyntheseCommande[[#This Row],[Ref]],Manquant[Type de réapprovisionnement],"CDE_HA_AR_C")) -> 0 | H14: =IF((SyntheseCommande[[#This Row],[Ref]]=""),"",COUNTIFS(Manquant[Composé],SyntheseCommande[[#This Row],[Ref]],Manquant[Type de réapprovisionnement],"DA_LANCEE")) -> 0 | I14: =IF((SyntheseCommande[[#This Row],[Ref]]=""),"",COUNTIFS(Manquant[Composé],SyntheseCommande[[#This Row],[Ref]],Manquant[Type de réapprovisionnement],"DA")) -> 4 | J14: =IF((SyntheseCommande[[#This Row],[Ref]]=""),"",COUNTIFS(Manquant[Composé],SyntheseCommande[[#This Row],[Ref]],Manquant[Type de réapprovisionnement],"DEVIS")) -> 0 | K14: =IF((SyntheseCommande[[#This Row],[Ref]]=""),"",SUM(SyntheseCommande[[#This Row],[NBR Alternatives]:[NBR DEVIS]])) -> 4 | L14: =IF((SyntheseCommande[[#This Row],[Ref]]=""),"",COUNTIFS(Manquant[Composé],SyntheseCommande[[#This Row],[Ref]],Manquant[Critique (-25j)],TRUE)) -> 0
A15: 2 | B15: =IF(ISBLANK(B3),"",B3) -> 263623594MKP | C15: =IF((SyntheseCommande[[#This Row],[Ref]]=""),"",(VLOOKUP(SyntheseCommande[[#This Row],[Ref]],Planning!E:F,2,FALSE))) -> CIE PA GVPHP MICA | D15: =IF((SyntheseCommande[[#This Row],[Ref]]=""),"",COUNTIFS(Manquant[Composé],SyntheseCommande[[#This Row],[Ref]],Manquant[Type de réapprovisionnement],"Alternatives")) -> 0 | E15: =IF((SyntheseCommande[[#This Row],[Ref]]=""),"",COUNTIFS(Manquant[Composé],SyntheseCommande[[#This Row],[Ref]],Manquant[Type de réapprovisionnement],"CDE_HA")) -> 0 | F15: =IF((SyntheseCommande[[#This Row],[Ref]]=""),"",COUNTIFS(Manquant[Composé],SyntheseCommande[[#This Row],[Ref]],Manquant[Type de réapprovisionnement],"CDE_HA_AR")) -> 0 | G15: =IF((SyntheseCommande[[#This Row],[Ref]]=""),"",COUNTIFS(Manquant[Composé],SyntheseCommande[[#This Row],[Ref]],Manquant[Type de réapprovisionnement],"CDE_HA_AR_C")) -> 0 | H15: =IF((SyntheseCommande[[#This Row],[Ref]]=""),"",COUNTIFS(Manquant[Composé],SyntheseCommande[[#This Row],[Ref]],Manquant[Type de réapprovisionnement],"DA_LANCEE")) -> 0 | I15: =IF((SyntheseCommande[[#This Row],[Ref]]=""),"",COUNTIFS(Manquant[Composé],SyntheseCommande[[#This Row],[Ref]],Manquant[Type de réapprovisionnement],"DA")) -> 0 | J15: =IF((SyntheseCommande[[#This Row],[Ref]]=""),"",COUNTIFS(Manquant[Composé],SyntheseCommande[[#This Row],[Ref]],Manquant[Type de réapprovisionnement],"DEVIS")) -> 0 | K15: =IF((SyntheseCommande[[#This Row],[Ref]]=""),"",SUM(SyntheseCommande[[#This Row],[NBR Alternatives]:[NBR DEVIS]])) -> 0 | L15: =IF((SyntheseCommande[[#This Row],[Ref]]=""),"",COUNTIFS(Manquant[Composé],SyntheseCommande[[#This Row],[Ref]],Manquant[Critique (-25j)],TRUE)) -> 0
A16: 3 | B16: =IF(ISBLANK(B4),"",B4) -> 263567858MKP | C16: =IF((SyntheseCommande[[#This Row],[Ref]]=""),"",(VLOOKUP(SyntheseCommande[[#This Row],[Ref]],Planning!E:F,2,FALSE))) -> CIE MAGMA | D16: =IF((SyntheseCommande[[#This Row],[Ref]]=""),"",COUNTIFS(Manquant[Composé],SyntheseCommande[[#This Row],[Ref]],Manquant[Type de réapprovisionnement],"Alternatives")) -> 0 | E16: =IF((SyntheseCommande[[#This Row],[Ref]]=""),"",COUNTIFS(Manquant[Composé],SyntheseCommande[[#This Row],[Ref]],Manquant[Type de réapprovisionnement],"CDE_HA")) -> 0 | F16: =IF((SyntheseCommande[[#This Row],[Ref]]=""),"",COUNTIFS(Manquant[Composé],SyntheseCommande[[#This Row],[Ref]],Manquant[Type de réapprovisionnement],"CDE_HA_AR")) -> 1 | G16: =IF((SyntheseCommande[[#This Row],[Ref]]=""),"",COUNTIFS(Manquant[Composé],SyntheseCommande[[#This Row],[Ref]],Manquant[Type de réapprovisionnement],"CDE_HA_AR_C")) -> 0 | H16: =IF((SyntheseCommande[[#This Row],[Ref]]=""),"",COUNTIFS(Manquant[Composé],SyntheseCommande[[#This Row],[Ref]],Manquant[Type de réapprovisionnement],"DA_LANCEE")) -> 0 | I16: =IF((SyntheseCommande[[#This Row],[Ref]]=""),"",COUNTIFS(Manquant[Composé],SyntheseCommande[[#This Row],[Ref]],Manquant[Type de réapprovisionnement],"DA")) -> 15 | J16: =IF((SyntheseCommande[[#This Row],[Ref]]=""),"",COUNTIFS(Manquant[Composé],SyntheseCommande[[#This Row],[Ref]],Manquant[Type de réapprovisionnement],"DEVIS")) -> 0 | K16: =IF((SyntheseCommande[[#This Row],[Ref]]=""),"",SUM(SyntheseCommande[[#This Row],[NBR Alternatives]:[NBR DEVIS]])) -> 16 | L16: =IF((SyntheseCommande[[#This Row],[Ref]]=""),"",COUNTIFS(Manquant[Composé],SyntheseCommande[[#This Row],[Ref]],Manquant[Critique (-25j)],TRUE)) -> 16
A17: 4 | B17: =IF(ISBLANK(B5),"",B5) -> 263567949MKP | C17: =IF((SyntheseCommande[[#This Row],[Ref]]=""),"",(VLOOKUP(SyntheseCommande[[#This Row],[Ref]],Planning!E:F,2,FALSE))) -> CIE ADES | D17: =IF((SyntheseCommande[[#This Row],[Ref]]=""),"",COUNTIFS(Manquant[Composé],SyntheseCommande[[#This Row],[Ref]],Manquant[Type de réapprovisionnement],"Alternatives")) -> 0 | E17: =IF((SyntheseCommande[[#This Row],[Ref]]=""),"",COUNTIFS(Manquant[Composé],SyntheseCommande[[#This Row],[Ref]],Manquant[Type de réapprovisionnement],"CDE_HA")) -> 0 | F17: =IF((SyntheseCommande[[#This Row],[Ref]]=""),"",COUNTIFS(Manquant[Composé],SyntheseCommande[[#This Row],[Ref]],Manquant[Type de réapprovisionnement],"CDE_HA_AR")) -> 3 | G17: =IF((SyntheseCommande[[#This Row],[Ref]]=""),"",COUNTIFS(Manquant[Composé],SyntheseCommande[[#This Row],[Ref]],Manquant[Type de réapprovisionnement],"CDE_HA_AR_C")) -> 0 | H17: =IF((SyntheseCommande[[#This Row],[Ref]]=""),"",COUNTIFS(Manquant[Composé],SyntheseCommande[[#This Row],[Ref]],Manquant[Type de réapprovisionnement],"DA_LANCEE")) -> 1 | I17: =IF((SyntheseCommande[[#This Row],[Ref]]=""),"",COUNTIFS(Manquant[Composé],SyntheseCommande[[#This Row],[Ref]],Manquant[Type de réapprovisionnement],"DA")) -> 26 | J17: =IF((SyntheseCommande[[#This Row],[Ref]]=""),"",COUNTIFS(Manquant[Composé],SyntheseCommande[[#This Row],[Ref]],Manquant[Type de réapprovisionnement],"DEVIS")) -> 0 | K17: =IF((SyntheseCommande[[#This Row],[Ref]]=""),"",SUM(SyntheseCommande[[#This Row],[NBR Alternatives]:[NBR DEVIS]])) -> 30 | L17: =IF((SyntheseCommande[[#This Row],[Ref]]=""),"",COUNTIFS(Manquant[Composé],SyntheseCommande[[#This Row],[Ref]],Manquant[Critique (-25j)],TRUE)) -> 28
A18: 5 | B18: =IF(ISBLANK(B6),"",B6) | C18: =IF((SyntheseCommande[[#This Row],[Ref]]=""),"",(VLOOKUP(SyntheseCommande[[#This Row],[Ref]],Planning!E:F,2,FALSE))) | D18: =IF((SyntheseCommande[[#This Row],[Ref]]=""),"",COUNTIFS(Manquant[Composé],SyntheseCommande[[#This Row],[Ref]],Manquant[Type de réapprovisionnement],"Alternatives")) | E18: =IF((SyntheseCommande[[#This Row],[Ref]]=""),"",COUNTIFS(Manquant[Composé],SyntheseCommande[[#This Row],[Ref]],Manquant[Type de réapprovisionnement],"CDE_HA")) | F18: =IF((SyntheseCommande[[#This Row],[Ref]]=""),"",COUNTIFS(Manquant[Composé],SyntheseCommande[[#This Row],[Ref]],Manquant[Type de réapprovisionnement],"CDE_HA_AR")) | G18: =IF((SyntheseCommande[[#This Row],[Ref]]=""),"",COUNTIFS(Manquant[Composé],SyntheseCommande[[#This Row],[Ref]],Manquant[Type de réapprovisionnement],"CDE_HA_AR_C")) | H18: =IF((SyntheseCommande[[#This Row],[Ref]]=""),"",COUNTIFS(Manquant[Composé],SyntheseCommande[[#This Row],[Ref]],Manquant[Type de réapprovisionnement],"DA_LANCEE")) | I18: =IF((SyntheseCommande[[#This Row],[Ref]]=""),"",COUNTIFS(Manquant[Composé],SyntheseCommande[[#This Row],[Ref]],Manquant[Type de réapprovisionnement],"DA")) | J18: =IF((SyntheseCommande[[#This Row],[Ref]]=""),"",COUNTIFS(Manquant[Composé],SyntheseCommande[[#This Row],[Ref]],Manquant[Type de réapprovisionnement],"DEVIS")) | K18: =IF((SyntheseCommande[[#This Row],[Ref]]=""),"",SUM(SyntheseCommande[[#This Row],[NBR Alternatives]:[NBR DEVIS]])) | L18: =IF((SyntheseCommande[[#This Row],[Ref]]=""),"",COUNTIFS(Manquant[Composé],SyntheseCommande[[#This Row],[Ref]],Manquant[Critique (-25j)],TRUE))
A19: 6 | B19: =IF(ISBLANK(B7),"",B7) | C19: =IF((SyntheseCommande[[#This Row],[Ref]]=""),"",(VLOOKUP(SyntheseCommande[[#This Row],[Ref]],Planning!E:F,2,FALSE))) | D19: =IF((SyntheseCommande[[#This Row],[Ref]]=""),"",COUNTIFS(Manquant[Composé],SyntheseCommande[[#This Row],[Ref]],Manquant[Type de réapprovisionnement],"Alternatives")) | E19: =IF((SyntheseCommande[[#This Row],[Ref]]=""),"",COUNTIFS(Manquant[Composé],SyntheseCommande[[#This Row],[Ref]],Manquant[Type de réapprovisionnement],"CDE_HA")) | F19: =IF((SyntheseCommande[[#This Row],[Ref]]=""),"",COUNTIFS(Manquant[Composé],SyntheseCommande[[#This Row],[Ref]],Manquant[Type de réapprovisionnement],"CDE_HA_AR")) | G19: =IF((SyntheseCommande[[#This Row],[Ref]]=""),"",COUNTIFS(Manquant[Composé],SyntheseCommande[[#This Row],[Ref]],Manquant[Type de réapprovisionnement],"CDE_HA_AR_C")) | H19: =IF((SyntheseCommande[[#This Row],[Ref]]=""),"",COUNTIFS(Manquant[Composé],SyntheseCommande[[#This Row],[Ref]],Manquant[Type de réapprovisionnement],"DA_LANCEE")) | I19: =IF((SyntheseCommande[[#This Row],[Ref]]=""),"",COUNTIFS(Manquant[Composé],SyntheseCommande[[#This Row],[Ref]],Manquant[Type de réapprovisionnement],"DA")) | J19: =IF((SyntheseCommande[[#This Row],[Ref]]=""),"",COUNTIFS(Manquant[Composé],SyntheseCommande[[#This Row],[Ref]],Manquant[Type de réapprovisionnement],"DEVIS")) | K19: =IF((SyntheseCommande[[#This Row],[Ref]]=""),"",SUM(SyntheseCommande[[#This Row],[NBR Alternatives]:[NBR DEVIS]])) | L19: =IF((SyntheseCommande[[#This Row],[Ref]]=""),"",COUNTIFS(Manquant[Composé],SyntheseCommande[[#This Row],[Ref]],Manquant[Critique (-25j)],TRUE))
A20: 7 | B20: =IF(ISBLANK(B8),"",B8) | C20: =IF((SyntheseCommande[[#This Row],[Ref]]=""),"",(VLOOKUP(SyntheseCommande[[#This Row],[Ref]],Planning!E:F,2,FALSE))) | D20: =IF((SyntheseCommande[[#This Row],[Ref]]=""),"",COUNTIFS(Manquant[Composé],SyntheseCommande[[#This Row],[Ref]],Manquant[Type de réapprovisionnement],"Alternatives")) | E20: =IF((SyntheseCommande[[#This Row],[Ref]]=""),"",COUNTIFS(Manquant[Composé],SyntheseCommande[[#This Row],[Ref]],Manquant[Type de réapprovisionnement],"CDE_HA")) | F20: =IF((SyntheseCommande[[#This Row],[Ref]]=""),"",COUNTIFS(Manquant[Composé],SyntheseCommande[[#This Row],[Ref]],Manquant[Type de réapprovisionnement],"CDE_HA_AR")) | G20: =IF((SyntheseCommande[[#This Row],[Ref]]=""),"",COUNTIFS(Manquant[Composé],SyntheseCommande[[#This Row],[Ref]],Manquant[Type de réapprovisionnement],"CDE_HA_AR_C")) | H20: =IF((SyntheseCommande[[#This Row],[Ref]]=""),"",COUNTIFS(Manquant[Composé],SyntheseCommande[[#This Row],[Ref]],Manquant[Type de réapprovisionnement],"DA_LANCEE")) | I20: =IF((SyntheseCommande[[#This Row],[Ref]]=""),"",COUNTIFS(Manquant[Composé],SyntheseCommande[[#This Row],[Ref]],Manquant[Type de réapprovisionnement],"DA")) | J20: =IF((SyntheseCommande[[#This Row],[Ref]]=""),"",COUNTIFS(Manquant[Composé],SyntheseCommande[[#This Row],[Ref]],Manquant[Type de réapprovisionnement],"DEVIS")) | K20: =IF((SyntheseCommande[[#This Row],[Ref]]=""),"",SUM(SyntheseCommande[[#This Row],[NBR Alternatives]:[NBR DEVIS]])) | L20: =IF((SyntheseCommande[[#This Row],[Ref]]=""),"",COUNTIFS(Manquant[Composé],SyntheseCommande[[#This Row],[Ref]],Manquant[Critique (-25j)],TRUE))
A21: 8 | B21: =IF(ISBLANK(B9),"",B9) | C21: =IF((SyntheseCommande[[#This Row],[Ref]]=""),"",(VLOOKUP(SyntheseCommande[[#This Row],[Ref]],Planning!E:F,2,FALSE))) | D21: =IF((SyntheseCommande[[#This Row],[Ref]]=""),"",COUNTIFS(Manquant[Composé],SyntheseCommande[[#This Row],[Ref]],Manquant[Type de réapprovisionnement],"Alternatives")) | E21: =IF((SyntheseCommande[[#This Row],[Ref]]=""),"",COUNTIFS(Manquant[Composé],SyntheseCommande[[#This Row],[Ref]],Manquant[Type de réapprovisionnement],"CDE_HA")) | F21: =IF((SyntheseCommande[[#This Row],[Ref]]=""),"",COUNTIFS(Manquant[Composé],SyntheseCommande[[#This Row],[Ref]],Manquant[Type de réapprovisionnement],"CDE_HA_AR")) | G21: =IF((SyntheseCommande[[#This Row],[Ref]]=""),"",COUNTIFS(Manquant[Composé],SyntheseCommande[[#This Row],[Ref]],Manquant[Type de réapprovisionnement],"CDE_HA_AR_C")) | H21: =IF((SyntheseCommande[[#This Row],[Ref]]=""),"",COUNTIFS(Manquant[Composé],SyntheseCommande[[#This Row],[Ref]],Manquant[Type de réapprovisionnement],"DA_LANCEE")) | I21: =IF((SyntheseCommande[[#This Row],[Ref]]=""),"",COUNTIFS(Manquant[Composé],SyntheseCommande[[#This Row],[Ref]],Manquant[Type de réapprovisionnement],"DA")) | J21: =IF((SyntheseCommande[[#This Row],[Ref]]=""),"",COUNTIFS(Manquant[Composé],SyntheseCommande[[#This Row],[Ref]],Manquant[Type de réapprovisionnement],"DEVIS")) | K21: =IF((SyntheseCommande[[#This Row],[Ref]]=""),"",SUM(SyntheseCommande[[#This Row],[NBR Alternatives]:[NBR DEVIS]])) | L21: =IF((SyntheseCommande[[#This Row],[Ref]]=""),"",COUNTIFS(Manquant[Composé],SyntheseCommande[[#This Row],[Ref]],Manquant[Critique (-25j)],TRUE))
A22: 9 | B22: =IF(ISBLANK(B10),"",B10) | C22: =IF((SyntheseCommande[[#This Row],[Ref]]=""),"",(VLOOKUP(SyntheseCommande[[#This Row],[Ref]],Planning!E:F,2,FALSE))) | D22: =IF((SyntheseCommande[[#This Row],[Ref]]=""),"",COUNTIFS(Manquant[Composé],SyntheseCommande[[#This Row],[Ref]],Manquant[Type de réapprovisionnement],"Alternatives")) | E22: =IF((SyntheseCommande[[#This Row],[Ref]]=""),"",COUNTIFS(Manquant[Composé],SyntheseCommande[[#This Row],[Ref]],Manquant[Type de réapprovisionnement],"CDE_HA")) | F22: =IF((SyntheseCommande[[#This Row],[Ref]]=""),"",COUNTIFS(Manquant[Composé],SyntheseCommande[[#This Row],[Ref]],Manquant[Type de réapprovisionnement],"CDE_HA_AR")) | G22: =IF((SyntheseCommande[[#This Row],[Ref]]=""),"",COUNTIFS(Manquant[Composé],SyntheseCommande[[#This Row],[Ref]],Manquant[Type de réapprovisionnement],"CDE_HA_AR_C")) | H22: =IF((SyntheseCommande[[#This Row],[Ref]]=""),"",COUNTIFS(Manquant[Composé],SyntheseCommande[[#This Row],[Ref]],Manquant[Type de réapprovisionnement],"DA_LANCEE")) | I22: =IF((SyntheseCommande[[#This Row],[Ref]]=""),"",COUNTIFS(Manquant[Composé],SyntheseCommande[[#This Row],[Ref]],Manquant[Type de réapprovisionnement],"DA")) | J22: =IF((SyntheseCommande[[#This Row],[Ref]]=""),"",COUNTIFS(Manquant[Composé],SyntheseCommande[[#This Row],[Ref]],Manquant[Type de réapprovisionnement],"DEVIS")) | K22: =IF((SyntheseCommande[[#This Row],[Ref]]=""),"",SUM(SyntheseCommande[[#This Row],[NBR Alternatives]:[NBR DEVIS]])) | L22: =IF((SyntheseCommande[[#This Row],[Ref]]=""),"",COUNTIFS(Manquant[Composé],SyntheseCommande[[#This Row],[Ref]],Manquant[Critique (-25j)],TRUE))
A23: 10 | B23: =IF(ISBLANK(B11),"",B11) | C23: =IF((SyntheseCommande[[#This Row],[Ref]]=""),"",(VLOOKUP(SyntheseCommande[[#This Row],[Ref]],Planning!E:F,2,FALSE))) | D23: =IF((SyntheseCommande[[#This Row],[Ref]]=""),"",COUNTIFS(Manquant[Composé],SyntheseCommande[[#This Row],[Ref]],Manquant[Type de réapprovisionnement],"Alternatives")) | E23: =IF((SyntheseCommande[[#This Row],[Ref]]=""),"",COUNTIFS(Manquant[Composé],SyntheseCommande[[#This Row],[Ref]],Manquant[Type de réapprovisionnement],"CDE_HA")) | F23: =IF((SyntheseCommande[[#This Row],[Ref]]=""),"",COUNTIFS(Manquant[Composé],SyntheseCommande[[#This Row],[Ref]],Manquant[Type de réapprovisionnement],"CDE_HA_AR")) | G23: =IF((SyntheseCommande[[#This Row],[Ref]]=""),"",COUNTIFS(Manquant[Composé],SyntheseCommande[[#This Row],[Ref]],Manquant[Type de réapprovisionnement],"CDE_HA_AR_C")) | H23: =IF((SyntheseCommande[[#This Row],[Ref]]=""),"",COUNTIFS(Manquant[Composé],SyntheseCommande[[#This Row],[Ref]],Manquant[Type de réapprovisionnement],"DA_LANCEE")) | I23: =IF((SyntheseCommande[[#This Row],[Ref]]=""),"",COUNTIFS(Manquant[Composé],SyntheseCommande[[#This Row],[Ref]],Manquant[Type de réapprovisionnement],"DA")) | J23: =IF((SyntheseCommande[[#This Row],[Ref]]=""),"",COUNTIFS(Manquant[Composé],SyntheseCommande[[#This Row],[Ref]],Manquant[Type de réapprovisionnement],"DEVIS")) | K23: =IF((SyntheseCommande[[#This Row],[Ref]]=""),"",SUM(SyntheseCommande[[#This Row],[NBR Alternatives]:[NBR DEVIS]])) | L23: =IF((SyntheseCommande[[#This Row],[Ref]]=""),"",COUNTIFS(Manquant[Composé],SyntheseCommande[[#This Row],[Ref]],Manquant[Critique (-25j)],TRUE))

Sheet Manquant REF
A1: Composé | B1: CIE | C1: Date du besoin | D1: Ordre | E1: Article de l'élément de réappro | F1: Composant | G1: Désignation article | H1: Type de réapprovisionnement | I1: Date de réapprovisionnement | J1: Date de réappro estimée | K1: Commentaires
A2: 263479892MKP | B2: CIE PRO_TV-000 | C2: 43571 | D2: 71208445 | E2: 193546721-01 | F2: 193546700 | G2: DIODE PROTEC.CMS 14V BI 30KW PLAD SP | H2: CDE_HA_AR | I2: 43613
A3: 263479892MKP | B3: CIE PRO_TV-000 | C3: 43571 | D3: 71208445 | E3: 193546771-01 | F3: 193546763 | G3: DIODE PROTEC.CMS 22V 30KW PLAD SP | H3: CDE_HA_AR | I3: 43585
A4: 263479892MKP | B4: CIE PRO_TV-000 | C4: 43571 | D4: 71208445 | E4: 193546875-01 | F4: 193546867 | G4: DIODE PROTEC.CMS 22V BI 30KW PLAD SP | H4: CDE_HA_AR | I4: 43627
A5: MKP9028378 | B5: Fadec HC | C5: 43595 | D5: 71245415 | E5: 189203290-02 | F5: 189203282 | G5: RELAIS CENTIGRID CMS SERIE 114 2RT 26V | H5: CDE_HA_AR | I5: 43619
A6: MKP9028378 | B6: Fadec HC | C6: 43595 | D6: 71245415 | E6: 191724822-01 | F6: 191724801 | G6: IC.CMS ADUM3200 ISOLAT. 2 CHAN. SO8 SP | H6: CDE_HA_AR | I6: 43629
A7: MKP9028378 | B7: Fadec HC | C7: 43595 | D7: 71245415 | E7: 191736690-01 | F7: 191736637 | G7: TRANSFO CMS MB09904 SP | H7: CDE_HA | I7: Attente AR | J7: 43588 | K7: Commande retour en signature cause mauvais prix (26/04)
A8: MKP9028378 | B8: Fadec HC | C8: 43600 | D8: 71245415 | E8: 193089573-01 | F8: 193089560 | G8: IC.CMS IGLOO2 FLASH FPGA 256KB FBGA484 | H8: CDE_HA_AR | I8: 43584
A9: MKP9028378 | B9: Fadec HC | C9: 43595 | D9: 71245415 | E9: 192877289-02 | F9: 193293453 | G9: IC.CMS SDRAM 128MX16 FBGA-96 SP | H9: CDE_HA_AR | I9: 43600
A10: MKP9028378 | B10: Fadec HC | C10: 43600 | D10: 71245415 | F10: 193384733MKP | G10: IC.CMS MICROPROC.1,4GHZ FC-PBGA780 SP | H10: CDE_HA | I10: Attente AR | J10: 43610 | K10: Commande Mouser / attente réception end user vierge
A11: MKP9028378 | B11: Fadec HC | C11: 43595 | D11: 71245415 | E11: 193560664-01 | F11: 193560651 | G11: IC.CMS POLARFIRE FPGA MPF300 FCVG484 SP | H11: CDE_HA_AR | I11: 43584
A12: MKP9028378 | B12: Fadec HC | C12: 43600 | D12: 71245415 | F12: MKP9028380 | G12: EMB.CIR.806-022-ME-18-85P2CA GLENAIR | H12: CDE_HA_AR | I12: 43598
A13: MKP9028378 | B13: Fadec HC | C13: 43600 | D13: 71245415 | F13: MKP9028398 | G13: EMB.CIR.806-022-ME-18-85P2CB GLENAIR | H13: CDE_HA_AR | I13: 43598
A14: MKP9028378 | B14: Fadec HC | C14: 43600 | D14: 71245415 | F14: MKP9028400 | G14: EMB.CIR.806-022-ME-20-110P2CA GLENAIR | H14: CDE_HA_AR | I14: 43598
A15: MKP9028378 | B15: Fadec HC | C15: 43600 | D15: 71245415 | F15: MKP9028418 | G15: EMB.CIR.806-022-ME-20-110P2CB GLENAIR | H15: CDE_HA_AR | I15: 43598
A16: MKP9028378 | B16: Fadec HC | C16: 43600 | D16: 71245415 | F16: MKP9028421 | G16: EMB.CIR.806-022-ME-14-39S2CA GLENAIR | H16: CDE_HA_AR | I16: 43598
A17: MKP9028378 | B17: Fadec HC | C17: 43600 | D17: 71245415 | F17: MKP9028801 | G17: INDUCT.CMS Coilcraft ML465PYA153MLZ | H17: CDE_HA_AR | I17: 43606
A18: MKP9028378 | B18: Fadec HC | C18: 43600 | D18: 71245415 | F18: MKP9028819 | G18: INDUCT.CMS Coilcraft ML524PYA302MLZ | H18: CDE_HA_AR | I18: 43606
A19: MKP9028378 | B19: Fadec HC | C19: 43600 | D19: 71245415 | F19: MKP9028822 | G19: INDUCT.CMS Coilcraft ML524PYA182MLZ | H19: CDE_HA_AR | I19: 43606
A20: MKP9028378 | B20: Fadec HC | C20: 43600 | D20: 71245415 | F20: MKP9028892 | G20: EMB.CIR.806-012-ME-18-85SMA GLENAIR | H20: CDE_HA_AR | I20: 43619
A21: MKP9028378 | B21: Fadec HC | C21: 43600 | D21: 71245415 | F21: MKP9028905 | G21: EMB.CIR.806-012-ME-18-85SMB GLENAIR | H21: CDE_HA_AR | I21: 43641
A22: MKP9028378 | B22: Fadec HC | C22: 43600 | D22: 71245415 | F22: MKP9028918 | G22: EMB.CIR.806-012-ME-20-110SMA GLENAIR | H22: CDE_HA_AR | I22: 43641
A23: MKP9028378 | B23: Fadec HC | C23: 43600 | D23: 71245415 | F23: MKP9028926 | G23: EMB.CIR.806-012-ME-20-110SMB GLENAIR | H23: CDE_HA_AR | I23: 43641
A24: MKP9028378 | B24: Fadec HC | C24: 43600 | D24: 71245415 | F24: MKP9028939 | G24: EMB.CIR.806-012-ME-14-39PMA GLENAIR | H24: CDE_HA_AR | I24: 43619
A25: MKP9028378 | B25: Fadec HC | C25: 43595 | D25: 71246411 | E25: 189203290-02 | F25: 189203282 | G25: RELAIS CENTIGRID CMS SERIE 114 2RT 26V | H25: CDE_HA_AR | I25: 43619
A26: MKP9028378 | B26: Fadec HC | C26: 43595 | D26: 71246411 | E26: 191724421-01 | F26: 191724413 | G26: IC CMS MRAM 256KX16 35NS TSOP44 SP | H26: CDE_HA_AR | I26: 43584
A27: MKP9028378 | B27: Fadec HC | C27: 43595 | D27: 71246411 | E27: 191724822-01 | F27: 191724801 | G27: IC.CMS ADUM3200 ISOLAT. 2 CHAN. SO8 SP | H27: CDE_HA_AR | I27: 43629
A28: MKP9028378 | B28: Fadec HC | C28: 43595 | D28: 71246411 | E28: 191736690-01 | F28: 191736637 | G28: TRANSFO CMS MB09904 SP | H28: CDE_HA | I28: Attente AR | J28: 43588 | K28: Commande retour en signature cause mauvais prix (26/04)
A29: MKP9028378 | B29: Fadec HC | C29: 43601 | D29: 71246411 | E29: 193089573-01 | F29: 193089560 | G29: IC.CMS IGLOO2 FLASH FPGA 256KB FBGA484 | H29: CDE_HA_AR | I29: 43584
A30: MKP9028378 | B30: Fadec HC | C30: 43595 | D30: 71246411 | E30: 192877289-02 | F30: 193293453 | G30: IC.CMS SDRAM 128MX16 FBGA-96 SP | H30: CDE_HA_AR | I30: 43600
