Workbook

Sheet Manquant
A1: Composé | B1: CIE | C1: Date du besoin | D1: Ordre | E1: Article de l'élément de réappro | F1: Composant | G1: Désignation article | H1: Type de réapprovisionnement | I1: Date de réapprovisionnement | J1: Date de réappro estimée | K1: Commentaires | L1: DATE Réappro | M1: Date Estimée | N1: DATE | O1: Besoin Client | P1: Critique (-25j) | Q1: Commentaires1 | R1: Commentaires2 | S1: Commentaires3 | T1: CommentaireFinal
A2: 263479892MKP | B2: CIE PRO_TV-000 | C2: 43571 | D2: 71208445 | E2: 193546721-01 | F2: 193546700 | G2: DIODE PROTEC.CMS 14V BI 30KW PLAD SP | H2: CDE_HA_AR | I2: 43613 | L2: =IF(ISNUMBER(Manquant[[#This Row],[Date de réapprovisionnement]]),Manquant[[#This Row],[Date de réapprovisionnement]],"") -> 43613 | M2: =IF(ISNUMBER(Manquant[[#This Row],[Date de réappro estimée]]),Manquant[[#This Row],[Date de réappro estimée]],"") | N2: =IF(Manquant[[#This Row],[DATE Réappro]]="",(IF(Manquant[[#This Row],[Date Estimée]]="","NO DATE",Manquant[[#This Row],[Date Estimée]])),Manquant[[#This Row],[DATE Réappro]]) -> 43613 | O2: =IF((VLOOKUP(Manquant[[#This Row],[Composé]],Planning!E:M,9,FALSE))=0,"",(VLOOKUP(Manquant[[#This Row],[Composé]],Planning!E:M,9,FALSE))) | P2: =IF(Manquant[[#This Row],[Besoin Client]]="","NO DATE CLIENT",(IF(Manquant[[#This Row],[DATE]]="NO DATE",TRUE,(IF(Manquant[[#This Row],[Besoin Client]]-Manquant[[#This Row],[DATE]]<25,TRUE,""))))) -> NO DATE CLIENT | Q2: =IF(ISTEXT(Manquant[[#This Row],[Date de réapprovisionnement]]),Manquant[[#This Row],[Date de réapprovisionnement]],"") | R2: =IF(ISTEXT(Manquant[[#This Row],[Date de réappro estimée]]),Manquant[[#This Row],[Date de réappro estimée]],"") | S2: =IF((Manquant[Commentaires]=""),"",Manquant[Commentaires]) | T2: =Manquant[Commentaires1]&CHAR(10)&Manquant[Commentaires2]&CHAR(10)&Manquant[Commentaires3]
A3: 263479892MKP | B3: CIE PRO_TV-000 | C3: 43571 | D3: 71208445 | E3: 193546771-01 | F3: 193546763 | G3: DIODE PROTEC.CMS 22V 30KW PLAD SP | H3: CDE_HA_AR | I3: 43585 | L3: =IF(ISNUMBER(Manquant[[#This Row],[Date de réapprovisionnement]]),Manquant[[#This Row],[Date de réapprovisionnement]],"") -> 43585 | M3: =IF(ISNUMBER(Manquant[[#This Row],[Date de réappro estimée]]),Manquant[[#This Row],[Date de réappro estimée]],"") | N3: =IF(Manquant[[#This Row],[DATE Réappro]]="",(IF(Manquant[[#This Row],[Date Estimée]]="","NO DATE",Manquant[[#This Row],[Date Estimée]])),Manquant[[#This Row],[DATE Réappro]]) -> 43585 | O3: =IF((VLOOKUP(Manquant[[#This Row],[Composé]],Planning!E:M,9,FALSE))=0,"",(VLOOKUP(Manquant[[#This Row],[Composé]],Planning!E:M,9,FALSE))) | P3: =IF(Manquant[[#This Row],[Besoin Client]]="","NO DATE CLIENT",(IF(Manquant[[#This Row],[DATE]]="NO DATE",TRUE,(IF(Manquant[[#This Row],[Besoin Client]]-Manquant[[#This Row],[DATE]]<25,TRUE,""))))) -> NO DATE CLIENT | Q3: =IF(ISTEXT(Manquant[[#This Row],[Date de réapprovisionnement]]),Manquant[[#This Row],[Date de réapprovisionnement]],"") | R3: =IF(ISTEXT(Manquant[[#This Row],[Date de réappro estimée]]),Manquant[[#This Row],[Date de réappro estimée]],"") | S3: =IF((Manquant[Commentaires]=""),"",Manquant[Commentaires]) | T3: =Manquant[Commentaires1]&CHAR(10)&Manquant[Commentaires2]&CHAR(10)&Manquant[Commentaires3]
A4: 263479892MKP | B4: CIE PRO_TV-000 | C4: 43571 | D4: 71208445 | E4: 193546875-01 | F4: 193546867 | G4: DIODE PROTEC.CMS 22V BI 30KW PLAD SP | H4: CDE_HA_AR | I4: 43627 | L4: =IF(ISNUMBER(Manquant[[#This Row],[Date de réapprovisionnement]]),Manquant[[#This Row],[Date de réapprovisionnement]],"") -> 43627 | M4: =IF(ISNUMBER(Manquant[[#This Row],[Date de réappro estimée]]),Manquant[[#This Row],[Date de réappro estimée]],"") | N4: =IF(Manquant[[#This Row],[DATE Réappro]]="",(IF(Manquant[[#This Row],[Date Estimée]]="","NO DATE",Manquant[[#This Row],[Date Estimée]])),Manquant[[#This Row],[DATE Réappro]]) -> 43627 | O4: =IF((VLOOKUP(Manquant[[#This Row],[Composé]],Planning!E:M,9,FALSE))=0,"",(VLOOKUP(Manquant[[#This Row],[Composé]],Planning!E:M,9,FALSE))) | P4: =IF(Manquant[[#This Row],[Besoin Client]]="","NO DATE CLIENT",(IF(Manquant[[#This Row],[DATE]]="NO DATE",TRUE,(IF(Manquant[[#This Row],[Besoin Client]]-Manquant[[#This Row],[DATE]]<25,TRUE,""))))) -> NO DATE CLIENT | Q4: =IF(ISTEXT(Manquant[[#This Row],[Date de réapprovisionnement]]),Manquant[[#This Row],[Date de réapprovisionnement]],"") | R4: =IF(ISTEXT(Manquant[[#This Row],[Date de réappro estimée]]),Manquant[[#This Row],[Date de réappro estimée]],"") | S4: =IF((Manquant[Commentaires]=""),"",Manquant[Commentaires]) | T4: =Manquant[Commentaires1]&CHAR(10)&Manquant[Commentaires2]&CHAR(10)&Manquant[Commentaires3]
A5: MKP9028378 | B5: Fadec HC | C5: 43595 | D5: 71245415 | E5: 189203290-02 | F5: 189203282 | G5: RELAIS CENTIGRID CMS SERIE 114 2RT 26V | H5: CDE_HA_AR | I5: 43619 | L5: =IF(ISNUMBER(Manquant[[#This Row],[Date de réapprovisionnement]]),Manquant[[#This Row],[Date de réapprovisionnement]],"") -> 43619 | M5: =IF(ISNUMBER(Manquant[[#This Row],[Date de réappro estimée]]),Manquant[[#This Row],[Date de réappro estimée]],"") | N5: =IF(Manquant[[#This Row],[DATE Réappro]]="",(IF(Manquant[[#This Row],[Date Estimée]]="","NO DATE",Manquant[[#This Row],[Date Estimée]])),Manquant[[#This Row],[DATE Réappro]]) -> 43619 | O5: =IF((VLOOKUP(Manquant[[#This Row],[Composé]],Planning!E:M,9,FALSE))=0,"",(VLOOKUP(Manquant[[#This Row],[Composé]],Planning!E:M,9,FALSE))) | P5: =IF(Manquant[[#This Row],[Besoin Client]]="","NO DATE CLIENT",(IF(Manquant[[#This Row],[DATE]]="NO DATE",TRUE,(IF(Manquant[[#This Row],[Besoin Client]]-Manquant[[#This Row],[DATE]]<25,TRUE,""))))) -> NO DATE CLIENT | Q5: =IF(ISTEXT(Manquant[[#This Row],[Date de réapprovisionnement]]),Manquant[[#This Row],[Date de réapprovisionnement]],"") | R5: =IF(ISTEXT(Manquant[[#This Row],[Date de réappro estimée]]),Manquant[[#This Row],[Date de réappro estimée]],"") | S5: =IF((Manquant[Commentaires]=""),"",Manquant[Commentaires]) | T5: =Manquant[Commentaires1]&CHAR(10)&Manquant[Commentaires2]&CHAR(10)&Manquant[Commentaires3]
A6: MKP9028378 | B6: Fadec HC | C6: 43595 | D6: 71245415 | E6: 191724822-01 | F6: 191724801 | G6: IC.CMS ADUM3200 ISOLAT. 2 CHAN. SO8 SP | H6: CDE_HA_AR | I6: 43629 | L6: =IF(ISNUMBER(Manquant[[#This Row],[Date de réapprovisionnement]]),Manquant[[#This Row],[Date de réapprovisionnement]],"") -> 43629 | M6: =IF(ISNUMBER(Manquant[[#This Row],[Date de réappro estimée]]),Manquant[[#This Row],[Date de réappro estimée]],"") | N6: =IF(Manquant[[#This Row],[DATE Réappro]]="",(IF(Manquant[[#This Row],[Date Estimée]]="","NO DATE",Manquant[[#This Row],[Date Estimée]])),Manquant[[#This Row],[DATE Réappro]]) -> 43629 | O6: =IF((VLOOKUP(Manquant[[#This Row],[Composé]],Planning!E:M,9,FALSE))=0,"",(VLOOKUP(Manquant[[#This Row],[Composé]],Planning!E:M,9,FALSE))) | P6: =IF(Manquant[[#This Row],[Besoin Client]]="","NO DATE CLIENT",(IF(Manquant[[#This Row],[DATE]]="NO DATE",TRUE,(IF(Manquant[[#This Row],[Besoin Client]]-Manquant[[#This Row],[DATE]]<25,TRUE,""))))) -> NO DATE CLIENT | Q6: =IF(ISTEXT(Manquant[[#This Row],[Date de réapprovisionnement]]),Manquant[[#This Row],[Date de réapprovisionnement]],"") | R6: =IF(ISTEXT(Manquant[[#This Row],[Date de réappro estimée]]),Manquant[[#This Row],[Date de réappro estimée]],"") | S6: =IF((Manquant[Commentaires]=""),"",Manquant[Commentaires]) | T6: =Manquant[Commentaires1]&CHAR(10)&Manquant[Commentaires2]&CHAR(10)&Manquant[Commentaires3]
A7: MKP9028378 | B7: Fadec HC | C7: 43595 | D7: 71245415 | E7: 191736690-01 | F7: 191736637 | G7: TRANSFO CMS MB09904 SP | H7: CDE_HA | I7: Attente AR | J7: 43588 | K7: Commande retour en signature cause mauvais prix (26/04) | L7: =IF(ISNUMBER(Manquant[[#This Row],[Date de réapprovisionnement]]),Manquant[[#This Row],[Date de réapprovisionnement]],"") | M7: =IF(ISNUMBER(Manquant[[#This Row],[Date de réappro estimée]]),Manquant[[#This Row],[Date de réappro estimée]],"") -> 43588 | N7: =IF(Manquant[[#This Row],[DATE Réappro]]="",(IF(Manquant[[#This Row],[Date Estimée]]="","NO DATE",Manquant[[#This Row],[Date Estimée]])),Manquant[[#This Row],[DATE Réappro]]) -> 43588 | O7: =IF((VLOOKUP(Manquant[[#This Row],[Composé]],Planning!E:M,9,FALSE))=0,"",(VLOOKUP(Manquant[[#This Row],[Composé]],Planning!E:M,9,FALSE))) | P7: =IF(Manquant[[#This Row],[Besoin Client]]="","NO DATE CLIENT",(IF(Manquant[[#This Row],[DATE]]="NO DATE",TRUE,(IF(Manquant[[#This Row],[Besoin Client]]-Manquant[[#This Row],[DATE]]<25,TRUE,""))))) -> NO DATE CLIENT | Q7: =IF(ISTEXT(Manquant[[#This Row],[Date de réapprovisionnement]]),Manquant[[#This Row],[Date de réapprovisionnement]],"") -> Attente AR | R7: =IF(ISTEXT(Manquant[[#This Row],[Date de réappro estimée]]),Manquant[[#This Row],[Date de réappro estimée]],"") | S7: =IF((Manquant[Commentaires]=""),"",Manquant[Commentaires]) -> Commande retour en signature cause mauvais prix (26/04) | T7: =Manquant[Commentaires1]&CHAR(10)&Manquant[Commentaires2]&CHAR(10)&Manquant[Commentaires3] -> Attente AR Commande retour en signature cause mauvais prix (26/04)
A8: MKP9028378 | B8: Fadec HC | C8: 43600 | D8: 71245415 | E8: 193089573-01 | F8: 193089560 | G8: IC.CMS IGLOO2 FLASH FPGA 256KB FBGA484 | H8: CDE_HA_AR | I8: 43584 | L8: =IF(ISNUMBER(Manquant[[#This Row],[Date de réapprovisionnement]]),Manquant[[#This Row],[Date de réapprovisionnement]],"") -> 43584 | M8: =IF(ISNUMBER(Manquant[[#This Row],[Date de réappro estimée]]),Manquant[[#This Row],[Date de réappro estimée]],"") | N8: =IF(Manquant[[#This Row],[DATE Réappro]]="",(IF(Manquant[[#This Row],[Date Estimée]]="","NO DATE",Manquant[[#This Row],[Date Estimée]])),Manquant[[#This Row],[DATE Réappro]]) -> 43584 | O8: =IF((VLOOKUP(Manquant[[#This Row],[Composé]],Planning!E:M,9,FALSE))=0,"",(VLOOKUP(Manquant[[#This Row],[Composé]],Planning!E:M,9,FALSE))) | P8: =IF(Manquant[[#This Row],[Besoin Client]]="","NO DATE CLIENT",(IF(Manquant[[#This Row],[DATE]]="NO DATE",TRUE,(IF(Manquant[[#This Row],[Besoin Client]]-Manquant[[#This Row],[DATE]]<25,TRUE,""))))) -> NO DATE CLIENT | Q8: =IF(ISTEXT(Manquant[[#This Row],[Date de réapprovisionnement]]),Manquant[[#This Row],[Date de réapprovisionnement]],"") | R8: =IF(ISTEXT(Manquant[[#This Row],[Date de réappro estimée]]),Manquant[[#This Row],[Date de réappro estimée]],"") | S8: =IF((Manquant[Commentaires]=""),"",Manquant[Commentaires]) | T8: =Manquant[Commentaires1]&CHAR(10)&Manquant[Commentaires2]&CHAR(10)&Manquant[Commentaires3]
A9: MKP9028378 | B9: Fadec HC | C9: 43595 | D9: 71245415 | E9: 192877289-02 | F9: 193293453 | G9: IC.CMS SDRAM 128MX16 FBGA-96 SP | H9: CDE_HA_AR | I9: 43600 | L9: =IF(ISNUMBER(Manquant[[#This Row],[Date de réapprovisionnement]]),Manquant[[#This Row],[Date de réapprovisionnement]],"") -> 43600 | M9: =IF(ISNUMBER(Manquant[[#This Row],[Date de réappro estimée]]),Manquant[[#This Row],[Date de réappro estimée]],"") | N9: =IF(Manquant[[#This Row],[DATE Réappro]]="",(IF(Manquant[[#This Row],[Date Estimée]]="","NO DATE",Manquant[[#This Row],[Date Estimée]])),Manquant[[#This Row],[DATE Réappro]]) -> 43600 | O9: =IF((VLOOKUP(Manquant[[#This Row],[Composé]],Planning!E:M,9,FALSE))=0,"",(VLOOKUP(Manquant[[#This Row],[Composé]],Planning!E:M,9,FALSE))) | P9: =IF(Manquant[[#This Row],[Besoin Client]]="","NO DATE CLIENT",(IF(Manquant[[#This Row],[DATE]]="NO DATE",TRUE,(IF(Manquant[[#This Row],[Besoin Client]]-Manquant[[#This Row],[DATE]]<25,TRUE,""))))) -> NO DATE CLIENT | Q9: =IF(ISTEXT(Manquant[[#This Row],[Date de réapprovisionnement]]),Manquant[[#This Row],[Date de réapprovisionnement]],"") | R9: =IF(ISTEXT(Manquant[[#This Row],[Date de réappro estimée]]),Manquant[[#This Row],[Date de réappro estimée]],"") | S9: =IF((Manquant[Commentaires]=""),"",Manquant[Commentaires]) | T9: =Manquant[Commentaires1]&CHAR(10)&Manquant[Commentaires2]&CHAR(10)&Manquant[Commentaires3]
A10: MKP9028378 | B10: Fadec HC | C10: 43600 | D10: 71245415 | F10: 193384733MKP | G10: IC.CMS MICROPROC.1,4GHZ FC-PBGA780 SP | H10: CDE_HA | I10: Attente AR | J10: 43610 | K10: Commande Mouser / attente réception end user vierge | L10: =IF(ISNUMBER(Manquant[[#This Row],[Date de réapprovisionnement]]),Manquant[[#This Row],[Date de réapprovisionnement]],"") | M10: =IF(ISNUMBER(Manquant[[#This Row],[Date de réappro estimée]]),Manquant[[#This Row],[Date de réappro estimée]],"") -> 43610 | N10: =IF(Manquant[[#This Row],[DATE Réappro]]="",(IF(Manquant[[#This Row],[Date Estimée]]="","NO DATE",Manquant[[#This Row],[Date Estimée]])),Manquant[[#This Row],[DATE Réappro]]) -> 43610 | O10: =IF((VLOOKUP(Manquant[[#This Row],[Composé]],Planning!E:M,9,FALSE))=0,"",(VLOOKUP(Manquant[[#This Row],[Composé]],Planning!E:M,9,FALSE))) | P10: =IF(Manquant[[#This Row],[Besoin Client]]="","NO DATE CLIENT",(IF(Manquant[[#This Row],[DATE]]="NO DATE",TRUE,(IF(Manquant[[#This Row],[Besoin Client]]-Manquant[[#This Row],[DATE]]<25,TRUE,""))))) -> NO DATE CLIENT | Q10: =IF(ISTEXT(Manquant[[#This Row],[Date de réapprovisionnement]]),Manquant[[#This Row],[Date de réapprovisionnement]],"") -> Attente AR | R10: =IF(ISTEXT(Manquant[[#This Row],[Date de réappro estimée]]),Manquant[[#This Row],[Date de réappro estimée]],"") | S10: =IF((Manquant[Commentaires]=""),"",Manquant[Commentaires]) -> Commande Mouser / attente réception end user vierge | T10: =Manquant[Commentaires1]&CHAR(10)&Manquant[Commentaires2]&CHAR(10)&Manquant[Commentaires3] -> Attente AR Commande Mouser / attente réception end user vierge
A11: MKP9028378 | B11: Fadec HC | C11: 43595 | D11: 71245415 | E11: 193560664-01 | F11: 193560651 | G11: IC.CMS POLARFIRE FPGA MPF300 FCVG484 SP | H11: CDE_HA_AR | I11: 43584 | L11: =IF(ISNUMBER(Manquant[[#This Row],[Date de réapprovisionnement]]),Manquant[[#This Row],[Date de réapprovisionnement]],"") -> 43584 | M11: =IF(ISNUMBER(Manquant[[#This Row],[Date de réappro estimée]]),Manquant[[#This Row],[Date de réappro estimée]],"") | N11: =IF(Manquant[[#This Row],[DATE Réappro]]="",(IF(Manquant[[#This Row],[Date Estimée]]="","NO DATE",Manquant[[#This Row],[Date Estimée]])),Manquant[[#This Row],[DATE Réappro]]) -> 43584 | O11: =IF((VLOOKUP(Manquant[[#This Row],[Composé]],Planning!E:M,9,FALSE))=0,"",(VLOOKUP(Manquant[[#This Row],[Composé]],Planning!E:M,9,FALSE))) | P11: =IF(Manquant[[#This Row],[Besoin Client]]="","NO DATE CLIENT",(IF(Manquant[[#This Row],[DATE]]="NO DATE",TRUE,(IF(Manquant[[#This Row],[Besoin Client]]-Manquant[[#This Row],[DATE]]<25,TRUE,""))))) -> NO DATE CLIENT | Q11: =IF(ISTEXT(Manquant[[#This Row],[Date de réapprovisionnement]]),Manquant[[#This Row],[Date de réapprovisionnement]],"") | R11: =IF(ISTEXT(Manquant[[#This Row],[Date de réappro estimée]]),Manquant[[#This Row],[Date de réappro estimée]],"") | S11: =IF((Manquant[Commentaires]=""),"",Manquant[Commentaires]) | T11: =Manquant[Commentaires1]&CHAR(10)&Manquant[Commentaires2]&CHAR(10)&Manquant[Commentaires3]
A12: MKP9028378 | B12: Fadec HC | C12: 43600 | D12: 71245415 | F12: MKP9028380 | G12: EMB.CIR.806-022-ME-18-85P2CA GLENAIR | H12: CDE_HA_AR | I12: 43598 | L12: =IF(ISNUMBER(Manquant[[#This Row],[Date de réapprovisionnement]]),Manquant[[#This Row],[Date de réapprovisionnement]],"") -> 43598 | M12: =IF(ISNUMBER(Manquant[[#This Row],[Date de réappro estimée]]),Manquant[[#This Row],[Date de réappro estimée]],"") | N12: =IF(Manquant[[#This Row],[DATE Réappro]]="",(IF(Manquant[[#This Row],[Date Estimée]]="","NO DATE",Manquant[[#This Row],[Date Estimée]])),Manquant[[#This Row],[DATE Réappro]]) -> 43598 | O12: =IF((VLOOKUP(Manquant[[#This Row],[Composé]],Planning!E:M,9,FALSE))=0,"",(VLOOKUP(Manquant[[#This Row],[Composé]],Planning!E:M,9,FALSE))) | P12: =IF(Manquant[[#This Row],[Besoin Client]]="","NO DATE CLIENT",(IF(Manquant[[#This Row],[DATE]]="NO DATE",TRUE,(IF(Manquant[[#This Row],[Besoin Client]]-Manquant[[#This Row],[DATE]]<25,TRUE,""))))) -> NO DATE CLIENT | Q12: =IF(ISTEXT(Manquant[[#This Row],[Date de réapprovisionnement]]),Manquant[[#This Row],[Date de réapprovisionnement]],"") | R12: =IF(ISTEXT(Manquant[[#This Row],[Date de réappro estimée]]),Manquant[[#This Row],[Date de réappro estimée]],"") | S12: =IF((Manquant[Commentaires]=""),"",Manquant[Commentaires]) | T12: =Manquant[Commentaires1]&CHAR(10)&Manquant[Commentaires2]&CHAR(10)&Manquant[Commentaires3]
A13: MKP9028378 | B13: Fadec HC | C13: 43600 | D13: 71245415 | F13: MKP9028398 | G13: EMB.CIR.806-022-ME-18-85P2CB GLENAIR | H13: CDE_HA_AR | I13: 43598 | L13: =IF(ISNUMBER(Manquant[[#This Row],[Date de réapprovisionnement]]),Manquant[[#This Row],[Date de réapprovisionnement]],"") -> 43598 | M13: =IF(ISNUMBER(Manquant[[#This Row],[Date de réappro estimée]]),Manquant[[#This Row],[Date de réappro estimée]],"") | N13: =IF(Manquant[[#This Row],[DATE Réappro]]="",(IF(Manquant[[#This Row],[Date Estimée]]="","NO DATE",Manquant[[#This Row],[Date Estimée]])),Manquant[[#This Row],[DATE Réappro]]) -> 43598 | O13: =IF((VLOOKUP(Manquant[[#This Row],[Composé]],Planning!E:M,9,FALSE))=0,"",(VLOOKUP(Manquant[[#This Row],[Composé]],Planning!E:M,9,FALSE))) | P13: =IF(Manquant[[#This Row],[Besoin Client]]="","NO DATE CLIENT",(IF(Manquant[[#This Row],[DATE]]="NO DATE",TRUE,(IF(Manquant[[#This Row],[Besoin Client]]-Manquant[[#This Row],[DATE]]<25,TRUE,""))))) -> NO DATE CLIENT | Q13: =IF(ISTEXT(Manquant[[#This Row],[Date de réapprovisionnement]]),Manquant[[#This Row],[Date de réapprovisionnement]],"") | R13: =IF(ISTEXT(Manquant[[#This Row],[Date de réappro estimée]]),Manquant[[#This Row],[Date de réappro estimée]],"") | S13: =IF((Manquant[Commentaires]=""),"",Manquant[Commentaires]) | T13: =Manquant[Commentaires1]&CHAR(10)&Manquant[Commentaires2]&CHAR(10)&Manquant[Commentaires3]
A14: MKP9028378 | B14: Fadec HC | C14: 43600 | D14: 71245415 | F14: MKP9028400 | G14: EMB.CIR.806-022-ME-20-110P2CA GLENAIR | H14: CDE_HA_AR | I14: 43598 | L14: =IF(ISNUMBER(Manquant[[#This Row],[Date de réapprovisionnement]]),Manquant[[#This Row],[Date de réapprovisionnement]],"") -> 43598 | M14: =IF(ISNUMBER(Manquant[[#This Row],[Date de réappro estimée]]),Manquant[[#This Row],[Date de réappro estimée]],"") | N14: =IF(Manquant[[#This Row],[DATE Réappro]]="",(IF(Manquant[[#This Row],[Date Estimée]]="","NO DATE",Manquant[[#This Row],[Date Estimée]])),Manquant[[#This Row],[DATE Réappro]]) -> 43598 | O14: =IF((VLOOKUP(Manquant[[#This Row],[Composé]],Planning!E:M,9,FALSE))=0,"",(VLOOKUP(Manquant[[#This Row],[Composé]],Planning!E:M,9,FALSE))) | P14: =IF(Manquant[[#This Row],[Besoin Client]]="","NO DATE CLIENT",(IF(Manquant[[#This Row],[DATE]]="NO DATE",TRUE,(IF(Manquant[[#This Row],[Besoin Client]]-Manquant[[#This Row],[DATE]]<25,TRUE,""))))) -> NO DATE CLIENT | Q14: =IF(ISTEXT(Manquant[[#This Row],[Date de réapprovisionnement]]),Manquant[[#This Row],[Date de réapprovisionnement]],"") | R14: =IF(ISTEXT(Manquant[[#This Row],[Date de réappro estimée]]),Manquant[[#This Row],[Date de réappro estimée]],"") | S14: =IF((Manquant[Commentaires]=""),"",Manquant[Commentaires]) | T14: =Manquant[Commentaires1]&CHAR(10)&Manquant[Commentaires2]&CHAR(10)&Manquant[Commentaires3]
A15: MKP9028378 | B15: Fadec HC | C15: 43600 | D15: 71245415 | F15: MKP9028418 | G15: EMB.CIR.806-022-ME-20-110P2CB GLENAIR | H15: CDE_HA_AR | I15: 43598 | L15: =IF(ISNUMBER(Manquant[[#This Row],[Date de réapprovisionnement]]),Manquant[[#This Row],[Date de réapprovisionnement]],"") -> 43598 | M15: =IF(ISNUMBER(Manquant[[#This Row],[Date de réappro estimée]]),Manquant[[#This Row],[Date de réappro estimée]],"") | N15: =IF(Manquant[[#This Row],[DATE Réappro]]="",(IF(Manquant[[#This Row],[Date Estimée]]="","NO DATE",Manquant[[#This Row],[Date Estimée]])),Manquant[[#This Row],[DATE Réappro]]) -> 43598 | O15: =IF((VLOOKUP(Manquant[[#This Row],[Composé]],Planning!E:M,9,FALSE))=0,"",(VLOOKUP(Manquant[[#This Row],[Composé]],Planning!E:M,9,FALSE))) | P15: =IF(Manquant[[#This Row],[Besoin Client]]="","NO DATE CLIENT",(IF(Manquant[[#This Row],[DATE]]="NO DATE",TRUE,(IF(Manquant[[#This Row],[Besoin Client]]-Manquant[[#This Row],[DATE]]<25,TRUE,""))))) -> NO DATE CLIENT | Q15: =IF(ISTEXT(Manquant[[#This Row],[Date de réapprovisionnement]]),Manquant[[#This Row],[Date de réapprovisionnement]],"") | R15: =IF(ISTEXT(Manquant[[#This Row],[Date de réappro estimée]]),Manquant[[#This Row],[Date de réappro estimée]],"") | S15: =IF((Manquant[Commentaires]=""),"",Manquant[Commentaires]) | T15: =Manquant[Commentaires1]&CHAR(10)&Manquant[Commentaires2]&CHAR(10)&Manquant[Commentaires3]
A16: MKP9028378 | B16: Fadec HC | C16: 43600 | D16: 71245415 | F16: MKP9028421 | G16: EMB.CIR.806-022-ME-14-39S2CA GLENAIR | H16: CDE_HA_AR | I16: 43598 | L16: =IF(ISNUMBER(Manquant[[#This Row],[Date de réapprovisionnement]]),Manquant[[#This Row],[Date de réapprovisionnement]],"") -> 43598 | M16: =IF(ISNUMBER(Manquant[[#This Row],[Date de réappro estimée]]),Manquant[[#This Row],[Date de réappro estimée]],"") | N16: =IF(Manquant[[#This Row],[DATE Réappro]]="",(IF(Manquant[[#This Row],[Date Estimée]]="","NO DATE",Manquant[[#This Row],[Date Estimée]])),Manquant[[#This Row],[DATE Réappro]]) -> 43598 | O16: =IF((VLOOKUP(Manquant[[#This Row],[Composé]],Planning!E:M,9,FALSE))=0,"",(VLOOKUP(Manquant[[#This Row],[Composé]],Planning!E:M,9,FALSE))) | P16: =IF(Manquant[[#This Row],[Besoin Client]]="","NO DATE CLIENT",(IF(Manquant[[#This Row],[DATE]]="NO DATE",TRUE,(IF(Manquant[[#This Row],[Besoin Client]]-Manquant[[#This Row],[DATE]]<25,TRUE,""))))) -> NO DATE CLIENT | Q16: =IF(ISTEXT(Manquant[[#This Row],[Date de réapprovisionnement]]),Manquant[[#This Row],[Date de réapprovisionnement]],"") | R16: =IF(ISTEXT(Manquant[[#This Row],[Date de réappro estimée]]),Manquant[[#This Row],[Date de réappro estimée]],"") | S16: =IF((Manquant[Commentaires]=""),"",Manquant[Commentaires]) | T16: =Manquant[Commentaires1]&CHAR(10)&Manquant[Commentaires2]&CHAR(10)&Manquant[Commentaires3]
A17: MKP9028378 | B17: Fadec HC | C17: 43600 | D17: 71245415 | F17: MKP9028801 | G17: INDUCT.CMS Coilcraft ML465PYA153MLZ | H17: CDE_HA_AR | I17: 43606 | L17: =IF(ISNUMBER(Manquant[[#This Row],[Date de réapprovisionnement]]),Manquant[[#This Row],[Date de réapprovisionnement]],"") -> 43606 | M17: =IF(ISNUMBER(Manquant[[#This Row],[Date de réappro estimée]]),Manquant[[#This Row],[Date de réappro estimée]],"") | N17: =IF(Manquant[[#This Row],[DATE Réappro]]="",(IF(Manquant[[#This Row],[Date Estimée]]="","NO DATE",Manquant[[#This Row],[Date Estimée]])),Manquant[[#This Row],[DATE Réappro]]) -> 43606 | O17: =IF((VLOOKUP(Manquant[[#This Row],[Composé]],Planning!E:M,9,FALSE))=0,"",(VLOOKUP(Manquant[[#This Row],[Composé]],Planning!E:M,9,FALSE))) | P17: =IF(Manquant[[#This Row],[Besoin Client]]="","NO DATE CLIENT",(IF(Manquant[[#This Row],[DATE]]="NO DATE",TRUE,(IF(Manquant[[#This Row],[Besoin Client]]-Manquant[[#This Row],[DATE]]<25,TRUE,""))))) -> NO DATE CLIENT | Q17: =IF(ISTEXT(Manquant[[#This Row],[Date de réapprovisionnement]]),Manquant[[#This Row],[Date de réapprovisionnement]],"") | R17: =IF(ISTEXT(Manquant[[#This Row],[Date de réappro estimée]]),Manquant[[#This Row],[Date de réappro estimée]],"") | S17: =IF((Manquant[Commentaires]=""),"",Manquant[Commentaires]) | T17: =Manquant[Commentaires1]&CHAR(10)&Manquant[Commentaires2]&CHAR(10)&Manquant[Commentaires3]
A18: MKP9028378 | B18: Fadec HC | C18: 43600 | D18: 71245415 | F18: MKP9028819 | G18: INDUCT.CMS Coilcraft ML524PYA302MLZ | H18: CDE_HA_AR | I18: 43606 | L18: =IF(ISNUMBER(Manquant[[#This Row],[Date de réapprovisionnement]]),Manquant[[#This Row],[Date de réapprovisionnement]],"") -> 43606 | M18: =IF(ISNUMBER(Manquant[[#This Row],[Date de réappro estimée]]),Manquant[[#This Row],[Date de réappro estimée]],"") | N18: =IF(Manquant[[#This Row],[DATE Réappro]]="",(IF(Manquant[[#This Row],[Date Estimée]]="","NO DATE",Manquant[[#This Row],[Date Estimée]])),Manquant[[#This Row],[DATE Réappro]]) -> 43606 | O18: =IF((VLOOKUP(Manquant[[#This Row],[Composé]],Planning!E:M,9,FALSE))=0,"",(VLOOKUP(Manquant[[#This Row],[Composé]],Planning!E:M,9,FALSE))) | P18: =IF(Manquant[[#This Row],[Besoin Client]]="","NO DATE CLIENT",(IF(Manquant[[#This Row],[DATE]]="NO DATE",TRUE,(IF(Manquant[[#This Row],[Besoin Client]]-Manquant[[#This Row],[DATE]]<25,TRUE,""))))) -> NO DATE CLIENT | Q18: =IF(ISTEXT(Manquant[[#This Row],[Date de réapprovisionnement]]),Manquant[[#This Row],[Date de réapprovisionnement]],"") | R18: =IF(ISTEXT(Manquant[[#This Row],[Date de réappro estimée]]),Manquant[[#This Row],[Date de réappro estimée]],"") | S18: =IF((Manquant[Commentaires]=""),"",Manquant[Commentaires]) | T18: =Manquant[Commentaires1]&CHAR(10)&Manquant[Commentaires2]&CHAR(10)&Manquant[Commentaires3]
A19: MKP9028378 | B19: Fadec HC | C19: 43600 | D19: 71245415 | F19: MKP9028822 | G19: INDUCT.CMS Coilcraft ML524PYA182MLZ | H19: CDE_HA_AR | I19: 43606 | L19: =IF(ISNUMBER(Manquant[[#This Row],[Date de réapprovisionnement]]),Manquant[[#This Row],[Date de réapprovisionnement]],"") -> 43606 | M19: =IF(ISNUMBER(Manquant[[#This Row],[Date de réappro estimée]]),Manquant[[#This Row],[Date de réappro estimée]],"") | N19: =IF(Manquant[[#This Row],[DATE Réappro]]="",(IF(Manquant[[#This Row],[Date Estimée]]="","NO DATE",Manquant[[#This Row],[Date Estimée]])),Manquant[[#This Row],[DATE Réappro]]) -> 43606 | O19: =IF((VLOOKUP(Manquant[[#This Row],[Composé]],Planning!E:M,9,FALSE))=0,"",(VLOOKUP(Manquant[[#This Row],[Composé]],Planning!E:M,9,FALSE))) | P19: =IF(Manquant[[#This Row],[Besoin Client]]="","NO DATE CLIENT",(IF(Manquant[[#This Row],[DATE]]="NO DATE",TRUE,(IF(Manquant[[#This Row],[Besoin Client]]-Manquant[[#This Row],[DATE]]<25,TRUE,""))))) -> NO DATE CLIENT | Q19: =IF(ISTEXT(Manquant[[#This Row],[Date de réapprovisionnement]]),Manquant[[#This Row],[Date de réapprovisionnement]],"") | R19: =IF(ISTEXT(Manquant[[#This Row],[Date de réappro estimée]]),Manquant[[#This Row],[Date de réappro estimée]],"") | S19: =IF((Manquant[Commentaires]=""),"",Manquant[Commentaires]) | T19: =Manquant[Commentaires1]&CHAR(10)&Manquant[Commentaires2]&CHAR(10)&Manquant[Commentaires3]
A20: MKP9028378 | B20: Fadec HC | C20: 43600 | D20: 71245415 | F20: MKP9028892 | G20: EMB.CIR.806-012-ME-18-85SMA GLENAIR | H20: CDE_HA_AR | I20: 43619 | L20: =IF(ISNUMBER(Manquant[[#This Row],[Date de réapprovisionnement]]),Manquant[[#This Row],[Date de réapprovisionnement]],"") -> 43619 | M20: =IF(ISNUMBER(Manquant[[#This Row],[Date de réappro estimée]]),Manquant[[#This Row],[Date de réappro estimée]],"") | N20: =IF(Manquant[[#This Row],[DATE Réappro]]="",(IF(Manquant[[#This Row],[Date Estimée]]="","NO DATE",Manquant[[#This Row],[Date Estimée]])),Manquant[[#This Row],[DATE Réappro]]) -> 43619 | O20: =IF((VLOOKUP(Manquant[[#This Row],[Composé]],Planning!E:M,9,FALSE))=0,"",(VLOOKUP(Manquant[[#This Row],[Composé]],Planning!E:M,9,FALSE))) | P20: =IF(Manquant[[#This Row],[Besoin Client]]="","NO DATE CLIENT",(IF(Manquant[[#This Row],[DATE]]="NO DATE",TRUE,(IF(Manquant[[#This Row],[Besoin Client]]-Manquant[[#This Row],[DATE]]<25,TRUE,""))))) -> NO DATE CLIENT | Q20: =IF(ISTEXT(Manquant[[#This Row],[Date de réapprovisionnement]]),Manquant[[#This Row],[Date de réapprovisionnement]],"") | R20: =IF(ISTEXT(Manquant[[#This Row],[Date de réappro estimée]]),Manquant[[#This Row],[Date de réappro estimée]],"") | S20: =IF((Manquant[Commentaires]=""),"",Manquant[Commentaires]) | T20: =Manquant[Commentaires1]&CHAR(10)&Manquant[Commentaires2]&CHAR(10)&Manquant[Commentaires3]
A21: MKP9028378 | B21: Fadec HC | C21: 43600 | D21: 71245415 | F21: MKP9028905 | G21: EMB.CIR.806-012-ME-18-85SMB GLENAIR | H21: CDE_HA_AR | I21: 43641 | L21: =IF(ISNUMBER(Manquant[[#This Row],[Date de réapprovisionnement]]),Manquant[[#This Row],[Date de réapprovisionnement]],"") -> 43641 | M21: =IF(ISNUMBER(Manquant[[#This Row],[Date de réappro estimée]]),Manquant[[#This Row],[Date de réappro estimée]],"") | N21: =IF(Manquant[[#This Row],[DATE Réappro]]="",(IF(Manquant[[#This Row],[Date Estimée]]="","NO DATE",Manquant[[#This Row],[Date Estimée]])),Manquant[[#This Row],[DATE Réappro]]) -> 43641 | O21: =IF((VLOOKUP(Manquant[[#This Row],[Composé]],Planning!E:M,9,FALSE))=0,"",(VLOOKUP(Manquant[[#This Row],[Composé]],Planning!E:M,9,FALSE))) | P21: =IF(Manquant[[#This Row],[Besoin Client]]="","NO DATE CLIENT",(IF(Manquant[[#This Row],[DATE]]="NO DATE",TRUE,(IF(Manquant[[#This Row],[Besoin Client]]-Manquant[[#This Row],[DATE]]<25,TRUE,""))))) -> NO DATE CLIENT | Q21: =IF(ISTEXT(Manquant[[#This Row],[Date de réapprovisionnement]]),Manquant[[#This Row],[Date de réapprovisionnement]],"") | R21: =IF(ISTEXT(Manquant[[#This Row],[Date de réappro estimée]]),Manquant[[#This Row],[Date de réappro estimée]],"") | S21: =IF((Manquant[Commentaires]=""),"",Manquant[Commentaires]) | T21: =Manquant[Commentaires1]&CHAR(10)&Manquant[Commentaires2]&CHAR(10)&Manquant[Commentaires3]
A22: MKP9028378 | B22: Fadec HC | C22: 43600 | D22: 71245415 | F22: MKP9028918 | G22: EMB.CIR.806-012-ME-20-110SMA GLENAIR | H22: CDE_HA_AR | I22: 43641 | L22: =IF(ISNUMBER(Manquant[[#This Row],[Date de réapprovisionnement]]),Manquant[[#This Row],[Date de réapprovisionnement]],"") -> 43641 | M22: =IF(ISNUMBER(Manquant[[#This Row],[Date de réappro estimée]]),Manquant[[#This Row],[Date de réappro estimée]],"") | N22: =IF(Manquant[[#This Row],[DATE Réappro]]="",(IF(Manquant[[#This Row],[Date Estimée]]="","NO DATE",Manquant[[#This Row],[Date Estimée]])),Manquant[[#This Row],[DATE Réappro]]) -> 43641 | O22: =IF((VLOOKUP(Manquant[[#This Row],[Composé]],Planning!E:M,9,FALSE))=0,"",(VLOOKUP(Manquant[[#This Row],[Composé]],Planning!E:M,9,FALSE))) | P22: =IF(Manquant[[#This Row],[Besoin Client]]="","NO DATE CLIENT",(IF(Manquant[[#This Row],[DATE]]="NO DATE",TRUE,(IF(Manquant[[#This Row],[Besoin Client]]-Manquant[[#This Row],[DATE]]<25,TRUE,""))))) -> NO DATE CLIENT | Q22: =IF(ISTEXT(Manquant[[#This Row],[Date de réapprovisionnement]]),Manquant[[#This Row],[Date de réapprovisionnement]],"") | R22: =IF(ISTEXT(Manquant[[#This Row],[Date de réappro estimée]]),Manquant[[#This Row],[Date de réappro estimée]],"") | S22: =IF((Manquant[Commentaires]=""),"",Manquant[Commentaires]) | T22: =Manquant[Commentaires1]&CHAR(10)&Manquant[Commentaires2]&CHAR(10)&Manquant[Commentaires3]
A23: MKP9028378 | B23: Fadec HC | C23: 43600 | D23: 71245415 | F23: MKP9028926 | G23: EMB.CIR.806-012-ME-20-110SMB GLENAIR | H23: CDE_HA_AR | I23: 43641 | L23: =IF(ISNUMBER(Manquant[[#This Row],[Date de réapprovisionnement]]),Manquant[[#This Row],[Date de réapprovisionnement]],"") -> 43641 | M23: =IF(ISNUMBER(Manquant[[#This Row],[Date de réappro estimée]]),Manquant[[#This Row],[Date de réappro estimée]],"") | N23: =IF(Manquant[[#This Row],[DATE Réappro]]="",(IF(Manquant[[#This Row],[Date Estimée]]="","NO DATE",Manquant[[#This Row],[Date Estimée]])),Manquant[[#This Row],[DATE Réappro]]) -> 43641 | O23: =IF((VLOOKUP(Manquant[[#This Row],[Composé]],Planning!E:M,9,FALSE))=0,"",(VLOOKUP(Manquant[[#This Row],[Composé]],Planning!E:M,9,FALSE))) | P23: =IF(Manquant[[#This Row],[Besoin Client]]="","NO DATE CLIENT",(IF(Manquant[[#This Row],[DATE]]="NO DATE",TRUE,(IF(Manquant[[#This Row],[Besoin Client]]-Manquant[[#This Row],[DATE]]<25,TRUE,""))))) -> NO DATE CLIENT | Q23: =IF(ISTEXT(Manquant[[#This Row],[Date de réapprovisionnement]]),Manquant[[#This Row],[Date de réapprovisionnement]],"") | R23: =IF(ISTEXT(Manquant[[#This Row],[Date de réappro estimée]]),Manquant[[#This Row],[Date de réappro estimée]],"") | S23: =IF((Manquant[Commentaires]=""),"",Manquant[Commentaires]) | T23: =Manquant[Commentaires1]&CHAR(10)&Manquant[Commentaires2]&CHAR(10)&Manquant[Commentaires3]
A24: MKP9028378 | B24: Fadec HC | C24: 43600 | D24: 71245415 | F24: MKP9028939 | G24: EMB.CIR.806-012-ME-14-39PMA GLENAIR | H24: CDE_HA_AR | I24: 43619 | L24: =IF(ISNUMBER(Manquant[[#This Row],[Date de réapprovisionnement]]),Manquant[[#This Row],[Date de réapprovisionnement]],"") -> 43619 | M24: =IF(ISNUMBER(Manquant[[#This Row],[Date de réappro estimée]]),Manquant[[#This Row],[Date de réappro estimée]],"") | N24: =IF(Manquant[[#This Row],[DATE Réappro]]="",(IF(Manquant[[#This Row],[Date Estimée]]="","NO DATE",Manquant[[#This Row],[Date Estimée]])),Manquant[[#This Row],[DATE Réappro]]) -> 43619 | O24: =IF((VLOOKUP(Manquant[[#This Row],[Composé]],Planning!E:M,9,FALSE))=0,"",(VLOOKUP(Manquant[[#This Row],[Composé]],Planning!E:M,9,FALSE))) | P24: =IF(Manquant[[#This Row],[Besoin Client]]="","NO DATE CLIENT",(IF(Manquant[[#This Row],[DATE]]="NO DATE",TRUE,(IF(Manquant[[#This Row],[Besoin Client]]-Manquant[[#This Row],[DATE]]<25,TRUE,""))))) -> NO DATE CLIENT | Q24: =IF(ISTEXT(Manquant[[#This Row],[Date de réapprovisionnement]]),Manquant[[#This Row],[Date de réapprovisionnement]],"") | R24: =IF(ISTEXT(Manquant[[#This Row],[Date de réappro estimée]]),Manquant[[#This Row],[Date de réappro estimée]],"") | S24: =IF((Manquant[Commentaires]=""),"",Manquant[Commentaires]) | T24: =Manquant[Commentaires1]&CHAR(10)&Manquant[Commentaires2]&CHAR(10)&Manquant[Commentaires3]
A25: MKP9028378 | B25: Fadec HC | C25: 43595 | D25: 71246411 | E25: 189203290-02 | F25: 189203282 | G25: RELAIS CENTIGRID CMS SERIE 114 2RT 26V | H25: CDE_HA_AR | I25: 43619 | L25: =IF(ISNUMBER(Manquant[[#This Row],[Date de réapprovisionnement]]),Manquant[[#This Row],[Date de réapprovisionnement]],"") -> 43619 | M25: =IF(ISNUMBER(Manquant[[#This Row],[Date de réappro estimée]]),Manquant[[#This Row],[Date de réappro estimée]],"") | N25: =IF(Manquant[[#This Row],[DATE Réappro]]="",(IF(Manquant[[#This Row],[Date Estimée]]="","NO DATE",Manquant[[#This Row],[Date Estimée]])),Manquant[[#This Row],[DATE Réappro]]) -> 43619 | O25: =IF((VLOOKUP(Manquant[[#This Row],[Composé]],Planning!E:M,9,FALSE))=0,"",(VLOOKUP(Manquant[[#This Row],[Composé]],Planning!E:M,9,FALSE))) | P25: =IF(Manquant[[#This Row],[Besoin Client]]="","NO DATE CLIENT",(IF(Manquant[[#This Row],[DATE]]="NO DATE",TRUE,(IF(Manquant[[#This Row],[Besoin Client]]-Manquant[[#This Row],[DATE]]<25,TRUE,""))))) -> NO DATE CLIENT | Q25: =IF(ISTEXT(Manquant[[#This Row],[Date de réapprovisionnement]]),Manquant[[#This Row],[Date de réapprovisionnement]],"") | R25: =IF(ISTEXT(Manquant[[#This Row],[Date de réappro estimée]]),Manquant[[#This Row],[Date de réappro estimée]],"") | S25: =IF((Manquant[Commentaires]=""),"",Manquant[Commentaires]) | T25: =Manquant[Commentaires1]&CHAR(10)&Manquant[Commentaires2]&CHAR(10)&Manquant[Commentaires3]
A26: MKP9028378 | B26: Fadec HC | C26: 43595 | D26: 71246411 | E26: 191724421-01 | F26: 191724413 | G26: IC CMS MRAM 256KX16 35NS TSOP44 SP | H26: CDE_HA_AR | I26: 43584 | L26: =IF(ISNUMBER(Manquant[[#This Row],[Date de réapprovisionnement]]),Manquant[[#This Row],[Date de réapprovisionnement]],"") -> 43584 | M26: =IF(ISNUMBER(Manquant[[#This Row],[Date de réappro estimée]]),Manquant[[#This Row],[Date de réappro estimée]],"") | N26: =IF(Manquant[[#This Row],[DATE Réappro]]="",(IF(Manquant[[#This Row],[Date Estimée]]="","NO DATE",Manquant[[#This Row],[Date Estimée]])),Manquant[[#This Row],[DATE Réappro]]) -> 43584 | O26: =IF((VLOOKUP(Manquant[[#This Row],[Composé]],Planning!E:M,9,FALSE))=0,"",(VLOOKUP(Manquant[[#This Row],[Composé]],Planning!E:M,9,FALSE))) | P26: =IF(Manquant[[#This Row],[Besoin Client]]="","NO DATE CLIENT",(IF(Manquant[[#This Row],[DATE]]="NO DATE",TRUE,(IF(Manquant[[#This Row],[Besoin Client]]-Manquant[[#This Row],[DATE]]<25,TRUE,""))))) -> NO DATE CLIENT | Q26: =IF(ISTEXT(Manquant[[#This Row],[Date de réapprovisionnement]]),Manquant[[#This Row],[Date de réapprovisionnement]],"") | R26: =IF(ISTEXT(Manquant[[#This Row],[Date de réappro estimée]]),Manquant[[#This Row],[Date de réappro estimée]],"") | S26: =IF((Manquant[Commentaires]=""),"",Manquant[Commentaires]) | T26: =Manquant[Commentaires1]&CHAR(10)&Manquant[Commentaires2]&CHAR(10)&Manquant[Commentaires3]
A27: MKP9028378 | B27: Fadec HC | C27: 43595 | D27: 71246411 | E27: 191724822-01 | F27: 191724801 | G27: IC.CMS ADUM3200 ISOLAT. 2 CHAN. SO8 SP | H27: CDE_HA_AR | I27: 43629 | L27: =IF(ISNUMBER(Manquant[[#This Row],[Date de réapprovisionnement]]),Manquant[[#This Row],[Date de réapprovisionnement]],"") -> 43629 | M27: =IF(ISNUMBER(Manquant[[#This Row],[Date de réappro estimée]]),Manquant[[#This Row],[Date de réappro estimée]],"") | N27: =IF(Manquant[[#This Row],[DATE Réappro]]="",(IF(Manquant[[#This Row],[Date Estimée]]="","NO DATE",Manquant[[#This Row],[Date Estimée]])),Manquant[[#This Row],[DATE Réappro]]) -> 43629 | O27: =IF((VLOOKUP(Manquant[[#This Row],[Composé]],Planning!E:M,9,FALSE))=0,"",(VLOOKUP(Manquant[[#This Row],[Composé]],Planning!E:M,9,FALSE))) | P27: =IF(Manquant[[#This Row],[Besoin Client]]="","NO DATE CLIENT",(IF(Manquant[[#This Row],[DATE]]="NO DATE",TRUE,(IF(Manquant[[#This Row],[Besoin Client]]-Manquant[[#This Row],[DATE]]<25,TRUE,""))))) -> NO DATE CLIENT | Q27: =IF(ISTEXT(Manquant[[#This Row],[Date de réapprovisionnement]]),Manquant[[#This Row],[Date de réapprovisionnement]],"") | R27: =IF(ISTEXT(Manquant[[#This Row],[Date de réappro estimée]]),Manquant[[#This Row],[Date de réappro estimée]],"") | S27: =IF((Manquant[Commentaires]=""),"",Manquant[Commentaires]) | T27: =Manquant[Commentaires1]&CHAR(10)&Manquant[Commentaires2]&CHAR(10)&Manquant[Commentaires3]
A28: MKP9028378 | B28: Fadec HC | C28: 43595 | D28: 71246411 | E28: 191736690-01 | F28: 191736637 | G28: TRANSFO CMS MB09904 SP | H28: CDE_HA | I28: Attente AR | J28: 43588 | K28: Commande retour en signature cause mauvais prix (26/04) | L28: =IF(ISNUMBER(Manquant[[#This Row],[Date de réapprovisionnement]]),Manquant[[#This Row],[Date de réapprovisionnement]],"") | M28: =IF(ISNUMBER(Manquant[[#This Row],[Date de réappro estimée]]),Manquant[[#This Row],[Date de réappro estimée]],"") -> 43588 | N28: =IF(Manquant[[#This Row],[DATE Réappro]]="",(IF(Manquant[[#This Row],[Date Estimée]]="","NO DATE",Manquant[[#This Row],[Date Estimée]])),Manquant[[#This Row],[DATE Réappro]]) -> 43588 | O28: =IF((VLOOKUP(Manquant[[#This Row],[Composé]],Planning!E:M,9,FALSE))=0,"",(VLOOKUP(Manquant[[#This Row],[Composé]],Planning!E:M,9,FALSE))) | P28: =IF(Manquant[[#This Row],[Besoin Client]]="","NO DATE CLIENT",(IF(Manquant[[#This Row],[DATE]]="NO DATE",TRUE,(IF(Manquant[[#This Row],[Besoin Client]]-Manquant[[#This Row],[DATE]]<25,TRUE,""))))) -> NO DATE CLIENT | Q28: =IF(ISTEXT(Manquant[[#This Row],[Date de réapprovisionnement]]),Manquant[[#This Row],[Date de réapprovisionnement]],"") -> Attente AR | R28: =IF(ISTEXT(Manquant[[#This Row],[Date de réappro estimée]]),Manquant[[#This Row],[Date de réappro estimée]],"") | S28: =IF((Manquant[Commentaires]=""),"",Manquant[Commentaires]) -> Commande retour en signature cause mauvais prix (26/04) | T28: =Manquant[Commentaires1]&CHAR(10)&Manquant[Commentaires2]&CHAR(10)&Manquant[Commentaires3] -> Attente AR Commande retour en signature cause mauvais prix (26/04)
A29: MKP9028378 | B29: Fadec HC | C29: 43601 | D29: 71246411 | E29: 193089573-01 | F29: 193089560 | G29: IC.CMS IGLOO2 FLASH FPGA 256KB FBGA484 | H29: CDE_HA_AR | I29: 43584 | L29: =IF(ISNUMBER(Manquant[[#This Row],[Date de réapprovisionnement]]),Manquant[[#This Row],[Date de réapprovisionnement]],"") -> 43584 | M29: =IF(ISNUMBER(Manquant[[#This Row],[Date de réappro estimée]]),Manquant[[#This Row],[Date de réappro estimée]],"") | N29: =IF(Manquant[[#This Row],[DATE Réappro]]="",(IF(Manquant[[#This Row],[Date Estimée]]="","NO DATE",Manquant[[#This Row],[Date Estimée]])),Manquant[[#This Row],[DATE Réappro]]) -> 43584 | O29: =IF((VLOOKUP(Manquant[[#This Row],[Composé]],Planning!E:M,9,FALSE))=0,"",(VLOOKUP(Manquant[[#This Row],[Composé]],Planning!E:M,9,FALSE))) | P29: =IF(Manquant[[#This Row],[Besoin Client]]="","NO DATE CLIENT",(IF(Manquant[[#This Row],[DATE]]="NO DATE",TRUE,(IF(Manquant[[#This Row],[Besoin Client]]-Manquant[[#This Row],[DATE]]<25,TRUE,""))))) -> NO DATE CLIENT | Q29: =IF(ISTEXT(Manquant[[#This Row],[Date de réapprovisionnement]]),Manquant[[#This Row],[Date de réapprovisionnement]],"") | R29: =IF(ISTEXT(Manquant[[#This Row],[Date de réappro estimée]]),Manquant[[#This Row],[Date de réappro estimée]],"") | S29: =IF((Manquant[Commentaires]=""),"",Manquant[Commentaires]) | T29: =Manquant[Commentaires1]&CHAR(10)&Manquant[Commentaires2]&CHAR(10)&Manquant[Commentaires3]
A30: MKP9028378 | B30: Fadec HC | C30: 43595 | D30: 71246411 | E30: 192877289-02 | F30: 193293453 | G30: IC.CMS SDRAM 128MX16 FBGA-96 SP | H30: CDE_HA_AR | I30: 43600 | L30: =IF(ISNUMBER(Manquant[[#This Row],[Date de réapprovisionnement]]),Manquant[[#This Row],[Date de réapprovisionnement]],"") -> 43600 | M30: =IF(ISNUMBER(Manquant[[#This Row],[Date de réappro estimée]]),Manquant[[#This Row],[Date de réappro estimée]],"") | N30: =IF(Manquant[[#This Row],[DATE Réappro]]="",(IF(Manquant[[#This Row],[Date Estimée]]="","NO DATE",Manquant[[#This Row],[Date Estimée]])),Manquant[[#This Row],[DATE Réappro]]) -> 43600 | O30: =IF((VLOOKUP(Manquant[[#This Row],[Composé]],Planning!E:M,9,FALSE))=0,"",(VLOOKUP(Manquant[[#This Row],[Composé]],Planning!E:M,9,FALSE))) | P30: =IF(Manquant[[#This Row],[Besoin Client]]="","NO DATE CLIENT",(IF(Manquant[[#This Row],[DATE]]="NO DATE",TRUE,(IF(Manquant[[#This Row],[Besoin Client]]-Manquant[[#This Row],[DATE]]<25,TRUE,""))))) -> NO DATE CLIENT | Q30: =IF(ISTEXT(Manquant[[#This Row],[Date de réapprovisionnement]]),Manquant[[#This Row],[Date de réapprovisionnement]],"") | R30: =IF(ISTEXT(Manquant[[#This Row],[Date de réappro estimée]]),Manquant[[#This Row],[Date de réappro estimée]],"") | S30: =IF((Manquant[Commentaires]=""),"",Manquant[Commentaires]) | T30: =Manquant[Commentaires1]&CHAR(10)&Manquant[Commentaires2]&CHAR(10)&Manquant[Commentaires3]
A31: MKP9028378 | B31: Fadec HC | C31: 43601 | D31: 71246411 | F31: 193384733MKP | G31: IC.CMS MICROPROC.1,4GHZ FC-PBGA780 SP | H31: CDE_HA | I31: Attente AR | J31: 43610 | K31: Commande Mouser / attente réception end user vierge | L31: =IF(ISNUMBER(Manquant[[#This Row],[Date de réapprovisionnement]]),Manquant[[#This Row],[Date de réapprovisionnement]],"") | M31: =IF(ISNUMBER(Manquant[[#This Row],[Date de réappro estimée]]),Manquant[[#This Row],[Date de réappro estimée]],"") -> 43610 | N31: =IF(Manquant[[#This Row],[DATE Réappro]]="",(IF(Manquant[[#This Row],[Date Estimée]]="","NO DATE",Manquant[[#This Row],[Date Estimée]])),Manquant[[#This Row],[DATE Réappro]]) -> 43610 | O31: =IF((VLOOKUP(Manquant[[#This Row],[Composé]],Planning!E:M,9,FALSE))=0,"",(VLOOKUP(Manquant[[#This Row],[Composé]],Planning!E:M,9,FALSE))) | P31: =IF(Manquant[[#This Row],[Besoin Client]]="","NO DATE CLIENT",(IF(Manquant[[#This Row],[DATE]]="NO DATE",TRUE,(IF(Manquant[[#This Row],[Besoin Client]]-Manquant[[#This Row],[DATE]]<25,TRUE,""))))) -> NO DATE CLIENT | Q31: =IF(ISTEXT(Manquant[[#This Row],[Date de réapprovisionnement]]),Manquant[[#This Row],[Date de réapprovisionnement]],"") -> Attente AR | R31: =IF(ISTEXT(Manquant[[#This Row],[Date de réappro estimée]]),Manquant[[#This Row],[Date de réappro estimée]],"") | S31: =IF((Manquant[Commentaires]=""),"",Manquant[Commentaires]) -> Commande Mouser / attente réception end user vierge | T31: =Manquant[Commentaires1]&CHAR(10)&Manquant[Commentaires2]&CHAR(10)&Manquant[Commentaires3] -> Attente AR Commande Mouser / attente réception end user vierge
A32: MKP9028378 | B32: Fadec HC | C32: 43595 | D32: 71246411 | E32: 193560664-01 | F32: 193560651 | G32: IC.CMS POLARFIRE FPGA MPF300 FCVG484 SP | H32: CDE_HA_AR | I32: 43584 | L32: =IF(ISNUMBER(Manquant[[#This Row],[Date de réapprovisionnement]]),Manquant[[#This Row],[Date de réapprovisionnement]],"") -> 43584 | M32: =IF(ISNUMBER(Manquant[[#This Row],[Date de réappro estimée]]),Manquant[[#This Row],[Date de réappro estimée]],"") | N32: =IF(Manquant[[#This Row],[DATE Réappro]]="",(IF(Manquant[[#This Row],[Date Estimée]]="","NO DATE",Manquant[[#This Row],[Date Estimée]])),Manquant[[#This Row],[DATE Réappro]]) -> 43584 | O32: =IF((VLOOKUP(Manquant[[#This Row],[Composé]],Planning!E:M,9,FALSE))=0,"",(VLOOKUP(Manquant[[#This Row],[Composé]],Planning!E:M,9,FALSE))) | P32: =IF(Manquant[[#This Row],[Besoin Client]]="","NO DATE CLIENT",(IF(Manquant[[#This Row],[DATE]]="NO DATE",TRUE,(IF(Manquant[[#This Row],[Besoin Client]]-Manquant[[#This Row],[DATE]]<25,TRUE,""))))) -> NO DATE CLIENT | Q32: =IF(ISTEXT(Manquant[[#This Row],[Date de réapprovisionnement]]),Manquant[[#This Row],[Date de réapprovisionnement]],"") | R32: =IF(ISTEXT(Manquant[[#This Row],[Date de réappro estimée]]),Manquant[[#This Row],[Date de réappro estimée]],"") | S32: =IF((Manquant[Commentaires]=""),"",Manquant[Commentaires]) | T32: =Manquant[Commentaires1]&CHAR(10)&Manquant[Commentaires2]&CHAR(10)&Manquant[Commentaires3]
A33: MKP9028378 | B33: Fadec HC | C33: 43601 | D33: 71246411 | F33: MKP9028380 | G33: EMB.CIR.806-022-ME-18-85P2CA GLENAIR | H33: CDE_HA_AR | I33: 43598 | L33: =IF(ISNUMBER(Manquant[[#This Row],[Date de réapprovisionnement]]),Manquant[[#This Row],[Date de réapprovisionnement]],"") -> 43598 | M33: =IF(ISNUMBER(Manquant[[#This Row],[Date de réappro estimée]]),Manquant[[#This Row],[Date de réappro estimée]],"") | N33: =IF(Manquant[[#This Row],[DATE Réappro]]="",(IF(Manquant[[#This Row],[Date Estimée]]="","NO DATE",Manquant[[#This Row],[Date Estimée]])),Manquant[[#This Row],[DATE Réappro]]) -> 43598 | O33: =IF((VLOOKUP(Manquant[[#This Row],[Composé]],Planning!E:M,9,FALSE))=0,"",(VLOOKUP(Manquant[[#This Row],[Composé]],Planning!E:M,9,FALSE))) | P33: =IF(Manquant[[#This Row],[Besoin Client]]="","NO DATE CLIENT",(IF(Manquant[[#This Row],[DATE]]="NO DATE",TRUE,(IF(Manquant[[#This Row],[Besoin Client]]-Manquant[[#This Row],[DATE]]<25,TRUE,""))))) -> NO DATE CLIENT | Q33: =IF(ISTEXT(Manquant[[#This Row],[Date de réapprovisionnement]]),Manquant[[#This Row],[Date de réapprovisionnement]],"") | R33: =IF(ISTEXT(Manquant[[#This Row],[Date de réappro estimée]]),Manquant[[#This Row],[Date de réappro estimée]],"") | S33: =IF((Manquant[Commentaires]=""),"",Manquant[Commentaires]) | T33: =Manquant[Commentaires1]&CHAR(10)&Manquant[Commentaires2]&CHAR(10)&Manquant[Commentaires3]
A34: MKP9028378 | B34: Fadec HC | C34: 43601 | D34: 71246411 | F34: MKP9028398 | G34: EMB.CIR.806-022-ME-18-85P2CB GLENAIR | H34: CDE_HA_AR | I34: 43598 | L34: =IF(ISNUMBER(Manquant[[#This Row],[Date de réapprovisionnement]]),Manquant[[#This Row],[Date de réapprovisionnement]],"") -> 43598 | M34: =IF(ISNUMBER(Manquant[[#This Row],[Date de réappro estimée]]),Manquant[[#This Row],[Date de réappro estimée]],"") | N34: =IF(Manquant[[#This Row],[DATE Réappro]]="",(IF(Manquant[[#This Row],[Date Estimée]]="","NO DATE",Manquant[[#This Row],[Date Estimée]])),Manquant[[#This Row],[DATE Réappro]]) -> 43598 | O34: =IF((VLOOKUP(Manquant[[#This Row],[Composé]],Planning!E:M,9,FALSE))=0,"",(VLOOKUP(Manquant[[#This Row],[Composé]],Planning!E:M,9,FALSE))) | P34: =IF(Manquant[[#This Row],[Besoin Client]]="","NO DATE CLIENT",(IF(Manquant[[#This Row],[DATE]]="NO DATE",TRUE,(IF(Manquant[[#This Row],[Besoin Client]]-Manquant[[#This Row],[DATE]]<25,TRUE,""))))) -> NO DATE CLIENT | Q34: =IF(ISTEXT(Manquant[[#This Row],[Date de réapprovisionnement]]),Manquant[[#This Row],[Date de réapprovisionnement]],"") | R34: =IF(ISTEXT(Manquant[[#This Row],[Date de réappro estimée]]),Manquant[[#This Row],[Date de réappro estimée]],"") | S34: =IF((Manquant[Commentaires]=""),"",Manquant[Commentaires]) | T34: =Manquant[Commentaires1]&CHAR(10)&Manquant[Commentaires2]&CHAR(10)&Manquant[Commentaires3]
A35: MKP9028378 | B35: Fadec HC | C35: 43601 | D35: 71246411 | F35: MKP9028400 | G35: EMB.CIR.806-022-ME-20-110P2CA GLENAIR | H35: CDE_HA_AR | I35: 43598 | L35: =IF(ISNUMBER(Manquant[[#This Row],[Date de réapprovisionnement]]),Manquant[[#This Row],[Date de réapprovisionnement]],"") -> 43598 | M35: =IF(ISNUMBER(Manquant[[#This Row],[Date de réappro estimée]]),Manquant[[#This Row],[Date de réappro estimée]],"") | N35: =IF(Manquant[[#This Row],[DATE Réappro]]="",(IF(Manquant[[#This Row],[Date Estimée]]="","NO DATE",Manquant[[#This Row],[Date Estimée]])),Manquant[[#This Row],[DATE Réappro]]) -> 43598 | O35: =IF((VLOOKUP(Manquant[[#This Row],[Composé]],Planning!E:M,9,FALSE))=0,"",(VLOOKUP(Manquant[[#This Row],[Composé]],Planning!E:M,9,FALSE))) | P35: =IF(Manquant[[#This Row],[Besoin Client]]="","NO DATE CLIENT",(IF(Manquant[[#This Row],[DATE]]="NO DATE",TRUE,(IF(Manquant[[#This Row],[Besoin Client]]-Manquant[[#This Row],[DATE]]<25,TRUE,""))))) -> NO DATE CLIENT | Q35: =IF(ISTEXT(Manquant[[#This Row],[Date de réapprovisionnement]]),Manquant[[#This Row],[Date de réapprovisionnement]],"") | R35: =IF(ISTEXT(Manquant[[#This Row],[Date de réappro estimée]]),Manquant[[#This Row],[Date de réappro estimée]],"") | S35: =IF((Manquant[Commentaires]=""),"",Manquant[Commentaires]) | T35: =Manquant[Commentaires1]&CHAR(10)&Manquant[Commentaires2]&CHAR(10)&Manquant[Commentaires3]
A36: MKP9028378 | B36: Fadec HC | C36: 43601 | D36: 71246411 | F36: MKP9028418 | G36: EMB.CIR.806-022-ME-20-110P2CB GLENAIR | H36: CDE_HA_AR | I36: 43598 | L36: =IF(ISNUMBER(Manquant[[#This Row],[Date de réapprovisionnement]]),Manquant[[#This Row],[Date de réapprovisionnement]],"") -> 43598 | M36: =IF(ISNUMBER(Manquant[[#This Row],[Date de réappro estimée]]),Manquant[[#This Row],[Date de réappro estimée]],"") | N36: =IF(Manquant[[#This Row],[DATE Réappro]]="",(IF(Manquant[[#This Row],[Date Estimée]]="","NO DATE",Manquant[[#This Row],[Date Estimée]])),Manquant[[#This Row],[DATE Réappro]]) -> 43598 | O36: =IF((VLOOKUP(Manquant[[#This Row],[Composé]],Planning!E:M,9,FALSE))=0,"",(VLOOKUP(Manquant[[#This Row],[Composé]],Planning!E:M,9,FALSE))) | P36: =IF(Manquant[[#This Row],[Besoin Client]]="","NO DATE CLIENT",(IF(Manquant[[#This Row],[DATE]]="NO DATE",TRUE,(IF(Manquant[[#This Row],[Besoin Client]]-Manquant[[#This Row],[DATE]]<25,TRUE,""))))) -> NO DATE CLIENT | Q36: =IF(ISTEXT(Manquant[[#This Row],[Date de réapprovisionnement]]),Manquant[[#This Row],[Date de réapprovisionnement]],"") | R36: =IF(ISTEXT(Manquant[[#This Row],[Date de réappro estimée]]),Manquant[[#This Row],[Date de réappro estimée]],"") | S36: =IF((Manquant[Commentaires]=""),"",Manquant[Commentaires]) | T36: =Manquant[Commentaires1]&CHAR(10)&Manquant[Commentaires2]&CHAR(10)&Manquant[Commentaires3]
A37: MKP9028378 | B37: Fadec HC | C37: 43601 | D37: 71246411 | F37: MKP9028421 | G37: EMB.CIR.806-022-ME-14-39S2CA GLENAIR | H37: CDE_HA_AR | I37: 43598 | L37: =IF(ISNUMBER(Manquant[[#This Row],[Date de réapprovisionnement]]),Manquant[[#This Row],[Date de réapprovisionnement]],"") -> 43598 | M37: =IF(ISNUMBER(Manquant[[#This Row],[Date de réappro estimée]]),Manquant[[#This Row],[Date de réappro estimée]],"") | N37: =IF(Manquant[[#This Row],[DATE Réappro]]="",(IF(Manquant[[#This Row],[Date Estimée]]="","NO DATE",Manquant[[#This Row],[Date Estimée]])),Manquant[[#This Row],[DATE Réappro]]) -> 43598 | O37: =IF((VLOOKUP(Manquant[[#This Row],[Composé]],Planning!E:M,9,FALSE))=0,"",(VLOOKUP(Manquant[[#This Row],[Composé]],Planning!E:M,9,FALSE))) | P37: =IF(Manquant[[#This Row],[Besoin Client]]="","NO DATE CLIENT",(IF(Manquant[[#This Row],[DATE]]="NO DATE",TRUE,(IF(Manquant[[#This Row],[Besoin Client]]-Manquant[[#This Row],[DATE]]<25,TRUE,""))))) -> NO DATE CLIENT | Q37: =IF(ISTEXT(Manquant[[#This Row],[Date de réapprovisionnement]]),Manquant[[#This Row],[Date de réapprovisionnement]],"") | R37: =IF(ISTEXT(Manquant[[#This Row],[Date de réappro estimée]]),Manquant[[#This Row],[Date de réappro estimée]],"") | S37: =IF((Manquant[Commentaires]=""),"",Manquant[Commentaires]) | T37: =Manquant[Commentaires1]&CHAR(10)&Manquant[Commentaires2]&CHAR(10)&Manquant[Commentaires3]
A38: MKP9028378 | B38: Fadec HC | C38: 43601 | D38: 71246411 | F38: MKP9028801 | G38: INDUCT.CMS Coilcraft ML465PYA153MLZ | H38: CDE_HA_AR | I38: 43606 | L38: =IF(ISNUMBER(Manquant[[#This Row],[Date de réapprovisionnement]]),Manquant[[#This Row],[Date de réapprovisionnement]],"") -> 43606 | M38: =IF(ISNUMBER(Manquant[[#This Row],[Date de réappro estimée]]),Manquant[[#This Row],[Date de réappro estimée]],"") | N38: =IF(Manquant[[#This Row],[DATE Réappro]]="",(IF(Manquant[[#This Row],[Date Estimée]]="","NO DATE",Manquant[[#This Row],[Date Estimée]])),Manquant[[#This Row],[DATE Réappro]]) -> 43606 | O38: =IF((VLOOKUP(Manquant[[#This Row],[Composé]],Planning!E:M,9,FALSE))=0,"",(VLOOKUP(Manquant[[#This Row],[Composé]],Planning!E:M,9,FALSE))) | P38: =IF(Manquant[[#This Row],[Besoin Client]]="","NO DATE CLIENT",(IF(Manquant[[#This Row],[DATE]]="NO DATE",TRUE,(IF(Manquant[[#This Row],[Besoin Client]]-Manquant[[#This Row],[DATE]]<25,TRUE,""))))) -> NO DATE CLIENT | Q38: =IF(ISTEXT(Manquant[[#This Row],[Date de réapprovisionnement]]),Manquant[[#This Row],[Date de réapprovisionnement]],"") | R38: =IF(ISTEXT(Manquant[[#This Row],[Date de réappro estimée]]),Manquant[[#This Row],[Date de réappro estimée]],"") | S38: =IF((Manquant[Commentaires]=""),"",Manquant[Commentaires]) | T38: =Manquant[Commentaires1]&CHAR(10)&Manquant[Commentaires2]&CHAR(10)&Manquant[Commentaires3]
A39: MKP9028378 | B39: Fadec HC | C39: 43601 | D39: 71246411 | F39: MKP9028819 | G39: INDUCT.CMS Coilcraft ML524PYA302MLZ | H39: CDE_HA_AR | I39: 43606 | L39: =IF(ISNUMBER(Manquant[[#This Row],[Date de réapprovisionnement]]),Manquant[[#This Row],[Date de réapprovisionnement]],"") -> 43606 | M39: =IF(ISNUMBER(Manquant[[#This Row],[Date de réappro estimée]]),Manquant[[#This Row],[Date de réappro estimée]],"") | N39: =IF(Manquant[[#This Row],[DATE Réappro]]="",(IF(Manquant[[#This Row],[Date Estimée]]="","NO DATE",Manquant[[#This Row],[Date Estimée]])),Manquant[[#This Row],[DATE Réappro]]) -> 43606 | O39: =IF((VLOOKUP(Manquant[[#This Row],[Composé]],Planning!E:M,9,FALSE))=0,"",(VLOOKUP(Manquant[[#This Row],[Composé]],Planning!E:M,9,FALSE))) | P39: =IF(Manquant[[#This Row],[Besoin Client]]="","NO DATE CLIENT",(IF(Manquant[[#This Row],[DATE]]="NO DATE",TRUE,(IF(Manquant[[#This Row],[Besoin Client]]-Manquant[[#This Row],[DATE]]<25,TRUE,""))))) -> NO DATE CLIENT | Q39: =IF(ISTEXT(Manquant[[#This Row],[Date de réapprovisionnement]]),Manquant[[#This Row],[Date de réapprovisionnement]],"") | R39: =IF(ISTEXT(Manquant[[#This Row],[Date de réappro estimée]]),Manquant[[#This Row],[Date de réappro estimée]],"") | S39: =IF((Manquant[Commentaires]=""),"",Manquant[Commentaires]) | T39: =Manquant[Commentaires1]&CHAR(10)&Manquant[Commentaires2]&CHAR(10)&Manquant[Commentaires3]
A40: MKP9028378 | B40: Fadec HC | C40: 43601 | D40: 71246411 | F40: MKP9028822 | G40: INDUCT.CMS Coilcraft ML524PYA182MLZ | H40: CDE_HA_AR | I40: 43606 | L40: =IF(ISNUMBER(Manquant[[#This Row],[Date de réapprovisionnement]]),Manquant[[#This Row],[Date de réapprovisionnement]],"") -> 43606 | M40: =IF(ISNUMBER(Manquant[[#This Row],[Date de réappro estimée]]),Manquant[[#This Row],[Date de réappro estimée]],"") | N40: =IF(Manquant[[#This Row],[DATE Réappro]]="",(IF(Manquant[[#This Row],[Date Estimée]]="","NO DATE",Manquant[[#This Row],[Date Estimée]])),Manquant[[#This Row],[DATE Réappro]]) -> 43606 | O40: =IF((VLOOKUP(Manquant[[#This Row],[Composé]],Planning!E:M,9,FALSE))=0,"",(VLOOKUP(Manquant[[#This Row],[Composé]],Planning!E:M,9,FALSE))) | P40: =IF(Manquant[[#This Row],[Besoin Client]]="","NO DATE CLIENT",(IF(Manquant[[#This Row],[DATE]]="NO DATE",TRUE,(IF(Manquant[[#This Row],[Besoin Client]]-Manquant[[#This Row],[DATE]]<25,TRUE,""))))) -> NO DATE CLIENT | Q40: =IF(ISTEXT(Manquant[[#This Row],[Date de réapprovisionnement]]),Manquant[[#This Row],[Date de réapprovisionnement]],"") | R40: =IF(ISTEXT(Manquant[[#This Row],[Date de réappro estimée]]),Manquant[[#This Row],[Date de réappro estimée]],"") | S40: =IF((Manquant[Commentaires]=""),"",Manquant[Commentaires]) | T40: =Manquant[Commentaires1]&CHAR(10)&Manquant[Commentaires2]&CHAR(10)&Manquant[Commentaires3]
...

Sheet Planning
A1: N° affaire | B1: Statut DD GITIS | C1: Projet | D1: N° RUN | E1: Référence | F1: Désignation | G1: Qté | H1: Profil de Four | I1: RoHS Plomb | J1: OF | K1: Statut ADV | L1: Préparateur | M1: Date besoin client
A2: 1093 | B2: 20 | C2: HORUS | D2: 1 | E2: 263323186MKP | F2: Bloc fond Press-fit | G2: 1 | I2: Calculateur | K2: En cours | L2: JGC
A3: 1306 | B3: 22 | C3: PASEO XLR | E3: 263430816MKP | F3: CIE MB_FSP_XLR | G3: 9 | H3: 1 | I3: RoHS | J3: 71200401 | K3: Soldé | L3: JH
A4: 1307 | B4: 22 | C4: PASEO XLR | E4: 263427525MKP | F4: CIE BKP_XLR | G4: 7 | H4: 1 | I4: RoHS | J4: 71200491 | K4: Soldé | L4: JH
A5: 1326 | B5: 20 | C5: CV GAN HF | E5: 263252585MKP | F5: CIE R&T ONDULEUR 3 NIVEAUX 3KW | G5: 3 | H5: 0 | I5: Plomb | J5: 71198078 | K5: Soldé | L5: JH
A6: 1327 | B6: 22 | C6: MISTRAL2 | E6: 263049722MKP | F6: CIE Outillage ASCII (Pour réparation) | G6: 2 | K6: Soldé | L6: JH
A7: 1334 | B7: 20 | C7: CoRoNu | D7: 1 | E7: 263501136MKP | F7: CIE POWER CORONU | G7: 4 | H7: 0 | I7: Plomb | J7: 71203430 | K7: En cours | L7: JGC
A8: 1335 | B8: 20 | C8: CoRoNu | D8: 1 | E8: 263475964MKP | F8: CIE_FPGA_Board_KINTEX7_XC7K160 | G8: 4 | H8: 0 | I8: Plomb | J8: 71203427 | K8: En cours | L8: JGC
A9: 1338 | B9: 22 | C9: BGS4G V3 | E9: 263504447MKP | F9: CIE MB_ECU_V3 | G9: 4 | H9: 1 | I9: RoHS | J9: 71208975 | K9: CR à réaliser | L9: JH
A10: 1342 | B10: 22 | C10: PASEO XLR | E10: 263479892MKP | F10: CIE PRO_TV-000 | G10: 5 | H10: 1 | I10: RoHS | J10: 71208445 | K10: En cours | L10: JH
A11: 1347 | B11: 22 | C11: PASEO XLR | E11: 263514394MKP | F11: CIE MB_FSP_XLR-TST | G11: 3 | H11: 1 | I11: RoHS | J11: 71214672 | K11: Soldé | L11: JH
A12: 1358 | B12: 22 | C12: BOMR F/3 HD | E12: 263520558MKP | F12: CIE CODLIN_HD_STEP_A | G12: 14 | H12: 1 | I12: Rohs | J12: 71218346 | K12: Soldé | L12: JH
A13: 1359 | B13: 22 | C13: CMM V3 | D13: 2 | E13: 262710786MKP | F13: CIE CMM Fille | G13: 6 | H13: 0 | I13: Plomb | J13: 71219945 | K13: Soldé | L13: JGC
A14: 1367 | B14: 22 | C14: BGS4G | D14: 7 | E14: 262793181MKP | F14: CIE MB_FSP SERIE | G14: 1 | H14: 0 | I14: RoHS | J14: 71241851 | K14: Soldé | L14: JGC
A15: 1368 | B15: 23 | C15: BGS4G | D15: 2 | E15: 262745185MKP | F15: CIE FSP_U060 | G15: 1 | H15: 0 | I15: RoHS | J15: 71243200 | K15: Soldé | L15: RL
A16: 1371 | B16: 22 | C16: BGS4G | E16: 263552456MKP | F16: CIE SELF_28VSPU_V2 | G16: 10 | H16: 0 | I16: RoHS | J16: 71228700 | K16: Soldé | L16: RL
A17: 1372 | B17: 22 | C17: BGS4G | E17: 263552464MKP | F17: CIE SELF_28VLAS_V2 | G17: 10 | H17: 0 | I17: RoHS | J17: 71228353 | K17: Soldé | L17: RL
A18: 1373 | B18: 22 | C18: PASEO_V4 | D18: 2 | E18: 263351560MKP | F18: CIE W9_PROX-D_PASEO_IR_HD | G18: 30 | H18: 0 | I18: RoHS | J18: 71228704 | K18: Soldé | L18: RL
A19: 1376 | B19: 22 | C19: P14 | E19: 263059603MKP | F19: CARTE CC MDD9 (Plot décapé) | G19: 5 | H19: 0 | I19: plomb | J19: 71233251 | K19: Soldé | L19: RL
A20: 1377 | B20: 22 | C20: BGS4G | E20: 262935309MKP | F20: CIE PROX-NUM-B | G20: 6 | H20: 0 | I20: Rohs | J20: 71235553 | K20: Soldé | L20: RL
A21: 1378 | B21: 22 | C21: AASM B4 | D21: 1 | E21: 263543217MKP | F21: CIE_FLEX_BDC_B4 | G21: 10 | H21: 0 | I21: Rohs | J21: 71234282 | K21: En cours | L21: RL
A22: 1379 | B22: 22 | C22: AASM B4 | E22: 263543262MKP | F22: CIE_FLEX_PAL_B4 | G22: 10 | H22: 0 | I22: Rohs | J22: 71234984 | K22: CR à réaliser | L22: RL
A23: 1383 | B23: 24 | C23: SYCOMORE | E23: 261772211MKP | F23: C.I.E. PREAMPLI GRH CRISTAL V5.3 BLINDE | G23: 24 | H23: 0 | I23: Plomb | J23: 71241000 | K23: Soldé | L23: RL
A24: 1384 | B24: 22 | C24: SYCOMORE | E24: 263414119MKP | F24: CIE FRONT_END_MULTICAP(Pour reprise) | G24: 2 | H24: 0 | I24: RoHS | K24: Soldé | L24: JGC
A25: 1385 | B25: 22 | C25: PASEO XLR | E25: 263544425MKP | F25: CIE FLEX_W1_PASEO_XLR | G25: 8 | H25: 1 | I25: RoHS | J25: 71243643 | K25: Soldé | L25: JH
A26: 1386 | B26: 22 | C26: BGS4G | D26: 4 | E26: 262578985MKP | F26: CIE MB_FSP | G26: 1 | H26: 0 | I26: RoHS | J26: 71241807 | K26: Soldé | L26: JGC
A27: 1387 | B27: 21 | C27: ETMCU | D27: 1 | E27: 263527705MKP | F27: CIE ETCU_CONTROL | G27: 10 | H27: 1 | I27: RoHS | J27: 71246998 | K27: En cours | L27: JGC
A28: 1388 | B28: 22 | C28: ETMCU | D28: 1 | E28: 263527797MKP | F28: CIE ETCU_INTERCO | G28: 4 | H28: 1 | I28: RoHS | J28: 71255811 | K28: En cours | L28: JGC
A29: 1389 | B29: 21 | C29: ETMCU | D29: 2 | E29: 263527705MKP | F29: CIE ETCU_CONTROL | G29: 33 | H29: 0 | I29: RoHS | J29: 71246999 | K29: En cours | L29: JGC
A30: 1390 | B30: 22 | C30: ETMCU | D30: 2 | E30: 263527797MKP | F30: CIE ETCU_INTERCO | G30: 14 | H30: 0 | I30: RoHS | J30: 71255812 | K30: En cours | L30: JGC
