Workbook

Sheet SOURCE EORD
A1: Mdt | B1: Article | C1: Div. | D1: Nº | E1: Créé le | F1: Créé par | G1: Déb.valid. | H1: Fin valid. | I1: Fourn. | J1: FrA | K1: Contrat | L1: Poste | M1: CCF | N1: DivA | O1: DAt | P1: Article NPF | Q1: Blq | R1: OrgA | S1: Cat | T1: CoC | U1: Pla | V1: UAc | W1: Syst.log. | X1: S
A2: 1 | B2: 1286530677 | I2: 100008 | K2: 4800000728 | L2: 60
A3: 1 | B3: 4260580127 | I3: 100012 | K3: 4600020053 | L3: 790
A4: 1 | B4: 4260580227 | I4: 100012 | K4: 4600020053 | L4: 800
A5: 1 | B5: 4262566625 | I5: 100003 | K5: 4800005205 | L5: 50
A6: 1 | B6: 4288030692 | I6: 100012 | K6: 4600020053 | L6: 60
A7: 1 | B7: 4288031092 | I7: 100012 | K7: 4600020053 | L7: 70
A8: 1 | B8: 4343063822 | I8: 100007 | K8: 4800000546 | L8: 3360
A9: 1 | B9: 4347260036 | I9: 100007 | K9: 4800000546 | L9: 3290
A10: 1 | B10: 4812084925 | I10: 100012 | K10: 4600020053 | L10: 230
A11: 1 | B11: 4812086208 | I11: 100004 | K11: 4800005508 | L11: 90
A12: 1 | B12: 4812086212 | I12: 100004 | K12: 4800005508 | L12: 60
A13: 1 | B13: 4812086830 | I13: 100004 | K13: 4800005508 | L13: 750
... A89: 1 | B89: 5106114629 | I89: 100005 | K89: 4800003523 | L89: 4790

Sheet DATA EORD
A1: Article | B1: Fourn. | C1: Contrat | D1: Poste | E1: Concat Art Fourn | F1: Concat Art Fourn Contrat Poste | G1: Contrat bis | H1: poste bis | I1: multisourcing
A2: =IF(ISBLANK('SOURCE EORD'!B2),"",('SOURCE EORD'!B2)) -> 1286530677 | B2: =IF(ISBLANK('SOURCE EORD'!I2),"",('SOURCE EORD'!I2)) -> 100008 | C2: =IF(ISBLANK('SOURCE EORD'!K2),"",('SOURCE EORD'!K2)) -> 4800000728 | D2: =IF(ISBLANK('SOURCE EORD'!L2),"",('SOURCE EORD'!L2)) -> 60 | E2: =IF(ISBLANK('SOURCE EORD'!B2&'SOURCE EORD'!I2),"",('SOURCE EORD'!B2&'SOURCE EORD'!I2)) -> 1286530677100008 | F2: =IF(ISBLANK('SOURCE EORD'!B2&'SOURCE EORD'!I2&'SOURCE EORD'!K2&'SOURCE EORD'!L2),"",('SOURCE EORD'!B2&'SOURCE EORD'!I2&'SOURCE EORD'!K2&'SOURCE EORD'!L2)) -> 1286530677100008480000072860 | G2: =IF(ISBLANK('SOURCE EORD'!K2),"",('SOURCE EORD'!K2)) -> 4800000728 | H2: =IF(ISBLANK('SOURCE EORD'!L2),"",('SOURCE EORD'!L2)) -> 60 | I2: =IF((A2=""),"",(IF(OR(A2=A1,A2=A3),TRUE,FALSE))) -> FALSE
A3: =IF(ISBLANK('SOURCE EORD'!B3),"",('SOURCE EORD'!B3)) -> 4260580127 | B3: =IF(ISBLANK('SOURCE EORD'!I3),"",('SOURCE EORD'!I3)) -> 100012 | C3: =IF(ISBLANK('SOURCE EORD'!K3),"",('SOURCE EORD'!K3)) -> 4600020053 | D3: =IF(ISBLANK('SOURCE EORD'!L3),"",('SOURCE EORD'!L3)) -> 790 | E3: =IF(ISBLANK('SOURCE EORD'!B3&'SOURCE EORD'!I3),"",('SOURCE EORD'!B3&'SOURCE EORD'!I3)) -> 4260580127100012 | F3: =IF(ISBLANK('SOURCE EORD'!B3&'SOURCE EORD'!I3&'SOURCE EORD'!K3&'SOURCE EORD'!L3),"",('SOURCE EORD'!B3&'SOURCE EORD'!I3&'SOURCE EORD'!K3&'SOURCE EORD'!L3)) -> 42605801271000124600020053790 | G3: =IF(ISBLANK('SOURCE EORD'!K3),"",('SOURCE EORD'!K3)) -> 4600020053 | H3: =IF(ISBLANK('SOURCE EORD'!L3),"",('SOURCE EORD'!L3)) -> 790 | I3: =IF((A3=""),"",(IF(OR(A3=A2,A3=A4),TRUE,FALSE))) -> FALSE
A4: =IF(ISBLANK('SOURCE EORD'!B4),"",('SOURCE EORD'!B4)) -> 4260580227 | B4: =IF(ISBLANK('SOURCE EORD'!I4),"",('SOURCE EORD'!I4)) -> 100012 | C4: =IF(ISBLANK('SOURCE EORD'!K4),"",('SOURCE EORD'!K4)) -> 4600020053 | D4: =IF(ISBLANK('SOURCE EORD'!L4),"",('SOURCE EORD'!L4)) -> 800 | E4: =IF(ISBLANK('SOURCE EORD'!B4&'SOURCE EORD'!I4),"",('SOURCE EORD'!B4&'SOURCE EORD'!I4)) -> 4260580227100012 | F4: =IF(ISBLANK('SOURCE EORD'!B4&'SOURCE EORD'!I4&'SOURCE EORD'!K4&'SOURCE EORD'!L4),"",('SOURCE EORD'!B4&'SOURCE EORD'!I4&'SOURCE EORD'!K4&'SOURCE EORD'!L4)) -> 42605802271000124600020053800 | G4: =IF(ISBLANK('SOURCE EORD'!K4),"",('SOURCE EORD'!K4)) -> 4600020053 | H4: =IF(ISBLANK('SOURCE EORD'!L4),"",('SOURCE EORD'!L4)) -> 800 | I4: =IF((A4=""),"",(IF(OR(A4=A3,A4=A5),TRUE,FALSE))) -> FALSE
A5: =IF(ISBLANK('SOURCE EORD'!B5),"",('SOURCE EORD'!B5)) -> 4262566625 | B5: =IF(ISBLANK('SOURCE EORD'!I5),"",('SOURCE EORD'!I5)) -> 100003 | C5: =IF(ISBLANK('SOURCE EORD'!K5),"",('SOURCE EORD'!K5)) -> 4800005205 | D5: =IF(ISBLANK('SOURCE EORD'!L5),"",('SOURCE EORD'!L5)) -> 50 | E5: =IF(ISBLANK('SOURCE EORD'!B5&'SOURCE EORD'!I5),"",('SOURCE EORD'!B5&'SOURCE EORD'!I5)) -> 4262566625100003 | F5: =IF(ISBLANK('SOURCE EORD'!B5&'SOURCE EORD'!I5&'SOURCE EORD'!K5&'SOURCE EORD'!L5),"",('SOURCE EORD'!B5&'SOURCE EORD'!I5&'SOURCE EORD'!K5&'SOURCE EORD'!L5)) -> 4262566625100003480000520550 | G5: =IF(ISBLANK('SOURCE EORD'!K5),"",('SOURCE EORD'!K5)) -> 4800005205 | H5: =IF(ISBLANK('SOURCE EORD'!L5),"",('SOURCE EORD'!L5)) -> 50 | I5: =IF((A5=""),"",(IF(OR(A5=A4,A5=A6),TRUE,FALSE))) -> FALSE
A6: =IF(ISBLANK('SOURCE EORD'!B6),"",('SOURCE EORD'!B6)) -> 4288030692 | B6: =IF(ISBLANK('SOURCE EORD'!I6),"",('SOURCE EORD'!I6)) -> 100012 | C6: =IF(ISBLANK('SOURCE EORD'!K6),"",('SOURCE EORD'!K6)) -> 4600020053 | D6: =IF(ISBLANK('SOURCE EORD'!L6),"",('SOURCE EORD'!L6)) -> 60 | E6: =IF(ISBLANK('SOURCE EORD'!B6&'SOURCE EORD'!I6),"",('SOURCE EORD'!B6&'SOURCE EORD'!I6)) -> 4288030692100012 | F6: =IF(ISBLANK('SOURCE EORD'!B6&'SOURCE EORD'!I6&'SOURCE EORD'!K6&'SOURCE EORD'!L6),"",('SOURCE EORD'!B6&'SOURCE EORD'!I6&'SOURCE EORD'!K6&'SOURCE EORD'!L6)) -> 4288030692100012460002005360 | G6: =IF(ISBLANK('SOURCE EORD'!K6),"",('SOURCE EORD'!K6)) -> 4600020053 | H6: =IF(ISBLANK('SOURCE EORD'!L6),"",('SOURCE EORD'!L6)) -> 60 | I6: =IF((A6=""),"",(IF(OR(A6=A5,A6=A7),TRUE,FALSE))) -> FALSE
A7: =IF(ISBLANK('SOURCE EORD'!B7),"",('SOURCE EORD'!B7)) -> 4288031092 | B7: =IF(ISBLANK('SOURCE EORD'!I7),"",('SOURCE EORD'!I7)) -> 100012 | C7: =IF(ISBLANK('SOURCE EORD'!K7),"",('SOURCE EORD'!K7)) -> 4600020053 | D7: =IF(ISBLANK('SOURCE EORD'!L7),"",('SOURCE EORD'!L7)) -> 70 | E7: =IF(ISBLANK('SOURCE EORD'!B7&'SOURCE EORD'!I7),"",('SOURCE EORD'!B7&'SOURCE EORD'!I7)) -> 4288031092100012 | F7: =IF(ISBLANK('SOURCE EORD'!B7&'SOURCE EORD'!I7&'SOURCE EORD'!K7&'SOURCE EORD'!L7),"",('SOURCE EORD'!B7&'SOURCE EORD'!I7&'SOURCE EORD'!K7&'SOURCE EORD'!L7)) -> 4288031092100012460002005370 | G7: =IF(ISBLANK('SOURCE EORD'!K7),"",('SOURCE EORD'!K7)) -> 4600020053 | H7: =IF(ISBLANK('SOURCE EORD'!L7),"",('SOURCE EORD'!L7)) -> 70 | I7: =IF((A7=""),"",(IF(OR(A7=A6,A7=A8),TRUE,FALSE))) -> FALSE
A8: =IF(ISBLANK('SOURCE EORD'!B8),"",('SOURCE EORD'!B8)) -> 4343063822 | B8: =IF(ISBLANK('SOURCE EORD'!I8),"",('SOURCE EORD'!I8)) -> 100007 | C8: =IF(ISBLANK('SOURCE EORD'!K8),"",('SOURCE EORD'!K8)) -> 4800000546 | D8: =IF(ISBLANK('SOURCE EORD'!L8),"",('SOURCE EORD'!L8)) -> 3360 | E8: =IF(ISBLANK('SOURCE EORD'!B8&'SOURCE EORD'!I8),"",('SOURCE EORD'!B8&'SOURCE EORD'!I8)) -> 4343063822100007 | F8: =IF(ISBLANK('SOURCE EORD'!B8&'SOURCE EORD'!I8&'SOURCE EORD'!K8&'SOURCE EORD'!L8),"",('SOURCE EORD'!B8&'SOURCE EORD'!I8&'SOURCE EORD'!K8&'SOURCE EORD'!L8)) -> 434306382210000748000005463360 | G8: =IF(ISBLANK('SOURCE EORD'!K8),"",('SOURCE EORD'!K8)) -> 4800000546 | H8: =IF(ISBLANK('SOURCE EORD'!L8),"",('SOURCE EORD'!L8)) -> 3360 | I8: =IF((A8=""),"",(IF(OR(A8=A7,A8=A9),TRUE,FALSE))) -> FALSE
A9: =IF(ISBLANK('SOURCE EORD'!B9),"",('SOURCE EORD'!B9)) -> 4347260036 | B9: =IF(ISBLANK('SOURCE EORD'!I9),"",('SOURCE EORD'!I9)) -> 100007 | C9: =IF(ISBLANK('SOURCE EORD'!K9),"",('SOURCE EORD'!K9)) -> 4800000546 | D9: =IF(ISBLANK('SOURCE EORD'!L9),"",('SOURCE EORD'!L9)) -> 3290 | E9: =IF(ISBLANK('SOURCE EORD'!B9&'SOURCE EORD'!I9),"",('SOURCE EORD'!B9&'SOURCE EORD'!I9)) -> 4347260036100007 | F9: =IF(ISBLANK('SOURCE EORD'!B9&'SOURCE EORD'!I9&'SOURCE EORD'!K9&'SOURCE EORD'!L9),"",('SOURCE EORD'!B9&'SOURCE EORD'!I9&'SOURCE EORD'!K9&'SOURCE EORD'!L9)) -> 434726003610000748000005463290 | G9: =IF(ISBLANK('SOURCE EORD'!K9),"",('SOURCE EORD'!K9)) -> 4800000546 | H9: =IF(ISBLANK('SOURCE EORD'!L9),"",('SOURCE EORD'!L9)) -> 3290 | I9: =IF((A9=""),"",(IF(OR(A9=A8,A9=A10),TRUE,FALSE))) -> FALSE
A10: =IF(ISBLANK('SOURCE EORD'!B10),"",('SOURCE EORD'!B10)) -> 4812084925 | B10: =IF(ISBLANK('SOURCE EORD'!I10),"",('SOURCE EORD'!I10)) -> 100012 | C10: =IF(ISBLANK('SOURCE EORD'!K10),"",('SOURCE EORD'!K10)) -> 4600020053 | D10: =IF(ISBLANK('SOURCE EORD'!L10),"",('SOURCE EORD'!L10)) -> 230 | E10: =IF(ISBLANK('SOURCE EORD'!B10&'SOURCE EORD'!I10),"",('SOURCE EORD'!B10&'SOURCE EORD'!I10)) -> 4812084925100012 | F10: =IF(ISBLANK('SOURCE EORD'!B10&'SOURCE EORD'!I10&'SOURCE EORD'!K10&'SOURCE EORD'!L10),"",('SOURCE EORD'!B10&'SOURCE EORD'!I10&'SOURCE EORD'!K10&'SOURCE EORD'!L10)) -> 48120849251000124600020053230 | G10: =IF(ISBLANK('SOURCE EORD'!K10),"",('SOURCE EORD'!K10)) -> 4600020053 | H10: =IF(ISBLANK('SOURCE EORD'!L10),"",('SOURCE EORD'!L10)) -> 230 | I10: =IF((A10=""),"",(IF(OR(A10=A9,A10=A11),TRUE,FALSE))) -> FALSE
A11: =IF(ISBLANK('SOURCE EORD'!B11),"",('SOURCE EORD'!B11)) -> 4812086208 | B11: =IF(ISBLANK('SOURCE EORD'!I11),"",('SOURCE EORD'!I11)) -> 100004 | C11: =IF(ISBLANK('SOURCE EORD'!K11),"",('SOURCE EORD'!K11)) -> 4800005508 | D11: =IF(ISBLANK('SOURCE EORD'!L11),"",('SOURCE EORD'!L11)) -> 90 | E11: =IF(ISBLANK('SOURCE EORD'!B11&'SOURCE EORD'!I11),"",('SOURCE EORD'!B11&'SOURCE EORD'!I11)) -> 4812086208100004 | F11: =IF(ISBLANK('SOURCE EORD'!B11&'SOURCE EORD'!I11&'SOURCE EORD'!K11&'SOURCE EORD'!L11),"",('SOURCE EORD'!B11&'SOURCE EORD'!I11&'SOURCE EORD'!K11&'SOURCE EORD'!L11)) -> 4812086208100004480000550890 | G11: =IF(ISBLANK('SOURCE EORD'!K11),"",('SOURCE EORD'!K11)) -> 4800005508 | H11: =IF(ISBLANK('SOURCE EORD'!L11),"",('SOURCE EORD'!L11)) -> 90 | I11: =IF((A11=""),"",(IF(OR(A11=A10,A11=A12),TRUE,FALSE))) -> FALSE
A12: =IF(ISBLANK('SOURCE EORD'!B12),"",('SOURCE EORD'!B12)) -> 4812086212 | B12: =IF(ISBLANK('SOURCE EORD'!I12),"",('SOURCE EORD'!I12)) -> 100004 | C12: =IF(ISBLANK('SOURCE EORD'!K12),"",('SOURCE EORD'!K12)) -> 4800005508 | D12: =IF(ISBLANK('SOURCE EORD'!L12),"",('SOURCE EORD'!L12)) -> 60 | E12: =IF(ISBLANK('SOURCE EORD'!B12&'SOURCE EORD'!I12),"",('SOURCE EORD'!B12&'SOURCE EORD'!I12)) -> 4812086212100004 | F12: =IF(ISBLANK('SOURCE EORD'!B12&'SOURCE EORD'!I12&'SOURCE EORD'!K12&'SOURCE EORD'!L12),"",('SOURCE EORD'!B12&'SOURCE EORD'!I12&'SOURCE EORD'!K12&'SOURCE EORD'!L12)) -> 4812086212100004480000550860 | G12: =IF(ISBLANK('SOURCE EORD'!K12),"",('SOURCE EORD'!K12)) -> 4800005508 | H12: =IF(ISBLANK('SOURCE EORD'!L12),"",('SOURCE EORD'!L12)) -> 60 | I12: =IF((A12=""),"",(IF(OR(A12=A11,A12=A13),TRUE,FALSE))) -> FALSE
A13: =IF(ISBLANK('SOURCE EORD'!B13),"",('SOURCE EORD'!B13)) -> 4812086830 | B13: =IF(ISBLANK('SOURCE EORD'!I13),"",('SOURCE EORD'!I13)) -> 100004 | C13: =IF(ISBLANK('SOURCE EORD'!K13),"",('SOURCE EORD'!K13)) -> 4800005508 | D13: =IF(ISBLANK('SOURCE EORD'!L13),"",('SOURCE EORD'!L13)) -> 750 | E13: =IF(ISBLANK('SOURCE EORD'!B13&'SOURCE EORD'!I13),"",('SOURCE EORD'!B13&'SOURCE EORD'!I13)) -> 4812086830100004 | F13: =IF(ISBLANK('SOURCE EORD'!B13&'SOURCE EORD'!I13&'SOURCE EORD'!K13&'SOURCE EORD'!L13),"",('SOURCE EORD'!B13&'SOURCE EORD'!I13&'SOURCE EORD'!K13&'SOURCE EORD'!L13)) -> 48120868301000044800005508750 | G13: =IF(ISBLANK('SOURCE EORD'!K13),"",('SOURCE EORD'!K13)) -> 4800005508 | H13: =IF(ISBLANK('SOURCE EORD'!L13),"",('SOURCE EORD'!L13)) -> 750 | I13: =IF((A13=""),"",(IF(OR(A13=A12,A13=A14),TRUE,FALSE))) -> FALSE
... A89: =IF(ISBLANK('SOURCE EORD'!B89),"",('SOURCE EORD'!B89)) -> 5106114629 | B89: =IF(ISBLANK('SOURCE EORD'!I89),"",('SOURCE EORD'!I89)) -> 100005 | C89: =IF(ISBLANK('SOURCE EORD'!K89),"",('SOURCE EORD'!K89)) -> 4800003523 | D89: =IF(ISBLANK('SOURCE EORD'!L89),"",('SOURCE EORD'!L89)) -> 4790 | E89: =IF(ISBLANK('SOURCE EORD'!B89&'SOURCE EORD'!I89),"",('SOURCE EORD'!B89&'SOURCE EORD'!I89)) -> 5106114629100005 | F89: =IF(ISBLANK('SOURCE EORD'!B89&'SOURCE EORD'!I89&'SOURCE EORD'!K89&'SOURCE EORD'!L89),"",('SOURCE EORD'!B89&'SOURCE EORD'!I89&'SOURCE EORD'!K89&'SOURCE EORD'!L89)) -> 510611462910000548000035234790 | G89: =IF(ISBLANK('SOURCE EORD'!K89),"",('SOURCE EORD'!K89)) -> 4800003523 | H89: =IF(ISBLANK('SOURCE EORD'!L89),"",('SOURCE EORD'!L89)) -> 4790 | I89: =IF((A89=""),"",(IF(OR(A89=A88,A89=A90),TRUE,FALSE))) -> #REF!
A90: =IF(ISBLANK('SOURCE EORD'!#REF!),"",('SOURCE EORD'!#REF!)) -> #REF! | B90: =IF(ISBLANK('SOURCE EORD'!#REF!),"",('SOURCE EORD'!#REF!)) -> #REF! | C90: =IF(ISBLANK('SOURCE EORD'!#REF!),"",('SOURCE EORD'!#REF!)) -> #REF! | D90: =IF(ISBLANK('SOURCE EORD'!#REF!),"",('SOURCE EORD'!#REF!)) -> #REF! | E90: =IF(ISBLANK('SOURCE EORD'!#REF!&'SOURCE EORD'!#REF!),"",('SOURCE EORD'!#REF!&'SOURCE EORD'!#REF!)) -> #REF! | F90: =IF(ISBLANK('SOURCE EORD'!#REF!&'SOURCE EORD'!#REF!&'SOURCE EORD'!#REF!&'SOURCE EORD'!#REF!),"",('SOURCE EORD'!#REF!&'SOURCE EORD'!#REF!&'SOURCE EORD'!#REF!&'SOURCE EORD'!#REF!)) -> #REF! | G90: =IF(ISBLANK('SOURCE EORD'!#REF!),"",('SOURCE EORD'!#REF!)) -> #REF! | H90: =IF(ISBLANK('SOURCE EORD'!#REF!),"",('SOURCE EORD'!#REF!)) -> #REF! | I90: =IF((A90=""),"",(IF(OR(A90=A89,A90=A91),TRUE,FALSE))) -> #REF!
A91: =IF(ISBLANK('SOURCE EORD'!#REF!),"",('SOURCE EORD'!#REF!)) -> #REF! | B91: =IF(ISBLANK('SOURCE EORD'!#REF!),"",('SOURCE EORD'!#REF!)) -> #REF! | C91: =IF(ISBLANK('SOURCE EORD'!#REF!),"",('SOURCE EORD'!#REF!)) -> #REF! | D91: =IF(ISBLANK('SOURCE EORD'!#REF!),"",('SOURCE EORD'!#REF!)) -> #REF! | E91: =IF(ISBLANK('SOURCE EORD'!#REF!&'SOURCE EORD'!#REF!),"",('SOURCE EORD'!#REF!&'SOURCE EORD'!#REF!)) -> #REF! | F91: =IF(ISBLANK('SOURCE EORD'!#REF!&'SOURCE EORD'!#REF!&'SOURCE EORD'!#REF!&'SOURCE EORD'!#REF!),"",('SOURCE EORD'!#REF!&'SOURCE EORD'!#REF!&'SOURCE EORD'!#REF!&'SOURCE EORD'!#REF!)) -> #REF! | G91: =IF(ISBLANK('SOURCE EORD'!#REF!),"",('SOURCE EORD'!#REF!)) -> #REF! | H91: =IF(ISBLANK('SOURCE EORD'!#REF!),"",('SOURCE EORD'!#REF!)) -> #REF! | I91: =IF((A91=""),"",(IF(OR(A91=A90,A91=A92),TRUE,FALSE))) -> #REF!
A92: =IF(ISBLANK('SOURCE EORD'!#REF!),"",('SOURCE EORD'!#REF!)) -> #REF! | B92: =IF(ISBLANK('SOURCE EORD'!#REF!),"",('SOURCE EORD'!#REF!)) -> #REF! | C92: =IF(ISBLANK('SOURCE EORD'!#REF!),"",('SOURCE EORD'!#REF!)) -> #REF! | D92: =IF(ISBLANK('SOURCE EORD'!#REF!),"",('SOURCE EORD'!#REF!)) -> #REF! | E92: =IF(ISBLANK('SOURCE EORD'!#REF!&'SOURCE EORD'!#REF!),"",('SOURCE EORD'!#REF!&'SOURCE EORD'!#REF!)) -> #REF! | F92: =IF(ISBLANK('SOURCE EORD'!#REF!&'SOURCE EORD'!#REF!&'SOURCE EORD'!#REF!&'SOURCE EORD'!#REF!),"",('SOURCE EORD'!#REF!&'SOURCE EORD'!#REF!&'SOURCE EORD'!#REF!&'SOURCE EORD'!#REF!)) -> #REF! | G92: =IF(ISBLANK('SOURCE EORD'!#REF!),"",('SOURCE EORD'!#REF!)) -> #REF! | H92: =IF(ISBLANK('SOURCE EORD'!#REF!),"",('SOURCE EORD'!#REF!)) -> #REF! | I92: =IF((A92=""),"",(IF(OR(A92=A91,A92=A93),TRUE,FALSE))) -> #REF!
A93: =IF(ISBLANK('SOURCE EORD'!#REF!),"",('SOURCE EORD'!#REF!)) -> #REF! | B93: =IF(ISBLANK('SOURCE EORD'!#REF!),"",('SOURCE EORD'!#REF!)) -> #REF! | C93: =IF(ISBLANK('SOURCE EORD'!#REF!),"",('SOURCE EORD'!#REF!)) -> #REF! | D93: =IF(ISBLANK('SOURCE EORD'!#REF!),"",('SOURCE EORD'!#REF!)) -> #REF! | E93: =IF(ISBLANK('SOURCE EORD'!#REF!&'SOURCE EORD'!#REF!),"",('SOURCE EORD'!#REF!&'SOURCE EORD'!#REF!)) -> #REF! | F93: =IF(ISBLANK('SOURCE EORD'!#REF!&'SOURCE EORD'!#REF!&'SOURCE EORD'!#REF!&'SOURCE EORD'!#REF!),"",('SOURCE EORD'!#REF!&'SOURCE EORD'!#REF!&'SOURCE EORD'!#REF!&'SOURCE EORD'!#REF!)) -> #REF! | G93: =IF(ISBLANK('SOURCE EORD'!#REF!),"",('SOURCE EORD'!#REF!)) -> #REF! | H93: =IF(ISBLANK('SOURCE EORD'!#REF!),"",('SOURCE EORD'!#REF!)) -> #REF! | I93: =IF((A93=""),"",(IF(OR(A93=A92,A93=A94),TRUE,FALSE))) -> #REF!
A94: =IF(ISBLANK('SOURCE EORD'!#REF!),"",('SOURCE EORD'!#REF!)) -> #REF! | B94: =IF(ISBLANK('SOURCE EORD'!#REF!),"",('SOURCE EORD'!#REF!)) -> #REF! | C94: =IF(ISBLANK('SOURCE EORD'!#REF!),"",('SOURCE EORD'!#REF!)) -> #REF! | D94: =IF(ISBLANK('SOURCE EORD'!#REF!),"",('SOURCE EORD'!#REF!)) -> #REF! | E94: =IF(ISBLANK('SOURCE EORD'!#REF!&'SOURCE EORD'!#REF!),"",('SOURCE EORD'!#REF!&'SOURCE EORD'!#REF!)) -> #REF! | F94: =IF(ISBLANK('SOURCE EORD'!#REF!&'SOURCE EORD'!#REF!&'SOURCE EORD'!#REF!&'SOURCE EORD'!#REF!),"",('SOURCE EORD'!#REF!&'SOURCE EORD'!#REF!&'SOURCE EORD'!#REF!&'SOURCE EORD'!#REF!)) -> #REF! | G94: =IF(ISBLANK('SOURCE EORD'!#REF!),"",('SOURCE EORD'!#REF!)) -> #REF! | H94: =IF(ISBLANK('SOURCE EORD'!#REF!),"",('SOURCE EORD'!#REF!)) -> #REF! | I94: =IF((A94=""),"",(IF(OR(A94=A93,A94=A95),TRUE,FALSE))) -> #REF!
A95: =IF(ISBLANK('SOURCE EORD'!#REF!),"",('SOURCE EORD'!#REF!)) -> #REF! | B95: =IF(ISBLANK('SOURCE EORD'!#REF!),"",('SOURCE EORD'!#REF!)) -> #REF! | C95: =IF(ISBLANK('SOURCE EORD'!#REF!),"",('SOURCE EORD'!#REF!)) -> #REF! | D95: =IF(ISBLANK('SOURCE EORD'!#REF!),"",('SOURCE EORD'!#REF!)) -> #REF! | E95: =IF(ISBLANK('SOURCE EORD'!#REF!&'SOURCE EORD'!#REF!),"",('SOURCE EORD'!#REF!&'SOURCE EORD'!#REF!)) -> #REF! | F95: =IF(ISBLANK('SOURCE EORD'!#REF!&'SOURCE EORD'!#REF!&'SOURCE EORD'!#REF!&'SOURCE EORD'!#REF!),"",('SOURCE EORD'!#REF!&'SOURCE EORD'!#REF!&'SOURCE EORD'!#REF!&'SOURCE EORD'!#REF!)) -> #REF! | G95: =IF(ISBLANK('SOURCE EORD'!#REF!),"",('SOURCE EORD'!#REF!)) -> #REF! | H95: =IF(ISBLANK('SOURCE EORD'!#REF!),"",('SOURCE EORD'!#REF!)) -> #REF! | I95: =IF((A95=""),"",(IF(OR(A95=A94,A95=A96),TRUE,FALSE))) -> #REF!
A96: =IF(ISBLANK('SOURCE EORD'!#REF!),"",('SOURCE EORD'!#REF!)) -> #REF! | B96: =IF(ISBLANK('SOURCE EORD'!#REF!),"",('SOURCE EORD'!#REF!)) -> #REF! | C96: =IF(ISBLANK('SOURCE EORD'!#REF!),"",('SOURCE EORD'!#REF!)) -> #REF! | D96: =IF(ISBLANK('SOURCE EORD'!#REF!),"",('SOURCE EORD'!#REF!)) -> #REF! | E96: =IF(ISBLANK('SOURCE EORD'!#REF!&'SOURCE EORD'!#REF!),"",('SOURCE EORD'!#REF!&'SOURCE EORD'!#REF!)) -> #REF! | F96: =IF(ISBLANK('SOURCE EORD'!#REF!&'SOURCE EORD'!#REF!&'SOURCE EORD'!#REF!&'SOURCE EORD'!#REF!),"",('SOURCE EORD'!#REF!&'SOURCE EORD'!#REF!&'SOURCE EORD'!#REF!&'SOURCE EORD'!#REF!)) -> #REF! | G96: =IF(ISBLANK('SOURCE EORD'!#REF!),"",('SOURCE EORD'!#REF!)) -> #REF! | H96: =IF(ISBLANK('SOURCE EORD'!#REF!),"",('SOURCE EORD'!#REF!)) -> #REF! | I96: =IF((A96=""),"",(IF(OR(A96=A95,A96=A97),TRUE,FALSE))) -> #REF!
A97: =IF(ISBLANK('SOURCE EORD'!#REF!),"",('SOURCE EORD'!#REF!)) -> #REF! | B97: =IF(ISBLANK('SOURCE EORD'!#REF!),"",('SOURCE EORD'!#REF!)) -> #REF! | C97: =IF(ISBLANK('SOURCE EORD'!#REF!),"",('SOURCE EORD'!#REF!)) -> #REF! | D97: =IF(ISBLANK('SOURCE EORD'!#REF!),"",('SOURCE EORD'!#REF!)) -> #REF! | E97: =IF(ISBLANK('SOURCE EORD'!#REF!&'SOURCE EORD'!#REF!),"",('SOURCE EORD'!#REF!&'SOURCE EORD'!#REF!)) -> #REF! | F97: =IF(ISBLANK('SOURCE EORD'!#REF!&'SOURCE EORD'!#REF!&'SOURCE EORD'!#REF!&'SOURCE EORD'!#REF!),"",('SOURCE EORD'!#REF!&'SOURCE EORD'!#REF!&'SOURCE EORD'!#REF!&'SOURCE EORD'!#REF!)) -> #REF! | G97: =IF(ISBLANK('SOURCE EORD'!#REF!),"",('SOURCE EORD'!#REF!)) -> #REF! | H97: =IF(ISBLANK('SOURCE EORD'!#REF!),"",('SOURCE EORD'!#REF!)) -> #REF! | I97: =IF((A97=""),"",(IF(OR(A97=A96,A97=A98),TRUE,FALSE))) -> #REF!
A98: =IF(ISBLANK('SOURCE EORD'!#REF!),"",('SOURCE EORD'!#REF!)) -> #REF! | B98: =IF(ISBLANK('SOURCE EORD'!#REF!),"",('SOURCE EORD'!#REF!)) -> #REF! | C98: =IF(ISBLANK('SOURCE EORD'!#REF!),"",('SOURCE EORD'!#REF!)) -> #REF! | D98: =IF(ISBLANK('SOURCE EORD'!#REF!),"",('SOURCE EORD'!#REF!)) -> #REF! | E98: =IF(ISBLANK('SOURCE EORD'!#REF!&'SOURCE EORD'!#REF!),"",('SOURCE EORD'!#REF!&'SOURCE EORD'!#REF!)) -> #REF! | F98: =IF(ISBLANK('SOURCE EORD'!#REF!&'SOURCE EORD'!#REF!&'SOURCE EORD'!#REF!&'SOURCE EORD'!#REF!),"",('SOURCE EORD'!#REF!&'SOURCE EORD'!#REF!&'SOURCE EORD'!#REF!&'SOURCE EORD'!#REF!)) -> #REF! | G98: =IF(ISBLANK('SOURCE EORD'!#REF!),"",('SOURCE EORD'!#REF!)) -> #REF! | H98: =IF(ISBLANK('SOURCE EORD'!#REF!),"",('SOURCE EORD'!#REF!)) -> #REF! | I98: =IF((A98=""),"",(IF(OR(A98=A97,A98=A99),TRUE,FALSE))) -> #REF!
A99: =IF(ISBLANK('SOURCE EORD'!#REF!),"",('SOURCE EORD'!#REF!)) -> #REF! | B99: =IF(ISBLANK('SOURCE EORD'!#REF!),"",('SOURCE EORD'!#REF!)) -> #REF! | C99: =IF(ISBLANK('SOURCE EORD'!#REF!),"",('SOURCE EORD'!#REF!)) -> #REF! | D99: =IF(ISBLANK('SOURCE EORD'!#REF!),"",('SOURCE EORD'!#REF!)) -> #REF! | E99: =IF(ISBLANK('SOURCE EORD'!#REF!&'SOURCE EORD'!#REF!),"",('SOURCE EORD'!#REF!&'SOURCE EORD'!#REF!)) -> #REF! | F99: =IF(ISBLANK('SOURCE EORD'!#REF!&'SOURCE EORD'!#REF!&'SOURCE EORD'!#REF!&'SOURCE EORD'!#REF!),"",('SOURCE EORD'!#REF!&'SOURCE EORD'!#REF!&'SOURCE EORD'!#REF!&'SOURCE EORD'!#REF!)) -> #REF! | G99: =IF(ISBLANK('SOURCE EORD'!#REF!),"",('SOURCE EORD'!#REF!)) -> #REF! | H99: =IF(ISBLANK('SOURCE EORD'!#REF!),"",('SOURCE EORD'!#REF!)) -> #REF! | I99: =IF((A99=""),"",(IF(OR(A99=A98,A99=A100),TRUE,FALSE))) -> #REF!
A100: =IF(ISBLANK('SOURCE EORD'!#REF!),"",('SOURCE EORD'!#REF!)) -> #REF! | B100: =IF(ISBLANK('SOURCE EORD'!#REF!),"",('SOURCE EORD'!#REF!)) -> #REF! | C100: =IF(ISBLANK('SOURCE EORD'!#REF!),"",('SOURCE EORD'!#REF!)) -> #REF! | D100: =IF(ISBLANK('SOURCE EORD'!#REF!),"",('SOURCE EORD'!#REF!)) -> #REF! | E100: =IF(ISBLANK('SOURCE EORD'!#REF!&'SOURCE EORD'!#REF!),"",('SOURCE EORD'!#REF!&'SOURCE EORD'!#REF!)) -> #REF! | F100: =IF(ISBLANK('SOURCE EORD'!#REF!&'SOURCE EORD'!#REF!&'SOURCE EORD'!#REF!&'SOURCE EORD'!#REF!),"",('SOURCE EORD'!#REF!&'SOURCE EORD'!#REF!&'SOURCE EORD'!#REF!&'SOURCE EORD'!#REF!)) -> #REF! | G100: =IF(ISBLANK('SOURCE EORD'!#REF!),"",('SOURCE EORD'!#REF!)) -> #REF! | H100: =IF(ISBLANK('SOURCE EORD'!#REF!),"",('SOURCE EORD'!#REF!)) -> #REF! | I100: =IF((A100=""),"",(IF(OR(A100=A99,A100=A101),TRUE,FALSE))) -> #REF!
A101: =IF(ISBLANK('SOURCE EORD'!#REF!),"",('SOURCE EORD'!#REF!)) -> #REF! | B101: =IF(ISBLANK('SOURCE EORD'!#REF!),"",('SOURCE EORD'!#REF!)) -> #REF! | C101: =IF(ISBLANK('SOURCE EORD'!#REF!),"",('SOURCE EORD'!#REF!)) -> #REF! | D101: =IF(ISBLANK('SOURCE EORD'!#REF!),"",('SOURCE EORD'!#REF!)) -> #REF! | E101: =IF(ISBLANK('SOURCE EORD'!#REF!&'SOURCE EORD'!#REF!),"",('SOURCE EORD'!#REF!&'SOURCE EORD'!#REF!)) -> #REF! | F101: =IF(ISBLANK('SOURCE EORD'!#REF!&'SOURCE EORD'!#REF!&'SOURCE EORD'!#REF!&'SOURCE EORD'!#REF!),"",('SOURCE EORD'!#REF!&'SOURCE EORD'!#REF!&'SOURCE EORD'!#REF!&'SOURCE EORD'!#REF!)) -> #REF! | G101: =IF(ISBLANK('SOURCE EORD'!#REF!),"",('SOURCE EORD'!#REF!)) -> #REF! | H101: =IF(ISBLANK('SOURCE EORD'!#REF!),"",('SOURCE EORD'!#REF!)) -> #REF! | I101: =IF((A101=""),"",(IF(OR(A101=A100,A101=A102),TRUE,FALSE))) -> #REF!
... A3949: =IF(ISBLANK('SOURCE EORD'!#REF!),"",('SOURCE EORD'!#REF!)) -> #REF! | B3949: =IF(ISBLANK('SOURCE EORD'!#REF!),"",('SOURCE EORD'!#REF!)) -> #REF! | C3949: =IF(ISBLANK('SOURCE EORD'!#REF!),"",('SOURCE EORD'!#REF!)) -> #REF! | D3949: =IF(ISBLANK('SOURCE EORD'!#REF!),"",('SOURCE EORD'!#REF!)) -> #REF! | E3949: =IF(ISBLANK('SOURCE EORD'!#REF!&'SOURCE EORD'!#REF!),"",('SOURCE EORD'!#REF!&'SOURCE EORD'!#REF!)) -> #REF! | F3949: =IF(ISBLANK('SOURCE EORD'!#REF!&'SOURCE EORD'!#REF!&'SOURCE EORD'!#REF!&'SOURCE EORD'!#REF!),"",('SOURCE EORD'!#REF!&'SOURCE EORD'!#REF!&'SOURCE EORD'!#REF!&'SOURCE EORD'!#REF!)) -> #REF! | G3949: =IF(ISBLANK('SOURCE EORD'!#REF!),"",('SOURCE EORD'!#REF!)) -> #REF! | H3949: =IF(ISBLANK('SOURCE EORD'!#REF!),"",('SOURCE EORD'!#REF!)) -> #REF! | I3949: =IF((A3949=""),"",(IF(OR(A3949=A3948,A3949=A3950),TRUE,FALSE))) -> #REF!
A3950: =IF(ISBLANK('SOURCE EORD'!B90),"",('SOURCE EORD'!B90)) | B3950: =IF(ISBLANK('SOURCE EORD'!I90),"",('SOURCE EORD'!I90)) | C3950: =IF(ISBLANK('SOURCE EORD'!K90),"",('SOURCE EORD'!K90)) | D3950: =IF(ISBLANK('SOURCE EORD'!L90),"",('SOURCE EORD'!L90)) | E3950: =IF(ISBLANK('SOURCE EORD'!B90&'SOURCE EORD'!I90),"",('SOURCE EORD'!B90&'SOURCE EORD'!I90)) | F3950: =IF(ISBLANK('SOURCE EORD'!B90&'SOURCE EORD'!I90&'SOURCE EORD'!K90&'SOURCE EORD'!L90),"",('SOURCE EORD'!B90&'SOURCE EORD'!I90&'SOURCE EORD'!K90&'SOURCE EORD'!L90)) | G3950: =IF(ISBLANK('SOURCE EORD'!K90),"",('SOURCE EORD'!K90)) | H3950: =IF(ISBLANK('SOURCE EORD'!L90),"",('SOURCE EORD'!L90)) | I3950: =IF((A3950=""),"",(IF(OR(A3950=A3949,A3950=A3951),TRUE,FALSE)))
A3951: =IF(ISBLANK('SOURCE EORD'!B91),"",('SOURCE EORD'!B91)) | B3951: =IF(ISBLANK('SOURCE EORD'!I91),"",('SOURCE EORD'!I91)) | C3951: =IF(ISBLANK('SOURCE EORD'!K91),"",('SOURCE EORD'!K91)) | D3951: =IF(ISBLANK('SOURCE EORD'!L91),"",('SOURCE EORD'!L91)) | E3951: =IF(ISBLANK('SOURCE EORD'!B91&'SOURCE EORD'!I91),"",('SOURCE EORD'!B91&'SOURCE EORD'!I91)) | F3951: =IF(ISBLANK('SOURCE EORD'!B91&'SOURCE EORD'!I91&'SOURCE EORD'!K91&'SOURCE EORD'!L91),"",('SOURCE EORD'!B91&'SOURCE EORD'!I91&'SOURCE EORD'!K91&'SOURCE EORD'!L91)) | G3951: =IF(ISBLANK('SOURCE EORD'!K91),"",('SOURCE EORD'!K91)) | H3951: =IF(ISBLANK('SOURCE EORD'!L91),"",('SOURCE EORD'!L91)) | I3951: =IF((A3951=""),"",(IF(OR(A3951=A3950,A3951=A3952),TRUE,FALSE)))
A3952: =IF(ISBLANK('SOURCE EORD'!B92),"",('SOURCE EORD'!B92)) | B3952: =IF(ISBLANK('SOURCE EORD'!I92),"",('SOURCE EORD'!I92)) | C3952: =IF(ISBLANK('SOURCE EORD'!K92),"",('SOURCE EORD'!K92)) | D3952: =IF(ISBLANK('SOURCE EORD'!L92),"",('SOURCE EORD'!L92)) | E3952: =IF(ISBLANK('SOURCE EORD'!B92&'SOURCE EORD'!I92),"",('SOURCE EORD'!B92&'SOURCE EORD'!I92)) | F3952: =IF(ISBLANK('SOURCE EORD'!B92&'SOURCE EORD'!I92&'SOURCE EORD'!K92&'SOURCE EORD'!L92),"",('SOURCE EORD'!B92&'SOURCE EORD'!I92&'SOURCE EORD'!K92&'SOURCE EORD'!L92)) | G3952: =IF(ISBLANK('SOURCE EORD'!K92),"",('SOURCE EORD'!K92)) | H3952: =IF(ISBLANK('SOURCE EORD'!L92),"",('SOURCE EORD'!L92)) | I3952: =IF((A3952=""),"",(IF(OR(A3952=A3951,A3952=A3953),TRUE,FALSE)))
A3953: =IF(ISBLANK('SOURCE EORD'!B93),"",('SOURCE EORD'!B93)) | B3953: =IF(ISBLANK('SOURCE EORD'!I93),"",('SOURCE EORD'!I93)) | C3953: =IF(ISBLANK('SOURCE EORD'!K93),"",('SOURCE EORD'!K93)) | D3953: =IF(ISBLANK('SOURCE EORD'!L93),"",('SOURCE EORD'!L93)) | E3953: =IF(ISBLANK('SOURCE EORD'!B93&'SOURCE EORD'!I93),"",('SOURCE EORD'!B93&'SOURCE EORD'!I93)) | F3953: =IF(ISBLANK('SOURCE EORD'!B93&'SOURCE EORD'!I93&'SOURCE EORD'!K93&'SOURCE EORD'!L93),"",('SOURCE EORD'!B93&'SOURCE EORD'!I93&'SOURCE EORD'!K93&'SOURCE EORD'!L93)) | G3953: =IF(ISBLANK('SOURCE EORD'!K93),"",('SOURCE EORD'!K93)) | H3953: =IF(ISBLANK('SOURCE EORD'!L93),"",('SOURCE EORD'!L93)) | I3953: =IF((A3953=""),"",(IF(OR(A3953=A3952,A3953=A3954),TRUE,FALSE)))
A3954: =IF(ISBLANK('SOURCE EORD'!B94),"",('SOURCE EORD'!B94)) | B3954: =IF(ISBLANK('SOURCE EORD'!I94),"",('SOURCE EORD'!I94)) | C3954: =IF(ISBLANK('SOURCE EORD'!K94),"",('SOURCE EORD'!K94)) | D3954: =IF(ISBLANK('SOURCE EORD'!L94),"",('SOURCE EORD'!L94)) | E3954: =IF(ISBLANK('SOURCE EORD'!B94&'SOURCE EORD'!I94),"",('SOURCE EORD'!B94&'SOURCE EORD'!I94)) | F3954: =IF(ISBLANK('SOURCE EORD'!B94&'SOURCE EORD'!I94&'SOURCE EORD'!K94&'SOURCE EORD'!L94),"",('SOURCE EORD'!B94&'SOURCE EORD'!I94&'SOURCE EORD'!K94&'SOURCE EORD'!L94)) | G3954: =IF(ISBLANK('SOURCE EORD'!K94),"",('SOURCE EORD'!K94)) | H3954: =IF(ISBLANK('SOURCE EORD'!L94),"",('SOURCE EORD'!L94)) | I3954: =IF((A3954=""),"",(IF(OR(A3954=A3953,A3954=A3955),TRUE,FALSE)))
A3955: =IF(ISBLANK('SOURCE EORD'!B95),"",('SOURCE EORD'!B95)) | B3955: =IF(ISBLANK('SOURCE EORD'!I95),"",('SOURCE EORD'!I95)) | C3955: =IF(ISBLANK('SOURCE EORD'!K95),"",('SOURCE EORD'!K95)) | D3955: =IF(ISBLANK('SOURCE EORD'!L95),"",('SOURCE EORD'!L95)) | E3955: =IF(ISBLANK('SOURCE EORD'!B95&'SOURCE EORD'!I95),"",('SOURCE EORD'!B95&'SOURCE EORD'!I95)) | F3955: =IF(ISBLANK('SOURCE EORD'!B95&'SOURCE EORD'!I95&'SOURCE EORD'!K95&'SOURCE EORD'!L95),"",('SOURCE EORD'!B95&'SOURCE EORD'!I95&'SOURCE EORD'!K95&'SOURCE EORD'!L95)) | G3955: =IF(ISBLANK('SOURCE EORD'!K95),"",('SOURCE EORD'!K95)) | H3955: =IF(ISBLANK('SOURCE EORD'!L95),"",('SOURCE EORD'!L95)) | I3955: =IF((A3955=""),"",(IF(OR(A3955=A3954,A3955=A3956),TRUE,FALSE)))
A3956: =IF(ISBLANK('SOURCE EORD'!B96),"",('SOURCE EORD'!B96)) | B3956: =IF(ISBLANK('SOURCE EORD'!I96),"",('SOURCE EORD'!I96)) | C3956: =IF(ISBLANK('SOURCE EORD'!K96),"",('SOURCE EORD'!K96)) | D3956: =IF(ISBLANK('SOURCE EORD'!L96),"",('SOURCE EORD'!L96)) | E3956: =IF(ISBLANK('SOURCE EORD'!B96&'SOURCE EORD'!I96),"",('SOURCE EORD'!B96&'SOURCE EORD'!I96)) | F3956: =IF(ISBLANK('SOURCE EORD'!B96&'SOURCE EORD'!I96&'SOURCE EORD'!K96&'SOURCE EORD'!L96),"",('SOURCE EORD'!B96&'SOURCE EORD'!I96&'SOURCE EORD'!K96&'SOURCE EORD'!L96)) | G3956: =IF(ISBLANK('SOURCE EORD'!K96),"",('SOURCE EORD'!K96)) | H3956: =IF(ISBLANK('SOURCE EORD'!L96),"",('SOURCE EORD'!L96)) | I3956: =IF((A3956=""),"",(IF(OR(A3956=A3955,A3956=A3957),TRUE,FALSE)))
A3957: =IF(ISBLANK('SOURCE EORD'!B97),"",('SOURCE EORD'!B97)) | B3957: =IF(ISBLANK('SOURCE EORD'!I97),"",('SOURCE EORD'!I97)) | C3957: =IF(ISBLANK('SOURCE EORD'!K97),"",('SOURCE EORD'!K97)) | D3957: =IF(ISBLANK('SOURCE EORD'!L97),"",('SOURCE EORD'!L97)) | E3957: =IF(ISBLANK('SOURCE EORD'!B97&'SOURCE EORD'!I97),"",('SOURCE EORD'!B97&'SOURCE EORD'!I97)) | F3957: =IF(ISBLANK('SOURCE EORD'!B97&'SOURCE EORD'!I97&'SOURCE EORD'!K97&'SOURCE EORD'!L97),"",('SOURCE EORD'!B97&'SOURCE EORD'!I97&'SOURCE EORD'!K97&'SOURCE EORD'!L97)) | G3957: =IF(ISBLANK('SOURCE EORD'!K97),"",('SOURCE EORD'!K97)) | H3957: =IF(ISBLANK('SOURCE EORD'!L97),"",('SOURCE EORD'!L97)) | I3957: =IF((A3957=""),"",(IF(OR(A3957=A3956,A3957=A3958),TRUE,FALSE)))
A3958: =IF(ISBLANK('SOURCE EORD'!B98),"",('SOURCE EORD'!B98)) | B3958: =IF(ISBLANK('SOURCE EORD'!I98),"",('SOURCE EORD'!I98)) | C3958: =IF(ISBLANK('SOURCE EORD'!K98),"",('SOURCE EORD'!K98)) | D3958: =IF(ISBLANK('SOURCE EORD'!L98),"",('SOURCE EORD'!L98)) | E3958: =IF(ISBLANK('SOURCE EORD'!B98&'SOURCE EORD'!I98),"",('SOURCE EORD'!B98&'SOURCE EORD'!I98)) | F3958: =IF(ISBLANK('SOURCE EORD'!B98&'SOURCE EORD'!I98&'SOURCE EORD'!K98&'SOURCE EORD'!L98),"",('SOURCE EORD'!B98&'SOURCE EORD'!I98&'SOURCE EORD'!K98&'SOURCE EORD'!L98)) | G3958: =IF(ISBLANK('SOURCE EORD'!K98),"",('SOURCE EORD'!K98)) | H3958: =IF(ISBLANK('SOURCE EORD'!L98),"",('SOURCE EORD'!L98)) | I3958: =IF((A3958=""),"",(IF(OR(A3958=A3957,A3958=A3959),TRUE,FALSE)))
A3959: =IF(ISBLANK('SOURCE EORD'!B99),"",('SOURCE EORD'!B99)) | B3959: =IF(ISBLANK('SOURCE EORD'!I99),"",('SOURCE EORD'!I99)) | C3959: =IF(ISBLANK('SOURCE EORD'!K99),"",('SOURCE EORD'!K99)) | D3959: =IF(ISBLANK('SOURCE EORD'!L99),"",('SOURCE EORD'!L99)) | E3959: =IF(ISBLANK('SOURCE EORD'!B99&'SOURCE EORD'!I99),"",('SOURCE EORD'!B99&'SOURCE EORD'!I99)) | F3959: =IF(ISBLANK('SOURCE EORD'!B99&'SOURCE EORD'!I99&'SOURCE EORD'!K99&'SOURCE EORD'!L99),"",('SOURCE EORD'!B99&'SOURCE EORD'!I99&'SOURCE EORD'!K99&'SOURCE EORD'!L99)) | G3959: =IF(ISBLANK('SOURCE EORD'!K99),"",('SOURCE EORD'!K99)) | H3959: =IF(ISBLANK('SOURCE EORD'!L99),"",('SOURCE EORD'!L99)) | I3959: =IF((A3959=""),"",(IF(OR(A3959=A3958,A3959=A3960),TRUE,FALSE)))
A3960: =IF(ISBLANK('SOURCE EORD'!B100),"",('SOURCE EORD'!B100)) | B3960: =IF(ISBLANK('SOURCE EORD'!I100),"",('SOURCE EORD'!I100)) | C3960: =IF(ISBLANK('SOURCE EORD'!K100),"",('SOURCE EORD'!K100)) | D3960: =IF(ISBLANK('SOURCE EORD'!L100),"",('SOURCE EORD'!L100)) | E3960: =IF(ISBLANK('SOURCE EORD'!B100&'SOURCE EORD'!I100),"",('SOURCE EORD'!B100&'SOURCE EORD'!I100)) | F3960: =IF(ISBLANK('SOURCE EORD'!B100&'SOURCE EORD'!I100&'SOURCE EORD'!K100&'SOURCE EORD'!L100),"",('SOURCE EORD'!B100&'SOURCE EORD'!I100&'SOURCE EORD'!K100&'SOURCE EORD'!L100)) | G3960: =IF(ISBLANK('SOURCE EORD'!K100),"",('SOURCE EORD'!K100)) | H3960: =IF(ISBLANK('SOURCE EORD'!L100),"",('SOURCE EORD'!L100)) | I3960: =IF((A3960=""),"",(IF(OR(A3960=A3959,A3960=A3961),TRUE,FALSE)))
A3961: =IF(ISBLANK('SOURCE EORD'!B101),"",('SOURCE EORD'!B101)) | B3961: =IF(ISBLANK('SOURCE EORD'!I101),"",('SOURCE EORD'!I101)) | C3961: =IF(ISBLANK('SOURCE EORD'!K101),"",('SOURCE EORD'!K101)) | D3961: =IF(ISBLANK('SOURCE EORD'!L101),"",('SOURCE EORD'!L101)) | E3961: =IF(ISBLANK('SOURCE EORD'!B101&'SOURCE EORD'!I101),"",('SOURCE EORD'!B101&'SOURCE EORD'!I101)) | F3961: =IF(ISBLANK('SOURCE EORD'!B101&'SOURCE EORD'!I101&'SOURCE EORD'!K101&'SOURCE EORD'!L101),"",('SOURCE EORD'!B101&'SOURCE EORD'!I101&'SOURCE EORD'!K101&'SOURCE EORD'!L101)) | G3961: =IF(ISBLANK('SOURCE EORD'!K101),"",('SOURCE EORD'!K101)) | H3961: =IF(ISBLANK('SOURCE EORD'!L101),"",('SOURCE EORD'!L101)) | I3961: =IF((A3961=""),"",(IF(OR(A3961=A3960,A3961=A3962),TRUE,FALSE)))
... A4000: =IF(ISBLANK('SOURCE EORD'!B140),"",('SOURCE EORD'!B140)) | B4000: =IF(ISBLANK('SOURCE EORD'!I140),"",('SOURCE EORD'!I140)) | C4000: =IF(ISBLANK('SOURCE EORD'!K140),"",('SOURCE EORD'!K140)) | D4000: =IF(ISBLANK('SOURCE EORD'!L140),"",('SOURCE EORD'!L140)) | E4000: =IF(ISBLANK('SOURCE EORD'!B140&'SOURCE EORD'!I140),"",('SOURCE EORD'!B140&'SOURCE EORD'!I140)) | F4000: =IF(ISBLANK('SOURCE EORD'!B140&'SOURCE EORD'!I140&'SOURCE EORD'!K140&'SOURCE EORD'!L140),"",('SOURCE EORD'!B140&'SOURCE EORD'!I140&'SOURCE EORD'!K140&'SOURCE EORD'!L140)) | G4000: =IF(ISBLANK('SOURCE EORD'!K140),"",('SOURCE EORD'!K140)) | H4000: =IF(ISBLANK('SOURCE EORD'!L140),"",('SOURCE EORD'!L140)) | I4000: =IF((A4000=""),"",(IF(OR(A4000=A3999,A4000=A4001),TRUE,FALSE)))
