Workbook

Sheet Manquant
A1: Composé | B1: CIE | C1: Date du besoin | D1: Ordre | E1: Article de l'élément de réappro | F1: Composant | G1: Désignation article | H1: Type de réapprovisionnement | I1: Date de réapprovisionnement | J1: Date de réappro estimée | K1: Commentaires | L1: DATE Réappro | M1: Date Estimée | N1: DATE | O1: Besoin Client | P1: Critique (-25j) | Q1: Commentaires1 | R1: Commentaires2 | S1: Commentaires3 | T1: CommentaireFinal
A2: Composé1 | B2: Produit 1 | C2: 43571 | F2: Composant 1 | G2: Composant 1 | H2: CDE_HA_AR | I2: 43613 | L2: =IF(ISNUMBER(Manquant[[#This Row],[Date de réapprovisionnement]]),Manquant[[#This Row],[Date de réapprovisionnement]],"") -> 43613 | M2: =IF(ISNUMBER(Manquant[[#This Row],[Date de réappro estimée]]),Manquant[[#This Row],[Date de réappro estimée]],"") | N2: =IF(Manquant[[#This Row],[DATE Réappro]]="",(IF(Manquant[[#This Row],[Date Estimée]]="","NO DATE",Manquant[[#This Row],[Date Estimée]])),Manquant[[#This Row],[DATE Réappro]]) -> 43613 | O2: 43282 | P2: =IF(Manquant[[#This Row],[Besoin Client]]="","NO DATE CLIENT",(IF(Manquant[[#This Row],[DATE]]="NO DATE",TRUE,(IF(Manquant[[#This Row],[Besoin Client]]-Manquant[[#This Row],[DATE]]<25,TRUE,""))))) -> TRUE | Q2: =IF(ISTEXT(Manquant[[#This Row],[Date de réapprovisionnement]]),Manquant[[#This Row],[Date de réapprovisionnement]],"") | R2: =IF(ISTEXT(Manquant[[#This Row],[Date de réappro estimée]]),Manquant[[#This Row],[Date de réappro estimée]],"") | S2: =IF((Manquant[Commentaires]=""),"",Manquant[Commentaires]) | T2: =Manquant[Commentaires1]&CHAR(10)&Manquant[Commentaires2]&CHAR(10)&Manquant[Commentaires3]
A3: Composé1 | B3: Produit 1 | C3: 43571 | F3: Composant 2 | G3: Composant 2 | H3: CDE_HA_AR | I3: 43585 | L3: =IF(ISNUMBER(Manquant[[#This Row],[Date de réapprovisionnement]]),Manquant[[#This Row],[Date de réapprovisionnement]],"") -> 43585 | M3: =IF(ISNUMBER(Manquant[[#This Row],[Date de réappro estimée]]),Manquant[[#This Row],[Date de réappro estimée]],"") | N3: =IF(Manquant[[#This Row],[DATE Réappro]]="",(IF(Manquant[[#This Row],[Date Estimée]]="","NO DATE",Manquant[[#This Row],[Date Estimée]])),Manquant[[#This Row],[DATE Réappro]]) -> 43585 | O3: 43282 | P3: =IF(Manquant[[#This Row],[Besoin Client]]="","NO DATE CLIENT",(IF(Manquant[[#This Row],[DATE]]="NO DATE",TRUE,(IF(Manquant[[#This Row],[Besoin Client]]-Manquant[[#This Row],[DATE]]<25,TRUE,""))))) -> TRUE | Q3: =IF(ISTEXT(Manquant[[#This Row],[Date de réapprovisionnement]]),Manquant[[#This Row],[Date de réapprovisionnement]],"") | R3: =IF(ISTEXT(Manquant[[#This Row],[Date de réappro estimée]]),Manquant[[#This Row],[Date de réappro estimée]],"") | S3: =IF((Manquant[Commentaires]=""),"",Manquant[Commentaires]) | T3: =Manquant[Commentaires1]&CHAR(10)&Manquant[Commentaires2]&CHAR(10)&Manquant[Commentaires3]
A4: Composé1 | B4: Produit 1 | C4: 43571 | F4: Composant 3 | G4: Composant 3 | H4: CDE_HA_AR | I4: 43627 | L4: =IF(ISNUMBER(Manquant[[#This Row],[Date de réapprovisionnement]]),Manquant[[#This Row],[Date de réapprovisionnement]],"") -> 43627 | M4: =IF(ISNUMBER(Manquant[[#This Row],[Date de réappro estimée]]),Manquant[[#This Row],[Date de réappro estimée]],"") | N4: =IF(Manquant[[#This Row],[DATE Réappro]]="",(IF(Manquant[[#This Row],[Date Estimée]]="","NO DATE",Manquant[[#This Row],[Date Estimée]])),Manquant[[#This Row],[DATE Réappro]]) -> 43627 | O4: 43282 | P4: =IF(Manquant[[#This Row],[Besoin Client]]="","NO DATE CLIENT",(IF(Manquant[[#This Row],[DATE]]="NO DATE",TRUE,(IF(Manquant[[#This Row],[Besoin Client]]-Manquant[[#This Row],[DATE]]<25,TRUE,""))))) -> TRUE | Q4: =IF(ISTEXT(Manquant[[#This Row],[Date de réapprovisionnement]]),Manquant[[#This Row],[Date de réapprovisionnement]],"") | R4: =IF(ISTEXT(Manquant[[#This Row],[Date de réappro estimée]]),Manquant[[#This Row],[Date de réappro estimée]],"") | S4: =IF((Manquant[Commentaires]=""),"",Manquant[Commentaires]) | T4: =Manquant[Commentaires1]&CHAR(10)&Manquant[Commentaires2]&CHAR(10)&Manquant[Commentaires3]
A5: Composé1 | B5: Produit 1 | C5: 43595 | F5: Composant 4 | G5: Composant 4 | H5: CDE_HA_AR | I5: 43619 | L5: =IF(ISNUMBER(Manquant[[#This Row],[Date de réapprovisionnement]]),Manquant[[#This Row],[Date de réapprovisionnement]],"") -> 43619 | M5: =IF(ISNUMBER(Manquant[[#This Row],[Date de réappro estimée]]),Manquant[[#This Row],[Date de réappro estimée]],"") | N5: =IF(Manquant[[#This Row],[DATE Réappro]]="",(IF(Manquant[[#This Row],[Date Estimée]]="","NO DATE",Manquant[[#This Row],[Date Estimée]])),Manquant[[#This Row],[DATE Réappro]]) -> 43619 | O5: 43282 | P5: =IF(Manquant[[#This Row],[Besoin Client]]="","NO DATE CLIENT",(IF(Manquant[[#This Row],[DATE]]="NO DATE",TRUE,(IF(Manquant[[#This Row],[Besoin Client]]-Manquant[[#This Row],[DATE]]<25,TRUE,""))))) -> TRUE | Q5: =IF(ISTEXT(Manquant[[#This Row],[Date de réapprovisionnement]]),Manquant[[#This Row],[Date de réapprovisionnement]],"") | R5: =IF(ISTEXT(Manquant[[#This Row],[Date de réappro estimée]]),Manquant[[#This Row],[Date de réappro estimée]],"") | S5: =IF((Manquant[Commentaires]=""),"",Manquant[Commentaires]) | T5: =Manquant[Commentaires1]&CHAR(10)&Manquant[Commentaires2]&CHAR(10)&Manquant[Commentaires3]
A6: Composé2 | B6: Produit 2 | C6: 43595 | F6: Composant 5 | G6: Composant 5 | H6: CDE_HA_AR | I6: 43629 | L6: =IF(ISNUMBER(Manquant[[#This Row],[Date de réapprovisionnement]]),Manquant[[#This Row],[Date de réapprovisionnement]],"") -> 43629 | M6: =IF(ISNUMBER(Manquant[[#This Row],[Date de réappro estimée]]),Manquant[[#This Row],[Date de réappro estimée]],"") | N6: =IF(Manquant[[#This Row],[DATE Réappro]]="",(IF(Manquant[[#This Row],[Date Estimée]]="","NO DATE",Manquant[[#This Row],[Date Estimée]])),Manquant[[#This Row],[DATE Réappro]]) -> 43629 | O6: 43282 | P6: =IF(Manquant[[#This Row],[Besoin Client]]="","NO DATE CLIENT",(IF(Manquant[[#This Row],[DATE]]="NO DATE",TRUE,(IF(Manquant[[#This Row],[Besoin Client]]-Manquant[[#This Row],[DATE]]<25,TRUE,""))))) -> TRUE | Q6: =IF(ISTEXT(Manquant[[#This Row],[Date de réapprovisionnement]]),Manquant[[#This Row],[Date de réapprovisionnement]],"") | R6: =IF(ISTEXT(Manquant[[#This Row],[Date de réappro estimée]]),Manquant[[#This Row],[Date de réappro estimée]],"") | S6: =IF((Manquant[Commentaires]=""),"",Manquant[Commentaires]) | T6: =Manquant[Commentaires1]&CHAR(10)&Manquant[Commentaires2]&CHAR(10)&Manquant[Commentaires3]
A7: Composé2 | B7: Produit 2 | C7: 43595 | F7: Composant 6 | G7: Composant 6 | H7: CDE_HA | I7: Attente AR | J7: 43588 | K7: Commande en attente | L7: =IF(ISNUMBER(Manquant[[#This Row],[Date de réapprovisionnement]]),Manquant[[#This Row],[Date de réapprovisionnement]],"") | M7: =IF(ISNUMBER(Manquant[[#This Row],[Date de réappro estimée]]),Manquant[[#This Row],[Date de réappro estimée]],"") -> 43588 | N7: =IF(Manquant[[#This Row],[DATE Réappro]]="",(IF(Manquant[[#This Row],[Date Estimée]]="","NO DATE",Manquant[[#This Row],[Date Estimée]])),Manquant[[#This Row],[DATE Réappro]]) -> 43588 | O7: 43282 | P7: =IF(Manquant[[#This Row],[Besoin Client]]="","NO DATE CLIENT",(IF(Manquant[[#This Row],[DATE]]="NO DATE",TRUE,(IF(Manquant[[#This Row],[Besoin Client]]-Manquant[[#This Row],[DATE]]<25,TRUE,""))))) -> TRUE | Q7: =IF(ISTEXT(Manquant[[#This Row],[Date de réapprovisionnement]]),Manquant[[#This Row],[Date de réapprovisionnement]],"") -> Attente AR | R7: =IF(ISTEXT(Manquant[[#This Row],[Date de réappro estimée]]),Manquant[[#This Row],[Date de réappro estimée]],"") | S7: =IF((Manquant[Commentaires]=""),"",Manquant[Commentaires]) -> Commande en attente | T7: =Manquant[Commentaires1]&CHAR(10)&Manquant[Commentaires2]&CHAR(10)&Manquant[Commentaires3] -> Attente AR Commande en attente
A8: Composé3 | B8: Produit 3 | C8: 43600 | F8: Composant 7 | G8: Composant 7 | H8: CDE_HA_AR | I8: 43584 | L8: =IF(ISNUMBER(Manquant[[#This Row],[Date de réapprovisionnement]]),Manquant[[#This Row],[Date de réapprovisionnement]],"") -> 43584 | M8: =IF(ISNUMBER(Manquant[[#This Row],[Date de réappro estimée]]),Manquant[[#This Row],[Date de réappro estimée]],"") | N8: =IF(Manquant[[#This Row],[DATE Réappro]]="",(IF(Manquant[[#This Row],[Date Estimée]]="","NO DATE",Manquant[[#This Row],[Date Estimée]])),Manquant[[#This Row],[DATE Réappro]]) -> 43584 | O8: 43282 | P8: =IF(Manquant[[#This Row],[Besoin Client]]="","NO DATE CLIENT",(IF(Manquant[[#This Row],[DATE]]="NO DATE",TRUE,(IF(Manquant[[#This Row],[Besoin Client]]-Manquant[[#This Row],[DATE]]<25,TRUE,""))))) -> TRUE | Q8: =IF(ISTEXT(Manquant[[#This Row],[Date de réapprovisionnement]]),Manquant[[#This Row],[Date de réapprovisionnement]],"") | R8: =IF(ISTEXT(Manquant[[#This Row],[Date de réappro estimée]]),Manquant[[#This Row],[Date de réappro estimée]],"") | S8: =IF((Manquant[Commentaires]=""),"",Manquant[Commentaires]) | T8: =Manquant[Commentaires1]&CHAR(10)&Manquant[Commentaires2]&CHAR(10)&Manquant[Commentaires3]
A9: Composé3 | B9: Produit 3 | C9: 43595 | F9: Composant 8 | G9: Composant 8 | H9: CDE_HA_AR | I9: 43600 | L9: =IF(ISNUMBER(Manquant[[#This Row],[Date de réapprovisionnement]]),Manquant[[#This Row],[Date de réapprovisionnement]],"") -> 43600 | M9: =IF(ISNUMBER(Manquant[[#This Row],[Date de réappro estimée]]),Manquant[[#This Row],[Date de réappro estimée]],"") | N9: =IF(Manquant[[#This Row],[DATE Réappro]]="",(IF(Manquant[[#This Row],[Date Estimée]]="","NO DATE",Manquant[[#This Row],[Date Estimée]])),Manquant[[#This Row],[DATE Réappro]]) -> 43600 | O9: 43282 | P9: =IF(Manquant[[#This Row],[Besoin Client]]="","NO DATE CLIENT",(IF(Manquant[[#This Row],[DATE]]="NO DATE",TRUE,(IF(Manquant[[#This Row],[Besoin Client]]-Manquant[[#This Row],[DATE]]<25,TRUE,""))))) -> TRUE | Q9: =IF(ISTEXT(Manquant[[#This Row],[Date de réapprovisionnement]]),Manquant[[#This Row],[Date de réapprovisionnement]],"") | R9: =IF(ISTEXT(Manquant[[#This Row],[Date de réappro estimée]]),Manquant[[#This Row],[Date de réappro estimée]],"") | S9: =IF((Manquant[Commentaires]=""),"",Manquant[Commentaires]) | T9: =Manquant[Commentaires1]&CHAR(10)&Manquant[Commentaires2]&CHAR(10)&Manquant[Commentaires3]
A10: Composé4 | B10: Produit 4 | C10: 43600 | F10: Composant 9 | G10: Composant 9 | H10: CDE_HA | I10: Attente AR | J10: 43610 | K10: Commande en attente | L10: =IF(ISNUMBER(Manquant[[#This Row],[Date de réapprovisionnement]]),Manquant[[#This Row],[Date de réapprovisionnement]],"") | M10: =IF(ISNUMBER(Manquant[[#This Row],[Date de réappro estimée]]),Manquant[[#This Row],[Date de réappro estimée]],"") -> 43610 | N10: =IF(Manquant[[#This Row],[DATE Réappro]]="",(IF(Manquant[[#This Row],[Date Estimée]]="","NO DATE",Manquant[[#This Row],[Date Estimée]])),Manquant[[#This Row],[DATE Réappro]]) -> 43610 | O10: 43282 | P10: =IF(Manquant[[#This Row],[Besoin Client]]="","NO DATE CLIENT",(IF(Manquant[[#This Row],[DATE]]="NO DATE",TRUE,(IF(Manquant[[#This Row],[Besoin Client]]-Manquant[[#This Row],[DATE]]<25,TRUE,""))))) -> TRUE | Q10: =IF(ISTEXT(Manquant[[#This Row],[Date de réapprovisionnement]]),Manquant[[#This Row],[Date de réapprovisionnement]],"") -> Attente AR | R10: =IF(ISTEXT(Manquant[[#This Row],[Date de réappro estimée]]),Manquant[[#This Row],[Date de réappro estimée]],"") | S10: =IF((Manquant[Commentaires]=""),"",Manquant[Commentaires]) -> Commande en attente | T10: =Manquant[Commentaires1]&CHAR(10)&Manquant[Commentaires2]&CHAR(10)&Manquant[Commentaires3] -> Attente AR Commande en attente
A11: Composé4 | B11: Produit 4 | C11: 43595 | F11: Composant 10 | G11: Composant 10 | H11: CDE_HA_AR | I11: 43584 | L11: =IF(ISNUMBER(Manquant[[#This Row],[Date de réapprovisionnement]]),Manquant[[#This Row],[Date de réapprovisionnement]],"") -> 43584 | M11: =IF(ISNUMBER(Manquant[[#This Row],[Date de réappro estimée]]),Manquant[[#This Row],[Date de réappro estimée]],"") | N11: =IF(Manquant[[#This Row],[DATE Réappro]]="",(IF(Manquant[[#This Row],[Date Estimée]]="","NO DATE",Manquant[[#This Row],[Date Estimée]])),Manquant[[#This Row],[DATE Réappro]]) -> 43584 | O11: 43282 | P11: =IF(Manquant[[#This Row],[Besoin Client]]="","NO DATE CLIENT",(IF(Manquant[[#This Row],[DATE]]="NO DATE",TRUE,(IF(Manquant[[#This Row],[Besoin Client]]-Manquant[[#This Row],[DATE]]<25,TRUE,""))))) -> TRUE | Q11: =IF(ISTEXT(Manquant[[#This Row],[Date de réapprovisionnement]]),Manquant[[#This Row],[Date de réapprovisionnement]],"") | R11: =IF(ISTEXT(Manquant[[#This Row],[Date de réappro estimée]]),Manquant[[#This Row],[Date de réappro estimée]],"") | S11: =IF((Manquant[Commentaires]=""),"",Manquant[Commentaires]) | T11: =Manquant[Commentaires1]&CHAR(10)&Manquant[Commentaires2]&CHAR(10)&Manquant[Commentaires3]
A12: Composé5 | B12: Produit 5 | C12: 43600 | F12: Composant 11 | G12: Composant 11 | H12: CDE_HA_AR | I12: 43598 | L12: =IF(ISNUMBER(Manquant[[#This Row],[Date de réapprovisionnement]]),Manquant[[#This Row],[Date de réapprovisionnement]],"") -> 43598 | M12: =IF(ISNUMBER(Manquant[[#This Row],[Date de réappro estimée]]),Manquant[[#This Row],[Date de réappro estimée]],"") | N12: =IF(Manquant[[#This Row],[DATE Réappro]]="",(IF(Manquant[[#This Row],[Date Estimée]]="","NO DATE",Manquant[[#This Row],[Date Estimée]])),Manquant[[#This Row],[DATE Réappro]]) -> 43598 | O12: 43282 | P12: =IF(Manquant[[#This Row],[Besoin Client]]="","NO DATE CLIENT",(IF(Manquant[[#This Row],[DATE]]="NO DATE",TRUE,(IF(Manquant[[#This Row],[Besoin Client]]-Manquant[[#This Row],[DATE]]<25,TRUE,""))))) -> TRUE | Q12: =IF(ISTEXT(Manquant[[#This Row],[Date de réapprovisionnement]]),Manquant[[#This Row],[Date de réapprovisionnement]],"") | R12: =IF(ISTEXT(Manquant[[#This Row],[Date de réappro estimée]]),Manquant[[#This Row],[Date de réappro estimée]],"") | S12: =IF((Manquant[Commentaires]=""),"",Manquant[Commentaires]) | T12: =Manquant[Commentaires1]&CHAR(10)&Manquant[Commentaires2]&CHAR(10)&Manquant[Commentaires3]

Sheet Planning
A1: N° affaire | B1: Statut DD GITIS | C1: Projet | D1: N° RUN | E1: Référence | F1: Désignation | G1: Qté | H1: Profil de Four | I1: RoHS Plomb | J1: OF | K1: Statut ADV | L1: Préparateur | M1: Date besoin client
E2: Composé1 | F2: Composé1 | G2: 1 | M2: 43282
E3: Composé2 | F3: Composé2 | G3: 9 | M3: 43282
E4: Composé3 | F4: Composé3 | G4: 7 | M4: 43282
E5: Composé4 | F5: Composé4 | G5: 3 | M5: 43282
E6: Composé5 | F6: Composé5 | G6: 2 | M6: 43282

Sheet NBR Composants
A1: Composé | B1: NBR Composants | C1: NBR produits
A2: Composé1 | B2: 66 | C2: 10
A3: Composé2 | B3: 58 | C3: 4
A4: Composé3 | B4: 142 | C4: 5
A5: Composé4 | B5: 236 | C5: 8
A6: Composé5 | B6: 144 | C6: 7

Sheet Synthese
A1: N° | B1: Ref | C1: Désignation | D1: CIU reçu | E1: Date Besoin Client | F1: Date Lancement Prod | G1: NBR Cartes demandées | H1: NBR ref / carte | I1: Manquant Composants | J1: Combien ? | K1: Date de livraison dernier composant | L1: Commentaires
A2: 1 | B2: Composé1 | C2: =IF((Synthese[[#This Row],[Ref]]=""),"",(VLOOKUP(Synthese[[#This Row],[Ref]],Planning!E:F,2,FALSE))) -> Composé1 | D2: =IF(COUNTIFS(Manquant[Composé],Synthese[[#This Row],[Ref]],Manquant[Désignation article],"*CIU*")=1,"NON","") | E2: =IF((Synthese[[#This Row],[Ref]]=""),"",_xlfn.IFNA(IF((VLOOKUP(Synthese[[#This Row],[Ref]],Planning!E:M,9,FALSE)=0),"NO DATE CLIENT",(VLOOKUP(Synthese[[#This Row],[Ref]],Planning!E:M,9,FALSE))),"NO DATE")) -> 43282 | F2: =IF((Synthese[[#This Row],[Ref]]=""),"",IF( Synthese[[#This Row],[Date Besoin Client]]="NO DATE CLIENT","NO DATE CLIENT",Synthese[[#This Row],[Date Besoin Client]]-25)) -> 43257 | G2: =IF((Synthese[[#This Row],[Ref]]=""),"",(VLOOKUP(Synthese[[#This Row],[Ref]],'NBR Composants'!A:C,3,FALSE))) -> 10 | H2: =IF((Synthese[[#This Row],[Ref]]=""),"",(VLOOKUP(Synthese[[#This Row],[Ref]],'NBR Composants'!A:B,2,FALSE))) -> 66 | I2: =IF((Synthese[[#This Row],[Ref]]=""),"",(_xlfn.IFNA(IF(VLOOKUP(Synthese[[#This Row],[Ref]],Manquant!A:A,1,FALSE)=Synthese[[#This Row],[Ref]],TRUE,FALSE),FALSE))) -> TRUE | J2: =IF((Synthese[[#This Row],[Ref]]=""),"",COUNTIFS(Manquant!A:A,Synthese[[#This Row],[Ref]])) -> 4 | K2: {=IF((Synthese[[#This Row],[Ref]]=""),"",IF(MAX(IF(Manquant[Composé]=Synthese[[#This Row],[Ref]],Manquant[DATE]))=0,"",MAX(IF(Manquant[Composé]=Synthese[[#This Row],[Ref]],Manquant[DATE]))))} -> 43627 | L2: {=IF((Synthese[[#This Row],[Ref]]=""),"",IF(MAX(IF(Manquant[Composé]=Synthese[[#This Row],[Ref]],Manquant[CommentaireFinal]))=0,"",MAX(IF(Manquant[Composé]=Synthese[[#This Row],[Ref]],Manquant[CommentaireFinal]))))}
A3: 2 | B3: Composé2 | C3: =IF((Synthese[[#This Row],[Ref]]=""),"",(VLOOKUP(Synthese[[#This Row],[Ref]],Planning!E:F,2,FALSE))) -> Composé2 | D3: =IF(COUNTIFS(Manquant[Composé],Synthese[[#This Row],[Ref]],Manquant[Désignation article],"*CIU*")=1,"NON","") | E3: =IF((Synthese[[#This Row],[Ref]]=""),"",_xlfn.IFNA(IF((VLOOKUP(Synthese[[#This Row],[Ref]],Planning!E:M,9,FALSE)=0),"NO DATE CLIENT",(VLOOKUP(Synthese[[#This Row],[Ref]],Planning!E:M,9,FALSE))),"NO DATE")) -> 43282 | F3: =IF((Synthese[[#This Row],[Ref]]=""),"",IF( Synthese[[#This Row],[Date Besoin Client]]="NO DATE CLIENT","NO DATE CLIENT",Synthese[[#This Row],[Date Besoin Client]]-25)) -> 43257 | G3: =IF((Synthese[[#This Row],[Ref]]=""),"",(VLOOKUP(Synthese[[#This Row],[Ref]],'NBR Composants'!A:C,3,FALSE))) -> 4 | H3: =IF((Synthese[[#This Row],[Ref]]=""),"",(VLOOKUP(Synthese[[#This Row],[Ref]],'NBR Composants'!A:B,2,FALSE))) -> 58 | I3: =IF((Synthese[[#This Row],[Ref]]=""),"",(_xlfn.IFNA(IF(VLOOKUP(Synthese[[#This Row],[Ref]],Manquant!A:A,1,FALSE)=Synthese[[#This Row],[Ref]],TRUE,FALSE),FALSE))) -> TRUE | J3: =IF((Synthese[[#This Row],[Ref]]=""),"",COUNTIFS(Manquant!A:A,Synthese[[#This Row],[Ref]])) -> 2 | K3: {=IF((Synthese[[#This Row],[Ref]]=""),"",IF(MAX(IF(Manquant[Composé]=Synthese[[#This Row],[Ref]],Manquant[DATE]))=0,"",MAX(IF(Manquant[Composé]=Synthese[[#This Row],[Ref]],Manquant[DATE]))))} -> 43629 | L3: {=IF((Synthese[[#This Row],[Ref]]=""),"",IF(MAX(IF(Manquant[Composé]=Synthese[[#This Row],[Ref]],Manquant[DATE]))=0,"",MAX(IF(Manquant[Composé]=Synthese[[#This Row],[Ref]],Manquant[CommentaireFinal]))))} -> 0
A4: 3 | B4: Composé3 | C4: =IF((Synthese[[#This Row],[Ref]]=""),"",(VLOOKUP(Synthese[[#This Row],[Ref]],Planning!E:F,2,FALSE))) -> Composé3 | D4: =IF(COUNTIFS(Manquant[Composé],Synthese[[#This Row],[Ref]],Manquant[Désignation article],"*CIU*")=1,"NON","") | E4: =IF((Synthese[[#This Row],[Ref]]=""),"",_xlfn.IFNA(IF((VLOOKUP(Synthese[[#This Row],[Ref]],Planning!E:M,9,FALSE)=0),"NO DATE CLIENT",(VLOOKUP(Synthese[[#This Row],[Ref]],Planning!E:M,9,FALSE))),"NO DATE")) -> 43282 | F4: =IF((Synthese[[#This Row],[Ref]]=""),"",IF( Synthese[[#This Row],[Date Besoin Client]]="NO DATE CLIENT","NO DATE CLIENT",Synthese[[#This Row],[Date Besoin Client]]-25)) -> 43257 | G4: =IF((Synthese[[#This Row],[Ref]]=""),"",(VLOOKUP(Synthese[[#This Row],[Ref]],'NBR Composants'!A:C,3,FALSE))) -> 5 | H4: =IF((Synthese[[#This Row],[Ref]]=""),"",(VLOOKUP(Synthese[[#This Row],[Ref]],'NBR Composants'!A:B,2,FALSE))) -> 142 | I4: =IF((Synthese[[#This Row],[Ref]]=""),"",(_xlfn.IFNA(IF(VLOOKUP(Synthese[[#This Row],[Ref]],Manquant!A:A,1,FALSE)=Synthese[[#This Row],[Ref]],TRUE,FALSE),FALSE))) -> TRUE | J4: =IF((Synthese[[#This Row],[Ref]]=""),"",COUNTIFS(Manquant!A:A,Synthese[[#This Row],[Ref]])) -> 2 | K4: {=IF((Synthese[[#This Row],[Ref]]=""),"",IF(MAX(IF(Manquant[Composé]=Synthese[[#This Row],[Ref]],Manquant[DATE]))=0,"",MAX(IF(Manquant[Composé]=Synthese[[#This Row],[Ref]],Manquant[DATE]))))} -> 43600 | L4: {=IF((Synthese[[#This Row],[Ref]]=""),"",IF(MAX(IF(Manquant[Composé]=Synthese[[#This Row],[Ref]],Manquant[DATE]))=0,"",MAX(IF(Manquant[Composé]=Synthese[[#This Row],[Ref]],Manquant[CommentaireFinal]))))} -> 0
A5: 4 | B5: Composé4 | C5: =IF((Synthese[[#This Row],[Ref]]=""),"",(VLOOKUP(Synthese[[#This Row],[Ref]],Planning!E:F,2,FALSE))) -> Composé4 | D5: =IF(COUNTIFS(Manquant[Composé],Synthese[[#This Row],[Ref]],Manquant[Désignation article],"*CIU*")=1,"NON","") | E5: =IF((Synthese[[#This Row],[Ref]]=""),"",_xlfn.IFNA(IF((VLOOKUP(Synthese[[#This Row],[Ref]],Planning!E:M,9,FALSE)=0),"NO DATE CLIENT",(VLOOKUP(Synthese[[#This Row],[Ref]],Planning!E:M,9,FALSE))),"NO DATE")) -> 43282 | F5: =IF((Synthese[[#This Row],[Ref]]=""),"",IF( Synthese[[#This Row],[Date Besoin Client]]="NO DATE CLIENT","NO DATE CLIENT",Synthese[[#This Row],[Date Besoin Client]]-25)) -> 43257 | G5: =IF((Synthese[[#This Row],[Ref]]=""),"",(VLOOKUP(Synthese[[#This Row],[Ref]],'NBR Composants'!A:C,3,FALSE))) -> 8 | H5: =IF((Synthese[[#This Row],[Ref]]=""),"",(VLOOKUP(Synthese[[#This Row],[Ref]],'NBR Composants'!A:B,2,FALSE))) -> 236 | I5: =IF((Synthese[[#This Row],[Ref]]=""),"",(_xlfn.IFNA(IF(VLOOKUP(Synthese[[#This Row],[Ref]],Manquant!A:A,1,FALSE)=Synthese[[#This Row],[Ref]],TRUE,FALSE),FALSE))) -> TRUE | J5: =IF((Synthese[[#This Row],[Ref]]=""),"",COUNTIFS(Manquant!A:A,Synthese[[#This Row],[Ref]])) -> 2 | K5: {=IF((Synthese[[#This Row],[Ref]]=""),"",IF(MAX(IF(Manquant[Composé]=Synthese[[#This Row],[Ref]],Manquant[DATE]))=0,"",MAX(IF(Manquant[Composé]=Synthese[[#This Row],[Ref]],Manquant[DATE]))))} -> 43610 | L5: {=IF((Synthese[[#This Row],[Ref]]=""),"",IF(MAX(IF(Manquant[Composé]=Synthese[[#This Row],[Ref]],Manquant[DATE]))=0,"",MAX(IF(Manquant[Composé]=Synthese[[#This Row],[Ref]],Manquant[CommentaireFinal]))))} -> 0
A6: 5 | B6: Composé5 | C6: =IF((Synthese[[#This Row],[Ref]]=""),"",(VLOOKUP(Synthese[[#This Row],[Ref]],Planning!E:F,2,FALSE))) -> Composé5 | D6: =IF(COUNTIFS(Manquant[Composé],Synthese[[#This Row],[Ref]],Manquant[Désignation article],"*CIU*")=1,"NON","") | E6: =IF((Synthese[[#This Row],[Ref]]=""),"",_xlfn.IFNA(IF((VLOOKUP(Synthese[[#This Row],[Ref]],Planning!E:M,9,FALSE)=0),"NO DATE CLIENT",(VLOOKUP(Synthese[[#This Row],[Ref]],Planning!E:M,9,FALSE))),"NO DATE")) -> 43282 | F6: =IF((Synthese[[#This Row],[Ref]]=""),"",IF( Synthese[[#This Row],[Date Besoin Client]]="NO DATE CLIENT","NO DATE CLIENT",Synthese[[#This Row],[Date Besoin Client]]-25)) -> 43257 | G6: =IF((Synthese[[#This Row],[Ref]]=""),"",(VLOOKUP(Synthese[[#This Row],[Ref]],'NBR Composants'!A:C,3,FALSE))) -> 7 | H6: =IF((Synthese[[#This Row],[Ref]]=""),"",(VLOOKUP(Synthese[[#This Row],[Ref]],'NBR Composants'!A:B,2,FALSE))) -> 144 | I6: =IF((Synthese[[#This Row],[Ref]]=""),"",(_xlfn.IFNA(IF(VLOOKUP(Synthese[[#This Row],[Ref]],Manquant!A:A,1,FALSE)=Synthese[[#This Row],[Ref]],TRUE,FALSE),FALSE))) -> TRUE | J6: =IF((Synthese[[#This Row],[Ref]]=""),"",COUNTIFS(Manquant!A:A,Synthese[[#This Row],[Ref]])) -> 1 | K6: {=IF((Synthese[[#This Row],[Ref]]=""),"",IF(MAX(IF(Manquant[Composé]=Synthese[[#This Row],[Ref]],Manquant[DATE]))=0,"",MAX(IF(Manquant[Composé]=Synthese[[#This Row],[Ref]],Manquant[DATE]))))} -> 43598 | L6: {=IF((Synthese[[#This Row],[Ref]]=""),"",IF(MAX(IF(Manquant[Composé]=Synthese[[#This Row],[Ref]],Manquant[DATE]))=0,"",MAX(IF(Manquant[Composé]=Synthese[[#This Row],[Ref]],Manquant[CommentaireFinal]))))} -> 0
A7: 6 | C7: =IF((Synthese[[#This Row],[Ref]]=""),"",(VLOOKUP(Synthese[[#This Row],[Ref]],Planning!E:F,2,FALSE))) | D7: =IF(COUNTIFS(Manquant[Composé],Synthese[[#This Row],[Ref]],Manquant[Désignation article],"*CIU*")=1,"NON","") | E7: =IF((Synthese[[#This Row],[Ref]]=""),"",_xlfn.IFNA(IF((VLOOKUP(Synthese[[#This Row],[Ref]],Planning!E:M,9,FALSE)=0),"NO DATE CLIENT",(VLOOKUP(Synthese[[#This Row],[Ref]],Planning!E:M,9,FALSE))),"NO DATE")) | F7: =IF((Synthese[[#This Row],[Ref]]=""),"",IF( Synthese[[#This Row],[Date Besoin Client]]="NO DATE CLIENT","NO DATE CLIENT",Synthese[[#This Row],[Date Besoin Client]]-25)) | G7: =IF((Synthese[[#This Row],[Ref]]=""),"",(VLOOKUP(Synthese[[#This Row],[Ref]],'NBR Composants'!A:C,3,FALSE))) | H7: =IF((Synthese[[#This Row],[Ref]]=""),"",(VLOOKUP(Synthese[[#This Row],[Ref]],'NBR Composants'!A:B,2,FALSE))) | I7: =IF((Synthese[[#This Row],[Ref]]=""),"",(_xlfn.IFNA(IF(VLOOKUP(Synthese[[#This Row],[Ref]],Manquant!A:A,1,FALSE)=Synthese[[#This Row],[Ref]],TRUE,FALSE),FALSE))) | J7: =IF((Synthese[[#This Row],[Ref]]=""),"",COUNTIFS(Manquant!A:A,Synthese[[#This Row],[Ref]])) | K7: {=IF((Synthese[[#This Row],[Ref]]=""),"",IF(MAX(IF(Manquant[Composé]=Synthese[[#This Row],[Ref]],Manquant[DATE]))=0,"",MAX(IF(Manquant[Composé]=Synthese[[#This Row],[Ref]],Manquant[DATE]))))} | L7: {=IF((Synthese[[#This Row],[Ref]]=""),"",IF(MAX(IF(Manquant[Composé]=Synthese[[#This Row],[Ref]],Manquant[DATE]))=0,"",MAX(IF(Manquant[Composé]=Synthese[[#This Row],[Ref]],Manquant[CommentaireFinal]))))}
A8: 7 | C8: =IF((Synthese[[#This Row],[Ref]]=""),"",(VLOOKUP(Synthese[[#This Row],[Ref]],Planning!E:F,2,FALSE))) | D8: =IF(COUNTIFS(Manquant[Composé],Synthese[[#This Row],[Ref]],Manquant[Désignation article],"*CIU*")=1,"NON","") | E8: =IF((Synthese[[#This Row],[Ref]]=""),"",_xlfn.IFNA(IF((VLOOKUP(Synthese[[#This Row],[Ref]],Planning!E:M,9,FALSE)=0),"NO DATE CLIENT",(VLOOKUP(Synthese[[#This Row],[Ref]],Planning!E:M,9,FALSE))),"NO DATE")) | F8: =IF((Synthese[[#This Row],[Ref]]=""),"",IF( Synthese[[#This Row],[Date Besoin Client]]="NO DATE CLIENT","NO DATE CLIENT",Synthese[[#This Row],[Date Besoin Client]]-25)) | G8: =IF((Synthese[[#This Row],[Ref]]=""),"",(VLOOKUP(Synthese[[#This Row],[Ref]],'NBR Composants'!A:C,3,FALSE))) | H8: =IF((Synthese[[#This Row],[Ref]]=""),"",(VLOOKUP(Synthese[[#This Row],[Ref]],'NBR Composants'!A:B,2,FALSE))) | I8: =IF((Synthese[[#This Row],[Ref]]=""),"",(_xlfn.IFNA(IF(VLOOKUP(Synthese[[#This Row],[Ref]],Manquant!A:A,1,FALSE)=Synthese[[#This Row],[Ref]],TRUE,FALSE),FALSE))) | J8: =IF((Synthese[[#This Row],[Ref]]=""),"",COUNTIFS(Manquant!A:A,Synthese[[#This Row],[Ref]])) | K8: {=IF((Synthese[[#This Row],[Ref]]=""),"",IF(MAX(IF(Manquant[Composé]=Synthese[[#This Row],[Ref]],Manquant[DATE]))=0,"",MAX(IF(Manquant[Composé]=Synthese[[#This Row],[Ref]],Manquant[DATE]))))} | L8: {=IF((Synthese[[#This Row],[Ref]]=""),"",IF(MAX(IF(Manquant[Composé]=Synthese[[#This Row],[Ref]],Manquant[DATE]))=0,"",MAX(IF(Manquant[Composé]=Synthese[[#This Row],[Ref]],Manquant[CommentaireFinal]))))}
A9: 8 | C9: =IF((Synthese[[#This Row],[Ref]]=""),"",(VLOOKUP(Synthese[[#This Row],[Ref]],Planning!E:F,2,FALSE))) | D9: =IF(COUNTIFS(Manquant[Composé],Synthese[[#This Row],[Ref]],Manquant[Désignation article],"*CIU*")=1,"NON","") | E9: =IF((Synthese[[#This Row],[Ref]]=""),"",_xlfn.IFNA(IF((VLOOKUP(Synthese[[#This Row],[Ref]],Planning!E:M,9,FALSE)=0),"NO DATE CLIENT",(VLOOKUP(Synthese[[#This Row],[Ref]],Planning!E:M,9,FALSE))),"NO DATE")) | F9: =IF((Synthese[[#This Row],[Ref]]=""),"",IF( Synthese[[#This Row],[Date Besoin Client]]="NO DATE CLIENT","NO DATE CLIENT",Synthese[[#This Row],[Date Besoin Client]]-25)) | G9: =IF((Synthese[[#This Row],[Ref]]=""),"",(VLOOKUP(Synthese[[#This Row],[Ref]],'NBR Composants'!A:C,3,FALSE))) | H9: =IF((Synthese[[#This Row],[Ref]]=""),"",(VLOOKUP(Synthese[[#This Row],[Ref]],'NBR Composants'!A:B,2,FALSE))) | I9: =IF((Synthese[[#This Row],[Ref]]=""),"",(_xlfn.IFNA(IF(VLOOKUP(Synthese[[#This Row],[Ref]],Manquant!A:A,1,FALSE)=Synthese[[#This Row],[Ref]],TRUE,FALSE),FALSE))) | J9: =IF((Synthese[[#This Row],[Ref]]=""),"",COUNTIFS(Manquant!A:A,Synthese[[#This Row],[Ref]])) | K9: {=IF((Synthese[[#This Row],[Ref]]=""),"",IF(MAX(IF(Manquant[Composé]=Synthese[[#This Row],[Ref]],Manquant[DATE]))=0,"",MAX(IF(Manquant[Composé]=Synthese[[#This Row],[Ref]],Manquant[DATE]))))} | L9: {=IF((Synthese[[#This Row],[Ref]]=""),"",IF(MAX(IF(Manquant[Composé]=Synthese[[#This Row],[Ref]],Manquant[DATE]))=0,"",MAX(IF(Manquant[Composé]=Synthese[[#This Row],[Ref]],Manquant[CommentaireFinal]))))}
A10: 9 | C10: =IF((Synthese[[#This Row],[Ref]]=""),"",(VLOOKUP(Synthese[[#This Row],[Ref]],Planning!E:F,2,FALSE))) | D10: =IF(COUNTIFS(Manquant[Composé],Synthese[[#This Row],[Ref]],Manquant[Désignation article],"*CIU*")=1,"NON","") | E10: =IF((Synthese[[#This Row],[Ref]]=""),"",_xlfn.IFNA(IF((VLOOKUP(Synthese[[#This Row],[Ref]],Planning!E:M,9,FALSE)=0),"NO DATE CLIENT",(VLOOKUP(Synthese[[#This Row],[Ref]],Planning!E:M,9,FALSE))),"NO DATE")) | F10: =IF((Synthese[[#This Row],[Ref]]=""),"",IF( Synthese[[#This Row],[Date Besoin Client]]="NO DATE CLIENT","NO DATE CLIENT",Synthese[[#This Row],[Date Besoin Client]]-25)) | G10: =IF((Synthese[[#This Row],[Ref]]=""),"",(VLOOKUP(Synthese[[#This Row],[Ref]],'NBR Composants'!A:C,3,FALSE))) | H10: =IF((Synthese[[#This Row],[Ref]]=""),"",(VLOOKUP(Synthese[[#This Row],[Ref]],'NBR Composants'!A:B,2,FALSE))) | I10: =IF((Synthese[[#This Row],[Ref]]=""),"",(_xlfn.IFNA(IF(VLOOKUP(Synthese[[#This Row],[Ref]],Manquant!A:A,1,FALSE)=Synthese[[#This Row],[Ref]],TRUE,FALSE),FALSE))) | J10: =IF((Synthese[[#This Row],[Ref]]=""),"",COUNTIFS(Manquant!A:A,Synthese[[#This Row],[Ref]])) | K10: {=IF((Synthese[[#This Row],[Ref]]=""),"",IF(MAX(IF(Manquant[Composé]=Synthese[[#This Row],[Ref]],Manquant[DATE]))=0,"",MAX(IF(Manquant[Composé]=Synthese[[#This Row],[Ref]],Manquant[DATE]))))} | L10: {=IF((Synthese[[#This Row],[Ref]]=""),"",IF(MAX(IF(Manquant[Composé]=Synthese[[#This Row],[Ref]],Manquant[DATE]))=0,"",MAX(IF(Manquant[Composé]=Synthese[[#This Row],[Ref]],Manquant[CommentaireFinal]))))}
A11: 10 | C11: =IF((Synthese[[#This Row],[Ref]]=""),"",(VLOOKUP(Synthese[[#This Row],[Ref]],Planning!E:F,2,FALSE))) | D11: =IF(COUNTIFS(Manquant[Composé],Synthese[[#This Row],[Ref]],Manquant[Désignation article],"*CIU*")=1,"NON","") | E11: =IF((Synthese[[#This Row],[Ref]]=""),"",_xlfn.IFNA(IF((VLOOKUP(Synthese[[#This Row],[Ref]],Planning!E:M,9,FALSE)=0),"NO DATE CLIENT",(VLOOKUP(Synthese[[#This Row],[Ref]],Planning!E:M,9,FALSE))),"NO DATE")) | F11: =IF((Synthese[[#This Row],[Ref]]=""),"",IF( Synthese[[#This Row],[Date Besoin Client]]="NO DATE CLIENT","NO DATE CLIENT",Synthese[[#This Row],[Date Besoin Client]]-25)) | G11: =IF((Synthese[[#This Row],[Ref]]=""),"",(VLOOKUP(Synthese[[#This Row],[Ref]],'NBR Composants'!A:C,3,FALSE))) | H11: =IF((Synthese[[#This Row],[Ref]]=""),"",(VLOOKUP(Synthese[[#This Row],[Ref]],'NBR Composants'!A:B,2,FALSE))) | I11: =IF((Synthese[[#This Row],[Ref]]=""),"",(_xlfn.IFNA(IF(VLOOKUP(Synthese[[#This Row],[Ref]],Manquant!A:A,1,FALSE)=Synthese[[#This Row],[Ref]],TRUE,FALSE),FALSE))) | J11: =IF((Synthese[[#This Row],[Ref]]=""),"",COUNTIFS(Manquant!A:A,Synthese[[#This Row],[Ref]])) | K11: {=IF((Synthese[[#This Row],[Ref]]=""),"",IF(MAX(IF(Manquant[Composé]=Synthese[[#This Row],[Ref]],Manquant[DATE]))=0,"",MAX(IF(Manquant[Composé]=Synthese[[#This Row],[Ref]],Manquant[DATE]))))} | L11: {=IF((Synthese[[#This Row],[Ref]]=""),"",IF(MAX(IF(Manquant[Composé]=Synthese[[#This Row],[Ref]],Manquant[DATE]))=0,"",MAX(IF(Manquant[Composé]=Synthese[[#This Row],[Ref]],Manquant[CommentaireFinal]))))}
A13: N° | B13: Ref | C13: Désignation | D13: NBR Alternatives | E13: NBR CDE-HA | F13: NBR CDE_HA_AR | G13: NBR CDE_HA_AR_C | H13: NBR DA-LANCEE | I13: NBR DA | J13: NBR DEVIS | K13: TOTAL | L13: Dont CRITIQUE (-25j)
A14: 1 | B14: =IF(ISBLANK(B2),"",B2) -> Composé1 | C14: =IF((SyntheseCommande[[#This Row],[Ref]]=""),"",(VLOOKUP(SyntheseCommande[[#This Row],[Ref]],Planning!E:F,2,FALSE))) -> Composé1 | D14: =IF((SyntheseCommande[[#This Row],[Ref]]=""),"",COUNTIFS(Manquant[Composé],SyntheseCommande[[#This Row],[Ref]],Manquant[Type de réapprovisionnement],"Alternatives")) -> 0 | E14: =IF((SyntheseCommande[[#This Row],[Ref]]=""),"",COUNTIFS(Manquant[Composé],SyntheseCommande[[#This Row],[Ref]],Manquant[Type de réapprovisionnement],"CDE_HA")) -> 0 | F14: =IF((SyntheseCommande[[#This Row],[Ref]]=""),"",COUNTIFS(Manquant[Composé],SyntheseCommande[[#This Row],[Ref]],Manquant[Type de réapprovisionnement],"CDE_HA_AR")) -> 4 | G14: =IF((SyntheseCommande[[#This Row],[Ref]]=""),"",COUNTIFS(Manquant[Composé],SyntheseCommande[[#This Row],[Ref]],Manquant[Type de réapprovisionnement],"CDE_HA_AR_C")) -> 0 | H14: =IF((SyntheseCommande[[#This Row],[Ref]]=""),"",COUNTIFS(Manquant[Composé],SyntheseCommande[[#This Row],[Ref]],Manquant[Type de réapprovisionnement],"DA_LANCEE")) -> 0 | I14: =IF((SyntheseCommande[[#This Row],[Ref]]=""),"",COUNTIFS(Manquant[Composé],SyntheseCommande[[#This Row],[Ref]],Manquant[Type de réapprovisionnement],"DA")) -> 0 | J14: =IF((SyntheseCommande[[#This Row],[Ref]]=""),"",COUNTIFS(Manquant[Composé],SyntheseCommande[[#This Row],[Ref]],Manquant[Type de réapprovisionnement],"DEVIS")) -> 0 | K14: =IF((SyntheseCommande[[#This Row],[Ref]]=""),"",SUM(SyntheseCommande[[#This Row],[NBR Alternatives]:[NBR DEVIS]])) -> 4 | L14: =IF((SyntheseCommande[[#This Row],[Ref]]=""),"",COUNTIFS(Manquant[Composé],SyntheseCommande[[#This Row],[Ref]],Manquant[Critique (-25j)],TRUE)) -> 4
A15: 2 | B15: =IF(ISBLANK(B3),"",B3) -> Composé2 | C15: =IF((SyntheseCommande[[#This Row],[Ref]]=""),"",(VLOOKUP(SyntheseCommande[[#This Row],[Ref]],Planning!E:F,2,FALSE))) -> Composé2 | D15: =IF((SyntheseCommande[[#This Row],[Ref]]=""),"",COUNTIFS(Manquant[Composé],SyntheseCommande[[#This Row],[Ref]],Manquant[Type de réapprovisionnement],"Alternatives")) -> 0 | E15: =IF((SyntheseCommande[[#This Row],[Ref]]=""),"",COUNTIFS(Manquant[Composé],SyntheseCommande[[#This Row],[Ref]],Manquant[Type de réapprovisionnement],"CDE_HA")) -> 1 | F15: =IF((SyntheseCommande[[#This Row],[Ref]]=""),"",COUNTIFS(Manquant[Composé],SyntheseCommande[[#This Row],[Ref]],Manquant[Type de réapprovisionnement],"CDE_HA_AR")) -> 1 | G15: =IF((SyntheseCommande[[#This Row],[Ref]]=""),"",COUNTIFS(Manquant[Composé],SyntheseCommande[[#This Row],[Ref]],Manquant[Type de réapprovisionnement],"CDE_HA_AR_C")) -> 0 | H15: =IF((SyntheseCommande[[#This Row],[Ref]]=""),"",COUNTIFS(Manquant[Composé],SyntheseCommande[[#This Row],[Ref]],Manquant[Type de réapprovisionnement],"DA_LANCEE")) -> 0 | I15: =IF((SyntheseCommande[[#This Row],[Ref]]=""),"",COUNTIFS(Manquant[Composé],SyntheseCommande[[#This Row],[Ref]],Manquant[Type de réapprovisionnement],"DA")) -> 0 | J15: =IF((SyntheseCommande[[#This Row],[Ref]]=""),"",COUNTIFS(Manquant[Composé],SyntheseCommande[[#This Row],[Ref]],Manquant[Type de réapprovisionnement],"DEVIS")) -> 0 | K15: =IF((SyntheseCommande[[#This Row],[Ref]]=""),"",SUM(SyntheseCommande[[#This Row],[NBR Alternatives]:[NBR DEVIS]])) -> 2 | L15: =IF((SyntheseCommande[[#This Row],[Ref]]=""),"",COUNTIFS(Manquant[Composé],SyntheseCommande[[#This Row],[Ref]],Manquant[Critique (-25j)],TRUE)) -> 2
A16: 3 | B16: =IF(ISBLANK(B4),"",B4) -> Composé3 | C16: =IF((SyntheseCommande[[#This Row],[Ref]]=""),"",(VLOOKUP(SyntheseCommande[[#This Row],[Ref]],Planning!E:F,2,FALSE))) -> Composé3 | D16: =IF((SyntheseCommande[[#This Row],[Ref]]=""),"",COUNTIFS(Manquant[Composé],SyntheseCommande[[#This Row],[Ref]],Manquant[Type de réapprovisionnement],"Alternatives")) -> 0 | E16: =IF((SyntheseCommande[[#This Row],[Ref]]=""),"",COUNTIFS(Manquant[Composé],SyntheseCommande[[#This Row],[Ref]],Manquant[Type de réapprovisionnement],"CDE_HA")) -> 0 | F16: =IF((SyntheseCommande[[#This Row],[Ref]]=""),"",COUNTIFS(Manquant[Composé],SyntheseCommande[[#This Row],[Ref]],Manquant[Type de réapprovisionnement],"CDE_HA_AR")) -> 2 | G16: =IF((SyntheseCommande[[#This Row],[Ref]]=""),"",COUNTIFS(Manquant[Composé],SyntheseCommande[[#This Row],[Ref]],Manquant[Type de réapprovisionnement],"CDE_HA_AR_C")) -> 0 | H16: =IF((SyntheseCommande[[#This Row],[Ref]]=""),"",COUNTIFS(Manquant[Composé],SyntheseCommande[[#This Row],[Ref]],Manquant[Type de réapprovisionnement],"DA_LANCEE")) -> 0 | I16: =IF((SyntheseCommande[[#This Row],[Ref]]=""),"",COUNTIFS(Manquant[Composé],SyntheseCommande[[#This Row],[Ref]],Manquant[Type de réapprovisionnement],"DA")) -> 0 | J16: =IF((SyntheseCommande[[#This Row],[Ref]]=""),"",COUNTIFS(Manquant[Composé],SyntheseCommande[[#This Row],[Ref]],Manquant[Type de réapprovisionnement],"DEVIS")) -> 0 | K16: =IF((SyntheseCommande[[#This Row],[Ref]]=""),"",SUM(SyntheseCommande[[#This Row],[NBR Alternatives]:[NBR DEVIS]])) -> 2 | L16: =IF((SyntheseCommande[[#This Row],[Ref]]=""),"",COUNTIFS(Manquant[Composé],SyntheseCommande[[#This Row],[Ref]],Manquant[Critique (-25j)],TRUE)) -> 2
A17: 4 | B17: =IF(ISBLANK(B5),"",B5) -> Composé4 | C17: =IF((SyntheseCommande[[#This Row],[Ref]]=""),"",(VLOOKUP(SyntheseCommande[[#This Row],[Ref]],Planning!E:F,2,FALSE))) -> Composé4 | D17: =IF((SyntheseCommande[[#This Row],[Ref]]=""),"",COUNTIFS(Manquant[Composé],SyntheseCommande[[#This Row],[Ref]],Manquant[Type de réapprovisionnement],"Alternatives")) -> 0 | E17: =IF((SyntheseCommande[[#This Row],[Ref]]=""),"",COUNTIFS(Manquant[Composé],SyntheseCommande[[#This Row],[Ref]],Manquant[Type de réapprovisionnement],"CDE_HA")) -> 1 | F17: =IF((SyntheseCommande[[#This Row],[Ref]]=""),"",COUNTIFS(Manquant[Composé],SyntheseCommande[[#This Row],[Ref]],Manquant[Type de réapprovisionnement],"CDE_HA_AR")) -> 1 | G17: =IF((SyntheseCommande[[#This Row],[Ref]]=""),"",COUNTIFS(Manquant[Composé],SyntheseCommande[[#This Row],[Ref]],Manquant[Type de réapprovisionnement],"CDE_HA_AR_C")) -> 0 | H17: =IF((SyntheseCommande[[#This Row],[Ref]]=""),"",COUNTIFS(Manquant[Composé],SyntheseCommande[[#This Row],[Ref]],Manquant[Type de réapprovisionnement],"DA_LANCEE")) -> 0 | I17: =IF((SyntheseCommande[[#This Row],[Ref]]=""),"",COUNTIFS(Manquant[Composé],SyntheseCommande[[#This Row],[Ref]],Manquant[Type de réapprovisionnement],"DA")) -> 0 | J17: =IF((SyntheseCommande[[#This Row],[Ref]]=""),"",COUNTIFS(Manquant[Composé],SyntheseCommande[[#This Row],[Ref]],Manquant[Type de réapprovisionnement],"DEVIS")) -> 0 | K17: =IF((SyntheseCommande[[#This Row],[Ref]]=""),"",SUM(SyntheseCommande[[#This Row],[NBR Alternatives]:[NBR DEVIS]])) -> 2 | L17: =IF((SyntheseCommande[[#This Row],[Ref]]=""),"",COUNTIFS(Manquant[Composé],SyntheseCommande[[#This Row],[Ref]],Manquant[Critique (-25j)],TRUE)) -> 2
A18: 5 | B18: =IF(ISBLANK(B6),"",B6) -> Composé5 | C18: =IF((SyntheseCommande[[#This Row],[Ref]]=""),"",(VLOOKUP(SyntheseCommande[[#This Row],[Ref]],Planning!E:F,2,FALSE))) -> Composé5 | D18: =IF((SyntheseCommande[[#This Row],[Ref]]=""),"",COUNTIFS(Manquant[Composé],SyntheseCommande[[#This Row],[Ref]],Manquant[Type de réapprovisionnement],"Alternatives")) -> 0 | E18: =IF((SyntheseCommande[[#This Row],[Ref]]=""),"",COUNTIFS(Manquant[Composé],SyntheseCommande[[#This Row],[Ref]],Manquant[Type de réapprovisionnement],"CDE_HA")) -> 0 | F18: =IF((SyntheseCommande[[#This Row],[Ref]]=""),"",COUNTIFS(Manquant[Composé],SyntheseCommande[[#This Row],[Ref]],Manquant[Type de réapprovisionnement],"CDE_HA_AR")) -> 1 | G18: =IF((SyntheseCommande[[#This Row],[Ref]]=""),"",COUNTIFS(Manquant[Composé],SyntheseCommande[[#This Row],[Ref]],Manquant[Type de réapprovisionnement],"CDE_HA_AR_C")) -> 0 | H18: =IF((SyntheseCommande[[#This Row],[Ref]]=""),"",COUNTIFS(Manquant[Composé],SyntheseCommande[[#This Row],[Ref]],Manquant[Type de réapprovisionnement],"DA_LANCEE")) -> 0 | I18: =IF((SyntheseCommande[[#This Row],[Ref]]=""),"",COUNTIFS(Manquant[Composé],SyntheseCommande[[#This Row],[Ref]],Manquant[Type de réapprovisionnement],"DA")) -> 0 | J18: =IF((SyntheseCommande[[#This Row],[Ref]]=""),"",COUNTIFS(Manquant[Composé],SyntheseCommande[[#This Row],[Ref]],Manquant[Type de réapprovisionnement],"DEVIS")) -> 0 | K18: =IF((SyntheseCommande[[#This Row],[Ref]]=""),"",SUM(SyntheseCommande[[#This Row],[NBR Alternatives]:[NBR DEVIS]])) -> 1 | L18: =IF((SyntheseCommande[[#This Row],[Ref]]=""),"",COUNTIFS(Manquant[Composé],SyntheseCommande[[#This Row],[Ref]],Manquant[Critique (-25j)],TRUE)) -> 1
A19: 6 | B19: =IF(ISBLANK(B7),"",B7) | C19: =IF((SyntheseCommande[[#This Row],[Ref]]=""),"",(VLOOKUP(SyntheseCommande[[#This Row],[Ref]],Planning!E:F,2,FALSE))) | D19: =IF((SyntheseCommande[[#This Row],[Ref]]=""),"",COUNTIFS(Manquant[Composé],SyntheseCommande[[#This Row],[Ref]],Manquant[Type de réapprovisionnement],"Alternatives")) | E19: =IF((SyntheseCommande[[#This Row],[Ref]]=""),"",COUNTIFS(Manquant[Composé],SyntheseCommande[[#This Row],[Ref]],Manquant[Type de réapprovisionnement],"CDE_HA")) | F19: =IF((SyntheseCommande[[#This Row],[Ref]]=""),"",COUNTIFS(Manquant[Composé],SyntheseCommande[[#This Row],[Ref]],Manquant[Type de réapprovisionnement],"CDE_HA_AR")) | G19: =IF((SyntheseCommande[[#This Row],[Ref]]=""),"",COUNTIFS(Manquant[Composé],SyntheseCommande[[#This Row],[Ref]],Manquant[Type de réapprovisionnement],"CDE_HA_AR_C")) | H19: =IF((SyntheseCommande[[#This Row],[Ref]]=""),"",COUNTIFS(Manquant[Composé],SyntheseCommande[[#This Row],[Ref]],Manquant[Type de réapprovisionnement],"DA_LANCEE")) | I19: =IF((SyntheseCommande[[#This Row],[Ref]]=""),"",COUNTIFS(Manquant[Composé],SyntheseCommande[[#This Row],[Ref]],Manquant[Type de réapprovisionnement],"DA")) | J19: =IF((SyntheseCommande[[#This Row],[Ref]]=""),"",COUNTIFS(Manquant[Composé],SyntheseCommande[[#This Row],[Ref]],Manquant[Type de réapprovisionnement],"DEVIS")) | K19: =IF((SyntheseCommande[[#This Row],[Ref]]=""),"",SUM(SyntheseCommande[[#This Row],[NBR Alternatives]:[NBR DEVIS]])) | L19: =IF((SyntheseCommande[[#This Row],[Ref]]=""),"",COUNTIFS(Manquant[Composé],SyntheseCommande[[#This Row],[Ref]],Manquant[Critique (-25j)],TRUE))
A20: 7 | B20: =IF(ISBLANK(B8),"",B8) | C20: =IF((SyntheseCommande[[#This Row],[Ref]]=""),"",(VLOOKUP(SyntheseCommande[[#This Row],[Ref]],Planning!E:F,2,FALSE))) | D20: =IF((SyntheseCommande[[#This Row],[Ref]]=""),"",COUNTIFS(Manquant[Composé],SyntheseCommande[[#This Row],[Ref]],Manquant[Type de réapprovisionnement],"Alternatives")) | E20: =IF((SyntheseCommande[[#This Row],[Ref]]=""),"",COUNTIFS(Manquant[Composé],SyntheseCommande[[#This Row],[Ref]],Manquant[Type de réapprovisionnement],"CDE_HA")) | F20: =IF((SyntheseCommande[[#This Row],[Ref]]=""),"",COUNTIFS(Manquant[Composé],SyntheseCommande[[#This Row],[Ref]],Manquant[Type de réapprovisionnement],"CDE_HA_AR")) | G20: =IF((SyntheseCommande[[#This Row],[Ref]]=""),"",COUNTIFS(Manquant[Composé],SyntheseCommande[[#This Row],[Ref]],Manquant[Type de réapprovisionnement],"CDE_HA_AR_C")) | H20: =IF((SyntheseCommande[[#This Row],[Ref]]=""),"",COUNTIFS(Manquant[Composé],SyntheseCommande[[#This Row],[Ref]],Manquant[Type de réapprovisionnement],"DA_LANCEE")) | I20: =IF((SyntheseCommande[[#This Row],[Ref]]=""),"",COUNTIFS(Manquant[Composé],SyntheseCommande[[#This Row],[Ref]],Manquant[Type de réapprovisionnement],"DA")) | J20: =IF((SyntheseCommande[[#This Row],[Ref]]=""),"",COUNTIFS(Manquant[Composé],SyntheseCommande[[#This Row],[Ref]],Manquant[Type de réapprovisionnement],"DEVIS")) | K20: =IF((SyntheseCommande[[#This Row],[Ref]]=""),"",SUM(SyntheseCommande[[#This Row],[NBR Alternatives]:[NBR DEVIS]])) | L20: =IF((SyntheseCommande[[#This Row],[Ref]]=""),"",COUNTIFS(Manquant[Composé],SyntheseCommande[[#This Row],[Ref]],Manquant[Critique (-25j)],TRUE))
A21: 8 | B21: =IF(ISBLANK(B9),"",B9) | C21: =IF((SyntheseCommande[[#This Row],[Ref]]=""),"",(VLOOKUP(SyntheseCommande[[#This Row],[Ref]],Planning!E:F,2,FALSE))) | D21: =IF((SyntheseCommande[[#This Row],[Ref]]=""),"",COUNTIFS(Manquant[Composé],SyntheseCommande[[#This Row],[Ref]],Manquant[Type de réapprovisionnement],"Alternatives")) | E21: =IF((SyntheseCommande[[#This Row],[Ref]]=""),"",COUNTIFS(Manquant[Composé],SyntheseCommande[[#This Row],[Ref]],Manquant[Type de réapprovisionnement],"CDE_HA")) | F21: =IF((SyntheseCommande[[#This Row],[Ref]]=""),"",COUNTIFS(Manquant[Composé],SyntheseCommande[[#This Row],[Ref]],Manquant[Type de réapprovisionnement],"CDE_HA_AR")) | G21: =IF((SyntheseCommande[[#This Row],[Ref]]=""),"",COUNTIFS(Manquant[Composé],SyntheseCommande[[#This Row],[Ref]],Manquant[Type de réapprovisionnement],"CDE_HA_AR_C")) | H21: =IF((SyntheseCommande[[#This Row],[Ref]]=""),"",COUNTIFS(Manquant[Composé],SyntheseCommande[[#This Row],[Ref]],Manquant[Type de réapprovisionnement],"DA_LANCEE")) | I21: =IF((SyntheseCommande[[#This Row],[Ref]]=""),"",COUNTIFS(Manquant[Composé],SyntheseCommande[[#This Row],[Ref]],Manquant[Type de réapprovisionnement],"DA")) | J21: =IF((SyntheseCommande[[#This Row],[Ref]]=""),"",COUNTIFS(Manquant[Composé],SyntheseCommande[[#This Row],[Ref]],Manquant[Type de réapprovisionnement],"DEVIS")) | K21: =IF((SyntheseCommande[[#This Row],[Ref]]=""),"",SUM(SyntheseCommande[[#This Row],[NBR Alternatives]:[NBR DEVIS]])) | L21: =IF((SyntheseCommande[[#This Row],[Ref]]=""),"",COUNTIFS(Manquant[Composé],SyntheseCommande[[#This Row],[Ref]],Manquant[Critique (-25j)],TRUE))
A22: 9 | B22: =IF(ISBLANK(B10),"",B10) | C22: =IF((SyntheseCommande[[#This Row],[Ref]]=""),"",(VLOOKUP(SyntheseCommande[[#This Row],[Ref]],Planning!E:F,2,FALSE))) | D22: =IF((SyntheseCommande[[#This Row],[Ref]]=""),"",COUNTIFS(Manquant[Composé],SyntheseCommande[[#This Row],[Ref]],Manquant[Type de réapprovisionnement],"Alternatives")) | E22: =IF((SyntheseCommande[[#This Row],[Ref]]=""),"",COUNTIFS(Manquant[Composé],SyntheseCommande[[#This Row],[Ref]],Manquant[Type de réapprovisionnement],"CDE_HA")) | F22: =IF((SyntheseCommande[[#This Row],[Ref]]=""),"",COUNTIFS(Manquant[Composé],SyntheseCommande[[#This Row],[Ref]],Manquant[Type de réapprovisionnement],"CDE_HA_AR")) | G22: =IF((SyntheseCommande[[#This Row],[Ref]]=""),"",COUNTIFS(Manquant[Composé],SyntheseCommande[[#This Row],[Ref]],Manquant[Type de réapprovisionnement],"CDE_HA_AR_C")) | H22: =IF((SyntheseCommande[[#This Row],[Ref]]=""),"",COUNTIFS(Manquant[Composé],SyntheseCommande[[#This Row],[Ref]],Manquant[Type de réapprovisionnement],"DA_LANCEE")) | I22: =IF((SyntheseCommande[[#This Row],[Ref]]=""),"",COUNTIFS(Manquant[Composé],SyntheseCommande[[#This Row],[Ref]],Manquant[Type de réapprovisionnement],"DA")) | J22: =IF((SyntheseCommande[[#This Row],[Ref]]=""),"",COUNTIFS(Manquant[Composé],SyntheseCommande[[#This Row],[Ref]],Manquant[Type de réapprovisionnement],"DEVIS")) | K22: =IF((SyntheseCommande[[#This Row],[Ref]]=""),"",SUM(SyntheseCommande[[#This Row],[NBR Alternatives]:[NBR DEVIS]])) | L22: =IF((SyntheseCommande[[#This Row],[Ref]]=""),"",COUNTIFS(Manquant[Composé],SyntheseCommande[[#This Row],[Ref]],Manquant[Critique (-25j)],TRUE))
A23: 10 | B23: =IF(ISBLANK(B11),"",B11) | C23: =IF((SyntheseCommande[[#This Row],[Ref]]=""),"",(VLOOKUP(SyntheseCommande[[#This Row],[Ref]],Planning!E:F,2,FALSE))) | D23: =IF((SyntheseCommande[[#This Row],[Ref]]=""),"",COUNTIFS(Manquant[Composé],SyntheseCommande[[#This Row],[Ref]],Manquant[Type de réapprovisionnement],"Alternatives")) | E23: =IF((SyntheseCommande[[#This Row],[Ref]]=""),"",COUNTIFS(Manquant[Composé],SyntheseCommande[[#This Row],[Ref]],Manquant[Type de réapprovisionnement],"CDE_HA")) | F23: =IF((SyntheseCommande[[#This Row],[Ref]]=""),"",COUNTIFS(Manquant[Composé],SyntheseCommande[[#This Row],[Ref]],Manquant[Type de réapprovisionnement],"CDE_HA_AR")) | G23: =IF((SyntheseCommande[[#This Row],[Ref]]=""),"",COUNTIFS(Manquant[Composé],SyntheseCommande[[#This Row],[Ref]],Manquant[Type de réapprovisionnement],"CDE_HA_AR_C")) | H23: =IF((SyntheseCommande[[#This Row],[Ref]]=""),"",COUNTIFS(Manquant[Composé],SyntheseCommande[[#This Row],[Ref]],Manquant[Type de réapprovisionnement],"DA_LANCEE")) | I23: =IF((SyntheseCommande[[#This Row],[Ref]]=""),"",COUNTIFS(Manquant[Composé],SyntheseCommande[[#This Row],[Ref]],Manquant[Type de réapprovisionnement],"DA")) | J23: =IF((SyntheseCommande[[#This Row],[Ref]]=""),"",COUNTIFS(Manquant[Composé],SyntheseCommande[[#This Row],[Ref]],Manquant[Type de réapprovisionnement],"DEVIS")) | K23: =IF((SyntheseCommande[[#This Row],[Ref]]=""),"",SUM(SyntheseCommande[[#This Row],[NBR Alternatives]:[NBR DEVIS]])) | L23: =IF((SyntheseCommande[[#This Row],[Ref]]=""),"",COUNTIFS(Manquant[Composé],SyntheseCommande[[#This Row],[Ref]],Manquant[Critique (-25j)],TRUE))

Sheet Manquant REF
A1: Composé | B1: CIE | C1: Date du besoin | D1: Ordre | E1: Article de l'élément de réappro | F1: Composant | G1: Désignation article | H1: Type de réapprovisionnement | I1: Date de réapprovisionnement | J1: Date de réappro estimée | K1: Commentaires | L1: DATE Réappro | M1: Date Estimée | N1: DATE | O1: Besoin Client | P1: Critique (-25j) | Q1: Commentaires1 | R1: Commentaires2 | S1: Commentaires3 | T1: CommentaireFinal
A2: Composé1 | B2: Produit 1 | C2: 43571 | F2: Composant 1 | G2: Composant 1 | H2: CDE_HA_AR | I2: 43613 | L2: =IF(ISNUMBER(Manquant2[[#This Row],[Date de réapprovisionnement]]),Manquant2[[#This Row],[Date de réapprovisionnement]],"") -> 43613 | M2: =IF(ISNUMBER(Manquant2[[#This Row],[Date de réappro estimée]]),Manquant2[[#This Row],[Date de réappro estimée]],"") | N2: =IF(Manquant2[[#This Row],[DATE Réappro]]="",(IF(Manquant2[[#This Row],[Date Estimée]]="","NO DATE",Manquant2[[#This Row],[Date Estimée]])),Manquant2[[#This Row],[DATE Réappro]]) -> 43613 | O2: 43282 | P2: =IF(Manquant2[[#This Row],[Besoin Client]]="","NO DATE CLIENT",(IF(Manquant2[[#This Row],[DATE]]="NO DATE",TRUE,(IF(Manquant2[[#This Row],[Besoin Client]]-Manquant2[[#This Row],[DATE]]<25,TRUE,""))))) -> TRUE | Q2: =IF(ISTEXT(Manquant2[[#This Row],[Date de réapprovisionnement]]),Manquant2[[#This Row],[Date de réapprovisionnement]],"") | R2: =IF(ISTEXT(Manquant2[[#This Row],[Date de réappro estimée]]),Manquant2[[#This Row],[Date de réappro estimée]],"") | S2: =IF((Manquant2[Commentaires]=""),"",Manquant2[Commentaires]) | T2: =Manquant2[Commentaires1]&CHAR(10)&Manquant2[Commentaires2]&CHAR(10)&Manquant2[Commentaires3]
A3: Composé1 | B3: Produit 1 | C3: 43571 | F3: Composant 2 | G3: Composant 2 | H3: CDE_HA_AR | I3: 43585 | L3: =IF(ISNUMBER(Manquant2[[#This Row],[Date de réapprovisionnement]]),Manquant2[[#This Row],[Date de réapprovisionnement]],"") -> 43585 | M3: =IF(ISNUMBER(Manquant2[[#This Row],[Date de réappro estimée]]),Manquant2[[#This Row],[Date de réappro estimée]],"") | N3: =IF(Manquant2[[#This Row],[DATE Réappro]]="",(IF(Manquant2[[#This Row],[Date Estimée]]="","NO DATE",Manquant2[[#This Row],[Date Estimée]])),Manquant2[[#This Row],[DATE Réappro]]) -> 43585 | O3: 43282 | P3: =IF(Manquant2[[#This Row],[Besoin Client]]="","NO DATE CLIENT",(IF(Manquant2[[#This Row],[DATE]]="NO DATE",TRUE,(IF(Manquant2[[#This Row],[Besoin Client]]-Manquant2[[#This Row],[DATE]]<25,TRUE,""))))) -> TRUE | Q3: =IF(ISTEXT(Manquant2[[#This Row],[Date de réapprovisionnement]]),Manquant2[[#This Row],[Date de réapprovisionnement]],"") | R3: =IF(ISTEXT(Manquant2[[#This Row],[Date de réappro estimée]]),Manquant2[[#This Row],[Date de réappro estimée]],"") | S3: =IF((Manquant2[Commentaires]=""),"",Manquant2[Commentaires]) | T3: =Manquant2[Commentaires1]&CHAR(10)&Manquant2[Commentaires2]&CHAR(10)&Manquant2[Commentaires3]
A4: Composé1 | B4: Produit 1 | C4: 43571 | F4: Composant 3 | G4: Composant 3 | H4: CDE_HA_AR | I4: 43627 | L4: =IF(ISNUMBER(Manquant2[[#This Row],[Date de réapprovisionnement]]),Manquant2[[#This Row],[Date de réapprovisionnement]],"") -> 43627 | M4: =IF(ISNUMBER(Manquant2[[#This Row],[Date de réappro estimée]]),Manquant2[[#This Row],[Date de réappro estimée]],"") | N4: =IF(Manquant2[[#This Row],[DATE Réappro]]="",(IF(Manquant2[[#This Row],[Date Estimée]]="","NO DATE",Manquant2[[#This Row],[Date Estimée]])),Manquant2[[#This Row],[DATE Réappro]]) -> 43627 | O4: 43282 | P4: =IF(Manquant2[[#This Row],[Besoin Client]]="","NO DATE CLIENT",(IF(Manquant2[[#This Row],[DATE]]="NO DATE",TRUE,(IF(Manquant2[[#This Row],[Besoin Client]]-Manquant2[[#This Row],[DATE]]<25,TRUE,""))))) -> TRUE | Q4: =IF(ISTEXT(Manquant2[[#This Row],[Date de réapprovisionnement]]),Manquant2[[#This Row],[Date de réapprovisionnement]],"") | R4: =IF(ISTEXT(Manquant2[[#This Row],[Date de réappro estimée]]),Manquant2[[#This Row],[Date de réappro estimée]],"") | S4: =IF((Manquant2[Commentaires]=""),"",Manquant2[Commentaires]) | T4: =Manquant2[Commentaires1]&CHAR(10)&Manquant2[Commentaires2]&CHAR(10)&Manquant2[Commentaires3]
A5: Composé1 | B5: Produit 1 | C5: 43595 | F5: Composant 4 | G5: Composant 4 | H5: CDE_HA_AR | I5: 43619 | L5: =IF(ISNUMBER(Manquant2[[#This Row],[Date de réapprovisionnement]]),Manquant2[[#This Row],[Date de réapprovisionnement]],"") -> 43619 | M5: =IF(ISNUMBER(Manquant2[[#This Row],[Date de réappro estimée]]),Manquant2[[#This Row],[Date de réappro estimée]],"") | N5: =IF(Manquant2[[#This Row],[DATE Réappro]]="",(IF(Manquant2[[#This Row],[Date Estimée]]="","NO DATE",Manquant2[[#This Row],[Date Estimée]])),Manquant2[[#This Row],[DATE Réappro]]) -> 43619 | O5: 43282 | P5: =IF(Manquant2[[#This Row],[Besoin Client]]="","NO DATE CLIENT",(IF(Manquant2[[#This Row],[DATE]]="NO DATE",TRUE,(IF(Manquant2[[#This Row],[Besoin Client]]-Manquant2[[#This Row],[DATE]]<25,TRUE,""))))) -> TRUE | Q5: =IF(ISTEXT(Manquant2[[#This Row],[Date de réapprovisionnement]]),Manquant2[[#This Row],[Date de réapprovisionnement]],"") | R5: =IF(ISTEXT(Manquant2[[#This Row],[Date de réappro estimée]]),Manquant2[[#This Row],[Date de réappro estimée]],"") | S5: =IF((Manquant2[Commentaires]=""),"",Manquant2[Commentaires]) | T5: =Manquant2[Commentaires1]&CHAR(10)&Manquant2[Commentaires2]&CHAR(10)&Manquant2[Commentaires3]
A6: Composé2 | B6: Produit 2 | C6: 43595 | F6: Composant 5 | G6: Composant 5 | H6: CDE_HA_AR | I6: 43629 | L6: =IF(ISNUMBER(Manquant2[[#This Row],[Date de réapprovisionnement]]),Manquant2[[#This Row],[Date de réapprovisionnement]],"") -> 43629 | M6: =IF(ISNUMBER(Manquant2[[#This Row],[Date de réappro estimée]]),Manquant2[[#This Row],[Date de réappro estimée]],"") | N6: =IF(Manquant2[[#This Row],[DATE Réappro]]="",(IF(Manquant2[[#This Row],[Date Estimée]]="","NO DATE",Manquant2[[#This Row],[Date Estimée]])),Manquant2[[#This Row],[DATE Réappro]]) -> 43629 | O6: 43282 | P6: =IF(Manquant2[[#This Row],[Besoin Client]]="","NO DATE CLIENT",(IF(Manquant2[[#This Row],[DATE]]="NO DATE",TRUE,(IF(Manquant2[[#This Row],[Besoin Client]]-Manquant2[[#This Row],[DATE]]<25,TRUE,""))))) -> TRUE | Q6: =IF(ISTEXT(Manquant2[[#This Row],[Date de réapprovisionnement]]),Manquant2[[#This Row],[Date de réapprovisionnement]],"") | R6: =IF(ISTEXT(Manquant2[[#This Row],[Date de réappro estimée]]),Manquant2[[#This Row],[Date de réappro estimée]],"") | S6: =IF((Manquant2[Commentaires]=""),"",Manquant2[Commentaires]) | T6: =Manquant2[Commentaires1]&CHAR(10)&Manquant2[Commentaires2]&CHAR(10)&Manquant2[Commentaires3]
A7: Composé2 | B7: Produit 2 | C7: 43595 | F7: Composant 6 | G7: Composant 6 | H7: CDE_HA | I7: Attente AR | J7: 43588 | K7: Commande en attente | L7: =IF(ISNUMBER(Manquant2[[#This Row],[Date de réapprovisionnement]]),Manquant2[[#This Row],[Date de réapprovisionnement]],"") | M7: =IF(ISNUMBER(Manquant2[[#This Row],[Date de réappro estimée]]),Manquant2[[#This Row],[Date de réappro estimée]],"") -> 43588 | N7: =IF(Manquant2[[#This Row],[DATE Réappro]]="",(IF(Manquant2[[#This Row],[Date Estimée]]="","NO DATE",Manquant2[[#This Row],[Date Estimée]])),Manquant2[[#This Row],[DATE Réappro]]) -> 43588 | O7: 43282 | P7: =IF(Manquant2[[#This Row],[Besoin Client]]="","NO DATE CLIENT",(IF(Manquant2[[#This Row],[DATE]]="NO DATE",TRUE,(IF(Manquant2[[#This Row],[Besoin Client]]-Manquant2[[#This Row],[DATE]]<25,TRUE,""))))) -> TRUE | Q7: =IF(ISTEXT(Manquant2[[#This Row],[Date de réapprovisionnement]]),Manquant2[[#This Row],[Date de réapprovisionnement]],"") -> Attente AR | R7: =IF(ISTEXT(Manquant2[[#This Row],[Date de réappro estimée]]),Manquant2[[#This Row],[Date de réappro estimée]],"") | S7: =IF((Manquant2[Commentaires]=""),"",Manquant2[Commentaires]) -> Commande en attente | T7: =Manquant2[Commentaires1]&CHAR(10)&Manquant2[Commentaires2]&CHAR(10)&Manquant2[Commentaires3] -> Attente AR Commande en attente
A8: Composé3 | B8: Produit 3 | C8: 43600 | F8: Composant 7 | G8: Composant 7 | H8: CDE_HA_AR | I8: 43584 | L8: =IF(ISNUMBER(Manquant2[[#This Row],[Date de réapprovisionnement]]),Manquant2[[#This Row],[Date de réapprovisionnement]],"") -> 43584 | M8: =IF(ISNUMBER(Manquant2[[#This Row],[Date de réappro estimée]]),Manquant2[[#This Row],[Date de réappro estimée]],"") | N8: =IF(Manquant2[[#This Row],[DATE Réappro]]="",(IF(Manquant2[[#This Row],[Date Estimée]]="","NO DATE",Manquant2[[#This Row],[Date Estimée]])),Manquant2[[#This Row],[DATE Réappro]]) -> 43584 | O8: 43282 | P8: =IF(Manquant2[[#This Row],[Besoin Client]]="","NO DATE CLIENT",(IF(Manquant2[[#This Row],[DATE]]="NO DATE",TRUE,(IF(Manquant2[[#This Row],[Besoin Client]]-Manquant2[[#This Row],[DATE]]<25,TRUE,""))))) -> TRUE | Q8: =IF(ISTEXT(Manquant2[[#This Row],[Date de réapprovisionnement]]),Manquant2[[#This Row],[Date de réapprovisionnement]],"") | R8: =IF(ISTEXT(Manquant2[[#This Row],[Date de réappro estimée]]),Manquant2[[#This Row],[Date de réappro estimée]],"") | S8: =IF((Manquant2[Commentaires]=""),"",Manquant2[Commentaires]) | T8: =Manquant2[Commentaires1]&CHAR(10)&Manquant2[Commentaires2]&CHAR(10)&Manquant2[Commentaires3]
A9: Composé3 | B9: Produit 3 | C9: 43595 | F9: Composant 8 | G9: Composant 8 | H9: CDE_HA_AR | I9: 43600 | L9: =IF(ISNUMBER(Manquant2[[#This Row],[Date de réapprovisionnement]]),Manquant2[[#This Row],[Date de réapprovisionnement]],"") -> 43600 | M9: =IF(ISNUMBER(Manquant2[[#This Row],[Date de réappro estimée]]),Manquant2[[#This Row],[Date de réappro estimée]],"") | N9: =IF(Manquant2[[#This Row],[DATE Réappro]]="",(IF(Manquant2[[#This Row],[Date Estimée]]="","NO DATE",Manquant2[[#This Row],[Date Estimée]])),Manquant2[[#This Row],[DATE Réappro]]) -> 43600 | O9: 43282 | P9: =IF(Manquant2[[#This Row],[Besoin Client]]="","NO DATE CLIENT",(IF(Manquant2[[#This Row],[DATE]]="NO DATE",TRUE,(IF(Manquant2[[#This Row],[Besoin Client]]-Manquant2[[#This Row],[DATE]]<25,TRUE,""))))) -> TRUE | Q9: =IF(ISTEXT(Manquant2[[#This Row],[Date de réapprovisionnement]]),Manquant2[[#This Row],[Date de réapprovisionnement]],"") | R9: =IF(ISTEXT(Manquant2[[#This Row],[Date de réappro estimée]]),Manquant2[[#This Row],[Date de réappro estimée]],"") | S9: =IF((Manquant2[Commentaires]=""),"",Manquant2[Commentaires]) | T9: =Manquant2[Commentaires1]&CHAR(10)&Manquant2[Commentaires2]&CHAR(10)&Manquant2[Commentaires3]
A10: Composé4 | B10: Produit 4 | C10: 43600 | F10: Composant 9 | G10: Composant 9 | H10: CDE_HA | I10: Attente AR | J10: 43610 | K10: Commande en attente | L10: =IF(ISNUMBER(Manquant2[[#This Row],[Date de réapprovisionnement]]),Manquant2[[#This Row],[Date de réapprovisionnement]],"") | M10: =IF(ISNUMBER(Manquant2[[#This Row],[Date de réappro estimée]]),Manquant2[[#This Row],[Date de réappro estimée]],"") -> 43610 | N10: =IF(Manquant2[[#This Row],[DATE Réappro]]="",(IF(Manquant2[[#This Row],[Date Estimée]]="","NO DATE",Manquant2[[#This Row],[Date Estimée]])),Manquant2[[#This Row],[DATE Réappro]]) -> 43610 | O10: 43282 | P10: =IF(Manquant2[[#This Row],[Besoin Client]]="","NO DATE CLIENT",(IF(Manquant2[[#This Row],[DATE]]="NO DATE",TRUE,(IF(Manquant2[[#This Row],[Besoin Client]]-Manquant2[[#This Row],[DATE]]<25,TRUE,""))))) -> TRUE | Q10: =IF(ISTEXT(Manquant2[[#This Row],[Date de réapprovisionnement]]),Manquant2[[#This Row],[Date de réapprovisionnement]],"") -> Attente AR | R10: =IF(ISTEXT(Manquant2[[#This Row],[Date de réappro estimée]]),Manquant2[[#This Row],[Date de réappro estimée]],"") | S10: =IF((Manquant2[Commentaires]=""),"",Manquant2[Commentaires]) -> Commande en attente | T10: =Manquant2[Commentaires1]&CHAR(10)&Manquant2[Commentaires2]&CHAR(10)&Manquant2[Commentaires3] -> Attente AR Commande en attente
A11: Composé4 | B11: Produit 4 | C11: 43595 | F11: Composant 10 | G11: Composant 10 | H11: CDE_HA_AR | I11: 43584 | L11: =IF(ISNUMBER(Manquant2[[#This Row],[Date de réapprovisionnement]]),Manquant2[[#This Row],[Date de réapprovisionnement]],"") -> 43584 | M11: =IF(ISNUMBER(Manquant2[[#This Row],[Date de réappro estimée]]),Manquant2[[#This Row],[Date de réappro estimée]],"") | N11: =IF(Manquant2[[#This Row],[DATE Réappro]]="",(IF(Manquant2[[#This Row],[Date Estimée]]="","NO DATE",Manquant2[[#This Row],[Date Estimée]])),Manquant2[[#This Row],[DATE Réappro]]) -> 43584 | O11: 43282 | P11: =IF(Manquant2[[#This Row],[Besoin Client]]="","NO DATE CLIENT",(IF(Manquant2[[#This Row],[DATE]]="NO DATE",TRUE,(IF(Manquant2[[#This Row],[Besoin Client]]-Manquant2[[#This Row],[DATE]]<25,TRUE,""))))) -> TRUE | Q11: =IF(ISTEXT(Manquant2[[#This Row],[Date de réapprovisionnement]]),Manquant2[[#This Row],[Date de réapprovisionnement]],"") | R11: =IF(ISTEXT(Manquant2[[#This Row],[Date de réappro estimée]]),Manquant2[[#This Row],[Date de réappro estimée]],"") | S11: =IF((Manquant2[Commentaires]=""),"",Manquant2[Commentaires]) | T11: =Manquant2[Commentaires1]&CHAR(10)&Manquant2[Commentaires2]&CHAR(10)&Manquant2[Commentaires3]
A12: Composé5 | B12: Produit 5 | C12: 43600 | F12: Composant 11 | G12: Composant 11 | H12: CDE_HA_AR | I12: 43598 | L12: =IF(ISNUMBER(Manquant2[[#This Row],[Date de réapprovisionnement]]),Manquant2[[#This Row],[Date de réapprovisionnement]],"") -> 43598 | M12: =IF(ISNUMBER(Manquant2[[#This Row],[Date de réappro estimée]]),Manquant2[[#This Row],[Date de réappro estimée]],"") | N12: =IF(Manquant2[[#This Row],[DATE Réappro]]="",(IF(Manquant2[[#This Row],[Date Estimée]]="","NO DATE",Manquant2[[#This Row],[Date Estimée]])),Manquant2[[#This Row],[DATE Réappro]]) -> 43598 | O12: 43282 | P12: =IF(Manquant2[[#This Row],[Besoin Client]]="","NO DATE CLIENT",(IF(Manquant2[[#This Row],[DATE]]="NO DATE",TRUE,(IF(Manquant2[[#This Row],[Besoin Client]]-Manquant2[[#This Row],[DATE]]<25,TRUE,""))))) -> TRUE | Q12: =IF(ISTEXT(Manquant2[[#This Row],[Date de réapprovisionnement]]),Manquant2[[#This Row],[Date de réapprovisionnement]],"") | R12: =IF(ISTEXT(Manquant2[[#This Row],[Date de réappro estimée]]),Manquant2[[#This Row],[Date de réappro estimée]],"") | S12: =IF((Manquant2[Commentaires]=""),"",Manquant2[Commentaires]) | T12: =Manquant2[Commentaires1]&CHAR(10)&Manquant2[Commentaires2]&CHAR(10)&Manquant2[Commentaires3]
