Workbook
Name Benefices: Suivit!$J$2:$J$999
Name Gains: Suivit!$I$2:$I$999
Name Mises: Suivit!$E$2:$E$999
Name pronostikeurs: Suivit!$C$2:$C$999
Name Pronostiqueurs: Suivit!$C:$C
Name systeme: Suivit!$G$2:$G$999

Sheet Recap
A2: Martingale 1N2 | F2: Martingale Over 2,5 | K2: Over 1,5 - 4,5
A4: Martingale 1N2 à 0,2 | B4: =COUNTIF([0]!pronostikeurs,"base 0,2") -> 5 | C4: Gains/Pertes : | D4: =SUMIF([0]!pronostikeurs,"base 0,2",Suivit!J2:J989) -> -0.58 | F4: Nbre de 0,2 joué : | G4: =COUNTIF([0]!pronostikeurs,"martingale over 2,5 à 0,2") -> 4 | H4: Gains/Pertes : | I4: =SUMIF([0]!pronostikeurs,"martingale over 2,5 à 0,2",Suivit!J2:J989) -> 0.01 | L4: Nbre de joués | M4: Gains/pertes
A5: Martingale 1N2 à 0,4 | B5: =COUNTIF([0]!pronostikeurs,"Martingale 1N2 à 0,4") -> 4 | C5: Gains/Pertes : | D5: =SUMIF([0]!pronostikeurs,"martingale 1N2 à 0,4",Suivit!J2:J989) -> 0.048 | F5: Nbre de 0,4 joué : | G5: =COUNTIF([0]!Pronostiqueurs,"martingale over 2,5 à 0,4") -> 2 | H5: Gains/Pertes : | I5: =SUMIF([0]!pronostikeurs,"martingale over 2,5 à 0,4",Suivit!J2:J989) -> 0.04 | K5: Over 1,5 | L5: =COUNTIF([0]!systeme,"over 1,5") -> 1 | M5: =SUMIF([0]!systeme,"over 1,5",Suivit!J2:J989) -> 0.023
A6: Martingale 1N2 à 0,8 | B6: =COUNTIF([0]!pronostikeurs,"Martingale 1N2 à 0,8") -> 2 | C6: Gains/Pertes : | D6: =SUMIF([0]!pronostikeurs,"martingale 1N2 à 0,8",Suivit!J2:J989) -> 2.12 | F6: Nbre de 0,8 joué : | G6: =COUNTIF([0]!pronostikeurs,"martingale over 2,5 à 0,8") -> 1 | H6: Gains/Pertes : | I6: =SUMIF([0]!pronostikeurs,"martingale over 2,5 à 0,8",Suivit!J2:J989) -> 0.8 | K6: Over 2,5 | L6: =COUNTIF([0]!systeme,"over 2,5") -> 1 | M6: =SUMIF([0]!systeme,"over 2,5",Suivit!J2:J989) -> -0.1
A7: Martingale 1N2 à 1,6 | B7: =COUNTIF([0]!pronostikeurs,"martingale 1N2 à 1,6") -> 0 | C7: Gains/Pertes : | D7: =SUMIF([0]!pronostikeurs,"martingale 1N2 à 1,6",Suivit!J2:J989) -> 0 | F7: Nbre de 1,6 joué : | G7: =COUNTIF([0]!Pronostiqueurs,"martingale over 2,5 à 1,6") -> 0 | H7: Gains/Pertes : | I7: =SUMIF([0]!Pronostiqueurs,"martingale over 2,5 à 1,6",Suivit!J2:J989) -> 0 | K7: Over 3,5 | L7: =COUNTIF([0]!systeme,"over 3,5") -> 1 | M7: =SUMIF([0]!systeme,"over 3,5",Suivit!J2:J989) -> -0.1
A8: Martingale 1N2 à 3,2 | B8: =COUNTIF([0]!pronostikeurs,"martingale 1N2 à 3,2") -> 0 | C8: Gains/Pertes : | D8: =SUMIF([0]!Pronostiqueurs,"martingale 1N2 à 3,2",Suivit!J2:J989) -> 0 | F8: Nbre de 3,2 joué : | G8: =COUNTIF([0]!Pronostiqueurs,"martingale over 2,5 à 3,2") -> 0 | H8: Gains/Pertes : | I8: =SUMIF([0]!Pronostiqueurs,"martingale over 2,5 à 3,2",Suivit!J2:J989) -> 0 | K8: Over 4,5 | L8: =COUNTIF([0]!systeme,"over 4,5") -> 1 | M8: =SUMIF([0]!systeme,"over 4,5",Suivit!J2:J989) -> -0.1
A9: Total | B9: =SUM(B4:B8) -> 11 | C9: Total | D9: =SUM(D4:D8) -> 1.588 | F9: Total | G9: =SUM(G4:G8) -> 7 | H9: Total | I9: =SUM(I4:I8) -> 0.85 | K9: Total | M9: =SUM(M5:M8) -> -0.277
A12: Mika | E12: K.James Pronos | J12: Perso
A13: Nbre de pronos joués | C13: =COUNTIF([0]!pronostikeurs,"Mika") -> 24 | E13: Nbre de pronos joués | G13: =COUNTIF([0]!pronostikeurs,"K.James pronos") -> 2 | J13: Nbre de match joués | L13: =COUNTIF([0]!pronostikeurs,"perso") -> 10
A14: Mise investit | C14: =SUMIF([0]!pronostikeurs,"Mika",(Suivit!E2:E989)) -> 7.3 | E14: Mises | G14: =SUMIF([0]!pronostikeurs,"K.James pronos",(Suivit!E2:E989)) -> 0.5 | J14: Mise investit | L14: =SUMIF([0]!pronostikeurs,"perso",(Suivit!E2:E989)) -> 1
A15: Gains/Pertes | C15: =SUMIF([0]!pronostikeurs,"Mika",(Suivit!J2:J989)) -> -0.601 | E15: Gains/Pertes | G15: =SUMIF([0]!pronostikeurs,"K.James pronos",(Suivit!J2:J989)) -> -0.018 | J15: Gains/Pertes | L15: =SUMIF([0]!pronostikeurs,"perso",(Suivit!J2:J989)) -> 0.147
A17: Pronomatch | E17: NHL Crosby | J17: Montante
A18: Nbre de pronos joués | C18: =COUNTIF([0]!pronostikeurs,"Pronomatch") -> 0 | E18: Nbre de pronos joués | G18: =COUNTIF([0]!pronostikeurs,"Crosby") -> 0 | J18: Nbre de match joués | L18: =COUNTIF([0]!pronostikeurs,"montante") -> 11
A19: Mise investit | C19: =SUMIF([0]!pronostikeurs,"Pronomatch",(Suivit!E2:E989)) -> 0 | E19: Mise investit | G19: =SUMIF([0]!pronostikeurs,"Crosby",(Suivit!E2:E989)) -> 0 | J19: Mise investit | L19: =SUMIF([0]!pronostikeurs,"montante",(Suivit!E2:E989)) -> 6.2
A20: Gains/Pertes | C20: =SUMIF([0]!pronostikeurs,"Pronomatch",(Suivit!J2:J989)) -> 0 | E20: Gains/Pertes | G20: =SUMIF([0]!pronostikeurs,"Crosby",(Suivit!J2:J989)) -> 0 | J20: Gains/Pertes | L20: =SUMIF([0]!pronostikeurs,"montante",(Suivit!J2:J989)) -> -0.966
A22: Bénéfices/Pertes | I22: Sylvain
I23: Nbre de 0/3 | K23: =COUNTIF([0]!systeme,"0/3") -> 0
A24: =C20+C15+D9+I9+G15+G20+L15+L20+M27+M9 -> 0.723 | I24: Nbre de 1/3 | K24: =COUNTIF([0]!systeme,"1/3") -> 0
I25: Nbre de 2/3 | K25: =COUNTIF([0]!systeme,"2/3") -> 0 | L25: Gains | M25: =SUMIF([0]!systeme,"2/3",(Suivit!J2:J989)) -> 0
A26: Bankroll Départ | I26: Nbre de 3/3 | K26: =COUNTIF([0]!systeme,"3/3") -> 0 | L26: Gains | M26: =SUMIF([0]!systeme,"3/3",(Suivit!J2:J989)) -> 0
M27: =SUM(M25:M26) -> 0
A28: =Suivit!K2 -> 3.39

Sheet Suivit
A1: Date | B1: site de pari | C1: Pronostiqueurs | D1: Type de pari | E1: mise | F1: Cote | G1: Système 2/3 | H1: Gain-Perte | I1: Gains/Perte | J1: Bénefice | K1: Solde
A2: 42405 | B2: Unibet | C2: Base 0,2 | D2: 1 | E2: 0.2 | F2: 2.1 | H2: Gagné | I2: =IF(H2="Gagné",E2*F2,IF(H2="Perdu",E2*0,IF(H2="En cours",""))) -> 0.42 | J2: =I2-E2 -> 0.22 | K2: 3.39
A3: 42405 | B3: Unibet | C3: Montante | D3: cote 1,6 | E3: 0.5 | F3: 1.62 | H3: Gagné | I3: =IF(H3="Gagné",E3*F3,IF(H3="Perdu",E3*0,IF(H3="En cours",""))) -> 0.81 | J3: =I3-E3 -> 0.31 | K3: =K2+J3 -> 3.7
A4: 42405 | B4: Unibet | C4: Mika | D4: Comb | E4: 0.5 | F4: 2.42 | H4: Gagné | I4: =IF(H4="Gagné",E4*F4,IF(H4="Perdu",E4*0,IF(H4="En cours",""))) -> 1.21 | J4: =I4-E4 -> 0.71 | K4: =J4+K3 -> 4.41
A5: 42406 | B5: Unibet | C5: Martingale 1N2 à 0,2 | D5: 1 | E5: 0.2 | F5: 2.25 | H5: Gagné | I5: =IF(H5="Gagné",E5*F5,IF(H5="Perdu",E5*0,IF(H5="En cours",""))) -> 0.45 | J5: =I5-E5 -> 0.25 | K5: =J5+K4 -> 4.66
A6: 42406 | B6: Unibet | C6: Montante | D6: cote 1,6 | E6: 0.5 | F6: 1.65 | H6: Gagné | I6: =IF(H6="Gagné",E6*F6,IF(H6="Perdu",E6*0,IF(H6="En cours",""))) -> 0.825 | J6: =I6-E6 -> 0.325 | K6: =J6+K5 -> 4.985
A7: 42406 | B7: Unibet | C7: Mika | D7: Comb | E7: 0.5 | F7: 2.79 | H7: Perdu | I7: =IF(H7="Gagné",E7*F7,IF(H7="Perdu",E7*0,IF(H7="En cours",""))) -> 0 | J7: =I7-E7 -> -0.5 | K7: =J7+K6 -> 4.485
A8: 42406 | B8: Unibet | C8: Perso | D8: Comb | E8: 0.1 | F8: 6.71 | H8: Perdu | I8: =IF(H8="Gagné",E8*F8,IF(H8="Perdu",E8*0,IF(H8="En cours",""))) -> 0 | J8: =I8-E8 -> -0.1 | K8: =J8+K7 -> 4.385
A9: 42407 | B9: Unibet | C9: Base 0,2 | D9: 1 | E9: 0.2 | F9: 2.45 | H9: Perdu | I9: =IF(H9="Gagné",E9*F9,IF(H9="Perdu",E9*0,IF(H9="En cours",""))) -> 0 | J9: =I9-E9 -> -0.2 | K9: =J9+K8 -> 4.185
A10: 42407 | B10: Unibet | C10: Montante | D10: cote 1,6 | E10: 0.6 | F10: 1.62 | H10: Gagné | I10: =IF(H10="Gagné",E10*F10,IF(H10="Perdu",E10*0,IF(H10="En cours",""))) -> 0.972 | J10: =I10-E10 -> 0.372 | K10: =J10+K9 -> 4.557
A11: 42408 | B11: Unibet | C11: Martingale 1N2 à 0,4 | D11: 1 | E11: 0.4 | F11: 2.75 | H11: Perdu | I11: =IF(H11="Gagné",E11*F11,IF(H11="Perdu",E11*0,IF(H11="En cours",""))) -> 0 | J11: =I11-E11 -> -0.4 | K11: =J11+K10 -> 4.157
A12: 42408 | B12: Unibet | C12: Mika | D12: 1 | E12: 0.2 | F12: 1.65 | H12: Perdu | I12: =IF(H12="Gagné",E12*F12,IF(H12="Perdu",E12*0,IF(H12="En cours",""))) -> 0 | J12: =I12-E12 -> -0.2 | K12: =J12+K11 -> 3.957
A13: 42409 | B13: Unibet | C13: Mika | D13: comb | E13: 0.2 | F13: 3.6 | H13: Perdu | I13: =IF(H13="Gagné",E13*F13,IF(H13="Perdu",E13*0,IF(H13="En cours",""))) -> 0 | J13: =I13-E13 -> -0.2 | K13: =J13+K12 -> 3.757
A14: 42410 | B14: Unibet | C14: Mika | D14: 1 | E14: 0.2 | F14: 1.74 | H14: Perdu | I14: =IF(H14="Gagné",E14*F14,IF(H14="Perdu",E14*0,IF(H14="En cours",""))) -> 0 | J14: =I14-E14 -> -0.2 | K14: =J14+K13 -> 3.557
A15: 42412 | B15: Unibet | C15: Martingale 1N2 à 0,8 | D15: 1 | E15: 0.8 | F15: 2.1 | H15: Gagné | I15: =IF(H15="Gagné",E15*F15,IF(H15="Perdu",E15*0,IF(H15="En cours",""))) -> 1.68 | J15: =I15-E15 -> 0.88 | K15: =J15+K14 -> 4.437
A16: 42412 | B16: Unibet | C16: Montante | D16: cote 1,6 | E16: 0.7 | F16: 1.58 | H16: Perdu | I16: =IF(H16="Gagné",E16*F16,IF(H16="Perdu",E16*0,IF(H16="En cours",""))) -> 0 | J16: =I16-E16 -> -0.7 | K16: =J16+K15 -> 3.737
A17: 42412 | B17: Unibet | C17: Mika | D17: Comb | E17: 0.2 | F17: 2.88 | H17: Gagné | I17: =IF(H17="Gagné",E17*F17,IF(H17="Perdu",E17*0,IF(H17="En cours",""))) -> 0.576 | J17: =I17-E17 -> 0.376 | K17: =J17+K16 -> 4.113
A18: 42413 | B18: Unibet | C18: Base 0,2 | D18: 1 | E18: 0.2 | F18: 2.1 | H18: Perdu | I18: =IF(H18="Gagné",E18*F18,IF(H18="Perdu",E18*0,IF(H18="En cours",""))) -> 0 | J18: =I18-E18 -> -0.2 | K18: =J18+K17 -> 3.913
A19: 42413 | B19: Unibet | C19: Montante | D19: cote 1,6 | E19: 0.5 | F19: 1.68 | H19: Gagné | I19: =IF(H19="Gagné",E19*F19,IF(H19="Perdu",E19*0,IF(H19="En cours",""))) -> 0.84 | J19: =I19-E19 -> 0.34 | K19: =J19+K18 -> 4.253
A20: 42413 | B20: Unibet | C20: Mika | D20: 1 | E20: 0.3 | F20: 1.75 | H20: Perdu | I20: =IF(H20="Gagné",E20*F20,IF(H20="Perdu",E20*0,IF(H20="En cours",""))) -> 0 | J20: =I20-E20 -> -0.3 | K20: =J20+K19 -> 3.953
A21: 42413 | B21: Unibet | C21: Perso | D21: Comb | E21: 0.1 | F21: 6.84 | H21: Gagné | I21: 0.74 | J21: =I21-E21 -> 0.64 | K21: =J21+K20 -> 4.593
A22: 42414 | B22: Unibet | C22: Martingale 1N2 à 0,4 | D22: 1 | E22: 0.4 | F22: 2.05 | H22: Perdu | I22: =IF(H22="Gagné",E22*F22,IF(H22="Perdu",E22*0,IF(H22="En cours",""))) -> 0 | J22: =I22-E22 -> -0.4 | K22: =J22+K21 -> 4.193
A23: 42414 | B23: Unibet | C23: Martingale over 2,5 à 0,2 | D23: Over 2,5 | E23: 0.2 | F23: 2.1 | H23: Gagné | I23: =IF(H23="Gagné",E23*F23,IF(H23="Perdu",E23*0,IF(H23="En cours",""))) -> 0.42 | J23: =I23-E23 -> 0.22 | K23: =J23+K22 -> 4.413
A24: 42414 | B24: Unibet | C24: Montante | D24: cote 1,6 | E24: 0.6 | F24: 1.62 | H24: Gagné | I24: =IF(H24="Gagné",E24*F24,IF(H24="Perdu",E24*0,IF(H24="En cours",""))) -> 0.972 | J24: =I24-E24 -> 0.372 | K24: =J24+K23 -> 4.785
A25: 42414 | B25: Unibet | C25: Mika | D25: 1 | E25: 0.3 | F25: 1.48 | H25: Gagné | I25: =IF(H25="Gagné",E25*F25,IF(H25="Perdu",E25*0,IF(H25="En cours",""))) -> 0.444 | J25: =I25-E25 -> 0.144 | K25: =J25+K24 -> 4.929
A26: 42414 | B26: Unibet | C26: Perso | D26: Comb | E26: 0.1 | F26: 2.88 | H26: Perdu | I26: =IF(H26="Gagné",E26*F26,IF(H26="Perdu",E26*0,IF(H26="En cours",""))) -> 0 | J26: =I26-E26 -> -0.1 | K26: =J26+K25 -> 4.829
A27: 42415 | B27: Unibet | C27: Martingale over 2,5 à 0,2 | D27: Over 2,5 | E27: 0.2 | F27: 1.95 | H27: Gagné | I27: =IF(H27="Gagné",E27*F27,IF(H27="Perdu",E27*0,IF(H27="En cours",""))) -> 0.39 | J27: =I27-E27 -> 0.19 | K27: =J27+K26 -> 5.019
A28: 42415 | B28: Unibet | C28: Montante | D28: cote 1,6 | E28: 0.8 | F28: 1.58 | H28: Perdu | I28: =IF(H28="Gagné",E28*F28,IF(H28="Perdu",E28*0,IF(H28="En cours",""))) -> 0 | J28: =I28-E28 -> -0.8 | K28: =J28+K27 -> 4.219
A29: 42415 | B29: Unibet | C29: Mika | D29: comb | E29: 0.3 | F29: 1.93 | H29: Perdu | I29: =IF(H29="Gagné",E29*F29,IF(H29="Perdu",E29*0,IF(H29="En cours",""))) -> 0 | J29: =I29-E29 -> -0.3 | K29: =J29+K28 -> 3.919
A30: 42416 | B30: Unibet | C30: Mika | D30: 1 | E30: 0.2 | F30: 1.66 | H30: Gagné | I30: =IF(H30="Gagné",E30*F30,IF(H30="Perdu",E30*0,IF(H30="En cours",""))) -> 0.332 | J30: =I30-E30 -> 0.132 | K30: =J30+K29 -> 4.051
A31: 42416 | B31: Unibet | C31: Mika | D31: 1 | E31: 0.2 | F31: 1.72 | H31: Perdu | I31: =IF(H31="Gagné",E31*F31,IF(H31="Perdu",E31*0,IF(H31="En cours",""))) -> 0 | J31: =I31-E31 -> -0.2 | K31: =J31+K30 -> 3.851
A32: 42416 | B32: Unibet | C32: Mika | D32: comb | E32: 0.3 | F32: 3.36 | H32: Gagné | I32: =IF(H32="Gagné",E32*F32,IF(H32="Perdu",E32*0,IF(H32="En cours",""))) -> 1.008 | J32: =I32-E32 -> 0.708 | K32: =J32+K31 -> 4.559
A33: 42416 | B33: Unibet | C33: Mika | D33: comb | E33: 0.3 | F33: 2.34 | H33: Gagné | I33: =IF(H33="Gagné",E33*F33,IF(H33="Perdu",E33*0,IF(H33="En cours",""))) -> 0.702 | J33: =I33-E33 -> 0.402 | K33: =J33+K32 -> 4.961
A34: 42417 | B34: Unibet | C34: Mika | D34: 1 | E34: 0.3 | F34: 1.9 | H34: Gagné | I34: =IF(H34="Gagné",E34*F34,IF(H34="Perdu",E34*0,IF(H34="En cours",""))) -> 0.57 | J34: =I34-E34 -> 0.27 | K34: =J34+K33 -> 5.231
A35: 42417 | B35: Unibet | C35: Perso | D35: comb | E35: 0.1 | F35: 4.07 | H35: Gagné | I35: =IF(H35="Gagné",E35*F35,IF(H35="Perdu",E35*0,IF(H35="En cours",""))) -> 0.407 | J35: =I35-E35 -> 0.307 | K35: =J35+K34 -> 5.538
A36: 42418 | B36: Unibet | C36: Martingale 1N2 à 0,8 | D36: 1 | E36: 0.8 | F36: 2.55 | H36: Gagné | I36: =IF(H36="Gagné",E36*F36,IF(H36="Perdu",E36*0,IF(H36="En cours",""))) -> 2.04 | J36: =I36-E36 -> 1.24 | K36: =J36+K35 -> 6.778
A37: 42418 | B37: Unibet | C37: Martingale over 2,5 à 0,2 | D37: Over 2,5 | E37: 0.2 | F37: 2 | H37: Perdu | I37: =IF(H37="Gagné",E37*F37,IF(H37="Perdu",E37*0,IF(H37="En cours",""))) -> 0 | J37: =I37-E37 -> -0.2 | K37: =J37+K36 -> 6.578
A38: 42418 | B38: Unibet | C38: Mika | D38: comb | E38: 0.3 | F38: 1.9 | H38: Gagné | I38: =IF(H38="Gagné",E38*F38,IF(H38="Perdu",E38*0,IF(H38="En cours",""))) -> 0.57 | J38: =I38-E38 -> 0.27 | K38: =J38+K37 -> 6.848
A39: 42418 | B39: Unibet | C39: Mika | D39: 1 | E39: 0.3 | F39: 1.3 | H39: Perdu | I39: =IF(H39="Gagné",E39*F39,IF(H39="Perdu",E39*0,IF(H39="En cours",""))) -> 0 | J39: =I39-E39 -> -0.3 | K39: =J39+K38 -> 6.548
A40: 42418 | B40: Unibet | C40: Perso | D40: comb | E40: 0.1 | F40: 4.92 | H40: Perdu | I40: =IF(H40="Gagné",E40*F40,IF(H40="Perdu",E40*0,IF(H40="En cours",""))) -> 0 | J40: =I40-E40 -> -0.1 | K40: =J40+K39 -> 6.448
...

Sheet Feuil3

Sheet Feuil1
B1: Gain | C1: Gain | D1: Gain
A2: 2016 | B2: Mika | C2: Montante | D2: Perso
A3: 42401 | B3: =SUMPRODUCT((Suivit!$I$2:$I$71)*(Suivit!$C$2:$C$71=B$2)*(MONTH($A3)=MONTH(Suivit!$A$2:$A$71))) -> 6.699 | C3: =SUMPRODUCT((Suivit!$I$2:$I$71)*(Suivit!$C$2:$C$71=C$2)*(MONTH($A3)=MONTH(Suivit!$A$2:$A$71))) -> 5.234 | D3: =SUMPRODUCT((Suivit!$I$2:$I$71)*(Suivit!$C$2:$C$71=D$2)*(MONTH($A3)=MONTH(Suivit!$A$2:$A$71))) -> 1.147
A4: 42430 | B4: =SUMPRODUCT((Suivit!$I$2:$I$71)*(Suivit!$C$2:$C$71=B$2)*(MONTH($A4)=MONTH(Suivit!$A$2:$A$71))) -> 0 | C4: =SUMPRODUCT((Suivit!$I$2:$I$71)*(Suivit!$C$2:$C$71=C$2)*(MONTH($A4)=MONTH(Suivit!$A$2:$A$71))) -> 0 | D4: =SUMPRODUCT((Suivit!$I$2:$I$71)*(Suivit!$C$2:$C$71=D$2)*(MONTH($A4)=MONTH(Suivit!$A$2:$A$71))) -> 0
