Workbook
Name Acétaéthyl: '[1]Plan complet'!$G$12:$G$13
Name Acidchlo: '[1]Plan complet'!$G$15:$G$16
Name Acidpyro: '[1]Plan complet'!$G$17:$G$18
Name ADC_prioritaire: Feuil1!$E$2:$E$25
Name Atelier: Feuil1!$F$2:$F$25
Name Ch2Cl2AT1: '[1]Plan complet'!$G$24:$G$29
Name CMR: Feuil1!$D$2:$D$25
Name Dernière_mesure: Feuil1!$B$2:$B$25
Name DioxHMC: '[1]Plan complet'!$G$4:$G$9
Name Ethan1: '[1]Plan complet'!$G$31:$G$54
Name MeOHAT1: '[1]Plan complet'!$G$57:$G$67
Name Spind: '[1]Plan complet'!$G$71:$G$88
Name Substance_unique: Feuil1!$A$2:$A$25
Name TBME: '[1]Plan complet'!$G$90:$G$92
Name VLEP: Feuil1!$C$2:$C$25

Sheet Test Synthèse
A1: Substance | B1: Dernière mesure | C1: VLEP | D1: CMR | E1: ADC prioritaire | F1: Atelier | G1: Nom Produit | H1: Code produit (dernière révision) | I1: Evaluation des risques (Chapitres concernés) | J1: Phase à risque global | K1: Court terme Long terme | L1: Type de mesure O/V/A | M1: Date de la mesure 1 | N1: Année de la mesure | O1: mesure 1 (mg/m3) | P1: ratio (%) | Q1: Type de mesure O/V/A | R1: Date de la mesure 2 | S1: Année de la mesure | T1: mesure 2 (mg/m3) | U1: ratio (%) | V1: Type de mesure O/V/A | W1: Date de la mesure 3 | X1: Année de la mesure | Y1: mesure 3 (mg/m3) | Z1: ratio (%) | AA1: Type de mesure O/V/A | AB1: Date de la mesure 4 | AC1: Année de la mesure | AD1: mesure 4 (mg/m3) | AE1: ratio (%) | AF1: Type de mesure O/V/A | AG1: Date de la mesure 5 | AH1: Année de la mesure | AI1: mesure 5 (mg/m3) | AJ1: ratio (%) | AK1: Type de mesure O/V/A | AL1: Date de la mesure 6 | AM1: Année de la mesure | AN1: mesure 6 (mg/m3) | AO1: ratio (%) | AP1: Type de mesure O/V/A | AQ1: Date de la mesure 7 | AR1: Année de la mesure | AS1: mesure 7 (mg/m3) | AT1: ratio (%) | AU1: Type de mesure O/V/A | AV1: Date de la mesure 8 | AW1: Année de la mesure | AX1: mesure 8 (mg/m3) | AY1: ratio (%) | AZ1: Type de mesure O/V/A | BA1: Date de la mesure 9 | BB1: Année de la mesure | BC1: mesure 9 (mg/m3) | BD1: ratio (%) | BE1: Mesure valide | BF1: Fréquence mesures | BG1: Dernière année de mesure | BH1: DNEL aiguë (mg/m3) | BI1: DNEL chronique (mg/m3) | BJ1: Ratio concentration mesurée/DNEL (%) | BK1: Source
A2: Acide sulfurique | B2: =IF(ISNA(MAX(M2,R2,W2,AB2,AG2,AL2,AQ2,AV2,BA2)),"",MAX(M2,R2,W2,AB2,AG2,AL2,AQ2,AV2,BA2)) -> 0 | C2: VLEPi | D2: Non | E2: oui | F2: AT1 | G2: HMC concentrât aqueux | H2: 1HMCC03.doc (21/9/15) | I2: D.1.4 Stabilisation du milieu réactionnel | J2: Lors de l'ouverture et fermeture du bidon | K2: =IF(ISNA(VLOOKUP(J2,'Plan complet'!J3:K3,ROW('Plan complet'!2:5),0)),"",(VLOOKUP(J2,'Plan complet'!J3:K3,ROW('Plan complet'!2:5),0))) -> 0 | L2: =IF(ISNA(VLOOKUP(K2,'Plan complet'!K3:L3,2,0)),"",(VLOOKUP(K2,'Plan complet'!K3:L3,2,0))) | M2: =IF(ISNA(VLOOKUP(L2,'Plan complet'!L3:M3,2,0)),"",(VLOOKUP(L2,'Plan complet'!L3:M3,2,0))) | N2: =IF(ISNA(VLOOKUP(M2,'Plan complet'!M3:N3,2,0)),"",(VLOOKUP(M2,'Plan complet'!M3:N3,2,0))) | O2: =IF(ISNA(VLOOKUP(N2,'Plan complet'!N3:O3,2,0)),"",(VLOOKUP(N2,'Plan complet'!N3:O3,2,0))) | P2: =IF(ISNA(VLOOKUP(O2,'Plan complet'!O3:P3,2,0)),"",(VLOOKUP(O2,'Plan complet'!O3:P3,2,0))) | Q2: =IF(ISNA(VLOOKUP(P2,'Plan complet'!P3:Q3,2,0)),"",(VLOOKUP(P2,'Plan complet'!P3:Q3,2,0))) | R2: =IF(ISNA(VLOOKUP(Q2,'Plan complet'!Q3:R3,2,0)),"",(VLOOKUP(Q2,'Plan complet'!Q3:R3,2,0))) | S2: =IF(ISNA(VLOOKUP(R2,'Plan complet'!R3:S3,2,0)),"",(VLOOKUP(R2,'Plan complet'!R3:S3,2,0))) | ... AJ2: =IF(ISNA(VLOOKUP(AI2,'Plan complet'!AI3:AJ3,2,0)),"",(VLOOKUP(AI2,'Plan complet'!AI3:AJ3,2,0))) | BE2: N
A3: Acide sulfurique | B3: =IF(ISNA(MAX(M3,R3,W3,AB3,AG3,AL3,AQ3,AV3,BA3)),"",MAX(M3,R3,W3,AB3,AG3,AL3,AQ3,AV3,BA3)) -> 0 | C3: VLEPi | D3: Non | E3: oui | F3: AT1 | G3: Hespéridine Méthyl Chalcone Récup1HMCR02,docération du Dioxane Destruction du méthyl sulfate de sodium | H3: 1HMCR02.doc (21/9/15) | I3: D.6.3 Neutralisation des sels HMC | J3: Chargement de l'acide par vanne de chargement haut réacteur par le biais d'une pompe pneumatique | K3: =IF(ISNA(VLOOKUP(J3,'Plan complet'!J2:K2,2,0)),"",(VLOOKUP(J3,'Plan complet'!J2:K2,2,0))) -> 0 | L3: =IF(ISNA(VLOOKUP(K3,'Plan complet'!K2:L2,2,0)),"",(VLOOKUP(K3,'Plan complet'!K2:L2,2,0))) | M3: =IF(ISNA(VLOOKUP(L3,'Plan complet'!L2:M2,2,0)),"",(VLOOKUP(L3,'Plan complet'!L2:M2,2,0))) | N3: =IF(ISNA(VLOOKUP(M3,'Plan complet'!M2:N2,2,0)),"",(VLOOKUP(M3,'Plan complet'!M2:N2,2,0))) | O3: =IF(ISNA(VLOOKUP(N3,'Plan complet'!N2:O2,2,0)),"",(VLOOKUP(N3,'Plan complet'!N2:O2,2,0))) | P3: =IF(ISNA(VLOOKUP(O3,'Plan complet'!O2:P2,2,0)),"",(VLOOKUP(O3,'Plan complet'!O2:P2,2,0))) | Q3: =IF(ISNA(VLOOKUP(P3,'Plan complet'!P2:Q2,2,0)),"",(VLOOKUP(P3,'Plan complet'!P2:Q2,2,0))) | R3: =IF(ISNA(VLOOKUP(Q3,'Plan complet'!Q2:R2,2,0)),"",(VLOOKUP(Q3,'Plan complet'!Q2:R2,2,0))) | ... AJ3: =IF(ISNA(VLOOKUP(AI3,'Plan complet'!AI2:AJ2,2,0)),"",(VLOOKUP(AI3,'Plan complet'!AI2:AJ2,2,0))) | BE3: N
A4: 1,4-Dioxane | B4: =MAX(M4,R4,W4,AB4,AG4,AL4,AQ4,AV4,BA4) -> 40938 | C4: VLEPc | D4: 2 | E4: =IF(AND(C4="non",D4="non"),"non","oui") -> oui | F4: AT1 | G4: HMC concentrât aqueux. | H4: =VLOOKUP(G4,'Plan complet'!G3:H8,2,0) -> INST_GAI_0136 1HMCC03.doc. (27/10/15) | I4: =VLOOKUP(H4,'Plan complet'!H3:I8,2,0) -> D5.2 passage sur eau | J4: =VLOOKUP(I4,'Plan complet'!I3:J8,2,0) -> Passage sur eau et evaporation du dioxane pour prise d'échantillon | K4: Court terme | L4: O | M4: 39932 | N4: 2009 | O4: 27.5 | P4: 0.1964 | Q4: O | R4: 40938 | S4: 2012 | T4: 389 | U4: 2.78 | V4: O | W4: 40938 | X4: 2012 | Y4: 351 | Z4: 2.5 | AA4: =IF(ISNA(VLOOKUP(Z4,'Plan complet'!P10:Q10,2,0)),"",(VLOOKUP(Z4,'Plan complet'!P10:Q10,2,0))) | AB4: =IF(ISNA(VLOOKUP(AA4,'Plan complet'!Q10:R10,2,0)),"",(VLOOKUP(AA4,'Plan complet'!Q10:R10,2,0))) | AC4: =IF(ISNA(VLOOKUP(AB4,'Plan complet'!R10:S10,2,0)),"",(VLOOKUP(AB4,'Plan complet'!R10:S10,2,0))) | AD4: =IF(ISNA(VLOOKUP(AC4,'Plan complet'!S10:T10,2,0)),"",(VLOOKUP(AC4,'Plan complet'!S10:T10,2,0))) | AE4: =IF(ISNA(VLOOKUP(AD4,'Plan complet'!T10:U10,2,0)),"",(VLOOKUP(AD4,'Plan complet'!T10:U10,2,0))) | AF4: =IF(ISNA(VLOOKUP(AE4,'Plan complet'!U10:V10,2,0)),"",(VLOOKUP(AE4,'Plan complet'!U10:V10,2,0))) | AG4: =IF(ISNA(VLOOKUP(AF4,'Plan complet'!V10:W10,2,0)),"",(VLOOKUP(AF4,'Plan complet'!V10:W10,2,0))) | AH4: =IF(ISNA(VLOOKUP(AG4,'Plan complet'!W10:X10,2,0)),"",(VLOOKUP(AG4,'Plan complet'!W10:X10,2,0))) | ... AJ4: =IF(ISNA(VLOOKUP(AI4,'Plan complet'!Y10:Z10,2,0)),"",(VLOOKUP(AI4,'Plan complet'!Y10:Z10,2,0))) | AM4: =IF(AL4="","",YEAR(AL4)) | AW4: =IF(AV4="","",YEAR(AV4)) | BB4: =IF(BA4="","",YEAR(BA4)) | BE4: N | BF4: statuer direction | BG4: 2009 | BJ4: NA
A5: 1,4-Dioxane | B5: =IF(ISNA(MAX(M5,R5,W5,AB5,AG5,AL5,AQ5,AV5,BA5)),"",MAX(M5,R5,W5,AB5,AG5,AL5,AQ5,AV5,BA5)) -> 41893 | C5: VLEPc | D5: 2 | E5: oui | F5: AT1 | G5: HMC concentrât aqueux. | H5: =VLOOKUP(G5,'Plan complet'!G4:H9,2,0) -> INST_GAI_0136 1HMCC03.doc. (27/10/15) | I5: =VLOOKUP(H5,'Plan complet'!H4:I9,2,0) -> D5.2 passage sur eau | J5: =VLOOKUP(I5,'Plan complet'!I4:J9,2,0) -> Passage sur eau et evaporation du dioxane pour prise d'échantillon | K5: Long terme | L5: O | M5: 38887 | N5: 2006 | O5: 15.2 | P5: 0.20821918 | Q5: O | R5: 41333 | S5: 2013 | T5: 10.5 | U5: 0.14 | V5: V | W5: 41333 | X5: 2013 | Y5: 1.18 | Z5: 0.016 | AA5: O | AB5: 41439 | AC5: 2013 | AD5: 35.4 | AE5: =AD5/73 -> 0.48493151 | AF5: O | AG5: 41807 | AH5: 2014 | AI5: 10.4 | AJ5: 0.14 | AK5: O | AL5: 41893 | AM5: 2014 | AN5: 11.4 | AO5: 0.156 | BE5: N | BF5: seconde mesure pour statuer | BG5: 2006 | BJ5: NA
A6: 3 nicométhanol | B6: =IF(ISNA(MAX(M6,R6,W6,AB6,AG6,AL6,AQ6,AV6,BA6)),"",MAX(M6,R6,W6,AB6,AG6,AL6,AQ6,AV6,BA6)) -> 0 | C6: Non | D6: Non | E6: non | F6: AT1 | G6: Fluorhydrate de nicométhanol | H6: 1FLUOR02.doc (15/7/15) | I6: D.3 Chargement et rinçage canalisation | J6: Chargement réacteur sous vide par accès haut à l'aide de la canne de chargement | K6: =IF(ISNA(VLOOKUP(J6,'Plan complet'!J11:K11,2,0)),"",VLOOKUP(J6,'Plan complet'!J11:K11,2,0)) -> 0 | L6: =IF(ISNA(VLOOKUP(K6,'Plan complet'!K11:L11,2,0)),"",VLOOKUP(K6,'Plan complet'!K11:L11,2,0)) | M6: =IF(ISNA(VLOOKUP(L6,'Plan complet'!L11:M11,2,0)),"",VLOOKUP(L6,'Plan complet'!L11:M11,2,0)) | N6: =IF(ISNA(VLOOKUP(M6,'Plan complet'!M11:N11,2,0)),"",VLOOKUP(M6,'Plan complet'!M11:N11,2,0)) | O6: =IF(ISNA(VLOOKUP(N6,'Plan complet'!N11:O11,2,0)),"",VLOOKUP(N6,'Plan complet'!N11:O11,2,0)) | P6: =IF(ISNA(VLOOKUP(O6,'Plan complet'!O11:P11,2,0)),"",VLOOKUP(O6,'Plan complet'!O11:P11,2,0)) | Q6: =IF(ISNA(VLOOKUP(P6,'Plan complet'!P11:Q11,2,0)),"",VLOOKUP(P6,'Plan complet'!P11:Q11,2,0)) | R6: =IF(ISNA(VLOOKUP(Q6,'Plan complet'!Q11:R11,2,0)),"",VLOOKUP(Q6,'Plan complet'!Q11:R11,2,0)) | ... AJ6: =IF(ISNA(VLOOKUP(AI6,'Plan complet'!AI11:AJ11,2,0)),"",VLOOKUP(AI6,'Plan complet'!AI11:AJ11,2,0)) | BE6: N
A7: Acétate d'éthyle | B7: =IF(ISNA(MAX(M7,R7,W7,AB7,AG7,AL7,AQ7,AV7,BA7)),"",MAX(M7,R7,W7,AB7,AG7,AL7,AQ7,AV7,BA7)) -> 0 | C7: Non | D7: Non | E7: non | F7: AT1 | G7: Extrait marc de pommes | H7: =VLOOKUP(G7, 'Plan complet'!G12:H13,2,0) -> 1MAPOM1A.doc (28/5/15) | I7: =VLOOKUP(H7, 'Plan complet'!H12:I13,2,0) -> D.1.1 : Préparation du solvant d'extraction, D.2.1, D.2.3, D.3.3, D.4.3 : Extraction solide/liquide | J7: =VLOOKUP(I7, 'Plan complet'!I12:J13,2,0) -> Chargement successif d'acétate d'éthyle et eau (94/6) | K7: =IF(ISNA(VLOOKUP(J7, 'Plan complet'!J12:K13,2,0)),"",VLOOKUP(J7, 'Plan complet'!J12:K13,2,0)) -> 0 | L7: =IF(ISNA(VLOOKUP(K7, 'Plan complet'!K12:L13,2,0)),"",VLOOKUP(K7, 'Plan complet'!K12:L13,2,0)) | M7: =IF(ISNA(VLOOKUP(L7, 'Plan complet'!L12:M13,2,0)),"",VLOOKUP(L7, 'Plan complet'!L12:M13,2,0)) | N7: =IF(ISNA(VLOOKUP(M7, 'Plan complet'!M12:N13,2,0)),"",VLOOKUP(M7, 'Plan complet'!M12:N13,2,0)) | O7: =IF(ISNA(VLOOKUP(N7, 'Plan complet'!N12:O13,2,0)),"",VLOOKUP(N7, 'Plan complet'!N12:O13,2,0)) | P7: =IF(ISNA(VLOOKUP(O7, 'Plan complet'!O12:P13,2,0)),"",VLOOKUP(O7, 'Plan complet'!O12:P13,2,0)) | Q7: =IF(ISNA(VLOOKUP(P7, 'Plan complet'!P12:Q13,2,0)),"",VLOOKUP(P7, 'Plan complet'!P12:Q13,2,0)) | R7: =IF(ISNA(VLOOKUP(Q7, 'Plan complet'!Q12:R13,2,0)),"",VLOOKUP(Q7, 'Plan complet'!Q12:R13,2,0)) | ... AJ7: =IF(ISNA(VLOOKUP(AI7, 'Plan complet'!AI12:AJ13,2,0)),"",VLOOKUP(AI7, 'Plan complet'!AI12:AJ13,2,0)) | BE7: N
A8: Acétonitrile | B8: =IF(ISNA(MAX(M8,R8,W8,AB8,AG8,AL8,AQ8,AV8,BA8)),"",MAX(M8,R8,W8,AB8,AG8,AL8,AQ8,AV8,BA8)) -> 0 | C8: VLEPc | D8: Non | E8: oui | F8: AT1 | G8: Fractions purifiées de madécassoside | H8: INST_GAI_1078 (29/9/15) | I8: D.1 : Préparation des solvants, D.2 : Préparation colonne, package colonne, D.6 : Elution décrassage. | J8: Mélange solvant d'élution, rinçage colonne | K8: =IF(ISNA(VLOOKUP(J8,'Plan complet'!J14:K14,2,0)),"",(VLOOKUP(J8,'Plan complet'!J14:K14,2,0))) -> 0 | L8: =IF(ISNA(VLOOKUP(K8,'Plan complet'!K14:L14,2,0)),"",(VLOOKUP(K8,'Plan complet'!K14:L14,2,0))) | M8: =IF(ISNA(VLOOKUP(L8,'Plan complet'!L14:M14,2,0)),"",(VLOOKUP(L8,'Plan complet'!L14:M14,2,0))) | N8: =IF(ISNA(VLOOKUP(M8,'Plan complet'!M14:N14,2,0)),"",(VLOOKUP(M8,'Plan complet'!M14:N14,2,0))) | O8: =IF(ISNA(VLOOKUP(N8,'Plan complet'!N14:O14,2,0)),"",(VLOOKUP(N8,'Plan complet'!N14:O14,2,0))) | P8: =IF(ISNA(VLOOKUP(O8,'Plan complet'!O14:P14,2,0)),"",(VLOOKUP(O8,'Plan complet'!O14:P14,2,0))) | Q8: =IF(ISNA(VLOOKUP(P8,'Plan complet'!P14:Q14,2,0)),"",(VLOOKUP(P8,'Plan complet'!P14:Q14,2,0))) | R8: =IF(ISNA(VLOOKUP(Q8,'Plan complet'!Q14:R14,2,0)),"",(VLOOKUP(Q8,'Plan complet'!Q14:R14,2,0))) | ... AJ8: =IF(ISNA(VLOOKUP(AI8,'Plan complet'!AI14:AJ14,2,0)),"",(VLOOKUP(AI8,'Plan complet'!AI14:AJ14,2,0))) | BE8: N
A9: Acide acétique | B9: =IF(ISNA(MAX(M9,R9,W9,AB9,AG9,AL9,AQ9,AV9,BA9)),"",MAX(M9,R9,W9,AB9,AG9,AL9,AQ9,AV9,BA9)) -> 0 | C9: Non | D9: Non | E9: non | F9: AT1 | G9: DL Leucine en solution sodée | H9: 1DLLEU03.doc (4/6/15) | I9: Prise d'échantillon | J9: Lors de la prise d'échantillon | K9: =IF(ISNA(VLOOKUP(J9,'Plan complet'!J15:K15,2,0)),"",(VLOOKUP(J9,'Plan complet'!J15:K15,2,0))) | L9: =IF(ISNA(VLOOKUP(K9,'Plan complet'!K15:L15,2,0)),"",(VLOOKUP(K9,'Plan complet'!K15:L15,2,0))) | M9: =IF(ISNA(VLOOKUP(L9,'Plan complet'!L15:M15,2,0)),"",(VLOOKUP(L9,'Plan complet'!L15:M15,2,0))) | N9: =IF(ISNA(VLOOKUP(M9,'Plan complet'!M15:N15,2,0)),"",(VLOOKUP(M9,'Plan complet'!M15:N15,2,0))) | O9: =IF(ISNA(VLOOKUP(N9,'Plan complet'!N15:O15,2,0)),"",(VLOOKUP(N9,'Plan complet'!N15:O15,2,0))) | P9: =IF(ISNA(VLOOKUP(O9,'Plan complet'!O15:P15,2,0)),"",(VLOOKUP(O9,'Plan complet'!O15:P15,2,0))) | Q9: =IF(ISNA(VLOOKUP(P9,'Plan complet'!P15:Q15,2,0)),"",(VLOOKUP(P9,'Plan complet'!P15:Q15,2,0))) | R9: =IF(ISNA(VLOOKUP(Q9,'Plan complet'!Q15:R15,2,0)),"",(VLOOKUP(Q9,'Plan complet'!Q15:R15,2,0))) | ... AJ9: =IF(ISNA(VLOOKUP(AI9,'Plan complet'!AI15:AJ15,2,0)),"",(VLOOKUP(AI9,'Plan complet'!AI15:AJ15,2,0))) | BE9: N
A10: Acide acétique | B10: =IF(ISNA(MAX(M10,R10,W10,AB10,AG10,AL10,AQ10,AV10,BA10)),"",MAX(M10,R10,W10,AB10,AG10,AL10,AQ10,AV10,BA10)) -> 0 | C10: Non | D10: Non | E10: non | F10: AT1 | G10: Ext.lip.de soja | H10: 1LISOJ1A.doc (10/6/15) | I10: D.6 Neutralisation | J10: Chargement par trou d'homme (900 ml) | K10: =IF(ISNA(VLOOKUP(J10,'Plan complet'!J16:K16,2,0)),"",(VLOOKUP(J10,'Plan complet'!J16:K16,2,0))) | L10: =IF(ISNA(VLOOKUP(K10,'Plan complet'!K16:L16,2,0)),"",(VLOOKUP(K10,'Plan complet'!K16:L16,2,0))) | M10: =IF(ISNA(VLOOKUP(L10,'Plan complet'!L16:M16,2,0)),"",(VLOOKUP(L10,'Plan complet'!L16:M16,2,0))) | N10: =IF(ISNA(VLOOKUP(M10,'Plan complet'!M16:N16,2,0)),"",(VLOOKUP(M10,'Plan complet'!M16:N16,2,0))) | O10: =IF(ISNA(VLOOKUP(N10,'Plan complet'!N16:O16,2,0)),"",(VLOOKUP(N10,'Plan complet'!N16:O16,2,0))) | P10: =IF(ISNA(VLOOKUP(O10,'Plan complet'!O16:P16,2,0)),"",(VLOOKUP(O10,'Plan complet'!O16:P16,2,0))) | Q10: =IF(ISNA(VLOOKUP(P10,'Plan complet'!P16:Q16,2,0)),"",(VLOOKUP(P10,'Plan complet'!P16:Q16,2,0))) | R10: =IF(ISNA(VLOOKUP(Q10,'Plan complet'!Q16:R16,2,0)),"",(VLOOKUP(Q10,'Plan complet'!Q16:R16,2,0))) | ... AJ10: =IF(ISNA(VLOOKUP(AI10,'Plan complet'!AI16:AJ16,2,0)),"",(VLOOKUP(AI10,'Plan complet'!AI16:AJ16,2,0))) | BE10: N
A11: Acide Chlorhydrique | B11: =IF(ISNA(MAX(M11,R11,W11,AB11,AG11,AL11,AQ11,AV11,BA11)),"",MAX(M11,R11,W11,AB11,AG11,AL11,AQ11,AV11,BA11)) -> 0 | C11: VLEPc | D11: Non | E11: oui | F11: AT1 | G11: DL Leucine en solution sodée Acétylleucine Racémisation | H11: =VLOOKUP(G11, 'Plan complet'!G15:H16,2,0) -> INST_GAI-0247 1DLLEU03.doc (19/5/15) | I11: =VLOOKUP(H11, 'Plan complet'!H15:I16,2,0) -> Prise ECH | J11: =VLOOKUP(I11, 'Plan complet'!I15:J16,2,0) -> Lors de la prise ECH | K11: =IF(ISNA(VLOOKUP(J11, 'Plan complet'!J15:K16,2,0)),"",VLOOKUP(J11, 'Plan complet'!J15:K16,2,0)) -> 0 | L11: =IF(ISNA(VLOOKUP(K11, 'Plan complet'!K15:L16,2,0)),"",VLOOKUP(K11, 'Plan complet'!K15:L16,2,0)) | M11: =IF(ISNA(VLOOKUP(L11, 'Plan complet'!L15:M16,2,0)),"",VLOOKUP(L11, 'Plan complet'!L15:M16,2,0)) | N11: =IF(ISNA(VLOOKUP(M11, 'Plan complet'!M15:N16,2,0)),"",VLOOKUP(M11, 'Plan complet'!M15:N16,2,0)) | O11: =IF(ISNA(VLOOKUP(N11, 'Plan complet'!N15:O16,2,0)),"",VLOOKUP(N11, 'Plan complet'!N15:O16,2,0)) | P11: =IF(ISNA(VLOOKUP(O11, 'Plan complet'!O15:P16,2,0)),"",VLOOKUP(O11, 'Plan complet'!O15:P16,2,0)) | Q11: =IF(ISNA(VLOOKUP(P11, 'Plan complet'!P15:Q16,2,0)),"",VLOOKUP(P11, 'Plan complet'!P15:Q16,2,0)) | R11: =IF(ISNA(VLOOKUP(Q11, 'Plan complet'!Q15:R16,2,0)),"",VLOOKUP(Q11, 'Plan complet'!Q15:R16,2,0)) | ... AJ11: =IF(ISNA(VLOOKUP(AI11, 'Plan complet'!AI15:AJ16,2,0)),"",VLOOKUP(AI11, 'Plan complet'!AI15:AJ16,2,0)) | BE11: N
A12: Acide Fluorhydrique | B12: =IF(ISNA(MAX(M12,R12,W12,AB12,AG12,AL12,AQ12,AV12,BA12)),"",MAX(M12,R12,W12,AB12,AG12,AL12,AQ12,AV12,BA12)) -> 0 | C12: VLEPc | D12: Non | E12: oui | F12: AT1 | G12: Fluorhydrate de nicométhanol | H12: 1FLUOR02.doc (15/7/15) | I12: D.4 Chargement et rinçage canalisation | J12: Chargement réacteur sous vide par accès haut à l'aide de la canne de chargement | K12: =IF(ISNA(VLOOKUP(J12,'Plan complet'!J19:K19,2,0)),"",(VLOOKUP(J12,'Plan complet'!J19:K19,2,0))) -> 0 | L12: =IF(ISNA(VLOOKUP(K12,'Plan complet'!K19:L19,2,0)),"",(VLOOKUP(K12,'Plan complet'!K19:L19,2,0))) | M12: =IF(ISNA(VLOOKUP(L12,'Plan complet'!L19:M19,2,0)),"",(VLOOKUP(L12,'Plan complet'!L19:M19,2,0))) | N12: =IF(ISNA(VLOOKUP(M12,'Plan complet'!M19:N19,2,0)),"",(VLOOKUP(M12,'Plan complet'!M19:N19,2,0))) | O12: =IF(ISNA(VLOOKUP(N12,'Plan complet'!N19:O19,2,0)),"",(VLOOKUP(N12,'Plan complet'!N19:O19,2,0))) | P12: =IF(ISNA(VLOOKUP(O12,'Plan complet'!O19:P19,2,0)),"",(VLOOKUP(O12,'Plan complet'!O19:P19,2,0))) | Q12: =IF(ISNA(VLOOKUP(P12,'Plan complet'!P19:Q19,2,0)),"",(VLOOKUP(P12,'Plan complet'!P19:Q19,2,0))) | R12: =IF(ISNA(VLOOKUP(Q12,'Plan complet'!Q19:R19,2,0)),"",(VLOOKUP(Q12,'Plan complet'!Q19:R19,2,0))) | ... AJ12: =IF(ISNA(VLOOKUP(AI12,'Plan complet'!AI19:AJ19,2,0)),"",(VLOOKUP(AI12,'Plan complet'!AI19:AJ19,2,0))) | BE12: N
A13: Acide Phosphorique | B13: =IF(ISNA(MAX(M13,R13,W13,AB13,AG13,AL13,AQ13,AV13,BA13)),"",MAX(M13,R13,W13,AB13,AG13,AL13,AQ13,AV13,BA13)) -> 0 | C13: Non | D13: Non | E13: non | F13: AT1 | G13: Salicylate de zinc séché | H13: 1SALZN01.doc (20/4/15) | I13: F.4.2.1.2, F.4.3.2 : Nettoyage par immersion lavage. | J13: Chargement acide phosp en réacteur à 30°C | K13: =IF(ISNA(VLOOKUP(J13,'Plan complet'!J20:K20,2,0)),"",(VLOOKUP(J13,'Plan complet'!J20:K20,2,0))) -> 0 | L13: =IF(ISNA(VLOOKUP(K13,'Plan complet'!K20:L20,2,0)),"",(VLOOKUP(K13,'Plan complet'!K20:L20,2,0))) | M13: =IF(ISNA(VLOOKUP(L13,'Plan complet'!L20:M20,2,0)),"",(VLOOKUP(L13,'Plan complet'!L20:M20,2,0))) | N13: =IF(ISNA(VLOOKUP(M13,'Plan complet'!M20:N20,2,0)),"",(VLOOKUP(M13,'Plan complet'!M20:N20,2,0))) | O13: =IF(ISNA(VLOOKUP(N13,'Plan complet'!N20:O20,2,0)),"",(VLOOKUP(N13,'Plan complet'!N20:O20,2,0))) | P13: =IF(ISNA(VLOOKUP(O13,'Plan complet'!O20:P20,2,0)),"",(VLOOKUP(O13,'Plan complet'!O20:P20,2,0))) | Q13: =IF(ISNA(VLOOKUP(P13,'Plan complet'!P20:Q20,2,0)),"",(VLOOKUP(P13,'Plan complet'!P20:Q20,2,0))) | R13: =IF(ISNA(VLOOKUP(Q13,'Plan complet'!Q20:R20,2,0)),"",(VLOOKUP(Q13,'Plan complet'!Q20:R20,2,0))) | ... AJ13: =IF(ISNA(VLOOKUP(AI13,'Plan complet'!AI20:AJ20,2,0)),"",(VLOOKUP(AI13,'Plan complet'!AI20:AJ20,2,0))) | BE13: N
A14: Acide pyroglutamique | B14: =IF(ISNA(MAX(M14,R14,W14,AB14,AG14,AL14,AQ14,AV14,BA14)),"",MAX(M14,R14,W14,AB14,AG14,AL14,AQ14,AV14,BA14)) -> 0 | C14: Non | D14: Non | E14: non | F14: AT1 | G14: Hydroxydécénoïque acide (étape 4) | H14: =VLOOKUP(G14, 'Plan complet'!G17:H18,2,0) -> 1HYDE41A.doc (1/9/15) | I14: =VLOOKUP(H14, 'Plan complet'!H17:I18,2,0) -> D.3.2 : Préparation de l'acide chlorhydrique 5N | J14: =VLOOKUP(I14, 'Plan complet'!I17:J18,2,0) -> Addition HCl par canalisation de chargement équipé de filtre RE111-FC01 | K14: =IF(ISNA(VLOOKUP(J14, 'Plan complet'!J17:K18,2,0)),"",VLOOKUP(J14, 'Plan complet'!J17:K18,2,0)) -> 0 | L14: =IF(ISNA(VLOOKUP(K14, 'Plan complet'!K17:L18,2,0)),"",VLOOKUP(K14, 'Plan complet'!K17:L18,2,0)) | M14: =IF(ISNA(VLOOKUP(L14, 'Plan complet'!L17:M18,2,0)),"",VLOOKUP(L14, 'Plan complet'!L17:M18,2,0)) | N14: =IF(ISNA(VLOOKUP(M14, 'Plan complet'!M17:N18,2,0)),"",VLOOKUP(M14, 'Plan complet'!M17:N18,2,0)) | O14: =IF(ISNA(VLOOKUP(N14, 'Plan complet'!N17:O18,2,0)),"",VLOOKUP(N14, 'Plan complet'!N17:O18,2,0)) | P14: =IF(ISNA(VLOOKUP(O14, 'Plan complet'!O17:P18,2,0)),"",VLOOKUP(O14, 'Plan complet'!O17:P18,2,0)) | Q14: =IF(ISNA(VLOOKUP(P14, 'Plan complet'!P17:Q18,2,0)),"",VLOOKUP(P14, 'Plan complet'!P17:Q18,2,0)) | R14: =IF(ISNA(VLOOKUP(Q14, 'Plan complet'!Q17:R18,2,0)),"",VLOOKUP(Q14, 'Plan complet'!Q17:R18,2,0)) | ... AJ14: =IF(ISNA(VLOOKUP(AI14, 'Plan complet'!AI17:AJ18,2,0)),"",VLOOKUP(AI14, 'Plan complet'!AI17:AJ18,2,0)) | BE14: N
A15: aldéhyde salicylique | B15: =IF(ISNA(MAX(M15,R15,W15,AB15,AG15,AL15,AQ15,AV15,BA15)),"",MAX(M15,R15,W15,AB15,AG15,AL15,AQ15,AV15,BA15)) -> 0 | C15: Non | D15: Non | E15: non | F15: AT1 | G15: DL Leucine en solution sodée | H15: 1DLLEU03.doc (4/6/15) | I15: D.1 Racémisation chargement, D.2 Essorage des jus, prise d'échantillon | J15: Lors du chargement et prise d'échantillon | K15: =IF(ISNA(VLOOKUP(J15,'Plan complet'!J23:K23,2,0)),"",(VLOOKUP(J15,'Plan complet'!J23:K23,2,0))) | L15: =IF(ISNA(VLOOKUP(K15,'Plan complet'!K23:L23,2,0)),"",(VLOOKUP(K15,'Plan complet'!K23:L23,2,0))) | M15: =IF(ISNA(VLOOKUP(L15,'Plan complet'!L23:M23,2,0)),"",(VLOOKUP(L15,'Plan complet'!L23:M23,2,0))) | N15: =IF(ISNA(VLOOKUP(M15,'Plan complet'!M23:N23,2,0)),"",(VLOOKUP(M15,'Plan complet'!M23:N23,2,0))) | O15: =IF(ISNA(VLOOKUP(N15,'Plan complet'!N23:O23,2,0)),"",(VLOOKUP(N15,'Plan complet'!N23:O23,2,0))) | P15: =IF(ISNA(VLOOKUP(O15,'Plan complet'!O23:P23,2,0)),"",(VLOOKUP(O15,'Plan complet'!O23:P23,2,0))) | Q15: =IF(ISNA(VLOOKUP(P15,'Plan complet'!P23:Q23,2,0)),"",(VLOOKUP(P15,'Plan complet'!P23:Q23,2,0))) | R15: =IF(ISNA(VLOOKUP(Q15,'Plan complet'!Q23:R23,2,0)),"",(VLOOKUP(Q15,'Plan complet'!Q23:R23,2,0))) | ... AJ15: =IF(ISNA(VLOOKUP(AI15,'Plan complet'!AI23:AJ23,2,0)),"",(VLOOKUP(AI15,'Plan complet'!AI23:AJ23,2,0))) | BE15: N
A16: CH2CL2 | B16: =IF(ISNA(MAX(W16,AA16,AF16,AK16,AP16,AU16,AZ16,BE16,BJ16)),"",MAX(W16,AA16,AF16,AK16,AP16,AU16,AZ16,BE16,BJ16)) -> 40659 | C16: VLEPc | D16: 2 | E16: oui | F16: AT1 | G16: TOCOL ST 1 | H16: =VLOOKUP(G16,'Plan complet'!G24:H29,2,0) -> 1TOCO100.doc (28/2/12) | I16: =VLOOKUP(H16,'Plan complet'!H24:I29,2,0) -> D.1 Mise en solution D.2 Réaction de couplage | J16: =VLOOKUP(I16,'Plan complet'!I24:J29,2,0) -> Chargement, rinçage et prise d'echantillons | K16: Long terme | L16: O | M16: 40108 | N16: 2009 | O16: 30.2 | P16: 0.16966292 | Q16: O | R16: 40108 | S16: =IF(R16="","",YEAR(R16)) -> 2009 | T16: 35.4 | U16: 0.1988764 | V16: A | W16: 40659 | X16: 2011 | Y16: 3.04 | Z16: =Y16/178 -> 0.017078652 | AA16: O | AB16: 40659 | AC16: 2011 | AD16: 20 | AE16: 0.11235955 | AF16: A | AG16: 40659 | AH16: =IF(AG16="","",YEAR(AG16)) -> 2011 | AI16: 3.04 | AJ16: 0.017078652 | BN16: N
A17: DMAE | B17: =IF(ISNA(MAX(M17,R17,W17,AB17,AG17,AL17,AQ17,AV17,BA17)),"",MAX(M17,R17,W17,AB17,AG17,AL17,AQ17,AV17,BA17)) -> 0 | C17: Non | D17: Non | E17: non | F17: AT1 | G17: Pyroglutamate DMAE Hydroalcoolique | H17: 1pyrog02.doc (25/10/13) | I17: D.3 Synthèse | J17: L'opérateur charge par la vanne de fond et réacteur sous vide le DMAE. L’opérateur ajuste la quantité de DMAE avec une pompe Lutz où un ballon de coulé. | K17: =IF(ISNA(VLOOKUP(J17,'Plan complet'!J30:K30,2,0)),"",(VLOOKUP(J17,'Plan complet'!J30:K30,2,0))) -> 0 | L17: =IF(ISNA(VLOOKUP(K17,'Plan complet'!K30:L30,2,0)),"",(VLOOKUP(K17,'Plan complet'!K30:L30,2,0))) | M17: =IF(ISNA(VLOOKUP(L17,'Plan complet'!L30:M30,2,0)),"",(VLOOKUP(L17,'Plan complet'!L30:M30,2,0))) | N17: =IF(ISNA(VLOOKUP(M17,'Plan complet'!M30:N30,2,0)),"",(VLOOKUP(M17,'Plan complet'!M30:N30,2,0))) | O17: =IF(ISNA(VLOOKUP(N17,'Plan complet'!N30:O30,2,0)),"",(VLOOKUP(N17,'Plan complet'!N30:O30,2,0))) | P17: =IF(ISNA(VLOOKUP(O17,'Plan complet'!O30:P30,2,0)),"",(VLOOKUP(O17,'Plan complet'!O30:P30,2,0))) | Q17: =IF(ISNA(VLOOKUP(P17,'Plan complet'!P30:Q30,2,0)),"",(VLOOKUP(P17,'Plan complet'!P30:Q30,2,0))) | R17: =IF(ISNA(VLOOKUP(Q17,'Plan complet'!Q30:R30,2,0)),"",(VLOOKUP(Q17,'Plan complet'!Q30:R30,2,0))) | ... AJ17: =IF(ISNA(VLOOKUP(AI17,'Plan complet'!AI30:AJ30,2,0)),"",(VLOOKUP(AI17,'Plan complet'!AI30:AJ30,2,0))) | BE17: N
A18: Ethanol | B18: =IF(ISNA(MAX(M18,R18,W18,AB18,AG18,AL18,AQ18,AV18,BA18)),"",MAX(M18,R18,W18,AB18,AG18,AL18,AQ18,AV18,BA18)) -> 41807 | C18: VLEPi | D18: Non | E18: oui | F18: AT1 | G18: Extrait d'Okara G1 | H18: =VLOOKUP(G18, 'Plan complet'!G31:H54,2,0) -> 1OKARA01.doc (29/7/15) | I18: =VLOOKUP(H18, 'Plan complet'!H31:I54,2,0) -> D.1 Extraction + echantillon | J18: =VLOOKUP(I18, 'Plan complet'!I31:J54,2,0) -> Préparation solvant d'extraction. Prise Ech N°10, 20. | K18: Long terme | L18: O | M18: 41807 | N18: =IF(M18="","",YEAR(M18)) -> 2014 | O18: 10.6 | P18: 0.0056 | Q18: v | R18: 41807 | S18: =IF(R18="","",YEAR(R18)) -> 2014 | T18: 6.44 | U18: 0.0034 | V18: =IF(ISNA(VLOOKUP(U18,'Plan complet'!P31:Q31,2,0)),"",(VLOOKUP(U18,'Plan complet'!P31:Q31,2,0))) | W18: =IF(ISNA(VLOOKUP(V18,'Plan complet'!Q31:R31,2,0)),"",(VLOOKUP(V18,'Plan complet'!Q31:R31,2,0))) | X18: =IF(ISNA(VLOOKUP(W18,'Plan complet'!R31:S31,2,0)),"",(VLOOKUP(W18,'Plan complet'!R31:S31,2,0))) | Y18: =IF(ISNA(VLOOKUP(X18,'Plan complet'!S31:T31,2,0)),"",(VLOOKUP(X18,'Plan complet'!S31:T31,2,0))) | Z18: =IF(ISNA(VLOOKUP(Y18,'Plan complet'!T31:U31,2,0)),"",(VLOOKUP(Y18,'Plan complet'!T31:U31,2,0))) | AA18: =IF(ISNA(VLOOKUP(Z18,'Plan complet'!U31:V31,2,0)),"",(VLOOKUP(Z18,'Plan complet'!U31:V31,2,0))) | AB18: =IF(ISNA(VLOOKUP(AA18,'Plan complet'!V31:W31,2,0)),"",(VLOOKUP(AA18,'Plan complet'!V31:W31,2,0))) | AC18: =IF(ISNA(VLOOKUP(AB18,'Plan complet'!W31:X31,2,0)),"",(VLOOKUP(AB18,'Plan complet'!W31:X31,2,0))) | ... AJ18: =IF(ISNA(VLOOKUP(AI18,'Plan complet'!AD31:AE31,2,0)),"",(VLOOKUP(AI18,'Plan complet'!AD31:AE31,2,0))) | BE18: N
A19: Hexane | B19: =IF(ISNA(MAX(M19,R19,W19,AB19,AG19,AL19,AQ19,AV19,BA19)),"",MAX(M19,R19,W19,AB19,AG19,AL19,AQ19,AV19,BA19)) -> 0 | C19: VLEPc | D19: 2 | E19: oui | F19: AT1 | G19: Concentrat Calendula s/ octylpalmitate | H19: 1CALCO00.doc (12/3/13) | I19: D.1, D.3 : Extraction, D.5 : Désolvantation, D.6 : Concentration | J19: Chargement hexane (récup ou neuf) par le bas, récupération des jus hexaniques et cuve | K19: =IF(ISNA(VLOOKUP(J19,'Plan complet'!J55:K55,2,0)),"",(VLOOKUP(J19,'Plan complet'!J55:K55,2,0))) -> 0 | L19: =IF(ISNA(VLOOKUP(K19,'Plan complet'!K55:L55,2,0)),"",(VLOOKUP(K19,'Plan complet'!K55:L55,2,0))) | M19: =IF(ISNA(VLOOKUP(L19,'Plan complet'!L55:M55,2,0)),"",(VLOOKUP(L19,'Plan complet'!L55:M55,2,0))) | N19: =IF(ISNA(VLOOKUP(M19,'Plan complet'!M55:N55,2,0)),"",(VLOOKUP(M19,'Plan complet'!M55:N55,2,0))) | O19: =IF(ISNA(VLOOKUP(N19,'Plan complet'!N55:O55,2,0)),"",(VLOOKUP(N19,'Plan complet'!N55:O55,2,0))) | P19: =IF(ISNA(VLOOKUP(O19,'Plan complet'!O55:P55,2,0)),"",(VLOOKUP(O19,'Plan complet'!O55:P55,2,0))) | Q19: =IF(ISNA(VLOOKUP(P19,'Plan complet'!P55:Q55,2,0)),"",(VLOOKUP(P19,'Plan complet'!P55:Q55,2,0))) | R19: =IF(ISNA(VLOOKUP(Q19,'Plan complet'!Q55:R55,2,0)),"",(VLOOKUP(Q19,'Plan complet'!Q55:R55,2,0))) | ... AJ19: =IF(ISNA(VLOOKUP(AI19,'Plan complet'!AI55:AJ55,2,0)),"",(VLOOKUP(AI19,'Plan complet'!AI55:AJ55,2,0))) | BE19: N
A20: Hexane | B20: =IF(ISNA(MAX(M20,R20,W20,AB20,AG20,AL20,AQ20,AV20,BA20)),"",MAX(M20,R20,W20,AB20,AG20,AL20,AQ20,AV20,BA20)) -> 0 | C20: VLEPc | D20: 2 | E20: oui | F20: AT1 | G20: Sérénoa repens | H20: 1SEREN1C.doc (27/8/13) | I20: D1 : Chargement + echantillon F4 Nettoyage | J20: Lors du transfert en cuve mobile SUNCAD | K20: =IF(ISNA(VLOOKUP(J20,'Plan complet'!J56:K56,2,0)),"",(VLOOKUP(J20,'Plan complet'!J56:K56,2,0))) -> 0 | L20: =IF(ISNA(VLOOKUP(K20,'Plan complet'!K56:L56,2,0)),"",(VLOOKUP(K20,'Plan complet'!K56:L56,2,0))) | M20: =IF(ISNA(VLOOKUP(L20,'Plan complet'!L56:M56,2,0)),"",(VLOOKUP(L20,'Plan complet'!L56:M56,2,0))) | N20: =IF(ISNA(VLOOKUP(M20,'Plan complet'!M56:N56,2,0)),"",(VLOOKUP(M20,'Plan complet'!M56:N56,2,0))) | O20: =IF(ISNA(VLOOKUP(N20,'Plan complet'!N56:O56,2,0)),"",(VLOOKUP(N20,'Plan complet'!N56:O56,2,0))) | P20: =IF(ISNA(VLOOKUP(O20,'Plan complet'!O56:P56,2,0)),"",(VLOOKUP(O20,'Plan complet'!O56:P56,2,0))) | Q20: =IF(ISNA(VLOOKUP(P20,'Plan complet'!P56:Q56,2,0)),"",(VLOOKUP(P20,'Plan complet'!P56:Q56,2,0))) | R20: =IF(ISNA(VLOOKUP(Q20,'Plan complet'!Q56:R56,2,0)),"",(VLOOKUP(Q20,'Plan complet'!Q56:R56,2,0))) | ... AJ20: =IF(ISNA(VLOOKUP(AI20,'Plan complet'!AI56:AJ56,2,0)),"",(VLOOKUP(AI20,'Plan complet'!AI56:AJ56,2,0))) | BE20: N
A21: Méthanol | B21: =IF(ISNA(MAX(M21,R21,W21,AB21,AG21,AL21,AQ21,AV21,BA21)),"",MAX(M21,R21,W21,AB21,AG21,AL21,AQ21,AV21,BA21)) -> 40976 | C21: VLEPc | D21: Non | E21: oui | F21: AT1 | G21: TOCOL ST 2 | H21: =VLOOKUP(G21,'Plan complet'!G57:H67,2,0) -> 1TOCOS1A.doc (28/2/12) | I21: =VLOOKUP(H21,'Plan complet'!H57:I67,2,0) -> D.2 Mise en solution | J21: =VLOOKUP(I21,'Plan complet'!I57:J67,2,0) -> Chargement du TOCOL ST 1 | K21: Long terme | L21: O | M21: 40976 | N21: =IF(M21="","",YEAR(M21)) -> 2012 | O21: 16.2 | P21: 0.06 | Q21: V | R21: 40976 | S21: =IF(R21="","",YEAR(R21)) -> 2012 | T21: 2 | U21: 0.0076923077 | V21: =IF(ISNA(VLOOKUP(U21,'Plan complet'!U57:V57,2,0)),"",(VLOOKUP(U21,'Plan complet'!U57:V57,2,0))) -> 0 | W21: =IF(ISNA(VLOOKUP(V21,'Plan complet'!V57:W57,2,0)),"",(VLOOKUP(V21,'Plan complet'!V57:W57,2,0))) | X21: =IF(ISNA(VLOOKUP(W21,'Plan complet'!W57:X57,2,0)),"",(VLOOKUP(W21,'Plan complet'!W57:X57,2,0))) | Y21: =IF(ISNA(VLOOKUP(X21,'Plan complet'!X57:Y57,2,0)),"",(VLOOKUP(X21,'Plan complet'!X57:Y57,2,0))) -> 0 | Z21: =IF(ISNA(VLOOKUP(Y21,'Plan complet'!Y57:Z57,2,0)),"",(VLOOKUP(Y21,'Plan complet'!Y57:Z57,2,0))) | AA21: =IF(ISNA(VLOOKUP(Z21,'Plan complet'!Z57:AA57,2,0)),"",(VLOOKUP(Z21,'Plan complet'!Z57:AA57,2,0))) | AB21: =IF(ISNA(VLOOKUP(AA21,'Plan complet'!AA57:AB57,2,0)),"",(VLOOKUP(AA21,'Plan complet'!AA57:AB57,2,0))) | AC21: =IF(ISNA(VLOOKUP(AB21,'Plan complet'!AB57:AC57,2,0)),"",(VLOOKUP(AB21,'Plan complet'!AB57:AC57,2,0))) | ... AJ21: =IF(ISNA(VLOOKUP(AI21,'Plan complet'!AI57:AJ57,2,0)),"",(VLOOKUP(AI21,'Plan complet'!AI57:AJ57,2,0))) | BE21: N
A22: n- heptane | B22: =IF(ISNA(MAX(M22,R22,W22,AB22,AG22,AL22,AQ22,AV22,BA22)),"",MAX(M22,R22,W22,AB22,AG22,AL22,AQ22,AV22,BA22)) -> 0 | C22: VLEPc | D22: Non | E22: oui | F22: AT1 | G22: Extrait hydroalcoolique de Zanthoxylum Bung | H22: 1ZANTH1A.doc (6/7/12) | I22: D2, D4 et D6 : Extraction D9 : Concentration | J22: Chargement par le trou d'homme du réacteur ou de la cuve | K22: =IF(ISNA(VLOOKUP(J22,'Plan complet'!J68:K68,2,0)),"",(VLOOKUP(J22,'Plan complet'!J68:K68,2,0))) -> 0 | L22: =IF(ISNA(VLOOKUP(K22,'Plan complet'!K68:L68,2,0)),"",(VLOOKUP(K22,'Plan complet'!K68:L68,2,0))) | M22: =IF(ISNA(VLOOKUP(L22,'Plan complet'!L68:M68,2,0)),"",(VLOOKUP(L22,'Plan complet'!L68:M68,2,0))) | N22: =IF(ISNA(VLOOKUP(M22,'Plan complet'!M68:N68,2,0)),"",(VLOOKUP(M22,'Plan complet'!M68:N68,2,0))) | O22: =IF(ISNA(VLOOKUP(N22,'Plan complet'!N68:O68,2,0)),"",(VLOOKUP(N22,'Plan complet'!N68:O68,2,0))) | P22: =IF(ISNA(VLOOKUP(O22,'Plan complet'!O68:P68,2,0)),"",(VLOOKUP(O22,'Plan complet'!O68:P68,2,0))) | Q22: =IF(ISNA(VLOOKUP(P22,'Plan complet'!P68:Q68,2,0)),"",(VLOOKUP(P22,'Plan complet'!P68:Q68,2,0))) | R22: =IF(ISNA(VLOOKUP(Q22,'Plan complet'!Q68:R68,2,0)),"",(VLOOKUP(Q22,'Plan complet'!Q68:R68,2,0))) | ... AJ22: =IF(ISNA(VLOOKUP(AI22,'Plan complet'!AI68:AJ68,2,0)),"",(VLOOKUP(AI22,'Plan complet'!AI68:AJ68,2,0))) | BE22: N
A23: NH3 | B23: =IF(ISNA(MAX(M23,R23,W23,AB23,AG23,AL23,AQ23,AV23,BA23)),"",MAX(M23,R23,W23,AB23,AG23,AL23,AQ23,AV23,BA23)) -> 0 | C23: Non | D23: Non | E23: non | F23: AT1 | G23: HMC concentrât aqueux | H23: 1HMCC03.doc (21/9/15) | I23: D.4.4 Ajustement du pH | J23: L'opérateur charge par le trou d'homme l'ammoniaque | K23: =IF(ISNA(VLOOKUP(J23,'Plan complet'!J69:K69,2,0)),"",(VLOOKUP(J23,'Plan complet'!J69:K69,2,0))) -> 0 | L23: =IF(ISNA(VLOOKUP(K23,'Plan complet'!K69:L69,2,0)),"",(VLOOKUP(K23,'Plan complet'!K69:L69,2,0))) | M23: =IF(ISNA(VLOOKUP(L23,'Plan complet'!L69:M69,2,0)),"",(VLOOKUP(L23,'Plan complet'!L69:M69,2,0))) | N23: =IF(ISNA(VLOOKUP(M23,'Plan complet'!M69:N69,2,0)),"",(VLOOKUP(M23,'Plan complet'!M69:N69,2,0))) | O23: =IF(ISNA(VLOOKUP(N23,'Plan complet'!N69:O69,2,0)),"",(VLOOKUP(N23,'Plan complet'!N69:O69,2,0))) | P23: =IF(ISNA(VLOOKUP(O23,'Plan complet'!O69:P69,2,0)),"",(VLOOKUP(O23,'Plan complet'!O69:P69,2,0))) | Q23: =IF(ISNA(VLOOKUP(P23,'Plan complet'!P69:Q69,2,0)),"",(VLOOKUP(P23,'Plan complet'!P69:Q69,2,0))) | R23: =IF(ISNA(VLOOKUP(Q23,'Plan complet'!Q69:R69,2,0)),"",(VLOOKUP(Q23,'Plan complet'!Q69:R69,2,0))) | ... AJ23: =IF(ISNA(VLOOKUP(AI23,'Plan complet'!AI69:AJ69,2,0)),"",(VLOOKUP(AI23,'Plan complet'!AI69:AJ69,2,0))) | BE23: N
A24: Pentanol | B24: =IF(ISNA(MAX(M24,R24,W24,AB24,AG24,AL24,AQ24,AV24,BA24)),"",MAX(M24,R24,W24,AB24,AG24,AL24,AQ24,AV24,BA24)) -> 0 | C24: Non | D24: Non | E24: non | F24: AT1 | G24: Pentyl rhamnoside | H24: 1ALKYR1A,doc (15/7/15) | I24: D.1.1 Chargement | J24: Chargement par vanne de fond et réacteur sous vide, prise de volume | K24: =IF(ISNA(VLOOKUP(J24,'Plan complet'!J70:K71,2,0)),"",(VLOOKUP(J24,'Plan complet'!J70:K71,2,0))) | L24: =IF(ISNA(VLOOKUP(K24,'Plan complet'!K70:L70,2,0)),"",(VLOOKUP(K24,'Plan complet'!K70:L70,2,0))) | M24: =IF(ISNA(VLOOKUP(L24,'Plan complet'!L70:M70,2,0)),"",(VLOOKUP(L24,'Plan complet'!L70:M70,2,0))) | N24: =IF(ISNA(VLOOKUP(M24,'Plan complet'!M70:N70,2,0)),"",(VLOOKUP(M24,'Plan complet'!M70:N70,2,0))) | O24: =IF(ISNA(VLOOKUP(N24,'Plan complet'!N70:O70,2,0)),"",(VLOOKUP(N24,'Plan complet'!N70:O70,2,0))) | P24: =IF(ISNA(VLOOKUP(O24,'Plan complet'!O70:P70,2,0)),"",(VLOOKUP(O24,'Plan complet'!O70:P70,2,0))) | Q24: =IF(ISNA(VLOOKUP(P24,'Plan complet'!P70:Q70,2,0)),"",(VLOOKUP(P24,'Plan complet'!P70:Q70,2,0))) | R24: =IF(ISNA(VLOOKUP(Q24,'Plan complet'!Q70:R70,2,0)),"",(VLOOKUP(Q24,'Plan complet'!Q70:R70,2,0))) | S24: =IF(ISNA(VLOOKUP(R24,'Plan complet'!R70:S70,2,0)),"",(VLOOKUP(R24,'Plan complet'!R70:S70,2,0))) | ... AJ24: =IF(ISNA(VLOOKUP(AI24,'Plan complet'!AI70:AJ70,2,0)),"",(VLOOKUP(AI24,'Plan complet'!AI70:AJ70,2,0))) | BE24: N
A25: Soude liquide 30,5% | B25: =IF(ISNA(MAX(M25,R25,W25,AB25,AG25,AL25,AQ25,AV25,BA25)),"",MAX(M25,R25,W25,AB25,AG25,AL25,AQ25,AV25,BA25)) -> 0 | C25: Non | D25: Non | E25: non | F25: AT1 | G25: HMC concentrât aqueux | H25: 1HMCC03.doc (21/9/15) | I25: D.1.4 Stabilisation du milieu réactionnel | J25: Lors de l'ouverture et fermeture du bidon | K25: =IF(ISNA(VLOOKUP(J25,'Plan complet'!J72:K72,2,0)),"",(VLOOKUP(J25,'Plan complet'!J72:K72,2,0))) -> 0 | L25: =IF(ISNA(VLOOKUP(K25,'Plan complet'!K72:L72,2,0)),"",(VLOOKUP(K25,'Plan complet'!K72:L72,2,0))) | M25: =IF(ISNA(VLOOKUP(L25,'Plan complet'!L72:M72,2,0)),"",(VLOOKUP(L25,'Plan complet'!L72:M72,2,0))) | N25: =IF(ISNA(VLOOKUP(M25,'Plan complet'!M72:N72,2,0)),"",(VLOOKUP(M25,'Plan complet'!M72:N72,2,0))) | O25: =IF(ISNA(VLOOKUP(N25,'Plan complet'!N72:O72,2,0)),"",(VLOOKUP(N25,'Plan complet'!N72:O72,2,0))) | P25: =IF(ISNA(VLOOKUP(O25,'Plan complet'!O72:P72,2,0)),"",(VLOOKUP(O25,'Plan complet'!O72:P72,2,0))) | Q25: =IF(ISNA(VLOOKUP(P25,'Plan complet'!P72:Q72,2,0)),"",(VLOOKUP(P25,'Plan complet'!P72:Q72,2,0))) | R25: =IF(ISNA(VLOOKUP(Q25,'Plan complet'!Q72:R72,2,0)),"",(VLOOKUP(Q25,'Plan complet'!Q72:R72,2,0))) | ... AJ25: =IF(ISNA(VLOOKUP(AI25,'Plan complet'!AI72:AJ72,2,0)),"",(VLOOKUP(AI25,'Plan complet'!AI72:AJ72,2,0))) | BE25: N
A26: Spindalite | B26: =IF(ISNA(MAX(M26,R26,W26,AB26,AG26,AL26,AQ26,AV26,BA26)),"",MAX(M26,R26,W26,AB26,AG26,AL26,AQ26,AV26,BA26)) -> 0 | C26: Non | D26: 2 | E26: oui | F26: AT1 | G26: Extrait hydroalc. Racines de pfaffia | H26: =VLOOKUP(G26,'Plan complet'!G71:H88,2,0) -> 1PFAFF1A.doc (08/9/15) | I26: =VLOOKUP(H26,'Plan complet'!H71:I88,2,0) -> D.5 : Filtration à froid | J26: =VLOOKUP(I26,'Plan complet'!I71:J88,2,0) -> Chargement par le trou d'homme du réacteur ou de la cuve | K26: =IF(ISNA(VLOOKUP(J26,'Plan complet'!J73:K89,2,0)),"",(VLOOKUP(J26,'Plan complet'!J73:K89,2,0))) -> 0 | L26: =IF(ISNA(VLOOKUP(K26,'Plan complet'!K73:L89,2,0)),"",(VLOOKUP(K26,'Plan complet'!K73:L89,2,0))) | M26: =IF(ISNA(VLOOKUP(L26,'Plan complet'!L73:M89,2,0)),"",(VLOOKUP(L26,'Plan complet'!L73:M89,2,0))) | N26: =IF(ISNA(VLOOKUP(M26,'Plan complet'!M73:N89,2,0)),"",(VLOOKUP(M26,'Plan complet'!M73:N89,2,0))) | O26: =IF(ISNA(VLOOKUP(N26,'Plan complet'!N73:O89,2,0)),"",(VLOOKUP(N26,'Plan complet'!N73:O89,2,0))) | P26: =IF(ISNA(VLOOKUP(O26,'Plan complet'!O73:P89,2,0)),"",(VLOOKUP(O26,'Plan complet'!O73:P89,2,0))) | Q26: =IF(ISNA(VLOOKUP(P26,'Plan complet'!P73:Q89,2,0)),"",(VLOOKUP(P26,'Plan complet'!P73:Q89,2,0))) | R26: =IF(ISNA(VLOOKUP(Q26,'Plan complet'!Q73:R89,2,0)),"",(VLOOKUP(Q26,'Plan complet'!Q73:R89,2,0))) | ... AJ26: =IF(ISNA(VLOOKUP(AI26,'Plan complet'!AI73:AJ89,2,0)),"",(VLOOKUP(AI26,'Plan complet'!AI73:AJ89,2,0))) | BE26: N
A27: TBME | B27: =IF(ISNA(MAX(M27,R27,W27,AB27,AG27,AL27,AQ27,AV27,BA27)),"",MAX(M27,R27,W27,AB27,AG27,AL27,AQ27,AV27,BA27)) -> 41227 | C27: VLEPc | D27: Non | E27: oui | F27: AT1 | G27: Extrait lipidique de soja PEG | H27: =VLOOKUP(G27,'Plan complet'!G90:H92,2,0) -> 1LISOJ1A.doc (10/7/15) | I27: =VLOOKUP(H27,'Plan complet'!H90:I92,2,0) -> D.3, D.4 : Extraction liquide/liquide, D.7 : Préparation du RI105, D.8 : Filtration | J27: =VLOOKUP(I27,'Plan complet'!I90:J92,2,0) -> Chargement TBME (avec filtre en D7), débatissage du filtre | K27: Long terme | L27: O | M27: 41227 | N27: 2012 | O27: 21.5 | P27: 0.12 | Q27: =IF(ISNA(VLOOKUP(P27,'Plan complet'!P90:Q90,2,0)),"",(VLOOKUP(P27,'Plan complet'!P90:Q90,2,0))) -> 0 | R27: =IF(ISNA(VLOOKUP(Q27,'Plan complet'!Q90:R90,2,0)),"",(VLOOKUP(Q27,'Plan complet'!Q90:R90,2,0))) | S27: =IF(ISNA(VLOOKUP(R27,'Plan complet'!R90:S90,2,0)),"",(VLOOKUP(R27,'Plan complet'!R90:S90,2,0))) | T27: =IF(ISNA(VLOOKUP(S27,'Plan complet'!S90:T90,2,0)),"",(VLOOKUP(S27,'Plan complet'!S90:T90,2,0))) | U27: =IF(ISNA(VLOOKUP(T27,'Plan complet'!T90:U90,2,0)),"",(VLOOKUP(T27,'Plan complet'!T90:U90,2,0))) | V27: =IF(ISNA(VLOOKUP(U27,'Plan complet'!U90:V90,2,0)),"",(VLOOKUP(U27,'Plan complet'!U90:V90,2,0))) | W27: =IF(ISNA(VLOOKUP(V27,'Plan complet'!V90:W90,2,0)),"",(VLOOKUP(V27,'Plan complet'!V90:W90,2,0))) | X27: =IF(ISNA(VLOOKUP(W27,'Plan complet'!W90:X90,2,0)),"",(VLOOKUP(W27,'Plan complet'!W90:X90,2,0))) | ... AJ27: =IF(ISNA(VLOOKUP(AI27,'Plan complet'!AI90:AJ90,2,0)),"",(VLOOKUP(AI27,'Plan complet'!AI90:AJ90,2,0))) | BE27: N
A28: Toluène | B28: =IF(ISNA(MAX(M28,R28,W28,AB28,AG28,AL28,AQ28,AV28,BA28)),"",MAX(M28,R28,W28,AB28,AG28,AL28,AQ28,AV28,BA28)) -> 0 | C28: VLEPc | D28: 2 | E28: oui | F28: AT1 | G28: Acétoxyoctanol CH0341 S1,3 étape 1 | H28: 1341AC1A.doc (1/9/15) | I28: D.1 : Chargement en RE108 à 20 °C | J28: Chargement de toluène et acide sulfurique | K28: =IF(ISNA(VLOOKUP(J28,'Plan complet'!J93:K93,2,0)),"",(VLOOKUP(J28,'Plan complet'!J93:K93,2,0))) -> 0 | L28: =IF(ISNA(VLOOKUP(K28,'Plan complet'!K93:L93,2,0)),"",(VLOOKUP(K28,'Plan complet'!K93:L93,2,0))) | M28: =IF(ISNA(VLOOKUP(L28,'Plan complet'!L93:M93,2,0)),"",(VLOOKUP(L28,'Plan complet'!L93:M93,2,0))) | N28: =IF(ISNA(VLOOKUP(M28,'Plan complet'!M93:N93,2,0)),"",(VLOOKUP(M28,'Plan complet'!M93:N93,2,0))) | O28: =IF(ISNA(VLOOKUP(N28,'Plan complet'!N93:O93,2,0)),"",(VLOOKUP(N28,'Plan complet'!N93:O93,2,0))) | P28: =IF(ISNA(VLOOKUP(O28,'Plan complet'!O93:P93,2,0)),"",(VLOOKUP(O28,'Plan complet'!O93:P93,2,0))) | Q28: =IF(ISNA(VLOOKUP(P28,'Plan complet'!P93:Q93,2,0)),"",(VLOOKUP(P28,'Plan complet'!P93:Q93,2,0))) | R28: =IF(ISNA(VLOOKUP(Q28,'Plan complet'!Q93:R93,2,0)),"",(VLOOKUP(Q28,'Plan complet'!Q93:R93,2,0))) | ... AJ28: =IF(ISNA(VLOOKUP(AI28,'Plan complet'!AI93:AJ93,2,0)),"",(VLOOKUP(AI28,'Plan complet'!AI93:AJ93,2,0))) | BE28: N
A29: Toluène | B29: =IF(ISNA(MAX(M29,R29,W29,AB29,AG29,AL29,AQ29,AV29,BA29)),"",MAX(M29,R29,W29,AB29,AG29,AL29,AQ29,AV29,BA29)) -> 0 | C29: VLEPc | D29: 2 | E29: oui | F29: AT1 | G29: CH0294 APRC11 purifié | H29: 1APRPU1A.doc (12/5/15) | I29: D.2.1 : Solvants neufs ou recyclés | J29: Préparation solution éluante B, rinçage cuve. Elution 7,5 L/h | K29: =IF(ISNA(VLOOKUP(J29,'Plan complet'!J94:K94,2,0)),"",(VLOOKUP(J29,'Plan complet'!J94:K94,2,0))) -> 0 | L29: =IF(ISNA(VLOOKUP(K29,'Plan complet'!K94:L94,2,0)),"",(VLOOKUP(K29,'Plan complet'!K94:L94,2,0))) | M29: =IF(ISNA(VLOOKUP(L29,'Plan complet'!L94:M94,2,0)),"",(VLOOKUP(L29,'Plan complet'!L94:M94,2,0))) | N29: =IF(ISNA(VLOOKUP(M29,'Plan complet'!M94:N94,2,0)),"",(VLOOKUP(M29,'Plan complet'!M94:N94,2,0))) | O29: =IF(ISNA(VLOOKUP(N29,'Plan complet'!N94:O94,2,0)),"",(VLOOKUP(N29,'Plan complet'!N94:O94,2,0))) | P29: =IF(ISNA(VLOOKUP(O29,'Plan complet'!O94:P94,2,0)),"",(VLOOKUP(O29,'Plan complet'!O94:P94,2,0))) | Q29: =IF(ISNA(VLOOKUP(P29,'Plan complet'!P94:Q94,2,0)),"",(VLOOKUP(P29,'Plan complet'!P94:Q94,2,0))) | R29: =IF(ISNA(VLOOKUP(Q29,'Plan complet'!Q94:R94,2,0)),"",(VLOOKUP(Q29,'Plan complet'!Q94:R94,2,0))) | ... AJ29: =IF(ISNA(VLOOKUP(AI29,'Plan complet'!AI94:AJ94,2,0)),"",(VLOOKUP(AI29,'Plan complet'!AI94:AJ94,2,0))) | BE29: N
A30: Toluène | B30: =IF(ISNA(MAX(M30,R30,W30,AB30,AG30,AL30,AQ30,AV30,BA30)),"",MAX(M30,R30,W30,AB30,AG30,AL30,AQ30,AV30,BA30)) -> 0 | C30: VLEPc | D30: 2 | E30: oui | F30: AT1 | G30: Diolénique C8 CH0406 | H30: KDIOC81A-02 (20/6/15) | I30: H.1.1 : Chargement des matières premières H.2.1 : Filtration du milieu et polissage | J30: Chargement de tolène, évaporation. Désolvantation résiduelle par bullage azote | K30: =IF(ISNA(VLOOKUP(J30,'Plan complet'!J95:K95,2,0)),"",(VLOOKUP(J30,'Plan complet'!J95:K95,2,0))) -> 0 | L30: =IF(ISNA(VLOOKUP(K30,'Plan complet'!K95:L95,2,0)),"",(VLOOKUP(K30,'Plan complet'!K95:L95,2,0))) | M30: =IF(ISNA(VLOOKUP(L30,'Plan complet'!L95:M95,2,0)),"",(VLOOKUP(L30,'Plan complet'!L95:M95,2,0))) | N30: =IF(ISNA(VLOOKUP(M30,'Plan complet'!M95:N95,2,0)),"",(VLOOKUP(M30,'Plan complet'!M95:N95,2,0))) | O30: =IF(ISNA(VLOOKUP(N30,'Plan complet'!N95:O95,2,0)),"",(VLOOKUP(N30,'Plan complet'!N95:O95,2,0))) | P30: =IF(ISNA(VLOOKUP(O30,'Plan complet'!O95:P95,2,0)),"",(VLOOKUP(O30,'Plan complet'!O95:P95,2,0))) | Q30: =IF(ISNA(VLOOKUP(P30,'Plan complet'!P95:Q95,2,0)),"",(VLOOKUP(P30,'Plan complet'!P95:Q95,2,0))) | R30: =IF(ISNA(VLOOKUP(Q30,'Plan complet'!Q95:R95,2,0)),"",(VLOOKUP(Q30,'Plan complet'!Q95:R95,2,0))) | ... AJ30: =IF(ISNA(VLOOKUP(AI30,'Plan complet'!AI95:AJ95,2,0)),"",(VLOOKUP(AI30,'Plan complet'!AI95:AJ95,2,0))) | BE30: N

Sheet Plan complet
A1: Substance | B1: Dernière mesure | C1: VLEP | D1: CMR | E1: ADC prioritaire | F1: Atelier | G1: Nom Produit | H1: Conditions de prod. FMO | I1: Evaluation des risques ( Chapitres concernés ) | J1: Phase à risque global | K1: Court terme Long terme | L1: Type de mesure O/V/A | M1: Date de la mesure 1 | N1: Année de la mesure | O1: mesure 1 (mg/m3) | P1: ratio (%) | Q1: Type de mesure O/V/A | R1: Date de la mesure 2 | S1: Année de la mesure | T1: mesure 2 (mg/m3) | U1: ratio (%) | V1: Type de mesure O/V/A | W1: Date de la mesure 3 | X1: Année de la mesure | Y1: mesure 3 (mg/m3) | Z1: ratio (%) | AA1: Type de mesure O/V/A | AB1: Date de la mesure 4 | AC1: Année de la mesure | AD1: mesure 4 (mg/m3) | AE1: ratio (%) | AF1: Type de mesure O/V/A | AG1: Date de la mesure 5 | AH1: Année de la mesure | AI1: mesure 5 (mg/m3) | AJ1: ratio (%) | AK1: Type de mesure O/V/A | AL1: Date de la mesure 6 | AM1: Année de la mesure | AN1: mesure 6 (mg/m3) | AO1: ratio (%) | AP1: Type de mesure O/V/A | AQ1: Date de la mesure 7 | AR1: Année de la mesure | AS1: mesure 7 (mg/m3) | AT1: ratio (%) | AU1: Type de mesure O/V/A | AV1: Date de la mesure 8 | AW1: Année de la mesure | AX1: mesure 8 (mg/m3) | AY1: ratio (%) | AZ1: Type de mesure O/V/A | BA1: Date de la mesure 9 | BB1: Année de la mesure | BC1: mesure 9 (mg/m3) | BD1: ratio (%) | BE1: Mesure valide | BF1: Fréquence mesures | BG1: Dernière année de mesure | BH1: DNEL aiguë (mg/m3) | BI1: DNEL chronique (mg/m3) | BJ1: Ratio concentration mesurée/DNEL (%) | BK1: Source
A2: Acide sulfurique | B2: =MAX(M2,R2,W2,AB2,AG2,AL2,AQ2,AV2,BA2) -> 0 | C2: VLEPi | D2: Non | E2: =IF(AND(C2="non",D2="non"),"non","oui") -> oui | F2: AT1 | G2: Hespéridine Méthyl Chalcone Récup1HMCR02,docération du Dioxane Destruction du méthyl sulfate de sodium | H2: 1HMCR02.doc (21/9/15) | I2: D.6.3 Neutralisation des sels HMC | J2: Chargement de l'acide par vanne de chargement haut réacteur par le biais d'une pompe pneumatique | AM2: =IF(AL2="","",YEAR(AL2)) | AW2: =IF(AV2="","",YEAR(AV2)) | BB2: =IF(BA2="","",YEAR(BA2)) | BE2: N
A3: Acide sulfurique | B3: =IF(ISNA(MAX(M3,R3,W3,AB3,AG3,AL3,AQ3,AV3,BA3)),"",MAX(M3,R3,W3,AB3,AG3,AL3,AQ3,AV3,BA3)) -> 0 | C3: VLEPi | D3: Non | E3: =IF(AND(C3="non",D3="non"),"non","oui") -> oui | F3: AT1 | G3: HMC concentrât aqueux | H3: 1HMCC03.doc (21/9/15) | I3: D.1.4 Stabilisation du milieu réactionnel | J3: Lors de l'ouverture et fermeture du bidon | AM3: =IF(AL3="","",YEAR(AL3)) | AW3: =IF(AV3="","",YEAR(AV3)) | BB3: =IF(BA3="","",YEAR(BA3)) | BE3: N
A4: 1,4-Dioxane | B4: =MAX(M4,R4,W4,AB4,AG4,AL4,AQ4,AV4,BA4) -> 41439 | C4: VLEPc | D4: 2 | E4: =IF(AND(C4="non",D4="non"),"non","oui") -> oui | F4: AT1 | G4: HMC concentrât aqueux | H4: INST_GAI_0136 1HMCC03.doc. (27/10/15) | I4: D5.2 passage sur eau | J4: Passage sur eau et evaporation du dioxane pour prise d'échantillon | K4: Long terme | L4: O | M4: 41439 | N4: 2013 | O4: 11.4 | P4: =O4/73 -> 0.15616438 | AM4: =IF(AL4="","",YEAR(AL4)) | AW4: =IF(AV4="","",YEAR(AV4)) | BB4: =IF(BA4="","",YEAR(BA4))
A5: 1,4-Dioxane | B5: =MAX(M5,R5,W5,AB5,AG5,AL5,AQ5,AV5,BA5) -> 0 | C5: VLEPc | D5: 2 | E5: =IF(AND(C5="non",D5="non"),"non","oui") -> oui | F5: AT1 | G5: Dioxane récup (origine HMC) | H5: 1HMCR02.doc (21/9/15) | I5: D.1 : séchage d'évaporat dioxane, D.2 : blanchiment du dioxane séché, D.4, D.5 : préséchage et séchage du dioxane azéotrope | J5: Chargement en réacteur, homogénéisation et purification
A6: 1,4-Dioxane | B6: =MAX(M6,R6,W6,AB6,AG6,AL6,AQ6,AV6,BA6) -> 0 | C6: VLEPc | D6: 2 | E6: =IF(AND(C6="non",D6="non"),"non","oui") -> oui | F6: AT1 | G6: Hespéridine Méthyl Chalcone Récup1HMCR02,docération du Dioxane Destruction du méthyl sulfate de sodium | H6: 1HMCR02.doc (21/9/15) | I6: D.1 Séchage de l'évaporat dioxane à D,6 Hydrolyse des sels HMC | J6: Ouverture des cuves pour séchage et stabilisation du Dioxane | AM6: =IF(AL6="","",YEAR(AL6)) | AW6: =IF(AV6="","",YEAR(AV6)) | BB6: =IF(BA6="","",YEAR(BA6)) | BE6: N
A7: 1,4-Dioxane | B7: =MAX(M7,R7,W7,AB7,AG7,AL7,AQ7,AV7,BA7) -> 40522 | C7: VLEPc | D7: 2 | E7: =IF(AND(C7="non",D7="non"),"non","oui") -> oui | F7: AT1 | G7: HMC concentrât aqueux. | H7: INST_GAI_0136 1HMCC03.doc. (27/10/15) | I7: D.2.4 : Reprise par le dioxane | J7: Chargement du dioxane (2*3000L) | K7: Long terme | L7: O | M7: 40522 | N7: 2010 | O7: 31 | P7: 0.42465753 | Q7: V | R7: 40522 | S7: 2010 | T7: 2.72 | U7: 0.037260274 | AM7: =IF(AL7="","",YEAR(AL7)) | AW7: =IF(AV7="","",YEAR(AV7)) | BB7: =IF(BA7="","",YEAR(BA7)) | BE7: N | BG7: 2010 | BJ7: NA
A8: 1,4-Dioxane | B8: =MAX(M8,R8,W8,AB8,AG8,AL8,AQ8,AV8,BA8) -> 41893 | C8: VLEPc | D8: 2 | E8: =IF(AND(C8="non",D8="non"),"non","oui") -> oui | F8: AT1 | G8: HMC concentrât aqueux | H8: INST_GAI_0136 1HMCC03.doc. (27/10/15) | I8: D4.3 Filtration du FA101 D4..4 Acidification par acide sulfurique 50 % | J8: Lors du débatissage FM 110, rinçage et prise d'échantillon | K8: Long terme | L8: O. | M8: 38887 | N8: 2006 | O8: 15.2 | P8: 0.20821918 | Q8: O | R8: 41333 | S8: 2013 | T8: 10.5 | U8: 0.14 | V8: V | W8: 41333 | X8: 2013 | Y8: 1.18 | Z8: 0.016 | AA8: O | AB8: 41439 | AC8: 2013 | AD8: 35.4 | AE8: =AD8/73 -> 0.48493151 | AF8: O | AG8: 41807 | AH8: 2014 | AI8: 10.4 | AJ8: 0.14 | AK8: O | AL8: 41893 | AM8: 2014 | AN8: 11.4 | AO8: 0.156 | AW8: =IF(AV8="","",YEAR(AV8)) | BB8: =IF(BA8="","",YEAR(BA8))
A9: 1,4-Dioxane | B9: =MAX(M9,R9,W9,AB9,AG9,AL9,AQ9,AV9,BA9) -> 0 | C9: VLEPc | D9: 2 | E9: =IF(AND(C9="non",D9="non"),"non","oui") -> oui | F9: AT1 | G9: Retraitement HCM poudre, concentrât aqueux | H9: 1RHMCC1A.doc (5/14) | I9: D.1 : Chargement, D.2.3 : Filtration sur multiplaques | J9: Chargement du réacteur, débatissage du filtre
A10: 1,4-Dioxane | B10: =MAX(M10,R10,W10,AB10,AG10,AL10,AQ10,AV10,BA10) -> 40938 | C10: VLEPc | D10: 2 | E10: =IF(AND(C10="non",D10="non"),"non","oui") -> oui | F10: AT1 | G10: HMC concentrât aqueux | H10: INST_GAI_0136 1HMCC03.doc. (27/10/15) | I10: D.3.1 à D.3.2 Filtration D.4.3 Filtration sur FM110 et FC | J10: Lors du débatissage filtre gaf | K10: Court terme | L10: O | M10: 39932 | N10: 2009 | O10: 27.5 | P10: 0.1964 | Q10: O | R10: 40938 | S10: 2012 | T10: 389 | U10: 2.78 | V10: O | W10: 40938 | X10: 2012 | Y10: 351 | Z10: 2.5 | AM10: =IF(AL10="","",YEAR(AL10)) | AW10: =IF(AV10="","",YEAR(AV10)) | BB10: =IF(BA10="","",YEAR(BA10)) | BE10: N | BF10: statuer direction | BG10: 2009 | BJ10: NA
A11: 3 nicométhanol | B11: =MAX(M11,R11,W11,AB11,AG11,AL11,AQ11,AV11,BA11) -> 0 | C11: Non | D11: Non | E11: =IF(AND(C11="non",D11="non"),"non","oui") -> non | F11: AT1 | G11: Fluorhydrate de nicométhanol | H11: 1FLUOR02.doc (15/7/15) | I11: D.3 Chargement et rinçage canalisation | J11: Chargement réacteur sous vide par accès haut à l'aide de la canne de chargement | X11: =IF(W11="","",YEAR(W11)) | AC11: =IF(AB11="","",YEAR(AB11)) | AH11: =IF(AG11="","",YEAR(AG11)) | AM11: =IF(AL11="","",YEAR(AL11)) | AW11: =IF(AV11="","",YEAR(AV11)) | BB11: =IF(BA11="","",YEAR(BA11)) | BE11: N
A12: Acétate d'éthyle | B12: =MAX(M12,R12,W12,AB12,AG12,AL12,AQ12,AV12,BA12) -> 0 | C12: Non | D12: Non | E12: non | F12: AT1 | G12: Extrait marc de pommes | H12: 1MAPOM1A.doc (28/5/15) | I12: D.1.1 : Préparation du solvant d'extraction, D.2.1, D.2.3, D.3.3, D.4.3 : Extraction solide/liquide | J12: Chargement successif d'acétate d'éthyle et eau (94/6)
A13: Acétate d'éthyle | B13: =MAX(M13,R13,W13,AB13,AG13,AL13,AQ13,AV13,BA13) -> 0 | C13: Non | D13: Non | E13: =IF(AND(C13="non",D13="non"),"non","oui") -> non | F13: AT1 | G13: Pentyl rhamnoside | H13: 1ALKYR1A.doc (15/7/15) | I13: D.2.1 Chargement | J13: Chargement par vanne de fond et réacteur sous vide | X13: =IF(W13="","",YEAR(W13)) | AC13: =IF(AB13="","",YEAR(AB13)) | AH13: =IF(AG13="","",YEAR(AG13)) | AM13: =IF(AL13="","",YEAR(AL13)) | AW13: =IF(AV13="","",YEAR(AV13)) | BB13: =IF(BA13="","",YEAR(BA13)) | BE13: N
A14: Acétonitrile | B14: =MAX(M14,R14,W14,AB14,AG14,AL14,AQ14,AV14,BA14) -> 0 | C14: VLEPc | D14: Non | E14: =IF(AND(C14="non",D14="non"),"non","oui") -> oui | F14: AT1 | G14: Fractions purifiées de madécassoside | H14: INST_GAI_1078 (29/9/15) | I14: D.1 : Préparation des solvants, D.2 : Préparation colonne, package colonne, D.6 : Elution décrassage. | J14: Mélange solvant d'élution, rinçage colonne
A15: Acide acétique | B15: =MAX(M15,R15,W15,AB15,AG15,AL15,AQ15,AV15,BA15) -> 0 | C15: Non | D15: Non | E15: =IF(AND(C15="non",D15="non"),"non","oui") -> non | F15: AT1 | G15: DL Leucine en solution sodée Acétylleucine Racémisation | H15: INST_GAI-0247 1DLLEU03.doc (19/5/15) | I15: Prise ECH | J15: Lors de la prise ECH | X15: =IF(W15="","",YEAR(W15)) | AC15: =IF(AB15="","",YEAR(AB15)) | AH15: =IF(AG15="","",YEAR(AG15)) | AM15: =IF(AL15="","",YEAR(AL15)) | AW15: =IF(AV15="","",YEAR(AV15)) | BB15: =IF(BA15="","",YEAR(BA15)) | BE15: N
A16: Acide acétique | B16: =MAX(M16,R16,W16,AB16,AG16,AL16,AQ16,AV16,BA16) -> 0 | C16: Non | D16: Non | E16: =IF(AND(C16="non",D16="non"),"non","oui") -> non | F16: AT1 | G16: Ext.lip.de soja | H16: 1LISOJ1A.doc (10/6/15) | I16: D.6 Neutralisation | J16: Chargement par trou d'homme ( 900 ml ) | X16: =IF(W16="","",YEAR(W16)) | AC16: =IF(AB16="","",YEAR(AB16)) | AH16: =IF(AG16="","",YEAR(AG16)) | AM16: =IF(AL16="","",YEAR(AL16)) | AW16: =IF(AV16="","",YEAR(AV16)) | BB16: =IF(BA16="","",YEAR(BA16)) | BE16: N
A17: Acide chlorhydrique | B17: =MAX(M17,R17,W17,AB17,AG17,AL17,AQ17,AV17,BA17) -> 0 | C17: VLEPc | D17: Non | E17: =IF(AND(C17="non",D17="non"),"non","oui") -> oui | F17: AT1 | G17: Acétylleucine orale | H17: INST_GAI_0132.doc | I17: D.3.1 : Précipitation et chargement de l'acide chlorhydrique 25% | J17: Ajuster le pH par ajout d'HCl 25%
A18: Acide Chlorhydrique | B18: =MAX(M18,R18,W18,AB18,AG18,AL18,AQ18,AV18,BA18) -> 0 | C18: VLEPc | D18: Non | E18: =IF(AND(C18="non",D18="non"),"non","oui") -> oui | F18: AT1 | G18: Hydroxydécénoïque acide (étape 4) | H18: 1HYDE41A.doc (1/9/15) | I18: D.3.2 : Préparation de l'acide chlorhydrique 5N | J18: Addition HCl par canalisation de chargement équipé de filtre RE111-FC01
A19: Acide Fluorhydrique | B19: =MAX(M19,R19,W19,AB19,AG19,AL19,AQ19,AV19,BA19) -> 0 | C19: VLEPc | D19: Non | E19: =IF(AND(C19="non",D19="non"),"non","oui") -> oui | F19: AT1 | G19: Fluorhydrate de nicométhanol (15/7/15) | H19: 1FLUOR02.doc (15/7/15) | I19: D.4 Chargement et rinçage canalisation | J19: Chargement réacteur sous vide par accès haut à l'aide de la canne de chargement | X19: =IF(W19="","",YEAR(W19)) | AC19: =IF(AB19="","",YEAR(AB19)) | AH19: =IF(AG19="","",YEAR(AG19)) | AM19: =IF(AL19="","",YEAR(AL19)) | AW19: =IF(AV19="","",YEAR(AV19)) | BB19: =IF(BA19="","",YEAR(BA19)) | BE19: N
A20: Acide Phosphorique | B20: =MAX(M20,R20,W20,AB20,AG20,AL20,AQ20,AV20,BA20) -> 0 | C20: Non | D20: Non | E20: =IF(AND(C20="non",D20="non"),"non","oui") -> non | F20: AT1 | G20: Salicylate de zinc séché | H20: 1SALZN01.doc (20/4/15) | I20: F.4.2.1.2, F.4.3.2 : Nettoyage par immersion lavage. | J20: Chargement acide phosp en réacteur à 30°C
A21: Acide pyroglutamique | B21: =MAX(M21,R21,W21,AB21,AG21,AL21,AQ21,AV21,BA21) -> 0 | C21: Non | D21: Non | E21: =IF(AND(C21="non",D21="non"),"non","oui") -> non | F21: AT1 | G21: Pyroglutamate DMAE Hydroalcoolique | H21: 1pyrog02.doc (25/10/13) | I21: D.3 Préparation suspension de l'acide | J21: Chargement par trou d'homme | X21: =IF(W21="","",YEAR(W21)) | AC21: =IF(AB21="","",YEAR(AB21)) | AH21: =IF(AG21="","",YEAR(AG21)) | AM21: =IF(AL21="","",YEAR(AL21)) | AW21: =IF(AV21="","",YEAR(AV21)) | BB21: =IF(BA21="","",YEAR(BA21)) | BE21: N
A22: Acide pyroglutamique | B22: =MAX(M22,R22,W22,AB22,AG22,AL22,AQ22,AV22,BA22) -> 0 | C22: Non | D22: Non | E22: =IF(AND(C22="non",D22="non"),"non","oui") -> non | F22: AT1 | G22: Pyroglutamate DMAE Hydroalcoolique. | H22: 1pyrog02.doc (25/10/13). | I22: D.5 Ajustement | J22: Ajustement en acide pyroglutamique par le trou d'homme | X22: =IF(W22="","",YEAR(W22)) | AC22: =IF(AB22="","",YEAR(AB22)) | AH22: =IF(AG22="","",YEAR(AG22)) | AM22: =IF(AL22="","",YEAR(AL22)) | AW22: =IF(AV22="","",YEAR(AV22)) | BB22: =IF(BA22="","",YEAR(BA22)) | BE22: N
A23: aldéhyde salicylique | B23: =MAX(M23,R23,W23,AB23,AG23,AL23,AQ23,AV23,BA23) -> 0 | C23: Non | D23: Non | E23: =IF(AND(C23="non",D23="non"),"non","oui") -> non | F23: AT1 | G23: DL Leucine en solution sodée | H23: 1DLLEU03.doc (4/6/15) | I23: D.1 Racémisation chargement D2 : Essorage des jus + prise ECH | J23: Lors du chargement | X23: =IF(W23="","",YEAR(W23)) | AC23: =IF(AB23="","",YEAR(AB23)) | AH23: =IF(AG23="","",YEAR(AG23)) | AM23: =IF(AL23="","",YEAR(AL23)) | AW23: =IF(AV23="","",YEAR(AV23)) | BB23: =IF(BA23="","",YEAR(BA23)) | BE23: N
A24: CH2CL2 | B24: =MAX(M24,R24,W24,AB24,AG24,AL24,AQ24,AV24,BA24) -> 40659 | C24: VLEPc | D24: 2 | E24: =IF(AND(C24="non",D24="non"),"non","oui") -> oui | F24: AT1 | G24: TOCOL ST 1 | H24: 1TOCO100.doc (28/2/12). | I24: D1 (mise en solution RE108) à D2 (Réaction de couplage) | J24: Ajout Beta Glucose Penta Acetate par trou d'homme + Aide ajout BF3 | K24: Long terme | L24: O | M24: 40108 | N24: 2009 | O24: 30.2 | P24: 0.16966292 | Q24: O | R24: 40108 | S24: =IF(R24="","",YEAR(R24)) -> 2009 | T24: 35.4 | U24: 0.1988764 | V24: A | W24: 40659 | X24: 2011 | Y24: 3.04 | Z24: =Y24/178 -> 0.017078652 | AC24: =IF(AB24="","",YEAR(AB24)) | AH24: =IF(AG24="","",YEAR(AG24)) | AM24: =IF(AL24="","",YEAR(AL24)) | AW24: =IF(AV24="","",YEAR(AV24)) | BB24: =IF(BA24="","",YEAR(BA24)) | BE24: N | BG24: 2009 | BH24: 706 | BI24: 353 | BJ24: 0.085552408 | BK24: Solvay 22/03/2011
A25: CH2CL2 | B25: =MAX(M25,R25,W25,AB25,AG25,AL25,AQ25,AV25,BA25) -> 0 | C25: VLEPc | D25: 2 | E25: =IF(AND(C25="non",D25="non"),"non","oui") -> oui | F25: AT1 | G25: TOCOL ST 1 | H25: 1TOCO100.doc (28/2/12) | I25: D2 : Mise en solution D3 : Dilution + echantillon | J25: Chargement | X25: =IF(W25="","",YEAR(W25)) | AC25: =IF(AB25="","",YEAR(AB25)) | AH25: =IF(AG25="","",YEAR(AG25)) | AM25: =IF(AL25="","",YEAR(AL25)) | AW25: =IF(AV25="","",YEAR(AV25)) | BB25: =IF(BA25="","",YEAR(BA25)) | BE25: N
A26: CH2CL2 | B26: =MAX(M26,R26,W26,AB26,AG26,AL26,AQ26,AV26,BA26) -> 40659 | C26: VLEPc | D26: 2 | E26: =IF(AND(C26="non",D26="non"),"non","oui") -> oui | F26: AT1 | G26: TOCOL ST 1 | H26: 1TOCO100.doc (28/2/12) | I26: D.1 Mise en solution D.2 Réaction de couplage | J26: Chargement, rinçage et prise d'echantillons | K26: Long terme | L26: O | M26: 40659 | N26: 2011 | O26: 20 | P26: 0.11235955 | Q26: A | R26: 40659 | S26: =IF(R26="","",YEAR(R26)) -> 2011 | T26: 3.04 | U26: 0.017078652 | X26: =IF(W26="","",YEAR(W26)) | AC26: =IF(AB26="","",YEAR(AB26)) | AH26: =IF(AG26="","",YEAR(AG26)) | AM26: =IF(AL26="","",YEAR(AL26)) | AW26: =IF(AV26="","",YEAR(AV26)) | BB26: =IF(BA26="","",YEAR(BA26)) | BE26: N | BG26: 2011 | BH26: 706 | BI26: 353 | BJ26: 0.056657224 | BK26: Solvay 22/03/2011
A27: CH2CL2 | B27: =MAX(M27,R27,W27,AB27,AG27,AL27,AQ27,AV27,BA27) -> 40108 | C27: VLEPc | D27: 2 | E27: =IF(AND(C27="non",D27="non"),"non","oui") -> oui | F27: AT1 | G27: TOCOL ST 1 | H27: 1TOCO100.doc (28/2/12) | I27: D.2 Réaction de couplage | J27: Chargement par vanne de fond et réacteur sous vide prise d'échantillon (Ech n°30 ou Ech n°31) | K27: Court terme | L27: O | M27: 40108 | N27: 2009 | O27: 15 | P27: 0.042134831 | X27: =IF(W27="","",YEAR(W27)) | AC27: =IF(AB27="","",YEAR(AB27)) | AH27: =IF(AG27="","",YEAR(AG27)) | AM27: =IF(AL27="","",YEAR(AL27)) | AW27: =IF(AV27="","",YEAR(AV27)) | BB27: =IF(BA27="","",YEAR(BA27)) | BE27: N | BG27: 2009 | BH27: 706 | BI27: 353 | BJ27: 0.021246459 | BK27: Solvay 22/03/2011
A28: CH2CL2 | B28: =MAX(M28,R28,W28,AB28,AG28,AL28,AQ28,AV28,BA28) -> 0 | C28: VLEPc | D28: 2 | E28: =IF(AND(C28="non",D28="non"),"non","oui") -> oui | F28: AT1 | G28: TOCOL ST 2 | H28: 1TOCOS1A.doc (28/2/12) | I28: D.1 Préparation | J28: Chargement | X28: =IF(W28="","",YEAR(W28)) | AC28: =IF(AB28="","",YEAR(AB28)) | AH28: =IF(AG28="","",YEAR(AG28)) | AM28: =IF(AL28="","",YEAR(AL28)) | AW28: =IF(AV28="","",YEAR(AV28)) | BB28: =IF(BA28="","",YEAR(BA28)) | BE28: N
A29: CH2CL2 | B29: =MAX(M29,R29,W29,AB29,AG29,AL29,AQ29,AV29,BA29) -> 0 | C29: VLEPc | D29: 2 | E29: =IF(AND(C29="non",D29="non"),"non","oui") -> oui | F29: AT1 | G29: TOCOL ST 2 | H29: 1TOCOS1A.doc (28/2/12) | I29: D.3 Dilution | J29: Chargement | X29: =IF(W29="","",YEAR(W29)) | AC29: =IF(AB29="","",YEAR(AB29)) | AH29: =IF(AG29="","",YEAR(AG29)) | AM29: =IF(AL29="","",YEAR(AL29)) | AW29: =IF(AV29="","",YEAR(AV29)) | BB29: =IF(BA29="","",YEAR(BA29)) | BE29: N
A30: DMAE | B30: =MAX(M30,R30,W30,AB30,AG30,AL30,AQ30,AV30,BA30) -> 0 | C30: Non | D30: Non | E30: =IF(AND(C30="non",D30="non"),"non","oui") -> non | F30: AT1 | G30: Pyroglutamate DMAE Hydroalcoolique | H30: 1pyrog02.doc (25/10/13) | I30: D.3 Synthèse | J30: L'opérateur charge par la vanne de fond et réacteur sous vide le DMAE. L’opérateur ajuste la quantité de DMAE avec une pompe Lutz où un ballon de coulé. | X30: =IF(W30="","",YEAR(W30)) | AC30: =IF(AB30="","",YEAR(AB30)) | AH30: =IF(AG30="","",YEAR(AG30)) | AM30: =IF(AL30="","",YEAR(AL30)) | AW30: =IF(AV30="","",YEAR(AV30)) | BB30: =IF(BA30="","",YEAR(BA30)) | BE30: N
A31: Ethanol | B31: =MAX(M31,S31,W31,AB31,AG31,AL31,AQ31,AV31,BA31) -> 41807 | C31: VLEPi | D31: Non | E31: =IF(AND(C31="non",D31="non"),"non","oui") -> oui | F31: AT1 | G31: APRC11 | H31: 1APRPU1A.doc (12/5/15) | I31: D.2.10 Nettoyage CR101 ; D.3.2 Nettoyage RI105 ; D.4.3 Concentration | J31: Chargement et nettoyage | K31: Long terme | L31: O | M31: 41807 | N31: =IF(M31="","",YEAR(M31)) -> 2014 | O31: 10.6 | P31: 0.0056 | Q31: v | R31: 41807 | S31: =IF(R31="","",YEAR(R31)) -> 2014 | T31: 6.44 | U31: 0.0034 | X31: =IF(W31="","",YEAR(W31)) | AC31: =IF(AB31="","",YEAR(AB31)) | AH31: =IF(AG31="","",YEAR(AG31)) | AM31: =IF(AL31="","",YEAR(AL31)) | AW31: =IF(AV31="","",YEAR(AV31)) | BB31: =IF(BA31="","",YEAR(BA31))
A32: Ethanol | B32: =MAX(M32,R32,W32,AB32,AG32,AL32,AQ32,AV32,BA32) -> 0 | C32: VLEPi | D32: Non | E32: =IF(AND(C32="non",D32="non"),"non","oui") -> oui | F32: AT1 | G32: Extrait aq de capucine G6 | H32: 1CAPUC02.doc (12/6/15) | I32: D1 : Extraction + échantillons | J32: Prise ech 10 par trou d'homme. Décantation centrifuge Volumer les jus décantés Débatissage du gaf si colmatage Prise ech 20 sur cuve trou d'homme ouvert | X32: =IF(W32="","",YEAR(W32)) | AC32: =IF(AB32="","",YEAR(AB32)) | AH32: =IF(AG32="","",YEAR(AG32)) | AM32: =IF(AL32="","",YEAR(AL32)) | AW32: =IF(AV32="","",YEAR(AV32)) | BB32: =IF(BA32="","",YEAR(BA32)) | BE32: N
A33: Ethanol | B33: =MAX(M33,R33,W33,AB33,AG33,AL33,AQ33,AV33,BA33) -> 0 | C33: VLEPi | D33: Non | E33: =IF(AND(C33="non",D33="non"),"non","oui") -> oui | F33: AT1 | G33: Extrait aq de capucine G6 | H33: 1CAPUC02.doc (12/6/15) | I33: Selon le broyage de la plante, nous pouvons êtres amener à utiliser le pressoir EP102. Cette utilisation est très rare. | J33: Pressage sur pressoir EP102 Chargement éthanol | X33: =IF(W33="","",YEAR(W33)) | AC33: =IF(AB33="","",YEAR(AB33)) | AH33: =IF(AG33="","",YEAR(AG33)) | AM33: =IF(AL33="","",YEAR(AL33)) | AW33: =IF(AV33="","",YEAR(AV33)) | BB33: =IF(BA33="","",YEAR(BA33)) | BE33: N
A34: Ethanol | B34: =MAX(M34,R34,W34,AB34,AG34,AL34,AQ34,AV34,BA34) -> 0 | C34: VLEPi | D34: Non | E34: =IF(AND(C34="non",D34="non"),"non","oui") -> oui | F34: AT1 | G34: Distillation sur CD101 | H34: 1DISTI01.doc | I34: D.1 Distillation + echantillon | J34: Lors de la prise ECH | N34: =IF(M34="","",YEAR(M34)) | S34: =IF(R34="","",YEAR(R34)) | X34: =IF(W34="","",YEAR(W34)) | AC34: =IF(AB34="","",YEAR(AB34)) | AH34: =IF(AG34="","",YEAR(AG34)) | AM34: =IF(AL34="","",YEAR(AL34)) | AR34: =IF(AQ34="","",YEAR(AQ34)) | AW34: =IF(AV34="","",YEAR(AV34)) | BB34: =IF(BA34="","",YEAR(BA34)) | BE34: N
A35: Ethanol | B35: =MAX(M35,R35,W35,AB35,AG35,AL35,AQ35,AV35,BA35) -> 0 | C35: VLEPi | D35: Non | E35: =IF(AND(C35="non",D35="non"),"non","oui") -> oui | F35: AT1 | G35: Ext. Hyd. Alc. Rhizome ruscus 957 G2 | H35: 1EAR571A.doc (18/1/15) | I35: D.1 et D.3 Extraction D.7 Préstandardisation + échantillons | J35: Prise des ech et volume par trou d'homme. Changement filtre gaf si colmatage. Vidange recette pompe à vide. | X35: =IF(W35="","",YEAR(W35)) | AC35: =IF(AB35="","",YEAR(AB35)) | AH35: =IF(AG35="","",YEAR(AG35)) | AM35: =IF(AL35="","",YEAR(AL35)) | AW35: =IF(AV35="","",YEAR(AV35)) | BB35: =IF(BA35="","",YEAR(BA35)) | BE35: N
A36: Ethanol | B36: =MAX(M36,R36,W36,AB36,AG36,AL36,AQ36,AV36,BA36) -> 0 | C36: VLEPi | D36: Non | E36: =IF(AND(C36="non",D36="non"),"non","oui") -> oui | F36: AT1 | G36: Ext.lip.de soja | H36: 1LISOJ1A.doc (10/6/15) | I36: D1 : Préparation de la solution potassique D13.2 : Retraitement NC bactério et NC points noirs en D13.1 | J36: Ouverture du trou d'homme pour le chargement des matières | X36: =IF(W36="","",YEAR(W36)) | AC36: =IF(AB36="","",YEAR(AB36)) | AH36: =IF(AG36="","",YEAR(AG36)) | AM36: =IF(AL36="","",YEAR(AL36)) | AW36: =IF(AV36="","",YEAR(AV36)) | BB36: =IF(BA36="","",YEAR(BA36)) | BE36: N
A37: Ethanol | B37: =MAX(M37,R37,W37,AB37,AG37,AL37,AQ37,AV37,BA37) -> 0 | C37: VLEPi | D37: Non | E37: =IF(AND(C37="non",D37="non"),"non","oui") -> oui | F37: AT1 | G37: Extrait alcoolique Ecorces de grenade | H37: 1EAEGR1A.doc (26/2/13) | I37: D.1 Extraction D.6 Standardisation + échantillons | J37: Prise des volumes Prises des ech Changement des cartouches si colmatage Vidange pompe à vide | X37: =IF(W37="","",YEAR(W37)) | AC37: =IF(AB37="","",YEAR(AB37)) | AH37: =IF(AG37="","",YEAR(AG37)) | AM37: =IF(AL37="","",YEAR(AL37)) | AW37: =IF(AV37="","",YEAR(AV37)) | BB37: =IF(BA37="","",YEAR(BA37)) | BE37: N
A38: Ethanol | B38: =MAX(N38,S38,X38,AC38,AH38,AM38,AR38,AW38,BB38) -> 0 | C38: VLEPi | D38: Non | E38: =IF(AND(C38="non",D38="non"),"non","oui") -> oui | F38: AT1 | G38: Extrait d'Okara G1 | H38: 1OKARA01.doc (29/7/15) | I38: D.1 Extraction + echantillon | J38: Préparation solvant d'extraction. Prise Ech N°10, 20. | X38: =IF(W38="","",YEAR(W38)) | AC38: =IF(AB38="","",YEAR(AB38)) | AH38: =IF(AG38="","",YEAR(AG38)) | AM38: =IF(AL38="","",YEAR(AL38)) | AW38: =IF(AV38="","",YEAR(AV38)) | BB38: =IF(BA38="","",YEAR(BA38)) | BE38: N
A39: Ethanol | B39: =MAX(N39,S39,X39,AC39,AH39,AM39,AR39,AW39,BB39) -> 0 | C39: VLEPi | D39: Non | E39: =IF(AND(C39="non",D39="non"),"non","oui") -> oui | F39: AT1 | G39: Extrait d'ortie dioique tween | H39: 1ORTDI1A.doc (17/5/13) | I39: D.1 Extraction | J39: Préparation du solvant d'extraction. Ouverture du trou d'homme pour prise volume et Ech N° 10 et 20. Nourrissage du milieu avec de l'hyflosupercel. | X39: =IF(W39="","",YEAR(W39)) | AC39: =IF(AB39="","",YEAR(AB39)) | AH39: =IF(AG39="","",YEAR(AG39)) | AM39: =IF(AL39="","",YEAR(AL39)) | AW39: =IF(AV39="","",YEAR(AV39)) | BB39: =IF(BA39="","",YEAR(BA39)) | BE39: N
A40: Ethanol | B40: =MAX(M40,R40,W40,AB40,AG40,AL40,AQ40,AV40,BA40) -> 0 | C40: VLEPi | D40: Non | E40: =IF(AND(C40="non",D40="non"),"non","oui") -> oui | F40: AT1 | G40: Extrait fluide de Cédrat | H40: 1CEDRA01.doc (7/7/15) | I40: D2.1 : Extraction D2.3 : Lavage D3.1 : Extraction D3.3 : Lavage + échantillons | J40: Chargement de l' Ethanol en réacteur Chargement de l' EtOH sur la plante broyée réacteur sous vide Prise des volumes. | X40: =IF(W40="","",YEAR(W40)) | AC40: =IF(AB40="","",YEAR(AB40)) | AH40: =IF(AG40="","",YEAR(AG40)) | AM40: =IF(AL40="","",YEAR(AL40)) | AW40: =IF(AV40="","",YEAR(AV40)) | BB40: =IF(BA40="","",YEAR(BA40)) | BE40: N
A41: Ethanol | B41: =MAX(M41,R41,W41,AB41,AG41,AL41,AQ41,AV41,BA41) -> 0 | C41: VLEPi | D41: Non | E41: =IF(AND(C41="non",D41="non"),"non","oui") -> oui | F41: AT1 | G41: Extrait fluide de lierre D0,05-0,3 | H41: 1LIERD1A.doc (16/2/15) | I41: D.1 Dilution + echantillons | J41: Chargement du concentrât en réacteur sous vide. Prise des Ech N° 10 et 20. | X41: =IF(W41="","",YEAR(W41)) | AC41: =IF(AB41="","",YEAR(AB41)) | AH41: =IF(AG41="","",YEAR(AG41)) | AM41: =IF(AL41="","",YEAR(AL41)) | AW41: =IF(AV41="","",YEAR(AV41)) | BB41: =IF(BA41="","",YEAR(BA41)) | BE41: N
A42: Ethanol | B42: =MAX(N42,S42,X42,AC42,AH42,AM42,AR42,AW42,BB42) -> 0 | C42: VLEPi | D42: Non | E42: =IF(AND(C42="non",D42="non"),"non","oui") -> oui | F42: AT1 | G42: Extrait fluide de Myrte G1 | H42: 1MYRTE01.doc (21/7/14) | I42: D.1 Extraction solide/liquide D.3 Polissage + echantillon | J42: Préparation du solvant. Polissage des jus Prise ECH N°10 et 20 par trou d'homme. | X42: =IF(W42="","",YEAR(W42)) | AC42: =IF(AB42="","",YEAR(AB42)) | AH42: =IF(AG42="","",YEAR(AG42)) | AM42: =IF(AL42="","",YEAR(AL42)) | AW42: =IF(AV42="","",YEAR(AV42)) | BB42: =IF(BA42="","",YEAR(BA42)) | BE42: N
A43: Ethanol | B43: =MAX(N43,S43,X43,AC43,AH43,AM43,AR43,AW43,BB43) -> 0 | C43: VLEPi | D43: Non | E43: =IF(AND(C43="non",D43="non"),"non","oui") -> oui | F43: AT1 | G43: Extrait fluide de Phyllantus | H43: 1PHYLL03.doc (29/6/15) | I43: D.1 Précipitation en milieu alcoolique D.3 Traitement des boues précipitées D.5 Dilution D.10 Dilution finale + echantillons | J43: Chargement. Aspiration du surnageant. Prise ECH N°10 et 20. Chargement de l'ETOH sur le surnageant. | X43: =IF(W43="","",YEAR(W43)) | AC43: =IF(AB43="","",YEAR(AB43)) | AH43: =IF(AG43="","",YEAR(AG43)) | AM43: =IF(AL43="","",YEAR(AL43)) | AW43: =IF(AV43="","",YEAR(AV43)) | BB43: =IF(BA43="","",YEAR(BA43)) | BE43: N
A44: Ethanol | B44: =MAX(N44,S44,X44,AC44,AH44,AM44,AR44,AW44,BB44) -> 0 | C44: VLEPi | D44: Non | E44: =IF(AND(C44="non",D44="non"),"non","oui") -> oui | F44: AT1 | G44: Extrait fluide de pivoine G1 | H44: 1PIVOI01.doc (12/6/15) | I44: D.1 Extraction solide/liquide + echantillon | J44: Préparation de la solution d'ETOH. Ouverture trou d'homme cuve pour prise ECH N° 10. Changement poche gaf si colmatage. Prise volume. | X44: =IF(W44="","",YEAR(W44)) | AC44: =IF(AB44="","",YEAR(AB44)) | AH44: =IF(AG44="","",YEAR(AG44)) | AM44: =IF(AL44="","",YEAR(AL44)) | AW44: =IF(AV44="","",YEAR(AV44)) | BB44: =IF(BA44="","",YEAR(BA44)) | BE44: N
A45: Ethanol | B45: =MAX(N45,S45,X45,AC45,AH45,AM45,AR45,AW45,BB45) -> 0 | C45: VLEPi | D45: Non | E45: =IF(AND(C45="non",D45="non"),"non","oui") -> oui | F45: AT1 | G45: Extrait Hydroalc. Ruscus 2%-G1 | H45: 1R2%G11A.doc (22/4/14) | I45: D.2 Dilution + echantillon | J45: Chargement de l'extrait fluide sous vide et par vanne de fond du réacteur. Prise ECH N° 10, 20, 30 et 40. Prise des volumes. Filtration. | X45: =IF(W45="","",YEAR(W45)) | AC45: =IF(AB45="","",YEAR(AB45)) | AH45: =IF(AG45="","",YEAR(AG45)) | AM45: =IF(AL45="","",YEAR(AL45)) | AW45: =IF(AV45="","",YEAR(AV45)) | BB45: =IF(BA45="","",YEAR(BA45)) | BE45: N
A46: Ethanol | B46: =MAX(N46,S46,X46,AC46,AH46,AM46,AR46,AW46,BB46) -> 0 | C46: VLEPi | D46: Non | E46: =IF(AND(C46="non",D46="non"),"non","oui") -> oui | F46: AT1 | G46: Extrait hydroalcoolique de Zanthoxylum Bung | H46: 1ZANTH1A.doc (6/7/12) | I46: D.10 : Passage sur l'éthanol D.11 :Dilution pour maturation D.13 : Standardisation conditionnement + echantillon | J46: Prise ECH N° 10 voir 11 si résultat d'analyse non conforme. ECH N°20, 30, 40. Prise des volumes. | X46: =IF(W46="","",YEAR(W46)) | AC46: =IF(AB46="","",YEAR(AB46)) | AH46: =IF(AG46="","",YEAR(AG46)) | AM46: =IF(AL46="","",YEAR(AL46)) | AW46: =IF(AV46="","",YEAR(AV46)) | BB46: =IF(BA46="","",YEAR(BA46)) | BE46: N
A47: Ethanol | B47: =MAX(N47,S47,X47,AC47,AH47,AM47,AR47,AW47,BB47) -> 0 | C47: VLEPi | D47: Non | E47: =IF(AND(C47="non",D47="non"),"non","oui") -> oui | F47: AT1 | G47: Extrait sec de reine des près G1 | H47: 1REIS101.doc (7/14) | I47: D.5 Stérilisation + echantillon | J47: Prise ECH N° 30. Prise du volumes | X47: =IF(W47="","",YEAR(W47)) | AC47: =IF(AB47="","",YEAR(AB47)) | AH47: =IF(AG47="","",YEAR(AG47)) | AM47: =IF(AL47="","",YEAR(AL47)) | AW47: =IF(AV47="","",YEAR(AV47)) | BB47: =IF(BA47="","",YEAR(BA47)) | BE47: N
A48: Ethanol | B48: =MAX(M48,R48,W48,AB48,AG48,AL48,AQ48,AV48,BA48) -> 0 | C48: VLEPi | D48: Non | E48: =IF(AND(C48="non",D48="non"),"non","oui") -> oui | F48: AT1 | G48: Lierre extrait conc. Pour ext fl. | H48: 1LICON01.doc (10/6/15) | I48: D.1 Dilution D.4 Traitement résidus de collage D.5 Dilution finale + échantillons | J48: Chargement. Prise ECH N°10 à 50. Chargement de l'ETOH sur le surnageant et sur les boues de décantation. Prise de volume. | X48: =IF(W48="","",YEAR(W48)) | AC48: =IF(AB48="","",YEAR(AB48)) | AH48: =IF(AG48="","",YEAR(AG48)) | AM48: =IF(AL48="","",YEAR(AL48)) | AW48: =IF(AV48="","",YEAR(AV48)) | BB48: =IF(BA48="","",YEAR(BA48)) | BE48: N
A49: Ethanol | B49: =MAX(N49,S49,X49,AC49,AH49,AM49,AR49,AW49,BB49) -> 0 | C49: VLEPi | D49: Non | E49: =IF(AND(C49="non",D49="non"),"non","oui") -> oui | F49: AT1 | G49: Mélilot Extrait Fluide N | H49: 1MLILO02.doc (3/7/13) | I49: D.1 Extraction + echantillon | J49: Préparation de la solution d'éthanol eau en réacteur. Prise des volumes. | X49: =IF(W49="","",YEAR(W49)) | AC49: =IF(AB49="","",YEAR(AB49)) | AH49: =IF(AG49="","",YEAR(AG49)) | AM49: =IF(AL49="","",YEAR(AL49)) | AW49: =IF(AV49="","",YEAR(AV49)) | BB49: =IF(BA49="","",YEAR(BA49)) | BE49: N
A50: Ethanol | B50: =MAX(N50,S50,X50,AC50,AH50,AM50,AR50,AW50,BB50) -> 0 | C50: VLEPi | D50: Non | E50: =IF(AND(C50="non",D50="non"),"non","oui") -> oui | F50: AT1 | G50: Piloselle extrait en maturation | H50: 1PILOS02.doc (31/8/12) | I50: D.2 Stabilisation D.3 Dilution + echantillons | J50: L'opérateur charge l'éthanol par la vanne de chargement du réacteur par le biais d'un tricoclair. Prise des volumes. Prise ECH N°10 et 20. | X50: =IF(W50="","",YEAR(W50)) | AC50: =IF(AB50="","",YEAR(AB50)) | AH50: =IF(AG50="","",YEAR(AG50)) | AM50: =IF(AL50="","",YEAR(AL50)) | AW50: =IF(AV50="","",YEAR(AV50)) | BB50: =IF(BA50="","",YEAR(BA50)) | BE50: N
A51: Ethanol | B51: =MAX(N51,S51,X51,AC51,AH51,AM51,AR51,AW51,BB51) -> 0 | C51: VLEPi | D51: Non | E51: =IF(AND(C51="non",D51="non"),"non","oui") -> oui | F51: AT1 | G51: Piloselle Extrait fluide N | H51: 1PILEF1A.doc (6/9/13) | I51: D.2 Aspiration du surnageant D.3 Dilution | J51: Prise des volume. Prise ECH N° 10, 20. Aspiration du surnageant. Réajustement. filtration finale. | X51: =IF(W51="","",YEAR(W51)) | AC51: =IF(AB51="","",YEAR(AB51)) | AH51: =IF(AG51="","",YEAR(AG51)) | AM51: =IF(AL51="","",YEAR(AL51)) | AW51: =IF(AV51="","",YEAR(AV51)) | BB51: =IF(BA51="","",YEAR(BA51)) | BE51: N
A52: Ethanol | B52: =MAX(N52,S52,X52,AC52,AH52,AM52,AR52,AW52,BB52) -> 0 | C52: VLEPi | D52: Non | E52: =IF(AND(C52="non",D52="non"),"non","oui") -> oui | F52: AT1 | G52: Pyroglutamate DMAE Hydroalcoolique | H52: 1pyrog02.doc (25/10/13) | I52: D.4 Dilution | J52: L'opérateur charge l'éthanol par la vanne de chargement du réacteur par le biais d'un tricoclair. Prise volume et échantillons . | X52: =IF(W52="","",YEAR(W52)) | AC52: =IF(AB52="","",YEAR(AB52)) | AH52: =IF(AG52="","",YEAR(AG52)) | AM52: =IF(AL52="","",YEAR(AL52)) | AW52: =IF(AV52="","",YEAR(AV52)) | BB52: =IF(BA52="","",YEAR(BA52)) | BE52: N
A53: Ethanol | B53: =MAX(N53,S53,X53,AC53,AH53,AM53,AR53,AW53,BB53) -> 0 | C53: VLEPi | D53: Non | E53: =IF(AND(C53="non",D53="non"),"non","oui") -> oui | F53: AT1 | G53: TOCOL ST 2 | H53: 1TOCOS1A.doc (28/2/12) | I53: D.7 Passage sur ETOH | J53: Chargement par vanne de fond et réacteur sous vide | X53: =IF(W53="","",YEAR(W53)) | AC53: =IF(AB53="","",YEAR(AB53)) | AH53: =IF(AG53="","",YEAR(AG53)) | AM53: =IF(AL53="","",YEAR(AL53)) | AW53: =IF(AV53="","",YEAR(AV53)) | BB53: =IF(BA53="","",YEAR(BA53)) | BE53: N
A54: Ethanol | B54: =MAX(N54,S54,X54,AC54,AH54,AM54,AR54,AW54,BB54) -> 0 | C54: VLEPi | D54: Non | E54: =IF(AND(C54="non",D54="non"),"non","oui") -> oui | F54: AT1 | G54: Myrte concentrat aqueux code 025232 | H54: 1XSMYRT1A.doc (7/9/15) | I54: D1.4, D2.1 : Extration S/L D3 : Décoloration et maturation | J54: Chargement | N54: =IF(M54="","",YEAR(M54)) | S54: =IF(R54="","",YEAR(R54)) | X54: =IF(W54="","",YEAR(W54)) | AC54: =IF(AB54="","",YEAR(AB54)) | AH54: =IF(AG54="","",YEAR(AG54)) | AM54: =IF(AL54="","",YEAR(AL54)) | AR54: =IF(AQ54="","",YEAR(AQ54)) | AW54: =IF(AV54="","",YEAR(AV54)) | BB54: =IF(BA54="","",YEAR(BA54)) | BE54: N
A55: Hexane | B55: =MAX(N55,S55,X55,AC55,AH55,AM55,AR55,AW55,BB55) -> 0 | C55: VLEPc | D55: 2 | E55: =IF(AND(C55="non",D55="non"),"non","oui") -> oui | F55: AT1 | G55: Concentrat Calendula s/ octylpalmitate | H55: 1CALCO00.doc (12/3/13) | I55: D1:Extraction 1 D3: Extraction 2 D6: Echantillon | J55: Chargement hexane (récup ou neuf) par le bas, récupération des jus hexaniques et cuve | X55: =IF(W55="","",YEAR(W55)) | AC55: =IF(AB55="","",YEAR(AB55)) | AH55: =IF(AG55="","",YEAR(AG55)) | AM55: =IF(AL55="","",YEAR(AL55)) | AW55: =IF(AV55="","",YEAR(AV55)) | BB55: =IF(BA55="","",YEAR(BA55)) | BE55: N
A56: Hexane | B56: =MAX(N56,S56,X56,AC56,AH56,AM56,AR56,AW56,BB56) -> 0 | C56: VLEPc | D56: 2 | E56: =IF(AND(C56="non",D56="non"),"non","oui") -> oui | F56: AT1 | G56: Sérénoa repens | H56: 1SEREN1C.doc (27/8/13) | I56: D1 : Chargement + echantillon F4 Nettoyage | J56: Lors du transfert en cuve mobile SUNCAD | X56: =IF(W56="","",YEAR(W56)) | AC56: =IF(AB56="","",YEAR(AB56)) | AH56: =IF(AG56="","",YEAR(AG56)) | AM56: =IF(AL56="","",YEAR(AL56)) | AW56: =IF(AV56="","",YEAR(AV56)) | BB56: =IF(BA56="","",YEAR(BA56)) | BE56: N
A57: Méthanol | B57: =MAX(M57,R57,W57,AB57,AG57,AL57,AQ57,AV57,BA57) -> 40976 | C57: VLEPc | D57: Non | E57: =IF(AND(C57="non",D57="non"),"non","oui") -> oui | F57: AT1 | G57: TOCOL ST 1 | H57: 1TOCO100.doc (28/2/12) | I57: D6.1 : 1ère reprise méthanol D6.2 : 2ème reprise méthanol D7 : Cristallisation (RI105 affranchi au meoh 100) D.8 : Essorage (ES104 + CS1… affranchi au meoh 100) D.9 : Rempâtage du Tocol Stade 1 non conforme + echantillons | J57: Chargement du MEOH, affranchissement matériels, débatissage ES104 et réempatage du TOCOL humide | K57: Long terme | L57: O | M57: 40976 | N57: =IF(M57="","",YEAR(M57)) -> 2012 | O57: 16.2 | P57: 0.06 | Q57: V | R57: 40976 | S57: =IF(R57="","",YEAR(R57)) -> 2012 | T57: 2 | U57: 0.0076923077 | X57: =IF(W57="","",YEAR(W57)) | AC57: =IF(AB57="","",YEAR(AB57)) | AH57: =IF(AG57="","",YEAR(AG57)) | AM57: =IF(AL57="","",YEAR(AL57)) | AW57: =IF(AV57="","",YEAR(AV57)) | BB57: =IF(BA57="","",YEAR(BA57)) | BE57: N | BG57: 2012 | BJ57: NA
A58: Méthanol | B58: =MAX(N58,S58,X58,AC58,AH58,AM58,AR58,AW58,BB58) -> 0 | C58: VLEPc | D58: Non | E58: =IF(AND(C58="non",D58="non"),"non","oui") -> oui | F58: AT1 | G58: Extrait fluide de Camomille G5 | H58: 1CAMOM1C.doc (7/4/15) | I58: D1, D2 et D3 Extractions échantillons | J58: Chargement | X58: =IF(W58="","",YEAR(W58)) | AC58: =IF(AB58="","",YEAR(AB58)) | AH58: =IF(AG58="","",YEAR(AG58)) | AM58: =IF(AL58="","",YEAR(AL58)) | AW58: =IF(AV58="","",YEAR(AV58)) | BB58: =IF(BA58="","",YEAR(BA58)) | BE58: N
A59: Méthanol | B59: =MAX(N59,S59,X59,AC59,AH59,AM59,AR59,AW59,BB59) -> 0 | C59: VLEPc | D59: Non | E59: oui | F59: AT1 | G59: HMC concentrât aqueux | H59: 1HMCC03.doc (21/9/15) | I59: D.2.1 : Elimination du méthanol
A60: Méthanol | B60: =MAX(M60,R60,W60,AB60,AG60,AL60,AQ60,AV60,BA60) -> 0 | C60: VLEPc | D60: Non | E60: =IF(AND(C60="non",D60="non"),"non","oui") -> oui | F60: AT1 | G60: TOCOL ST 1 | H60: 1TOCO100.doc (28/2/12) | I60: Préparation du MEOH en cuve et prise ECH pour analyse | J60: Prélèvement par trou d'homme | X60: =IF(W60="","",YEAR(W60)) | AC60: =IF(AB60="","",YEAR(AB60)) | AH60: =IF(AG60="","",YEAR(AG60)) | AM60: =IF(AL60="","",YEAR(AL60)) | AW60: =IF(AV60="","",YEAR(AV60)) | BB60: =IF(BA60="","",YEAR(BA60)) | BE60: N
A61: Méthanol | B61: =MAX(M61,R61,W61,AB61,AG61,AL61,AQ61,AV61,BA61) -> 0 | C61: VLEPc | D61: Non | E61: =IF(AND(C61="non",D61="non"),"non","oui") -> oui | F61: AT1 | G61: Extrait purifié de centella | H61: 2CENTE1A.doc | I61: D1 : Chargement des solvants D2 : Préparation colonne + echantillon D3.2 : Nettoyage réacteur et filtre D11 : Débatissage de la colonne D12 : Recyclage solvant D13 : Nettoyage fin de campagne | J61: Chargement, Nettoyage | X61: =IF(W61="","",YEAR(W61)) | AC61: =IF(AB61="","",YEAR(AB61)) | AH61: =IF(AG61="","",YEAR(AG61)) | AM61: =IF(AL61="","",YEAR(AL61)) | AR61: =IF(AQ61="","",YEAR(AQ61)) | AW61: =IF(AV61="","",YEAR(AV61)) | BB61: =IF(BA61="","",YEAR(BA61)) | BE61: N
A62: Méthanol | B62: =MAX(R57,R62,W62,AB62,AG62,AL62,AQ62,AV62,BA62) -> 40976 | C62: VLEPc | D62: Non | E62: =IF(AND(C62="non",D62="non"),"non","oui") -> oui | F62: AT1 | G62: TOCOL ST 1 | H62: 1TOCO100.doc (28/2/12) | I62: D6.1 : 1ère reprise méthanol D6.2 : 2ème reprise méthanol D7 : Cristallisation (RI105 affranchi au meoh 100) D.8 : Essorage (ES104 + CS1… affranchi au meoh 100) D.9 : Rempâtage du Tocol Stade 1 non conforme + echantillons | J62: Chargement du MEOH, affranchissement matériels, débatissage ES104 et réempatage du TOCOL humide | AH62: =IF(AG62="","",YEAR(AG62)) | AM62: =IF(AL62="","",YEAR(AL62)) | AW62: =IF(AV62="","",YEAR(AV62)) | BB62: =IF(BA62="","",YEAR(BA62)) | BE62: N | BG62: 2012 | BJ62: NA
A63: Méthanol | B63: =MAX(M63,R63,W63,AB63,AG63,AL63,AQ63,AV63,BA63) -> 0 | C63: VLEPc | D63: Non | E63: =IF(AND(C63="non",D63="non"),"non","oui") -> oui | F63: AT1 | G63: TOCOL ST 1 | H63: 1TOCO100.doc (28/2/12) | I63: D.8 Essorage | J63: Chargement. | X63: =IF(W63="","",YEAR(W63)) | AC63: =IF(AB63="","",YEAR(AB63)) | AH63: =IF(AG63="","",YEAR(AG63)) | AM63: =IF(AL63="","",YEAR(AL63)) | AW63: =IF(AV63="","",YEAR(AV63)) | BB63: =IF(BA63="","",YEAR(BA63)) | BE63: N
A64: Méthanol | B64: =MAX(M64,R64,W64,AB64,AG64,AL64,AQ64,AV64,BA64) -> 0 | C64: VLEPc | D64: Non | E64: =IF(AND(C64="non",D64="non"),"non","oui") -> oui | F64: AT1 | G64: TOCOL ST 1 | H64: 1TOCO100.doc (28/2/12) | I64: D.9 Reempatage | J64: Ouverture éssoreuse | X64: =IF(W64="","",YEAR(W64)) | AC64: =IF(AB64="","",YEAR(AB64)) | AH64: =IF(AG64="","",YEAR(AG64)) | AM64: =IF(AL64="","",YEAR(AL64)) | AW64: =IF(AV64="","",YEAR(AV64)) | BB64: =IF(BA64="","",YEAR(BA64)) | BE64: N
A65: Méthanol | B65: =MAX(M65,R65,W65,AB65,AG65,AL65,AQ65,AV65,BA65) -> 0 | C65: VLEPc | D65: Non | E65: =IF(AND(C65="non",D65="non"),"non","oui") -> oui | F65: AT1 | G65: TOCOL ST 2 | H65: 1TOCOS1A.doc (28/2/12) | I65: D.2 Mise en solution | J65: Chargement du TOCOL ST 1 | X65: =IF(W65="","",YEAR(W65)) | AC65: =IF(AB65="","",YEAR(AB65)) | AH65: =IF(AG65="","",YEAR(AG65)) | AM65: =IF(AL65="","",YEAR(AL65)) | AW65: =IF(AV65="","",YEAR(AV65)) | BB65: =IF(BA65="","",YEAR(BA65)) | BE65: N
A66: Méthanol | B66: =MAX(M66,R66,W66,AB66,AG66,AL66,AQ66,AV66,BA66) -> 0 | C66: VLEPc | D66: Non | E66: =IF(AND(C66="non",D66="non"),"non","oui") -> oui | F66: AT1 | G66: TOCOL ST 2 | H66: 1TOCOS1A.doc (28/2/12) | I66: D.3 Dilution | J66: Chargement pour dilution | X66: =IF(W66="","",YEAR(W66)) | AC66: =IF(AB66="","",YEAR(AB66)) | AH66: =IF(AG66="","",YEAR(AG66)) | AM66: =IF(AL66="","",YEAR(AL66)) | AW66: =IF(AV66="","",YEAR(AV66)) | BB66: =IF(BA66="","",YEAR(BA66)) | BE66: N
A67: Méthanol | B67: =MAX(M67,R67,W67,AB67,AG67,AL67,AQ67,AV67,BA67) -> 0 | C67: VLEPc | D67: Non | E67: =IF(AND(C67="non",D67="non"),"non","oui") -> oui | F67: AT1 | G67: TOCOL ST 2 | H67: 1TOCOS1A.doc (28/2/12) | I67: D3 : Dilution + echantillon | J67: Chargement + échantillon | X67: =IF(W67="","",YEAR(W67)) | AC67: =IF(AB67="","",YEAR(AB67)) | AH67: =IF(AG67="","",YEAR(AG67)) | AM67: =IF(AL67="","",YEAR(AL67)) | AW67: =IF(AV67="","",YEAR(AV67)) | BB67: =IF(BA67="","",YEAR(BA67)) | BE67: N
A68: n- heptane | B68: =MAX(M68,R68,W68,AB68,AG68,AL68,AQ68,AV68,BA68) -> 0 | C68: VLEPc | D68: Non | E68: =IF(AND(C68="non",D68="non"),"non","oui") -> oui | F68: AT1 | G68: Extrait hydroalcoolique de Zanthoxylum Bung | H68: 1ZANTH1A.doc (6/7/12) | I68: D2, D4 et D6 : Extraction D9 : Concentration | J68: Chargement par le trou d'homme du réacteur ou de la cuve | X68: =IF(W68="","",YEAR(W68)) | AC68: =IF(AB68="","",YEAR(AB68)) | AH68: =IF(AG68="","",YEAR(AG68)) | AM68: =IF(AL68="","",YEAR(AL68)) | AW68: =IF(AV68="","",YEAR(AV68)) | BB68: =IF(BA68="","",YEAR(BA68)) | BE68: N
A69: NH3 | B69: =MAX(M69,R69,W69,AB69,AG69,AL69,AQ69,AV69,BA69) -> 0 | C69: Non | D69: Non | E69: =IF(AND(C69="non",D69="non"),"non","oui") -> non | F69: AT1 | G69: HMC concentrât aqueux | H69: 1HMCC03.doc (21/9/15) | I69: D.4.4 Ajustement du pH | J69: L'opérateur charge par le trou d'homme l'ammoniaque | X69: =IF(W69="","",YEAR(W69)) | AC69: =IF(AB69="","",YEAR(AB69)) | AH69: =IF(AG69="","",YEAR(AG69)) | AM69: =IF(AL69="","",YEAR(AL69)) | AW69: =IF(AV69="","",YEAR(AV69)) | BB69: =IF(BA69="","",YEAR(BA69)) | BE69: N
A70: Pentanol | B70: =MAX(M70,R70,W70,AB70,AG70,AL70,AQ70,AV70,BA70) -> 0 | C70: Non | D70: Non | E70: =IF(AND(C70="non",D70="non"),"non","oui") -> non | F70: AT1 | G70: Pentyl rhamnoside | H70: 1ALKYR1A,doc (15/7/15) | I70: D.1.1 Chargement | J70: Chargement par vanne de fond et réacteur sous vide | X70: =IF(W70="","",YEAR(W70)) | AC70: =IF(AB70="","",YEAR(AB70)) | AH70: =IF(AG70="","",YEAR(AG70)) | AM70: =IF(AL70="","",YEAR(AL70)) | AW70: =IF(AV70="","",YEAR(AV70)) | BB70: =IF(BA70="","",YEAR(BA70)) | BE70: N
A71: Pentanol | B71: =MAX(M71,R71,W71,AB71,AG71,AL71,AQ71,AV71,BA71) -> 0 | C71: Non | D71: Non | E71: =IF(AND(C71="non",D71="non"),"non","oui") -> non | F71: AT1 | G71: Pentyl rhamnoside | H71: 1ALKYR1A.doc (15/7/15) | I71: D.3.2 à D.3.7 liq/liq et soutirage vers cuve avant transfert en SUNCAD | J71: Prise des volumes | X71: =IF(W71="","",YEAR(W71)) | AC71: =IF(AB71="","",YEAR(AB71)) | AH71: =IF(AG71="","",YEAR(AG71)) | AM71: =IF(AL71="","",YEAR(AL71)) | AW71: =IF(AV71="","",YEAR(AV71)) | BB71: =IF(BA71="","",YEAR(BA71)) | BE71: N
A72: Soude liquide 30,5% | B72: =MAX(M72,R72,W72,AB72,AG72,AL72,AQ72,AV72,BA72) -> 0 | C72: Non | D72: Non | E72: =IF(AND(C72="non",D72="non"),"non","oui") -> non | F72: AT1 | G72: HMC concentrât aqueux | H72: 1HMCC03.doc (21/9/15) | I72: D.1.4 Stabilisation du milieu réactionnel | J72: Lors de l'ouverture et fermeture du bidon | X72: =IF(W72="","",YEAR(W72)) | AC72: =IF(AB72="","",YEAR(AB72)) | AH72: =IF(AG72="","",YEAR(AG72)) | AM72: =IF(AL72="","",YEAR(AL72)) | AW72: =IF(AV72="","",YEAR(AV72)) | BB72: =IF(BA72="","",YEAR(BA72)) | BE72: N
A73: Spindalite | B73: =MAX(M73,R73,W73,AB73,AG73,AL73,AQ73,AV73,BA73) -> 0 | C73: Non | D73: 2 | E73: =IF(AND(C73="non",D73="non"),"non","oui") -> oui | F73: AT1 | G73: Concentrat aqueux de Caroube retraitement | H73: INST_GAI_0109.doc (9/9/15) | I73: D.2 : Filtration | J73: Chargement 5kg dans le milieu
A74: Spindalite | B74: =MAX(M74,R74,W74,AB74,AG74,AL74,AQ74,AV74,BA74) -> 0 | C74: Non | D74: 2 | E74: oui | F74: AT1 | G74: DL Leucine en solution sodée | H74: 1DLLEU03.doc (19/5/15) | I74: D.2 : Dissolution | J74: Chargement dans le réacteur sous agitation
A75: Spindalite | B75: =MAX(M75,R75,W75,AB75,AG75,AL75,AQ75,AV75,BA75) -> 0 | C75: Non | D75: 2 | E75: =IF(AND(C75="non",D75="non"),"non","oui") -> oui | F75: AT1 | G75: DL Leucine en solution sodée | H75: 1DLLEU03.doc (19/5/15) | I75: D.2 : Dissolution | J75: Chargement dans le réacteur sous agitation
A76: Spindalite | B76: =MAX(M76,R76,W76,AB76,AG76,AL76,AQ76,AV76,BA76) -> 0 | C76: Non | D76: 2 | E76: =IF(AND(C76="non",D76="non"),"non","oui") -> oui | F76: AT1 | G76: Ext.lip.de soja | H76: 1LISOJ1A.doc (10/6/15) | I76: D.8 Filtration | J76: Chargement par trou d'homme | X76: =IF(W76="","",YEAR(W76)) | AC76: =IF(AB76="","",YEAR(AB76)) | AH76: =IF(AG76="","",YEAR(AG76)) | AM76: =IF(AL76="","",YEAR(AL76)) | AW76: =IF(AV76="","",YEAR(AV76)) | BB76: =IF(BA76="","",YEAR(BA76)) | BE76: N
A77: Spindalite | B77: =MAX(M77,R77,W77,AB77,AG77,AL77,AQ77,AV77,BA77) -> 0 | C77: Non | D77: 2 | E77: =IF(AND(C77="non",D77="non"),"non","oui") -> oui | F77: AT1 | G77: Extrait d'ortie dioique tween | H77: 1ORTDI1A.doc (06/15) | I77: D6 : Filtration finale | J77: Chargement par le trou d'homme du réacteur ou de la cuve | X77: =IF(W77="","",YEAR(W77)) | AC77: =IF(AB77="","",YEAR(AB77)) | AH77: =IF(AG77="","",YEAR(AG77)) | AM77: =IF(AL77="","",YEAR(AL77)) | AW77: =IF(AV77="","",YEAR(AV77)) | BB77: =IF(BA77="","",YEAR(BA77)) | BE77: N
A78: Spindalite | B78: =MAX(M78,R78,W78,AB78,AG78,AL78,AQ78,AV78,BA78) -> 0 | C78: Non | D78: 2 | E78: =IF(AND(C78="non",D78="non"),"non","oui") -> oui | F78: AT1 | G78: Extrait fluide de bourgeons de peuplier | H78: 1EFBPE1A.doc (18/9/15) | I78: D3 : Polissage | J78: Chargement par le trou d'homme du réacteur ou de la cuve | X78: =IF(W78="","",YEAR(W78)) | AC78: =IF(AB78="","",YEAR(AB78)) | AH78: =IF(AG78="","",YEAR(AG78)) | AM78: =IF(AL78="","",YEAR(AL78)) | AW78: =IF(AV78="","",YEAR(AV78)) | BB78: =IF(BA78="","",YEAR(BA78)) | BE78: N
A79: Spindalite | B79: =MAX(M79,R79,W79,AB79,AG79,AL79,AQ79,AV79,BA79) -> 0 | C79: Non | D79: 2 | E79: =IF(AND(C79="non",D79="non"),"non","oui") -> oui | F79: AT1 | G79: Extrait fluide de lierre D0,05-0,3 | H79: 1LIERD1A.doc (16/2/15) | I79: D2 : Filtration | J79: Chargement par le trou d'homme du réacteur ou de la cuve | X79: =IF(W79="","",YEAR(W79)) | AC79: =IF(AB79="","",YEAR(AB79)) | AH79: =IF(AG79="","",YEAR(AG79)) | AM79: =IF(AL79="","",YEAR(AL79)) | AW79: =IF(AV79="","",YEAR(AV79)) | BB79: =IF(BA79="","",YEAR(BA79)) | BE79: N
A80: Spindalite | B80: =MAX(M80,R80,W80,AB80,AG80,AL80,AQ80,AV80,BA80) -> 0 | C80: Non | D80: 2 | E80: =IF(AND(C80="non",D80="non"),"non","oui") -> oui | F80: AT1 | G80: Extrait fluide de Myrte G1 | H80: 1MYRTE01.doc (06/15) | I80: D7 : Filtration finale | J80: Chargement par le trou d'homme du réacteur ou de la cuve | X80: =IF(W80="","",YEAR(W80)) | AC80: =IF(AB80="","",YEAR(AB80)) | AH80: =IF(AG80="","",YEAR(AG80)) | AM80: =IF(AL80="","",YEAR(AL80)) | AW80: =IF(AV80="","",YEAR(AV80)) | BB80: =IF(BA80="","",YEAR(BA80)) | BE80: N
A81: Spindalite | B81: =MAX(M81,R81,W81,AB81,AG81,AL81,AQ81,AV81,BA81) -> 0 | C81: Non | D81: 2 | E81: =IF(AND(C81="non",D81="non"),"non","oui") -> oui | F81: AT1 | G81: Extrait fluide de Myrte G1 | H81: 1MYRTE01.doc (06/15) | I81: D3 : Polisage | J81: Chargement par le trou d'homme du réacteur ou de la cuve | X81: =IF(W81="","",YEAR(W81)) | AC81: =IF(AB81="","",YEAR(AB81)) | AH81: =IF(AG81="","",YEAR(AG81)) | AM81: =IF(AL81="","",YEAR(AL81)) | AW81: =IF(AV81="","",YEAR(AV81)) | BB81: =IF(BA81="","",YEAR(BA81)) | BE81: N
A82: Spindalite | B82: =MAX(M82,R82,W82,AB82,AG82,AL82,AQ82,AV82,BA82) -> 0 | C82: Non | D82: 2 | E82: =IF(AND(C82="non",D82="non"),"non","oui") -> oui | F82: AT1 | G82: Extrait fluide de Phyllantus | H82: 1PHYLL03.doc (29/6/15) | I82: D12 : Filtration | J82: Chargement par le trou d'homme du réacteur ou de la cuve | X82: =IF(W82="","",YEAR(W82)) | AC82: =IF(AB82="","",YEAR(AB82)) | AH82: =IF(AG82="","",YEAR(AG82)) | AM82: =IF(AL82="","",YEAR(AL82)) | AW82: =IF(AV82="","",YEAR(AV82)) | BB82: =IF(BA82="","",YEAR(BA82)) | BE82: N
A83: Spindalite | B83: =MAX(M83,R83,W83,AB83,AG83,AL83,AQ83,AV83,BA83) -> 0 | C83: Non | D83: 2 | E83: =IF(AND(C83="non",D83="non"),"non","oui") -> oui | F83: AT1 | G83: Extrait fluide de pivoine G1 | H83: 1PIVOI01.doc (06/15) | I83: D3 : Polisage | J83: Chargement par le trou d'homme du réacteur ou de la cuve | X83: =IF(W83="","",YEAR(W83)) | AC83: =IF(AB83="","",YEAR(AB83)) | AH83: =IF(AG83="","",YEAR(AG83)) | AM83: =IF(AL83="","",YEAR(AL83)) | AW83: =IF(AV83="","",YEAR(AV83)) | BB83: =IF(BA83="","",YEAR(BA83)) | BE83: N
A84: Spindalite | B84: =MAX(M84,R84,W84,AB84,AG84,AL84,AQ84,AV84,BA84) -> 0 | C84: Non | D84: 2 | E84: =IF(AND(C84="non",D84="non"),"non","oui") -> oui | F84: AT1 | G84: Extrait hydroalc. Racines de pfaffia | H84: 1PFAFF1A.doc (08/9/15) | I84: D.5 : Filtration à froid | J84: Chargement par le trou d'homme du réacteur ou de la cuve
A85: Spindalite | B85: =MAX(M85,R85,W85,AB85,AG85,AL85,AQ85,AV85,BA85) -> 0 | C85: Non | D85: 2 | E85: =IF(AND(C85="non",D85="non"),"non","oui") -> oui | F85: AT1 | G85: Extrait Hydroalc. Ruscus 2%-G1 | H85: 1R2%G11A.doc (22/4/14) | I85: D4 : Filtration finale | J85: Chargement par le trou d'homme du réacteur ou de la cuve | X85: =IF(W85="","",YEAR(W85)) | AC85: =IF(AB85="","",YEAR(AB85)) | AH85: =IF(AG85="","",YEAR(AG85)) | AM85: =IF(AL85="","",YEAR(AL85)) | AW85: =IF(AV85="","",YEAR(AV85)) | BB85: =IF(BA85="","",YEAR(BA85)) | BE85: N
A86: Spindalite | B86: =MAX(M86,R86,W86,AB86,AG86,AL86,AQ86,AV86,BA86) -> 0 | C86: Non | D86: 2 | E86: =IF(AND(C86="non",D86="non"),"non","oui") -> oui | F86: AT1 | G86: Extrait lipidique de Cyperus esculentus | H86: XCYPER1A (20/4/15) | I86: D.4 : Filtration | J86: Nourriture du milieu par 10g/L de spindalite
A87: Spindalite | B87: =MAX(M87,R87,W87,AB87,AG87,AL87,AQ87,AV87,BA87) -> 0 | C87: Non | D87: 2 | E87: =IF(AND(C87="non",D87="non"),"non","oui") -> oui | F87: AT1 | G87: Extrait lipidique de soja PEG | H87: 1LISOJ1A.doc (10/6/15) | I87: D7 : Préparation du RI 105 ou Ri 106 D8 : Filtration D13.2 : Retraitement NC bactério et NC points noirs en D13.1 | J87: Chargement par le trou d'homme du réacteur ou de la cuve | X87: =IF(W87="","",YEAR(W87)) | AC87: =IF(AB87="","",YEAR(AB87)) | AH87: =IF(AG87="","",YEAR(AG87)) | AM87: =IF(AL87="","",YEAR(AL87)) | AW87: =IF(AV87="","",YEAR(AV87)) | BB87: =IF(BA87="","",YEAR(BA87)) | BE87: N
A88: Spindalite | B88: =MAX(M88,R88,W88,AB88,AG88,AL88,AQ88,AV88,BA88) -> 0 | C88: Non | D88: 2 | E88: =IF(AND(C88="non",D88="non"),"non","oui") -> oui | F88: AT1 | G88: Mélilot Extrait Fluide N | H88: 1MLILO02.doc (07/15) | I88: D5 : Filtration D10 : Filtration D12 : Filtration finale | J88: Chargement par le trou d'homme du réacteur ou de la cuve | X88: =IF(W88="","",YEAR(W88)) | AC88: =IF(AB88="","",YEAR(AB88)) | AH88: =IF(AG88="","",YEAR(AG88)) | AM88: =IF(AL88="","",YEAR(AL88)) | AW88: =IF(AV88="","",YEAR(AV88)) | BB88: =IF(BA88="","",YEAR(BA88)) | BE88: N
A89: Spindalite | B89: =MAX(M89,R89,W89,AB89,AG89,AL89,AQ89,AV89,BA89) -> 0 | C89: Non | D89: 2 | E89: =IF(AND(C89="non",D89="non"),"non","oui") -> oui | F89: AT1 | G89: Myrte concentrât aqueux | H89: XSMYRT1A.doc (8/9/15) | I89: D.3 : Décoloration et maturation | J89: Chargement par le trou d'homme du réacteur ou de la cuve
A90: TBME | B90: =MAX(M90,R90,W90,AB90,AG90,AL90,AQ90,AV90,BA90) -> 41227 | C90: VLEPc | D90: Non | E90: =IF(AND(C90="non",D90="non"),"non","oui") -> oui | F90: AT1 | G90: Ext.lip.de soja | H90: 1LISOJ1A.doc (10/6/15) | I90: D.3 Chargement pour liq/liq A D14 Analyse TBME Recyclé | J90: Chargement TBME | K90: Long terme | L90: O | M90: 41227 | N90: 2012 | O90: 21.5 | P90: 0.12 | X90: =IF(W90="","",YEAR(W90)) | AC90: =IF(AB90="","",YEAR(AB90)) | AH90: =IF(AG90="","",YEAR(AG90)) | AM90: =IF(AL90="","",YEAR(AL90)) | AW90: =IF(AV90="","",YEAR(AV90)) | BB90: =IF(BA90="","",YEAR(BA90)) | BE90: N
A91: TBME | B91: =MAX(M91,R91,W91,AB91,AG91,AL91,AQ91,AV91,BA91) -> 0 | C91: VLEPc | D91: Non | E91: =IF(AND(C91="non",D91="non"),"non","oui") -> oui | F91: AT1 | G91: CH0341 S1.1 PA 102 Acétate (étape 3) | H91: 1341E31A.doc (20/8/15) | I91: D.2.1 : Traitement liquide/liquide, chargement | J91: Inertage RE108, charger TBME
A92: TBME | B92: =MAX(M92,R92,W92,AB92,AG92,AL92,AQ92,AV92,BA92) -> 0 | C92: VLEPc | D92: Non | E92: oui | F92: AT1 | G92: Extrait lipidique de soja PEG | H92: 1LISOJ1A.doc (10/7/15) | I92: D.3, D.4 : Extraction liquide/liquide, D.7 : Préparation du RI105, D.8 : Filtration | J92: Chargement TBME (avec filtre en D7), débatissage du filtre
A93: Toluène | B93: =MAX(M93,R93,W93,AB93,AG93,AL93,AQ93,AV93,BA93) -> 0 | C93: VLEPc | D93: 2 | E93: =IF(AND(C93="non",D93="non"),"non","oui") -> oui | F93: AT1 | G93: Acétoxyoctanol CH0341 S1,3 étape 1 | H93: 1341AC1A.doc (1/9/15) | I93: D.1 : Chargement en RE108 à 20 °C | J93: Chargement de toluène et acide sulfurique
A94: Toluène | B94: =MAX(M94,R94,W94,AB94,AG94,AL94,AQ94,AV94,BA94) -> 0 | C94: VLEPc | D94: 2 | E94: =IF(AND(C94="non",D94="non"),"non","oui") -> oui | F94: AT1 | G94: CH0294 APRC11 purifié | H94: 1APRPU1A.doc (12/5/15) | I94: D.2.1 : Solvants neufs ou recyclés | J94: Préparation solution éluante B, rinçage cuve. Elution 7,5 L/h
A95: Toluène | B95: =MAX(M95,R95,W95,AB95,AG95,AL95,AQ95,AV95,BA95) -> 0 | D95: 2 | E95: =IF(AND(C95="non",D95="non"),"non","oui") -> oui | F95: AT1 | G95: Diolénique C8 CH0406 | H95: KDIOC81A-02 (20/6/15) | I95: H.1.1 : Chargement des matières premières H.2.1 : Filtration du milieu et polissage | J95: Chargement de tolène, évaporation. Désolvantation résiduelle par bullage azote

Sheet Feuil1
A1: Substance unique | B1: Dernière mesure | C1: VLEP | D1: CMR | E1: ADC prioritaire | F1: Atelier | I1: exemple de rechercheV
A2: Acide sulfurique | B2: =MAX(#REF!,R2,W2,AB2,AG2,AL2,AQ2,AV2,BA2) -> #REF! | C2: VLEPi | D2: Non | E2: =IF(AND(C2="non",D2="non"),"non","oui") -> oui | F2: AT1
A3: 1,4-Dioxane | B3: =MAX(M3,R3,W3,AB3,AG3,AL3,AQ3,AV3,BA3) -> 0 | C3: VLEPc | D3: 2 | E3: =IF(AND(C3="non",D3="non"),"non","oui") -> oui | F3: AT1 | J3: VLEP | K3: Atelier
A4: 3 nicométhanol | B4: =MAX(M4,R4,W4,AB4,AG4,AL4,AQ4,AV4,BA4) -> 0 | C4: Non | D4: Non | E4: =IF(AND(C4="non",D4="non"),"non","oui") -> non | F4: AT1 | I4: Acide acétique | J4: =VLOOKUP(I4,$A$1:$F$25,3,FALSE) -> Non-testvlep | K4: =VLOOKUP(I4,$A$1:$F$25,6,FALSE) -> TEST
A5: Acétate d'éthyle | B5: =MAX(M5,R5,W5,AB5,AG5,AL5,AQ5,AV5,BA5) -> 0 | C5: Non | D5: Non | E5: non | F5: AT1 | I5: Acétonitrile | J5: =VLOOKUP(I5,$A$1:$F$25,3,FALSE) -> VLEPc | K5: =VLOOKUP(I5,$A$1:$F$25,6,FALSE) -> AT1-test
A6: Acétonitrile | B6: =MAX(M6,R6,W6,AB6,AG6,AL6,AQ6,AV6,BA6) -> 0 | C6: VLEPc | D6: Non test | E6: =IF(AND(C6="non",D6="non"),"non","oui") -> oui | F6: AT1-test | I6: CH2CL2 | J6: =VLOOKUP(I6,$A$1:$F$25,3,FALSE) -> TEST | K6: =VLOOKUP(I6,$A$1:$F$25,6,FALSE) -> AT1
A7: Acide acétique | B7: =MAX(M7,R7,W7,AB7,AG7,AL7,AQ7,AV7,BA7) -> 0 | C7: Non-testvlep | D7: Non test | E7: =IF(AND(C7="non",D7="non"),"non","oui") -> oui | F7: TEST
A8: Acide chlorhydrique | B8: =MAX(M8,R8,W8,AB8,AG8,AL8,AQ8,AV8,BA8) -> 0 | C8: VLEPc | D8: Non | E8: =IF(AND(C8="non",D8="non"),"non","oui") -> oui | F8: AT1 | I8: exemple de index/equiv | J8: VLEP | K8: Atelier | L8: cmr
A9: Acide Fluorhydrique | B9: =MAX(M9,R9,W9,AB9,AG9,AL9,AQ9,AV9,BA9) -> 0 | C9: VLEPc | D9: Non | E9: =IF(AND(C9="non",D9="non"),"non","oui") -> oui | F9: AT1 | I9: Acide acétique | J9: =INDEX(VLEP,MATCH($I9,Substance_unique,0)) -> Non-testvlep | K9: =INDEX(Atelier,MATCH($I9,Substance_unique,0)) -> TEST | L9: =INDEX(CMR,MATCH($I9,Substance_unique,0)) -> Non test
A10: Acide Phosphorique | B10: =MAX(M10,R10,W10,AB10,AG10,AL10,AQ10,AV10,BA10) -> 0 | C10: Non | D10: Non | E10: =IF(AND(C10="non",D10="non"),"non","oui") -> non | F10: AT1 | I10: Acétonitrile | J10: =INDEX(VLEP,MATCH($I10,Substance_unique,0)) -> VLEPc | K10: =INDEX(Atelier,MATCH($I10,Substance_unique,0)) -> AT1-test | L10: =INDEX(CMR,MATCH($I10,Substance_unique,0)) -> Non test
A11: Acide pyroglutamique | B11: =MAX(M11,R11,W11,AB11,AG11,AL11,AQ11,AV11,BA11) -> 0 | C11: Non | D11: Non | E11: =IF(AND(C11="non",D11="non"),"non","oui") -> non | F11: AT1 | I11: DMAE | J11: =INDEX(VLEP,MATCH($I11,Substance_unique,0)) -> Non | K11: =INDEX(Atelier,MATCH($I11,Substance_unique,0)) -> AT1 | L11: =INDEX(CMR,MATCH($I11,Substance_unique,0)) -> TEST CMR
A12: aldéhyde salicylique | B12: =MAX(M12,R12,W12,AB12,AG12,AL12,AQ12,AV12,BA12) -> 0 | C12: Non | D12: Non | E12: =IF(AND(C12="non",D12="non"),"non","oui") -> non | F12: AT1
A13: CH2CL2 | B13: =MAX(M13,R13,W13,AB13,AG13,AL13,AQ13,AV13,BA13) -> 0 | C13: TEST | D13: 2 | E13: =IF(AND(C13="non",D13="non"),"non","oui") -> oui | F13: AT1
A14: DMAE | B14: =MAX(M14,R14,W14,AB14,AG14,AL14,AQ14,AV14,BA14) -> 0 | C14: Non | D14: TEST CMR | E14: =IF(AND(C14="non",D14="non"),"non","oui") -> oui | F14: AT1
A15: Ethanol | B15: =MAX(M15,S15,W15,AB15,AG15,AL15,AQ15,AV15,BA15) -> 0 | C15: VLEPi | D15: Non | E15: =IF(AND(C15="non",D15="non"),"non","oui") -> oui | F15: AT1
A16: Hexane | B16: =MAX(N16,S16,X16,AC16,AH16,AM16,AR16,AW16,BB16) -> 0 | C16: VLEPc | D16: 2 | E16: =IF(AND(C16="non",D16="non"),"non","oui") -> oui | F16: AT1
A17: Méthanol | B17: =MAX(M17,R17,W17,AB17,AG17,AL17,AQ17,AV17,BA17) -> 0 | C17: VLEPc | D17: Non | E17: =IF(AND(C17="non",D17="non"),"non","oui") -> oui | F17: AT1
A18: Méthanol | B18: =MAX(M18,R18,W18,AB18,AG18,AL18,AQ18,AV18,BA18) -> 0 | C18: VLEPc | D18: Non | E18: =IF(AND(C18="non",D18="non"),"non","oui") -> oui | F18: AT1
A19: n- heptane | B19: =MAX(M19,R19,W19,AB19,AG19,AL19,AQ19,AV19,BA19) -> 0 | C19: VLEPc | D19: Non | E19: =IF(AND(C19="non",D19="non"),"non","oui") -> oui | F19: AT1
A20: NH3 | B20: =MAX(M20,R20,W20,AB20,AG20,AL20,AQ20,AV20,BA20) -> 0 | C20: Non | D20: Non | E20: =IF(AND(C20="non",D20="non"),"non","oui") -> non | F20: AT1
A21: Pentanol | B21: =MAX(M21,R21,W21,AB21,AG21,AL21,AQ21,AV21,BA21) -> 0 | C21: Non | D21: Non | E21: =IF(AND(C21="non",D21="non"),"non","oui") -> non | F21: AT1
A22: Soude liquide 30,5% | B22: =MAX(M22,R22,W22,AB22,AG22,AL22,AQ22,AV22,BA22) -> 0 | C22: Non | D22: Non | E22: =IF(AND(C22="non",D22="non"),"non","oui") -> non | F22: AT1
A23: Spindalite | B23: =MAX(M23,R23,W23,AB23,AG23,AL23,AQ23,AV23,BA23) -> 0 | C23: Non | D23: 2 | E23: =IF(AND(C23="non",D23="non"),"non","oui") -> oui | F23: AT1
A24: TBME | B24: =MAX(M24,R24,W24,AB24,AG24,AL24,AQ24,AV24,BA24) -> 0 | C24: VLEPc | D24: Non | E24: =IF(AND(C24="non",D24="non"),"non","oui") -> oui | F24: AT1
A25: Toluène | B25: =MAX(M25,R25,W25,AB25,AG25,AL25,AQ25,AV25,BA25) -> 0 | C25: VLEPc | D25: 2 | E25: =IF(AND(C25="non",D25="non"),"non","oui") -> oui | F25: AT1
A95: Toluène | B95: =MAX(M95,R95,W95,AB95,AG95,AL95,AQ95,AV95,BA95) -> 0 | D95: 2 | E95: =IF(AND(C95="non",D95="non"),"non","oui") -> oui | F95: AT1
