Workbook
Name Acétaéthyl: '[1]Plan complet'!$G$12:$G$13
Name Acidchlo: '[1]Plan complet'!$G$15:$G$16
Name Acidpyro: '[1]Plan complet'!$G$17:$G$18
Name ADC_prioritaire: Feuil1!$E$2:$E$25
Name Atelier: Feuil1!$F$2:$F$25
Name Ch2Cl2AT1: '[1]Plan complet'!$G$24:$G$29
Name CMR: Feuil1!$D$2:$D$25
Name Dernière_mesure: Feuil1!$B$2:$B$25
Name DioxHMC: '[1]Plan complet'!$G$4:$G$9
Name Ethan1: '[1]Plan complet'!$G$31:$G$54
Name MeOHAT1: '[1]Plan complet'!$G$57:$G$67
Name Spind: '[1]Plan complet'!$G$71:$G$88
Name Substance_unique: Feuil1!$A$2:$A$25
Name TBME: '[1]Plan complet'!$G$90:$G$92
Name VLEP: Feuil1!$C$2:$C$25

Sheet Test Synthèse
A1: Substance | B1: Dernière mesure | C1: VLEP | D1: CMR | E1: ADC prioritaire | F1: Atelier | G1: Nom Produit | H1: Code produit (dernière révision) | I1: Evaluation des risques (Chapitres concernés) | J1: Phase à risque global | K1: Court terme Long terme | L1: Type de mesure O/V/A | M1: Date de la mesure 1 | N1: Année de la mesure | O1: mesure 1 (mg/m3) | P1: ratio (%) | Q1: Type de mesure O/V/A | R1: Date de la mesure 2 | S1: Année de la mesure | T1: mesure 2 (mg/m3) | U1: ratio (%) | V1: Type de mesure O/V/A | W1: Date de la mesure 3 | X1: Année de la mesure | Y1: mesure 3 (mg/m3) | Z1: ratio (%) | AA1: Type de mesure O/V/A | AB1: Date de la mesure 4 | AC1: Année de la mesure | AD1: mesure 4 (mg/m3) | AE1: ratio (%) | AF1: Type de mesure O/V/A | AG1: Date de la mesure 5 | AH1: Année de la mesure | AI1: mesure 5 (mg/m3) | AJ1: ratio (%) | AK1: Type de mesure O/V/A | AL1: Date de la mesure 6 | AM1: Année de la mesure | AN1: mesure 6 (mg/m3) | AO1: ratio (%) | AP1: Type de mesure O/V/A | AQ1: Date de la mesure 7 | AR1: Année de la mesure | AS1: mesure 7 (mg/m3) | AT1: ratio (%) | AU1: Type de mesure O/V/A | AV1: Date de la mesure 8 | AW1: Année de la mesure | AX1: mesure 8 (mg/m3) | AY1: ratio (%) | AZ1: Type de mesure O/V/A | BA1: Date de la mesure 9 | BB1: Année de la mesure | BC1: mesure 9 (mg/m3) | BD1: ratio (%) | BE1: Mesure valide | BF1: Fréquence mesures | BG1: Dernière année de mesure | BH1: DNEL aiguë (mg/m3) | BI1: DNEL chronique (mg/m3) | BJ1: Ratio concentration mesurée/DNEL (%) | BK1: Source
A2: Acide sulfurique | B2: =IF(ISNA(MAX(M2,R2,W2,AB2,AG2,AL2,AQ2,AV2,BA2)),"",MAX(M2,R2,W2,AB2,AG2,AL2,AQ2,AV2,BA2)) -> 0 | C2: VLEPi | D2: Non | E2: oui | F2: AT1 | G2: HMC concentrât aqueux | H2: 1HMCC03.doc (21/9/15) | I2: D.1.4 Stabilisation du milieu réactionnel | J2: Lors de l'ouverture et fermeture du bidon | K2: =IF(ISNA(VLOOKUP(J2,'Plan complet'!J3:K3,ROW('Plan complet'!2:5),0)),"",(VLOOKUP(J2,'Plan complet'!J3:K3,ROW('Plan complet'!2:5),0))) -> 0 | L2: =IF(ISNA(VLOOKUP(K2,'Plan complet'!K3:L3,2,0)),"",(VLOOKUP(K2,'Plan complet'!K3:L3,2,0))) | M2: =IF(ISNA(VLOOKUP(L2,'Plan complet'!L3:M3,2,0)),"",(VLOOKUP(L2,'Plan complet'!L3:M3,2,0))) | N2: =IF(ISNA(VLOOKUP(M2,'Plan complet'!M3:N3,2,0)),"",(VLOOKUP(M2,'Plan complet'!M3:N3,2,0))) | O2: =IF(ISNA(VLOOKUP(N2,'Plan complet'!N3:O3,2,0)),"",(VLOOKUP(N2,'Plan complet'!N3:O3,2,0))) | P2: =IF(ISNA(VLOOKUP(O2,'Plan complet'!O3:P3,2,0)),"",(VLOOKUP(O2,'Plan complet'!O3:P3,2,0))) | Q2: =IF(ISNA(VLOOKUP(P2,'Plan complet'!P3:Q3,2,0)),"",(VLOOKUP(P2,'Plan complet'!P3:Q3,2,0))) | R2: =IF(ISNA(VLOOKUP(Q2,'Plan complet'!Q3:R3,2,0)),"",(VLOOKUP(Q2,'Plan complet'!Q3:R3,2,0))) | S2: =IF(ISNA(VLOOKUP(R2,'Plan complet'!R3:S3,2,0)),"",(VLOOKUP(R2,'Plan complet'!R3:S3,2,0))) | ... AJ2: =IF(ISNA(VLOOKUP(AI2,'Plan complet'!AI3:AJ3,2,0)),"",(VLOOKUP(AI2,'Plan complet'!AI3:AJ3,2,0))) | BE2: N
A3: Acide sulfurique | B3: =IF(ISNA(MAX(M3,R3,W3,AB3,AG3,AL3,AQ3,AV3,BA3)),"",MAX(M3,R3,W3,AB3,AG3,AL3,AQ3,AV3,BA3)) -> 0 | C3: VLEPi | D3: Non | E3: oui | F3: AT1 | G3: Hespéridine Méthyl Chalcone Récup1HMCR02,docération du Dioxane Destruction du méthyl sulfate de sodium | H3: 1HMCR02.doc (21/9/15) | I3: D.6.3 Neutralisation des sels HMC | J3: Chargement de l'acide par vanne de chargement haut réacteur par le biais d'une pompe pneumatique | K3: =IF(ISNA(VLOOKUP(J3,'Plan complet'!J2:K2,2,0)),"",(VLOOKUP(J3,'Plan complet'!J2:K2,2,0))) -> 0 | L3: =IF(ISNA(VLOOKUP(K3,'Plan complet'!K2:L2,2,0)),"",(VLOOKUP(K3,'Plan complet'!K2:L2,2,0))) | M3: =IF(ISNA(VLOOKUP(L3,'Plan complet'!L2:M2,2,0)),"",(VLOOKUP(L3,'Plan complet'!L2:M2,2,0))) | N3: =IF(ISNA(VLOOKUP(M3,'Plan complet'!M2:N2,2,0)),"",(VLOOKUP(M3,'Plan complet'!M2:N2,2,0))) | O3: =IF(ISNA(VLOOKUP(N3,'Plan complet'!N2:O2,2,0)),"",(VLOOKUP(N3,'Plan complet'!N2:O2,2,0))) | P3: =IF(ISNA(VLOOKUP(O3,'Plan complet'!O2:P2,2,0)),"",(VLOOKUP(O3,'Plan complet'!O2:P2,2,0))) | Q3: =IF(ISNA(VLOOKUP(P3,'Plan complet'!P2:Q2,2,0)),"",(VLOOKUP(P3,'Plan complet'!P2:Q2,2,0))) | R3: =IF(ISNA(VLOOKUP(Q3,'Plan complet'!Q2:R2,2,0)),"",(VLOOKUP(Q3,'Plan complet'!Q2:R2,2,0))) | ... AJ3: =IF(ISNA(VLOOKUP(AI3,'Plan complet'!AI2:AJ2,2,0)),"",(VLOOKUP(AI3,'Plan complet'!AI2:AJ2,2,0))) | BE3: N
A4: 1,4-Dioxane | B4: =MAX(M4,R4,W4,AB4,AG4,AL4,AQ4,AV4,BA4) -> 40938 | C4: VLEPc | D4: 2 | E4: =IF(AND(C4="non",D4="non"),"non","oui") -> oui | F4: AT1 | G4: HMC concentrât aqueux. | H4: =VLOOKUP(G4,'Plan complet'!G3:H8,2,0) -> INST_GAI_0136 1HMCC03.doc. (27/10/15) | I4: =VLOOKUP(H4,'Plan complet'!H3:I8,2,0) -> D5.2 passage sur eau | J4: =VLOOKUP(I4,'Plan complet'!I3:J8,2,0) -> Passage sur eau et evaporation du dioxane pour prise d'échantillon | K4: Court terme | L4: O | M4: 39932 | N4: 2009 | O4: 27.5 | P4: 0.1964 | Q4: O | R4: 40938 | S4: 2012 | T4: 389 | U4: 2.78 | V4: O | W4: 40938 | X4: 2012 | Y4: 351 | Z4: 2.5 | AA4: =IF(ISNA(VLOOKUP(Z4,'Plan complet'!P10:Q10,2,0)),"",(VLOOKUP(Z4,'Plan complet'!P10:Q10,2,0))) | AB4: =IF(ISNA(VLOOKUP(AA4,'Plan complet'!Q10:R10,2,0)),"",(VLOOKUP(AA4,'Plan complet'!Q10:R10,2,0))) | AC4: =IF(ISNA(VLOOKUP(AB4,'Plan complet'!R10:S10,2,0)),"",(VLOOKUP(AB4,'Plan complet'!R10:S10,2,0))) | AD4: =IF(ISNA(VLOOKUP(AC4,'Plan complet'!S10:T10,2,0)),"",(VLOOKUP(AC4,'Plan complet'!S10:T10,2,0))) | AE4: =IF(ISNA(VLOOKUP(AD4,'Plan complet'!T10:U10,2,0)),"",(VLOOKUP(AD4,'Plan complet'!T10:U10,2,0))) | AF4: =IF(ISNA(VLOOKUP(AE4,'Plan complet'!U10:V10,2,0)),"",(VLOOKUP(AE4,'Plan complet'!U10:V10,2,0))) | AG4: =IF(ISNA(VLOOKUP(AF4,'Plan complet'!V10:W10,2,0)),"",(VLOOKUP(AF4,'Plan complet'!V10:W10,2,0))) | AH4: =IF(ISNA(VLOOKUP(AG4,'Plan complet'!W10:X10,2,0)),"",(VLOOKUP(AG4,'Plan complet'!W10:X10,2,0))) | ... AJ4: =IF(ISNA(VLOOKUP(AI4,'Plan complet'!Y10:Z10,2,0)),"",(VLOOKUP(AI4,'Plan complet'!Y10:Z10,2,0))) | AM4: =IF(AL4="","",YEAR(AL4)) | AW4: =IF(AV4="","",YEAR(AV4)) | BB4: =IF(BA4="","",YEAR(BA4)) | BE4: N | BF4: statuer direction | BG4: 2009 | BJ4: NA
A5: 1,4-Dioxane | B5: =IF(ISNA(MAX(M5,R5,W5,AB5,AG5,AL5,AQ5,AV5,BA5)),"",MAX(M5,R5,W5,AB5,AG5,AL5,AQ5,AV5,BA5)) -> 41893 | C5: VLEPc | D5: 2 | E5: oui | F5: AT1 | G5: HMC concentrât aqueux. | H5: =VLOOKUP(G5,'Plan complet'!G4:H9,2,0) -> INST_GAI_0136 1HMCC03.doc. (27/10/15) | I5: =VLOOKUP(H5,'Plan complet'!H4:I9,2,0) -> D5.2 passage sur eau | J5: =VLOOKUP(I5,'Plan complet'!I4:J9,2,0) -> Passage sur eau et evaporation du dioxane pour prise d'échantillon | K5: Long terme | L5: O | M5: 38887 | N5: 2006 | O5: 15.2 | P5: 0.20821918 | Q5: O | R5: 41333 | S5: 2013 | T5: 10.5 | U5: 0.14 | V5: V | W5: 41333 | X5: 2013 | Y5: 1.18 | Z5: 0.016 | AA5: O | AB5: 41439 | AC5: 2013 | AD5: 35.4 | AE5: =AD5/73 -> 0.48493151 | AF5: O | AG5: 41807 | AH5: 2014 | AI5: 10.4 | AJ5: 0.14 | AK5: O | AL5: 41893 | AM5: 2014 | AN5: 11.4 | AO5: 0.156 | BE5: N | BF5: seconde mesure pour statuer | BG5: 2006 | BJ5: NA
A6: 3 nicométhanol | B6: =IF(ISNA(MAX(M6,R6,W6,AB6,AG6,AL6,AQ6,AV6,BA6)),"",MAX(M6,R6,W6,AB6,AG6,AL6,AQ6,AV6,BA6)) -> 0 | C6: Non | D6: Non | E6: non | F6: AT1 | G6: Fluorhydrate de nicométhanol | H6: 1FLUOR02.doc (15/7/15) | I6: D.3 Chargement et rinçage canalisation | J6: Chargement réacteur sous vide par accès haut à l'aide de la canne de chargement | K6: =IF(ISNA(VLOOKUP(J6,'Plan complet'!J11:K11,2,0)),"",VLOOKUP(J6,'Plan complet'!J11:K11,2,0)) -> 0 | L6: =IF(ISNA(VLOOKUP(K6,'Plan complet'!K11:L11,2,0)),"",VLOOKUP(K6,'Plan complet'!K11:L11,2,0)) | M6: =IF(ISNA(VLOOKUP(L6,'Plan complet'!L11:M11,2,0)),"",VLOOKUP(L6,'Plan complet'!L11:M11,2,0)) | N6: =IF(ISNA(VLOOKUP(M6,'Plan complet'!M11:N11,2,0)),"",VLOOKUP(M6,'Plan complet'!M11:N11,2,0)) | O6: =IF(ISNA(VLOOKUP(N6,'Plan complet'!N11:O11,2,0)),"",VLOOKUP(N6,'Plan complet'!N11:O11,2,0)) | P6: =IF(ISNA(VLOOKUP(O6,'Plan complet'!O11:P11,2,0)),"",VLOOKUP(O6,'Plan complet'!O11:P11,2,0)) | Q6: =IF(ISNA(VLOOKUP(P6,'Plan complet'!P11:Q11,2,0)),"",VLOOKUP(P6,'Plan complet'!P11:Q11,2,0)) | R6: =IF(ISNA(VLOOKUP(Q6,'Plan complet'!Q11:R11,2,0)),"",VLOOKUP(Q6,'Plan complet'!Q11:R11,2,0)) | ... AJ6: =IF(ISNA(VLOOKUP(AI6,'Plan complet'!AI11:AJ11,2,0)),"",VLOOKUP(AI6,'Plan complet'!AI11:AJ11,2,0)) | BE6: N
A7: Acétate d'éthyle | B7: =IF(ISNA(MAX(M7,R7,W7,AB7,AG7,AL7,AQ7,AV7,BA7)),"",MAX(M7,R7,W7,AB7,AG7,AL7,AQ7,AV7,BA7)) -> 0 | C7: Non | D7: Non | E7: non | F7: AT1 | G7: Extrait marc de pommes | H7: =VLOOKUP(G7, 'Plan complet'!G12:H13,2,0) -> 1MAPOM1A.doc (28/5/15) | I7: =VLOOKUP(H7, 'Plan complet'!H12:I13,2,0) -> D.1.1 : Préparation du solvant d'extraction, D.2.1, D.2.3, D.3.3, D.4.3 : Extraction solide/liquide | J7: =VLOOKUP(I7, 'Plan complet'!I12:J13,2,0) -> Chargement successif d'acétate d'éthyle et eau (94/6) | K7: =IF(ISNA(VLOOKUP(J7, 'Plan complet'!J12:K13,2,0)),"",VLOOKUP(J7, 'Plan complet'!J12:K13,2,0)) -> 0 | L7: =IF(ISNA(VLOOKUP(K7, 'Plan complet'!K12:L13,2,0)),"",VLOOKUP(K7, 'Plan complet'!K12:L13,2,0)) | M7: =IF(ISNA(VLOOKUP(L7, 'Plan complet'!L12:M13,2,0)),"",VLOOKUP(L7, 'Plan complet'!L12:M13,2,0)) | N7: =IF(ISNA(VLOOKUP(M7, 'Plan complet'!M12:N13,2,0)),"",VLOOKUP(M7, 'Plan complet'!M12:N13,2,0)) | O7: =IF(ISNA(VLOOKUP(N7, 'Plan complet'!N12:O13,2,0)),"",VLOOKUP(N7, 'Plan complet'!N12:O13,2,0)) | P7: =IF(ISNA(VLOOKUP(O7, 'Plan complet'!O12:P13,2,0)),"",VLOOKUP(O7, 'Plan complet'!O12:P13,2,0)) | Q7: =IF(ISNA(VLOOKUP(P7, 'Plan complet'!P12:Q13,2,0)),"",VLOOKUP(P7, 'Plan complet'!P12:Q13,2,0)) | R7: =IF(ISNA(VLOOKUP(Q7, 'Plan complet'!Q12:R13,2,0)),"",VLOOKUP(Q7, 'Plan complet'!Q12:R13,2,0)) | ... AJ7: =IF(ISNA(VLOOKUP(AI7, 'Plan complet'!AI12:AJ13,2,0)),"",VLOOKUP(AI7, 'Plan complet'!AI12:AJ13,2,0)) | BE7: N
A8: Acétonitrile | B8: =IF(ISNA(MAX(M8,R8,W8,AB8,AG8,AL8,AQ8,AV8,BA8)),"",MAX(M8,R8,W8,AB8,AG8,AL8,AQ8,AV8,BA8)) -> 0 | C8: VLEPc | D8: Non | E8: oui | F8: AT1 | G8: Fractions purifiées de madécassoside | H8: INST_GAI_1078 (29/9/15) | I8: D.1 : Préparation des solvants, D.2 : Préparation colonne, package colonne, D.6 : Elution décrassage. | J8: Mélange solvant d'élution, rinçage colonne | K8: =IF(ISNA(VLOOKUP(J8,'Plan complet'!J14:K14,2,0)),"",(VLOOKUP(J8,'Plan complet'!J14:K14,2,0))) -> 0 | L8: =IF(ISNA(VLOOKUP(K8,'Plan complet'!K14:L14,2,0)),"",(VLOOKUP(K8,'Plan complet'!K14:L14,2,0))) | M8: =IF(ISNA(VLOOKUP(L8,'Plan complet'!L14:M14,2,0)),"",(VLOOKUP(L8,'Plan complet'!L14:M14,2,0))) | N8: =IF(ISNA(VLOOKUP(M8,'Plan complet'!M14:N14,2,0)),"",(VLOOKUP(M8,'Plan complet'!M14:N14,2,0))) | O8: =IF(ISNA(VLOOKUP(N8,'Plan complet'!N14:O14,2,0)),"",(VLOOKUP(N8,'Plan complet'!N14:O14,2,0))) | P8: =IF(ISNA(VLOOKUP(O8,'Plan complet'!O14:P14,2,0)),"",(VLOOKUP(O8,'Plan complet'!O14:P14,2,0))) | Q8: =IF(ISNA(VLOOKUP(P8,'Plan complet'!P14:Q14,2,0)),"",(VLOOKUP(P8,'Plan complet'!P14:Q14,2,0))) | R8: =IF(ISNA(VLOOKUP(Q8,'Plan complet'!Q14:R14,2,0)),"",(VLOOKUP(Q8,'Plan complet'!Q14:R14,2,0))) | ... AJ8: =IF(ISNA(VLOOKUP(AI8,'Plan complet'!AI14:AJ14,2,0)),"",(VLOOKUP(AI8,'Plan complet'!AI14:AJ14,2,0))) | BE8: N
A9: Acide acétique | B9: =IF(ISNA(MAX(M9,R9,W9,AB9,AG9,AL9,AQ9,AV9,BA9)),"",MAX(M9,R9,W9,AB9,AG9,AL9,AQ9,AV9,BA9)) -> 0 | C9: Non | D9: Non | E9: non | F9: AT1 | G9: DL Leucine en solution sodée | H9: 1DLLEU03.doc (4/6/15) | I9: Prise d'échantillon | J9: Lors de la prise d'échantillon | K9: =IF(ISNA(VLOOKUP(J9,'Plan complet'!J15:K15,2,0)),"",(VLOOKUP(J9,'Plan complet'!J15:K15,2,0))) | L9: =IF(ISNA(VLOOKUP(K9,'Plan complet'!K15:L15,2,0)),"",(VLOOKUP(K9,'Plan complet'!K15:L15,2,0))) | M9: =IF(ISNA(VLOOKUP(L9,'Plan complet'!L15:M15,2,0)),"",(VLOOKUP(L9,'Plan complet'!L15:M15,2,0))) | N9: =IF(ISNA(VLOOKUP(M9,'Plan complet'!M15:N15,2,0)),"",(VLOOKUP(M9,'Plan complet'!M15:N15,2,0))) | O9: =IF(ISNA(VLOOKUP(N9,'Plan complet'!N15:O15,2,0)),"",(VLOOKUP(N9,'Plan complet'!N15:O15,2,0))) | P9: =IF(ISNA(VLOOKUP(O9,'Plan complet'!O15:P15,2,0)),"",(VLOOKUP(O9,'Plan complet'!O15:P15,2,0))) | Q9: =IF(ISNA(VLOOKUP(P9,'Plan complet'!P15:Q15,2,0)),"",(VLOOKUP(P9,'Plan complet'!P15:Q15,2,0))) | R9: =IF(ISNA(VLOOKUP(Q9,'Plan complet'!Q15:R15,2,0)),"",(VLOOKUP(Q9,'Plan complet'!Q15:R15,2,0))) | ... AJ9: =IF(ISNA(VLOOKUP(AI9,'Plan complet'!AI15:AJ15,2,0)),"",(VLOOKUP(AI9,'Plan complet'!AI15:AJ15,2,0))) | BE9: N
A10: Acide acétique | B10: =IF(ISNA(MAX(M10,R10,W10,AB10,AG10,AL10,AQ10,AV10,BA10)),"",MAX(M10,R10,W10,AB10,AG10,AL10,AQ10,AV10,BA10)) -> 0 | C10: Non | D10: Non | E10: non | F10: AT1 | G10: Ext.lip.de soja | H10: 1LISOJ1A.doc (10/6/15) | I10: D.6 Neutralisation | J10: Chargement par trou d'homme (900 ml) | K10: =IF(ISNA(VLOOKUP(J10,'Plan complet'!J16:K16,2,0)),"",(VLOOKUP(J10,'Plan complet'!J16:K16,2,0))) | L10: =IF(ISNA(VLOOKUP(K10,'Plan complet'!K16:L16,2,0)),"",(VLOOKUP(K10,'Plan complet'!K16:L16,2,0))) | M10: =IF(ISNA(VLOOKUP(L10,'Plan complet'!L16:M16,2,0)),"",(VLOOKUP(L10,'Plan complet'!L16:M16,2,0))) | N10: =IF(ISNA(VLOOKUP(M10,'Plan complet'!M16:N16,2,0)),"",(VLOOKUP(M10,'Plan complet'!M16:N16,2,0))) | O10: =IF(ISNA(VLOOKUP(N10,'Plan complet'!N16:O16,2,0)),"",(VLOOKUP(N10,'Plan complet'!N16:O16,2,0))) | P10: =IF(ISNA(VLOOKUP(O10,'Plan complet'!O16:P16,2,0)),"",(VLOOKUP(O10,'Plan complet'!O16:P16,2,0))) | Q10: =IF(ISNA(VLOOKUP(P10,'Plan complet'!P16:Q16,2,0)),"",(VLOOKUP(P10,'Plan complet'!P16:Q16,2,0))) | R10: =IF(ISNA(VLOOKUP(Q10,'Plan complet'!Q16:R16,2,0)),"",(VLOOKUP(Q10,'Plan complet'!Q16:R16,2,0))) | ... AJ10: =IF(ISNA(VLOOKUP(AI10,'Plan complet'!AI16:AJ16,2,0)),"",(VLOOKUP(AI10,'Plan complet'!AI16:AJ16,2,0))) | BE10: N
A11: Acide Chlorhydrique | B11: =IF(ISNA(MAX(M11,R11,W11,AB11,AG11,AL11,AQ11,AV11,BA11)),"",MAX(M11,R11,W11,AB11,AG11,AL11,AQ11,AV11,BA11)) -> 0 | C11: VLEPc | D11: Non | E11: oui | F11: AT1 | G11: DL Leucine en solution sodée Acétylleucine Racémisation | H11: =VLOOKUP(G11, 'Plan complet'!G15:H16,2,0) -> INST_GAI-0247 1DLLEU03.doc (19/5/15) | I11: =VLOOKUP(H11, 'Plan complet'!H15:I16,2,0) -> Prise ECH | J11: =VLOOKUP(I11, 'Plan complet'!I15:J16,2,0) -> Lors de la prise ECH | K11: =IF(ISNA(VLOOKUP(J11, 'Plan complet'!J15:K16,2,0)),"",VLOOKUP(J11, 'Plan complet'!J15:K16,2,0)) -> 0 | L11: =IF(ISNA(VLOOKUP(K11, 'Plan complet'!K15:L16,2,0)),"",VLOOKUP(K11, 'Plan complet'!K15:L16,2,0)) | M11: =IF(ISNA(VLOOKUP(L11, 'Plan complet'!L15:M16,2,0)),"",VLOOKUP(L11, 'Plan complet'!L15:M16,2,0)) | N11: =IF(ISNA(VLOOKUP(M11, 'Plan complet'!M15:N16,2,0)),"",VLOOKUP(M11, 'Plan complet'!M15:N16,2,0)) | O11: =IF(ISNA(VLOOKUP(N11, 'Plan complet'!N15:O16,2,0)),"",VLOOKUP(N11, 'Plan complet'!N15:O16,2,0)) | P11: =IF(ISNA(VLOOKUP(O11, 'Plan complet'!O15:P16,2,0)),"",VLOOKUP(O11, 'Plan complet'!O15:P16,2,0)) | Q11: =IF(ISNA(VLOOKUP(P11, 'Plan complet'!P15:Q16,2,0)),"",VLOOKUP(P11, 'Plan complet'!P15:Q16,2,0)) | R11: =IF(ISNA(VLOOKUP(Q11, 'Plan complet'!Q15:R16,2,0)),"",VLOOKUP(Q11, 'Plan complet'!Q15:R16,2,0)) | ... AJ11: =IF(ISNA(VLOOKUP(AI11, 'Plan complet'!AI15:AJ16,2,0)),"",VLOOKUP(AI11, 'Plan complet'!AI15:AJ16,2,0)) | BE11: N
A12: Acide Fluorhydrique | B12: =IF(ISNA(MAX(M12,R12,W12,AB12,AG12,AL12,AQ12,AV12,BA12)),"",MAX(M12,R12,W12,AB12,AG12,AL12,AQ12,AV12,BA12)) -> 0 | C12: VLEPc | D12: Non | E12: oui | F12: AT1 | G12: Fluorhydrate de nicométhanol | H12: 1FLUOR02.doc (15/7/15) | I12: D.4 Chargement et rinçage canalisation | J12: Chargement réacteur sous vide par accès haut à l'aide de la canne de chargement | K12: =IF(ISNA(VLOOKUP(J12,'Plan complet'!J19:K19,2,0)),"",(VLOOKUP(J12,'Plan complet'!J19:K19,2,0))) -> 0 | L12: =IF(ISNA(VLOOKUP(K12,'Plan complet'!K19:L19,2,0)),"",(VLOOKUP(K12,'Plan complet'!K19:L19,2,0))) | M12: =IF(ISNA(VLOOKUP(L12,'Plan complet'!L19:M19,2,0)),"",(VLOOKUP(L12,'Plan complet'!L19:M19,2,0))) | N12: =IF(ISNA(VLOOKUP(M12,'Plan complet'!M19:N19,2,0)),"",(VLOOKUP(M12,'Plan complet'!M19:N19,2,0))) | O12: =IF(ISNA(VLOOKUP(N12,'Plan complet'!N19:O19,2,0)),"",(VLOOKUP(N12,'Plan complet'!N19:O19,2,0))) | P12: =IF(ISNA(VLOOKUP(O12,'Plan complet'!O19:P19,2,0)),"",(VLOOKUP(O12,'Plan complet'!O19:P19,2,0))) | Q12: =IF(ISNA(VLOOKUP(P12,'Plan complet'!P19:Q19,2,0)),"",(VLOOKUP(P12,'Plan complet'!P19:Q19,2,0))) | R12: =IF(ISNA(VLOOKUP(Q12,'Plan complet'!Q19:R19,2,0)),"",(VLOOKUP(Q12,'Plan complet'!Q19:R19,2,0))) | ... AJ12: =IF(ISNA(VLOOKUP(AI12,'Plan complet'!AI19:AJ19,2,0)),"",(VLOOKUP(AI12,'Plan complet'!AI19:AJ19,2,0))) | BE12: N
A13: Acide Phosphorique | B13: =IF(ISNA(MAX(M13,R13,W13,AB13,AG13,AL13,AQ13,AV13,BA13)),"",MAX(M13,R13,W13,AB13,AG13,AL13,AQ13,AV13,BA13)) -> 0 | C13: Non | D13: Non | E13: non | F13: AT1 | G13: Salicylate de zinc séché | H13: 1SALZN01.doc (20/4/15) | I13: F.4.2.1.2, F.4.3.2 : Nettoyage par immersion lavage. | J13: Chargement acide phosp en réacteur à 30°C | K13: =IF(ISNA(VLOOKUP(J13,'Plan complet'!J20:K20,2,0)),"",(VLOOKUP(J13,'Plan complet'!J20:K20,2,0))) -> 0 | L13: =IF(ISNA(VLOOKUP(K13,'Plan complet'!K20:L20,2,0)),"",(VLOOKUP(K13,'Plan complet'!K20:L20,2,0))) | M13: =IF(ISNA(VLOOKUP(L13,'Plan complet'!L20:M20,2,0)),"",(VLOOKUP(L13,'Plan complet'!L20:M20,2,0))) | N13: =IF(ISNA(VLOOKUP(M13,'Plan complet'!M20:N20,2,0)),"",(VLOOKUP(M13,'Plan complet'!M20:N20,2,0))) | O13: =IF(ISNA(VLOOKUP(N13,'Plan complet'!N20:O20,2,0)),"",(VLOOKUP(N13,'Plan complet'!N20:O20,2,0))) | P13: =IF(ISNA(VLOOKUP(O13,'Plan complet'!O20:P20,2,0)),"",(VLOOKUP(O13,'Plan complet'!O20:P20,2,0))) | Q13: =IF(ISNA(VLOOKUP(P13,'Plan complet'!P20:Q20,2,0)),"",(VLOOKUP(P13,'Plan complet'!P20:Q20,2,0))) | R13: =IF(ISNA(VLOOKUP(Q13,'Plan complet'!Q20:R20,2,0)),"",(VLOOKUP(Q13,'Plan complet'!Q20:R20,2,0))) | ... AJ13: =IF(ISNA(VLOOKUP(AI13,'Plan complet'!AI20:AJ20,2,0)),"",(VLOOKUP(AI13,'Plan complet'!AI20:AJ20,2,0))) | BE13: N
A14: Acide pyroglutamique | B14: =IF(ISNA(MAX(M14,R14,W14,AB14,AG14,AL14,AQ14,AV14,BA14)),"",MAX(M14,R14,W14,AB14,AG14,AL14,AQ14,AV14,BA14)) -> 0 | C14: Non | D14: Non | E14: non | F14: AT1 | G14: Hydroxydécénoïque acide (étape 4) | H14: =VLOOKUP(G14, 'Plan complet'!G17:H18,2,0) -> 1HYDE41A.doc (1/9/15) | I14: =VLOOKUP(H14, 'Plan complet'!H17:I18,2,0) -> D.3.2 : Préparation de l'acide chlorhydrique 5N | J14: =VLOOKUP(I14, 'Plan complet'!I17:J18,2,0) -> Addition HCl par canalisation de chargement équipé de filtre RE111-FC01 | K14: =IF(ISNA(VLOOKUP(J14, 'Plan complet'!J17:K18,2,0)),"",VLOOKUP(J14, 'Plan complet'!J17:K18,2,0)) -> 0 | L14: =IF(ISNA(VLOOKUP(K14, 'Plan complet'!K17:L18,2,0)),"",VLOOKUP(K14, 'Plan complet'!K17:L18,2,0)) | M14: =IF(ISNA(VLOOKUP(L14, 'Plan complet'!L17:M18,2,0)),"",VLOOKUP(L14, 'Plan complet'!L17:M18,2,0)) | N14: =IF(ISNA(VLOOKUP(M14, 'Plan complet'!M17:N18,2,0)),"",VLOOKUP(M14, 'Plan complet'!M17:N18,2,0)) | O14: =IF(ISNA(VLOOKUP(N14, 'Plan complet'!N17:O18,2,0)),"",VLOOKUP(N14, 'Plan complet'!N17:O18,2,0)) | P14: =IF(ISNA(VLOOKUP(O14, 'Plan complet'!O17:P18,2,0)),"",VLOOKUP(O14, 'Plan complet'!O17:P18,2,0)) | Q14: =IF(ISNA(VLOOKUP(P14, 'Plan complet'!P17:Q18,2,0)),"",VLOOKUP(P14, 'Plan complet'!P17:Q18,2,0)) | R14: =IF(ISNA(VLOOKUP(Q14, 'Plan complet'!Q17:R18,2,0)),"",VLOOKUP(Q14, 'Plan complet'!Q17:R18,2,0)) | ... AJ14: =IF(ISNA(VLOOKUP(AI14, 'Plan complet'!AI17:AJ18,2,0)),"",VLOOKUP(AI14, 'Plan complet'!AI17:AJ18,2,0)) | BE14: N
A15: aldéhyde salicylique | B15: =IF(ISNA(MAX(M15,R15,W15,AB15,AG15,AL15,AQ15,AV15,BA15)),"",MAX(M15,R15,W15,AB15,AG15,AL15,AQ15,AV15,BA15)) -> 0 | C15: Non | D15: Non | E15: non | F15: AT1 | G15: DL Leucine en solution sodée | H15: 1DLLEU03.doc (4/6/15) | I15: D.1 Racémisation chargement, D.2 Essorage des jus, prise d'échantillon | J15: Lors du chargement et prise d'échantillon | K15: =IF(ISNA(VLOOKUP(J15,'Plan complet'!J23:K23,2,0)),"",(VLOOKUP(J15,'Plan complet'!J23:K23,2,0))) | L15: =IF(ISNA(VLOOKUP(K15,'Plan complet'!K23:L23,2,0)),"",(VLOOKUP(K15,'Plan complet'!K23:L23,2,0))) | M15: =IF(ISNA(VLOOKUP(L15,'Plan complet'!L23:M23,2,0)),"",(VLOOKUP(L15,'Plan complet'!L23:M23,2,0))) | N15: =IF(ISNA(VLOOKUP(M15,'Plan complet'!M23:N23,2,0)),"",(VLOOKUP(M15,'Plan complet'!M23:N23,2,0))) | O15: =IF(ISNA(VLOOKUP(N15,'Plan complet'!N23:O23,2,0)),"",(VLOOKUP(N15,'Plan complet'!N23:O23,2,0))) | P15: =IF(ISNA(VLOOKUP(O15,'Plan complet'!O23:P23,2,0)),"",(VLOOKUP(O15,'Plan complet'!O23:P23,2,0))) | Q15: =IF(ISNA(VLOOKUP(P15,'Plan complet'!P23:Q23,2,0)),"",(VLOOKUP(P15,'Plan complet'!P23:Q23,2,0))) | R15: =IF(ISNA(VLOOKUP(Q15,'Plan complet'!Q23:R23,2,0)),"",(VLOOKUP(Q15,'Plan complet'!Q23:R23,2,0))) | ... AJ15: =IF(ISNA(VLOOKUP(AI15,'Plan complet'!AI23:AJ23,2,0)),"",(VLOOKUP(AI15,'Plan complet'!AI23:AJ23,2,0))) | BE15: N
A16: CH2CL2 | B16: =IF(ISNA(MAX(W16,AA16,AF16,AK16,AP16,AU16,AZ16,BE16,BJ16)),"",MAX(W16,AA16,AF16,AK16,AP16,AU16,AZ16,BE16,BJ16)) -> 40659 | C16: VLEPc | D16: 2 | E16: oui | F16: AT1 | G16: TOCOL ST 1 | H16: =VLOOKUP(G16,'Plan complet'!G24:H29,2,0) -> 1TOCO100.doc (28/2/12) | I16: =VLOOKUP(H16,'Plan complet'!H24:I29,2,0) -> D.1 Mise en solution D.2 Réaction de couplage | J16: =VLOOKUP(I16,'Plan complet'!I24:J29,2,0) -> Chargement, rinçage et prise d'echantillons | K16: Long terme | L16: O | M16: 40108 | N16: 2009 | O16: 30.2 | P16: 0.16966292 | Q16: O | R16: 40108 | S16: =IF(R16="","",YEAR(R16)) -> 2009 | T16: 35.4 | U16: 0.1988764 | V16: A | W16: 40659 | X16: 2011 | Y16: 3.04 | Z16: =Y16/178 -> 0.017078652 | AA16: O | AB16: 40659 | AC16: 2011 | AD16: 20 | AE16: 0.11235955 | AF16: A | AG16: 40659 | AH16: =IF(AG16="","",YEAR(AG16)) -> 2011 | AI16: 3.04 | AJ16: 0.017078652 | BN16: N
A17: DMAE | B17: =IF(ISNA(MAX(M17,R17,W17,AB17,AG17,AL17,AQ17,AV17,BA17)),"",MAX(M17,R17,W17,AB17,AG17,AL17,AQ17,AV17,BA17)) -> 0 | C17: Non | D17: Non | E17: non | F17: AT1 | G17: Pyroglutamate DMAE Hydroalcoolique | H17: 1pyrog02.doc (25/10/13) | I17: D.3 Synthèse | J17: L'opérateur charge par la vanne de fond et réacteur sous vide le DMAE. L’opérateur ajuste la quantité de DMAE avec une pompe Lutz où un ballon de coulé. | K17: =IF(ISNA(VLOOKUP(J17,'Plan complet'!J30:K30,2,0)),"",(VLOOKUP(J17,'Plan complet'!J30:K30,2,0))) -> 0 | L17: =IF(ISNA(VLOOKUP(K17,'Plan complet'!K30:L30,2,0)),"",(VLOOKUP(K17,'Plan complet'!K30:L30,2,0))) | M17: =IF(ISNA(VLOOKUP(L17,'Plan complet'!L30:M30,2,0)),"",(VLOOKUP(L17,'Plan complet'!L30:M30,2,0))) | N17: =IF(ISNA(VLOOKUP(M17,'Plan complet'!M30:N30,2,0)),"",(VLOOKUP(M17,'Plan complet'!M30:N30,2,0))) | O17: =IF(ISNA(VLOOKUP(N17,'Plan complet'!N30:O30,2,0)),"",(VLOOKUP(N17,'Plan complet'!N30:O30,2,0))) | P17: =IF(ISNA(VLOOKUP(O17,'Plan complet'!O30:P30,2,0)),"",(VLOOKUP(O17,'Plan complet'!O30:P30,2,0))) | Q17: =IF(ISNA(VLOOKUP(P17,'Plan complet'!P30:Q30,2,0)),"",(VLOOKUP(P17,'Plan complet'!P30:Q30,2,0))) | R17: =IF(ISNA(VLOOKUP(Q17,'Plan complet'!Q30:R30,2,0)),"",(VLOOKUP(Q17,'Plan complet'!Q30:R30,2,0))) | ... AJ17: =IF(ISNA(VLOOKUP(AI17,'Plan complet'!AI30:AJ30,2,0)),"",(VLOOKUP(AI17,'Plan complet'!AI30:AJ30,2,0))) | BE17: N
A18: Ethanol | B18: =IF(ISNA(MAX(M18,R18,W18,AB18,AG18,AL18,AQ18,AV18,BA18)),"",MAX(M18,R18,W18,AB18,AG18,AL18,AQ18,AV18,BA18)) -> 41807 | C18: VLEPi | D18: Non | E18: oui | F18: AT1 | G18: Extrait d'Okara G1 | H18: =VLOOKUP(G18, 'Plan complet'!G31:H54,2,0) -> 1OKARA01.doc (29/7/15) | I18: =VLOOKUP(H18, 'Plan complet'!H31:I54,2,0) -> D.1 Extraction + echantillon | J18: =VLOOKUP(I18, 'Plan complet'!I31:J54,2,0) -> Préparation solvant d'extraction. Prise Ech N°10, 20. | K18: Long terme | L18: O | M18: 41807 | N18: =IF(M18="","",YEAR(M18)) -> 2014 | O18: 10.6 | P18: 0.0056 | Q18: v | R18: 41807 | S18: =IF(R18="","",YEAR(R18)) -> 2014 | T18: 6.44 | U18: 0.0034 | V18: =IF(ISNA(VLOOKUP(U18,'Plan complet'!P31:Q31,2,0)),"",(VLOOKUP(U18,'Plan complet'!P31:Q31,2,0))) | W18: =IF(ISNA(VLOOKUP(V18,'Plan complet'!Q31:R31,2,0)),"",(VLOOKUP(V18,'Plan complet'!Q31:R31,2,0))) | X18: =IF(ISNA(VLOOKUP(W18,'Plan complet'!R31:S31,2,0)),"",(VLOOKUP(W18,'Plan complet'!R31:S31,2,0))) | Y18: =IF(ISNA(VLOOKUP(X18,'Plan complet'!S31:T31,2,0)),"",(VLOOKUP(X18,'Plan complet'!S31:T31,2,0))) | Z18: =IF(ISNA(VLOOKUP(Y18,'Plan complet'!T31:U31,2,0)),"",(VLOOKUP(Y18,'Plan complet'!T31:U31,2,0))) | AA18: =IF(ISNA(VLOOKUP(Z18,'Plan complet'!U31:V31,2,0)),"",(VLOOKUP(Z18,'Plan complet'!U31:V31,2,0))) | AB18: =IF(ISNA(VLOOKUP(AA18,'Plan complet'!V31:W31,2,0)),"",(VLOOKUP(AA18,'Plan complet'!V31:W31,2,0))) | AC18: =IF(ISNA(VLOOKUP(AB18,'Plan complet'!W31:X31,2,0)),"",(VLOOKUP(AB18,'Plan complet'!W31:X31,2,0))) | ... AJ18: =IF(ISNA(VLOOKUP(AI18,'Plan complet'!AD31:AE31,2,0)),"",(VLOOKUP(AI18,'Plan complet'!AD31:AE31,2,0))) | BE18: N
A19: Hexane | B19: =IF(ISNA(MAX(M19,R19,W19,AB19,AG19,AL19,AQ19,AV19,BA19)),"",MAX(M19,R19,W19,AB19,AG19,AL19,AQ19,AV19,BA19)) -> 0 | C19: VLEPc | D19: 2 | E19: oui | F19: AT1 | G19: Concentrat Calendula s/ octylpalmitate | H19: 1CALCO00.doc (12/3/13) | I19: D.1, D.3 : Extraction, D.5 : Désolvantation, D.6 : Concentration | J19: Chargement hexane (récup ou neuf) par le bas, récupération des jus hexaniques et cuve | K19: =IF(ISNA(VLOOKUP(J19,'Plan complet'!J55:K55,2,0)),"",(VLOOKUP(J19,'Plan complet'!J55:K55,2,0))) -> 0 | L19: =IF(ISNA(VLOOKUP(K19,'Plan complet'!K55:L55,2,0)),"",(VLOOKUP(K19,'Plan complet'!K55:L55,2,0))) | M19: =IF(ISNA(VLOOKUP(L19,'Plan complet'!L55:M55,2,0)),"",(VLOOKUP(L19,'Plan complet'!L55:M55,2,0))) | N19: =IF(ISNA(VLOOKUP(M19,'Plan complet'!M55:N55,2,0)),"",(VLOOKUP(M19,'Plan complet'!M55:N55,2,0))) | O19: =IF(ISNA(VLOOKUP(N19,'Plan complet'!N55:O55,2,0)),"",(VLOOKUP(N19,'Plan complet'!N55:O55,2,0))) | P19: =IF(ISNA(VLOOKUP(O19,'Plan complet'!O55:P55,2,0)),"",(VLOOKUP(O19,'Plan complet'!O55:P55,2,0))) | Q19: =IF(ISNA(VLOOKUP(P19,'Plan complet'!P55:Q55,2,0)),"",(VLOOKUP(P19,'Plan complet'!P55:Q55,2,0))) | R19: =IF(ISNA(VLOOKUP(Q19,'Plan complet'!Q55:R55,2,0)),"",(VLOOKUP(Q19,'Plan complet'!Q55:R55,2,0))) | ... AJ19: =IF(ISNA(VLOOKUP(AI19,'Plan complet'!AI55:AJ55,2,0)),"",(VLOOKUP(AI19,'Plan complet'!AI55:AJ55,2,0))) | BE19: N
A20: Hexane | B20: =IF(ISNA(MAX(M20,R20,W20,AB20,AG20,AL20,AQ20,AV20,BA20)),"",MAX(M20,R20,W20,AB20,AG20,AL20,AQ20,AV20,BA20)) -> 0 | C20: VLEPc | D20: 2 | E20: oui | F20: AT1 | G20: Sérénoa repens | H20: 1SEREN1C.doc (27/8/13) | I20: D1 : Chargement + echantillon F4 Nettoyage | J20: Lors du transfert en cuve mobile SUNCAD | K20: =IF(ISNA(VLOOKUP(J20,'Plan complet'!J56:K56,2,0)),"",(VLOOKUP(J20,'Plan complet'!J56:K56,2,0))) -> 0 | L20: =IF(ISNA(VLOOKUP(K20,'Plan complet'!K56:L56,2,0)),"",(VLOOKUP(K20,'Plan complet'!K56:L56,2,0))) | M20: =IF(ISNA(VLOOKUP(L20,'Plan complet'!L56:M56,2,0)),"",(VLOOKUP(L20,'Plan complet'!L56:M56,2,0))) | N20: =IF(ISNA(VLOOKUP(M20,'Plan complet'!M56:N56,2,0)),"",(VLOOKUP(M20,'Plan complet'!M56:N56,2,0))) | O20: =IF(ISNA(VLOOKUP(N20,'Plan complet'!N56:O56,2,0)),"",(VLOOKUP(N20,'Plan complet'!N56:O56,2,0))) | P20: =IF(ISNA(VLOOKUP(O20,'Plan complet'!O56:P56,2,0)),"",(VLOOKUP(O20,'Plan complet'!O56:P56,2,0))) | Q20: =IF(ISNA(VLOOKUP(P20,'Plan complet'!P56:Q56,2,0)),"",(VLOOKUP(P20,'Plan complet'!P56:Q56,2,0))) | R20: =IF(ISNA(VLOOKUP(Q20,'Plan complet'!Q56:R56,2,0)),"",(VLOOKUP(Q20,'Plan complet'!Q56:R56,2,0))) | ... AJ20: =IF(ISNA(VLOOKUP(AI20,'Plan complet'!AI56:AJ56,2,0)),"",(VLOOKUP(AI20,'Plan complet'!AI56:AJ56,2,0))) | BE20: N
A21: Méthanol | B21: =IF(ISNA(MAX(M21,R21,W21,AB21,AG21,AL21,AQ21,AV21,BA21)),"",MAX(M21,R21,W21,AB21,AG21,AL21,AQ21,AV21,BA21)) -> 40976 | C21: VLEPc | D21: Non | E21: oui | F21: AT1 | G21: TOCOL ST 2 | H21: =VLOOKUP(G21,'Plan complet'!G57:H67,2,0) -> 1TOCOS1A.doc (28/2/12) | I21: =VLOOKUP(H21,'Plan complet'!H57:I67,2,0) -> D.2 Mise en solution | J21: =VLOOKUP(I21,'Plan complet'!I57:J67,2,0) -> Chargement du TOCOL ST 1 | K21: Long terme | L21: O | M21: 40976 | N21: =IF(M21="","",YEAR(M21)) -> 2012 | O21: 16.2 | P21: 0.06 | Q21: V | R21: 40976 | S21: =IF(R21="","",YEAR(R21)) -> 2012 | T21: 2 | U21: 0.0076923077 | V21: =IF(ISNA(VLOOKUP(U21,'Plan complet'!U57:V57,2,0)),"",(VLOOKUP(U21,'Plan complet'!U57:V57,2,0))) -> 0 | W21: =IF(ISNA(VLOOKUP(V21,'Plan complet'!V57:W57,2,0)),"",(VLOOKUP(V21,'Plan complet'!V57:W57,2,0))) | X21: =IF(ISNA(VLOOKUP(W21,'Plan complet'!W57:X57,2,0)),"",(VLOOKUP(W21,'Plan complet'!W57:X57,2,0))) | Y21: =IF(ISNA(VLOOKUP(X21,'Plan complet'!X57:Y57,2,0)),"",(VLOOKUP(X21,'Plan complet'!X57:Y57,2,0))) -> 0 | Z21: =IF(ISNA(VLOOKUP(Y21,'Plan complet'!Y57:Z57,2,0)),"",(VLOOKUP(Y21,'Plan complet'!Y57:Z57,2,0))) | AA21: =IF(ISNA(VLOOKUP(Z21,'Plan complet'!Z57:AA57,2,0)),"",(VLOOKUP(Z21,'Plan complet'!Z57:AA57,2,0))) | AB21: =IF(ISNA(VLOOKUP(AA21,'Plan complet'!AA57:AB57,2,0)),"",(VLOOKUP(AA21,'Plan complet'!AA57:AB57,2,0))) | AC21: =IF(ISNA(VLOOKUP(AB21,'Plan complet'!AB57:AC57,2,0)),"",(VLOOKUP(AB21,'Plan complet'!AB57:AC57,2,0))) | ... AJ21: =IF(ISNA(VLOOKUP(AI21,'Plan complet'!AI57:AJ57,2,0)),"",(VLOOKUP(AI21,'Plan complet'!AI57:AJ57,2,0))) | BE21: N
A22: n- heptane | B22: =IF(ISNA(MAX(M22,R22,W22,AB22,AG22,AL22,AQ22,AV22,BA22)),"",MAX(M22,R22,W22,AB22,AG22,AL22,AQ22,AV22,BA22)) -> 0 | C22: VLEPc | D22: Non | E22: oui | F22: AT1 | G22: Extrait hydroalcoolique de Zanthoxylum Bung | H22: 1ZANTH1A.doc (6/7/12) | I22: D2, D4 et D6 : Extraction D9 : Concentration | J22: Chargement par le trou d'homme du réacteur ou de la cuve | K22: =IF(ISNA(VLOOKUP(J22,'Plan complet'!J68:K68,2,0)),"",(VLOOKUP(J22,'Plan complet'!J68:K68,2,0))) -> 0 | L22: =IF(ISNA(VLOOKUP(K22,'Plan complet'!K68:L68,2,0)),"",(VLOOKUP(K22,'Plan complet'!K68:L68,2,0))) | M22: =IF(ISNA(VLOOKUP(L22,'Plan complet'!L68:M68,2,0)),"",(VLOOKUP(L22,'Plan complet'!L68:M68,2,0))) | N22: =IF(ISNA(VLOOKUP(M22,'Plan complet'!M68:N68,2,0)),"",(VLOOKUP(M22,'Plan complet'!M68:N68,2,0))) | O22: =IF(ISNA(VLOOKUP(N22,'Plan complet'!N68:O68,2,0)),"",(VLOOKUP(N22,'Plan complet'!N68:O68,2,0))) | P22: =IF(ISNA(VLOOKUP(O22,'Plan complet'!O68:P68,2,0)),"",(VLOOKUP(O22,'Plan complet'!O68:P68,2,0))) | Q22: =IF(ISNA(VLOOKUP(P22,'Plan complet'!P68:Q68,2,0)),"",(VLOOKUP(P22,'Plan complet'!P68:Q68,2,0))) | R22: =IF(ISNA(VLOOKUP(Q22,'Plan complet'!Q68:R68,2,0)),"",(VLOOKUP(Q22,'Plan complet'!Q68:R68,2,0))) | ... AJ22: =IF(ISNA(VLOOKUP(AI22,'Plan complet'!AI68:AJ68,2,0)),"",(VLOOKUP(AI22,'Plan complet'!AI68:AJ68,2,0))) | BE22: N
A23: NH3 | B23: =IF(ISNA(MAX(M23,R23,W23,AB23,AG23,AL23,AQ23,AV23,BA23)),"",MAX(M23,R23,W23,AB23,AG23,AL23,AQ23,AV23,BA23)) -> 0 | C23: Non | D23: Non | E23: non | F23: AT1 | G23: HMC concentrât aqueux | H23: 1HMCC03.doc (21/9/15) | I23: D.4.4 Ajustement du pH | J23: L'opérateur charge par le trou d'homme l'ammoniaque | K23: =IF(ISNA(VLOOKUP(J23,'Plan complet'!J69:K69,2,0)),"",(VLOOKUP(J23,'Plan complet'!J69:K69,2,0))) -> 0 | L23: =IF(ISNA(VLOOKUP(K23,'Plan complet'!K69:L69,2,0)),"",(VLOOKUP(K23,'Plan complet'!K69:L69,2,0))) | M23: =IF(ISNA(VLOOKUP(L23,'Plan complet'!L69:M69,2,0)),"",(VLOOKUP(L23,'Plan complet'!L69:M69,2,0))) | N23: =IF(ISNA(VLOOKUP(M23,'Plan complet'!M69:N69,2,0)),"",(VLOOKUP(M23,'Plan complet'!M69:N69,2,0))) | O23: =IF(ISNA(VLOOKUP(N23,'Plan complet'!N69:O69,2,0)),"",(VLOOKUP(N23,'Plan complet'!N69:O69,2,0))) | P23: =IF(ISNA(VLOOKUP(O23,'Plan complet'!O69:P69,2,0)),"",(VLOOKUP(O23,'Plan complet'!O69:P69,2,0))) | Q23: =IF(ISNA(VLOOKUP(P23,'Plan complet'!P69:Q69,2,0)),"",(VLOOKUP(P23,'Plan complet'!P69:Q69,2,0))) | R23: =IF(ISNA(VLOOKUP(Q23,'Plan complet'!Q69:R69,2,0)),"",(VLOOKUP(Q23,'Plan complet'!Q69:R69,2,0))) | ... AJ23: =IF(ISNA(VLOOKUP(AI23,'Plan complet'!AI69:AJ69,2,0)),"",(VLOOKUP(AI23,'Plan complet'!AI69:AJ69,2,0))) | BE23: N
A24: Pentanol | B24: =IF(ISNA(MAX(M24,R24,W24,AB24,AG24,AL24,AQ24,AV24,BA24)),"",MAX(M24,R24,W24,AB24,AG24,AL24,AQ24,AV24,BA24)) -> 0 | C24: Non | D24: Non | E24: non | F24: AT1 | G24: Pentyl rhamnoside | H24: 1ALKYR1A,doc (15/7/15) | I24: D.1.1 Chargement | J24: Chargement par vanne de fond et réacteur sous vide, prise de volume | K24: =IF(ISNA(VLOOKUP(J24,'Plan complet'!J70:K71,2,0)),"",(VLOOKUP(J24,'Plan complet'!J70:K71,2,0))) | L24: =IF(ISNA(VLOOKUP(K24,'Plan complet'!K70:L70,2,0)),"",(VLOOKUP(K24,'Plan complet'!K70:L70,2,0))) | M24: =IF(ISNA(VLOOKUP(L24,'Plan complet'!L70:M70,2,0)),"",(VLOOKUP(L24,'Plan complet'!L70:M70,2,0))) | N24: =IF(ISNA(VLOOKUP(M24,'Plan complet'!M70:N70,2,0)),"",(VLOOKUP(M24,'Plan complet'!M70:N70,2,0))) | O24: =IF(ISNA(VLOOKUP(N24,'Plan complet'!N70:O70,2,0)),"",(VLOOKUP(N24,'Plan complet'!N70:O70,2,0))) | P24: =IF(ISNA(VLOOKUP(O24,'Plan complet'!O70:P70,2,0)),"",(VLOOKUP(O24,'Plan complet'!O70:P70,2,0))) | Q24: =IF(ISNA(VLOOKUP(P24,'Plan complet'!P70:Q70,2,0)),"",(VLOOKUP(P24,'Plan complet'!P70:Q70,2,0))) | R24: =IF(ISNA(VLOOKUP(Q24,'Plan complet'!Q70:R70,2,0)),"",(VLOOKUP(Q24,'Plan complet'!Q70:R70,2,0))) | S24: =IF(ISNA(VLOOKUP(R24,'Plan complet'!R70:S70,2,0)),"",(VLOOKUP(R24,'Plan complet'!R70:S70,2,0))) | ... AJ24: =IF(ISNA(VLOOKUP(AI24,'Plan complet'!AI70:AJ70,2,0)),"",(VLOOKUP(AI24,'Plan complet'!AI70:AJ70,2,0))) | BE24: N
A25: Soude liquide 30,5% | B25: =IF(ISNA(MAX(M25,R25,W25,AB25,AG25,AL25,AQ25,AV25,BA25)),"",MAX(M25,R25,W25,AB25,AG25,AL25,AQ25,AV25,BA25)) -> 0 | C25: Non | D25: Non | E25: non | F25: AT1 | G25: HMC concentrât aqueux | H25: 1HMCC03.doc (21/9/15) | I25: D.1.4 Stabilisation du milieu réactionnel | J25: Lors de l'ouverture et fermeture du bidon | K25: =IF(ISNA(VLOOKUP(J25,'Plan complet'!J72:K72,2,0)),"",(VLOOKUP(J25,'Plan complet'!J72:K72,2,0))) -> 0 | L25: =IF(ISNA(VLOOKUP(K25,'Plan complet'!K72:L72,2,0)),"",(VLOOKUP(K25,'Plan complet'!K72:L72,2,0))) | M25: =IF(ISNA(VLOOKUP(L25,'Plan complet'!L72:M72,2,0)),"",(VLOOKUP(L25,'Plan complet'!L72:M72,2,0))) | N25: =IF(ISNA(VLOOKUP(M25,'Plan complet'!M72:N72,2,0)),"",(VLOOKUP(M25,'Plan complet'!M72:N72,2,0))) | O25: =IF(ISNA(VLOOKUP(N25,'Plan complet'!N72:O72,2,0)),"",(VLOOKUP(N25,'Plan complet'!N72:O72,2,0))) | P25: =IF(ISNA(VLOOKUP(O25,'Plan complet'!O72:P72,2,0)),"",(VLOOKUP(O25,'Plan complet'!O72:P72,2,0))) | Q25: =IF(ISNA(VLOOKUP(P25,'Plan complet'!P72:Q72,2,0)),"",(VLOOKUP(P25,'Plan complet'!P72:Q72,2,0))) | R25: =IF(ISNA(VLOOKUP(Q25,'Plan complet'!Q72:R72,2,0)),"",(VLOOKUP(Q25,'Plan complet'!Q72:R72,2,0))) | ... AJ25: =IF(ISNA(VLOOKUP(AI25,'Plan complet'!AI72:AJ72,2,0)),"",(VLOOKUP(AI25,'Plan complet'!AI72:AJ72,2,0))) | BE25: N
A26: Spindalite | B26: =IF(ISNA(MAX(M26,R26,W26,AB26,AG26,AL26,AQ26,AV26,BA26)),"",MAX(M26,R26,W26,AB26,AG26,AL26,AQ26,AV26,BA26)) -> 0 | C26: Non | D26: 2 | E26: oui | F26: AT1 | G26: Extrait hydroalc. Racines de pfaffia | H26: =VLOOKUP(G26,'Plan complet'!G71:H88,2,0) -> 1PFAFF1A.doc (08/9/15) | I26: =VLOOKUP(H26,'Plan complet'!H71:I88,2,0) -> D.5 : Filtration à froid | J26: =VLOOKUP(I26,'Plan complet'!I71:J88,2,0) -> Chargement par le trou d'homme du réacteur ou de la cuve | K26: =IF(ISNA(VLOOKUP(J26,'Plan complet'!J73:K89,2,0)),"",(VLOOKUP(J26,'Plan complet'!J73:K89,2,0))) -> 0 | L26: =IF(ISNA(VLOOKUP(K26,'Plan complet'!K73:L89,2,0)),"",(VLOOKUP(K26,'Plan complet'!K73:L89,2,0))) | M26: =IF(ISNA(VLOOKUP(L26,'Plan complet'!L73:M89,2,0)),"",(VLOOKUP(L26,'Plan complet'!L73:M89,2,0))) | N26: =IF(ISNA(VLOOKUP(M26,'Plan complet'!M73:N89,2,0)),"",(VLOOKUP(M26,'Plan complet'!M73:N89,2,0))) | O26: =IF(ISNA(VLOOKUP(N26,'Plan complet'!N73:O89,2,0)),"",(VLOOKUP(N26,'Plan complet'!N73:O89,2,0))) | P26: =IF(ISNA(VLOOKUP(O26,'Plan complet'!O73:P89,2,0)),"",(VLOOKUP(O26,'Plan complet'!O73:P89,2,0))) | Q26: =IF(ISNA(VLOOKUP(P26,'Plan complet'!P73:Q89,2,0)),"",(VLOOKUP(P26,'Plan complet'!P73:Q89,2,0))) | R26: =IF(ISNA(VLOOKUP(Q26,'Plan complet'!Q73:R89,2,0)),"",(VLOOKUP(Q26,'Plan complet'!Q73:R89,2,0))) | ... AJ26: =IF(ISNA(VLOOKUP(AI26,'Plan complet'!AI73:AJ89,2,0)),"",(VLOOKUP(AI26,'Plan complet'!AI73:AJ89,2,0))) | BE26: N
A27: TBME | B27: =IF(ISNA(MAX(M27,R27,W27,AB27,AG27,AL27,AQ27,AV27,BA27)),"",MAX(M27,R27,W27,AB27,AG27,AL27,AQ27,AV27,BA27)) -> 41227 | C27: VLEPc | D27: Non | E27: oui | F27: AT1 | G27: Extrait lipidique de soja PEG | H27: =VLOOKUP(G27,'Plan complet'!G90:H92,2,0) -> 1LISOJ1A.doc (10/7/15) | I27: =VLOOKUP(H27,'Plan complet'!H90:I92,2,0) -> D.3, D.4 : Extraction liquide/liquide, D.7 : Préparation du RI105, D.8 : Filtration | J27: =VLOOKUP(I27,'Plan complet'!I90:J92,2,0) -> Chargement TBME (avec filtre en D7), débatissage du filtre | K27: Long terme | L27: O | M27: 41227 | N27: 2012 | O27: 21.5 | P27: 0.12 | Q27: =IF(ISNA(VLOOKUP(P27,'Plan complet'!P90:Q90,2,0)),"",(VLOOKUP(P27,'Plan complet'!P90:Q90,2,0))) -> 0 | R27: =IF(ISNA(VLOOKUP(Q27,'Plan complet'!Q90:R90,2,0)),"",(VLOOKUP(Q27,'Plan complet'!Q90:R90,2,0))) | S27: =IF(ISNA(VLOOKUP(R27,'Plan complet'!R90:S90,2,0)),"",(VLOOKUP(R27,'Plan complet'!R90:S90,2,0))) | T27: =IF(ISNA(VLOOKUP(S27,'Plan complet'!S90:T90,2,0)),"",(VLOOKUP(S27,'Plan complet'!S90:T90,2,0))) | U27: =IF(ISNA(VLOOKUP(T27,'Plan complet'!T90:U90,2,0)),"",(VLOOKUP(T27,'Plan complet'!T90:U90,2,0))) | V27: =IF(ISNA(VLOOKUP(U27,'Plan complet'!U90:V90,2,0)),"",(VLOOKUP(U27,'Plan complet'!U90:V90,2,0))) | W27: =IF(ISNA(VLOOKUP(V27,'Plan complet'!V90:W90,2,0)),"",(VLOOKUP(V27,'Plan complet'!V90:W90,2,0))) | X27: =IF(ISNA(VLOOKUP(W27,'Plan complet'!W90:X90,2,0)),"",(VLOOKUP(W27,'Plan complet'!W90:X90,2,0))) | ... AJ27: =IF(ISNA(VLOOKUP(AI27,'Plan complet'!AI90:AJ90,2,0)),"",(VLOOKUP(AI27,'Plan complet'!AI90:AJ90,2,0))) | BE27: N
A28: Toluène | B28: =IF(ISNA(MAX(M28,R28,W28,AB28,AG28,AL28,AQ28,AV28,BA28)),"",MAX(M28,R28,W28,AB28,AG28,AL28,AQ28,AV28,BA28)) -> 0 | C28: VLEPc | D28: 2 | E28: oui | F28: AT1 | G28: Acétoxyoctanol CH0341 S1,3 étape 1 | H28: 1341AC1A.doc (1/9/15) | I28: D.1 : Chargement en RE108 à 20 °C | J28: Chargement de toluène et acide sulfurique | K28: =IF(ISNA(VLOOKUP(J28,'Plan complet'!J93:K93,2,0)),"",(VLOOKUP(J28,'Plan complet'!J93:K93,2,0))) -> 0 | L28: =IF(ISNA(VLOOKUP(K28,'Plan complet'!K93:L93,2,0)),"",(VLOOKUP(K28,'Plan complet'!K93:L93,2,0))) | M28: =IF(ISNA(VLOOKUP(L28,'Plan complet'!L93:M93,2,0)),"",(VLOOKUP(L28,'Plan complet'!L93:M93,2,0))) | N28: =IF(ISNA(VLOOKUP(M28,'Plan complet'!M93:N93,2,0)),"",(VLOOKUP(M28,'Plan complet'!M93:N93,2,0))) | O28: =IF(ISNA(VLOOKUP(N28,'Plan complet'!N93:O93,2,0)),"",(VLOOKUP(N28,'Plan complet'!N93:O93,2,0))) | P28: =IF(ISNA(VLOOKUP(O28,'Plan complet'!O93:P93,2,0)),"",(VLOOKUP(O28,'Plan complet'!O93:P93,2,0))) | Q28: =IF(ISNA(VLOOKUP(P28,'Plan complet'!P93:Q93,2,0)),"",(VLOOKUP(P28,'Plan complet'!P93:Q93,2,0))) | R28: =IF(ISNA(VLOOKUP(Q28,'Plan complet'!Q93:R93,2,0)),"",(VLOOKUP(Q28,'Plan complet'!Q93:R93,2,0))) | ... AJ28: =IF(ISNA(VLOOKUP(AI28,'Plan complet'!AI93:AJ93,2,0)),"",(VLOOKUP(AI28,'Plan complet'!AI93:AJ93,2,0))) | BE28: N
A29: Toluène | B29: =IF(ISNA(MAX(M29,R29,W29,AB29,AG29,AL29,AQ29,AV29,BA29)),"",MAX(M29,R29,W29,AB29,AG29,AL29,AQ29,AV29,BA29)) -> 0 | C29: VLEPc | D29: 2 | E29: oui | F29: AT1 | G29: CH0294 APRC11 purifié | H29: 1APRPU1A.doc (12/5/15) | I29: D.2.1 : Solvants neufs ou recyclés | J29: Préparation solution éluante B, rinçage cuve. Elution 7,5 L/h | K29: =IF(ISNA(VLOOKUP(J29,'Plan complet'!J94:K94,2,0)),"",(VLOOKUP(J29,'Plan complet'!J94:K94,2,0))) -> 0 | L29: =IF(ISNA(VLOOKUP(K29,'Plan complet'!K94:L94,2,0)),"",(VLOOKUP(K29,'Plan complet'!K94:L94,2,0))) | M29: =IF(ISNA(VLOOKUP(L29,'Plan complet'!L94:M94,2,0)),"",(VLOOKUP(L29,'Plan complet'!L94:M94,2,0))) | N29: =IF(ISNA(VLOOKUP(M29,'Plan complet'!M94:N94,2,0)),"",(VLOOKUP(M29,'Plan complet'!M94:N94,2,0))) | O29: =IF(ISNA(VLOOKUP(N29,'Plan complet'!N94:O94,2,0)),"",(VLOOKUP(N29,'Plan complet'!N94:O94,2,0))) | P29: =IF(ISNA(VLOOKUP(O29,'Plan complet'!O94:P94,2,0)),"",(VLOOKUP(O29,'Plan complet'!O94:P94,2,0))) | Q29: =IF(ISNA(VLOOKUP(P29,'Plan complet'!P94:Q94,2,0)),"",(VLOOKUP(P29,'Plan complet'!P94:Q94,2,0))) | R29: =IF(ISNA(VLOOKUP(Q29,'Plan complet'!Q94:R94,2,0)),"",(VLOOKUP(Q29,'Plan complet'!Q94:R94,2,0))) | ... AJ29: =IF(ISNA(VLOOKUP(AI29,'Plan complet'!AI94:AJ94,2,0)),"",(VLOOKUP(AI29,'Plan complet'!AI94:AJ94,2,0))) | BE29: N
A30: Toluène | B30: =IF(ISNA(MAX(M30,R30,W30,AB30,AG30,AL30,AQ30,AV30,BA30)),"",MAX(M30,R30,W30,AB30,AG30,AL30,AQ30,AV30,BA30)) -> 0 | C30: VLEPc | D30: 2 | E30: oui | F30: AT1 | G30: Diolénique C8 CH0406 | H30: KDIOC81A-02 (20/6/15) | I30: H.1.1 : Chargement des matières premières H.2.1 : Filtration du milieu et polissage | J30: Chargement de tolène, évaporation. Désolvantation résiduelle par bullage azote | K30: =IF(ISNA(VLOOKUP(J30,'Plan complet'!J95:K95,2,0)),"",(VLOOKUP(J30,'Plan complet'!J95:K95,2,0))) -> 0 | L30: =IF(ISNA(VLOOKUP(K30,'Plan complet'!K95:L95,2,0)),"",(VLOOKUP(K30,'Plan complet'!K95:L95,2,0))) | M30: =IF(ISNA(VLOOKUP(L30,'Plan complet'!L95:M95,2,0)),"",(VLOOKUP(L30,'Plan complet'!L95:M95,2,0))) | N30: =IF(ISNA(VLOOKUP(M30,'Plan complet'!M95:N95,2,0)),"",(VLOOKUP(M30,'Plan complet'!M95:N95,2,0))) | O30: =IF(ISNA(VLOOKUP(N30,'Plan complet'!N95:O95,2,0)),"",(VLOOKUP(N30,'Plan complet'!N95:O95,2,0))) | P30: =IF(ISNA(VLOOKUP(O30,'Plan complet'!O95:P95,2,0)),"",(VLOOKUP(O30,'Plan complet'!O95:P95,2,0))) | Q30: =IF(ISNA(VLOOKUP(P30,'Plan complet'!P95:Q95,2,0)),"",(VLOOKUP(P30,'Plan complet'!P95:Q95,2,0))) | R30: =IF(ISNA(VLOOKUP(Q30,'Plan complet'!Q95:R95,2,0)),"",(VLOOKUP(Q30,'Plan complet'!Q95:R95,2,0))) | ... AJ30: =IF(ISNA(VLOOKUP(AI30,'Plan complet'!AI95:AJ95,2,0)),"",(VLOOKUP(AI30,'Plan complet'!AI95:AJ95,2,0))) | BE30: N

Sheet Plan complet
A1: Substance | B1: Dernière mesure | C1: VLEP | D1: CMR | E1: ADC prioritaire | F1: Atelier | G1: Nom Produit | H1: Conditions de prod. FMO | I1: Evaluation des risques ( Chapitres concernés ) | J1: Phase à risque global | K1: Court terme Long terme | L1: Type de mesure O/V/A | M1: Date de la mesure 1 | N1: Année de la mesure | O1: mesure 1 (mg/m3) | P1: ratio (%) | Q1: Type de mesure O/V/A | R1: Date de la mesure 2 | S1: Année de la mesure | T1: mesure 2 (mg/m3) | U1: ratio (%) | V1: Type de mesure O/V/A | W1: Date de la mesure 3 | X1: Année de la mesure | Y1: mesure 3 (mg/m3) | Z1: ratio (%) | AA1: Type de mesure O/V/A | AB1: Date de la mesure 4 | AC1: Année de la mesure | AD1: mesure 4 (mg/m3) | AE1: ratio (%) | AF1: Type de mesure O/V/A | AG1: Date de la mesure 5 | AH1: Année de la mesure | AI1: mesure 5 (mg/m3) | AJ1: ratio (%) | AK1: Type de mesure O/V/A | AL1: Date de la mesure 6 | AM1: Année de la mesure | AN1: mesure 6 (mg/m3) | AO1: ratio (%) | AP1: Type de mesure O/V/A | AQ1: Date de la mesure 7 | AR1: Année de la mesure | AS1: mesure 7 (mg/m3) | AT1: ratio (%) | AU1: Type de mesure O/V/A | AV1: Date de la mesure 8 | AW1: Année de la mesure | AX1: mesure 8 (mg/m3) | AY1: ratio (%) | AZ1: Type de mesure O/V/A | BA1: Date de la mesure 9 | BB1: Année de la mesure | BC1: mesure 9 (mg/m3) | BD1: ratio (%) | BE1: Mesure valide | BF1: Fréquence mesures | BG1: Dernière année de mesure | BH1: DNEL aiguë (mg/m3) | BI1: DNEL chronique (mg/m3) | BJ1: Ratio concentration mesurée/DNEL (%) | BK1: Source
A2: Acide sulfurique | B2: =MAX(M2,R2,W2,AB2,AG2,AL2,AQ2,AV2,BA2) -> 0 | C2: VLEPi | D2: Non | E2: =IF(AND(C2="non",D2="non"),"non","oui") -> oui | F2: AT1 | G2: Hespéridine Méthyl Chalcone Récup1HMCR02,docération du Dioxane Destruction du méthyl sulfate de sodium | H2: 1HMCR02.doc (21/9/15) | I2: D.6.3 Neutralisation des sels HMC | J2: Chargement de l'acide par vanne de chargement haut réacteur par le biais d'une pompe pneumatique | AM2: =IF(AL2="","",YEAR(AL2)) | AW2: =IF(AV2="","",YEAR(AV2)) | BB2: =IF(BA2="","",YEAR(BA2)) | BE2: N
A3: Acide sulfurique | B3: =IF(ISNA(MAX(M3,R3,W3,AB3,AG3,AL3,AQ3,AV3,BA3)),"",MAX(M3,R3,W3,AB3,AG3,AL3,AQ3,AV3,BA3)) -> 0 | C3: VLEPi | D3: Non | E3: =IF(AND(C3="non",D3="non"),"non","oui") -> oui | F3: AT1 | G3: HMC concentrât aqueux | H3: 1HMCC03.doc (21/9/15) | I3: D.1.4 Stabilisation du milieu réactionnel | J3: Lors de l'ouverture et fermeture du bidon | AM3: =IF(AL3="","",YEAR(AL3)) | AW3: =IF(AV3="","",YEAR(AV3)) | BB3: =IF(BA3="","",YEAR(BA3)) | BE3: N
A4: 1,4-Dioxane | B4: =MAX(M4,R4,W4,AB4,AG4,AL4,AQ4,AV4,BA4) -> 41439 | C4: VLEPc | D4: 2 | E4: =IF(AND(C4="non",D4="non"),"non","oui") -> oui | F4: AT1 | G4: HMC concentrât aqueux | H4: INST_GAI_0136 1HMCC03.doc. (27/10/15) | I4: D5.2 passage sur eau | J4: Passage sur eau et evaporation du dioxane pour prise d'échantillon | K4: Long terme | L4: O | M4: 41439 | N4: 2013 | O4: 11.4 | P4: =O4/73 -> 0.15616438 | AM4: =IF(AL4="","",YEAR(AL4)) | AW4: =IF(AV4="","",YEAR(AV4)) | BB4: =IF(BA4="","",YEAR(BA4))
A5: 1,4-Dioxane | B5: =MAX(M5,R5,W5,AB5,AG5,AL5,AQ5,AV5,BA5) -> 0 | C5: VLEPc | D5: 2 | E5: =IF(AND(C5="non",D5="non"),"non","oui") -> oui | F5: AT1 | G5: Dioxane récup (origine HMC) | H5: 1HMCR02.doc (21/9/15) | I5: D.1 : séchage d'évaporat dioxane, D.2 : blanchiment du dioxane séché, D.4, D.5 : préséchage et séchage du dioxane azéotrope | J5: Chargement en réacteur, homogénéisation et purification
A6: 1,4-Dioxane | B6: =MAX(M6,R6,W6,AB6,AG6,AL6,AQ6,AV6,BA6) -> 0 | C6: VLEPc | D6: 2 | E6: =IF(AND(C6="non",D6="non"),"non","oui") -> oui | F6: AT1 | G6: Hespéridine Méthyl Chalcone Récup1HMCR02,docération du Dioxane Destruction du méthyl sulfate de sodium | H6: 1HMCR02.doc (21/9/15) | I6: D.1 Séchage de l'évaporat dioxane à D,6 Hydrolyse des sels HMC | J6: Ouverture des cuves pour séchage et stabilisation du Dioxane | AM6: =IF(AL6="","",YEAR(AL6)) | AW6: =IF(AV6="","",YEAR(AV6)) | BB6: =IF(BA6="","",YEAR(BA6)) | BE6: N
A7: 1,4-Dioxane | B7: =MAX(M7,R7,W7,AB7,AG7,AL7,AQ7,AV7,BA7) -> 40522 | C7: VLEPc | D7: 2 | E7: =IF(AND(C7="non",D7="non"),"non","oui") -> oui | F7: AT1 | G7: HMC concentrât aqueux. | H7: INST_GAI_0136 1HMCC03.doc. (27/10/15) | I7: D.2.4 : Reprise par le dioxane | J7: Chargement du dioxane (2*3000L) | K7: Long terme | L7: O | M7: 40522 | N7: 2010 | O7: 31 | P7: 0.42465753 | Q7: V | R7: 40522 | S7: 2010 | T7: 2.72 | U7: 0.037260274 | AM7: =IF(AL7="","",YEAR(AL7)) | AW7: =IF(AV7="","",YEAR(AV7)) | BB7: =IF(BA7="","",YEAR(BA7)) | BE7: N | BG7: 2010 | BJ7: NA
A8: 1,4-Dioxane | B8: =MAX(M8,R8,W8,AB8,AG8,AL8,AQ8,AV8,BA8) -> 41893 | C8: VLEPc | D8: 2 | E8: =IF(AND(C8="non",D8="non"),"non","oui") -> oui | F8: AT1 | G8: HMC concentrât aqueux | H8: INST_GAI_0136 1HMCC03.doc. (27/10/15) | I8: D4.3 Filtration du FA101 D4..4 Acidification par acide sulfurique 50 % | J8: Lors du débatissage FM 110, rinçage et prise d'échantillon | K8: Long terme | L8: O. | M8: 38887 | N8: 2006 | O8: 15.2 | P8: 0.20821918 | Q8: O | R8: 41333 | S8: 2013 | T8: 10.5 | U8: 0.14 | V8: V | W8: 41333 | X8: 2013 | Y8: 1.18 | Z8: 0.016 | AA8: O | AB8: 41439 | AC8: 2013 | AD8: 35.4 | AE8: =AD8/73 -> 0.48493151 | AF8: O | AG8: 41807 | AH8: 2014 | AI8: 10.4 | AJ8: 0.14 | AK8: O | AL8: 41893 | AM8: 2014 | AN8: 11.4 | AO8: 0.156 | AW8: =IF(AV8="","",YEAR(AV8)) | BB8: =IF(BA8="","",YEAR(BA8))
A9: 1,4-Dioxane | B9: =MAX(M9,R9,W9,AB9,AG9,AL9,AQ9,AV9,BA9) -> 0 | C9: VLEPc | D9: 2 | E9: =IF(AND(C9="non",D9="non"),"non","oui") -> oui | F9: AT1 | G9: Retraitement HCM poudre, concentrât aqueux | H9: 1RHMCC1A.doc (5/14) | I9: D.1 : Chargement, D.2.3 : Filtration sur multiplaques | J9: Chargement du réacteur, débatissage du filtre
A10: 1,4-Dioxane | B10: =MAX(M10,R10,W10,AB10,AG10,AL10,AQ10,AV10,BA10) -> 40938 | C10: VLEPc | D10: 2 | E10: =IF(AND(C10="non",D10="non"),"non","oui") -> oui | F10: AT1 | G10: HMC concentrât aqueux | H10: INST_GAI_0136 1HMCC03.doc. (27/10/15) | I10: D.3.1 à D.3.2 Filtration D.4.3 Filtration sur FM110 et FC | J10: Lors du débatissage filtre gaf | K10: Court terme | L10: O | M10: 39932 | N10: 2009 | O10: 27.5 | P10: 0.1964 | Q10: O | R10: 40938 | S10: 2012 | T10: 389 | U10: 2.78 | V10: O | W10: 40938 | X10: 2012 | Y10: 351 | Z10: 2.5 | AM10: =IF(AL10="","",YEAR(AL10)) | AW10: =IF(AV10="","",YEAR(AV10)) | BB10: =IF(BA10="","",YEAR(BA10)) | BE10: N | BF10: statuer direction | BG10: 2009 | BJ10: NA
A11: 3 nicométhanol | B11: =MAX(M11,R11,W11,AB11,AG11,AL11,AQ11,AV11,BA11) -> 0 | C11: Non | D11: Non | E11: =IF(AND(C11="non",D11="non"),"non","oui") -> non | F11: AT1 | G11: Fluorhydrate de nicométhanol | H11: 1FLUOR02.doc (15/7/15) | I11: D.3 Chargement et rinçage canalisation | J11: Chargement réacteur sous vide par accès haut à l'aide de la canne de chargement | X11: =IF(W11="","",YEAR(W11)) | AC11: =IF(AB11="","",YEAR(AB11)) | AH11: =IF(AG11="","",YEAR(AG11)) | AM11: =IF(AL11="","",YEAR(AL11)) | AW11: =IF(AV11="","",YEAR(AV11)) | BB11: =IF(BA11="","",YEAR(BA11)) | BE11: N
A12: Acétate d'éthyle | B12: =MAX(M12,R12,W12,AB12,AG12,AL12,AQ12,AV12,BA12) -> 0 | C12: Non | D12: Non | E12: non | F12: AT1 | G12: Extrait marc de pommes | H12: 1MAPOM1A.doc (28/5/15) | I12: D.1.1 : Préparation du solvant d'extraction, D.2.1, D.2.3, D.3.3, D.4.3 : Extraction solide/liquide | J12: Chargement successif d'acétate d'éthyle et eau (94/6)
A13: Acétate d'éthyle | B13: =MAX(M13,R13,W13,AB13,AG13,AL13,AQ13,AV13,BA13) -> 0 | C13: Non | D13: Non | E13: =IF(AND(C13="non",D13="non"),"non","oui") -> non | F13: AT1 | G13: Pentyl rhamnoside | H13: 1ALKYR1A.doc (15/7/15) | I13: D.2.1 Chargement | J13: Chargement par vanne de fond et réacteur sous vide | X13: =IF(W13="","",YEAR(W13)) | AC13: =IF(AB13="","",YEAR(AB13)) | AH13: =IF(AG13="","",YEAR(AG13)) | AM13: =IF(AL13="","",YEAR(AL13)) | AW13: =IF(AV13="","",YEAR(AV13)) | BB13: =IF(BA13="","",YEAR(BA13)) | BE13: N
A14: Acétonitrile | B14: =MAX(M14,R14,W14,AB14,AG14,AL14,AQ14,AV14,BA14) -> 0 | C14: VLEPc | D14: Non | E14: =IF(AND(C14="non",D14="non"),"non","oui") -> oui | F14: AT1 | G14: Fractions purifiées de madécassoside | H14: INST_GAI_1078 (29/9/15) | I14: D.1 : Préparation des solvants, D.2 : Préparation colonne, package colonne, D.6 : Elution décrassage. | J14: Mélange solvant d'élution, rinçage colonne
A15: Acide acétique | B15: =MAX(M15,R15,W15,AB15,AG15,AL15,AQ15,AV15,BA15) -> 0 | C15: Non | D15: Non | E15: =IF(AND(C15="non",D15="non"),"non","oui") -> non | F15: AT1 | G15: DL Leucine en solution sodée Acétylleucine Racémisation | H15: INST_GAI-0247 1DLLEU03.doc (19/5/15) | I15: Prise ECH | J15: Lors de la prise ECH | X15: =IF(W15="","",YEAR(W15)) | AC15: =IF(AB15="","",YEAR(AB15)) | AH15: =IF(AG15="","",YEAR(AG15)) | AM15: =IF(AL15="","",YEAR(AL15)) | AW15: =IF(AV15="","",YEAR(AV15)) | BB15: =IF(BA15="","",YEAR(BA15)) | BE15: N
A16: Acide acétique | B16: =MAX(M16,R16,W16,AB16,AG16,AL16,AQ16,AV16,BA16) -> 0 | C16: Non | D16: Non | E16: =IF(AND(C16="non",D16="non"),"non","oui") -> non | F16: AT1 | G16: Ext.lip.de soja | H16: 1LISOJ1A.doc (10/6/15) | I16: D.6 Neutralisation | J16: Chargement par trou d'homme ( 900 ml ) | X16: =IF(W16="","",YEAR(W16)) | AC16: =IF(AB16="","",YEAR(AB16)) | AH16: =IF(AG16="","",YEAR(AG16)) | AM16: =IF(AL16="","",YEAR(AL16)) | AW16: =IF(AV16="","",YEAR(AV16)) | BB16: =IF(BA16="","",YEAR(BA16)) | BE16: N
A17: Acide chlorhydrique | B17: =MAX(M17,R17,W17,AB17,AG17,AL17,AQ17,AV17,BA17) -> 0 | C17: VLEPc | D17: Non | E17: =IF(AND(C17="non",D17="non"),"non","oui") -> oui | F17: AT1 | G17: Acétylleucine orale | H17: INST_GAI_0132.doc | I17: D.3.1 : Précipitation et chargement de l'acide chlorhydrique 25% | J17: Ajuster le pH par ajout d'HCl 25%
A18: Acide Chlorhydrique | B18: =MAX(M18,R18,W18,AB18,AG18,AL18,AQ18,AV18,BA18) -> 0 | C18: VLEPc | D18: Non | E18: =IF(AND(C18="non",D18="non"),"non","oui") -> oui | F18: AT1 | G18: Hydroxydécénoïque acide (étape 4) | H18: 1HYDE41A.doc (1/9/15) | I18: D.3.2 : Préparation de l'acide chlorhydrique 5N | J18: Addition HCl par canalisation de chargement équipé de filtre RE111-FC01
A19: Acide Fluorhydrique | B19: =MAX(M19,R19,W19,AB19,AG19,AL19,AQ19,AV19,BA19) -> 0 | C19: VLEPc | D19: Non | E19: =IF(AND(C19="non",D19="non"),"non","oui") -> oui | F19: AT1 | G19: Fluorhydrate de nicométhanol (15/7/15) | H19: 1FLUOR02.doc (15/7/15) | I19: D.4 Chargement et rinçage canalisation | J19: Chargement réacteur sous vide par accès haut à l'aide de la canne de chargement | X19: =IF(W19="","",YEAR(W19)) | AC19: =IF(AB19="","",YEAR(AB19)) | AH19: =IF(AG19="","",YEAR(AG19)) | AM19: =IF(AL19="","",YEAR(AL19)) | AW19: =IF(AV19="","",YEAR(AV19)) | BB19: =IF(BA19="","",YEAR(BA19)) | BE19: N
A20: Acide Phosphorique | B20: =MAX(M20,R20,W20,AB20,AG20,AL20,AQ20,AV20,BA20) -> 0 | C20: Non | D20: Non | E20: =IF(AND(C20="non",D20="non"),"non","oui") -> non | F20: AT1 | G20: Salicylate de zinc séché | H20: 1SALZN01.doc (20/4/15) | I20: F.4.2.1.2, F.4.3.2 : Nettoyage par immersion lavage. | J20: Chargement acide phosp en réacteur à 30°C
A21: Acide pyroglutamique | B21: =MAX(M21,R21,W21,AB21,AG21,AL21,AQ21,AV21,BA21) -> 0 | C21: Non | D21: Non | E21: =IF(AND(C21="non",D21="non"),"non","oui") -> non | F21: AT1 | G21: Pyroglutamate DMAE Hydroalcoolique | H21: 1pyrog02.doc (25/10/13) | I21: D.3 Préparation suspension de l'acide | J21: Chargement par trou d'homme | X21: =IF(W21="","",YEAR(W21)) | AC21: =IF(AB21="","",YEAR(AB21)) | AH21: =IF(AG21="","",YEAR(AG21)) | AM21: =IF(AL21="","",YEAR(AL21)) | AW21: =IF(AV21="","",YEAR(AV21)) | BB21: =IF(BA21="","",YEAR(BA21)) | BE21: N
A22: Acide pyroglutamique | B22: =MAX(M22,R22,W22,AB22,AG22,AL22,AQ22,AV22,BA22) -> 0 | C22: Non | D22: Non | E22: =IF(AND(C22="non",D22="non"),"non","oui") -> non | F22: AT1 | G22: Pyroglutamate DMAE Hydroalcoolique. | H22: 1pyrog02.doc (25/10/13). | I22: D.5 Ajustement | J22: Ajustement en acide pyroglutamique par le trou d'homme | X22: =IF(W22="","",YEAR(W22)) | AC22: =IF(AB22="","",YEAR(AB22)) | AH22: =IF(AG22="","",YEAR(AG22)) | AM22: =IF(AL22="","",YEAR(AL22)) | AW22: =IF(AV22="","",YEAR(AV22)) | BB22: =IF(BA22="","",YEAR(BA22)) | BE22: N
A23: aldéhyde salicylique | B23: =MAX(M23,R23,W23,AB23,AG23,AL23,AQ23,AV23,BA23) -> 0 | C23: Non | D23: Non | E23: =IF(AND(C23="non",D23="non"),"non","oui") -> non | F23: AT1 | G23: DL Leucine en solution sodée | H23: 1DLLEU03.doc (4/6/15) | I23: D.1 Racémisation chargement D2 : Essorage des jus + prise ECH | J23: Lors du chargement | X23: =IF(W23="","",YEAR(W23)) | AC23: =IF(AB23="","",YEAR(AB23)) | AH23: =IF(AG23="","",YEAR(AG23)) | AM23: =IF(AL23="","",YEAR(AL23)) | AW23: =IF(AV23="","",YEAR(AV23)) | BB23: =IF(BA23="","",YEAR(BA23)) | BE23: N
A24: CH2CL2 | B24: =MAX(M24,R24,W24,AB24,AG24,AL24,AQ24,AV24,BA24) -> 40659 | C24: VLEPc | D24: 2 | E24: =IF(AND(C24="non",D24="non"),"non","oui") -> oui | F24: AT1 | G24: TOCOL ST 1 | H24: 1TOCO100.doc (28/2/12). | I24: D1 (mise en solution RE108) à D2 (Réaction de couplage) | J24: Ajout Beta Glucose Penta Acetate par trou d'homme + Aide ajout BF3 | K24: Long terme | L24: O | M24: 40108 | N24: 2009 | O24: 30.2 | P24: 0.16966292 | Q24: O | R24: 40108 | S24: =IF(R24="","",YEAR(R24)) -> 2009 | T24: 35.4 | U24: 0.1988764 | V24: A | W24: 40659 | X24: 2011 | Y24: 3.04 | Z24: =Y24/178 -> 0.017078652 | AC24: =IF(AB24="","",YEAR(AB24)) | AH24: =IF(AG24="","",YEAR(AG24)) | AM24: =IF(AL24="","",YEAR(AL24)) | AW24: =IF(AV24="","",YEAR(AV24)) | BB24: =IF(BA24="","",YEAR(BA24)) | BE24: N | BG24: 2009 | BH24: 706 | BI24: 353 | BJ24: 0.085552408 | BK24: Solvay 22/03/2011
A25: CH2CL2 | B25: =MAX(M25,R25,W25,AB25,AG25,AL25,AQ25,AV25,BA25) -> 0 | C25: VLEPc | D25: 2 | E25: =IF(AND(C25="non",D25="non"),"non","oui") -> oui | F25: AT1 | G25: TOCOL ST 1 | H25: 1TOCO100.doc (28/2/12) | I25: D2 : Mise en solution D3 : Dilution + echantillon | J25: Chargement | X25: =IF(W25="","",YEAR(W25)) | AC25: =IF(AB25="","",YEAR(AB25)) | AH25: =IF(AG25="","",YEAR(AG25)) | AM25: =IF(AL25="","",YEAR(AL25)) | AW25: =IF(AV25="","",YEAR(AV25)) | BB25: =IF(BA25="","",YEAR(BA25)) | BE25: N
A26: CH2CL2 | B26: =MAX(M26,R26,W26,AB26,AG26,AL26,AQ26,AV26,BA26) -> 40659 | C26: VLEPc | D26: 2 | E26: =IF(AND(C26="non",D26="non"),"non","oui") -> oui | F26: AT1 | G26: TOCOL ST 1 | H26: 1TOCO100.doc (28/2/12) | I26: D.1 Mise en solution D.2 Réaction de couplage | J26: Chargement, rinçage et prise d'echantillons | K26: Long terme | L26: O | M26: 40659 | N26: 2011 | O26: 20 | P26: 0.11235955 | Q26: A | R26: 40659 | S26: =IF(R26="","",YEAR(R26)) -> 2011 | T26: 3.04 | U26: 0.017078652 | X26: =IF(W26="","",YEAR(W26)) | AC26: =IF(AB26="","",YEAR(AB26)) | AH26: =IF(AG26="","",YEAR(AG26)) | AM26: =IF(AL26="","",YEAR(AL26)) | AW26: =IF(AV26="","",YEAR(AV26)) | BB26: =IF(BA26="","",YEAR(BA26)) | BE26: N | BG26: 2011 | BH26: 706 | BI26: 353 | BJ26: 0.056657224 | BK26: Solvay 22/03/2011
A27: CH2CL2 | B27: =MAX(M27,R27,W27,AB27,AG27,AL27,AQ27,AV27,BA27) -> 40108 | C27: VLEPc | D27: 2 | E27: =IF(AND(C27="non",D27="non"),"non","oui") -> oui | F27: AT1 | G27: TOCOL ST 1 | H27: 1TOCO100.doc (28/2/12) | I27: D.2 Réaction de couplage | J27: Chargement par vanne de fond et réacteur sous vide prise d'échantillon (Ech n°30 ou Ech n°31) | K27: Court terme | L27: O | M27: 40108 | N27: 2009 | O27: 15 | P27: 0.042134831 | X27: =IF(W27="","",YEAR(W27)) | AC27: =IF(AB27="","",YEAR(AB27)) | AH27: =IF(AG27="","",YEAR(AG27)) | AM27: =IF(AL27="","",YEAR(AL27)) | AW27: =IF(AV27="","",YEAR(AV27)) | BB27: =IF(BA27="","",YEAR(BA27)) | BE27: N | BG27: 2009 | BH27: 706 | BI27: 353 | BJ27: 0.021246459 | BK27: Solvay 22/03/2011
A28: CH2CL2 | B28: =MAX(M28,R28,W28,AB28,AG28,AL28,AQ28,AV28,BA28) -> 0 | C28: VLEPc | D28: 2 | E28: =IF(AND(C28="non",D28="non"),"non","oui") -> oui | F28: AT1 | G28: TOCOL ST 2 | H28: 1TOCOS1A.doc (28/2/12) | I28: D.1 Préparation | J28: Chargement | X28: =IF(W28="","",YEAR(W28)) | AC28: =IF(AB28="","",YEAR(AB28)) | AH28: =IF(AG28="","",YEAR(AG28)) | AM28: =IF(AL28="","",YEAR(AL28)) | AW28: =IF(AV28="","",YEAR(AV28)) | BB28: =IF(BA28="","",YEAR(BA28)) | BE28: N
A29: CH2CL2 | B29: =MAX(M29,R29,W29,AB29,AG29,AL29,AQ29,AV29,BA29) -> 0 | C29: VLEPc | D29: 2 | E29: =IF(AND(C29="non",D29="non"),"non","oui") -> oui | F29: AT1 | G29: TOCOL ST 2 | H29: 1TOCOS1A.doc (28/2/12) | I29: D.3 Dilution | J29: Chargement | X29: =IF(W29="","",YEAR(W29)) | AC29: =IF(AB29="","",YEAR(AB29)) | AH29: =IF(AG29="","",YEAR(AG29)) | AM29: =IF(AL29="","",YEAR(AL29)) | AW29: =IF(AV29="","",YEAR(AV29)) | BB29: =IF(BA29="","",YEAR(BA29)) | BE29: N
A30: DMAE | B30: =MAX(M30,R30,W30,AB30,AG30,AL30,AQ30,AV30,BA30) -> 0 | C30: Non | D30: Non | E30: =IF(AND(C30="non",D30="non"),"non","oui") -> non | F30: AT1 | G30: Pyroglutamate DMAE Hydroalcoolique | H30: 1pyrog02.doc (25/10/13) | I30: D.3 Synthèse | J30: L'opérateur charge par la vanne de fond et réacteur sous vide le DMAE. L’opérateur ajuste la quantité de DMAE avec une pompe Lutz où un ballon de coulé. | X30: =IF(W30="","",YEAR(W30)) | AC30: =IF(AB30="","",YEAR(AB30)) | AH30: =IF(AG30="","",YEAR(AG30)) | AM30: =IF(AL30="","",YEAR(AL30)) | AW30: =IF(AV30="","",YEAR(AV30)) | BB30: =IF(BA30="","",YEAR(BA30)) | BE30: N
A31: Ethanol | B31: =MAX(M31,S31,W31,AB31,AG31,AL31,AQ31,AV31,BA31) -> 41807 | C31: VLEPi | D31: Non | E31: =IF(AND(C31="non",D31="non"),"non","oui") -> oui | F31: AT1 | G31: APRC11 | H31: 1APRPU1A.doc (12/5/15) | I31: D.2.10 Nettoyage CR101 ; D.3.2 Nettoyage RI105 ; D.4.3 Concentration | J31: Chargement et nettoyage | K31: Long terme | L31: O | M31: 41807 | N31: =IF(M31="","",YEAR(M31)) -> 2014 | O31: 10.6 | P31: 0.0056 | Q31: v | R31: 41807 | S31: =IF(R31="","",YEAR(R31)) -> 2014 | T31: 6.44 | U31: 0.0034 | X31: =IF(W31="","",YEAR(W31)) | AC31: =IF(AB31="","",YEAR(AB31)) | AH31: =IF(AG31="","",YEAR(AG31)) | AM31: =IF(AL31="","",YEAR(AL31)) | AW31: =IF(AV31="","",YEAR(AV31)) | BB31: =IF(BA31="","",YEAR(BA31))
A32: Ethanol | B32: =MAX(M32,R32,W32,AB32,AG32,AL32,AQ32,AV32,BA32) -> 0 | C32: VLEPi | D32: Non | E32: =IF(AND(C32="non",D32="non"),"non","oui") -> oui | F32: AT1 | G32: Extrait aq de capucine G6 | H32: 1CAPUC02.doc (12/6/15) | I32: D1 : Extraction + échantillons | J32: Prise ech 10 par trou d'homme. Décantation centrifuge Volumer les jus décantés Débatissage du gaf si colmatage Prise ech 20 sur cuve trou d'homme ouvert | X32: =IF(W32="","",YEAR(W32)) | AC32: =IF(AB32="","",YEAR(AB32)) | AH32: =IF(AG32="","",YEAR(AG32)) | AM32: =IF(AL32="","",YEAR(AL32)) | AW32: =IF(AV32="","",YEAR(AV32)) | BB32: =IF(BA32="","",YEAR(BA32)) | BE32: N
