Workbook
Name lau: '[1]أفريل 2017'!$K$1:$K$98
Name lou: '[1]أفريل 2017'!$L$1:$L$98
Name Segment_Date: #N/A

Sheet Feuil1
A1: Total | C1: Prix U | D1: Type | E1: Quantité | F1: Produit | G1: Date
A2: =C2*E2 -> 21600 | B2: 0 | C2: 120 | D2: Plat | E2: 180 | F2: jus 1l | G2: 43101
A3: =C3*E3 -> 2400 | B3: 0 | C3: 1200 | D3: =IFERROR(VLOOKUP(F3,lau:(lou),2,FALSE),("")) | E3: 2 | F3: noisette | G3: 43101
A4: =C4*E4 -> 2300 | B4: 0 | C4: 100 | D4: =IFERROR(VLOOKUP(F4,lau:(lou),2,FALSE),("")) | E4: 23 | F4: slade verte | G4: 43101
A5: =C5*E5 -> 3750 | B5: 0 | C5: 150 | D5: =IFERROR(VLOOKUP(F5,lau:(lou),2,FALSE),("")) | E5: 25 | F5: haricots vert | G5: 43101
A6: =C6*E6 -> 960 | B6: 0 | C6: 80 | D6: =IFERROR(VLOOKUP(F6,lau:(lou),2,FALSE),("")) | E6: 12 | F6: navet | G6: 43101
A7: =C7*E7 -> 5520 | B7: 0 | C7: 60 | D7: =IFERROR(VLOOKUP(F7,lau:(lou),2,FALSE),("")) | E7: 92 | F7: pomme de terre | G7: 43101
A8: =C8*E8 -> 10800 | B8: 0 | C8: 360 | D8: =IFERROR(VLOOKUP(F8,lau:(lou),2,FALSE),("")) | E8: 30 | F8: œufs | G8: 43101
A9: =C9*E9 -> 0 | B9: 0 | D9: =IFERROR(VLOOKUP(F9,lau:(lou),2,FALSE),("")) | G9: 43101
A10: =C10*E10 -> 0 | B10: 0 | D10: =IFERROR(VLOOKUP(F10,lau:(lou),2,FALSE),("")) | G10: 43101
A11: =C11*E11 -> 0 | B11: 0 | D11: =IFERROR(VLOOKUP(F11,lau:(lou),2,FALSE),("")) | G11: 43101
A12: =C12*E12 -> 0 | B12: 0 | D12: =IFERROR(VLOOKUP(F12,lau:(lou),2,FALSE),("")) | G12: 43101
A13: =C13*E13 -> 0 | B13: 0 | D13: =IFERROR(VLOOKUP(F13,lau:(lou),2,FALSE),("")) | G13: 43101
A14: =C14*E14 -> 0 | B14: 0 | D14: =IFERROR(VLOOKUP(F14,lau:(lou),2,FALSE),("")) | G14: 43101
A15: =C15*E15 -> 0 | B15: 0 | D15: =IFERROR(VLOOKUP(F15,lau:(lou),2,FALSE),("")) | G15: 43101

Sheet Feuil2
A1: Total | C1: Prix U | D1: Type | E1: Quantité | F1: Produit | G1: Date
A2: =C2*E2 -> 5520 | B2: 0 | C2: 60 | D2: Plat | E2: 92 | F2: pomme de terre | G2: 43132
A3: =C3*E3 -> 10080 | B3: 0 | C3: 360 | D3: =IFERROR(VLOOKUP(F3,lau:(lou),2,FALSE),("")) | E3: 28 | F3: œufs | G3: 43132
A4: =C4*E4 -> 7040 | B4: 0 | C4: 320 | D4: =IFERROR(VLOOKUP(F4,lau:(lou),2,FALSE),("")) | E4: 22 | F4: poulet | G4: 43132
A5: =C5*E5 -> 660 | B5: 0 | C5: 60 | D5: =IFERROR(VLOOKUP(F5,lau:(lou),2,FALSE),("")) | E5: 11 | F5: navet | G5: 43132
A6: =C6*E6 -> 1040 | B6: 0 | C6: 80 | D6: =IFERROR(VLOOKUP(F6,lau:(lou),2,FALSE),("")) | E6: 13 | F6: tomate fraiche | G6: 43132
A7: =C7*E7 -> 0 | B7: 0 | C7: 0 | D7: =IFERROR(VLOOKUP(F7,lau:(lou),2,FALSE),("")) | G7: 43132
A8: =C8*E8 -> 0 | B8: 0 | C8: 0 | D8: =IFERROR(VLOOKUP(F8,lau:(lou),2,FALSE),("")) | G8: 43132
A9: =C9*E9 -> 0 | B9: 0 | C9: 0 | D9: =IFERROR(VLOOKUP(F9,lau:(lou),2,FALSE),("")) | G9: 43132
A10: =C10*E10 -> 0 | B10: 0 | C10: 0 | D10: =IFERROR(VLOOKUP(F10,lau:(lou),2,FALSE),("")) | G10: 43132
A11: =C11*E11 -> 0 | B11: 0 | C11: 0 | D11: =IFERROR(VLOOKUP(F11,lau:(lou),2,FALSE),("")) | G11: 43132
A12: =C12*E12 -> 0 | B12: 0 | C12: 0 | D12: =IFERROR(VLOOKUP(F12,lau:(lou),2,FALSE),("")) | G12: 43132
A13: =C13*E13 -> 0 | B13: 0 | C13: 0 | D13: =IFERROR(VLOOKUP(F13,lau:(lou),2,FALSE),("")) | G13: 43132
A14: =C14*E14 -> 0 | B14: 0 | C14: 0 | D14: =IFERROR(VLOOKUP(F14,lau:(lou),2,FALSE),("")) | G14: 43132
A15: =C15*E15 -> 0 | B15: 0 | C15: 0 | D15: =IFERROR(VLOOKUP(F15,lau:(lou),2,FALSE),("")) | G15: 43132

Sheet Feuil3
A1: Total | C1: Prix U | D1: Type | E1: Quantité | F1: Produit | G1: Date
A2: =C2*E2 -> 64800 | B2: 0 | C2: 360 | D2: Plat | E2: 180 | F2: œufs | G2: 43160
A3: =C3*E3 -> 5000 | B3: 0 | C3: 100 | D3: =IFERROR(VLOOKUP(F3,lau:(lou),2,FALSE),("")) | E3: 50 | F3: limonade | G3: 43160
A4: =C4*E4 -> 5400 | B4: 0 | C4: 60 | D4: =IFERROR(VLOOKUP(F4,lau:(lou),2,FALSE),("")) | E4: 90 | F4: pomme de terre | G4: 43160
A5: =C5*E5 -> 9600 | B5: 0 | C5: 80 | D5: =IFERROR(VLOOKUP(F5,lau:(lou),2,FALSE),("")) | E5: 120 | F5: tomate fraiche | G5: 43160
A6: =C6*E6 -> 2800 | B6: 0 | C6: 80 | D6: =IFERROR(VLOOKUP(F6,lau:(lou),2,FALSE),("")) | E6: 35 | F6: navet | G6: 43160
A7: =C7*E7 -> 8400 | B7: 0 | C7: 120 | D7: =IFERROR(VLOOKUP(F7,lau:(lou),2,FALSE),("")) | E7: 70 | F7: courgette | G7: 43160
A8: =C8*E8 -> 0 | B8: 0 | C8: 0 | D8: =IFERROR(VLOOKUP(F8,lau:(lou),2,FALSE),("")) | G8: 43160
A9: =C9*E9 -> 0 | B9: 0 | C9: 0 | D9: =IFERROR(VLOOKUP(F9,lau:(lou),2,FALSE),("")) | G9: 43160
A10: =C10*E10 -> 0 | B10: 0 | C10: 0 | D10: =IFERROR(VLOOKUP(F10,lau:(lou),2,FALSE),("")) | G10: 43160
A11: =C11*E11 -> 0 | B11: 0 | C11: 0 | D11: =IFERROR(VLOOKUP(F11,lau:(lou),2,FALSE),("")) | G11: 43160
A12: =C12*E12 -> 0 | B12: 0 | C12: 0 | D12: =IFERROR(VLOOKUP(F12,lau:(lou),2,FALSE),("")) | G12: 43160
A13: =C13*E13 -> 0 | B13: 0 | C13: 0 | D13: =IFERROR(VLOOKUP(F13,lau:(lou),2,FALSE),("")) | G13: 43160
A14: =C14*E14 -> 0 | B14: 0 | C14: 0 | D14: =IFERROR(VLOOKUP(F14,lau:(lou),2,FALSE),("")) | G14: 43160
A15: =C15*E15 -> 0 | B15: 0 | C15: 0 | D15: =IFERROR(VLOOKUP(F15,lau:(lou),2,FALSE),("")) | G15: 43160

Sheet Tout en un
A1: =SUMIF(Feuil1!$F$2:$F$15,B1,Feuil1!$A$2:$A$15)+SUMIF(Feuil2!$F$2:$F$15,B1,Feuil2!$A$2:$A$15)+SUMIF(Feuil3!$F$2:$F$15,B1,Feuil3!$A$2:$A$15) -> 85680 | B1: œufs | D1: Total | E1: PC | F1: Prix U | G1: Type | H1: Quantité | I1: Produit | J1: Date
A2: =SUMIF(Feuil1!$F$2:$F$15,B2,Feuil1!$A$2:$A$15)+SUMIF(Feuil2!$F$2:$F$15,B2,Feuil2!$A$2:$A$15)+SUMIF(Feuil3!$F$2:$F$15,B2,Feuil3!$A$2:$A$15) -> 5000 | B2: limonade | D2: =F2*H2 -> 64800 | E2: 0 | F2: 360 | G2: Plat | H2: 180 | I2: œufs | J2: 43160
A3: =SUMIF(Feuil1!$F$2:$F$15,B3,Feuil1!$A$2:$A$15)+SUMIF(Feuil2!$F$2:$F$15,B3,Feuil2!$A$2:$A$15)+SUMIF(Feuil3!$F$2:$F$15,B3,Feuil3!$A$2:$A$15) -> 16440 | B3: pomme de terre | D3: =F3*H3 -> 5000 | E3: 0 | F3: 100 | G3: =IFERROR(VLOOKUP(I3,lau:(lou),2,FALSE),("")) | H3: 50 | I3: limonade | J3: 43160
A4: =SUMIF(Feuil1!$F$2:$F$15,B4,Feuil1!$A$2:$A$15)+SUMIF(Feuil2!$F$2:$F$15,B4,Feuil2!$A$2:$A$15)+SUMIF(Feuil3!$F$2:$F$15,B4,Feuil3!$A$2:$A$15) -> 10640 | B4: tomate fraiche | D4: =F4*H4 -> 5400 | E4: 0 | F4: 60 | G4: =IFERROR(VLOOKUP(I4,lau:(lou),2,FALSE),("")) | H4: 90 | I4: pomme de terre | J4: 43160
A5: =SUMIF(Feuil1!$F$2:$F$15,B5,Feuil1!$A$2:$A$15)+SUMIF(Feuil2!$F$2:$F$15,B5,Feuil2!$A$2:$A$15)+SUMIF(Feuil3!$F$2:$F$15,B5,Feuil3!$A$2:$A$15) -> 4420 | B5: navet | D5: =F5*H5 -> 9600 | E5: 0 | F5: 80 | G5: =IFERROR(VLOOKUP(I5,lau:(lou),2,FALSE),("")) | H5: 120 | I5: tomate fraiche | J5: 43160
A6: =SUMIF(Feuil1!$F$2:$F$15,B6,Feuil1!$A$2:$A$15)+SUMIF(Feuil2!$F$2:$F$15,B6,Feuil2!$A$2:$A$15)+SUMIF(Feuil3!$F$2:$F$15,B6,Feuil3!$A$2:$A$15) -> 8400 | B6: courgette | D6: =F6*H6 -> 2800 | E6: 0 | F6: 80 | G6: =IFERROR(VLOOKUP(I6,lau:(lou),2,FALSE),("")) | H6: 35 | I6: navet | J6: 43160
A7: =SUMIF(Feuil1!$F$2:$F$15,B7,Feuil1!$A$2:$A$15)+SUMIF(Feuil2!$F$2:$F$15,B7,Feuil2!$A$2:$A$15)+SUMIF(Feuil3!$F$2:$F$15,B7,Feuil3!$A$2:$A$15) -> 85680 | B7: œufs | D7: =F7*H7 -> 8400 | E7: 0 | F7: 120 | G7: =IFERROR(VLOOKUP(I7,lau:(lou),2,FALSE),("")) | H7: 70 | I7: courgette | J7: 43160
A8: =SUMIF(Feuil1!$F$2:$F$15,B8,Feuil1!$A$2:$A$15)+SUMIF(Feuil2!$F$2:$F$15,B8,Feuil2!$A$2:$A$15)+SUMIF(Feuil3!$F$2:$F$15,B8,Feuil3!$A$2:$A$15) -> 7040 | B8: poulet | D8: =F8*H8 -> 5520 | E8: 0 | F8: 60 | G8: Plat | H8: 92 | I8: pomme de terre | J8: 43132
A9: =SUMIF(Feuil1!$F$2:$F$15,B9,Feuil1!$A$2:$A$15)+SUMIF(Feuil2!$F$2:$F$15,B9,Feuil2!$A$2:$A$15)+SUMIF(Feuil3!$F$2:$F$15,B9,Feuil3!$A$2:$A$15) -> 21600 | B9: jus 1l | D9: =F9*H9 -> 10080 | E9: 0 | F9: 360 | G9: =IFERROR(VLOOKUP(I9,lau:(lou),2,FALSE),("")) | H9: 28 | I9: œufs | J9: 43132
A10: =SUMIF(Feuil1!$F$2:$F$15,B10,Feuil1!$A$2:$A$15)+SUMIF(Feuil2!$F$2:$F$15,B10,Feuil2!$A$2:$A$15)+SUMIF(Feuil3!$F$2:$F$15,B10,Feuil3!$A$2:$A$15) -> 2400 | B10: noisette | D10: =F10*H10 -> 7040 | E10: 0 | F10: 320 | G10: =IFERROR(VLOOKUP(I10,lau:(lou),2,FALSE),("")) | H10: 22 | I10: poulet | J10: 43132
A11: =SUMIF(Feuil1!$F$2:$F$15,B11,Feuil1!$A$2:$A$15)+SUMIF(Feuil2!$F$2:$F$15,B11,Feuil2!$A$2:$A$15)+SUMIF(Feuil3!$F$2:$F$15,B11,Feuil3!$A$2:$A$15) -> 2300 | B11: slade verte | D11: =F11*H11 -> 660 | E11: 0 | F11: 60 | G11: =IFERROR(VLOOKUP(I11,lau:(lou),2,FALSE),("")) | H11: 11 | I11: navet | J11: 43132
A12: =SUMIF(Feuil1!$F$2:$F$15,B12,Feuil1!$A$2:$A$15)+SUMIF(Feuil2!$F$2:$F$15,B12,Feuil2!$A$2:$A$15)+SUMIF(Feuil3!$F$2:$F$15,B12,Feuil3!$A$2:$A$15) -> 3750 | B12: haricots vert | D12: =F12*H12 -> 1040 | E12: 0 | F12: 80 | G12: =IFERROR(VLOOKUP(I12,lau:(lou),2,FALSE),("")) | H12: 13 | I12: tomate fraiche | J12: 43132
D13: =F13*H13 -> 21600 | E13: 0 | F13: 120 | G13: Plat | H13: 180 | I13: jus 1l | J13: 43101
D14: =F14*H14 -> 2400 | E14: 0 | F14: 1200 | G14: =IFERROR(VLOOKUP(I14,lau:(lou),2,FALSE),("")) | H14: 2 | I14: noisette | J14: 43101
D15: =F15*H15 -> 2300 | E15: 0 | F15: 100 | G15: =IFERROR(VLOOKUP(I15,lau:(lou),2,FALSE),("")) | H15: 23 | I15: slade verte | J15: 43101
D16: =F16*H16 -> 3750 | E16: 0 | F16: 150 | G16: =IFERROR(VLOOKUP(I16,lau:(lou),2,FALSE),("")) | H16: 25 | I16: haricots vert | J16: 43101
D17: =F17*H17 -> 960 | E17: 0 | F17: 80 | G17: =IFERROR(VLOOKUP(I17,lau:(lou),2,FALSE),("")) | H17: 12 | I17: navet | J17: 43101
D18: =F18*H18 -> 5520 | E18: 0 | F18: 60 | G18: =IFERROR(VLOOKUP(I18,lau:(lou),2,FALSE),("")) | H18: 92 | I18: pomme de terre | J18: 43101
D19: =F19*H19 -> 10800 | E19: 0 | F19: 360 | G19: =IFERROR(VLOOKUP(I19,lau:(lou),2,FALSE),("")) | H19: 30 | I19: œufs | J19: 43101
M20: TCD
M22: Date | N22: (Tous)
N24: Valeurs
M25: Produit | N25: Le Total | O25: Tot Qté
M26: courgette | N26: 8400 | O26: 70
M27: haricots vert | N27: 3750 | O27: 25
M28: jus 1l | N28: 21600 | O28: 180
M29: limonade | N29: 5000 | O29: 50
M30: navet | N30: 4420 | O30: 58
M31: noisette | N31: 2400 | O31: 2
M32: œufs | N32: 85680 | O32: 238
M33: pomme de terre | N33: 16440 | O33: 274
M34: poulet | N34: 7040 | O34: 22
M35: slade verte | N35: 2300 | O35: 23
M36: tomate fraiche | N36: 10640 | O36: 133
M37: Total général | N37: 167670 | O37: 1075
