Workbook

Sheet Vieille liste
A1: SOUS_SYSTEME | B1: Repère | C1: Type | D1: LOT | E1: Local | F1: LIB_LOCAL | G1: PONT | H1: TRANCHE
A2: RDI LOOP 106 | B2: DI106111 | C2: CA | D2: 741 | E2: 913 | F2: SALON | G2: 4 | H2: =RIGHT(D2) -> 1
A3: RDI LOOP 102 | B3: DI102422 | C3: CA | D3: 741 | E3: 913 | F3: CUISINE | G3: 4 | H3: =RIGHT(D3) -> 1
A4: RDI LOOP 103 | B4: DI103677 | C4: AA | D4: 451 | E4: 1108 | F4: CHAMBRE 1 | G4: 5 | H4: =RIGHT(D4) -> 1
A5: RDI LOOP 103 | B5: DI103777 | C5: AA | D5: 451 | E5: 1109 | F5: CHAMBRE 2 | G5: 5 | H5: =RIGHT(D5) -> 1
A6: RDI LOOP 205 | B6: DI205101 | C6: TH | D6: 452 | E6: 1137 | F6: SALLE DE JEU | G6: 5 | H6: =RIGHT(D6) -> 2
A7: RDI LOOP 205 | B7: DI205112 | C7: BU | D7: 432 | E7: 2376 | F7: GARAGE | G7: 3 | H7: =RIGHT(D7) -> 2
A8: RDI LOOP 209 | B8: DI209987 | C8: BU | D8: 482 | E8: 1574 | F8: COMBLES | G8: 8 | H8: =RIGHT(D8) -> 2
A9: RDI LOOP 308 | B9: DI308633 | C9: BU | D9: 433 | E9: 856 | F9: JARDIN | G9: 3 | H9: =RIGHT(D9) -> 3

Sheet Feuille a préserver
A1: SOUS_SYSTEME | B1: Repère | C1: ID | D1: Type | E1: LOT | F1: Local | G1: LIB_LOCAL | H1: PONT | I1: TRANCHE
A2: ='Vieille liste'!A2 -> RDI LOOP 106 | B2: ='Vieille liste'!B2 -> DI106111 | C2: 12345 | D2: ='Vieille liste'!C2 -> CA | E2: ='Vieille liste'!D2 -> 741 | F2: ='Vieille liste'!E2 -> 913 | G2: ='Vieille liste'!F2 -> SALON | H2: ='Vieille liste'!G2 -> 4 | I2: ='Vieille liste'!H2 -> 1
A3: ='Vieille liste'!A3 -> RDI LOOP 102 | B3: ='Vieille liste'!B3 -> DI102422 | D3: ='Vieille liste'!C3 -> CA | E3: ='Vieille liste'!D3 -> 741 | F3: ='Vieille liste'!E3 -> 913 | G3: ='Vieille liste'!F3 -> CUISINE | H3: ='Vieille liste'!G3 -> 4 | I3: ='Vieille liste'!H3 -> 1
A4: ='Vieille liste'!A4 -> RDI LOOP 103 | B4: ='Vieille liste'!B4 -> DI103677 | D4: ='Vieille liste'!C4 -> AA | E4: ='Vieille liste'!D4 -> 451 | F4: ='Vieille liste'!E4 -> 1108 | G4: ='Vieille liste'!F4 -> CHAMBRE 1 | H4: ='Vieille liste'!G4 -> 5 | I4: ='Vieille liste'!H4 -> 1
A5: ='Vieille liste'!A5 -> RDI LOOP 103 | B5: ='Vieille liste'!B5 -> DI103777 | C5: 48366 | D5: ='Vieille liste'!C5 -> AA | E5: ='Vieille liste'!D5 -> 451 | F5: ='Vieille liste'!E5 -> 1109 | G5: ='Vieille liste'!F5 -> CHAMBRE 2 | H5: ='Vieille liste'!G5 -> 5 | I5: ='Vieille liste'!H5 -> 1
A6: ='Vieille liste'!A6 -> RDI LOOP 205 | B6: ='Vieille liste'!B6 -> DI205101 | C6: 83562 | D6: ='Vieille liste'!C6 -> TH | E6: ='Vieille liste'!D6 -> 452 | F6: ='Vieille liste'!E6 -> 1137 | G6: ='Vieille liste'!F6 -> SALLE DE JEU | H6: ='Vieille liste'!G6 -> 5 | I6: ='Vieille liste'!H6 -> 2
A7: ='Vieille liste'!A7 -> RDI LOOP 205 | B7: ='Vieille liste'!B7 -> DI205112 | D7: ='Vieille liste'!C7 -> BU | E7: ='Vieille liste'!D7 -> 432 | F7: ='Vieille liste'!E7 -> 2376 | G7: ='Vieille liste'!F7 -> GARAGE | H7: ='Vieille liste'!G7 -> 3 | I7: ='Vieille liste'!H7 -> 2
A8: ='Vieille liste'!A8 -> RDI LOOP 209 | B8: ='Vieille liste'!B8 -> DI209987 | C8: 25482 | D8: ='Vieille liste'!C8 -> BU | E8: ='Vieille liste'!D8 -> 482 | F8: ='Vieille liste'!E8 -> 1574 | G8: ='Vieille liste'!F8 -> COMBLES | H8: ='Vieille liste'!G8 -> 8 | I8: ='Vieille liste'!H8 -> 2
A9: ='Vieille liste'!A9 -> RDI LOOP 308 | B9: ='Vieille liste'!B9 -> DI308633 | C9: 57295 | D9: ='Vieille liste'!C9 -> BU | E9: ='Vieille liste'!D9 -> 433 | F9: ='Vieille liste'!E9 -> 856 | G9: ='Vieille liste'!F9 -> JARDIN | H9: ='Vieille liste'!G9 -> 3 | I9: ='Vieille liste'!H9 -> 3

Sheet Nouvelle liste
A1: SOUS_SYSTEME | B1: Repère | C1: ID | D1: Type | E1: LOT | F1: Local | G1: LIB_LOCAL | H1: PONT | I1: TRANCHE
A2: RDI LOOP 106 | B2: DI106111 | C2: =IFERROR(INDEX('Feuille a préserver'!$C$2:$C$9,MATCH(B2,'Feuille a préserver'!$B$2:$B$9,0)),"inconnu") -> 12345 | D2: CA | E2: 741 | F2: 913 | G2: SALON | H2: 4 | I2: =RIGHT(E2) -> 1
A3: RDI LOOP 103 | B3: DI103677 | C3: =IFERROR(INDEX('Feuille a préserver'!$C$2:$C$9,MATCH(B3,'Feuille a préserver'!$B$2:$B$9,0)),"inconnu") -> 0 | D3: AA | E3: 451 | F3: 1108 | G3: CHAMBRE 1 | H3: 5 | I3: =RIGHT(E3) -> 1
A4: RDI LOOP 103 | B4: DI103777 | C4: =IFERROR(INDEX('Feuille a préserver'!$C$2:$C$9,MATCH(B4,'Feuille a préserver'!$B$2:$B$9,0)),"inconnu") -> 48366 | D4: AA | E4: 451 | F4: 1109 | G4: CHAMBRE 2 | H4: 5 | I4: =RIGHT(E4) -> 1
A5: RDI LOOP 109 | B5: DI109231 | C5: =IFERROR(INDEX('Feuille a préserver'!$C$2:$C$9,MATCH(B5,'Feuille a préserver'!$B$2:$B$9,0)),"inconnu") -> inconnu | D5: ZZ | E5: 766 | F5: 2465 | G5: SALLE DE BAIN | H5: 3 | I5: 3
A6: RDI LOOP 205 | B6: DI205101 | C6: =IFERROR(INDEX('Feuille a préserver'!$C$2:$C$9,MATCH(B6,'Feuille a préserver'!$B$2:$B$9,0)),"inconnu") -> 83562 | D6: TH | E6: 452 | F6: 1137 | G6: SALLE DE JEU | H6: 5 | I6: =RIGHT(E6) -> 2
A7: RDI LOOP 205 | B7: DI205112 | C7: =IFERROR(INDEX('Feuille a préserver'!$C$2:$C$9,MATCH(B7,'Feuille a préserver'!$B$2:$B$9,0)),"inconnu") -> 0 | D7: BU | E7: 432 | F7: 2376 | G7: GARAGE | H7: 3 | I7: =RIGHT(E7) -> 2
A8: RDI LOOP 209 | B8: DI209987 | C8: =IFERROR(INDEX('Feuille a préserver'!$C$2:$C$9,MATCH(B8,'Feuille a préserver'!$B$2:$B$9,0)),"inconnu") -> 25482 | D8: BU | E8: 482 | F8: 1574 | G8: COMBLES | H8: 8 | I8: =RIGHT(E8) -> 2
A9: RDI LOOP 308 | B9: DI308633 | C9: =IFERROR(INDEX('Feuille a préserver'!$C$2:$C$9,MATCH(B9,'Feuille a préserver'!$B$2:$B$9,0)),"inconnu") -> 57295 | D9: BU | E9: 433 | F9: 856 | G9: JARDIN | H9: 3 | I9: =RIGHT(E9) -> 3
A10: RDI LOOP 406 | B10: DI406062 | C10: =IFERROR(INDEX('Feuille a préserver'!$C$2:$C$9,MATCH(B10,'Feuille a préserver'!$B$2:$B$9,0)),"inconnu") -> inconnu | D10: DD | E10: 633 | F10: 872 | G10: VERANDA | H10: 2 | I10: 3
