Workbook
Name Listing: 'Tableau de bord'!$B$3:$B$10
Name Régions: 'Tableau de bord'!$C$3:$C$10

Sheet Tableau de bord
B2: Clients | C2: Région | D2: Dernière visite
B3: Client1 | C3: Alsace | D3: {=MIN(IF(('Suivi des visites'!$A$2:$A$30=B3)*('Suivi des visites'!$B$2:$B$30=C3),'Suivi des visites'!$C$2:$C$30))} -> 42412
B4: Client2 | C4: Franche-Comté | D4: {=MIN(IF(('Suivi des visites'!$A$2:$A$30=B4)*('Suivi des visites'!$B$2:$B$30=C4),'Suivi des visites'!$C$2:$C$30))} -> 42462
B5: Client3 | C5: Ile-de-France | D5: {=MIN(IF(('Suivi des visites'!$A$2:$A$30=B5)*('Suivi des visites'!$B$2:$B$30=C5),'Suivi des visites'!$C$2:$C$30))} -> 42370
B6: Client4 | C6: Lorraine | D6: {=MIN(IF(('Suivi des visites'!$A$2:$A$30=B6)*('Suivi des visites'!$B$2:$B$30=C6),'Suivi des visites'!$C$2:$C$30))} -> 42467
B7: Client5 | C7: Ile-de-France | D7: {=MIN(IF(('Suivi des visites'!$A$2:$A$30=B7)*('Suivi des visites'!$B$2:$B$30=C7),'Suivi des visites'!$C$2:$C$30))} -> 42387
B8: Client6 | C8: Rhône-Alpes | D8: {=MIN(IF(('Suivi des visites'!$A$2:$A$30=B8)*('Suivi des visites'!$B$2:$B$30=C8),'Suivi des visites'!$C$2:$C$30))} -> 42381
B9: Client7 | C9: Bretagne | D9: {=MIN(IF(('Suivi des visites'!$A$2:$A$30=B9)*('Suivi des visites'!$B$2:$B$30=C9),'Suivi des visites'!$C$2:$C$30))} -> 42416
B10: Client8 | C10: Aquitaine | D10: {=MIN(IF(('Suivi des visites'!$A$2:$A$30=B10)*('Suivi des visites'!$B$2:$B$30=C10),'Suivi des visites'!$C$2:$C$30))} -> 42478
B15: Nombre de Région
B16: N°Client | C16: Région | D16: Date de visite | E16: Total
B17: Client1 | C17: Alsace | D17: 42412 | E17: 1
D18: 42482 | E18: 1
D19: 42690 | E19: 1
B20: Client2 | C20: Franche-Comté | D20: 42462 | E20: 1
D21: 42527 | E21: 1
D22: 42542 | E22: 1
D23: 42593 | E23: 1
B24: Client3 | C24: Ile-de-France | D24: 42370 | E24: 1
D25: 42512 | E25: 1
D26: 42576 | E26: 1
D27: 42637 | E27: 1
B28: Client4 | C28: Lorraine | D28: 42467 | E28: 1
D29: 42500 | E29: 1
D30: 42635 | E30: 1
D31: 42701 | E31: 1
B32: Client5 | C32: Ile-de-France | D32: 42387 | E32: 1
D33: 42469 | E33: 1
D34: 42705 | E34: 1
B35: Client6 | C35: Rhône-Alpes | D35: 42381 | E35: 1
D36: 42582 | E36: 1
B37: Client7 | C37: Bretagne | D37: 42416 | E37: 1
D38: 42509 | E38: 1
D39: 42537 | E39: 1
D40: 42556 | E40: 1
D41: 42620 | E41: 1
D42: 42690 | E42: 1
B43: Client8 | C43: Aquitaine | D43: 42478 | E43: 1
D44: 42635 | E44: 1
D45: 42696 | E45: 1
...

Sheet Suivi des visites
A1: N°Client | B1: Région | C1: Date de visite
A2: Client3 | B2: =VLOOKUP(A2,'Tableau de bord'!$B$3:$C$10,2,FALSE) -> Ile-de-France | C2: 42370
A3: Client6 | B3: =VLOOKUP(A3,'Tableau de bord'!$B$3:$C$10,2,FALSE) -> Rhône-Alpes | C3: 42381
A4: Client5 | B4: =VLOOKUP(A4,'Tableau de bord'!$B$3:$C$10,2,FALSE) -> Ile-de-France | C4: 42387
A5: Client1 | B5: =VLOOKUP(A5,'Tableau de bord'!$B$3:$C$10,2,FALSE) -> Alsace | C5: 42412
A6: Client7 | B6: =VLOOKUP(A6,'Tableau de bord'!$B$3:$C$10,2,FALSE) -> Bretagne | C6: 42416
A7: Client2 | B7: =VLOOKUP(A7,'Tableau de bord'!$B$3:$C$10,2,FALSE) -> Franche-Comté | C7: 42462
A8: Client4 | B8: =VLOOKUP(A8,'Tableau de bord'!$B$3:$C$10,2,FALSE) -> Lorraine | C8: 42467
A9: Client5 | B9: =VLOOKUP(A9,'Tableau de bord'!$B$3:$C$10,2,FALSE) -> Ile-de-France | C9: 42469
A10: Client8 | B10: =VLOOKUP(A10,'Tableau de bord'!$B$3:$C$10,2,FALSE) -> Aquitaine | C10: 42478
A11: Client1 | B11: =VLOOKUP(A11,'Tableau de bord'!$B$3:$C$10,2,FALSE) -> Alsace | C11: 42482
A12: Client4 | B12: =VLOOKUP(A12,'Tableau de bord'!$B$3:$C$10,2,FALSE) -> Lorraine | C12: 42500
A13: Client7 | B13: =VLOOKUP(A13,'Tableau de bord'!$B$3:$C$10,2,FALSE) -> Bretagne | C13: 42509
... A30: Client5 | B30: =VLOOKUP(A30,'Tableau de bord'!$B$3:$C$10,2,FALSE) -> Ile-de-France | C30: 42705
