Workbook
Name semaine14.: [1]S15!$Q$57:$T$59

Sheet Synthèse
A1: Tableau de synthèse
B3: Semaine | C3: Date | D3: Monitrice | E3: CA | F3: CIO | G3: Taux 1 | H3: Taux 2 | I3: Mois | J3: SEM | K3: Jours
B4: ="S"&_xlfn.ISOWEEKNUM(Tableau_de_synthèse[[#This Row],[Date]]) -> #NAME? | C4: 42548 | D4: Client 1 | E4: =SUMPRODUCT((INDIRECT($B4&"!g41:g44")=Synthèse!$D4) *(INDIRECT($B4&"!H39:AE39")=Synthèse!E$3) *(INDIRECT($B4&"!H40:AE40")=Synthèse!$C4) *(INDIRECT($B4&"!H41:AE41"))) -> #NAME? | F4: =SUMPRODUCT((INDIRECT($B4&"!G41:G43")=Synthèse!$D4) *(INDIRECT($B4&"!H39:AE39")=Synthèse!F$3) *(INDIRECT($B4&"!H40:AE40")=Synthèse!$C4) *(INDIRECT($B4&"!H41:AE41"))) -> #NAME? | G4: =SUMPRODUCT((INDIRECT($B4&"!G41:G43")=Synthèse!$D4) *(INDIRECT($B4&"!H39:AE39")=Synthèse!G$3) *(INDIRECT($B4&"!H40:AE40")=Synthèse!$C4) *(INDIRECT($B4&"!H41:AE41"))) -> #NAME? | H4: =SUMPRODUCT((INDIRECT($B4&"!G41:G43")=Synthèse!$D4) *(INDIRECT($B4&"!H39:AE39")=Synthèse!H$3) *(INDIRECT($B4&"!H40:AE40")=Synthèse!$C4) *(INDIRECT($B4&"!H41:AE41"))) -> #NAME? | I4: =PROPER(TEXT(Tableau_de_synthèse[[#This Row],[Date]],"mmm")) -> Juin | J4: =_xlfn.ISOWEEKNUM(C4) -> #NAME? | K4: =PROPER(TEXT(C4,"jjj")) -> Lun
B5: ="S"&_xlfn.ISOWEEKNUM(Tableau_de_synthèse[[#This Row],[Date]]) -> #NAME? | C5: 42548 | D5: Client 2 | E5: =SUMPRODUCT((INDIRECT($B5&"!g41:g44")=Synthèse!$D5) *(INDIRECT($B5&"!H39:AE39")=Synthèse!E$3) *(INDIRECT($B5&"!H40:AE40")=Synthèse!$C5) *(INDIRECT($B5&"!H41:AE41"))) -> #NAME? | F5: =SUMPRODUCT((INDIRECT($B5&"!G41:G43")=Synthèse!$D5) *(INDIRECT($B5&"!H39:AE39")=Synthèse!F$3) *(INDIRECT($B5&"!H40:AE40")=Synthèse!$C5) *(INDIRECT($B5&"!H41:AE41"))) -> #NAME? | G5: =SUMPRODUCT((INDIRECT($B5&"!G41:G43")=Synthèse!$D5) *(INDIRECT($B5&"!H39:AE39")=Synthèse!G$3) *(INDIRECT($B5&"!H40:AE40")=Synthèse!$C5) *(INDIRECT($B5&"!H41:AE41"))) -> #NAME? | H5: =SUMPRODUCT((INDIRECT($B5&"!G41:G43")=Synthèse!$D5) *(INDIRECT($B5&"!H39:AE39")=Synthèse!H$3) *(INDIRECT($B5&"!H40:AE40")=Synthèse!$C5) *(INDIRECT($B5&"!H41:AE41"))) -> #NAME? | I5: =PROPER(TEXT(Tableau_de_synthèse[[#This Row],[Date]],"mmm")) -> Juin | J5: =_xlfn.ISOWEEKNUM(C5) -> #NAME? | K5: =PROPER(TEXT(C5,"jjj")) -> Lun
B6: ="S"&_xlfn.ISOWEEKNUM(Tableau_de_synthèse[[#This Row],[Date]]) -> #NAME? | C6: 42548 | D6: Client 3 | E6: =SUMPRODUCT((INDIRECT($B6&"!g41:g44")=Synthèse!$D6) *(INDIRECT($B6&"!H39:AE39")=Synthèse!E$3) *(INDIRECT($B6&"!H40:AE40")=Synthèse!$C6) *(INDIRECT($B6&"!H41:AE41"))) -> #NAME? | F6: =SUMPRODUCT((INDIRECT($B6&"!G41:G43")=Synthèse!$D6) *(INDIRECT($B6&"!H39:AE39")=Synthèse!F$3) *(INDIRECT($B6&"!H40:AE40")=Synthèse!$C6) *(INDIRECT($B6&"!H41:AE41"))) -> #NAME? | G6: =SUMPRODUCT((INDIRECT($B6&"!G41:G43")=Synthèse!$D6) *(INDIRECT($B6&"!H39:AE39")=Synthèse!G$3) *(INDIRECT($B6&"!H40:AE40")=Synthèse!$C6) *(INDIRECT($B6&"!H41:AE41"))) -> #NAME? | H6: =SUMPRODUCT((INDIRECT($B6&"!G41:G43")=Synthèse!$D6) *(INDIRECT($B6&"!H39:AE39")=Synthèse!H$3) *(INDIRECT($B6&"!H40:AE40")=Synthèse!$C6) *(INDIRECT($B6&"!H41:AE41"))) -> #NAME? | I6: =PROPER(TEXT(Tableau_de_synthèse[[#This Row],[Date]],"mmm")) -> Juin | J6: =_xlfn.ISOWEEKNUM(C6) -> #NAME? | K6: =PROPER(TEXT(C6,"jjj")) -> Lun
B7: ="S"&_xlfn.ISOWEEKNUM(Tableau_de_synthèse[[#This Row],[Date]]) -> #NAME? | C7: 42549 | D7: Client 1 | E7: =SUMPRODUCT((INDIRECT($B7&"!g41:g44")=Synthèse!$D7) *(INDIRECT($B7&"!H39:AE39")=Synthèse!E$3) *(INDIRECT($B7&"!H40:AE40")=Synthèse!$C7) *(INDIRECT($B7&"!H41:AE41"))) -> #NAME? | F7: =SUMPRODUCT((INDIRECT($B7&"!G41:G43")=Synthèse!$D7) *(INDIRECT($B7&"!H39:AE39")=Synthèse!F$3) *(INDIRECT($B7&"!H40:AE40")=Synthèse!$C7) *(INDIRECT($B7&"!H41:AE41"))) -> #NAME? | G7: =SUMPRODUCT((INDIRECT($B7&"!G41:G43")=Synthèse!$D7) *(INDIRECT($B7&"!H39:AE39")=Synthèse!G$3) *(INDIRECT($B7&"!H40:AE40")=Synthèse!$C7) *(INDIRECT($B7&"!H41:AE41"))) -> #NAME? | H7: =SUMPRODUCT((INDIRECT($B7&"!G41:G43")=Synthèse!$D7) *(INDIRECT($B7&"!H39:AE39")=Synthèse!H$3) *(INDIRECT($B7&"!H40:AE40")=Synthèse!$C7) *(INDIRECT($B7&"!H41:AE41"))) -> #NAME? | I7: =PROPER(TEXT(Tableau_de_synthèse[[#This Row],[Date]],"mmm")) -> Juin | J7: =_xlfn.ISOWEEKNUM(C7) -> #NAME? | K7: =PROPER(TEXT(C7,"jjj")) -> Mar
B8: ="S"&_xlfn.ISOWEEKNUM(Tableau_de_synthèse[[#This Row],[Date]]) -> #NAME? | C8: 42549 | D8: Client 2 | E8: =SUMPRODUCT((INDIRECT($B8&"!g41:g44")=Synthèse!$D8) *(INDIRECT($B8&"!H39:AE39")=Synthèse!E$3) *(INDIRECT($B8&"!H40:AE40")=Synthèse!$C8) *(INDIRECT($B8&"!H41:AE41"))) -> #NAME? | F8: =SUMPRODUCT((INDIRECT($B8&"!G41:G43")=Synthèse!$D8) *(INDIRECT($B8&"!H39:AE39")=Synthèse!F$3) *(INDIRECT($B8&"!H40:AE40")=Synthèse!$C8) *(INDIRECT($B8&"!H41:AE41"))) -> #NAME? | G8: =SUMPRODUCT((INDIRECT($B8&"!G41:G43")=Synthèse!$D8) *(INDIRECT($B8&"!H39:AE39")=Synthèse!G$3) *(INDIRECT($B8&"!H40:AE40")=Synthèse!$C8) *(INDIRECT($B8&"!H41:AE41"))) -> #NAME? | H8: =SUMPRODUCT((INDIRECT($B8&"!G41:G43")=Synthèse!$D8) *(INDIRECT($B8&"!H39:AE39")=Synthèse!H$3) *(INDIRECT($B8&"!H40:AE40")=Synthèse!$C8) *(INDIRECT($B8&"!H41:AE41"))) -> #NAME? | I8: =PROPER(TEXT(Tableau_de_synthèse[[#This Row],[Date]],"mmm")) -> Juin | J8: =_xlfn.ISOWEEKNUM(C8) -> #NAME? | K8: =PROPER(TEXT(C8,"jjj")) -> Mar
B9: ="S"&_xlfn.ISOWEEKNUM(Tableau_de_synthèse[[#This Row],[Date]]) -> #NAME? | C9: 42549 | D9: Client 3 | E9: =SUMPRODUCT((INDIRECT($B9&"!g41:g44")=Synthèse!$D9) *(INDIRECT($B9&"!H39:AE39")=Synthèse!E$3) *(INDIRECT($B9&"!H40:AE40")=Synthèse!$C9) *(INDIRECT($B9&"!H41:AE41"))) -> #NAME? | F9: =SUMPRODUCT((INDIRECT($B9&"!G41:G43")=Synthèse!$D9) *(INDIRECT($B9&"!H39:AE39")=Synthèse!F$3) *(INDIRECT($B9&"!H40:AE40")=Synthèse!$C9) *(INDIRECT($B9&"!H41:AE41"))) -> #NAME? | G9: =SUMPRODUCT((INDIRECT($B9&"!G41:G43")=Synthèse!$D9) *(INDIRECT($B9&"!H39:AE39")=Synthèse!G$3) *(INDIRECT($B9&"!H40:AE40")=Synthèse!$C9) *(INDIRECT($B9&"!H41:AE41"))) -> #NAME? | H9: =SUMPRODUCT((INDIRECT($B9&"!G41:G43")=Synthèse!$D9) *(INDIRECT($B9&"!H39:AE39")=Synthèse!H$3) *(INDIRECT($B9&"!H40:AE40")=Synthèse!$C9) *(INDIRECT($B9&"!H41:AE41"))) -> #NAME? | I9: =PROPER(TEXT(Tableau_de_synthèse[[#This Row],[Date]],"mmm")) -> Juin | J9: =_xlfn.ISOWEEKNUM(C9) -> #NAME? | K9: =PROPER(TEXT(C9,"jjj")) -> Mar
B10: ="S"&_xlfn.ISOWEEKNUM(Tableau_de_synthèse[[#This Row],[Date]]) -> #NAME? | C10: 42549 | D10: Client 1 | E10: =SUMPRODUCT((INDIRECT($B10&"!g41:g44")=Synthèse!$D10) *(INDIRECT($B10&"!H39:AE39")=Synthèse!E$3) *(INDIRECT($B10&"!H40:AE40")=Synthèse!$C10) *(INDIRECT($B10&"!H41:AE41"))) -> #NAME? | F10: =SUMPRODUCT((INDIRECT($B10&"!G41:G43")=Synthèse!$D10) *(INDIRECT($B10&"!H39:AE39")=Synthèse!F$3) *(INDIRECT($B10&"!H40:AE40")=Synthèse!$C10) *(INDIRECT($B10&"!H41:AE41"))) -> #NAME? | G10: =SUMPRODUCT((INDIRECT($B10&"!G41:G43")=Synthèse!$D10) *(INDIRECT($B10&"!H39:AE39")=Synthèse!G$3) *(INDIRECT($B10&"!H40:AE40")=Synthèse!$C10) *(INDIRECT($B10&"!H41:AE41"))) -> #NAME? | H10: =SUMPRODUCT((INDIRECT($B10&"!G41:G43")=Synthèse!$D10) *(INDIRECT($B10&"!H39:AE39")=Synthèse!H$3) *(INDIRECT($B10&"!H40:AE40")=Synthèse!$C10) *(INDIRECT($B10&"!H41:AE41"))) -> #NAME? | I10: =PROPER(TEXT(Tableau_de_synthèse[[#This Row],[Date]],"mmm")) -> Juin | J10: =_xlfn.ISOWEEKNUM(C10) -> #NAME? | K10: =PROPER(TEXT(C10,"jjj")) -> Mar

Sheet S26
H39: CA | I39: CIO | J39: Taux 1 | K39: Taux 2 | L39: CA | M39: CIO | N39: Taux 1 | O39: Taux 2 | P39: CA | Q39: CIO | R39: Taux 1 | S39: Taux 2 | T39: CA | U39: CIO | V39: Taux 1 | W39: Taux 2 | X39: CA | Y39: CIO | Z39: Taux 1 | AA39: Taux 2 | AB39: CA | AC39: CIO | AD39: Taux 1 | AE39: Taux 2
H40: 42548 | I40: 42548 | J40: 42548 | K40: 42548 | L40: 42549 | M40: 42549 | N40: 42549 | O40: 42549 | P40: 42550 | Q40: 42550 | R40: 42550 | S40: 42550 | T40: 42551 | U40: 42551 | V40: 42551 | W40: 42551 | X40: 42552 | Y40: 42552 | Z40: 42552 | AA40: 42552 | AB40: 42553 | AC40: 42552 | AD40: 42553 | AE40: 42552
G41: Client 1 | H41: 15711 | I41: 11088 | J41: 0.70574757 | K41: 0.99 | L41: 16923 | M41: 3808 | N41: 0.2250192 | O41: 0.71957672 | P41: 17113 | Q41: 0 | R41: 0 | T41: 17693 | U41: 28 | V41: 0.0015825468 | X41: 0 | Y41: 0 | AA41: 0 | AB41: 0 | AC41: 0 | AE41: 0
G42: Client 2 | H42: 13477 | I42: 9538 | J42: 0.70772427 | K42: 1.0458333 | L42: 14313 | M42: 9538 | N42: 0.6663872 | O42: 1.0458333 | P42: 15079 | Q42: 9500 | R42: 0.63001525 | S42: 1.0416667 | T42: 15227 | U42: 9234 | V42: 0.6064228 | W42: 1.0125 | X42: 0 | Y42: 0 | AA42: 0 | AB42: 0 | AC42: 0 | AE42: 0
G43: Client 3 | H43: 5852 | I43: 952 | J43: 0.16267943 | K43: 0.85 | L43: 6255 | M43: 168 | N43: 0.026858513 | P43: 6233 | Q43: 0 | R43: 0 | T43: 6456 | U43: 1176 | V43: 0.18215613 | X43: 0 | Y43: 0 | AB43: 0 | AC43: 0 | AE43: 0

Sheet S26 (2)
P39: Clients | Q39: CA | R39: CIO | S39: Taux 1 | T39: Taux 2 | U39: Dates | V39: Semaine
P40: Client 1 | Q40: 15711 | R40: 11088 | S40: 0.70574757 | T40: 0.99 | U40: 42548 | V40: =WEEKNUM(U40) -> 27
P41: Client 2 | Q41: 13477 | R41: 9538 | S41: 0.70772427 | T41: 1.0458333 | U41: 42548 | V41: =WEEKNUM(U41) -> 27 | AB41: Valeurs
P42: Client 3 | Q42: 5852 | R42: 952 | S42: 0.16267943 | T42: 0.85 | U42: 42548 | V42: =WEEKNUM(U42) -> 27 | Y42: Clients | Z42: Dates | AA42: Semaine | AB42: Somme de CA | AC42: Somme de CIO
P43: Client 1 | Q43: 16923 | R43: 3808 | S43: 0.2250192 | T43: 0.71957672 | U43: 42549 | V43: =WEEKNUM(U43) -> 27 | Y43: Client 1 | Z43: 42548 | AA43: 27 | AB43: 15711 | AC43: 11088
P44: Client 2 | Q44: 14313 | R44: 9538 | S44: 0.6663872 | T44: 1.0458333 | U44: 42549 | V44: =WEEKNUM(U44) -> 27 | Z44: 42549 | AA44: 27 | AB44: 16923 | AC44: 3808
P45: Client 3 | Q45: 6255 | R45: 168 | S45: 0.026858513 | U45: 42549 | V45: =WEEKNUM(U45) -> 27 | Z45: 42550 | AA45: 27 | AB45: 17113 | AC45: 0
P46: Client 1 | Q46: 17113 | R46: 0 | S46: 0 | U46: 42550 | V46: =WEEKNUM(U46) -> 27 | Z46: 42551 | AA46: 27 | AB46: 17693 | AC46: 28
P47: Client 2 | Q47: 15079 | R47: 9500 | S47: 0.63001525 | T47: 1.0416667 | U47: 42550 | V47: =WEEKNUM(U47) -> 27 | Y47: Total Client 1 | AB47: 67440 | AC47: 14924
P48: Client 3 | Q48: 6233 | R48: 0 | S48: 0 | U48: 42550 | V48: =WEEKNUM(U48) -> 27 | Y48: Client 2 | Z48: 42548 | AA48: 27 | AB48: 13477 | AC48: 9538
P49: Client 1 | Q49: 17693 | R49: 28 | S49: 0.0015825468 | U49: 42551 | V49: =WEEKNUM(U49) -> 27 | Z49: 42549 | AA49: 27 | AB49: 14313 | AC49: 9538
P50: Client 2 | Q50: 15227 | R50: 9234 | S50: 0.6064228 | T50: 1.0125 | U50: 42551 | V50: =WEEKNUM(U50) -> 27 | Z50: 42550 | AA50: 27 | AB50: 15079 | AC50: 9500
P51: Client 3 | Q51: 6456 | R51: 1176 | S51: 0.18215613 | U51: 42551 | V51: =WEEKNUM(U51) -> 27 | Z51: 42551 | AA51: 27 | AB51: 15227 | AC51: 9234
Y52: Total Client 2 | AB52: 58096 | AC52: 37810
Y53: Client 3 | Z53: 42548 | AA53: 27 | AB53: 5852 | AC53: 952
Z54: 42549 | AA54: 27 | AB54: 6255 | AC54: 168
Z55: 42550 | AA55: 27 | AB55: 6233 | AC55: 0
Z56: 42551 | AA56: 27 | AB56: 6456 | AC56: 1176
Y57: Total Client 3 | AB57: 24796 | AC57: 2296
Y58: Total général | AB58: 150332 | AC58: 55030
