Workbook
Name Segment_poste: #N/A

Sheet Feuil1
B1: JANVIER | C1: FÉVRIER | D1: MARS | E1: AVRIL | F1: MAI | G1: JUIN | H1: JUILLET | I1: AOÛT | J1: SEPTEMBRE | K1: OCTOBRE | L1: NOVEMBRE | M1: DÉCEMBRE
A2: Postes | B2: 1 | C2: 2 | D2: 3 | E2: 4 | F2: 5 | G2: 6 | H2: 7 | I2: 8 | J2: 9 | K2: 10 | L2: 11 | M2: 12
A4: Poste 1 | B4: {=IF(ISERROR(INDEX(Feuil2!$C1:$N2,2,MATCH(B$2,MONTH(Feuil2!$C1:$N1),0))),"-",INDEX(Feuil2!$C1:$N2,2,MATCH(B$2,MONTH(Feuil2!$C1:$N1),0)))} -> 40527 | C4: {=IF(ISERROR(INDEX(Feuil2!$C1:$N2,2,MATCH(C$2,MONTH(Feuil2!$C1:$N1),0))),"-",INDEX(Feuil2!$C1:$N2,2,MATCH(C$2,MONTH(Feuil2!$C1:$N1),0)))} -> 45313 | D4: {=IF(ISERROR(INDEX(Feuil2!$C1:$N2,2,MATCH(D$2,MONTH(Feuil2!$C1:$N1),0))),"-",INDEX(Feuil2!$C1:$N2,2,MATCH(D$2,MONTH(Feuil2!$C1:$N1),0)))} -> 47675 | E4: {=IF(ISERROR(INDEX(Feuil2!$C1:$N2,2,MATCH(E$2,MONTH(Feuil2!$C1:$N1),0))),"-",INDEX(Feuil2!$C1:$N2,2,MATCH(E$2,MONTH(Feuil2!$C1:$N1),0)))} -> 50284 | F4: {=IF(ISERROR(INDEX(Feuil2!$C1:$N2,2,MATCH(F$2,MONTH(Feuil2!$C1:$N1),0))),"-",INDEX(Feuil2!$C1:$N2,2,MATCH(F$2,MONTH(Feuil2!$C1:$N1),0)))} -> 53038 | G4: {=IF(ISERROR(INDEX(Feuil2!$C1:$N2,2,MATCH(G$2,MONTH(Feuil2!$C1:$N1),0))),"-",INDEX(Feuil2!$C1:$N2,2,MATCH(G$2,MONTH(Feuil2!$C1:$N1),0)))} -> 56176 | H4: {=IF(ISERROR(INDEX(Feuil2!$C1:$N2,2,MATCH(H$2,MONTH(Feuil2!$C1:$N1),0))),"-",INDEX(Feuil2!$C1:$N2,2,MATCH(H$2,MONTH(Feuil2!$C1:$N1),0)))} -> 58992 | I4: {=IF(ISERROR(INDEX(Feuil2!$C1:$N2,2,MATCH(I$2,MONTH(Feuil2!$C1:$N1),0))),"-",INDEX(Feuil2!$C1:$N2,2,MATCH(I$2,MONTH(Feuil2!$C1:$N1),0)))} -> 62417 | ... M4: {=IF(ISERROR(INDEX(Feuil2!$C1:$N2,2,MATCH(M$2,MONTH(Feuil2!$C1:$N1),0))),"-",INDEX(Feuil2!$C1:$N2,2,MATCH(M$2,MONTH(Feuil2!$C1:$N1),0)))} -> -
A5: Poste 2 | B5: {=IF(ISERROR(INDEX(Feuil2!$C3:$N4,2,MATCH(B$2,MONTH(Feuil2!$C3:$N3),0))),"-",INDEX(Feuil2!$C3:$N4,2,MATCH(B$2,MONTH(Feuil2!$C3:$N3),0)))} -> 0 | C5: {=IF(ISERROR(INDEX(Feuil2!$C3:$N4,2,MATCH(C$2,MONTH(Feuil2!$C3:$N3),0))),"-",INDEX(Feuil2!$C3:$N4,2,MATCH(C$2,MONTH(Feuil2!$C3:$N3),0)))} -> - | D5: {=IF(ISERROR(INDEX(Feuil2!$C3:$N4,2,MATCH(D$2,MONTH(Feuil2!$C3:$N3),0))),"-",INDEX(Feuil2!$C3:$N4,2,MATCH(D$2,MONTH(Feuil2!$C3:$N3),0)))} -> - | E5: {=IF(ISERROR(INDEX(Feuil2!$C3:$N4,2,MATCH(E$2,MONTH(Feuil2!$C3:$N3),0))),"-",INDEX(Feuil2!$C3:$N4,2,MATCH(E$2,MONTH(Feuil2!$C3:$N3),0)))} -> - | F5: {=IF(ISERROR(INDEX(Feuil2!$C3:$N4,2,MATCH(F$2,MONTH(Feuil2!$C3:$N3),0))),"-",INDEX(Feuil2!$C3:$N4,2,MATCH(F$2,MONTH(Feuil2!$C3:$N3),0)))} -> - | G5: {=IF(ISERROR(INDEX(Feuil2!$C3:$N4,2,MATCH(G$2,MONTH(Feuil2!$C3:$N3),0))),"-",INDEX(Feuil2!$C3:$N4,2,MATCH(G$2,MONTH(Feuil2!$C3:$N3),0)))} -> - | H5: {=IF(ISERROR(INDEX(Feuil2!$C3:$N4,2,MATCH(H$2,MONTH(Feuil2!$C3:$N3),0))),"-",INDEX(Feuil2!$C3:$N4,2,MATCH(H$2,MONTH(Feuil2!$C3:$N3),0)))} -> - | I5: {=IF(ISERROR(INDEX(Feuil2!$C3:$N4,2,MATCH(I$2,MONTH(Feuil2!$C3:$N3),0))),"-",INDEX(Feuil2!$C3:$N4,2,MATCH(I$2,MONTH(Feuil2!$C3:$N3),0)))} -> - | ... M5: {=IF(ISERROR(INDEX(Feuil2!$C3:$N4,2,MATCH(M$2,MONTH(Feuil2!$C3:$N3),0))),"-",INDEX(Feuil2!$C3:$N4,2,MATCH(M$2,MONTH(Feuil2!$C3:$N3),0)))} -> -
A6: Poste 3 | B6: {=IF(ISERROR(INDEX(Feuil2!$C5:$N6,2,MATCH(B$2,MONTH(Feuil2!$C5:$N5),0))),"-",INDEX(Feuil2!$C5:$N6,2,MATCH(B$2,MONTH(Feuil2!$C5:$N5),0)))} -> 5162 | C6: {=IF(ISERROR(INDEX(Feuil2!$C5:$N6,2,MATCH(C$2,MONTH(Feuil2!$C5:$N5),0))),"-",INDEX(Feuil2!$C5:$N6,2,MATCH(C$2,MONTH(Feuil2!$C5:$N5),0)))} -> 5663 | D6: {=IF(ISERROR(INDEX(Feuil2!$C5:$N6,2,MATCH(D$2,MONTH(Feuil2!$C5:$N5),0))),"-",INDEX(Feuil2!$C5:$N6,2,MATCH(D$2,MONTH(Feuil2!$C5:$N5),0)))} -> 6111 | E6: {=IF(ISERROR(INDEX(Feuil2!$C5:$N6,2,MATCH(E$2,MONTH(Feuil2!$C5:$N5),0))),"-",INDEX(Feuil2!$C5:$N6,2,MATCH(E$2,MONTH(Feuil2!$C5:$N5),0)))} -> 6589 | F6: {=IF(ISERROR(INDEX(Feuil2!$C5:$N6,2,MATCH(F$2,MONTH(Feuil2!$C5:$N5),0))),"-",INDEX(Feuil2!$C5:$N6,2,MATCH(F$2,MONTH(Feuil2!$C5:$N5),0)))} -> 7086 | G6: {=IF(ISERROR(INDEX(Feuil2!$C5:$N6,2,MATCH(G$2,MONTH(Feuil2!$C5:$N5),0))),"-",INDEX(Feuil2!$C5:$N6,2,MATCH(G$2,MONTH(Feuil2!$C5:$N5),0)))} -> 7566 | H6: {=IF(ISERROR(INDEX(Feuil2!$C5:$N6,2,MATCH(H$2,MONTH(Feuil2!$C5:$N5),0))),"-",INDEX(Feuil2!$C5:$N6,2,MATCH(H$2,MONTH(Feuil2!$C5:$N5),0)))} -> 8013 | I6: {=IF(ISERROR(INDEX(Feuil2!$C5:$N6,2,MATCH(I$2,MONTH(Feuil2!$C5:$N5),0))),"-",INDEX(Feuil2!$C5:$N6,2,MATCH(I$2,MONTH(Feuil2!$C5:$N5),0)))} -> 8570 | ... M6: {=IF(ISERROR(INDEX(Feuil2!$C5:$N6,2,MATCH(M$2,MONTH(Feuil2!$C5:$N5),0))),"-",INDEX(Feuil2!$C5:$N6,2,MATCH(M$2,MONTH(Feuil2!$C5:$N5),0)))} -> 10732
A7: Poste 4 | B7: {=IF(ISERROR(INDEX(Feuil2!$C7:$N8,2,MATCH(B$2,MONTH(Feuil2!$C7:$N7),0))),"-",INDEX(Feuil2!$C7:$N8,2,MATCH(B$2,MONTH(Feuil2!$C7:$N7),0)))} -> 2980 | C7: {=IF(ISERROR(INDEX(Feuil2!$C7:$N8,2,MATCH(C$2,MONTH(Feuil2!$C7:$N7),0))),"-",INDEX(Feuil2!$C7:$N8,2,MATCH(C$2,MONTH(Feuil2!$C7:$N7),0)))} -> 3239 | D7: {=IF(ISERROR(INDEX(Feuil2!$C7:$N8,2,MATCH(D$2,MONTH(Feuil2!$C7:$N7),0))),"-",INDEX(Feuil2!$C7:$N8,2,MATCH(D$2,MONTH(Feuil2!$C7:$N7),0)))} -> 3463 | E7: {=IF(ISERROR(INDEX(Feuil2!$C7:$N8,2,MATCH(E$2,MONTH(Feuil2!$C7:$N7),0))),"-",INDEX(Feuil2!$C7:$N8,2,MATCH(E$2,MONTH(Feuil2!$C7:$N7),0)))} -> 3703 | F7: {=IF(ISERROR(INDEX(Feuil2!$C7:$N8,2,MATCH(F$2,MONTH(Feuil2!$C7:$N7),0))),"-",INDEX(Feuil2!$C7:$N8,2,MATCH(F$2,MONTH(Feuil2!$C7:$N7),0)))} -> 3951 | G7: {=IF(ISERROR(INDEX(Feuil2!$C7:$N8,2,MATCH(G$2,MONTH(Feuil2!$C7:$N7),0))),"-",INDEX(Feuil2!$C7:$N8,2,MATCH(G$2,MONTH(Feuil2!$C7:$N7),0)))} -> 4194 | H7: {=IF(ISERROR(INDEX(Feuil2!$C7:$N8,2,MATCH(H$2,MONTH(Feuil2!$C7:$N7),0))),"-",INDEX(Feuil2!$C7:$N8,2,MATCH(H$2,MONTH(Feuil2!$C7:$N7),0)))} -> 4425 | I7: {=IF(ISERROR(INDEX(Feuil2!$C7:$N8,2,MATCH(I$2,MONTH(Feuil2!$C7:$N7),0))),"-",INDEX(Feuil2!$C7:$N8,2,MATCH(I$2,MONTH(Feuil2!$C7:$N7),0)))} -> 4705 | ... M7: {=IF(ISERROR(INDEX(Feuil2!$C7:$N8,2,MATCH(M$2,MONTH(Feuil2!$C7:$N7),0))),"-",INDEX(Feuil2!$C7:$N8,2,MATCH(M$2,MONTH(Feuil2!$C7:$N7),0)))} -> 5797
A8: Poste 5 | B8: {=IF(ISERROR(INDEX(Feuil2!$C9:$N10,2,MATCH(B$2,MONTH(Feuil2!$C9:$N9),0))),"-",INDEX(Feuil2!$C9:$N10,2,MATCH(B$2,MONTH(Feuil2!$C9:$N9),0)))} -> 3498306 | C8: {=IF(ISERROR(INDEX(Feuil2!$C9:$N10,2,MATCH(C$2,MONTH(Feuil2!$C9:$N9),0))),"-",INDEX(Feuil2!$C9:$N10,2,MATCH(C$2,MONTH(Feuil2!$C9:$N9),0)))} -> 3523661 | D8: {=IF(ISERROR(INDEX(Feuil2!$C9:$N10,2,MATCH(D$2,MONTH(Feuil2!$C9:$N9),0))),"-",INDEX(Feuil2!$C9:$N10,2,MATCH(D$2,MONTH(Feuil2!$C9:$N9),0)))} -> 3531332 | E8: {=IF(ISERROR(INDEX(Feuil2!$C9:$N10,2,MATCH(E$2,MONTH(Feuil2!$C9:$N9),0))),"-",INDEX(Feuil2!$C9:$N10,2,MATCH(E$2,MONTH(Feuil2!$C9:$N9),0)))} -> 3563460 | F8: {=IF(ISERROR(INDEX(Feuil2!$C9:$N10,2,MATCH(F$2,MONTH(Feuil2!$C9:$N9),0))),"-",INDEX(Feuil2!$C9:$N10,2,MATCH(F$2,MONTH(Feuil2!$C9:$N9),0)))} -> 3584966 | G8: {=IF(ISERROR(INDEX(Feuil2!$C9:$N10,2,MATCH(G$2,MONTH(Feuil2!$C9:$N9),0))),"-",INDEX(Feuil2!$C9:$N10,2,MATCH(G$2,MONTH(Feuil2!$C9:$N9),0)))} -> 22870 | H8: {=IF(ISERROR(INDEX(Feuil2!$C9:$N10,2,MATCH(H$2,MONTH(Feuil2!$C9:$N9),0))),"-",INDEX(Feuil2!$C9:$N10,2,MATCH(H$2,MONTH(Feuil2!$C9:$N9),0)))} -> 46436 | I8: {=IF(ISERROR(INDEX(Feuil2!$C9:$N10,2,MATCH(I$2,MONTH(Feuil2!$C9:$N9),0))),"-",INDEX(Feuil2!$C9:$N10,2,MATCH(I$2,MONTH(Feuil2!$C9:$N9),0)))} -> 70481 | ... M8: {=IF(ISERROR(INDEX(Feuil2!$C9:$N10,2,MATCH(M$2,MONTH(Feuil2!$C9:$N9),0))),"-",INDEX(Feuil2!$C9:$N10,2,MATCH(M$2,MONTH(Feuil2!$C9:$N9),0)))} -> 126941
A9: Poste 6 | B9: {=IF(ISERROR(INDEX(Feuil2!$C11:$N12,2,MATCH(B$2,MONTH(Feuil2!$C11:$N11),0))),"-",INDEX(Feuil2!$C11:$N12,2,MATCH(B$2,MONTH(Feuil2!$C11:$N11),0)))} -> 8003087 | C9: {=IF(ISERROR(INDEX(Feuil2!$C11:$N12,2,MATCH(C$2,MONTH(Feuil2!$C11:$N11),0))),"-",INDEX(Feuil2!$C11:$N12,2,MATCH(C$2,MONTH(Feuil2!$C11:$N11),0)))} -> 8125993 | D9: {=IF(ISERROR(INDEX(Feuil2!$C11:$N12,2,MATCH(D$2,MONTH(Feuil2!$C11:$N11),0))),"-",INDEX(Feuil2!$C11:$N12,2,MATCH(D$2,MONTH(Feuil2!$C11:$N11),0)))} -> 8237283 | E9: {=IF(ISERROR(INDEX(Feuil2!$C11:$N12,2,MATCH(E$2,MONTH(Feuil2!$C11:$N11),0))),"-",INDEX(Feuil2!$C11:$N12,2,MATCH(E$2,MONTH(Feuil2!$C11:$N11),0)))} -> 8380740 | F9: {=IF(ISERROR(INDEX(Feuil2!$C11:$N12,2,MATCH(F$2,MONTH(Feuil2!$C11:$N11),0))),"-",INDEX(Feuil2!$C11:$N12,2,MATCH(F$2,MONTH(Feuil2!$C11:$N11),0)))} -> 8546526 | G9: {=IF(ISERROR(INDEX(Feuil2!$C11:$N12,2,MATCH(G$2,MONTH(Feuil2!$C11:$N11),0))),"-",INDEX(Feuil2!$C11:$N12,2,MATCH(G$2,MONTH(Feuil2!$C11:$N11),0)))} -> 8546526 | H9: {=IF(ISERROR(INDEX(Feuil2!$C11:$N12,2,MATCH(H$2,MONTH(Feuil2!$C11:$N11),0))),"-",INDEX(Feuil2!$C11:$N12,2,MATCH(H$2,MONTH(Feuil2!$C11:$N11),0)))} -> 8679221 | I9: {=IF(ISERROR(INDEX(Feuil2!$C11:$N12,2,MATCH(I$2,MONTH(Feuil2!$C11:$N11),0))),"-",INDEX(Feuil2!$C11:$N12,2,MATCH(I$2,MONTH(Feuil2!$C11:$N11),0)))} -> 8817071 | ... M9: {=IF(ISERROR(INDEX(Feuil2!$C11:$N12,2,MATCH(M$2,MONTH(Feuil2!$C11:$N11),0))),"-",INDEX(Feuil2!$C11:$N12,2,MATCH(M$2,MONTH(Feuil2!$C11:$N11),0)))} -> 253948
A10: Poste 7 | B10: {=IF(ISERROR(INDEX(Feuil2!$C13:$N14,2,MATCH(B$2,MONTH(Feuil2!$C13:$N13),0))),"-",INDEX(Feuil2!$C13:$N14,2,MATCH(B$2,MONTH(Feuil2!$C13:$N13),0)))} -> 1066798 | C10: {=IF(ISERROR(INDEX(Feuil2!$C13:$N14,2,MATCH(C$2,MONTH(Feuil2!$C13:$N13),0))),"-",INDEX(Feuil2!$C13:$N14,2,MATCH(C$2,MONTH(Feuil2!$C13:$N13),0)))} -> 1188439 | D10: {=IF(ISERROR(INDEX(Feuil2!$C13:$N14,2,MATCH(D$2,MONTH(Feuil2!$C13:$N13),0))),"-",INDEX(Feuil2!$C13:$N14,2,MATCH(D$2,MONTH(Feuil2!$C13:$N13),0)))} -> 1296849 | E10: {=IF(ISERROR(INDEX(Feuil2!$C13:$N14,2,MATCH(E$2,MONTH(Feuil2!$C13:$N13),0))),"-",INDEX(Feuil2!$C13:$N14,2,MATCH(E$2,MONTH(Feuil2!$C13:$N13),0)))} -> 1427258 | F10: {=IF(ISERROR(INDEX(Feuil2!$C13:$N14,2,MATCH(F$2,MONTH(Feuil2!$C13:$N13),0))),"-",INDEX(Feuil2!$C13:$N14,2,MATCH(F$2,MONTH(Feuil2!$C13:$N13),0)))} -> 1553494 | G10: {=IF(ISERROR(INDEX(Feuil2!$C13:$N14,2,MATCH(G$2,MONTH(Feuil2!$C13:$N13),0))),"-",INDEX(Feuil2!$C13:$N14,2,MATCH(G$2,MONTH(Feuil2!$C13:$N13),0)))} -> 1687428 | H10: {=IF(ISERROR(INDEX(Feuil2!$C13:$N14,2,MATCH(H$2,MONTH(Feuil2!$C13:$N13),0))),"-",INDEX(Feuil2!$C13:$N14,2,MATCH(H$2,MONTH(Feuil2!$C13:$N13),0)))} -> 1820123 | I10: {=IF(ISERROR(INDEX(Feuil2!$C13:$N14,2,MATCH(I$2,MONTH(Feuil2!$C13:$N13),0))),"-",INDEX(Feuil2!$C13:$N14,2,MATCH(I$2,MONTH(Feuil2!$C13:$N13),0)))} -> 1957973 | ... M10: {=IF(ISERROR(INDEX(Feuil2!$C13:$N14,2,MATCH(M$2,MONTH(Feuil2!$C13:$N13),0))),"-",INDEX(Feuil2!$C13:$N14,2,MATCH(M$2,MONTH(Feuil2!$C13:$N13),0)))} -> 2578247
A11: Poste 8 | B11: {=IF(ISERROR(INDEX(Feuil2!$C15:$N16,2,MATCH(B$2,MONTH(Feuil2!$C15:$N15),0))),"-",INDEX(Feuil2!$C15:$N16,2,MATCH(B$2,MONTH(Feuil2!$C15:$N15),0)))} -> 0 | C11: {=IF(ISERROR(INDEX(Feuil2!$C15:$N16,2,MATCH(C$2,MONTH(Feuil2!$C15:$N15),0))),"-",INDEX(Feuil2!$C15:$N16,2,MATCH(C$2,MONTH(Feuil2!$C15:$N15),0)))} -> - | D11: {=IF(ISERROR(INDEX(Feuil2!$C15:$N16,2,MATCH(D$2,MONTH(Feuil2!$C15:$N15),0))),"-",INDEX(Feuil2!$C15:$N16,2,MATCH(D$2,MONTH(Feuil2!$C15:$N15),0)))} -> - | E11: {=IF(ISERROR(INDEX(Feuil2!$C15:$N16,2,MATCH(E$2,MONTH(Feuil2!$C15:$N15),0))),"-",INDEX(Feuil2!$C15:$N16,2,MATCH(E$2,MONTH(Feuil2!$C15:$N15),0)))} -> - | F11: {=IF(ISERROR(INDEX(Feuil2!$C15:$N16,2,MATCH(F$2,MONTH(Feuil2!$C15:$N15),0))),"-",INDEX(Feuil2!$C15:$N16,2,MATCH(F$2,MONTH(Feuil2!$C15:$N15),0)))} -> 0 | G11: {=IF(ISERROR(INDEX(Feuil2!$C15:$N16,2,MATCH(G$2,MONTH(Feuil2!$C15:$N15),0))),"-",INDEX(Feuil2!$C15:$N16,2,MATCH(G$2,MONTH(Feuil2!$C15:$N15),0)))} -> 120 | H11: {=IF(ISERROR(INDEX(Feuil2!$C15:$N16,2,MATCH(H$2,MONTH(Feuil2!$C15:$N15),0))),"-",INDEX(Feuil2!$C15:$N16,2,MATCH(H$2,MONTH(Feuil2!$C15:$N15),0)))} -> 292 | I11: {=IF(ISERROR(INDEX(Feuil2!$C15:$N16,2,MATCH(I$2,MONTH(Feuil2!$C15:$N15),0))),"-",INDEX(Feuil2!$C15:$N16,2,MATCH(I$2,MONTH(Feuil2!$C15:$N15),0)))} -> 554 | ... M11: {=IF(ISERROR(INDEX(Feuil2!$C15:$N16,2,MATCH(M$2,MONTH(Feuil2!$C15:$N15),0))),"-",INDEX(Feuil2!$C15:$N16,2,MATCH(M$2,MONTH(Feuil2!$C15:$N15),0)))} -> 1186
A12: Poste 9 | B12: {=IF(ISERROR(INDEX(Feuil2!$C17:$N18,2,MATCH(B$2,MONTH(Feuil2!$C17:$N17),0))),"-",INDEX(Feuil2!$C17:$N18,2,MATCH(B$2,MONTH(Feuil2!$C17:$N17),0)))} -> 10649 | C12: {=IF(ISERROR(INDEX(Feuil2!$C17:$N18,2,MATCH(C$2,MONTH(Feuil2!$C17:$N17),0))),"-",INDEX(Feuil2!$C17:$N18,2,MATCH(C$2,MONTH(Feuil2!$C17:$N17),0)))} -> 10649 | D12: {=IF(ISERROR(INDEX(Feuil2!$C17:$N18,2,MATCH(D$2,MONTH(Feuil2!$C17:$N17),0))),"-",INDEX(Feuil2!$C17:$N18,2,MATCH(D$2,MONTH(Feuil2!$C17:$N17),0)))} -> 10649 | E12: {=IF(ISERROR(INDEX(Feuil2!$C17:$N18,2,MATCH(E$2,MONTH(Feuil2!$C17:$N17),0))),"-",INDEX(Feuil2!$C17:$N18,2,MATCH(E$2,MONTH(Feuil2!$C17:$N17),0)))} -> 14155 | F12: {=IF(ISERROR(INDEX(Feuil2!$C17:$N18,2,MATCH(F$2,MONTH(Feuil2!$C17:$N17),0))),"-",INDEX(Feuil2!$C17:$N18,2,MATCH(F$2,MONTH(Feuil2!$C17:$N17),0)))} -> 22155 | G12: {=IF(ISERROR(INDEX(Feuil2!$C17:$N18,2,MATCH(G$2,MONTH(Feuil2!$C17:$N17),0))),"-",INDEX(Feuil2!$C17:$N18,2,MATCH(G$2,MONTH(Feuil2!$C17:$N17),0)))} -> 30652 | H12: {=IF(ISERROR(INDEX(Feuil2!$C17:$N18,2,MATCH(H$2,MONTH(Feuil2!$C17:$N17),0))),"-",INDEX(Feuil2!$C17:$N18,2,MATCH(H$2,MONTH(Feuil2!$C17:$N17),0)))} -> 38767 | I12: {=IF(ISERROR(INDEX(Feuil2!$C17:$N18,2,MATCH(I$2,MONTH(Feuil2!$C17:$N17),0))),"-",INDEX(Feuil2!$C17:$N18,2,MATCH(I$2,MONTH(Feuil2!$C17:$N17),0)))} -> 48157 | ... M12: {=IF(ISERROR(INDEX(Feuil2!$C17:$N18,2,MATCH(M$2,MONTH(Feuil2!$C17:$N17),0))),"-",INDEX(Feuil2!$C17:$N18,2,MATCH(M$2,MONTH(Feuil2!$C17:$N17),0)))} -> 72934
A13: Poste 10 | B13: {=IF(ISERROR(INDEX(Feuil2!$C19:$N20,2,MATCH(B$2,MONTH(Feuil2!$C19:$N19),0))),"-",INDEX(Feuil2!$C19:$N20,2,MATCH(B$2,MONTH(Feuil2!$C19:$N19),0)))} -> 17021 | C13: {=IF(ISERROR(INDEX(Feuil2!$C19:$N20,2,MATCH(C$2,MONTH(Feuil2!$C19:$N19),0))),"-",INDEX(Feuil2!$C19:$N20,2,MATCH(C$2,MONTH(Feuil2!$C19:$N19),0)))} -> 24231 | D13: {=IF(ISERROR(INDEX(Feuil2!$C19:$N20,2,MATCH(D$2,MONTH(Feuil2!$C19:$N19),0))),"-",INDEX(Feuil2!$C19:$N20,2,MATCH(D$2,MONTH(Feuil2!$C19:$N19),0)))} -> 31155 | E13: {=IF(ISERROR(INDEX(Feuil2!$C19:$N20,2,MATCH(E$2,MONTH(Feuil2!$C19:$N19),0))),"-",INDEX(Feuil2!$C19:$N20,2,MATCH(E$2,MONTH(Feuil2!$C19:$N19),0)))} -> 35125 | F13: {=IF(ISERROR(INDEX(Feuil2!$C19:$N20,2,MATCH(F$2,MONTH(Feuil2!$C19:$N19),0))),"-",INDEX(Feuil2!$C19:$N20,2,MATCH(F$2,MONTH(Feuil2!$C19:$N19),0)))} -> 35125 | G13: {=IF(ISERROR(INDEX(Feuil2!$C19:$N20,2,MATCH(G$2,MONTH(Feuil2!$C19:$N19),0))),"-",INDEX(Feuil2!$C19:$N20,2,MATCH(G$2,MONTH(Feuil2!$C19:$N19),0)))} -> 35125 | H13: {=IF(ISERROR(INDEX(Feuil2!$C19:$N20,2,MATCH(H$2,MONTH(Feuil2!$C19:$N19),0))),"-",INDEX(Feuil2!$C19:$N20,2,MATCH(H$2,MONTH(Feuil2!$C19:$N19),0)))} -> 35125 | I13: {=IF(ISERROR(INDEX(Feuil2!$C19:$N20,2,MATCH(I$2,MONTH(Feuil2!$C19:$N19),0))),"-",INDEX(Feuil2!$C19:$N20,2,MATCH(I$2,MONTH(Feuil2!$C19:$N19),0)))} -> 35125 | ... M13: {=IF(ISERROR(INDEX(Feuil2!$C19:$N20,2,MATCH(M$2,MONTH(Feuil2!$C19:$N19),0))),"-",INDEX(Feuil2!$C19:$N20,2,MATCH(M$2,MONTH(Feuil2!$C19:$N19),0)))} -> 48344
P18: Exemple de TCD avec segment
P20: date | Q20: valeur | R20: poste | T20: Date/poste | U20: Somme de valeur
P21: 42751.406 | Q21: 40527 | R21: 1 | T21: janv | U21: 40527
P22: 42751.406 | Q22: 5162 | R22: 3 | T22: 1 | U22: 40527
P23: 42751.406 | Q23: 2980 | R23: 4 | T23: févr | U23: 45313
P24: 42781.427 | Q24: 45313 | R24: 1 | T24: 1 | U24: 45313
P25: 42839.438 | Q25: 50284 | R25: 1 | T25: avr | U25: 50284
P26: 42751.552 | Q26: 10649 | R26: 9 | T26: 1 | U26: 50284
T27: Total général | U27: 136124

Sheet Feuil2
A1: Poste 1 | B1: date | C1: 42751.406 | D1: 42781.427 | E1: 42809.438 | F1: 42839.438 | G1: 42870.417 | H1: 42900.396 | I1: 42928.604 | J1: 42963.438 | K1: 43007.406
B2: valeur | C2: 40527 | D2: 45313 | E2: 47675 | F2: 50284 | G2: 53038 | H2: 56176 | I2: 58992 | J2: 62417 | K2: 67528
A3: Poste 2 | B3: date
B4: valeur
A5: Poste 3 | B5: date | C5: 42751.406 | D5: 42781.427 | E5: 42809.438 | F5: 42839.438 | G5: 42870.417 | H5: 42900.396 | I5: 42928.604 | J5: 42963.438 | K5: 43007.406 | L5: 43039.562 | M5: 43068.354 | N5: 43098.385
B6: valeur | C6: 5162 | D6: 5663 | E6: 6111 | F6: 6589 | G6: 7086 | H6: 7566 | I6: 8013 | J6: 8570 | K6: 9275 | L6: 9988 | M6: 10251 | N6: 10732
A7: Poste 4 | B7: date | C7: 42751.406 | D7: 42781.427 | E7: 42809.438 | F7: 42839.438 | G7: 42870.417 | H7: 42900.396 | I7: 42928.604 | J7: 42963.438 | K7: 43007.406 | L7: 43039.562 | M7: 43068.354 | N7: 43098.385
B8: valeur | C8: 2980 | D8: 3239 | E8: 3463 | F8: 3703 | G8: 3951 | H8: 4194 | I8: 4425 | J8: 4705 | K8: 5062 | L8: 5323 | M8: 5556 | N8: 5797
A9: Poste 5 | B9: date | C9: 42751.583 | D9: 42781.448 | E9: 42809.531 | F9: 42839.417 | G9: 42870.458 | H9: 42900.427 | I9: 42929.427 | J9: 42964.406 | K9: 43007.417 | L9: 43039.417 | M9: 43098.438
B10: valeur | C10: 3498306 | D10: 3523661 | E10: 3531332 | F10: 3563460 | G10: 3584966 | H10: 22870 | I10: 46436 | J10: 70481 | K10: 103196 | L10: 126153 | M10: 126941
A11: Poste 6 | B11: date | C11: 42751.417 | D11: 42781.646 | E11: 42809.552 | F11: 42839.583 | G11: 42870.552 | H11: 42900.354 | I11: 42929.396 | J11: 42963.448 | K11: 43007.552 | L11: 43098.542
B12: valeur | C12: 8003087 | D12: 8125993 | E12: 8237283 | F12: 8380740 | G12: 8546526 | H12: 8546526 | I12: 8679221 | J12: 8817071 | K12: 8817071 | L12: 253948
A13: Poste 7 | B13: date | C13: 42751.417 | D13: 42781.656 | E13: 42809.552 | F13: 42839.583 | G13: 42870.552 | H13: 42900.354 | I13: 42929.396 | J13: 42963.448 | K13: 43007.552 | L13: 43039.448 | M13: 43068.438 | N13: 43098.542
B14: valeur | C14: 1066798 | D14: 1188439 | E14: 1296849 | F14: 1427258 | G14: 1553494 | H14: 1687428 | I14: 1820123 | J14: 1957973 | K14: 2151628 | L14: 2285317 | M14: 2403066.5 | N14: 2578247
A15: Poste 8 | B15: date | C15: 42884.385 | D15: 42900 | E15: 42928.573 | F15: 42963.396 | G15: 43007.552 | H15: 43039.417 | I15: 43068.406 | J15: 43098.375
B16: valeur | C16: 0 | D16: 120 | E16: 292 | F16: 554 | G16: 874 | H16: 1178 | I16: 1186 | J16: 1186
A17: Poste 9 | B17: date | C17: 42751.552 | D17: 42781.406 | E17: 42809.385 | F17: 42839.375 | G17: 42870.396 | H17: 42900.427 | I17: 42928.594 | J17: 42963.417 | K17: 43007.438 | L17: 43039.448 | M17: 43068.385 | N17: 43098.438
B18: valeur | C18: 10649 | D18: 10649 | E18: 10649 | F18: 14155 | G18: 22155 | H18: 30652 | I18: 38767 | J18: 48157 | K18: 62151 | L18: 72676 | M18: 72934 | N18: 72934
A19: Poste 10 | B19: date | C19: 42751.552 | D19: 42781.406 | E19: 42809.385 | F19: 42839.375 | G19: 42870.396 | H19: 42900.427 | I19: 42928.594 | J19: 42963.417 | K19: 43007.438 | L19: 43039.448 | M19: 43068.385 | N19: 43098.438
B20: valeur | C20: 17021 | D20: 24231 | E20: 31155 | F20: 35125 | G20: 35125 | H20: 35125 | I20: 35125 | J20: 35125 | K20: 35125 | L20: 35125 | M20: 41508 | N20: 48344
