Workbook
Name apièces: OFFSET([3]Pieces!#REF!,,,COUNTA([3]Pieces!$A:$A))
Name apièces: OFFSET([3]Pieces!#REF!,,,COUNTA([3]Pieces!$A:$A))
Name apièces: OFFSET([3]Pieces!#REF!,,,COUNTA([3]Pieces!$A:$A))
Name apièces: OFFSET([3]Pieces!#REF!,,,COUNTA([3]Pieces!$A:$A))
Name apièces: OFFSET([3]Pieces!#REF!,,,COUNTA([3]Pieces!$A:$A))
Name apièces: OFFSET([3]Pieces!#REF!,,,COUNTA([3]Pieces!$A:$A))
Name apièces: OFFSET([3]Pieces!#REF!,,,COUNTA([3]Pieces!$A:$A))
Name apièces: OFFSET([3]Pieces!#REF!,,,COUNTA([3]Pieces!$A:$A))
Name apièces: OFFSET([3]Pieces!#REF!,,,COUNTA([3]Pieces!$A:$A))
Name apièces: OFFSET([3]Pieces!#REF!,,,COUNTA([3]Pieces!$A:$A))
Name apièces: OFFSET([3]Pieces!#REF!,,,COUNTA([3]Pieces!$A:$A))
Name arim: OFFSET([3]Pieces!#REF!,,,COUNTA([3]Pieces!$A:$A))
Name arim: OFFSET([3]Pieces!#REF!,,,COUNTA([3]Pieces!$A:$A))
Name arim: OFFSET([3]Pieces!#REF!,,,COUNTA([3]Pieces!$A:$A))
Name arim: OFFSET([3]Pieces!#REF!,,,COUNTA([3]Pieces!$A:$A))
Name arim: OFFSET([3]Pieces!#REF!,,,COUNTA([3]Pieces!$A:$A))
Name arim: OFFSET([3]Pieces!#REF!,,,COUNTA([3]Pieces!$A:$A))
Name arim: OFFSET([3]Pieces!#REF!,,,COUNTA([3]Pieces!$A:$A))
Name arim: OFFSET([3]Pieces!#REF!,,,COUNTA([3]Pieces!$A:$A))
Name arim: OFFSET([3]Pieces!#REF!,,,COUNTA([3]Pieces!$A:$A))
Name arim: OFFSET([3]Pieces!#REF!,,,COUNTA([3]Pieces!$A:$A))
Name arim: OFFSET([3]Pieces!#REF!,,,COUNTA([3]Pieces!$A:$A))
Name BDD: #REF!
Name BDD: #REF!
Name BDD: #REF!
Name BDD: #REF!
Name BDD: #REF!
Name BDD: #REF!
Name BDD: #REF!
Name BDD: #REF!
Name BDD: #REF!
Name BDD: #REF!
Name BDD: #REF!
Name fchv: OFFSET([3]Pieces!#REF!,,,COUNTA([3]Pieces!$A:$A))
Name fchv: OFFSET([3]Pieces!#REF!,,,COUNTA([3]Pieces!$A:$A))
Name fchv: OFFSET([3]Pieces!#REF!,,,COUNTA([3]Pieces!$A:$A))
Name fchv: OFFSET([3]Pieces!#REF!,,,COUNTA([3]Pieces!$A:$A))
Name fchv: OFFSET([3]Pieces!#REF!,,,COUNTA([3]Pieces!$A:$A))
Name fchv: OFFSET([3]Pieces!#REF!,,,COUNTA([3]Pieces!$A:$A))
Name fchv: OFFSET([3]Pieces!#REF!,,,COUNTA([3]Pieces!$A:$A))
Name fchv: OFFSET([3]Pieces!#REF!,,,COUNTA([3]Pieces!$A:$A))
Name fchv: OFFSET([3]Pieces!#REF!,,,COUNTA([3]Pieces!$A:$A))
Name fchv: OFFSET([3]Pieces!#REF!,,,COUNTA([3]Pieces!$A:$A))
Name fchv: OFFSET([3]Pieces!#REF!,,,COUNTA([3]Pieces!$A:$A))
Name kk: #REF!
Name kk: #REF!
Name kk: #REF!
Name kk: #REF!
Name kk: #REF!
Name kk: #REF!
Name kk: #REF!
Name kk: #REF!
Name kk: #REF!
Name kk: #REF!
Name kk: #REF!
Name ll: #REF!
Name ll: #REF!
Name ll: #REF!
Name ll: #REF!
Name ll: #REF!

Sheet MODELE
A1: 21-04-2022 | Z1: CODE: DAS-PRO-16
Z2: DATE:30/08/2019
Z3: VERSION:07
Z4: PAGE:1
A8: SYMBOLE | B8: MACHINE | C8: REF ARTICLE | D8: DESIGNATION | E8: COMPTEUR AUJOURD’HUI à 8h | F8: COMPTEUR HIER à 17H | G8: COMPTEUR HIER à 22H | H8: COMPTEUR AUJOURD’HUI à 8h | I8: CADENCE | J8: NOMBRE DE PIECES FINIS PAR CYCLE | K8: PIECES SUIVANT COMPTEU 8h-->17h | L8: PIECES SUIVANT COMPTEUR 17H-->22H | M8: PIECES SUIVANT COMPTEUR 6h-->8h | N8: NOMBRE D'HEURES DE TRAVAIL 8h-->17h | O8: NOMBRE D'HEURES DE TRAVAIL 17H-->22H | P8: NOMBRE D'HEURES DE TRAVAIL 6h-->8h | Q8: NOMBRE D'HEURES DE TRAVAIL | R8: OBSERVATIONS | S8: Pieces manquantes | T8: PIECES NC | U8: Pieces REELLES | V8: Nombre des pieces à retoucher | W8: Cause de la non-conformité | X8: Effet de la non-conformité | Y8: Machine pour retouche | Z8: NOMBRES D'HEURES SUIVANT LES PIECES REELLES | AA8: RENDEMENT | AB8: Maintenance | AC8: Affutage | AD8: Gamme d'usingae | AE8: ALERTES | AF8: enregitrement | AG8: Identification | AH8: Propreté des tables de contrôle | AI8: Rangement des outils de contrôle | AJ8: Existance de l'OF | AK8: Panne | AL8: gestion de modification | AM8: A | AN8: P | AO8: Q | AP8: OEE | AQ8: OEE
A9: A | B9: SST16 | C9: =IFERROR(VLOOKUP(D9,Pieces!A:B,2,0)," ") | I9: =IFERROR(VLOOKUP(D9,Pieces!A:C,3,0),"") | J9: 1 | K9: =(F9-E9)*J9 -> 0 | L9: =(G9-F9)*J9 -> 0 | M9: =(H9-G9)*J9 -> 0 | N9: =IF(I9="","",K9/I9) | O9: =IF(I9="","",L9/I9) | P9: =IF(I9="","",M9/I9) | Q9: 12 | S9: =U9+T9-K9-L9-M9 -> 0 | U9: =(K9+L9+M9)-T9-V9 -> 0 | Z9: =IF(OR(I9="",I9=0),0,(U9+T9)/I9) -> 0 | AA9: =IF(OR(Q9=0,I9=0),"",Z9/Q9*100) -> 0 | AE9: =IF(AA9>85," ","WARNING") -> WARNING | AM9: =(N9+O9+P9)/(Q9*3600) -> #VALUE! | AN9: =((3600/I9)*U9)/(N9+O9+P9) -> #VALUE! | AO9: =(U9-T9)/U9 -> #DIV/0! | AP9: =AM9*AN9*AO9 -> #VALUE! | AQ9: =((U9-T9)*(3600/I9))/(Q9*3600) -> #VALUE!
A10: B | B10: SB16 | C10: =IFERROR(VLOOKUP(D10,Pieces!A:B,2,0)," ") | I10: =IFERROR(VLOOKUP(D10,Pieces!A:C,3,0),"") | J10: 1 | K10: =(F10-E10)*J10 -> 0 | L10: =(G10-F10)*J10 -> 0 | M10: =(H10-G10)*J10 -> 0 | N10: =IF(I10="","",K10/I10) | O10: =IF(I10="","",L10/I10) | P10: =IF(I10="","",M10/I10) | Q10: 12 | S10: =U10+T10-K10-L10-M10 -> 0 | U10: =(K10+L10+M10)-T10-V10 -> 0 | Z10: =IF(OR(I10="",I10=0),0,(U10+T10)/I10) -> 0 | AA10: =IF(OR(Q10=0,I10=0),"",Z10/Q10*100) -> 0 | AE10: =IF(AA10>85," ","WARNING") -> WARNING | AM10: =(N10+O10+P10)/(Q10*3600) -> #VALUE! | AN10: =((3600/I10)*U10)/(N10+O10+P10) -> #VALUE! | AO10: =(U10-T10)/U10 -> #DIV/0! | AP10: =AM10*AN10*AO10 -> #VALUE! | AQ10: =((U10-T10)*(3600/I10))/(Q10*3600) -> #VALUE!
A11: C | B11: BIGLIA 301 SM | C11: =IFERROR(VLOOKUP(D11,Pieces!A:B,2,0)," ") | I11: =IFERROR(VLOOKUP(D11,Pieces!A:C,3,0),"") | J11: 1 | K11: =(F11-E11)*J11 -> 0 | L11: =(G11-F11)*J11 -> 0 | M11: =(H11-G11)*J11 -> 0 | N11: =IF(I11="","",K11/I11) | O11: =IF(I11="","",L11/I11) | P11: =IF(I11="","",M11/I11) | Q11: 12 | S11: =U11+T11-K11-L11-M11 -> 0 | T11: 6 | U11: =(K11+L11+M11)-T11-V11 -> -6 | Z11: =IF(OR(I11="",I11=0),0,(U11+T11)/I11) -> 0 | AA11: =IF(OR(Q11=0,I11=0),"",Z11/Q11*100) -> 0 | AE11: =IF(AA11>85," ","WARNING") -> WARNING | AM11: =(N11+O11+P11)/(Q11*3600) -> #VALUE! | AN11: =((3600/I11)*U11)/(N11+O11+P11) -> #VALUE! | AO11: =(U11-T11)/U11 -> 2 | AP11: =AM11*AN11*AO11 -> #VALUE! | AQ11: =((U11-T11)*(3600/I11))/(Q11*3600) -> #VALUE!
A12: D | B12: BIGLIA 42 S2M bitourelle | C12: =IFERROR(VLOOKUP(D12,Pieces!A:B,2,0)," ") | I12: =IFERROR(VLOOKUP(D12,Pieces!A:C,3,0),"") | J12: 1 | K12: =(F12-E12)*J12 -> 0 | L12: =(G12-F12)*J12 -> 0 | M12: =(H12-G12)*J12 -> 0 | N12: =IF(I12="","",K12/I12) | O12: =IF(I12="","",L12/I12) | P12: =IF(I12="","",M12/I12) | Q12: 9 | S12: =U12+T12-K12-L12-M12 -> 0 | U12: =(K12+L12+M12)-T12-V12 -> 0 | Z12: =IF(OR(I12="",I12=0),0,(U12+T12)/I12) -> 0 | AA12: =IF(OR(Q12=0,I12=0),"",Z12/Q12*100) -> 0 | AE12: =IF(AA12>85," ","WARNING") -> WARNING | AM12: =(N12+O12+P12)/(Q12*3600) -> #VALUE! | AN12: =((3600/I12)*U12)/(N12+O12+P12) -> #VALUE! | AO12: =(U12-T12)/U12 -> #DIV/0! | AP12: =AM12*AN12*AO12 -> #VALUE! | AQ12: =((U12-T12)*(3600/I12))/(Q12*3600) -> #VALUE!
A13: E | B13: L32 | C13: =IFERROR(VLOOKUP(D13,Pieces!A:B,2,0)," ") | I13: =IFERROR(VLOOKUP(D13,Pieces!A:C,3,0),"") | J13: 1 | K13: =(F13-E13)*J13 -> 0 | L13: =(G13-F13)*J13 -> 0 | M13: =(H13-G13)*J13 -> 0 | N13: =IF(I13="","",K13/I13) | O13: =IF(I13="","",L13/I13) | P13: =IF(I13="","",M13/I13) | Q13: 9 | S13: =U13+T13-K13-L13-M13 -> 0 | U13: =(K13+L13+M13)-T13-V13 -> 0 | Z13: =IF(OR(I13="",I13=0),0,(U13+T13)/I13) -> 0 | AA13: =IF(OR(Q13=0,I13=0),"",Z13/Q13*100) -> 0 | AE13: =IF(AA13>85," ","WARNING") -> WARNING | AM13: =(N13+O13+P13)/(Q13*3600) -> #VALUE! | AN13: =((3600/I13)*U13)/(N13+O13+P13) -> #VALUE! | AO13: =(U13-T13)/U13 -> #DIV/0! | AP13: =AM13*AN13*AO13 -> #VALUE! | AQ13: =((U13-T13)*(3600/I13))/(Q13*3600) -> #VALUE!
A14: F | B14: TSUGAMI | C14: =IFERROR(VLOOKUP(D14,Pieces!A:B,2,0)," ") | I14: =IFERROR(VLOOKUP(D14,Pieces!A:C,3,0),"") | J14: 1 | K14: =(F14-E14)*J14 -> 0 | L14: =(G14-F14)*J14 -> 0 | M14: =(H14-G14)*J14 -> 0 | N14: =IF(I14="","",K14/I14) | O14: =IF(I14="","",L14/I14) | P14: =IF(I14="","",M14/I14) | Q14: 7 | S14: =U14+T14-K14-L14-M14 -> 0 | U14: =(K14+L14+M14)-T14-V14 -> 0 | Z14: =IF(OR(I14="",I14=0),0,(U14+T14)/I14) -> 0 | AA14: =IF(OR(Q14=0,I14=0),"",Z14/Q14*100) -> 0 | AE14: =IF(AA14>85," ","WARNING") -> WARNING | AM14: =(N14+O14+P14)/(Q14*3600) -> #VALUE! | AN14: =((3600/I14)*U14)/(N14+O14+P14) -> #VALUE! | AO14: =(U14-T14)/U14 -> #DIV/0! | AP14: =AM14*AN14*AO14 -> #VALUE! | AQ14: =((U14-T14)*(3600/I14))/(Q14*3600) -> #VALUE!
A15: G | B15: Tour STAR SV-32-J | C15: =IFERROR(VLOOKUP(D15,Pieces!A:B,2,0)," ") | I15: =IFERROR(VLOOKUP(D15,Pieces!A:C,3,0),"") | J15: 1 | K15: =(F15-E15)*J15 -> 0 | L15: =(G15-F15)*J15 -> 0 | M15: =(H15-G15)*J15 -> 0 | N15: =IF(I15="","",K15/I15) | O15: =IF(I15="","",L15/I15) | P15: =IF(I15="","",M15/I15) | Q15: 12 | S15: =U15+T15-K15-L15-M15 -> 0 | U15: =(K15+L15+M15)-T15-V15 -> 0 | Z15: =IF(OR(I15="",I15=0),0,(U15+T15)/I15) -> 0 | AA15: =IF(OR(Q15=0,I15=0),"",Z15/Q15*100) -> 0 | AE15: =IF(AA15>85," ","WARNING") -> WARNING | AM15: =(N15+O15+P15)/(Q15*3600) -> #VALUE! | AN15: =((3600/I15)*U15)/(N15+O15+P15) -> #VALUE! | AO15: =(U15-T15)/U15 -> #DIV/0! | AP15: =AM15*AN15*AO15 -> #VALUE! | AQ15: =((U15-T15)*(3600/I15))/(Q15*3600) -> #VALUE!
A16: H | B16: Tour CNC STAR SB avec embarreur LNS Express 220 | C16: =IFERROR(VLOOKUP(D16,Pieces!A:B,2,0)," ") | I16: =IFERROR(VLOOKUP(D16,Pieces!A:C,3,0),"") | J16: 1 | K16: =(F16-E16)*J16 -> 0 | L16: =(G16-F16)*J16 -> 0 | M16: =(H16-G16)*J16 -> 0 | N16: =IF(I16="","",K16/I16) | O16: =IF(I16="","",L16/I16) | P16: =IF(I16="","",M16/I16) | Q16: 12 | S16: =U16+T16-K16-L16-M16 -> 0 | U16: =(K16+L16+M16)-T16-V16 -> 0 | Z16: =IF(OR(I16="",I16=0),0,(U16+T16)/I16) -> 0 | AA16: =IF(OR(Q16=0,I16=0),"",Z16/Q16*100) -> 0 | AE16: =IF(AA16>85," ","WARNING") -> WARNING | AM16: =(N16+O16+P16)/(Q16*3600) -> #VALUE! | AN16: =((3600/I16)*U16)/(N16+O16+P16) -> #VALUE! | AO16: =(U16-T16)/U16 -> #DIV/0! | AP16: =AM16*AN16*AO16 -> #VALUE! | AQ16: =((U16-T16)*(3600/I16))/(Q16*3600) -> #VALUE!
A17: I | B17: MULTIBROCHE | C17: =IFERROR(VLOOKUP(D17,Pieces!A:B,2,0)," ") | I17: =IFERROR(VLOOKUP(D17,Pieces!A:C,3,0),"") | J17: 1 | K17: =(F17-E17)*J17 -> 0 | L17: =(G17-F17)*J17 -> 0 | M17: =(H17-G17)*J17 -> 0 | N17: =IF(I17="","",K17/I17) | O17: =IF(I17="","",L17/I17) | P17: =IF(I17="","",M17/I17) | Q17: 12 | S17: =U17+T17-K17-L17-M17 -> 0 | U17: =(K17+L17+M17)-T17-V17 -> 0 | Z17: =IF(OR(I17="",I17=0),0,(U17+T17)/I17) -> 0 | AA17: =IF(OR(Q17=0,I17=0),"",Z17/Q17*100) -> 0 | AE17: =IF(AA17>85," ","WARNING") -> WARNING | AM17: =(N17+O17+P17)/(Q17*3600) -> #VALUE! | AN17: =((3600/I17)*U17)/(N17+O17+P17) -> #VALUE! | AO17: =(U17-T17)/U17 -> #DIV/0! | AP17: =AM17*AN17*AO17 -> #VALUE! | AQ17: =((U17-T17)*(3600/I17))/(Q17*3600) -> #VALUE!
A18: J | B18: Tour CNC WEILER UD 24 - 100 | C18: =IFERROR(VLOOKUP(D18,Pieces!A:B,2,0)," ") | I18: =IFERROR(VLOOKUP(D18,Pieces!A:C,3,0),"") | J18: 1 | K18: =(F18-E18)*J18 -> 0 | L18: =(G18-F18)*J18 -> 0 | M18: =(H18-G18)*J18 -> 0 | N18: =IF(I18="","",K18/I18) | O18: =IF(I18="","",L18/I18) | P18: =IF(I18="","",M18/I18) | Q18: 7 | S18: =U18+T18-K18-L18-M18 -> 0 | U18: =(K18+L18+M18)-T18-V18 -> 0 | Z18: =IF(OR(I18="",I18=0),0,(U18+T18)/I18) -> 0 | AA18: =IF(OR(Q18=0,I18=0),"",Z18/Q18*100) -> 0 | AE18: =IF(AA18>85," ","WARNING") -> WARNING | AM18: =(N18+O18+P18)/(Q18*3600) -> #VALUE! | AN18: =((3600/I18)*U18)/(N18+O18+P18) -> #VALUE! | AO18: =(U18-T18)/U18 -> #DIV/0! | AP18: =AM18*AN18*AO18 -> #VALUE! | AQ18: =((U18-T18)*(3600/I18))/(Q18*3600) -> #VALUE!
A19: K | B19: TOUR WEILER | C19: =IFERROR(VLOOKUP(D19,Pieces!A:B,2,0)," ") | I19: =IFERROR(VLOOKUP(D19,Pieces!A:C,3,0),"") | J19: 1 | K19: =(F19-E19)*J19 -> 0 | L19: =(G19-F19)*J19 -> 0 | M19: =(H19-G19)*J19 -> 0 | N19: =IF(I19="","",K19/I19) | O19: =IF(I19="","",L19/I19) | P19: =IF(I19="","",M19/I19) | Q19: 7 | S19: =U19+T19-K19-L19-M19 -> 0 | U19: =(K19+L19+M19)-T19-V19 -> 0 | Z19: =IF(OR(I19="",I19=0),0,(U19+T19)/I19) -> 0 | AA19: =IF(OR(Q19=0,I19=0),"",Z19/Q19*100) -> 0 | AE19: =IF(AA19>85," ","WARNING") -> WARNING | AM19: =(N19+O19+P19)/(Q19*3600) -> #VALUE! | AN19: =((3600/I19)*U19)/(N19+O19+P19) -> #VALUE! | AO19: =(U19-T19)/U19 -> #DIV/0! | AP19: =AM19*AN19*AO19 -> #VALUE! | AQ19: =((U19-T19)*(3600/I19))/(Q19*3600) -> #VALUE!
A20: L | B20: NAKAMURA | C20: =IFERROR(VLOOKUP(D20,Pieces!A:B,2,0)," ") | I20: =IFERROR(VLOOKUP(D20,Pieces!A:C,3,0),"") | J20: 1 | K20: =(F20-E20)*J20 -> 0 | L20: =(G20-F20)*J20 -> 0 | M20: =(H20-G20)*J20 -> 0 | N20: =IF(I20="","",K20/I20) | O20: =IF(I20="","",L20/I20) | P20: =IF(I20="","",M20/I20) | Q20: 7 | S20: =U20+T20-K20-L20-M20 -> 0 | U20: =(K20+L20+M20)-T20-V20 -> 0 | Z20: =IF(OR(I20="",I20=0),0,(U20+T20)/I20) -> 0 | AA20: =IF(OR(Q20=0,I20=0),"",Z20/Q20*100) -> 0 | AE20: =IF(AA20>85," ","WARNING") -> WARNING | AM20: =(N20+O20+P20)/(Q20*3600) -> #VALUE! | AN20: =((3600/I20)*U20)/(N20+O20+P20) -> #VALUE! | AO20: =(U20-T20)/U20 -> #DIV/0! | AP20: =AM20*AN20*AO20 -> #VALUE! | AQ20: =((U20-T20)*(3600/I20))/(Q20*3600) -> #VALUE!
A21: M | B21: MORI SEIKI 3 axes | C21: =IFERROR(VLOOKUP(D21,Pieces!A:B,2,0)," ") | I21: =IFERROR(VLOOKUP(D21,Pieces!A:C,3,0),"") | J21: 9 | K21: =(F21-E21)*J21 -> 0 | L21: =(G21-F21)*J21 -> 0 | M21: =(H21-G21)*J21 -> 0 | N21: =IF(I21="","",K21/I21) | O21: =IF(I21="","",L21/I21) | P21: =IF(I21="","",M21/I21) | Q21: 7 | S21: =U21+T21-K21-L21-M21 -> 0 | U21: =(K21+L21+M21)-T21-V21 -> 0 | Z21: =IF(OR(I21="",I21=0),0,(U21+T21)/I21) -> 0 | AA21: =IF(OR(Q21=0,I21=0),"",Z21/Q21*100) -> 0 | AE21: =IF(AA21>85," ","WARNING") -> WARNING | AM21: =(N21+O21+P21)/(Q21*3600) -> #VALUE! | AN21: =((3600/I21)*U21)/(N21+O21+P21) -> #VALUE! | AO21: =(U21-T21)/U21 -> #DIV/0! | AP21: =AM21*AN21*AO21 -> #VALUE! | AQ21: =((U21-T21)*(3600/I21))/(Q21*3600) -> #VALUE!
A22: N | B22: MORI SEIKI 5 axes | C22: =IFERROR(VLOOKUP(D22,Pieces!A:B,2,0)," ") | I22: =IFERROR(VLOOKUP(D22,Pieces!A:C,3,0),"") | J22: 20 | K22: =(F22-E22)*J22 -> 0 | L22: =(G22-F22)*J22 -> 0 | M22: =(H22-G22)*J22 -> 0 | N22: =IF(I22="","",K22/I22) | O22: =IF(I22="","",L22/I22) | P22: =IF(I22="","",M22/I22) | Q22: 7 | S22: =U22+T22-K22-L22-M22 -> 0 | U22: =(K22+L22+M22)-T22-V22 -> 0 | Z22: =IF(OR(I22="",I22=0),0,(U22+T22)/I22) -> 0 | AA22: =IF(OR(Q22=0,I22=0),"",Z22/Q22*100) -> 0 | AE22: =IF(AA22>85," ","WARNING") -> WARNING | AM22: =(N22+O22+P22)/(Q22*3600) -> #VALUE! | AN22: =((3600/I22)*U22)/(N22+O22+P22) -> #VALUE! | AO22: =(U22-T22)/U22 -> #DIV/0! | AP22: =AM22*AN22*AO22 -> #VALUE! | AQ22: =((U22-T22)*(3600/I22))/(Q22*3600) -> #VALUE!
A23: O | B23: HARDING | C23: =IFERROR(VLOOKUP(D23,Pieces!A:B,2,0)," ") | I23: =IFERROR(VLOOKUP(D23,Pieces!A:C,3,0),"") | J23: 6 | K23: =(F23-E23)*J23 -> 0 | L23: =(G23-F23)*J23 -> 0 | M23: =(H23-G23)*J23 -> 0 | N23: =IF(I23="","",K23/I23) | O23: =IF(I23="","",L23/I23) | P23: =IF(I23="","",M23/I23) | Q23: 7 | S23: =U23+T23-K23-L23-M23 -> 0 | U23: =(K23+L23+M23)-T23-V23 -> 0 | Z23: =IF(OR(I23="",I23=0),0,(U23+T23)/I23) -> 0 | AA23: =IF(OR(Q23=0,I23=0),"",Z23/Q23*100) -> 0 | AE23: =IF(AA23>85," ","WARNING") -> WARNING | AM23: =(N23+O23+P23)/(Q23*3600) -> #VALUE! | AN23: =((3600/I23)*U23)/(N23+O23+P23) -> #VALUE! | AO23: =(U23-T23)/U23 -> #DIV/0! | AP23: =AM23*AN23*AO23 -> #VALUE! | AQ23: =((U23-T23)*(3600/I23))/(Q23*3600) -> #VALUE!
... A27: Q | B27: NOUVEAU MACHINE 32sk300 | C27: =IFERROR(VLOOKUP(D27,Pieces!A:B,2,0)," ") | I27: =IFERROR(VLOOKUP(D27,Pieces!A:C,3,0),"") | J27: 1 | K27: =(F27-E27)*J27 -> 0 | L27: =(G27-F27)*J27 -> 0 | M27: =(H27-G27)*J27 -> 0 | N27: =IF(I27="","",K27/I27) | O27: =IF(I27="","",L27/I27) | P27: =IF(I27="","",M27/I27) | Q27: 15 | S27: =U27+T27-K27-L27-M27 -> 0 | U27: =(K27+L27+M27)-T27-V27 -> 0 | Z27: =IF(OR(I27="",I27=0),0,(U27+T27)/I27) -> 0 | AA27: =IF(OR(Q27=0,I27=0),"",Z27/Q27*100) -> 0 | AE27: =IF(AA27>85," ","WARNING") -> WARNING | AM27: =(N27+O27+P27)/(Q27*3600) -> #VALUE! | AN27: =((3600/I27)*U27)/(N27+O27+P27) -> #VALUE! | AO27: =(U27-T27)/U27 -> #DIV/0! | AP27: =AM27*AN27*AO27 -> #VALUE! | AQ27: =((U27-T27)*(3600/I27))/(Q27*3600) -> #VALUE!
S29: Taux de NC journalière | U29: =#REF!/#REF! -> #REF!
J33: Approbateur:
J34: Date:
J35: Visa:

Sheet Pieces
A1: desgination | B1: reference | C1: Cadence réelle | D1: machine
A2: BUSS. DIS. 14-3003 1320X28.7 AVP CARB | B2: 510081
A3: A1-AXE MET | B3: 20086-2 | C3: 45
A4: Anneau FX 25,2*32*21- par chutes | B4: 0-4180 | C4: 60
A5: AOE 950 12 BOX SPINA INOX | B5: SPINA00010 | C5: 8
A6: AOE 950/12/9.5 SPINA INOX | B6: SPINA00009 | C6: 15
A7: AOE 956/14/40 SPINA INOX | B7: SPINA00011 | C7: 15
A8: armature intérieure-MULTI | B8: E355306 | C8: 400
A9: Arrêt | B9: - | C9: 1
A10: AXE | B10: 2018012-01 | C10: 120
A11: AXE 100x8-M4 | B11: AXE 100x8-M4 | C11: 28
A12: AXE 140 INOX D8 L66 140/76 | B12: AXE-IN-D8-L66 | C12: 100
A13: AXE 90 INOX D7 | B13: AXE-IN-D7 | C13: 80
A14: AXE AVEC INSERT INTEGRES | B14: 2018110-01 | C14: 12
A15: AXE BOITIER TFR+KB | B15: I081-95-CP8 | C15: 12 | D15: BIGLIA MIM
A16: AXE COLLIER ISUZU TFR NON ZINGUEE | B16: I138-139-CP3 | C16: 40
A17: AXE D15-M11x100 | B17: G022-CP1 | C17: 30
A18: AXE D'ARTICULATION | B18: 200101 | C18: 120
A19: AXE D'ARTICULATION -NV SB16 | B19: 200101-NVSB16 | C19: 135
A20: AXE DE FREIN OM40 PROD | B20: M030-PROD | C20: 90
A21: AXE DIRECTION ISUZU | B21: I059 | C21: 70
A22: AXE ESC H11 | B22: 20111-21 | C22: 40
A23: AXE ETRIER FORD RANGER-PROD | B23: FO011-PROD | C23: 30
A24: AXE ETRIER MITSUBISHI D21.2 PROD | B24: MI029-CP1-PROD | C24: 30
A25: AXE ETRIER MITSUBISHI D21.9 AVEC SOUFFLET-CP1 PROD | B25: MI030-CP1-PROD | C25: 30
A26: AXE ETRIER SUP MITSUBISHI L200(536) | B26: MI029 | C26: 30
A27: AXE FEMELLE | B27: AXE FEMELLE-D16 | C27: 30
A28: AXE FEMELLE | B28: 2018051-01 | C28: 30
A29: AXE FEMELLE M8X55 | B29: 2018106-02-02 | C29: 30
A30: AXE FOURCHETTE | B30: 19037-1 | C30: 70
... A41: AXE MALE EN I | B41: 2018146-02 | C41: 30
A42: AXE MALE L=100 | B42: 2018130 | C42: 30 | D42: l32
A43: AXE MALE SANS TROU | B43: AXE MALE S-T D16 | D43: L32
A44: AXE MALE V02 | B44: 2018106-02-01 | C44: 12 | D44: l32
A45: AXE MALE-001 | B45: 2018122-03 | C45: 60 | D45: l32
A46: AXE PORTE TURBINE D10 | B46: A001 | C46: 43 | D46: PROD 09/2021
A47: Axe tendeur de 10 | B47: AXE - T - D10 | C47: 360
A48: AXE TENDEUR DE 11 | B48: AXE-T- D11 | C48: 90
A49: AXE TRIANGLE SUSPENSION-CP1 PROD | B49: I094-CP1-PROD | C49: 100
A50: BAGUE GALVANISEE 16X11X4 | B50: G022-CP5 | C50: 120
A51: Bague 10.5x25x75 | B51: 181075 | C51: 30
A52: BAGUE 12*22*56,2 | B52: 12x22x56.2 | C52: 32
A53: BAGUE 12*22*65 | B53: 12x22x65 | C53: 50
A54: BAGUE 12*25*60.5 | B54: 181270 | C54: 60 | D54: B42
A55: BAGUE 18*14.5*68 | B55: BAG 18x14.5 | C55: 120
A56: Bague acier 10x14x102 | B56: 10x14x102 | C56: 120
A57: BAGUE ACIER 12*9*11 | B57: 12x9x11 | C57: 120
A58: Bague acier 12x11x9.5(4g) | B58: 12*11*9,5 | C58: 120
A59: bague acier 14*20*48 | B59: 14*20*48 | C59: 120 | D59: pf42 ebauche
A60: BAGUE ACIER 8.5x6.5x10 | B60: 8.5x6.5x10 | C60: 120
A61: BAGUE ACIER 8.5x6.5x5.8 | B61: 8.5x6.5x5.8 | C61: 120
A62: bague acier galvanisée 10x14x112 | B62: 10x14x112 | C62: 80
A63: BAGUE ACIER GALVANISEE 14*10*102 | B63: 14X10X102 | C63: 70
A64: BAGUE ACIER GALVANISEE 14*10*112 | B64: 10x14x112 | C64: 70
A65: Bague acier nécessaire OM40 | B65: M018-CP1
A66: BAGUE ACIER NECESSAIRE-CP1 PROD | B66: m020-cp1 | C66: 120
A67: Bague acier Ø13 | B67: 12.75x28.2x8.5 | C67: 120
A68: bague allu 27*14,5*55 | B68: 14,5x27x55 | C68: 120
A69: BAGUE ALU 14,5*27*42 | B69: 14.5x27x42 | C69: 90
A70: BAGUE ALU 18*27*43 | B70: 18X27X43 | C70: 90
A71: Bague aluminium 14,4*24*40 biglia | B71: 4-7828 | C71: 60
A72: bague aluminum lg30 | B72: -
A73: BAGUE BOUGIE CULASSE | B73: D001 | C73: 90
A74: BAGUE BRUTE 12x20x14,5 | B74: 4-8661 | C74: 80
A75: Bague galvanisée 16*28*62 | B75: 4-8591-1 | C75: 60
A76: Bague brute 20x28x43 | B76: 4-76 86 | C76: 60
A77: bague butée | B77: 7171-N | C77: 120
A78: bague butée interne Ø25 | B78: 7159 | C78: 120
A79: BAGUE D12*D8.3*10.4 | B79: T1201-1000-040 | C79: 120 | D79: l32
A80: BAGUE D12*D8.3*D3.6 | B80: T1201-1000-030 | C80: 120
A81: BAGUE D32*22 L=21 | B81: G011 | C81: 39
A82: BAGUE DE CENTRAGE D20 | B82: 890625 | C82: 70
A83: bague decolletée 7009 | B83: 7009
A84: BAGUE DU FIXATION D25 PROD | B84: 895700-D25-PROD | C84: 60
A85: BAGUE ECHAPPEMENT ISUZU | B85: I056 | C85: 20
A86: BAGUE EN ACIER AXE RESSORT NM+AM OM40 | B86: M018-28-29-32-CP1 | C86: 15
A87: BAGUE EN LAITON AXE RESSORT NM+AM OM40 | B87: M018-28-29-32-CP2 | C87: 75
A88: bague épaulée 12*25*41 | B88: 181241 | C88: 60
A89: BAGUE EPAULEE 14*20*60 | B89: 18126100 | C89: 30
A90: bague epaulee 14*30*66,5 | B90: 4-8209 | C90: 20
A91: BAGUE EXT SILENT BLOC FORD BT50 | B91: FO020-CP1 | C91: 90
A92: Bague Galvanisée 14*22,9*54,2 | B92: 0-5928A-1 | C92: 30
A93: BAGUE GALVANISEE 10*16*80 | B93: 0-3738 | C93: 120 | D93: tour weiler
A94: Bague galvanisée 10x16x50 | B94: 0-3748-1 | C94: 120 | D94: CHUTTE NAK
A95: Bague Galvanisée 12*16*36 | B95: 4-7935-1 | C95: 120 | D95: chutte
A96: Bague Galvanisée 12*18*44+A647 | B96: 0-6128-1 | C96: 120
A97: Bague Galvanisée 12*20*38-weiller | B97: 4-7029-1 | C97: 70
A98: Bague Galvanisée 12*22*69 - WEILLER | B98: 4-7062-1 | C98: 70
A99: Bague galvanisée 12x16x32 | B99: 4-7002 | C99: 120
A100: Bague galvanisée 12x16x32- weiller | B100: 4-7002 | C100: 70
A101: bague galvanisée 12x20x40-chutte nak | B101: 4-7634-1 | C101: 60
A102: Bague galvanisée 12x22x65 | B102: 12*22*42 | C102: 120 | D102: travail de chutte sur weileur
A103: bague galvanisée 14x20x52 | B103: 4- 72 83 | C103: 120 | D103: percage sur nak apres decoupage sur pf25
A104: Bague Galvanisée 16*20*38 - CHUTES | B104: 0-4236-1 | C104: 50
A105: Bague Galvanisée 16*22*38- weiller | B105: 0-4238-1 | C105: 50
A106: Bague Galvanisée 16*28*100 | B106: 4-7002-1 | C106: 40
A107: Bague Galvanisée 16*28*62 | B107: 4-8591-1 | C107: 30
A108: Bague Galvanisée 16*28*66 | B108: 4-7003-1 | C108: 30
A109: Bague Galvanisée 16*28*66-novembre | B109: 4-7003-1-b301 | C109: 40
A110: Bague galvanisée 16x28x100 - biglia b301 | B110: 4-7002 | C110: 20
...

Sheet 28-6-22
A1: 28-06-2022 | Z1: CODE: DAS-PRO-16
Z2: DATE:30/08/2019
Z3: VERSION:07
Z4: PAGE:1
A8: SYMBOLE | B8: MACHINE | C8: REF ARTICLE | D8: DESIGNATION | E8: COMPTEUR AUJOURD’HUI à 8h | F8: COMPTEUR HIER à 17H | G8: COMPTEUR HIER à 22H | H8: COMPTEUR AUJOURD’HUI à 8h | I8: CADENCE | J8: NOMBRE DE PIECES FINIS PAR CYCLE | K8: PIECES SUIVANT COMPTEU 8h-->17h | L8: PIECES SUIVANT COMPTEUR 17H-->22H | M8: PIECES SUIVANT COMPTEUR 6h-->8h | N8: NOMBRE D'HEURES DE TRAVAIL 8h-->17h | O8: NOMBRE D'HEURES DE TRAVAIL 17H-->22H | P8: NOMBRE D'HEURES DE TRAVAIL 6h-->8h | Q8: NOMBRE D'HEURES DE TRAVAIL | R8: OBSERVATIONS | S8: Pieces manquantes | T8: PIECES NC | U8: Pieces REELLES | V8: Nombre des pieces à retoucher | W8: Cause de la non-conformité | X8: Effet de la non-conformité | Y8: Machine pour retouche | Z8: NOMBRES D'HEURES SUIVANT LES PIECES REELLES | AA8: RENDEMENT | AB8: Maintenance | AC8: Affutage | AD8: Gamme d'usingae | AE8: ALERTES | AF8: enregitrement | AG8: Identification | AH8: Propreté des tables de contrôle | AI8: Rangement des outils de contrôle | AJ8: Existance de l'OF | AK8: Panne | AL8: gestion de modification | AM8: A | AN8: P | AO8: Q | AP8: OEE | AQ8: OEE
A9: A | B9: SST16 | C9: =IFERROR(VLOOKUP(D9,[2]Pieces!A:B,2,0)," ") -> OUT-PLOT | D9: plot nez de marche 25-06-2022 | E9: 2144 | F9: 2774 | G9: 2898 | H9: 3020 | I9: =IFERROR(VLOOKUP(D9,[2]Pieces!A:C,3,0),"") -> 72 | J9: 1 | K9: =(F9-E9)*J9 -> 630 | L9: =(G9-F9)*J9 -> 124 | M9: =(H9-G9)*J9 -> 122 | N9: =IF(I9="","",K9/I9) -> 8.75 | O9: =IF(I9="","",L9/I9) -> 1.7222222 | P9: =IF(I9="","",M9/I9) -> 1.6944444 | Q9: 13 | S9: =U9+T9-K9-L9-M9 -> 0 | U9: =(K9+L9+M9)-T9-V9 -> 876 | Z9: =IF(OR(I9="",I9=0),0,(U9+T9)/I9) -> 12.166667 | AA9: =IF(OR(Q9=0,I9=0),"",Z9/Q9*100) -> 93.589744 | AE9: =IF(AA9>85," ","WARNING") | AM9: =(N9+O9+P9)/(Q9*3600) -> 0.00025997151 | AN9: =((3600/I9)*U9)/(N9+O9+P9) -> 3600 | AO9: =(U9-T9)/U9 -> 1 | AP9: =AM9*AN9*AO9 -> 0.93589744 | AQ9: =((U9-T9)*(3600/I9))/(Q9*3600) -> 0.93589744
A10: B | B10: SB16 | C10: =IFERROR(VLOOKUP(D10,[2]Pieces!A:B,2,0)," ") -> ECR6.5*19 | D10: ECROU 6.5*19 | E10: 0 | F10: 94 | G10: 300 | H10: 486 | I10: =IFERROR(VLOOKUP(D10,[2]Pieces!A:C,3,0),"") -> 112 | J10: 1 | K10: =(F10-E10)*J10 -> 94 | L10: =(G10-F10)*J10 -> 206 | M10: =(H10-G10)*J10 -> 186 | N10: =IF(I10="","",K10/I10) -> 0.83928571 | O10: =IF(I10="","",L10/I10) -> 1.8392857 | P10: =IF(I10="","",M10/I10) -> 1.6607143 | Q10: 13 | S10: =U10+T10-K10-L10-M10 -> 0 | U10: =(K10+L10+M10)-T10-V10 -> 486 | Z10: =IF(OR(I10="",I10=0),0,(U10+T10)/I10) -> 4.3392857 | AA10: =IF(OR(Q10=0,I10=0),"",Z10/Q10*100) -> 33.379121 | AE10: =IF(AA10>85," ","WARNING") -> WARNING | AM10: =(N10+O10+P10)/(Q10*3600) -> 9.271978e-05 | AN10: =((3600/I10)*U10)/(N10+O10+P10) -> 3600 | AO10: =(U10-T10)/U10 -> 1 | AP10: =AM10*AN10*AO10 -> 0.33379121 | AQ10: =((U10-T10)*(3600/I10))/(Q10*3600) -> 0.33379121
A11: C | B11: BIGLIA 301 SM | C11: =IFERROR(VLOOKUP(D11,[2]Pieces!A:B,2,0)," ") -> 4-3729A | D11: BAGUE ALLUMINIUM EPAULEE 14.4*27*55 | E11: 0 | F11: 234 | G11: 234 | H11: 234 | I11: =IFERROR(VLOOKUP(D11,[2]Pieces!A:C,3,0),"") -> 76 | J11: 1 | K11: =(F11-E11)*J11 -> 234 | L11: =(G11-F11)*J11 -> 0 | M11: =(H11-G11)*J11 -> 0 | N11: =IF(I11="","",K11/I11) -> 3.0789474 | O11: =IF(I11="","",L11/I11) -> 0 | P11: =IF(I11="","",M11/I11) -> 0 | Q11: 13 | S11: =U11+T11-K11-L11-M11 -> 0 | T11: 6 | U11: =(K11+L11+M11)-T11-V11 -> 228 | Z11: =IF(OR(I11="",I11=0),0,(U11+T11)/I11) -> 3.0789474 | AA11: =IF(OR(Q11=0,I11=0),"",Z11/Q11*100) -> 23.684211 | AE11: =IF(AA11>85," ","WARNING") -> WARNING | AM11: =(N11+O11+P11)/(Q11*3600) -> 6.5789474e-05 | AN11: =((3600/I11)*U11)/(N11+O11+P11) -> 3507.6923 | AO11: =(U11-T11)/U11 -> 0.97368421 | AP11: =AM11*AN11*AO11 -> 0.22469636 | AQ11: =((U11-T11)*(3600/I11))/(Q11*3600) -> 0.22469636
A12: D | B12: BIGLIA 42 S2M bitourelle | C12: =IFERROR(VLOOKUP(D12,[2]Pieces!A:B,2,0)," ") -> I059-CP1 | D12: AXE DIRECTION ISUZU. | E12: 109 | F12: 388 | G12: 455 | H12: 486 | I12: =IFERROR(VLOOKUP(D12,[2]Pieces!A:C,3,0),"") -> 45 | J12: 1 | K12: =(F12-E12)*J12 -> 279 | L12: =(G12-F12)*J12 -> 67 | M12: =(H12-G12)*J12 -> 31 | N12: =IF(I12="","",K12/I12) -> 6.2 | O12: =IF(I12="","",L12/I12) -> 1.4888889 | P12: =IF(I12="","",M12/I12) -> 0.68888889 | Q12: 13 | S12: =U12+T12-K12-L12-M12 -> 0 | U12: =(K12+L12+M12)-T12-V12 -> 377 | Z12: =IF(OR(I12="",I12=0),0,(U12+T12)/I12) -> 8.3777778 | AA12: =IF(OR(Q12=0,I12=0),"",Z12/Q12*100) -> 64.444444 | AE12: =IF(AA12>85," ","WARNING") -> WARNING | AM12: =(N12+O12+P12)/(Q12*3600) -> 0.00017901235 | AN12: =((3600/I12)*U12)/(N12+O12+P12) -> 3600 | AO12: =(U12-T12)/U12 -> 1 | AP12: =AM12*AN12*AO12 -> 0.64444444 | AQ12: =((U12-T12)*(3600/I12))/(Q12*3600) -> 0.64444444
A13: E | B13: L32 | C13: =IFERROR(VLOOKUP(D13,[2]Pieces!A:B,2,0)," ") -> OUT-172 | D13: CLAMPING RING 360FO L32. | E13: 2756 | F13: 2756 | G13: 2756 | H13: 2756 | I13: =IFERROR(VLOOKUP(D13,[2]Pieces!A:C,3,0),"") -> 220 | J13: 1 | K13: =(F13-E13)*J13 -> 0 | L13: =(G13-F13)*J13 -> 0 | M13: =(H13-G13)*J13 -> 0 | N13: =IF(I13="","",K13/I13) -> 0 | O13: =IF(I13="","",L13/I13) -> 0 | P13: =IF(I13="","",M13/I13) -> 0 | Q13: 10 | S13: =U13+T13-K13-L13-M13 -> 0 | U13: =(K13+L13+M13)-T13-V13 -> 0 | Z13: =IF(OR(I13="",I13=0),0,(U13+T13)/I13) -> 0 | AA13: =IF(OR(Q13=0,I13=0),"",Z13/Q13*100) -> 0 | AE13: =IF(AA13>85," ","WARNING") -> WARNING | AM13: =(N13+O13+P13)/(Q13*3600) -> 0 | AN13: =((3600/I13)*U13)/(N13+O13+P13) -> #DIV/0! | AO13: =(U13-T13)/U13 -> #DIV/0! | AP13: =AM13*AN13*AO13 -> #DIV/0! | AQ13: =((U13-T13)*(3600/I13))/(Q13*3600) -> 0
A14: F | B14: TSUGAMI | C14: =IFERROR(VLOOKUP(D14,[2]Pieces!A:B,2,0)," ") -> - | D14: Arrêt | E14: 0 | F14: 0 | G14: 0 | H14: 0 | I14: =IFERROR(VLOOKUP(D14,[2]Pieces!A:C,3,0),"") -> 1 | J14: 1 | K14: =(F14-E14)*J14 -> 0 | L14: =(G14-F14)*J14 -> 0 | M14: =(H14-G14)*J14 -> 0 | N14: =IF(I14="","",K14/I14) -> 0 | O14: =IF(I14="","",L14/I14) -> 0 | P14: =IF(I14="","",M14/I14) -> 0 | Q14: 13 | S14: =U14+T14-K14-L14-M14 -> 0 | U14: =(K14+L14+M14)-T14-V14 -> 0 | Z14: =IF(OR(I14="",I14=0),0,(U14+T14)/I14) -> 0 | AA14: =IF(OR(Q14=0,I14=0),"",Z14/Q14*100) -> 0 | AE14: =IF(AA14>85," ","WARNING") -> WARNING | AM14: =(N14+O14+P14)/(Q14*3600) -> 0 | AN14: =((3600/I14)*U14)/(N14+O14+P14) -> #DIV/0! | AO14: =(U14-T14)/U14 -> #DIV/0! | AP14: =AM14*AN14*AO14 -> #DIV/0! | AQ14: =((U14-T14)*(3600/I14))/(Q14*3600) -> 0
A15: G | B15: Tour STAR SV-32-J | C15: =IFERROR(VLOOKUP(D15,[2]Pieces!A:B,2,0)," ") -> 68.0815 | D15: BUSE A DROITE D8 M445 maj 07-06-2022 | E15: 43771 | F15: 44300 | G15: 44400 | H15: 44473 | I15: =IFERROR(VLOOKUP(D15,[2]Pieces!A:C,3,0),"") -> 56 | J15: 1 | K15: =(F15-E15)*J15 -> 529 | L15: =(G15-F15)*J15 -> 100 | M15: =(H15-G15)*J15 -> 73 | N15: =IF(I15="","",K15/I15) -> 9.4464286 | O15: =IF(I15="","",L15/I15) -> 1.7857143 | P15: =IF(I15="","",M15/I15) -> 1.3035714 | Q15: 13 | S15: =U15+T15-K15-L15-M15 -> 0 | U15: =(K15+L15+M15)-T15-V15 -> 702 | Z15: =IF(OR(I15="",I15=0),0,(U15+T15)/I15) -> 12.535714 | AA15: =IF(OR(Q15=0,I15=0),"",Z15/Q15*100) -> 96.428571 | AE15: =IF(AA15>85," ","WARNING") | AM15: =(N15+O15+P15)/(Q15*3600) -> 0.00026785714 | AN15: =((3600/I15)*U15)/(N15+O15+P15) -> 3600 | AO15: =(U15-T15)/U15 -> 1 | AP15: =AM15*AN15*AO15 -> 0.96428571 | AQ15: =((U15-T15)*(3600/I15))/(Q15*3600) -> 0.96428571
A16: H | B16: Tour CNC STAR SB avec embarreur LNS Express 220 | C16: =IFERROR(VLOOKUP(D16,[2]Pieces!A:B,2,0)," ") -> 1740 | D16: VIS ALLUM M10 | E16: 1670 | F16: 1994 | G16: 2065 | H16: 2125 | I16: =IFERROR(VLOOKUP(D16,[2]Pieces!A:C,3,0),"") -> 36 | J16: 1 | K16: =(F16-E16)*J16 -> 324 | L16: =(G16-F16)*J16 -> 71 | M16: =(H16-G16)*J16 -> 60 | N16: =IF(I16="","",K16/I16) -> 9 | O16: =IF(I16="","",L16/I16) -> 1.9722222 | P16: =IF(I16="","",M16/I16) -> 1.6666667 | Q16: 13 | S16: =U16+T16-K16-L16-M16 -> 0 | U16: =(K16+L16+M16)-T16-V16 -> 455 | Z16: =IF(OR(I16="",I16=0),0,(U16+T16)/I16) -> 12.638889 | AA16: =IF(OR(Q16=0,I16=0),"",Z16/Q16*100) -> 97.222222 | AE16: =IF(AA16>85," ","WARNING") | AM16: =(N16+O16+P16)/(Q16*3600) -> 0.00027006173 | AN16: =((3600/I16)*U16)/(N16+O16+P16) -> 3600 | AO16: =(U16-T16)/U16 -> 1 | AP16: =AM16*AN16*AO16 -> 0.97222222 | AQ16: =((U16-T16)*(3600/I16))/(Q16*3600) -> 0.97222222
A17: I | B17: MULTIBROCHE | C17: =IFERROR(VLOOKUP(D17,[2]Pieces!A:B,2,0)," ") -> MPS000300 | D17: raccord HEX 17 | E17: 0 | F17: 0 | G17: 0 | H17: 0 | I17: =IFERROR(VLOOKUP(D17,[2]Pieces!A:C,3,0),"") -> 500 | J17: 1 | K17: =(F17-E17)*J17 -> 0 | L17: =(G17-F17)*J17 -> 0 | M17: =(H17-G17)*J17 -> 0 | N17: =IF(I17="","",K17/I17) -> 0 | O17: =IF(I17="","",L17/I17) -> 0 | P17: =IF(I17="","",M17/I17) -> 0 | Q17: 13 | S17: =U17+T17-K17-L17-M17 -> 0 | U17: =(K17+L17+M17)-T17-V17 -> 0 | Z17: =IF(OR(I17="",I17=0),0,(U17+T17)/I17) -> 0 | AA17: =IF(OR(Q17=0,I17=0),"",Z17/Q17*100) -> 0 | AE17: =IF(AA17>85," ","WARNING") -> WARNING | AM17: =(N17+O17+P17)/(Q17*3600) -> 0 | AN17: =((3600/I17)*U17)/(N17+O17+P17) -> #DIV/0! | AO17: =(U17-T17)/U17 -> #DIV/0! | AP17: =AM17*AN17*AO17 -> #DIV/0! | AQ17: =((U17-T17)*(3600/I17))/(Q17*3600) -> 0
A18: J | B18: Tour CNC WEILER UD 24 - 100 | C18: =IFERROR(VLOOKUP(D18,[2]Pieces!A:B,2,0)," ") -> 0-4180 | D18: ANNEAU FX 25,2*32*21-CHUTES MJ | E18: 0 | F18: 0 | G18: 0 | H18: 0 | I18: =IFERROR(VLOOKUP(D18,[2]Pieces!A:C,3,0),"") -> 50 | J18: 1 | K18: =(F18-E18)*J18 -> 0 | L18: =(G18-F18)*J18 -> 0 | M18: =(H18-G18)*J18 -> 0 | N18: =IF(I18="","",K18/I18) -> 0 | O18: =IF(I18="","",L18/I18) -> 0 | P18: =IF(I18="","",M18/I18) -> 0 | Q18: 9 | S18: =U18+T18-K18-L18-M18 -> 0 | U18: =(K18+L18+M18)-T18-V18 -> 0 | Z18: =IF(OR(I18="",I18=0),0,(U18+T18)/I18) -> 0 | AA18: =IF(OR(Q18=0,I18=0),"",Z18/Q18*100) -> 0 | AE18: =IF(AA18>85," ","WARNING") -> WARNING | AM18: =(N18+O18+P18)/(Q18*3600) -> 0 | AN18: =((3600/I18)*U18)/(N18+O18+P18) -> #DIV/0! | AO18: =(U18-T18)/U18 -> #DIV/0! | AP18: =AM18*AN18*AO18 -> #DIV/0! | AQ18: =((U18-T18)*(3600/I18))/(Q18*3600) -> 0
A19: K | B19: TOUR WEILER | C19: =IFERROR(VLOOKUP(D19,[2]Pieces!A:B,2,0)," ") -> 4-7009-1 | D19: BAGUE DECOLLETE | E19: 2137 | F19: 2446 | G19: 2446 | H19: 2480 | I19: =IFERROR(VLOOKUP(D19,[2]Pieces!A:C,3,0),"") -> 45 | J19: 1 | K19: =(F19-E19)*J19 -> 309 | L19: =(G19-F19)*J19 -> 0 | M19: =(H19-G19)*J19 -> 34 | N19: =IF(I19="","",K19/I19) -> 6.8666667 | O19: =IF(I19="","",L19/I19) -> 0 | P19: =IF(I19="","",M19/I19) -> 0.75555556 | Q19: 9 | S19: =U19+T19-K19-L19-M19 -> 0 | U19: =(K19+L19+M19)-T19-V19 -> 343 | Z19: =IF(OR(I19="",I19=0),0,(U19+T19)/I19) -> 7.6222222 | AA19: =IF(OR(Q19=0,I19=0),"",Z19/Q19*100) -> 84.691358 | AE19: =IF(AA19>85," ","WARNING") -> WARNING | AM19: =(N19+O19+P19)/(Q19*3600) -> 0.00023525377 | AN19: =((3600/I19)*U19)/(N19+O19+P19) -> 3600 | AO19: =(U19-T19)/U19 -> 1 | AP19: =AM19*AN19*AO19 -> 0.84691358 | AQ19: =((U19-T19)*(3600/I19))/(Q19*3600) -> 0.84691358
A20: L | B20: NAKAMURA | C20: =IFERROR(VLOOKUP(D20,[2]Pieces!A:B,2,0)," ") -> 40*50*21 | D20: ANNEAU BRUTE AVEC CHAN INT 40*50*21 FINI | E20: 0 | F20: 165 | G20: 165 | H20: 165 | I20: =IFERROR(VLOOKUP(D20,[2]Pieces!A:C,3,0),"") -> 120 | J20: 1 | K20: =(F20-E20)*J20 -> 165 | L20: =(G20-F20)*J20 -> 0 | M20: =(H20-G20)*J20 -> 0 | N20: =IF(I20="","",K20/I20) -> 1.375 | O20: =IF(I20="","",L20/I20) -> 0 | P20: =IF(I20="","",M20/I20) -> 0 | Q20: 9 | R20: COMPTEUR REMIS A ZERO A 400 SEMI FINI | S20: =U20+T20-K20-L20-M20 -> 0 | U20: =(K20+L20+M20)-T20-V20 -> 165 | Z20: =IF(OR(I20="",I20=0),0,(U20+T20)/I20) -> 1.375 | AA20: =IF(OR(Q20=0,I20=0),"",Z20/Q20*100) -> 15.277778 | AE20: =IF(AA20>85," ","WARNING") -> WARNING | AM20: =(N20+O20+P20)/(Q20*3600) -> 4.2438272e-05 | AN20: =((3600/I20)*U20)/(N20+O20+P20) -> 3600 | AO20: =(U20-T20)/U20 -> 1 | AP20: =AM20*AN20*AO20 -> 0.15277778 | AQ20: =((U20-T20)*(3600/I20))/(Q20*3600) -> 0.15277778
A21: M | B21: MORI SEIKI 3 axes | C21: =IFERROR(VLOOKUP(D21,[2]Pieces!A:B,2,0)," ") -> i004 | D21: Ecrou suspension- surfacage | E21: 0 | F21: 0 | G21: 0 | H21: 0 | I21: =IFERROR(VLOOKUP(D21,[2]Pieces!A:C,3,0),"") -> 54 | J21: 9 | K21: =(F21-E21)*J21 -> 0 | L21: =(G21-F21)*J21 -> 0 | M21: =(H21-G21)*J21 -> 0 | N21: =IF(I21="","",K21/I21) -> 0 | O21: =IF(I21="","",L21/I21) -> 0 | P21: =IF(I21="","",M21/I21) -> 0 | Q21: 9 | S21: =U21+T21-K21-L21-M21 -> 0 | U21: =(K21+L21+M21)-T21-V21 -> 0 | Z21: =IF(OR(I21="",I21=0),0,(U21+T21)/I21) -> 0 | AA21: =IF(OR(Q21=0,I21=0),"",Z21/Q21*100) -> 0 | AE21: =IF(AA21>85," ","WARNING") -> WARNING | AM21: =(N21+O21+P21)/(Q21*3600) -> 0 | AN21: =((3600/I21)*U21)/(N21+O21+P21) -> #DIV/0! | AO21: =(U21-T21)/U21 -> #DIV/0! | AP21: =AM21*AN21*AO21 -> #DIV/0! | AQ21: =((U21-T21)*(3600/I21))/(Q21*3600) -> 0
A22: N | B22: MORI SEIKI 5 axes | C22: =IFERROR(VLOOKUP(D22,[2]Pieces!A:B,2,0)," ") -> 601130 | D22: ECROU DE FUSEE + fraisage 5 pcs pignion | E22: 0 | F22: 0 | G22: 0 | H22: 0 | I22: =IFERROR(VLOOKUP(D22,[2]Pieces!A:C,3,0),"") -> 24 | J22: 5 | K22: =(F22-E22)*J22 -> 0 | L22: =(G22-F22)*J22 -> 0 | M22: =(H22-G22)*J22 -> 0 | N22: =IF(I22="","",K22/I22) -> 0 | O22: =IF(I22="","",L22/I22) -> 0 | P22: =IF(I22="","",M22/I22) -> 0 | Q22: 9 | S22: =U22+T22-K22-L22-M22 -> 0 | U22: =(K22+L22+M22)-T22-V22 -> 0 | Z22: =IF(OR(I22="",I22=0),0,(U22+T22)/I22) -> 0 | AA22: =IF(OR(Q22=0,I22=0),"",Z22/Q22*100) -> 0 | AE22: =IF(AA22>85," ","WARNING") -> WARNING | AM22: =(N22+O22+P22)/(Q22*3600) -> 0 | AN22: =((3600/I22)*U22)/(N22+O22+P22) -> #DIV/0! | AO22: =(U22-T22)/U22 -> #DIV/0! | AP22: =AM22*AN22*AO22 -> #DIV/0! | AQ22: =((U22-T22)*(3600/I22))/(Q22*3600) -> 0
A23: O | B23: HARDING | C23: =IFERROR(VLOOKUP(D23,[2]Pieces!A:B,2,0)," ") -> 480387-SF | D23: EVACUATION 2 EN3 SEMI FINI | E23: 138 | F23: 144 | G23: 144 | H23: 144 | I23: =IFERROR(VLOOKUP(D23,[2]Pieces!A:C,3,0),"") -> 25 | J23: 30 | K23: =(F23-E23)*J23 -> 180 | L23: =(G23-F23)*J23 -> 0 | M23: =(H23-G23)*J23 -> 0 | N23: =IF(I23="","",K23/I23) -> 7.2 | O23: =IF(I23="","",L23/I23) -> 0 | P23: =IF(I23="","",M23/I23) -> 0 | Q23: 9 | S23: =U23+T23-K23-L23-M23 -> 0 | U23: =(K23+L23+M23)-T23-V23 -> 180 | Z23: =IF(OR(I23="",I23=0),0,(U23+T23)/I23) -> 7.2 | AA23: =IF(OR(Q23=0,I23=0),"",Z23/Q23*100) -> 80 | AE23: =IF(AA23>85," ","WARNING") -> WARNING | AM23: =(N23+O23+P23)/(Q23*3600) -> 0.00022222222 | AN23: =((3600/I23)*U23)/(N23+O23+P23) -> 3600 | AO23: =(U23-T23)/U23 -> 1 | AP23: =AM23*AN23*AO23 -> 0.8 | AQ23: =((U23-T23)*(3600/I23))/(Q23*3600) -> 0.8
A24: O | B24: HARDING | C24: =IFERROR(VLOOKUP(D24,[2]Pieces!A:B,2,0)," ") -> 480387-PF | D24: EVACUATION 2/3G X-ONE-harding-taraudageM4+GAZ | E24: 138 | F24: 144 | G24: 144 | H24: 144 | I24: =IFERROR(VLOOKUP(D24,[2]Pieces!A:C,3,0),"") -> 40 | J24: 20 | K24: =(F24-E24)*J24 -> 120 | L24: =(G24-F24)*J24 -> 0 | M24: =(H24-G24)*J24 -> 0 | N24: =IF(I24="","",K24/I24) -> 3 | O24: =IF(I24="","",L24/I24) -> 0 | P24: =IF(I24="","",M24/I24) -> 0 | Q24: 9 | S24: =U24+T24-K24-L24-M24 -> 0 | U24: =(K24+L24+M24)-T24-V24 -> 120 | Z24: =IF(OR(I24="",I24=0),0,(U24+T24)/I24) -> 3 | AA24: =IF(OR(Q24=0,I24=0),"",Z24/Q24*100) -> 33.333333 | AE24: =IF(AA24>85," ","WARNING") -> WARNING | AM24: =(N24+O24+P24)/(Q24*3600) -> 9.2592593e-05 | AN24: =((3600/I24)*U24)/(N24+O24+P24) -> 3600 | AO24: =(U24-T24)/U24 -> 1 | AP24: =AM24*AN24*AO24 -> 0.33333333 | AQ24: =((U24-T24)*(3600/I24))/(Q24*3600) -> 0.33333333
A25: P | B25: KITAMURA | C25: =IFERROR(VLOOKUP(D25,[2]Pieces!A:B,2,0)," ") -> 9751-fraise a fielter | D25: USINAGE BORNE CPF PROPREITAIRE -foret de forme d4+fraise a fielter | E25: 1598 | F25: 1700 | G25: 1733 | H25: 1757 | I25: =IFERROR(VLOOKUP(D25,[2]Pieces!A:C,3,0),"") -> 200 | J25: 12 | K25: =(F25-E25)*J25 -> 1224 | L25: =(G25-F25)*J25 -> 396 | M25: =(H25-G25)*J25 -> 288 | N25: =IF(I25="","",K25/I25) -> 6.12 | O25: =IF(I25="","",L25/I25) -> 1.98 | P25: =IF(I25="","",M25/I25) -> 1.44 | Q25: 9 | S25: =U25+T25-K25-L25-M25 -> 0 | U25: =(K25+L25+M25)-T25-V25 -> 1908 | Z25: =IF(OR(I25="",I25=0),0,(U25+T25)/I25) -> 9.54 | AA25: =IF(OR(Q25=0,I25=0),"",Z25/Q25*100) -> 106 | AE25: =IF(AA25>85," ","WARNING") | AM25: =(N25+O25+P25)/(Q25*3600) -> 0.00029444444 | AN25: =((3600/I25)*U25)/(N25+O25+P25) -> 3600 | AO25: =(U25-T25)/U25 -> 1 | AP25: =AM25*AN25*AO25 -> 1.06 | AQ25: =((U25-T25)*(3600/I25))/(Q25*3600) -> 1.06
A26: Q | B26: NOUVEAU MACHINE P014 | C26: =IFERROR(VLOOKUP(D26,[2]Pieces!A:B,2,0)," ") -> I035-CP2/chutes | D26: BAGUE INTERIEUR SILENT BLOC TRIANGLE TFR /chutes | E26: 706 | F26: 1282 | G26: 1282 | H26: 1282 | I26: =IFERROR(VLOOKUP(D26,[2]Pieces!A:C,3,0),"") -> 70 | J26: 1 | K26: =(F26-E26)*J26 -> 576 | L26: =(G26-F26)*J26 -> 0 | M26: =(H26-G26)*J26 -> 0 | N26: =IF(I26="","",K26/I26) -> 8.2285714 | O26: =IF(I26="","",L26/I26) -> 0 | P26: =IF(I26="","",M26/I26) -> 0 | Q26: 9 | S26: =U26+T26-K26-L26-M26 -> 0 | U26: =(K26+L26+M26)-T26-V26 -> 576 | Z26: =IF(OR(I26="",I26=0),0,(U26+T26)/I26) -> 8.2285714 | AA26: =IF(OR(Q26=0,I26=0),"",Z26/Q26*100) -> 91.428571 | AE26: =IF(AA26>85," ","WARNING") | AM26: =(N26+O26+P26)/(Q26*3600) -> 0.00025396825 | AN26: =((3600/I26)*U26)/(N26+O26+P26) -> 3600 | AO26: =(U26-T26)/U26 -> 1 | AP26: =AM26*AN26*AO26 -> 0.91428571 | AQ26: =((U26-T26)*(3600/I26))/(Q26*3600) -> 0.91428571
A27: Q | B27: NOUVEAU MACHINE 32sk300 | C27: =IFERROR(VLOOKUP(D27,[2]Pieces!A:B,2,0)," ") -> TIGE M6+2ECROU | D27: TIGRE M6 AVEC 2 ECROUS | E27: 3754 | F27: 4427 | G27: 4427 | H27: 4427 | I27: =IFERROR(VLOOKUP(D27,[2]Pieces!A:C,3,0),"") -> 120 | J27: 1 | K27: =(F27-E27)*J27 -> 673 | L27: =(G27-F27)*J27 -> 0 | M27: =(H27-G27)*J27 -> 0 | N27: =IF(I27="","",K27/I27) -> 5.6083333 | O27: =IF(I27="","",L27/I27) -> 0 | P27: =IF(I27="","",M27/I27) -> 0 | Q27: 9 | S27: =U27+T27-K27-L27-M27 -> 0 | U27: =(K27+L27+M27)-T27-V27 -> 673 | Z27: =IF(OR(I27="",I27=0),0,(U27+T27)/I27) -> 5.6083333 | AA27: =IF(OR(Q27=0,I27=0),"",Z27/Q27*100) -> 62.314815 | AE27: =IF(AA27>85," ","WARNING") -> WARNING | AM27: =(N27+O27+P27)/(Q27*3600) -> 0.00017309671 | AN27: =((3600/I27)*U27)/(N27+O27+P27) -> 3600 | AO27: =(U27-T27)/U27 -> 1 | AP27: =AM27*AN27*AO27 -> 0.62314815 | AQ27: =((U27-T27)*(3600/I27))/(Q27*3600) -> 0.62314815
S29: Taux de NC journalière | U29: =#REF!/#REF! -> #REF!
J33: Approbateur:
J34: Date:
J35: Visa:

Sheet 27-6-22
A1: 27-06-2022 | Z1: CODE: DAS-PRO-16
Z2: DATE:30/08/2019
Z3: VERSION:07
Z4: PAGE:1
A8: SYMBOLE | B8: MACHINE | C8: REF ARTICLE | D8: DESIGNATION | E8: COMPTEUR AUJOURD’HUI à 8h | F8: COMPTEUR HIER à 17H | G8: COMPTEUR HIER à 22H | H8: COMPTEUR AUJOURD’HUI à 8h | I8: CADENCE | J8: NOMBRE DE PIECES FINIS PAR CYCLE | K8: PIECES SUIVANT COMPTEU 8h-->17h | L8: PIECES SUIVANT COMPTEUR 17H-->22H | M8: PIECES SUIVANT COMPTEUR 6h-->8h | N8: NOMBRE D'HEURES DE TRAVAIL 8h-->17h | O8: NOMBRE D'HEURES DE TRAVAIL 17H-->22H | P8: NOMBRE D'HEURES DE TRAVAIL 6h-->8h | Q8: NOMBRE D'HEURES DE TRAVAIL | R8: OBSERVATIONS | S8: Pieces manquantes | T8: PIECES NC | U8: Pieces REELLES | V8: Nombre des pieces à retoucher | W8: Cause de la non-conformité | X8: Effet de la non-conformité | Y8: Machine pour retouche | Z8: NOMBRES D'HEURES SUIVANT LES PIECES REELLES | AA8: RENDEMENT | AB8: Maintenance | AC8: Affutage | AD8: Gamme d'usingae | AE8: ALERTES | AF8: enregitrement | AG8: Identification | AH8: Propreté des tables de contrôle | AI8: Rangement des outils de contrôle | AJ8: Existance de l'OF | AK8: Panne | AL8: gestion de modification | AM8: A | AN8: P | AO8: Q | AP8: OEE | AQ8: OEE
A9: A | B9: SST16 | C9: =IFERROR(VLOOKUP(D9,[2]Pieces!A:B,2,0)," ") -> OUT-PLOT | D9: plot nez de marche 25-06-2022 | E9: 1657 | F9: 2017 | G9: 2017 | H9: 2144 | I9: =IFERROR(VLOOKUP(D9,[2]Pieces!A:C,3,0),"") -> 72 | J9: 1 | K9: =(F9-E9)*J9 -> 360 | L9: =(G9-F9)*J9 -> 0 | M9: =(H9-G9)*J9 -> 127 | N9: =IF(I9="","",K9/I9) -> 5 | O9: =IF(I9="","",L9/I9) -> 0 | P9: =IF(I9="","",M9/I9) -> 1.7638889 | Q9: 13 | R9: RUPTURE DE COURANT | S9: =U9+T9-K9-L9-M9 -> 0 | U9: =(K9+L9+M9)-T9-V9 -> 487 | Z9: =IF(OR(I9="",I9=0),0,(U9+T9)/I9) -> 6.7638889 | AA9: =IF(OR(Q9=0,I9=0),"",Z9/Q9*100) -> 52.029915 | AC9: OK | AE9: =IF(AA9>85," ","WARNING") -> WARNING | AF9: OK | AG9: OK | AH9: OK | AI9: OK | AJ9: OK | AM9: =(N9+O9+P9)/(Q9*3600) -> 0.00014452754 | AN9: =((3600/I9)*U9)/(N9+O9+P9) -> 3600 | AO9: =(U9-T9)/U9 -> 1 | AP9: =AM9*AN9*AO9 -> 0.52029915 | AQ9: =((U9-T9)*(3600/I9))/(Q9*3600) -> 0.52029915
A10: B | B10: SB16 | C10: =IFERROR(VLOOKUP(D10,[2]Pieces!A:B,2,0)," ") -> 68.1010 | D10: Buse droite à collerette Ø10 | E10: 18652 | F10: 18787 | G10: 18787 | H10: 18787 | I10: =IFERROR(VLOOKUP(D10,[2]Pieces!A:C,3,0),"") -> 80 | J10: 1 | K10: =(F10-E10)*J10 -> 135 | L10: =(G10-F10)*J10 -> 0 | M10: =(H10-G10)*J10 -> 0 | N10: =IF(I10="","",K10/I10) -> 1.6875 | O10: =IF(I10="","",L10/I10) -> 0 | P10: =IF(I10="","",M10/I10) -> 0 | Q10: 13 | R10: RUPTURE DE COURANT | S10: =U10+T10-K10-L10-M10 -> 0 | U10: =(K10+L10+M10)-T10-V10 -> 135 | Z10: =IF(OR(I10="",I10=0),0,(U10+T10)/I10) -> 1.6875 | AA10: =IF(OR(Q10=0,I10=0),"",Z10/Q10*100) -> 12.980769 | AC10: OK | AE10: =IF(AA10>85," ","WARNING") -> WARNING | AF10: OK | AG10: OK | AH10: OK | AI10: OK | AJ10: OK | AM10: =(N10+O10+P10)/(Q10*3600) -> 3.6057692e-05 | AN10: =((3600/I10)*U10)/(N10+O10+P10) -> 3600 | AO10: =(U10-T10)/U10 -> 1 | AP10: =AM10*AN10*AO10 -> 0.12980769 | AQ10: =((U10-T10)*(3600/I10))/(Q10*3600) -> 0.12980769
A11: C | B11: BIGLIA 301 SM | C11: =IFERROR(VLOOKUP(D11,[2]Pieces!A:B,2,0)," ") -> TF48-57-I162-CP2 | D11: AXE JUMELLE-CP2 B301 | E11: 2564 | F11: 2828 | G11: 2828 | H11: 2828 | I11: =IFERROR(VLOOKUP(D11,[2]Pieces!A:C,3,0),"") -> 40 | J11: 1 | K11: =(F11-E11)*J11 -> 264 | L11: =(G11-F11)*J11 -> 0 | M11: =(H11-G11)*J11 -> 0 | N11: =IF(I11="","",K11/I11) -> 6.6 | O11: =IF(I11="","",L11/I11) -> 0 | P11: =IF(I11="","",M11/I11) -> 0 | Q11: 13 | R11: RUPTURE DE COURANT | S11: =U11+T11-K11-L11-M11 -> 0 | U11: =(K11+L11+M11)-T11-V11 -> 264 | Z11: =IF(OR(I11="",I11=0),0,(U11+T11)/I11) -> 6.6 | AA11: =IF(OR(Q11=0,I11=0),"",Z11/Q11*100) -> 50.769231 | AC11: OK | AE11: =IF(AA11>85," ","WARNING") -> WARNING | AF11: OK | AG11: OK | AH11: OK | AI11: OK | AJ11: OK | AM11: =(N11+O11+P11)/(Q11*3600) -> 0.00014102564 | AN11: =((3600/I11)*U11)/(N11+O11+P11) -> 3600 | AO11: =(U11-T11)/U11 -> 1 | AP11: =AM11*AN11*AO11 -> 0.50769231 | AQ11: =((U11-T11)*(3600/I11))/(Q11*3600) -> 0.50769231
A12: D | B12: BIGLIA 42 S2M bitourelle | C12: =IFERROR(VLOOKUP(D12,[2]Pieces!A:B,2,0)," ") -> I059-CP1 | D12: AXE DIRECTION ISUZU. | E12: 0 | F12: 72 | G12: 72 | H12: 109 | I12: =IFERROR(VLOOKUP(D12,[2]Pieces!A:C,3,0),"") -> 45 | J12: 1 | K12: =(F12-E12)*J12 -> 72 | L12: =(G12-F12)*J12 -> 0 | M12: =(H12-G12)*J12 -> 37 | N12: =IF(I12="","",K12/I12) -> 1.6 | O12: =IF(I12="","",L12/I12) -> 0 | P12: =IF(I12="","",M12/I12) -> 0.82222222 | Q12: 13 | R12: RUPTURE DE COURANT | S12: =U12+T12-K12-L12-M12 -> 0 | U12: =(K12+L12+M12)-T12-V12 -> 109 | Z12: =IF(OR(I12="",I12=0),0,(U12+T12)/I12) -> 2.4222222 | AA12: =IF(OR(Q12=0,I12=0),"",Z12/Q12*100) -> 18.632479 | AC12: OK | AE12: =IF(AA12>85," ","WARNING") -> WARNING | AF12: OK | AG12: OK | AH12: OK | AI12: OK | AJ12: OK | AM12: =(N12+O12+P12)/(Q12*3600) -> 5.1756885e-05 | AN12: =((3600/I12)*U12)/(N12+O12+P12) -> 3600 | AO12: =(U12-T12)/U12 -> 1 | AP12: =AM12*AN12*AO12 -> 0.18632479 | AQ12: =((U12-T12)*(3600/I12))/(Q12*3600) -> 0.18632479
A13: E | B13: L32 | C13: =IFERROR(VLOOKUP(D13,[2]Pieces!A:B,2,0)," ") -> OUT-172 | D13: CLAMPING RING 360FO L32. | E13: 1978 | F13: 2684 | G13: 2684 | H13: 2756 | I13: =IFERROR(VLOOKUP(D13,[2]Pieces!A:C,3,0),"") -> 220 | J13: 1 | K13: =(F13-E13)*J13 -> 706 | L13: =(G13-F13)*J13 -> 0 | M13: =(H13-G13)*J13 -> 72 | N13: =IF(I13="","",K13/I13) -> 3.2090909 | O13: =IF(I13="","",L13/I13) -> 0 | P13: =IF(I13="","",M13/I13) -> 0.32727273 | Q13: 10 | R13: RUPTURE DE COURANT | S13: =U13+T13-K13-L13-M13 -> 0 | U13: =(K13+L13+M13)-T13-V13 -> 778 | Z13: =IF(OR(I13="",I13=0),0,(U13+T13)/I13) -> 3.5363636 | AA13: =IF(OR(Q13=0,I13=0),"",Z13/Q13*100) -> 35.363636 | AC13: OK | AE13: =IF(AA13>85," ","WARNING") -> WARNING | AF13: OK | AG13: OK | AH13: OK | AI13: OK | AJ13: OK | AM13: =(N13+O13+P13)/(Q13*3600) -> 9.8232323e-05 | AN13: =((3600/I13)*U13)/(N13+O13+P13) -> 3600 | AO13: =(U13-T13)/U13 -> 1 | AP13: =AM13*AN13*AO13 -> 0.35363636 | AQ13: =((U13-T13)*(3600/I13))/(Q13*3600) -> 0.35363636
A14: F | B14: TSUGAMI | C14: =IFERROR(VLOOKUP(D14,[2]Pieces!A:B,2,0)," ") -> - | D14: Arrêt | E14: 0 | F14: 0 | G14: 0 | H14: 0 | I14: =IFERROR(VLOOKUP(D14,[2]Pieces!A:C,3,0),"") -> 1 | J14: 1 | K14: =(F14-E14)*J14 -> 0 | L14: =(G14-F14)*J14 -> 0 | M14: =(H14-G14)*J14 -> 0 | N14: =IF(I14="","",K14/I14) -> 0 | O14: =IF(I14="","",L14/I14) -> 0 | P14: =IF(I14="","",M14/I14) -> 0 | Q14: 13 | S14: =U14+T14-K14-L14-M14 -> 0 | U14: =(K14+L14+M14)-T14-V14 -> 0 | Z14: =IF(OR(I14="",I14=0),0,(U14+T14)/I14) -> 0 | AA14: =IF(OR(Q14=0,I14=0),"",Z14/Q14*100) -> 0 | AE14: =IF(AA14>85," ","WARNING") -> WARNING | AM14: =(N14+O14+P14)/(Q14*3600) -> 0 | AN14: =((3600/I14)*U14)/(N14+O14+P14) -> #DIV/0! | AO14: =(U14-T14)/U14 -> #DIV/0! | AP14: =AM14*AN14*AO14 -> #DIV/0! | AQ14: =((U14-T14)*(3600/I14))/(Q14*3600) -> 0
A15: G | B15: Tour STAR SV-32-J | C15: =IFERROR(VLOOKUP(D15,[2]Pieces!A:B,2,0)," ") -> 68.0815 | D15: BUSE A DROITE D8 M445 maj 07-06-2022 | E15: 43408 | F15: 43771 | G15: 43771 | H15: 43771 | I15: =IFERROR(VLOOKUP(D15,[2]Pieces!A:C,3,0),"") -> 56 | J15: 1 | K15: =(F15-E15)*J15 -> 363 | L15: =(G15-F15)*J15 -> 0 | M15: =(H15-G15)*J15 -> 0 | N15: =IF(I15="","",K15/I15) -> 6.4821429 | O15: =IF(I15="","",L15/I15) -> 0 | P15: =IF(I15="","",M15/I15) -> 0 | Q15: 13 | S15: =U15+T15-K15-L15-M15 -> 0 | U15: =(K15+L15+M15)-T15-V15 -> 363 | Z15: =IF(OR(I15="",I15=0),0,(U15+T15)/I15) -> 6.4821429 | AA15: =IF(OR(Q15=0,I15=0),"",Z15/Q15*100) -> 49.862637 | AC15: OK | AE15: =IF(AA15>85," ","WARNING") -> WARNING | AF15: OK | AG15: OK | AH15: OK | AI15: OK | AJ15: OK | AM15: =(N15+O15+P15)/(Q15*3600) -> 0.00013850733 | AN15: =((3600/I15)*U15)/(N15+O15+P15) -> 3600 | AO15: =(U15-T15)/U15 -> 1 | AP15: =AM15*AN15*AO15 -> 0.49862637 | AQ15: =((U15-T15)*(3600/I15))/(Q15*3600) -> 0.49862637
A16: H | B16: Tour CNC STAR SB avec embarreur LNS Express 220 | C16: =IFERROR(VLOOKUP(D16,[2]Pieces!A:B,2,0)," ") -> 1740 | D16: VIS ALLUM M10 | E16: 1297 | F16: 1602 | G16: 1602 | H16: 1670 | I16: =IFERROR(VLOOKUP(D16,[2]Pieces!A:C,3,0),"") -> 36 | J16: 1 | K16: =(F16-E16)*J16 -> 305 | L16: =(G16-F16)*J16 -> 0 | M16: =(H16-G16)*J16 -> 68 | N16: =IF(I16="","",K16/I16) -> 8.4722222 | O16: =IF(I16="","",L16/I16) -> 0 | P16: =IF(I16="","",M16/I16) -> 1.8888889 | Q16: 13 | S16: =U16+T16-K16-L16-M16 -> 0 | U16: =(K16+L16+M16)-T16-V16 -> 373 | Z16: =IF(OR(I16="",I16=0),0,(U16+T16)/I16) -> 10.361111 | AA16: =IF(OR(Q16=0,I16=0),"",Z16/Q16*100) -> 79.700855 | AC16: OK | AE16: =IF(AA16>85," ","WARNING") -> WARNING | AF16: OK | AG16: OK | AH16: OK | AI16: OK | AJ16: OK | AM16: =(N16+O16+P16)/(Q16*3600) -> 0.00022139126 | AN16: =((3600/I16)*U16)/(N16+O16+P16) -> 3600 | AO16: =(U16-T16)/U16 -> 1 | AP16: =AM16*AN16*AO16 -> 0.79700855 | AQ16: =((U16-T16)*(3600/I16))/(Q16*3600) -> 0.79700855
A17: I | B17: MULTIBROCHE | C17: =IFERROR(VLOOKUP(D17,[2]Pieces!A:B,2,0)," ") -> MPS000300 | D17: raccord HEX 17 | E17: 0 | F17: 0 | G17: 0 | H17: 0 | I17: =IFERROR(VLOOKUP(D17,[2]Pieces!A:C,3,0),"") -> 500 | J17: 1 | K17: =(F17-E17)*J17 -> 0 | L17: =(G17-F17)*J17 -> 0 | M17: =(H17-G17)*J17 -> 0 | N17: =IF(I17="","",K17/I17) -> 0 | O17: =IF(I17="","",L17/I17) -> 0 | P17: =IF(I17="","",M17/I17) -> 0 | Q17: 13 | S17: =U17+T17-K17-L17-M17 -> 0 | U17: =(K17+L17+M17)-T17-V17 -> 0 | Z17: =IF(OR(I17="",I17=0),0,(U17+T17)/I17) -> 0 | AA17: =IF(OR(Q17=0,I17=0),"",Z17/Q17*100) -> 0 | AE17: =IF(AA17>85," ","WARNING") -> WARNING | AM17: =(N17+O17+P17)/(Q17*3600) -> 0 | AN17: =((3600/I17)*U17)/(N17+O17+P17) -> #DIV/0! | AO17: =(U17-T17)/U17 -> #DIV/0! | AP17: =AM17*AN17*AO17 -> #DIV/0! | AQ17: =((U17-T17)*(3600/I17))/(Q17*3600) -> 0
A18: J | B18: Tour CNC WEILER UD 24 - 100 | C18: =IFERROR(VLOOKUP(D18,[2]Pieces!A:B,2,0)," ") -> 0-4180 | D18: ANNEAU FX 25,2*32*21-CHUTES MJ | E18: 0 | F18: 0 | G18: 0 | H18: 0 | I18: =IFERROR(VLOOKUP(D18,[2]Pieces!A:C,3,0),"") -> 50 | J18: 1 | K18: =(F18-E18)*J18 -> 0 | L18: =(G18-F18)*J18 -> 0 | M18: =(H18-G18)*J18 -> 0 | N18: =IF(I18="","",K18/I18) -> 0 | O18: =IF(I18="","",L18/I18) -> 0 | P18: =IF(I18="","",M18/I18) -> 0 | Q18: 9 | S18: =U18+T18-K18-L18-M18 -> 0 | U18: =(K18+L18+M18)-T18-V18 -> 0 | Z18: =IF(OR(I18="",I18=0),0,(U18+T18)/I18) -> 0 | AA18: =IF(OR(Q18=0,I18=0),"",Z18/Q18*100) -> 0 | AE18: =IF(AA18>85," ","WARNING") -> WARNING | AM18: =(N18+O18+P18)/(Q18*3600) -> 0 | AN18: =((3600/I18)*U18)/(N18+O18+P18) -> #DIV/0! | AO18: =(U18-T18)/U18 -> #DIV/0! | AP18: =AM18*AN18*AO18 -> #DIV/0! | AQ18: =((U18-T18)*(3600/I18))/(Q18*3600) -> 0
A19: K | B19: TOUR WEILER | C19: =IFERROR(VLOOKUP(D19,[2]Pieces!A:B,2,0)," ") -> 4-7009-1 | D19: BAGUE DECOLLETE | E19: 1806 | F19: 2137 | G19: 2137 | H19: 2137 | I19: =IFERROR(VLOOKUP(D19,[2]Pieces!A:C,3,0),"") -> 45 | J19: 1 | K19: =(F19-E19)*J19 -> 331 | L19: =(G19-F19)*J19 -> 0 | M19: =(H19-G19)*J19 -> 0 | N19: =IF(I19="","",K19/I19) -> 7.3555556 | O19: =IF(I19="","",L19/I19) -> 0 | P19: =IF(I19="","",M19/I19) -> 0 | Q19: 9 | S19: =U19+T19-K19-L19-M19 -> 0 | U19: =(K19+L19+M19)-T19-V19 -> 331 | Z19: =IF(OR(I19="",I19=0),0,(U19+T19)/I19) -> 7.3555556 | AA19: =IF(OR(Q19=0,I19=0),"",Z19/Q19*100) -> 81.728395 | AE19: =IF(AA19>85," ","WARNING") -> WARNING | AM19: =(N19+O19+P19)/(Q19*3600) -> 0.00022702332 | AN19: =((3600/I19)*U19)/(N19+O19+P19) -> 3600 | AO19: =(U19-T19)/U19 -> 1 | AP19: =AM19*AN19*AO19 -> 0.81728395 | AQ19: =((U19-T19)*(3600/I19))/(Q19*3600) -> 0.81728395
A20: L | B20: NAKAMURA | C20: =IFERROR(VLOOKUP(D20,[2]Pieces!A:B,2,0)," ") -> 40*50*21 | D20: ANNEAU BRUTE AVEC CHANF INT 40*50*21 SEMI FINI | E20: 0 | F20: 167 | G20: 167 | H20: 167 | I20: =IFERROR(VLOOKUP(D20,[2]Pieces!A:C,3,0),"") -> 60 | J20: 1 | K20: =(F20-E20)*J20 -> 167 | L20: =(G20-F20)*J20 -> 0 | M20: =(H20-G20)*J20 -> 0 | N20: =IF(I20="","",K20/I20) -> 2.7833333 | O20: =IF(I20="","",L20/I20) -> 0 | P20: =IF(I20="","",M20/I20) -> 0 | Q20: 9 | S20: =U20+T20-K20-L20-M20 -> 0 | U20: =(K20+L20+M20)-T20-V20 -> 167 | Z20: =IF(OR(I20="",I20=0),0,(U20+T20)/I20) -> 2.7833333 | AA20: =IF(OR(Q20=0,I20=0),"",Z20/Q20*100) -> 30.925926 | AE20: =IF(AA20>85," ","WARNING") -> WARNING | AM20: =(N20+O20+P20)/(Q20*3600) -> 8.590535e-05 | AN20: =((3600/I20)*U20)/(N20+O20+P20) -> 3600 | AO20: =(U20-T20)/U20 -> 1 | AP20: =AM20*AN20*AO20 -> 0.30925926 | AQ20: =((U20-T20)*(3600/I20))/(Q20*3600) -> 0.30925926
A21: M | B21: MORI SEIKI 3 axes | C21: =IFERROR(VLOOKUP(D21,[2]Pieces!A:B,2,0)," ") -> i004 | D21: Ecrou suspension- surfacage | E21: 0 | F21: 0 | G21: 0 | H21: 0 | I21: =IFERROR(VLOOKUP(D21,[2]Pieces!A:C,3,0),"") -> 54 | J21: 9 | K21: =(F21-E21)*J21 -> 0 | L21: =(G21-F21)*J21 -> 0 | M21: =(H21-G21)*J21 -> 0 | N21: =IF(I21="","",K21/I21) -> 0 | O21: =IF(I21="","",L21/I21) -> 0 | P21: =IF(I21="","",M21/I21) -> 0 | Q21: 9 | S21: =U21+T21-K21-L21-M21 -> 0 | U21: =(K21+L21+M21)-T21-V21 -> 0 | Z21: =IF(OR(I21="",I21=0),0,(U21+T21)/I21) -> 0 | AA21: =IF(OR(Q21=0,I21=0),"",Z21/Q21*100) -> 0 | AE21: =IF(AA21>85," ","WARNING") -> WARNING | AM21: =(N21+O21+P21)/(Q21*3600) -> 0 | AN21: =((3600/I21)*U21)/(N21+O21+P21) -> #DIV/0! | AO21: =(U21-T21)/U21 -> #DIV/0! | AP21: =AM21*AN21*AO21 -> #DIV/0! | AQ21: =((U21-T21)*(3600/I21))/(Q21*3600) -> 0
A22: N | B22: MORI SEIKI 5 axes | C22: =IFERROR(VLOOKUP(D22,[2]Pieces!A:B,2,0)," ") -> 601130 | D22: ECROU DE FUSEE + fraisage 5 pcs pignion | E22: 0 | F22: 0 | G22: 0 | H22: 0 | I22: =IFERROR(VLOOKUP(D22,[2]Pieces!A:C,3,0),"") -> 24 | J22: 5 | K22: =(F22-E22)*J22 -> 0 | L22: =(G22-F22)*J22 -> 0 | M22: =(H22-G22)*J22 -> 0 | N22: =IF(I22="","",K22/I22) -> 0 | O22: =IF(I22="","",L22/I22) -> 0 | P22: =IF(I22="","",M22/I22) -> 0 | Q22: 9 | S22: =U22+T22-K22-L22-M22 -> 0 | U22: =(K22+L22+M22)-T22-V22 -> 0 | Z22: =IF(OR(I22="",I22=0),0,(U22+T22)/I22) -> 0 | AA22: =IF(OR(Q22=0,I22=0),"",Z22/Q22*100) -> 0 | AE22: =IF(AA22>85," ","WARNING") -> WARNING | AM22: =(N22+O22+P22)/(Q22*3600) -> 0 | AN22: =((3600/I22)*U22)/(N22+O22+P22) -> #DIV/0! | AO22: =(U22-T22)/U22 -> #DIV/0! | AP22: =AM22*AN22*AO22 -> #DIV/0! | AQ22: =((U22-T22)*(3600/I22))/(Q22*3600) -> 0
A23: O | B23: HARDING | C23: =IFERROR(VLOOKUP(D23,[2]Pieces!A:B,2,0)," ") -> 480387-SF | D23: EVACUATION 2 EN3 SEMI FINI | E23: 131 | F23: 138 | G23: 138 | H23: 138 | I23: =IFERROR(VLOOKUP(D23,[2]Pieces!A:C,3,0),"") -> 25 | J23: 30 | K23: =(F23-E23)*J23 -> 210 | L23: =(G23-F23)*J23 -> 0 | M23: =(H23-G23)*J23 -> 0 | N23: =IF(I23="","",K23/I23) -> 8.4 | O23: =IF(I23="","",L23/I23) -> 0 | P23: =IF(I23="","",M23/I23) -> 0 | Q23: 9 | S23: =U23+T23-K23-L23-M23 -> 0 | U23: =(K23+L23+M23)-T23-V23 -> 210 | Z23: =IF(OR(I23="",I23=0),0,(U23+T23)/I23) -> 8.4 | AA23: =IF(OR(Q23=0,I23=0),"",Z23/Q23*100) -> 93.333333 | AC23: OK | AE23: =IF(AA23>85," ","WARNING") | AF23: OK | AG23: OK | AH23: OK | AI23: OK | AJ23: OK | AM23: =(N23+O23+P23)/(Q23*3600) -> 0.00025925926 | AN23: =((3600/I23)*U23)/(N23+O23+P23) -> 3600 | AO23: =(U23-T23)/U23 -> 1 | AP23: =AM23*AN23*AO23 -> 0.93333333 | AQ23: =((U23-T23)*(3600/I23))/(Q23*3600) -> 0.93333333
A24: O | B24: HARDING | C24: =IFERROR(VLOOKUP(D24,[2]Pieces!A:B,2,0)," ") -> 480387-PF | D24: EVACUATION 2/3G X-ONE-harding-taraudageM4+GAZ | E24: 131 | F24: 138 | G24: 138 | H24: 138 | I24: =IFERROR(VLOOKUP(D24,[2]Pieces!A:C,3,0),"") -> 40 | J24: 20 | K24: =(F24-E24)*J24 -> 140 | L24: =(G24-F24)*J24 -> 0 | M24: =(H24-G24)*J24 -> 0 | N24: =IF(I24="","",K24/I24) -> 3.5 | O24: =IF(I24="","",L24/I24) -> 0 | P24: =IF(I24="","",M24/I24) -> 0 | Q24: 9 | S24: =U24+T24-K24-L24-M24 -> 0 | U24: =(K24+L24+M24)-T24-V24 -> 140 | Z24: =IF(OR(I24="",I24=0),0,(U24+T24)/I24) -> 3.5 | AA24: =IF(OR(Q24=0,I24=0),"",Z24/Q24*100) -> 38.888889 | AC24: OK | AE24: =IF(AA24>85," ","WARNING") -> WARNING | AF24: OK | AG24: OK | AH24: OK | AI24: OK | AJ24: OK | AM24: =(N24+O24+P24)/(Q24*3600) -> 0.00010802469 | AN24: =((3600/I24)*U24)/(N24+O24+P24) -> 3600 | AO24: =(U24-T24)/U24 -> 1 | AP24: =AM24*AN24*AO24 -> 0.38888889 | AQ24: =((U24-T24)*(3600/I24))/(Q24*3600) -> 0.38888889
A25: P | B25: KITAMURA | C25: =IFERROR(VLOOKUP(D25,[2]Pieces!A:B,2,0)," ") -> 9751-fraise a fielter | D25: USINAGE BORNE CPF PROPREITAIRE -foret de forme d4+fraise a fielter | E25: 1491 | F25: 1580 | G25: 1580 | H25: 1598 | I25: =IFERROR(VLOOKUP(D25,[2]Pieces!A:C,3,0),"") -> 200 | J25: 12 | K25: =(F25-E25)*J25 -> 1068 | L25: =(G25-F25)*J25 -> 0 | M25: =(H25-G25)*J25 -> 216 | N25: =IF(I25="","",K25/I25) -> 5.34 | O25: =IF(I25="","",L25/I25) -> 0 | P25: =IF(I25="","",M25/I25) -> 1.08 | Q25: 11 | S25: =U25+T25-K25-L25-M25 -> 0 | U25: =(K25+L25+M25)-T25-V25 -> 1284 | Z25: =IF(OR(I25="",I25=0),0,(U25+T25)/I25) -> 6.42 | AA25: =IF(OR(Q25=0,I25=0),"",Z25/Q25*100) -> 58.363636 | AC25: OK | AE25: =IF(AA25>85," ","WARNING") -> WARNING | AF25: OK | AG25: OK | AH25: OK | AI25: OK | AJ25: OK | AM25: =(N25+O25+P25)/(Q25*3600) -> 0.00016212121 | AN25: =((3600/I25)*U25)/(N25+O25+P25) -> 3600 | AO25: =(U25-T25)/U25 -> 1 | AP25: =AM25*AN25*AO25 -> 0.58363636 | AQ25: =((U25-T25)*(3600/I25))/(Q25*3600) -> 0.58363636
A26: Q | B26: NOUVEAU MACHINE P014 | C26: =IFERROR(VLOOKUP(D26,[2]Pieces!A:B,2,0)," ") -> I035-CP2/chutes | D26: BAGUE INTERIEUR SILENT BLOC TRIANGLE TFR /chutes | E26: 619 | F26: 706 | G26: 706 | H26: 706 | I26: =IFERROR(VLOOKUP(D26,[2]Pieces!A:C,3,0),"") -> 70 | J26: 1 | K26: =(F26-E26)*J26 -> 87 | L26: =(G26-F26)*J26 -> 0 | M26: =(H26-G26)*J26 -> 0 | N26: =IF(I26="","",K26/I26) -> 1.2428571 | O26: =IF(I26="","",L26/I26) -> 0 | P26: =IF(I26="","",M26/I26) -> 0 | Q26: 9 | S26: =U26+T26-K26-L26-M26 -> 0 | U26: =(K26+L26+M26)-T26-V26 -> 87 | Z26: =IF(OR(I26="",I26=0),0,(U26+T26)/I26) -> 1.2428571 | AA26: =IF(OR(Q26=0,I26=0),"",Z26/Q26*100) -> 13.809524 | AE26: =IF(AA26>85," ","WARNING") -> WARNING | AJ26: OK | AM26: =(N26+O26+P26)/(Q26*3600) -> 3.8359788e-05 | AN26: =((3600/I26)*U26)/(N26+O26+P26) -> 3600 | AO26: =(U26-T26)/U26 -> 1 | AP26: =AM26*AN26*AO26 -> 0.13809524 | AQ26: =((U26-T26)*(3600/I26))/(Q26*3600) -> 0.13809524
A27: Q | B27: NOUVEAU MACHINE 32sk300 | C27: =IFERROR(VLOOKUP(D27,[2]Pieces!A:B,2,0)," ") -> TIGE M6+2ECROU | D27: TIGRE M6 AVEC 2 ECROUS | E27: 2994 | F27: 3754 | G27: 3754 | H27: 3754 | I27: =IFERROR(VLOOKUP(D27,[2]Pieces!A:C,3,0),"") -> 120 | J27: 1 | K27: =(F27-E27)*J27 -> 760 | L27: =(G27-F27)*J27 -> 0 | M27: =(H27-G27)*J27 -> 0 | N27: =IF(I27="","",K27/I27) -> 6.3333333 | O27: =IF(I27="","",L27/I27) -> 0 | P27: =IF(I27="","",M27/I27) -> 0 | Q27: 9 | S27: =U27+T27-K27-L27-M27 -> 0 | U27: =(K27+L27+M27)-T27-V27 -> 760 | Z27: =IF(OR(I27="",I27=0),0,(U27+T27)/I27) -> 6.3333333 | AA27: =IF(OR(Q27=0,I27=0),"",Z27/Q27*100) -> 70.37037 | AE27: =IF(AA27>85," ","WARNING") -> WARNING | AJ27: OK | AM27: =(N27+O27+P27)/(Q27*3600) -> 0.00019547325 | AN27: =((3600/I27)*U27)/(N27+O27+P27) -> 3600 | AO27: =(U27-T27)/U27 -> 1 | AP27: =AM27*AN27*AO27 -> 0.7037037 | AQ27: =((U27-T27)*(3600/I27))/(Q27*3600) -> 0.7037037
S29: Taux de NC journalière | U29: =#REF!/#REF! -> #REF!
J33: Approbateur:
J34: Date:
J35: Visa:

Sheet 25-6-22
A1: 25-06-2022 | Z1: CODE: DAS-PRO-16
Z2: DATE:30/08/2019
Z3: VERSION:07
Z4: PAGE:1
A8: SYMBOLE | B8: MACHINE | C8: REF ARTICLE | D8: DESIGNATION | E8: COMPTEUR AUJOURD’HUI à 8h | F8: COMPTEUR HIER à 17H | G8: COMPTEUR HIER à 22H | H8: COMPTEUR AUJOURD’HUI à 8h | I8: CADENCE | J8: NOMBRE DE PIECES FINIS PAR CYCLE | K8: PIECES SUIVANT COMPTEU 8h-->17h | L8: PIECES SUIVANT COMPTEUR 17H-->22H | M8: PIECES SUIVANT COMPTEUR 6h-->8h | N8: NOMBRE D'HEURES DE TRAVAIL 8h-->17h | O8: NOMBRE D'HEURES DE TRAVAIL 17H-->22H | P8: NOMBRE D'HEURES DE TRAVAIL 6h-->8h | Q8: NOMBRE D'HEURES DE TRAVAIL | R8: OBSERVATIONS | S8: Pieces manquantes | T8: PIECES NC | U8: Pieces REELLES | V8: Nombre des pieces à retoucher | W8: Cause de la non-conformité | X8: Effet de la non-conformité | Y8: Machine pour retouche | Z8: NOMBRES D'HEURES SUIVANT LES PIECES REELLES | AA8: RENDEMENT | AB8: Maintenance | AC8: Affutage | AD8: Gamme d'usingae | AE8: ALERTES | AF8: enregitrement | AG8: Identification | AH8: Propreté des tables de contrôle | AI8: Rangement des outils de contrôle | AJ8: Existance de l'OF | AK8: Panne | AL8: gestion de modification | AM8: A | AN8: P | AO8: Q | AP8: OEE | AQ8: OEE
A9: A | B9: SST16 | C9: =IFERROR(VLOOKUP(D9,[2]Pieces!A:B,2,0)," ") -> OUT-PLOT | D9: plot nez de marche 25-06-2022 | E9: 1180 | F9: 1504 | G9: 1530 | H9: 1657 | I9: =IFERROR(VLOOKUP(D9,[2]Pieces!A:C,3,0),"") -> 72 | J9: 1 | K9: =(F9-E9)*J9 -> 324 | L9: =(G9-F9)*J9 -> 26 | M9: =(H9-G9)*J9 -> 127 | N9: =IF(I9="","",K9/I9) -> 4.5 | O9: =IF(I9="","",L9/I9) -> 0.36111111 | P9: =IF(I9="","",M9/I9) -> 1.7638889 | Q9: 7.75 | S9: =U9+T9-K9-L9-M9 -> 0 | U9: =(K9+L9+M9)-T9-V9 -> 477 | Z9: =IF(OR(I9="",I9=0),0,(U9+T9)/I9) -> 6.625 | AA9: =IF(OR(Q9=0,I9=0),"",Z9/Q9*100) -> 85.483871 | AE9: =IF(AA9>85," ","WARNING") | AM9: =(N9+O9+P9)/(Q9*3600) -> 0.0002374552 | AN9: =((3600/I9)*U9)/(N9+O9+P9) -> 3600 | AO9: =(U9-T9)/U9 -> 1 | AP9: =AM9*AN9*AO9 -> 0.85483871 | AQ9: =((U9-T9)*(3600/I9))/(Q9*3600) -> 0.85483871
A10: B | B10: SB16 | C10: =IFERROR(VLOOKUP(D10,[2]Pieces!A:B,2,0)," ") -> 68.1010 | D10: Buse droite à collerette Ø10 | E10: 18111 | F10: 18501 | G10: 18515 | H10: 18652 | I10: =IFERROR(VLOOKUP(D10,[2]Pieces!A:C,3,0),"") -> 80 | J10: 1 | K10: =(F10-E10)*J10 -> 390 | L10: =(G10-F10)*J10 -> 14 | M10: =(H10-G10)*J10 -> 137 | N10: =IF(I10="","",K10/I10) -> 4.875 | O10: =IF(I10="","",L10/I10) -> 0.175 | P10: =IF(I10="","",M10/I10) -> 1.7125 | Q10: 7.75 | S10: =U10+T10-K10-L10-M10 -> 0 | U10: =(K10+L10+M10)-T10-V10 -> 541 | Z10: =IF(OR(I10="",I10=0),0,(U10+T10)/I10) -> 6.7625 | AA10: =IF(OR(Q10=0,I10=0),"",Z10/Q10*100) -> 87.258065 | AE10: =IF(AA10>85," ","WARNING") | AM10: =(N10+O10+P10)/(Q10*3600) -> 0.00024238351 | AN10: =((3600/I10)*U10)/(N10+O10+P10) -> 3600 | AO10: =(U10-T10)/U10 -> 1 | AP10: =AM10*AN10*AO10 -> 0.87258065 | AQ10: =((U10-T10)*(3600/I10))/(Q10*3600) -> 0.87258065
A11: C | B11: BIGLIA 301 SM | C11: =IFERROR(VLOOKUP(D11,[2]Pieces!A:B,2,0)," ") -> TF48-57-I162-CP2 | D11: AXE JUMELLE-CP2 B301 | E11: 2298 | F11: 2483 | G11: 2496 | H11: 2564 | I11: =IFERROR(VLOOKUP(D11,[2]Pieces!A:C,3,0),"") -> 40 | J11: 1 | K11: =(F11-E11)*J11 -> 185 | L11: =(G11-F11)*J11 -> 13 | M11: =(H11-G11)*J11 -> 68 | N11: =IF(I11="","",K11/I11) -> 4.625 | O11: =IF(I11="","",L11/I11) -> 0.325 | P11: =IF(I11="","",M11/I11) -> 1.7 | Q11: 7.75 | S11: =U11+T11-K11-L11-M11 -> 0 | T11: 2 | U11: =(K11+L11+M11)-T11-V11 -> 264 | Z11: =IF(OR(I11="",I11=0),0,(U11+T11)/I11) -> 6.65 | AA11: =IF(OR(Q11=0,I11=0),"",Z11/Q11*100) -> 85.806452 | AE11: =IF(AA11>85," ","WARNING") | AM11: =(N11+O11+P11)/(Q11*3600) -> 0.00023835125 | AN11: =((3600/I11)*U11)/(N11+O11+P11) -> 3572.9323 | AO11: =(U11-T11)/U11 -> 0.99242424 | AP11: =AM11*AN11*AO11 -> 0.84516129 | AQ11: =((U11-T11)*(3600/I11))/(Q11*3600) -> 0.84516129
A12: D | B12: BIGLIA 42 S2M bitourelle | C12: =IFERROR(VLOOKUP(D12,[2]Pieces!A:B,2,0)," ") -> M001-CP1 | D12: BOULON CENTRE AR OM40 | E12: 249 | F12: 249 | G12: 249 | H12: 249 | I12: =IFERROR(VLOOKUP(D12,[2]Pieces!A:C,3,0),"") -> 25 | J12: 1 | K12: =(F12-E12)*J12 -> 0 | L12: =(G12-F12)*J12 -> 0 | M12: =(H12-G12)*J12 -> 0 | N12: =IF(I12="","",K12/I12) -> 0 | O12: =IF(I12="","",L12/I12) -> 0 | P12: =IF(I12="","",M12/I12) -> 0 | Q12: 7.75 | S12: =U12+T12-K12-L12-M12 -> 0 | U12: =(K12+L12+M12)-T12-V12 -> 0 | Z12: =IF(OR(I12="",I12=0),0,(U12+T12)/I12) -> 0 | AA12: =IF(OR(Q12=0,I12=0),"",Z12/Q12*100) -> 0 | AE12: =IF(AA12>85," ","WARNING") -> WARNING | AM12: =(N12+O12+P12)/(Q12*3600) -> 0 | AN12: =((3600/I12)*U12)/(N12+O12+P12) -> #DIV/0! | AO12: =(U12-T12)/U12 -> #DIV/0! | AP12: =AM12*AN12*AO12 -> #DIV/0! | AQ12: =((U12-T12)*(3600/I12))/(Q12*3600) -> 0
A13: E | B13: L32 | C13: =IFERROR(VLOOKUP(D13,[2]Pieces!A:B,2,0)," ") -> OUT-172 | D13: CLAMPING RING 360FO L32. | E13: 1390 | F13: 1850 | G13: 1850 | H13: 1978 | I13: =IFERROR(VLOOKUP(D13,[2]Pieces!A:C,3,0),"") -> 220 | J13: 1 | K13: =(F13-E13)*J13 -> 460 | L13: =(G13-F13)*J13 -> 0 | M13: =(H13-G13)*J13 -> 128 | N13: =IF(I13="","",K13/I13) -> 2.0909091 | O13: =IF(I13="","",L13/I13) -> 0 | P13: =IF(I13="","",M13/I13) -> 0.58181818 | Q13: 6 | S13: =U13+T13-K13-L13-M13 -> 0 | U13: =(K13+L13+M13)-T13-V13 -> 588 | Z13: =IF(OR(I13="",I13=0),0,(U13+T13)/I13) -> 2.6727273 | AA13: =IF(OR(Q13=0,I13=0),"",Z13/Q13*100) -> 44.545455 | AE13: =IF(AA13>85," ","WARNING") -> WARNING | AM13: =(N13+O13+P13)/(Q13*3600) -> 0.00012373737 | AN13: =((3600/I13)*U13)/(N13+O13+P13) -> 3600 | AO13: =(U13-T13)/U13 -> 1 | AP13: =AM13*AN13*AO13 -> 0.44545455 | AQ13: =((U13-T13)*(3600/I13))/(Q13*3600) -> 0.44545455
A14: F | B14: TSUGAMI | C14: =IFERROR(VLOOKUP(D14,[2]Pieces!A:B,2,0)," ") -> - | D14: Arrêt | E14: 0 | F14: 0 | G14: 0 | H14: 0 | I14: =IFERROR(VLOOKUP(D14,[2]Pieces!A:C,3,0),"") -> 1 | J14: 1 | K14: =(F14-E14)*J14 -> 0 | L14: =(G14-F14)*J14 -> 0 | M14: =(H14-G14)*J14 -> 0 | N14: =IF(I14="","",K14/I14) -> 0 | O14: =IF(I14="","",L14/I14) -> 0 | P14: =IF(I14="","",M14/I14) -> 0 | Q14: 7.75 | S14: =U14+T14-K14-L14-M14 -> 0 | U14: =(K14+L14+M14)-T14-V14 -> 0 | Z14: =IF(OR(I14="",I14=0),0,(U14+T14)/I14) -> 0 | AA14: =IF(OR(Q14=0,I14=0),"",Z14/Q14*100) -> 0 | AE14: =IF(AA14>85," ","WARNING") -> WARNING | AM14: =(N14+O14+P14)/(Q14*3600) -> 0 | AN14: =((3600/I14)*U14)/(N14+O14+P14) -> #DIV/0! | AO14: =(U14-T14)/U14 -> #DIV/0! | AP14: =AM14*AN14*AO14 -> #DIV/0! | AQ14: =((U14-T14)*(3600/I14))/(Q14*3600) -> 0
A15: G | B15: Tour STAR SV-32-J | C15: =IFERROR(VLOOKUP(D15,[2]Pieces!A:B,2,0)," ") -> 68.0815 | D15: BUSE A DROITE D8 M445 maj 07-06-2022 | E15: 43052 | F15: 43310 | G15: 43315 | H15: 43408 | I15: =IFERROR(VLOOKUP(D15,[2]Pieces!A:C,3,0),"") -> 56 | J15: 1 | K15: =(F15-E15)*J15 -> 258 | L15: =(G15-F15)*J15 -> 5 | M15: =(H15-G15)*J15 -> 93 | N15: =IF(I15="","",K15/I15) -> 4.6071429 | O15: =IF(I15="","",L15/I15) -> 0.089285714 | P15: =IF(I15="","",M15/I15) -> 1.6607143 | Q15: 7.75 | S15: =U15+T15-K15-L15-M15 -> 0 | U15: =(K15+L15+M15)-T15-V15 -> 356 | Z15: =IF(OR(I15="",I15=0),0,(U15+T15)/I15) -> 6.3571429 | AA15: =IF(OR(Q15=0,I15=0),"",Z15/Q15*100) -> 82.02765 | AE15: =IF(AA15>85," ","WARNING") -> WARNING | AM15: =(N15+O15+P15)/(Q15*3600) -> 0.00022785458 | AN15: =((3600/I15)*U15)/(N15+O15+P15) -> 3600 | AO15: =(U15-T15)/U15 -> 1 | AP15: =AM15*AN15*AO15 -> 0.8202765 | AQ15: =((U15-T15)*(3600/I15))/(Q15*3600) -> 0.8202765
A16: H | B16: Tour CNC STAR SB avec embarreur LNS Express 220 | C16: =IFERROR(VLOOKUP(D16,[2]Pieces!A:B,2,0)," ") -> 1740 | D16: VIS ALLUM M10 | E16: 1042 | F16: 1230 | G16: 1238 | H16: 1297 | I16: =IFERROR(VLOOKUP(D16,[2]Pieces!A:C,3,0),"") -> 36 | J16: 1 | K16: =(F16-E16)*J16 -> 188 | L16: =(G16-F16)*J16 -> 8 | M16: =(H16-G16)*J16 -> 59 | N16: =IF(I16="","",K16/I16) -> 5.2222222 | O16: =IF(I16="","",L16/I16) -> 0.22222222 | P16: =IF(I16="","",M16/I16) -> 1.6388889 | Q16: 7.75 | S16: =U16+T16-K16-L16-M16 -> 0 | T16: 3 | U16: =(K16+L16+M16)-T16-V16 -> 252 | Z16: =IF(OR(I16="",I16=0),0,(U16+T16)/I16) -> 7.0833333 | AA16: =IF(OR(Q16=0,I16=0),"",Z16/Q16*100) -> 91.397849 | AE16: =IF(AA16>85," ","WARNING") | AM16: =(N16+O16+P16)/(Q16*3600) -> 0.00025388292 | AN16: =((3600/I16)*U16)/(N16+O16+P16) -> 3557.6471 | AO16: =(U16-T16)/U16 -> 0.98809524 | AP16: =AM16*AN16*AO16 -> 0.89247312 | AQ16: =((U16-T16)*(3600/I16))/(Q16*3600) -> 0.89247312
A17: I | B17: MULTIBROCHE | C17: =IFERROR(VLOOKUP(D17,[2]Pieces!A:B,2,0)," ") -> MPS000300 | D17: raccord HEX 17 | E17: 0 | F17: 0 | G17: 0 | H17: 0 | I17: =IFERROR(VLOOKUP(D17,[2]Pieces!A:C,3,0),"") -> 500 | J17: 1 | K17: =(F17-E17)*J17 -> 0 | L17: =(G17-F17)*J17 -> 0 | M17: =(H17-G17)*J17 -> 0 | N17: =IF(I17="","",K17/I17) -> 0 | O17: =IF(I17="","",L17/I17) -> 0 | P17: =IF(I17="","",M17/I17) -> 0 | Q17: 8 | S17: =U17+T17-K17-L17-M17 -> 0 | U17: =(K17+L17+M17)-T17-V17 -> 0 | Z17: =IF(OR(I17="",I17=0),0,(U17+T17)/I17) -> 0 | AA17: =IF(OR(Q17=0,I17=0),"",Z17/Q17*100) -> 0 | AE17: =IF(AA17>85," ","WARNING") -> WARNING | AM17: =(N17+O17+P17)/(Q17*3600) -> 0 | AN17: =((3600/I17)*U17)/(N17+O17+P17) -> #DIV/0! | AO17: =(U17-T17)/U17 -> #DIV/0! | AP17: =AM17*AN17*AO17 -> #DIV/0! | AQ17: =((U17-T17)*(3600/I17))/(Q17*3600) -> 0
A18: J | B18: Tour CNC WEILER UD 24 - 100 | C18: =IFERROR(VLOOKUP(D18,[2]Pieces!A:B,2,0)," ") -> 0-4180 | D18: ANNEAU FX 25,2*32*21-CHUTES MJ | E18: 0 | F18: 0 | G18: 0 | H18: 0 | I18: =IFERROR(VLOOKUP(D18,[2]Pieces!A:C,3,0),"") -> 50 | J18: 1 | K18: =(F18-E18)*J18 -> 0 | L18: =(G18-F18)*J18 -> 0 | M18: =(H18-G18)*J18 -> 0 | N18: =IF(I18="","",K18/I18) -> 0 | O18: =IF(I18="","",L18/I18) -> 0 | P18: =IF(I18="","",M18/I18) -> 0 | Q18: 5 | S18: =U18+T18-K18-L18-M18 -> 0 | U18: =(K18+L18+M18)-T18-V18 -> 0 | Z18: =IF(OR(I18="",I18=0),0,(U18+T18)/I18) -> 0 | AA18: =IF(OR(Q18=0,I18=0),"",Z18/Q18*100) -> 0 | AE18: =IF(AA18>85," ","WARNING") -> WARNING | AM18: =(N18+O18+P18)/(Q18*3600) -> 0 | AN18: =((3600/I18)*U18)/(N18+O18+P18) -> #DIV/0! | AO18: =(U18-T18)/U18 -> #DIV/0! | AP18: =AM18*AN18*AO18 -> #DIV/0! | AQ18: =((U18-T18)*(3600/I18))/(Q18*3600) -> 0
A19: K | B19: TOUR WEILER | C19: =IFERROR(VLOOKUP(D19,[2]Pieces!A:B,2,0)," ") -> 4-7009-1 | D19: BAGUE DECOLLETE | E19: 1600 | F19: 1806 | G19: 1806 | H19: 1806 | I19: =IFERROR(VLOOKUP(D19,[2]Pieces!A:C,3,0),"") -> 45 | J19: 1 | K19: =(F19-E19)*J19 -> 206 | L19: =(G19-F19)*J19 -> 0 | M19: =(H19-G19)*J19 -> 0 | N19: =IF(I19="","",K19/I19) -> 4.5777778 | O19: =IF(I19="","",L19/I19) -> 0 | P19: =IF(I19="","",M19/I19) -> 0 | Q19: 5 | S19: =U19+T19-K19-L19-M19 -> 0 | U19: =(K19+L19+M19)-T19-V19 -> 206 | Z19: =IF(OR(I19="",I19=0),0,(U19+T19)/I19) -> 4.5777778 | AA19: =IF(OR(Q19=0,I19=0),"",Z19/Q19*100) -> 91.555556 | AE19: =IF(AA19>85," ","WARNING") | AM19: =(N19+O19+P19)/(Q19*3600) -> 0.00025432099 | AN19: =((3600/I19)*U19)/(N19+O19+P19) -> 3600 | AO19: =(U19-T19)/U19 -> 1 | AP19: =AM19*AN19*AO19 -> 0.91555556 | AQ19: =((U19-T19)*(3600/I19))/(Q19*3600) -> 0.91555556
A20: L | B20: NAKAMURA | C20: =IFERROR(VLOOKUP(D20,[2]Pieces!A:B,2,0)," ") -> 4-8103 | D20: ANNEAU BRUTE AVEC CHANF INT 40*50*28 FINI | E20: 526 | I20: =IFERROR(VLOOKUP(D20,[2]Pieces!A:C,3,0),"") -> 120 | J20: 1 | K20: =(F20-E20)*J20 -> -526 | L20: =(G20-F20)*J20 -> 0 | M20: =(H20-G20)*J20 -> 0 | N20: =IF(I20="","",K20/I20) -> -4.3833333 | O20: =IF(I20="","",L20/I20) -> 0 | P20: =IF(I20="","",M20/I20) -> 0 | Q20: 5 | S20: =U20+T20-K20-L20-M20 -> 0 | U20: =(K20+L20+M20)-T20-V20 -> -526 | Z20: =IF(OR(I20="",I20=0),0,(U20+T20)/I20) -> -4.3833333 | AA20: =IF(OR(Q20=0,I20=0),"",Z20/Q20*100) -> -87.666667 | AE20: =IF(AA20>85," ","WARNING") -> WARNING | AM20: =(N20+O20+P20)/(Q20*3600) -> -0.00024351852 | AN20: =((3600/I20)*U20)/(N20+O20+P20) -> 3600 | AO20: =(U20-T20)/U20 -> 1 | AP20: =AM20*AN20*AO20 -> -0.87666667 | AQ20: =((U20-T20)*(3600/I20))/(Q20*3600) -> -0.87666667
A21: M | B21: MORI SEIKI 3 axes | C21: =IFERROR(VLOOKUP(D21,[2]Pieces!A:B,2,0)," ") -> i004 | D21: Ecrou suspension- surfacage | E21: 0 | F21: 0 | G21: 0 | H21: 0 | I21: =IFERROR(VLOOKUP(D21,[2]Pieces!A:C,3,0),"") -> 54 | J21: 9 | K21: =(F21-E21)*J21 -> 0 | L21: =(G21-F21)*J21 -> 0 | M21: =(H21-G21)*J21 -> 0 | N21: =IF(I21="","",K21/I21) -> 0 | O21: =IF(I21="","",L21/I21) -> 0 | P21: =IF(I21="","",M21/I21) -> 0 | Q21: 5 | S21: =U21+T21-K21-L21-M21 -> 0 | U21: =(K21+L21+M21)-T21-V21 -> 0 | Z21: =IF(OR(I21="",I21=0),0,(U21+T21)/I21) -> 0 | AA21: =IF(OR(Q21=0,I21=0),"",Z21/Q21*100) -> 0 | AE21: =IF(AA21>85," ","WARNING") -> WARNING | AM21: =(N21+O21+P21)/(Q21*3600) -> 0 | AN21: =((3600/I21)*U21)/(N21+O21+P21) -> #DIV/0! | AO21: =(U21-T21)/U21 -> #DIV/0! | AP21: =AM21*AN21*AO21 -> #DIV/0! | AQ21: =((U21-T21)*(3600/I21))/(Q21*3600) -> 0
A22: N | B22: MORI SEIKI 5 axes | C22: =IFERROR(VLOOKUP(D22,[2]Pieces!A:B,2,0)," ") -> 601130 | D22: ECROU DE FUSEE + fraisage 5 pcs pignion | E22: 0 | F22: 0 | G22: 0 | H22: 0 | I22: =IFERROR(VLOOKUP(D22,[2]Pieces!A:C,3,0),"") -> 24 | J22: 5 | K22: =(F22-E22)*J22 -> 0 | L22: =(G22-F22)*J22 -> 0 | M22: =(H22-G22)*J22 -> 0 | N22: =IF(I22="","",K22/I22) -> 0 | O22: =IF(I22="","",L22/I22) -> 0 | P22: =IF(I22="","",M22/I22) -> 0 | Q22: 5 | S22: =U22+T22-K22-L22-M22 -> 0 | U22: =(K22+L22+M22)-T22-V22 -> 0 | Z22: =IF(OR(I22="",I22=0),0,(U22+T22)/I22) -> 0 | AA22: =IF(OR(Q22=0,I22=0),"",Z22/Q22*100) -> 0 | AE22: =IF(AA22>85," ","WARNING") -> WARNING | AM22: =(N22+O22+P22)/(Q22*3600) -> 0 | AN22: =((3600/I22)*U22)/(N22+O22+P22) -> #DIV/0! | AO22: =(U22-T22)/U22 -> #DIV/0! | AP22: =AM22*AN22*AO22 -> #DIV/0! | AQ22: =((U22-T22)*(3600/I22))/(Q22*3600) -> 0
A23: O | B23: HARDING | C23: =IFERROR(VLOOKUP(D23,[2]Pieces!A:B,2,0)," ") -> 480387-SF | D23: EVACUATION 2 EN3 SEMI FINI | E23: 127 | F23: 131 | G23: 131 | H23: 131 | I23: =IFERROR(VLOOKUP(D23,[2]Pieces!A:C,3,0),"") -> 25 | J23: 30 | K23: =(F23-E23)*J23 -> 120 | L23: =(G23-F23)*J23 -> 0 | M23: =(H23-G23)*J23 -> 0 | N23: =IF(I23="","",K23/I23) -> 4.8 | O23: =IF(I23="","",L23/I23) -> 0 | P23: =IF(I23="","",M23/I23) -> 0 | Q23: 5 | S23: =U23+T23-K23-L23-M23 -> 0 | U23: =(K23+L23+M23)-T23-V23 -> 120 | Z23: =IF(OR(I23="",I23=0),0,(U23+T23)/I23) -> 4.8 | AA23: =IF(OR(Q23=0,I23=0),"",Z23/Q23*100) -> 96 | AE23: =IF(AA23>85," ","WARNING") | AM23: =(N23+O23+P23)/(Q23*3600) -> 0.00026666667 | AN23: =((3600/I23)*U23)/(N23+O23+P23) -> 3600 | AO23: =(U23-T23)/U23 -> 1 | AP23: =AM23*AN23*AO23 -> 0.96 | AQ23: =((U23-T23)*(3600/I23))/(Q23*3600) -> 0.96
A24: O | B24: HARDING | C24: =IFERROR(VLOOKUP(D24,[2]Pieces!A:B,2,0)," ") -> 480387-PF | D24: EVACUATION 2/3G X-ONE-harding-taraudageM4+GAZ | E24: 127 | F24: 131 | G24: 131 | H24: 131 | I24: =IFERROR(VLOOKUP(D24,[2]Pieces!A:C,3,0),"") -> 40 | J24: 20 | K24: =(F24-E24)*J24 -> 80 | L24: =(G24-F24)*J24 -> 0 | M24: =(H24-G24)*J24 -> 0 | N24: =IF(I24="","",K24/I24) -> 2 | O24: =IF(I24="","",L24/I24) -> 0 | P24: =IF(I24="","",M24/I24) -> 0 | Q24: 5 | S24: =U24+T24-K24-L24-M24 -> 0 | U24: =(K24+L24+M24)-T24-V24 -> 80 | Z24: =IF(OR(I24="",I24=0),0,(U24+T24)/I24) -> 2 | AA24: =IF(OR(Q24=0,I24=0),"",Z24/Q24*100) -> 40 | AE24: =IF(AA24>85," ","WARNING") -> WARNING | AM24: =(N24+O24+P24)/(Q24*3600) -> 0.00011111111 | AN24: =((3600/I24)*U24)/(N24+O24+P24) -> 3600 | AO24: =(U24-T24)/U24 -> 1 | AP24: =AM24*AN24*AO24 -> 0.4 | AQ24: =((U24-T24)*(3600/I24))/(Q24*3600) -> 0.4
A25: P | B25: KITAMURA | C25: =IFERROR(VLOOKUP(D25,[2]Pieces!A:B,2,0)," ") -> 9751-fraise a fielter | D25: USINAGE BORNE CPF PROPREITAIRE -foret de forme d4+fraise a fielter | E25: 1415 | F25: 1491 | G25: 1491 | H25: 1491 | I25: =IFERROR(VLOOKUP(D25,[2]Pieces!A:C,3,0),"") -> 200 | J25: 12 | K25: =(F25-E25)*J25 -> 912 | L25: =(G25-F25)*J25 -> 0 | M25: =(H25-G25)*J25 -> 0 | N25: =IF(I25="","",K25/I25) -> 4.56 | O25: =IF(I25="","",L25/I25) -> 0 | P25: =IF(I25="","",M25/I25) -> 0 | Q25: 5 | S25: =U25+T25-K25-L25-M25 -> 0 | U25: =(K25+L25+M25)-T25-V25 -> 912 | Z25: =IF(OR(I25="",I25=0),0,(U25+T25)/I25) -> 4.56 | AA25: =IF(OR(Q25=0,I25=0),"",Z25/Q25*100) -> 91.2 | AE25: =IF(AA25>85," ","WARNING") | AM25: =(N25+O25+P25)/(Q25*3600) -> 0.00025333333 | AN25: =((3600/I25)*U25)/(N25+O25+P25) -> 3600 | AO25: =(U25-T25)/U25 -> 1 | AP25: =AM25*AN25*AO25 -> 0.912 | AQ25: =((U25-T25)*(3600/I25))/(Q25*3600) -> 0.912
A26: Q | B26: NOUVEAU MACHINE P014 | C26: =IFERROR(VLOOKUP(D26,[2]Pieces!A:B,2,0)," ") -> I035-CP2/chutes | D26: BAGUE INTERIEUR SILENT BLOC TRIANGLE TFR /chutes | E26: 437 | F26: 619 | G26: 619 | H26: 619 | I26: =IFERROR(VLOOKUP(D26,[2]Pieces!A:C,3,0),"") -> 70 | J26: 1 | K26: =(F26-E26)*J26 -> 182 | L26: =(G26-F26)*J26 -> 0 | M26: =(H26-G26)*J26 -> 0 | N26: =IF(I26="","",K26/I26) -> 2.6 | O26: =IF(I26="","",L26/I26) -> 0 | P26: =IF(I26="","",M26/I26) -> 0 | Q26: 5 | S26: =U26+T26-K26-L26-M26 -> 0 | U26: =(K26+L26+M26)-T26-V26 -> 182 | Z26: =IF(OR(I26="",I26=0),0,(U26+T26)/I26) -> 2.6 | AA26: =IF(OR(Q26=0,I26=0),"",Z26/Q26*100) -> 52 | AE26: =IF(AA26>85," ","WARNING") -> WARNING | AM26: =(N26+O26+P26)/(Q26*3600) -> 0.00014444444 | AN26: =((3600/I26)*U26)/(N26+O26+P26) -> 3600 | AO26: =(U26-T26)/U26 -> 1 | AP26: =AM26*AN26*AO26 -> 0.52 | AQ26: =((U26-T26)*(3600/I26))/(Q26*3600) -> 0.52
A27: Q | B27: NOUVEAU MACHINE 32sk300 | C27: =IFERROR(VLOOKUP(D27,[2]Pieces!A:B,2,0)," ") -> TIGE M6+2ECROU | D27: TIGRE M6 AVEC 2 ECROUS | E27: 2493 | F27: 2994 | G27: 2994 | H27: 2994 | I27: =IFERROR(VLOOKUP(D27,[2]Pieces!A:C,3,0),"") -> 120 | J27: 1 | K27: =(F27-E27)*J27 -> 501 | L27: =(G27-F27)*J27 -> 0 | M27: =(H27-G27)*J27 -> 0 | N27: =IF(I27="","",K27/I27) -> 4.175 | O27: =IF(I27="","",L27/I27) -> 0 | P27: =IF(I27="","",M27/I27) -> 0 | Q27: 5 | S27: =U27+T27-K27-L27-M27 -> 0 | U27: =(K27+L27+M27)-T27-V27 -> 501 | Z27: =IF(OR(I27="",I27=0),0,(U27+T27)/I27) -> 4.175 | AA27: =IF(OR(Q27=0,I27=0),"",Z27/Q27*100) -> 83.5 | AE27: =IF(AA27>85," ","WARNING") -> WARNING | AM27: =(N27+O27+P27)/(Q27*3600) -> 0.00023194444 | AN27: =((3600/I27)*U27)/(N27+O27+P27) -> 3600 | AO27: =(U27-T27)/U27 -> 1 | AP27: =AM27*AN27*AO27 -> 0.835 | AQ27: =((U27-T27)*(3600/I27))/(Q27*3600) -> 0.835
S29: Taux de NC journalière | U29: =#REF!/#REF! -> #REF!
J33: Approbateur:
J34: Date:
J35: Visa:

Sheet 24-6-22
A1: 24-06-2022 | Z1: CODE: DAS-PRO-16
Z2: DATE:30/08/2019
Z3: VERSION:07
Z4: PAGE:1
A8: SYMBOLE | B8: MACHINE | C8: REF ARTICLE | D8: DESIGNATION | E8: COMPTEUR AUJOURD’HUI à 8h | F8: COMPTEUR HIER à 17H | G8: COMPTEUR HIER à 22H | H8: COMPTEUR AUJOURD’HUI à 8h | I8: CADENCE | J8: NOMBRE DE PIECES FINIS PAR CYCLE | K8: PIECES SUIVANT COMPTEU 8h-->17h | L8: PIECES SUIVANT COMPTEUR 17H-->22H | M8: PIECES SUIVANT COMPTEUR 6h-->8h | N8: NOMBRE D'HEURES DE TRAVAIL 8h-->17h | O8: NOMBRE D'HEURES DE TRAVAIL 17H-->22H | P8: NOMBRE D'HEURES DE TRAVAIL 6h-->8h | Q8: NOMBRE D'HEURES DE TRAVAIL | R8: OBSERVATIONS | S8: Pieces manquantes | T8: PIECES NC | U8: Pieces REELLES | V8: Nombre des pieces à retoucher | W8: Cause de la non-conformité | X8: Effet de la non-conformité | Y8: Machine pour retouche | Z8: NOMBRES D'HEURES SUIVANT LES PIECES REELLES | AA8: RENDEMENT | AB8: Maintenance | AC8: Affutage | AD8: Gamme d'usingae | AE8: ALERTES | AF8: enregitrement | AG8: Identification | AH8: Propreté des tables de contrôle | AI8: Rangement des outils de contrôle | AJ8: Existance de l'OF | AK8: Panne | AL8: gestion de modification | AM8: A | AN8: P | AO8: Q | AP8: OEE | AQ8: OEE
A9: A | B9: SST16 | C9: =IFERROR(VLOOKUP(D9,[2]Pieces!A:B,2,0)," ") -> OUT-PLOT | D9: plot nez de marche 25-06-2022 | E9: 374 | F9: 943 | G9: 1075 | H9: 1180 | I9: 72 | J9: 1 | K9: =(F9-E9)*J9 -> 569 | L9: =(G9-F9)*J9 -> 132 | M9: =(H9-G9)*J9 -> 105 | N9: =IF(I9="","",K9/I9) -> 7.9027778 | O9: =IF(I9="","",L9/I9) -> 1.8333333 | P9: =IF(I9="","",M9/I9) -> 1.4583333 | Q9: 13 | R9: Tc=50s | S9: =U9+T9-K9-L9-M9 -> 0 | U9: =(K9+L9+M9)-T9-V9 -> 806 | Z9: =IF(OR(I9="",I9=0),0,(U9+T9)/I9) -> 11.194444 | AA9: =IF(OR(Q9=0,I9=0),"",Z9/Q9*100) -> 86.111111 | AC9: OK | AE9: =IF(AA9>85," ","WARNING") | AF9: OK | AG9: OK | AH9: OK | AI9: OK | AJ9: OK | AM9: =(N9+O9+P9)/(Q9*3600) -> 0.00023919753 | AN9: =((3600/I9)*U9)/(N9+O9+P9) -> 3600 | AO9: =(U9-T9)/U9 -> 1 | AP9: =AM9*AN9*AO9 -> 0.86111111 | AQ9: =((U9-T9)*(3600/I9))/(Q9*3600) -> 0.86111111
A10: B | B10: SB16 | C10: =IFERROR(VLOOKUP(D10,[2]Pieces!A:B,2,0)," ") -> 68.1010 | D10: Buse droite à collerette Ø10 | E10: 17209 | F10: 17870 | G10: 18000 | H10: 18111 | I10: =IFERROR(VLOOKUP(D10,[2]Pieces!A:C,3,0),"") -> 80 | J10: 1 | K10: =(F10-E10)*J10 -> 661 | L10: =(G10-F10)*J10 -> 130 | M10: =(H10-G10)*J10 -> 111 | N10: =IF(I10="","",K10/I10) -> 8.2625 | O10: =IF(I10="","",L10/I10) -> 1.625 | P10: =IF(I10="","",M10/I10) -> 1.3875 | Q10: 13 | S10: =U10+T10-K10-L10-M10 -> 0 | T10: 2 | U10: =(K10+L10+M10)-T10-V10 -> 900 | Z10: =IF(OR(I10="",I10=0),0,(U10+T10)/I10) -> 11.275 | AA10: =IF(OR(Q10=0,I10=0),"",Z10/Q10*100) -> 86.730769 | AC10: OK | AE10: =IF(AA10>85," ","WARNING") | AF10: OK | AG10: OK | AH10: OK | AI10: OK | AJ10: OK | AM10: =(N10+O10+P10)/(Q10*3600) -> 0.0002409188 | AN10: =((3600/I10)*U10)/(N10+O10+P10) -> 3592.0177 | AO10: =(U10-T10)/U10 -> 0.99777778 | AP10: =AM10*AN10*AO10 -> 0.86346154 | AQ10: =((U10-T10)*(3600/I10))/(Q10*3600) -> 0.86346154
A11: C | B11: BIGLIA 301 SM | C11: =IFERROR(VLOOKUP(D11,[2]Pieces!A:B,2,0)," ") -> TF48-57-I162-CP2 | D11: AXE JUMELLE-CP2 B301 | E11: 1820 | F11: 2171 | G11: 2240 | H11: 2298 | I11: =IFERROR(VLOOKUP(D11,[2]Pieces!A:C,3,0),"") -> 40 | J11: 1 | K11: =(F11-E11)*J11 -> 351 | L11: =(G11-F11)*J11 -> 69 | M11: =(H11-G11)*J11 -> 58 | N11: =IF(I11="","",K11/I11) -> 8.775 | O11: =IF(I11="","",L11/I11) -> 1.725 | P11: =IF(I11="","",M11/I11) -> 1.45 | Q11: 13 | S11: =U11+T11-K11-L11-M11 -> 0 | U11: =(K11+L11+M11)-T11-V11 -> 478 | Z11: =IF(OR(I11="",I11=0),0,(U11+T11)/I11) -> 11.95 | AA11: =IF(OR(Q11=0,I11=0),"",Z11/Q11*100) -> 91.923077 | AC11: OK | AE11: =IF(AA11>85," ","WARNING") | AF11: OK | AG11: OK | AH11: OK | AI11: OK | AJ11: OK | AM11: =(N11+O11+P11)/(Q11*3600) -> 0.00025534188 | AN11: =((3600/I11)*U11)/(N11+O11+P11) -> 3600 | AO11: =(U11-T11)/U11 -> 1 | AP11: =AM11*AN11*AO11 -> 0.91923077 | AQ11: =((U11-T11)*(3600/I11))/(Q11*3600) -> 0.91923077
A12: D | B12: BIGLIA 42 S2M bitourelle | C12: =IFERROR(VLOOKUP(D12,[2]Pieces!A:B,2,0)," ") -> M001-CP1 | D12: BOULON CENTRE AR OM40 | E12: 249 | F12: 249 | G12: 249 | H12: 249 | I12: =IFERROR(VLOOKUP(D12,[2]Pieces!A:C,3,0),"") -> 25 | J12: 1 | K12: =(F12-E12)*J12 -> 0 | L12: =(G12-F12)*J12 -> 0 | M12: =(H12-G12)*J12 -> 0 | N12: =IF(I12="","",K12/I12) -> 0 | O12: =IF(I12="","",L12/I12) -> 0 | P12: =IF(I12="","",M12/I12) -> 0 | Q12: 10 | S12: =U12+T12-K12-L12-M12 -> 0 | U12: =(K12+L12+M12)-T12-V12 -> 0 | Z12: =IF(OR(I12="",I12=0),0,(U12+T12)/I12) -> 0 | AA12: =IF(OR(Q12=0,I12=0),"",Z12/Q12*100) -> 0 | AC12: OK | AE12: =IF(AA12>85," ","WARNING") -> WARNING | AF12: OK | AG12: OK | AH12: OK | AI12: OK | AJ12: OK | AM12: =(N12+O12+P12)/(Q12*3600) -> 0 | AN12: =((3600/I12)*U12)/(N12+O12+P12) -> #DIV/0! | AO12: =(U12-T12)/U12 -> #DIV/0! | AP12: =AM12*AN12*AO12 -> #DIV/0! | AQ12: =((U12-T12)*(3600/I12))/(Q12*3600) -> 0
A13: E | B13: L32 | C13: =IFERROR(VLOOKUP(D13,[2]Pieces!A:B,2,0)," ") -> OUT-172 | D13: CLAMPING RING 360FO L32. | E13: 1000 | F13: 1390 | G13: 1390 | H13: 1390 | I13: =IFERROR(VLOOKUP(D13,[2]Pieces!A:C,3,0),"") -> 220 | J13: 1 | K13: =(F13-E13)*J13 -> 390 | L13: =(G13-F13)*J13 -> 0 | M13: =(H13-G13)*J13 -> 0 | N13: =IF(I13="","",K13/I13) -> 1.7727273 | O13: =IF(I13="","",L13/I13) -> 0 | P13: =IF(I13="","",M13/I13) -> 0 | Q13: 13 | S13: =U13+T13-K13-L13-M13 -> 0 | U13: =(K13+L13+M13)-T13-V13 -> 390 | Z13: =IF(OR(I13="",I13=0),0,(U13+T13)/I13) -> 1.7727273 | AA13: =IF(OR(Q13=0,I13=0),"",Z13/Q13*100) -> 13.636364 | AE13: =IF(AA13>85," ","WARNING") -> WARNING | AM13: =(N13+O13+P13)/(Q13*3600) -> 3.7878788e-05 | AN13: =((3600/I13)*U13)/(N13+O13+P13) -> 3600 | AO13: =(U13-T13)/U13 -> 1 | AP13: =AM13*AN13*AO13 -> 0.13636364 | AQ13: =((U13-T13)*(3600/I13))/(Q13*3600) -> 0.13636364
A14: F | B14: TSUGAMI | C14: =IFERROR(VLOOKUP(D14,[2]Pieces!A:B,2,0)," ") -> - | D14: Arrêt | E14: 0 | F14: 0 | G14: 0 | H14: 0 | I14: =IFERROR(VLOOKUP(D14,[2]Pieces!A:C,3,0),"") -> 1 | J14: 1 | K14: =(F14-E14)*J14 -> 0 | L14: =(G14-F14)*J14 -> 0 | M14: =(H14-G14)*J14 -> 0 | N14: =IF(I14="","",K14/I14) -> 0 | O14: =IF(I14="","",L14/I14) -> 0 | P14: =IF(I14="","",M14/I14) -> 0 | Q14: 13 | S14: =U14+T14-K14-L14-M14 -> 0 | U14: =(K14+L14+M14)-T14-V14 -> 0 | Z14: =IF(OR(I14="",I14=0),0,(U14+T14)/I14) -> 0 | AA14: =IF(OR(Q14=0,I14=0),"",Z14/Q14*100) -> 0 | AE14: =IF(AA14>85," ","WARNING") -> WARNING | AM14: =(N14+O14+P14)/(Q14*3600) -> 0 | AN14: =((3600/I14)*U14)/(N14+O14+P14) -> #DIV/0! | AO14: =(U14-T14)/U14 -> #DIV/0! | AP14: =AM14*AN14*AO14 -> #DIV/0! | AQ14: =((U14-T14)*(3600/I14))/(Q14*3600) -> 0
A15: G | B15: Tour STAR SV-32-J | C15: =IFERROR(VLOOKUP(D15,[2]Pieces!A:B,2,0)," ") -> 68.0815 | D15: BUSE A DROITE D8 M445 maj 07-06-2022 | E15: 42490 | F15: 42917 | G15: 43000 | H15: 43052 | I15: =IFERROR(VLOOKUP(D15,[2]Pieces!A:C,3,0),"") -> 56 | J15: 1 | K15: =(F15-E15)*J15 -> 427 | L15: =(G15-F15)*J15 -> 83 | M15: =(H15-G15)*J15 -> 52 | N15: =IF(I15="","",K15/I15) -> 7.625 | O15: =IF(I15="","",L15/I15) -> 1.4821429 | P15: =IF(I15="","",M15/I15) -> 0.92857143 | Q15: 13 | S15: =U15+T15-K15-L15-M15 -> 0 | U15: =(K15+L15+M15)-T15-V15 -> 562 | Z15: =IF(OR(I15="",I15=0),0,(U15+T15)/I15) -> 10.035714 | AA15: =IF(OR(Q15=0,I15=0),"",Z15/Q15*100) -> 77.197802 | AC15: OK | AE15: =IF(AA15>85," ","WARNING") -> WARNING | AF15: OK | AG15: OK | AH15: OK | AI15: OK | AJ15: OK | AM15: =(N15+O15+P15)/(Q15*3600) -> 0.00021443834 | AN15: =((3600/I15)*U15)/(N15+O15+P15) -> 3600 | AO15: =(U15-T15)/U15 -> 1 | AP15: =AM15*AN15*AO15 -> 0.77197802 | AQ15: =((U15-T15)*(3600/I15))/(Q15*3600) -> 0.77197802
A16: H | B16: Tour CNC STAR SB avec embarreur LNS Express 220 | C16: =IFERROR(VLOOKUP(D16,[2]Pieces!A:B,2,0)," ") -> 1740 | D16: VIS ALLUM M10 | E16: 642 | F16: 912 | G16: 980 | H16: 1042 | I16: =IFERROR(VLOOKUP(D16,[2]Pieces!A:C,3,0),"") -> 36 | J16: 1 | K16: =(F16-E16)*J16 -> 270 | L16: =(G16-F16)*J16 -> 68 | M16: =(H16-G16)*J16 -> 62 | N16: =IF(I16="","",K16/I16) -> 7.5 | O16: =IF(I16="","",L16/I16) -> 1.8888889 | P16: =IF(I16="","",M16/I16) -> 1.7222222 | Q16: 13 | R16: bague filleté entre difficilement et longeur hors mini | S16: =U16+T16-K16-L16-M16 -> 0 | T16: 15 | U16: =(K16+L16+M16)-T16-V16 -> 385 | Z16: =IF(OR(I16="",I16=0),0,(U16+T16)/I16) -> 11.111111 | AA16: =IF(OR(Q16=0,I16=0),"",Z16/Q16*100) -> 85.470085 | AC16: OK | AE16: =IF(AA16>85," ","WARNING") | AF16: OK | AG16: OK | AH16: OK | AI16: OK | AJ16: OK | AM16: =(N16+O16+P16)/(Q16*3600) -> 0.0002374169 | AN16: =((3600/I16)*U16)/(N16+O16+P16) -> 3465 | AO16: =(U16-T16)/U16 -> 0.96103896 | AP16: =AM16*AN16*AO16 -> 0.79059829 | AQ16: =((U16-T16)*(3600/I16))/(Q16*3600) -> 0.79059829
A17: I | B17: MULTIBROCHE | C17: =IFERROR(VLOOKUP(D17,[2]Pieces!A:B,2,0)," ") -> MPS000300 | D17: raccord HEX 17 | E17: 0 | F17: 0 | G17: 0 | H17: 0 | I17: =IFERROR(VLOOKUP(D17,[2]Pieces!A:C,3,0),"") -> 500 | J17: 1 | K17: =(F17-E17)*J17 -> 0 | L17: =(G17-F17)*J17 -> 0 | M17: =(H17-G17)*J17 -> 0 | N17: =IF(I17="","",K17/I17) -> 0 | O17: =IF(I17="","",L17/I17) -> 0 | P17: =IF(I17="","",M17/I17) -> 0 | Q17: 13 | S17: =U17+T17-K17-L17-M17 -> 0 | U17: =(K17+L17+M17)-T17-V17 -> 0 | Z17: =IF(OR(I17="",I17=0),0,(U17+T17)/I17) -> 0 | AA17: =IF(OR(Q17=0,I17=0),"",Z17/Q17*100) -> 0 | AE17: =IF(AA17>85," ","WARNING") -> WARNING | AM17: =(N17+O17+P17)/(Q17*3600) -> 0 | AN17: =((3600/I17)*U17)/(N17+O17+P17) -> #DIV/0! | AO17: =(U17-T17)/U17 -> #DIV/0! | AP17: =AM17*AN17*AO17 -> #DIV/0! | AQ17: =((U17-T17)*(3600/I17))/(Q17*3600) -> 0
A18: J | B18: Tour CNC WEILER UD 24 - 100 | C18: =IFERROR(VLOOKUP(D18,[2]Pieces!A:B,2,0)," ") -> 0-4180 | D18: ANNEAU FX 25,2*32*21-CHUTES MJ | E18: 0 | F18: 0 | G18: 0 | H18: 0 | I18: =IFERROR(VLOOKUP(D18,[2]Pieces!A:C,3,0),"") -> 50 | J18: 1 | K18: =(F18-E18)*J18 -> 0 | L18: =(G18-F18)*J18 -> 0 | M18: =(H18-G18)*J18 -> 0 | N18: =IF(I18="","",K18/I18) -> 0 | O18: =IF(I18="","",L18/I18) -> 0 | P18: =IF(I18="","",M18/I18) -> 0 | Q18: 9 | S18: =U18+T18-K18-L18-M18 -> 0 | U18: =(K18+L18+M18)-T18-V18 -> 0 | Z18: =IF(OR(I18="",I18=0),0,(U18+T18)/I18) -> 0 | AA18: =IF(OR(Q18=0,I18=0),"",Z18/Q18*100) -> 0 | AE18: =IF(AA18>85," ","WARNING") -> WARNING | AM18: =(N18+O18+P18)/(Q18*3600) -> 0 | AN18: =((3600/I18)*U18)/(N18+O18+P18) -> #DIV/0! | AO18: =(U18-T18)/U18 -> #DIV/0! | AP18: =AM18*AN18*AO18 -> #DIV/0! | AQ18: =((U18-T18)*(3600/I18))/(Q18*3600) -> 0
A19: K | B19: TOUR WEILER | C19: =IFERROR(VLOOKUP(D19,[2]Pieces!A:B,2,0)," ") -> 4-7009-1 | D19: BAGUE DECOLLETE | E19: 1336 | F19: 1600 | G19: 1600 | H19: 1600 | I19: =IFERROR(VLOOKUP(D19,[2]Pieces!A:C,3,0),"") -> 45 | J19: 1 | K19: =(F19-E19)*J19 -> 264 | L19: =(G19-F19)*J19 -> 0 | M19: =(H19-G19)*J19 -> 0 | N19: =IF(I19="","",K19/I19) -> 5.8666667 | O19: =IF(I19="","",L19/I19) -> 0 | P19: =IF(I19="","",M19/I19) -> 0 | Q19: 9 | S19: =U19+T19-K19-L19-M19 -> 0 | U19: =(K19+L19+M19)-T19-V19 -> 264 | Z19: =IF(OR(I19="",I19=0),0,(U19+T19)/I19) -> 5.8666667 | AA19: =IF(OR(Q19=0,I19=0),"",Z19/Q19*100) -> 65.185185 | AC19: OK | AE19: =IF(AA19>85," ","WARNING") -> WARNING | AF19: OK | AG19: OK | AH19: OK | AI19: OK | AJ19: OK | AM19: =(N19+O19+P19)/(Q19*3600) -> 0.00018106996 | AN19: =((3600/I19)*U19)/(N19+O19+P19) -> 3600 | AO19: =(U19-T19)/U19 -> 1 | AP19: =AM19*AN19*AO19 -> 0.65185185 | AQ19: =((U19-T19)*(3600/I19))/(Q19*3600) -> 0.65185185
A20: L | B20: NAKAMURA | C20: =IFERROR(VLOOKUP(D20,[2]Pieces!A:B,2,0)," ") -> 4-8103 | D20: ANNEAU BRUTE AVEC CHANF INT 40*50*28 FINI | E20: 0 | F20: 526 | G20: 526 | H20: 526 | I20: =IFERROR(VLOOKUP(D20,[2]Pieces!A:C,3,0),"") -> 120 | J20: 1 | K20: =(F20-E20)*J20 -> 526 | L20: =(G20-F20)*J20 -> 0 | M20: =(H20-G20)*J20 -> 0 | N20: =IF(I20="","",K20/I20) -> 4.3833333 | O20: =IF(I20="","",L20/I20) -> 0 | P20: =IF(I20="","",M20/I20) -> 0 | Q20: 9 | R20: compteur fini des pcs semi fini 723 avec 326 pcs retauché | S20: =U20+T20-K20-L20-M20 -> 0 | U20: =(K20+L20+M20)-T20-V20 -> 526 | Z20: =IF(OR(I20="",I20=0),0,(U20+T20)/I20) -> 4.3833333 | AA20: =IF(OR(Q20=0,I20=0),"",Z20/Q20*100) -> 48.703704 | AE20: =IF(AA20>85," ","WARNING") -> WARNING | AM20: =(N20+O20+P20)/(Q20*3600) -> 0.00013528807 | AN20: =((3600/I20)*U20)/(N20+O20+P20) -> 3600 | AO20: =(U20-T20)/U20 -> 1 | AP20: =AM20*AN20*AO20 -> 0.48703704 | AQ20: =((U20-T20)*(3600/I20))/(Q20*3600) -> 0.48703704
A21: M | B21: MORI SEIKI 3 axes | C21: =IFERROR(VLOOKUP(D21,[2]Pieces!A:B,2,0)," ") -> i004 | D21: Ecrou suspension- surfacage | E21: 0 | F21: 0 | G21: 0 | H21: 0 | I21: =IFERROR(VLOOKUP(D21,[2]Pieces!A:C,3,0),"") -> 54 | J21: 9 | K21: =(F21-E21)*J21 -> 0 | L21: =(G21-F21)*J21 -> 0 | M21: =(H21-G21)*J21 -> 0 | N21: =IF(I21="","",K21/I21) -> 0 | O21: =IF(I21="","",L21/I21) -> 0 | P21: =IF(I21="","",M21/I21) -> 0 | Q21: 9 | S21: =U21+T21-K21-L21-M21 -> 0 | U21: =(K21+L21+M21)-T21-V21 -> 0 | Z21: =IF(OR(I21="",I21=0),0,(U21+T21)/I21) -> 0 | AA21: =IF(OR(Q21=0,I21=0),"",Z21/Q21*100) -> 0 | AE21: =IF(AA21>85," ","WARNING") -> WARNING | AM21: =(N21+O21+P21)/(Q21*3600) -> 0 | AN21: =((3600/I21)*U21)/(N21+O21+P21) -> #DIV/0! | AO21: =(U21-T21)/U21 -> #DIV/0! | AP21: =AM21*AN21*AO21 -> #DIV/0! | AQ21: =((U21-T21)*(3600/I21))/(Q21*3600) -> 0
A22: N | B22: MORI SEIKI 5 axes | C22: =IFERROR(VLOOKUP(D22,[2]Pieces!A:B,2,0)," ") -> 601130 | D22: ECROU DE FUSEE + fraisage 5 pcs pignion | E22: 0 | F22: 0 | G22: 0 | H22: 0 | I22: =IFERROR(VLOOKUP(D22,[2]Pieces!A:C,3,0),"") -> 24 | J22: 5 | K22: =(F22-E22)*J22 -> 0 | L22: =(G22-F22)*J22 -> 0 | M22: =(H22-G22)*J22 -> 0 | N22: =IF(I22="","",K22/I22) -> 0 | O22: =IF(I22="","",L22/I22) -> 0 | P22: =IF(I22="","",M22/I22) -> 0 | Q22: 9 | S22: =U22+T22-K22-L22-M22 -> 0 | U22: =(K22+L22+M22)-T22-V22 -> 0 | Z22: =IF(OR(I22="",I22=0),0,(U22+T22)/I22) -> 0 | AA22: =IF(OR(Q22=0,I22=0),"",Z22/Q22*100) -> 0 | AC22: OK | AE22: =IF(AA22>85," ","WARNING") -> WARNING | AF22: OK | AG22: OK | AH22: OK | AI22: OK | AJ22: OK | AM22: =(N22+O22+P22)/(Q22*3600) -> 0 | AN22: =((3600/I22)*U22)/(N22+O22+P22) -> #DIV/0! | AO22: =(U22-T22)/U22 -> #DIV/0! | AP22: =AM22*AN22*AO22 -> #DIV/0! | AQ22: =((U22-T22)*(3600/I22))/(Q22*3600) -> 0
A23: O | B23: HARDING | C23: =IFERROR(VLOOKUP(D23,[2]Pieces!A:B,2,0)," ") -> 480387-SF | D23: EVACUATION 2 EN3 SEMI FINI | E23: 120 | F23: 127 | G23: 127 | H23: 127 | I23: =IFERROR(VLOOKUP(D23,[2]Pieces!A:C,3,0),"") -> 25 | J23: 30 | K23: =(F23-E23)*J23 -> 210 | L23: =(G23-F23)*J23 -> 0 | M23: =(H23-G23)*J23 -> 0 | N23: =IF(I23="","",K23/I23) -> 8.4 | O23: =IF(I23="","",L23/I23) -> 0 | P23: =IF(I23="","",M23/I23) -> 0 | Q23: 9 | S23: =U23+T23-K23-L23-M23 -> 0 | U23: =(K23+L23+M23)-T23-V23 -> 210 | Z23: =IF(OR(I23="",I23=0),0,(U23+T23)/I23) -> 8.4 | AA23: =IF(OR(Q23=0,I23=0),"",Z23/Q23*100) -> 93.333333 | AC23: OK | AE23: =IF(AA23>85," ","WARNING") | AF23: OK | AG23: OK | AH23: OK | AI23: OK | AJ23: OK | AM23: =(N23+O23+P23)/(Q23*3600) -> 0.00025925926 | AN23: =((3600/I23)*U23)/(N23+O23+P23) -> 3600 | AO23: =(U23-T23)/U23 -> 1 | AP23: =AM23*AN23*AO23 -> 0.93333333 | AQ23: =((U23-T23)*(3600/I23))/(Q23*3600) -> 0.93333333
A24: O | B24: HARDING | C24: =IFERROR(VLOOKUP(D24,[2]Pieces!A:B,2,0)," ") -> 480387-PF | D24: EVACUATION 2/3G X-ONE-harding-taraudageM4+GAZ | E24: 120 | F24: 127 | G24: 127 | H24: 127 | I24: =IFERROR(VLOOKUP(D24,[2]Pieces!A:C,3,0),"") -> 40 | J24: 20 | K24: =(F24-E24)*J24 -> 140 | L24: =(G24-F24)*J24 -> 0 | M24: =(H24-G24)*J24 -> 0 | N24: =IF(I24="","",K24/I24) -> 3.5 | O24: =IF(I24="","",L24/I24) -> 0 | P24: =IF(I24="","",M24/I24) -> 0 | Q24: 9 | S24: =U24+T24-K24-L24-M24 -> 0 | U24: =(K24+L24+M24)-T24-V24 -> 140 | Z24: =IF(OR(I24="",I24=0),0,(U24+T24)/I24) -> 3.5 | AA24: =IF(OR(Q24=0,I24=0),"",Z24/Q24*100) -> 38.888889 | AC24: OK | AE24: =IF(AA24>85," ","WARNING") -> WARNING | AF24: OK | AG24: OK | AH24: OK | AI24: OK | AJ24: OK | AM24: =(N24+O24+P24)/(Q24*3600) -> 0.00010802469 | AN24: =((3600/I24)*U24)/(N24+O24+P24) -> 3600 | AO24: =(U24-T24)/U24 -> 1 | AP24: =AM24*AN24*AO24 -> 0.38888889 | AQ24: =((U24-T24)*(3600/I24))/(Q24*3600) -> 0.38888889
A25: P | B25: KITAMURA | C25: =IFERROR(VLOOKUP(D25,[2]Pieces!A:B,2,0)," ") -> 9751-fraise a fielter | D25: USINAGE BORNE CPF PROPREITAIRE -foret de forme d4+fraise a fielter | E25: 1360 | F25: 1415 | G25: 1415 | H25: 1415 | I25: =IFERROR(VLOOKUP(D25,[2]Pieces!A:C,3,0),"") -> 200 | J25: 12 | K25: =(F25-E25)*J25 -> 660 | L25: =(G25-F25)*J25 -> 0 | M25: =(H25-G25)*J25 -> 0 | N25: =IF(I25="","",K25/I25) -> 3.3 | O25: =IF(I25="","",L25/I25) -> 0 | P25: =IF(I25="","",M25/I25) -> 0 | Q25: 15 | R25: probléme pression | S25: =U25+T25-K25-L25-M25 -> 0 | U25: =(K25+L25+M25)-T25-V25 -> 660 | Z25: =IF(OR(I25="",I25=0),0,(U25+T25)/I25) -> 3.3 | AA25: =IF(OR(Q25=0,I25=0),"",Z25/Q25*100) -> 22 | AC25: OK | AE25: =IF(AA25>85," ","WARNING") -> WARNING | AF25: OK | AG25: OK | AH25: OK | AI25: OK | AJ25: OK | AM25: =(N25+O25+P25)/(Q25*3600) -> 6.1111111e-05 | AN25: =((3600/I25)*U25)/(N25+O25+P25) -> 3600 | AO25: =(U25-T25)/U25 -> 1 | AP25: =AM25*AN25*AO25 -> 0.22 | AQ25: =((U25-T25)*(3600/I25))/(Q25*3600) -> 0.22
A26: Q | B26: NOUVEAU MACHINE P014 | C26: =IFERROR(VLOOKUP(D26,[2]Pieces!A:B,2,0)," ") -> I035-CP2/chutes | D26: BAGUE INTERIEUR SILENT BLOC TRIANGLE TFR /chutes | E26: 0 | F26: 437 | G26: 437 | H26: 437 | I26: =IFERROR(VLOOKUP(D26,[2]Pieces!A:C,3,0),"") -> 70 | J26: 1 | K26: =(F26-E26)*J26 -> 437 | L26: =(G26-F26)*J26 -> 0 | M26: =(H26-G26)*J26 -> 0 | N26: =IF(I26="","",K26/I26) -> 6.2428571 | O26: =IF(I26="","",L26/I26) -> 0 | P26: =IF(I26="","",M26/I26) -> 0 | Q26: 15 | S26: =U26+T26-K26-L26-M26 -> 0 | U26: =(K26+L26+M26)-T26-V26 -> 437 | Z26: =IF(OR(I26="",I26=0),0,(U26+T26)/I26) -> 6.2428571 | AA26: =IF(OR(Q26=0,I26=0),"",Z26/Q26*100) -> 41.619048 | AE26: =IF(AA26>85," ","WARNING") -> WARNING | AM26: =(N26+O26+P26)/(Q26*3600) -> 0.00011560847 | AN26: =((3600/I26)*U26)/(N26+O26+P26) -> 3600 | AO26: =(U26-T26)/U26 -> 1 | AP26: =AM26*AN26*AO26 -> 0.41619048 | AQ26: =((U26-T26)*(3600/I26))/(Q26*3600) -> 0.41619048
A27: Q | B27: NOUVEAU MACHINE 32sk300 | C27: =IFERROR(VLOOKUP(D27,[2]Pieces!A:B,2,0)," ") -> TIGE M6+2ECROU | D27: TIGRE M6 AVEC 2 ECROUS | E27: 1950 | F27: 2493 | G27: 2493 | H27: 2493 | I27: =IFERROR(VLOOKUP(D27,[2]Pieces!A:C,3,0),"") -> 120 | J27: 1 | K27: =(F27-E27)*J27 -> 543 | L27: =(G27-F27)*J27 -> 0 | M27: =(H27-G27)*J27 -> 0 | N27: =IF(I27="","",K27/I27) -> 4.525 | O27: =IF(I27="","",L27/I27) -> 0 | P27: =IF(I27="","",M27/I27) -> 0 | Q27: 15 | S27: =U27+T27-K27-L27-M27 -> 0 | U27: =(K27+L27+M27)-T27-V27 -> 543 | Z27: =IF(OR(I27="",I27=0),0,(U27+T27)/I27) -> 4.525 | AA27: =IF(OR(Q27=0,I27=0),"",Z27/Q27*100) -> 30.166667 | AE27: =IF(AA27>85," ","WARNING") -> WARNING | AM27: =(N27+O27+P27)/(Q27*3600) -> 8.3796296e-05 | AN27: =((3600/I27)*U27)/(N27+O27+P27) -> 3600 | AO27: =(U27-T27)/U27 -> 1 | AP27: =AM27*AN27*AO27 -> 0.30166667 | AQ27: =((U27-T27)*(3600/I27))/(Q27*3600) -> 0.30166667
S29: Taux de NC journalière | U29: =#REF!/#REF! -> #REF!
J33: Approbateur:
J34: Date:
J35: Visa:

Sheet 23-6-22
A1: 23-06-2022 | Z1: CODE: DAS-PRO-16
Z2: DATE:30/08/2019
Z3: VERSION:07
Z4: PAGE:1
A8: SYMBOLE | B8: MACHINE | C8: REF ARTICLE | D8: DESIGNATION | E8: COMPTEUR AUJOURD’HUI à 8h | F8: COMPTEUR HIER à 17H | G8: COMPTEUR HIER à 22H | H8: COMPTEUR AUJOURD’HUI à 8h | I8: CADENCE | J8: NOMBRE DE PIECES FINIS PAR CYCLE | K8: PIECES SUIVANT COMPTEU 8h-->17h | L8: PIECES SUIVANT COMPTEUR 17H-->22H | M8: PIECES SUIVANT COMPTEUR 6h-->8h | N8: NOMBRE D'HEURES DE TRAVAIL 8h-->17h | O8: NOMBRE D'HEURES DE TRAVAIL 17H-->22H | P8: NOMBRE D'HEURES DE TRAVAIL 6h-->8h | Q8: NOMBRE D'HEURES DE TRAVAIL | R8: OBSERVATIONS | S8: Pieces manquantes | T8: PIECES NC | U8: Pieces REELLES | V8: Nombre des pieces à retoucher | W8: Cause de la non-conformité | X8: Effet de la non-conformité | Y8: Machine pour retouche | Z8: NOMBRES D'HEURES SUIVANT LES PIECES REELLES | AA8: RENDEMENT | AB8: Maintenance | AC8: Affutage | AD8: Gamme d'usingae | AE8: ALERTES | AF8: enregitrement | AG8: Identification | AH8: Propreté des tables de contrôle | AI8: Rangement des outils de contrôle | AJ8: Existance de l'OF | AK8: Panne | AL8: gestion de modification | AM8: A | AN8: P | AO8: Q | AP8: OEE | AQ8: OEE
A9: A | B9: SST16 | C9: =IFERROR(VLOOKUP(D9,[2]Pieces!A:B,2,0)," ") -> outi-plot | D9: plot nez de marche | E9: 0 | F9: 283 | G9: 283 | H9: 374 | I9: =IFERROR(VLOOKUP(D9,[2]Pieces!A:C,3,0),"") -> 75 | J9: 1 | K9: =(F9-E9)*J9 -> 283 | L9: =(G9-F9)*J9 -> 0 | M9: =(H9-G9)*J9 -> 91 | N9: =IF(I9="","",K9/I9) -> 3.7733333 | O9: =IF(I9="","",L9/I9) -> 0 | P9: =IF(I9="","",M9/I9) -> 1.2133333 | Q9: 13 | S9: =U9+T9-K9-L9-M9 -> 0 | U9: =(K9+L9+M9)-T9-V9 -> 374 | Z9: =IF(OR(I9="",I9=0),0,(U9+T9)/I9) -> 4.9866667 | AA9: =IF(OR(Q9=0,I9=0),"",Z9/Q9*100) -> 38.358974 | AC9: OK | AE9: =IF(AA9>85," ","WARNING") -> WARNING | AF9: OK | AG9: OK | AH9: OK | AI9: OK | AJ9: OK | AM9: =(N9+O9+P9)/(Q9*3600) -> 0.00010655271 | AN9: =((3600/I9)*U9)/(N9+O9+P9) -> 3600 | AO9: =(U9-T9)/U9 -> 1 | AP9: =AM9*AN9*AO9 -> 0.38358974 | AQ9: =((U9-T9)*(3600/I9))/(Q9*3600) -> 0.38358974
A10: B | B10: SB16 | C10: =IFERROR(VLOOKUP(D10,[2]Pieces!A:B,2,0)," ") -> 68.1010 | D10: Buse droite à collerette Ø10 | E10: 16358 | F10: 17000 | G10: 17122 | H10: 17209 | I10: =IFERROR(VLOOKUP(D10,[2]Pieces!A:C,3,0),"") -> 80 | J10: 1 | K10: =(F10-E10)*J10 -> 642 | L10: =(G10-F10)*J10 -> 122 | M10: =(H10-G10)*J10 -> 87 | N10: =IF(I10="","",K10/I10) -> 8.025 | O10: =IF(I10="","",L10/I10) -> 1.525 | P10: =IF(I10="","",M10/I10) -> 1.0875 | Q10: 13 | S10: =U10+T10-K10-L10-M10 -> 0 | U10: =(K10+L10+M10)-T10-V10 -> 851 | Z10: =IF(OR(I10="",I10=0),0,(U10+T10)/I10) -> 10.6375 | AA10: =IF(OR(Q10=0,I10=0),"",Z10/Q10*100) -> 81.826923 | AC10: OK | AE10: =IF(AA10>85," ","WARNING") -> WARNING | AF10: OK | AG10: OK | AH10: OK | AI10: OK | AJ10: OK | AM10: =(N10+O10+P10)/(Q10*3600) -> 0.00022729701 | AN10: =((3600/I10)*U10)/(N10+O10+P10) -> 3600 | AO10: =(U10-T10)/U10 -> 1 | AP10: =AM10*AN10*AO10 -> 0.81826923 | AQ10: =((U10-T10)*(3600/I10))/(Q10*3600) -> 0.81826923
A11: C | B11: BIGLIA 301 SM | C11: =IFERROR(VLOOKUP(D11,[2]Pieces!A:B,2,0)," ") -> TF48-57-I162-CP2 | D11: AXE JUMELLE-CP2 B301 | E11: 1465 | F11: 1711 | G11: 1790 | H11: 1820 | I11: =IFERROR(VLOOKUP(D11,[2]Pieces!A:C,3,0),"") -> 40 | J11: 1 | K11: =(F11-E11)*J11 -> 246 | L11: =(G11-F11)*J11 -> 79 | M11: =(H11-G11)*J11 -> 30 | N11: =IF(I11="","",K11/I11) -> 6.15 | O11: =IF(I11="","",L11/I11) -> 1.975 | P11: =IF(I11="","",M11/I11) -> 0.75 | Q11: 13 | S11: =U11+T11-K11-L11-M11 -> 0 | U11: =(K11+L11+M11)-T11-V11 -> 355 | Z11: =IF(OR(I11="",I11=0),0,(U11+T11)/I11) -> 8.875 | AA11: =IF(OR(Q11=0,I11=0),"",Z11/Q11*100) -> 68.269231 | AC11: OK | AE11: =IF(AA11>85," ","WARNING") -> WARNING | AF11: OK | AG11: OK | AH11: OK | AI11: OK | AJ11: OK | AM11: =(N11+O11+P11)/(Q11*3600) -> 0.00018963675 | AN11: =((3600/I11)*U11)/(N11+O11+P11) -> 3600 | AO11: =(U11-T11)/U11 -> 1 | AP11: =AM11*AN11*AO11 -> 0.68269231 | AQ11: =((U11-T11)*(3600/I11))/(Q11*3600) -> 0.68269231
A12: D | B12: BIGLIA 42 S2M bitourelle | C12: =IFERROR(VLOOKUP(D12,[2]Pieces!A:B,2,0)," ") -> M001-CP1 | D12: BOULON CENTRE AR OM40 | E12: 249 | F12: 249 | G12: 249 | H12: 249 | I12: =IFERROR(VLOOKUP(D12,[2]Pieces!A:C,3,0),"") -> 25 | J12: 1 | K12: =(F12-E12)*J12 -> 0 | L12: =(G12-F12)*J12 -> 0 | M12: =(H12-G12)*J12 -> 0 | N12: =IF(I12="","",K12/I12) -> 0 | O12: =IF(I12="","",L12/I12) -> 0 | P12: =IF(I12="","",M12/I12) -> 0 | Q12: 10 | S12: =U12+T12-K12-L12-M12 -> 0 | U12: =(K12+L12+M12)-T12-V12 -> 0 | Z12: =IF(OR(I12="",I12=0),0,(U12+T12)/I12) -> 0 | AA12: =IF(OR(Q12=0,I12=0),"",Z12/Q12*100) -> 0 | AC12: OK | AE12: =IF(AA12>85," ","WARNING") -> WARNING | AF12: OK | AG12: OK | AH12: OK | AI12: OK | AJ12: OK | AM12: =(N12+O12+P12)/(Q12*3600) -> 0 | AN12: =((3600/I12)*U12)/(N12+O12+P12) -> #DIV/0! | AO12: =(U12-T12)/U12 -> #DIV/0! | AP12: =AM12*AN12*AO12 -> #DIV/0! | AQ12: =((U12-T12)*(3600/I12))/(Q12*3600) -> 0
A13: E | B13: L32 | C13: =IFERROR(VLOOKUP(D13,[2]Pieces!A:B,2,0)," ") -> OUT-172 | D13: CLAMPING RING 360FO L32. | E13: 100 | F13: 1000 | G13: 1000 | H13: 1000 | I13: =IFERROR(VLOOKUP(D13,[2]Pieces!A:C,3,0),"") -> 220 | J13: 1 | K13: =(F13-E13)*J13 -> 900 | L13: =(G13-F13)*J13 -> 0 | M13: =(H13-G13)*J13 -> 0 | N13: =IF(I13="","",K13/I13) -> 4.0909091 | O13: =IF(I13="","",L13/I13) -> 0 | P13: =IF(I13="","",M13/I13) -> 0 | Q13: 13 | S13: =U13+T13-K13-L13-M13 -> 0 | U13: =(K13+L13+M13)-T13-V13 -> 900 | Z13: =IF(OR(I13="",I13=0),0,(U13+T13)/I13) -> 4.0909091 | AA13: =IF(OR(Q13=0,I13=0),"",Z13/Q13*100) -> 31.468531 | AC13: OK | AE13: =IF(AA13>85," ","WARNING") -> WARNING | AF13: OK | AG13: OK | AH13: OK | AI13: OK | AJ13: OK | AM13: =(N13+O13+P13)/(Q13*3600) -> 8.7412587e-05 | AN13: =((3600/I13)*U13)/(N13+O13+P13) -> 3600 | AO13: =(U13-T13)/U13 -> 1 | AP13: =AM13*AN13*AO13 -> 0.31468531 | AQ13: =((U13-T13)*(3600/I13))/(Q13*3600) -> 0.31468531
A14: F | B14: TSUGAMI | C14: =IFERROR(VLOOKUP(D14,[2]Pieces!A:B,2,0)," ") -> - | D14: Arrêt | E14: 0 | F14: 0 | G14: 0 | H14: 0 | I14: =IFERROR(VLOOKUP(D14,[2]Pieces!A:C,3,0),"") -> 1 | J14: 1 | K14: =(F14-E14)*J14 -> 0 | L14: =(G14-F14)*J14 -> 0 | M14: =(H14-G14)*J14 -> 0 | N14: =IF(I14="","",K14/I14) -> 0 | O14: =IF(I14="","",L14/I14) -> 0 | P14: =IF(I14="","",M14/I14) -> 0 | Q14: 13 | S14: =U14+T14-K14-L14-M14 -> 0 | U14: =(K14+L14+M14)-T14-V14 -> 0 | Z14: =IF(OR(I14="",I14=0),0,(U14+T14)/I14) -> 0 | AA14: =IF(OR(Q14=0,I14=0),"",Z14/Q14*100) -> 0 | AE14: =IF(AA14>85," ","WARNING") -> WARNING | AM14: =(N14+O14+P14)/(Q14*3600) -> 0 | AN14: =((3600/I14)*U14)/(N14+O14+P14) -> #DIV/0! | AO14: =(U14-T14)/U14 -> #DIV/0! | AP14: =AM14*AN14*AO14 -> #DIV/0! | AQ14: =((U14-T14)*(3600/I14))/(Q14*3600) -> 0
A15: G | B15: Tour STAR SV-32-J | C15: =IFERROR(VLOOKUP(D15,[2]Pieces!A:B,2,0)," ") -> 68.0815 | D15: BUSE A DROITE D8 M445 maj 07-06-2022 | E15: 42150 | F15: 42326 | G15: 42400 | H15: 42490 | I15: =IFERROR(VLOOKUP(D15,[2]Pieces!A:C,3,0),"") -> 56 | J15: 1 | K15: =(F15-E15)*J15 -> 176 | L15: =(G15-F15)*J15 -> 74 | M15: =(H15-G15)*J15 -> 90 | N15: =IF(I15="","",K15/I15) -> 3.1428571 | O15: =IF(I15="","",L15/I15) -> 1.3214286 | P15: =IF(I15="","",M15/I15) -> 1.6071429 | Q15: 13 | S15: =U15+T15-K15-L15-M15 -> 0 | U15: =(K15+L15+M15)-T15-V15 -> 340 | Z15: =IF(OR(I15="",I15=0),0,(U15+T15)/I15) -> 6.0714286 | AA15: =IF(OR(Q15=0,I15=0),"",Z15/Q15*100) -> 46.703297 | AC15: OK | AE15: =IF(AA15>85," ","WARNING") -> WARNING | AF15: OK | AG15: OK | AH15: OK | AI15: OK | AJ15: OK | AM15: =(N15+O15+P15)/(Q15*3600) -> 0.00012973138 | AN15: =((3600/I15)*U15)/(N15+O15+P15) -> 3600 | AO15: =(U15-T15)/U15 -> 1 | AP15: =AM15*AN15*AO15 -> 0.46703297 | AQ15: =((U15-T15)*(3600/I15))/(Q15*3600) -> 0.46703297
A16: H | B16: Tour CNC STAR SB avec embarreur LNS Express 220 | C16: =IFERROR(VLOOKUP(D16,[2]Pieces!A:B,2,0)," ") -> 1740 | D16: VIS ALLUM M10 | E16: 360 | F16: 527 | G16: 580 | H16: 642 | I16: =IFERROR(VLOOKUP(D16,[2]Pieces!A:C,3,0),"") -> 36 | J16: 1 | K16: =(F16-E16)*J16 -> 167 | L16: =(G16-F16)*J16 -> 53 | M16: =(H16-G16)*J16 -> 62 | N16: =IF(I16="","",K16/I16) -> 4.6388889 | O16: =IF(I16="","",L16/I16) -> 1.4722222 | P16: =IF(I16="","",M16/I16) -> 1.7222222 | Q16: 13 | S16: =U16+T16-K16-L16-M16 -> 0 | U16: =(K16+L16+M16)-T16-V16 -> 282 | Z16: =IF(OR(I16="",I16=0),0,(U16+T16)/I16) -> 7.8333333 | AA16: =IF(OR(Q16=0,I16=0),"",Z16/Q16*100) -> 60.25641 | AC16: OK | AE16: =IF(AA16>85," ","WARNING") -> WARNING | AF16: OK | AG16: OK | AH16: OK | AI16: OK | AJ16: OK | AM16: =(N16+O16+P16)/(Q16*3600) -> 0.00016737892 | AN16: =((3600/I16)*U16)/(N16+O16+P16) -> 3600 | AO16: =(U16-T16)/U16 -> 1 | AP16: =AM16*AN16*AO16 -> 0.6025641 | AQ16: =((U16-T16)*(3600/I16))/(Q16*3600) -> 0.6025641
A17: I | B17: MULTIBROCHE | C17: =IFERROR(VLOOKUP(D17,[2]Pieces!A:B,2,0)," ") -> MPS000300 | D17: raccord HEX 17 | E17: 0 | F17: 0 | G17: 0 | H17: 0 | I17: =IFERROR(VLOOKUP(D17,[2]Pieces!A:C,3,0),"") -> 500 | J17: 1 | K17: =(F17-E17)*J17 -> 0 | L17: =(G17-F17)*J17 -> 0 | M17: =(H17-G17)*J17 -> 0 | N17: =IF(I17="","",K17/I17) -> 0 | O17: =IF(I17="","",L17/I17) -> 0 | P17: =IF(I17="","",M17/I17) -> 0 | Q17: 13 | S17: =U17+T17-K17-L17-M17 -> 0 | U17: =(K17+L17+M17)-T17-V17 -> 0 | Z17: =IF(OR(I17="",I17=0),0,(U17+T17)/I17) -> 0 | AA17: =IF(OR(Q17=0,I17=0),"",Z17/Q17*100) -> 0 | AE17: =IF(AA17>85," ","WARNING") -> WARNING | AM17: =(N17+O17+P17)/(Q17*3600) -> 0 | AN17: =((3600/I17)*U17)/(N17+O17+P17) -> #DIV/0! | AO17: =(U17-T17)/U17 -> #DIV/0! | AP17: =AM17*AN17*AO17 -> #DIV/0! | AQ17: =((U17-T17)*(3600/I17))/(Q17*3600) -> 0
A18: J | B18: Tour CNC WEILER UD 24 - 100 | C18: =IFERROR(VLOOKUP(D18,[2]Pieces!A:B,2,0)," ") -> 0-4180 | D18: ANNEAU FX 25,2*32*21-CHUTES MJ | E18: 0 | F18: 0 | G18: 0 | H18: 0 | I18: =IFERROR(VLOOKUP(D18,[2]Pieces!A:C,3,0),"") -> 50 | J18: 1 | K18: =(F18-E18)*J18 -> 0 | L18: =(G18-F18)*J18 -> 0 | M18: =(H18-G18)*J18 -> 0 | N18: =IF(I18="","",K18/I18) -> 0 | O18: =IF(I18="","",L18/I18) -> 0 | P18: =IF(I18="","",M18/I18) -> 0 | Q18: 9 | S18: =U18+T18-K18-L18-M18 -> 0 | U18: =(K18+L18+M18)-T18-V18 -> 0 | Z18: =IF(OR(I18="",I18=0),0,(U18+T18)/I18) -> 0 | AA18: =IF(OR(Q18=0,I18=0),"",Z18/Q18*100) -> 0 | AE18: =IF(AA18>85," ","WARNING") -> WARNING | AM18: =(N18+O18+P18)/(Q18*3600) -> 0 | AN18: =((3600/I18)*U18)/(N18+O18+P18) -> #DIV/0! | AO18: =(U18-T18)/U18 -> #DIV/0! | AP18: =AM18*AN18*AO18 -> #DIV/0! | AQ18: =((U18-T18)*(3600/I18))/(Q18*3600) -> 0
A19: K | B19: TOUR WEILER | C19: =IFERROR(VLOOKUP(D19,[2]Pieces!A:B,2,0)," ") -> 4-7009-1 | D19: BAGUE DECOLLETE | E19: 1051 | F19: 1336 | G19: 1336 | H19: 1336 | I19: =IFERROR(VLOOKUP(D19,[2]Pieces!A:C,3,0),"") -> 45 | J19: 1 | K19: =(F19-E19)*J19 -> 285 | L19: =(G19-F19)*J19 -> 0 | M19: =(H19-G19)*J19 -> 0 | N19: =IF(I19="","",K19/I19) -> 6.3333333 | O19: =IF(I19="","",L19/I19) -> 0 | P19: =IF(I19="","",M19/I19) -> 0 | Q19: 9 | S19: =U19+T19-K19-L19-M19 -> 0 | U19: =(K19+L19+M19)-T19-V19 -> 285 | Z19: =IF(OR(I19="",I19=0),0,(U19+T19)/I19) -> 6.3333333 | AA19: =IF(OR(Q19=0,I19=0),"",Z19/Q19*100) -> 70.37037 | AC19: OK | AE19: =IF(AA19>85," ","WARNING") -> WARNING | AF19: OK | AG19: OK | AH19: OK | AI19: OK | AJ19: OK | AM19: =(N19+O19+P19)/(Q19*3600) -> 0.00019547325 | AN19: =((3600/I19)*U19)/(N19+O19+P19) -> 3600 | AO19: =(U19-T19)/U19 -> 1 | AP19: =AM19*AN19*AO19 -> 0.7037037 | AQ19: =((U19-T19)*(3600/I19))/(Q19*3600) -> 0.7037037
A20: L | B20: NAKAMURA | C20: =IFERROR(VLOOKUP(D20,[2]Pieces!A:B,2,0)," ") -> 4-8103 | D20: ANNEAU BRUTE AVEC CHANF INT 40*50*28 | E20: 427 | F20: 700 | G20: 700 | H20: 700 | I20: =IFERROR(VLOOKUP(D20,[2]Pieces!A:C,3,0),"") -> 55 | J20: 1 | K20: =(F20-E20)*J20 -> 273 | L20: =(G20-F20)*J20 -> 0 | M20: =(H20-G20)*J20 -> 0 | N20: =IF(I20="","",K20/I20) -> 4.9636364 | O20: =IF(I20="","",L20/I20) -> 0 | P20: =IF(I20="","",M20/I20) -> 0 | Q20: 9 | S20: =U20+T20-K20-L20-M20 -> 0 | U20: =(K20+L20+M20)-T20-V20 -> 273 | Z20: =IF(OR(I20="",I20=0),0,(U20+T20)/I20) -> 4.9636364 | AA20: =IF(OR(Q20=0,I20=0),"",Z20/Q20*100) -> 55.151515 | AC20: OK | AE20: =IF(AA20>85," ","WARNING") -> WARNING | AF20: OK | AG20: OK | AH20: OK | AI20: OK | AJ20: OK | AM20: =(N20+O20+P20)/(Q20*3600) -> 0.00015319865 | AN20: =((3600/I20)*U20)/(N20+O20+P20) -> 3600 | AO20: =(U20-T20)/U20 -> 1 | AP20: =AM20*AN20*AO20 -> 0.55151515 | AQ20: =((U20-T20)*(3600/I20))/(Q20*3600) -> 0.55151515
A21: M | B21: MORI SEIKI 3 axes | C21: =IFERROR(VLOOKUP(D21,[2]Pieces!A:B,2,0)," ") -> i004 | D21: Ecrou suspension- surfacage | E21: 0 | F21: 0 | G21: 0 | H21: 0 | I21: =IFERROR(VLOOKUP(D21,[2]Pieces!A:C,3,0),"") -> 54 | J21: 9 | K21: =(F21-E21)*J21 -> 0 | L21: =(G21-F21)*J21 -> 0 | M21: =(H21-G21)*J21 -> 0 | N21: =IF(I21="","",K21/I21) -> 0 | O21: =IF(I21="","",L21/I21) -> 0 | P21: =IF(I21="","",M21/I21) -> 0 | Q21: 9 | S21: =U21+T21-K21-L21-M21 -> 0 | U21: =(K21+L21+M21)-T21-V21 -> 0 | Z21: =IF(OR(I21="",I21=0),0,(U21+T21)/I21) -> 0 | AA21: =IF(OR(Q21=0,I21=0),"",Z21/Q21*100) -> 0 | AE21: =IF(AA21>85," ","WARNING") -> WARNING | AM21: =(N21+O21+P21)/(Q21*3600) -> 0 | AN21: =((3600/I21)*U21)/(N21+O21+P21) -> #DIV/0! | AO21: =(U21-T21)/U21 -> #DIV/0! | AP21: =AM21*AN21*AO21 -> #DIV/0! | AQ21: =((U21-T21)*(3600/I21))/(Q21*3600) -> 0
A22: N | B22: MORI SEIKI 5 axes | C22: =IFERROR(VLOOKUP(D22,[2]Pieces!A:B,2,0)," ") -> 601130 | D22: ECROU DE FUSEE + fraisage 5 pcs pignion | E22: 0 | F22: 0 | G22: 0 | H22: 0 | I22: =IFERROR(VLOOKUP(D22,[2]Pieces!A:C,3,0),"") -> 24 | J22: 5 | K22: =(F22-E22)*J22 -> 0 | L22: =(G22-F22)*J22 -> 0 | M22: =(H22-G22)*J22 -> 0 | N22: =IF(I22="","",K22/I22) -> 0 | O22: =IF(I22="","",L22/I22) -> 0 | P22: =IF(I22="","",M22/I22) -> 0 | Q22: 9 | S22: =U22+T22-K22-L22-M22 -> 0 | U22: =(K22+L22+M22)-T22-V22 -> 0 | Z22: =IF(OR(I22="",I22=0),0,(U22+T22)/I22) -> 0 | AA22: =IF(OR(Q22=0,I22=0),"",Z22/Q22*100) -> 0 | AE22: =IF(AA22>85," ","WARNING") -> WARNING | AM22: =(N22+O22+P22)/(Q22*3600) -> 0 | AN22: =((3600/I22)*U22)/(N22+O22+P22) -> #DIV/0! | AO22: =(U22-T22)/U22 -> #DIV/0! | AP22: =AM22*AN22*AO22 -> #DIV/0! | AQ22: =((U22-T22)*(3600/I22))/(Q22*3600) -> 0
A23: O | B23: HARDING | C23: =IFERROR(VLOOKUP(D23,[2]Pieces!A:B,2,0)," ") -> 480387-SF | D23: EVACUATION 2 EN3 SEMI FINI | E23: 112 | F23: 120 | G23: 120 | H23: 120 | I23: =IFERROR(VLOOKUP(D23,[2]Pieces!A:C,3,0),"") -> 25 | J23: 30 | K23: =(F23-E23)*J23 -> 240 | L23: =(G23-F23)*J23 -> 0 | M23: =(H23-G23)*J23 -> 0 | N23: =IF(I23="","",K23/I23) -> 9.6 | O23: =IF(I23="","",L23/I23) -> 0 | P23: =IF(I23="","",M23/I23) -> 0 | Q23: 9 | S23: =U23+T23-K23-L23-M23 -> 0 | U23: =(K23+L23+M23)-T23-V23 -> 240 | Z23: =IF(OR(I23="",I23=0),0,(U23+T23)/I23) -> 9.6 | AA23: =IF(OR(Q23=0,I23=0),"",Z23/Q23*100) -> 106.66667 | AC23: OK | AE23: =IF(AA23>85," ","WARNING") | AF23: OK | AG23: OK | AH23: OK | AI23: OK | AJ23: OK | AM23: =(N23+O23+P23)/(Q23*3600) -> 0.0002962963 | AN23: =((3600/I23)*U23)/(N23+O23+P23) -> 3600 | AO23: =(U23-T23)/U23 -> 1 | AP23: =AM23*AN23*AO23 -> 1.0666667 | AQ23: =((U23-T23)*(3600/I23))/(Q23*3600) -> 1.0666667
A24: O | B24: HARDING | C24: =IFERROR(VLOOKUP(D24,[2]Pieces!A:B,2,0)," ") -> 480387-PF | D24: EVACUATION 2/3G X-ONE-harding-taraudageM4+GAZ | E24: 112 | F24: 120 | G24: 120 | H24: 120 | I24: =IFERROR(VLOOKUP(D24,[2]Pieces!A:C,3,0),"") -> 40 | J24: 20 | K24: =(F24-E24)*J24 -> 160 | L24: =(G24-F24)*J24 -> 0 | M24: =(H24-G24)*J24 -> 0 | N24: =IF(I24="","",K24/I24) -> 4 | O24: =IF(I24="","",L24/I24) -> 0 | P24: =IF(I24="","",M24/I24) -> 0 | Q24: 9 | S24: =U24+T24-K24-L24-M24 -> 0 | U24: =(K24+L24+M24)-T24-V24 -> 160 | Z24: =IF(OR(I24="",I24=0),0,(U24+T24)/I24) -> 4 | AA24: =IF(OR(Q24=0,I24=0),"",Z24/Q24*100) -> 44.444444 | AC24: OK | AE24: =IF(AA24>85," ","WARNING") -> WARNING | AF24: OK | AG24: OK | AH24: OK | AI24: OK | AJ24: OK | AM24: =(N24+O24+P24)/(Q24*3600) -> 0.00012345679 | AN24: =((3600/I24)*U24)/(N24+O24+P24) -> 3600 | AO24: =(U24-T24)/U24 -> 1 | AP24: =AM24*AN24*AO24 -> 0.44444444 | AQ24: =((U24-T24)*(3600/I24))/(Q24*3600) -> 0.44444444
A25: P | B25: KITAMURA | C25: =IFERROR(VLOOKUP(D25,[2]Pieces!A:B,2,0)," ") -> 9751-fraise a fielter | D25: USINAGE BORNE CPF PROPREITAIRE -foret de forme d4+fraise a fielter | E25: 1298 | F25: 1360 | G25: 1360 | H25: 1360 | I25: =IFERROR(VLOOKUP(D25,[2]Pieces!A:C,3,0),"") -> 200 | J25: 12 | K25: =(F25-E25)*J25 -> 744 | L25: =(G25-F25)*J25 -> 0 | M25: =(H25-G25)*J25 -> 0 | N25: =IF(I25="","",K25/I25) -> 3.72 | O25: =IF(I25="","",L25/I25) -> 0 | P25: =IF(I25="","",M25/I25) -> 0 | Q25: 9 | S25: =U25+T25-K25-L25-M25 -> 0 | U25: =(K25+L25+M25)-T25-V25 -> 744 | Z25: =IF(OR(I25="",I25=0),0,(U25+T25)/I25) -> 3.72 | AA25: =IF(OR(Q25=0,I25=0),"",Z25/Q25*100) -> 41.333333 | AC25: OK | AE25: =IF(AA25>85," ","WARNING") -> WARNING | AF25: OK | AG25: OK | AH25: OK | AI25: OK | AJ25: OK | AM25: =(N25+O25+P25)/(Q25*3600) -> 0.00011481481 | AN25: =((3600/I25)*U25)/(N25+O25+P25) -> 3600 | AO25: =(U25-T25)/U25 -> 1 | AP25: =AM25*AN25*AO25 -> 0.41333333 | AQ25: =((U25-T25)*(3600/I25))/(Q25*3600) -> 0.41333333
A26: Q | B26: NOUVEAU MACHINE P014 | C26: =IFERROR(VLOOKUP(D26,[2]Pieces!A:B,2,0)," ") -> 22*12*65 | D26: BAGUE GALVANISEE 22*12*65 | E26: 202 | F26: 453 | G26: 453 | H26: 453 | I26: =IFERROR(VLOOKUP(D26,[2]Pieces!A:C,3,0),"") -> 70 | J26: 1 | K26: =(F26-E26)*J26 -> 251 | L26: =(G26-F26)*J26 -> 0 | M26: =(H26-G26)*J26 -> 0 | N26: =IF(I26="","",K26/I26) -> 3.5857143 | O26: =IF(I26="","",L26/I26) -> 0 | P26: =IF(I26="","",M26/I26) -> 0 | Q26: 9 | S26: =U26+T26-K26-L26-M26 -> 0 | U26: =(K26+L26+M26)-T26-V26 -> 251 | Z26: =IF(OR(I26="",I26=0),0,(U26+T26)/I26) -> 3.5857143 | AA26: =IF(OR(Q26=0,I26=0),"",Z26/Q26*100) -> 39.84127 | AC26: OK | AE26: =IF(AA26>85," ","WARNING") -> WARNING | AF26: OK | AG26: OK | AH26: OK | AI26: OK | AJ26: OK | AM26: =(N26+O26+P26)/(Q26*3600) -> 0.00011067019 | AN26: =((3600/I26)*U26)/(N26+O26+P26) -> 3600 | AO26: =(U26-T26)/U26 -> 1 | AP26: =AM26*AN26*AO26 -> 0.3984127 | AQ26: =((U26-T26)*(3600/I26))/(Q26*3600) -> 0.3984127
A27: Q | B27: NOUVEAU MACHINE 32sk300 | C27: =IFERROR(VLOOKUP(D27,[2]Pieces!A:B,2,0)," ") -> TIGE M6+2ECROU | D27: TIGRE M6 AVEC 2 ECROUS | E27: 1455 | F27: 1950 | G27: 1950 | H27: 1950 | I27: =IFERROR(VLOOKUP(D27,[2]Pieces!A:C,3,0),"") -> 120 | J27: 1 | K27: =(F27-E27)*J27 -> 495 | L27: =(G27-F27)*J27 -> 0 | M27: =(H27-G27)*J27 -> 0 | N27: =IF(I27="","",K27/I27) -> 4.125 | O27: =IF(I27="","",L27/I27) -> 0 | P27: =IF(I27="","",M27/I27) -> 0 | Q27: 9 | S27: =U27+T27-K27-L27-M27 -> 0 | U27: =(K27+L27+M27)-T27-V27 -> 495 | Z27: =IF(OR(I27="",I27=0),0,(U27+T27)/I27) -> 4.125 | AA27: =IF(OR(Q27=0,I27=0),"",Z27/Q27*100) -> 45.833333 | AC27: OK | AE27: =IF(AA27>85," ","WARNING") -> WARNING | AF27: OK | AG27: OK | AH27: OK | AI27: OK | AJ27: OK | AM27: =(N27+O27+P27)/(Q27*3600) -> 0.00012731481 | AN27: =((3600/I27)*U27)/(N27+O27+P27) -> 3600 | AO27: =(U27-T27)/U27 -> 1 | AP27: =AM27*AN27*AO27 -> 0.45833333 | AQ27: =((U27-T27)*(3600/I27))/(Q27*3600) -> 0.45833333
S29: Taux de NC journalière | U29: =#REF!/#REF! -> #REF!
J33: Approbateur:
J34: Date:
J35: Visa:

Sheet 22-6-22
A1: 22-06-2022 | Z1: CODE: DAS-PRO-16
Z2: DATE:30/08/2019
Z3: VERSION:07
Z4: PAGE:1
A8: SYMBOLE | B8: MACHINE | C8: REF ARTICLE | D8: DESIGNATION | E8: COMPTEUR AUJOURD’HUI à 8h | F8: COMPTEUR HIER à 17H | G8: COMPTEUR HIER à 22H | H8: COMPTEUR AUJOURD’HUI à 8h | I8: CADENCE | J8: NOMBRE DE PIECES FINIS PAR CYCLE | K8: PIECES SUIVANT COMPTEU 8h-->17h | L8: PIECES SUIVANT COMPTEUR 17H-->22H | M8: PIECES SUIVANT COMPTEUR 6h-->8h | N8: NOMBRE D'HEURES DE TRAVAIL 8h-->17h | O8: NOMBRE D'HEURES DE TRAVAIL 17H-->22H | P8: NOMBRE D'HEURES DE TRAVAIL 6h-->8h | Q8: NOMBRE D'HEURES DE TRAVAIL | R8: OBSERVATIONS | S8: Pieces manquantes | T8: PIECES NC | U8: Pieces REELLES | V8: Nombre des pieces à retoucher | W8: Cause de la non-conformité | X8: Effet de la non-conformité | Y8: Machine pour retouche | Z8: NOMBRES D'HEURES SUIVANT LES PIECES REELLES | AA8: RENDEMENT | AB8: Maintenance | AC8: Affutage | AD8: Gamme d'usingae | AE8: ALERTES | AF8: enregitrement | AG8: Identification | AH8: Propreté des tables de contrôle | AI8: Rangement des outils de contrôle | AJ8: Existance de l'OF | AK8: Panne | AL8: gestion de modification | AM8: A | AN8: P | AO8: Q | AP8: OEE | AQ8: OEE
A9: A | B9: SST16 | C9: =IFERROR(VLOOKUP(D9,[2]Pieces!A:B,2,0)," ") -> BROCH L 180 | D9: BROCHE ACIER D13 ZINGUE L180 | E9: 1080 | F9: 1817 | G9: 1864 | H9: 1864 | I9: =IFERROR(VLOOKUP(D9,[2]Pieces!A:C,3,0),"") -> 120 | J9: 1 | K9: =(F9-E9)*J9 -> 737 | L9: =(G9-F9)*J9 -> 47 | M9: =(H9-G9)*J9 -> 0 | N9: =IF(I9="","",K9/I9) -> 6.1416667 | O9: =IF(I9="","",L9/I9) -> 0.39166667 | P9: =IF(I9="","",M9/I9) -> 0 | Q9: 13 | R9: OF CLOTUREE | S9: =U9+T9-K9-L9-M9 -> 0 | U9: =(K9+L9+M9)-T9-V9 -> 784 | Z9: =IF(OR(I9="",I9=0),0,(U9+T9)/I9) -> 6.5333333 | AA9: =IF(OR(Q9=0,I9=0),"",Z9/Q9*100) -> 50.25641 | AC9: OK | AE9: =IF(AA9>85," ","WARNING") -> WARNING | AF9: OK | AG9: OK | AH9: OK | AI9: OK | AJ9: OK | AM9: =(N9+O9+P9)/(Q9*3600) -> 0.00013960114 | AN9: =((3600/I9)*U9)/(N9+O9+P9) -> 3600 | AO9: =(U9-T9)/U9 -> 1 | AP9: =AM9*AN9*AO9 -> 0.5025641 | AQ9: =((U9-T9)*(3600/I9))/(Q9*3600) -> 0.5025641
A10: B | B10: SB16 | C10: =IFERROR(VLOOKUP(D10,[2]Pieces!A:B,2,0)," ") -> 68.1010 | D10: Buse droite à collerette Ø10 | E10: 15680 | F10: 16087 | G10: 16230 | H10: 16358 | I10: =IFERROR(VLOOKUP(D10,[2]Pieces!A:C,3,0),"") -> 80 | J10: 1 | K10: =(F10-E10)*J10 -> 407 | L10: =(G10-F10)*J10 -> 143 | M10: =(H10-G10)*J10 -> 128 | N10: =IF(I10="","",K10/I10) -> 5.0875 | O10: =IF(I10="","",L10/I10) -> 1.7875 | P10: =IF(I10="","",M10/I10) -> 1.6 | Q10: 13 | S10: =U10+T10-K10-L10-M10 -> 0 | U10: =(K10+L10+M10)-T10-V10 -> 678 | Z10: =IF(OR(I10="",I10=0),0,(U10+T10)/I10) -> 8.475 | AA10: =IF(OR(Q10=0,I10=0),"",Z10/Q10*100) -> 65.192308 | AC10: OK | AE10: =IF(AA10>85," ","WARNING") -> WARNING | AF10: OK | AG10: OK | AH10: OK | AI10: OK | AJ10: OK | AM10: =(N10+O10+P10)/(Q10*3600) -> 0.00018108974 | AN10: =((3600/I10)*U10)/(N10+O10+P10) -> 3600 | AO10: =(U10-T10)/U10 -> 1 | AP10: =AM10*AN10*AO10 -> 0.65192308 | AQ10: =((U10-T10)*(3600/I10))/(Q10*3600) -> 0.65192308
A11: C | B11: BIGLIA 301 SM | C11: =IFERROR(VLOOKUP(D11,[2]Pieces!A:B,2,0)," ") -> TF48-57-I162-CP2 | D11: AXE JUMELLE-CP2 B301 | E11: 994 | F11: 1340 | G11: 1405 | H11: 1465 | I11: =IFERROR(VLOOKUP(D11,[2]Pieces!A:C,3,0),"") -> 40 | J11: 1 | K11: =(F11-E11)*J11 -> 346 | L11: =(G11-F11)*J11 -> 65 | M11: =(H11-G11)*J11 -> 60 | N11: =IF(I11="","",K11/I11) -> 8.65 | O11: =IF(I11="","",L11/I11) -> 1.625 | P11: =IF(I11="","",M11/I11) -> 1.5 | Q11: 13 | S11: =U11+T11-K11-L11-M11 -> 0 | U11: =(K11+L11+M11)-T11-V11 -> 471 | Z11: =IF(OR(I11="",I11=0),0,(U11+T11)/I11) -> 11.775 | AA11: =IF(OR(Q11=0,I11=0),"",Z11/Q11*100) -> 90.576923 | AC11: OK | AE11: =IF(AA11>85," ","WARNING") | AF11: OK | AG11: OK | AH11: OK | AI11: OK | AJ11: OK | AM11: =(N11+O11+P11)/(Q11*3600) -> 0.00025160256 | AN11: =((3600/I11)*U11)/(N11+O11+P11) -> 3600 | AO11: =(U11-T11)/U11 -> 1 | AP11: =AM11*AN11*AO11 -> 0.90576923 | AQ11: =((U11-T11)*(3600/I11))/(Q11*3600) -> 0.90576923
A12: D | B12: BIGLIA 42 S2M bitourelle | C12: =IFERROR(VLOOKUP(D12,[2]Pieces!A:B,2,0)," ") -> M001-CP1 | D12: BOULON CENTRE AR OM40 | E12: 153 | F12: 249 | G12: 249 | H12: 249 | I12: =IFERROR(VLOOKUP(D12,[2]Pieces!A:C,3,0),"") -> 25 | J12: 1 | K12: =(F12-E12)*J12 -> 96 | L12: =(G12-F12)*J12 -> 0 | M12: =(H12-G12)*J12 -> 0 | N12: =IF(I12="","",K12/I12) -> 3.84 | O12: =IF(I12="","",L12/I12) -> 0 | P12: =IF(I12="","",M12/I12) -> 0 | Q12: 10 | S12: =U12+T12-K12-L12-M12 -> 0 | U12: =(K12+L12+M12)-T12-V12 -> 96 | Z12: =IF(OR(I12="",I12=0),0,(U12+T12)/I12) -> 3.84 | AA12: =IF(OR(Q12=0,I12=0),"",Z12/Q12*100) -> 38.4 | AC12: OK | AE12: =IF(AA12>85," ","WARNING") -> WARNING | AF12: OK | AG12: OK | AH12: OK | AI12: OK | AJ12: OK | AM12: =(N12+O12+P12)/(Q12*3600) -> 0.00010666667 | AN12: =((3600/I12)*U12)/(N12+O12+P12) -> 3600 | AO12: =(U12-T12)/U12 -> 1 | AP12: =AM12*AN12*AO12 -> 0.384 | AQ12: =((U12-T12)*(3600/I12))/(Q12*3600) -> 0.384
A13: E | B13: L32 | C13: =IFERROR(VLOOKUP(D13,[2]Pieces!A:B,2,0)," ") -> OUT-172 | D13: CLAMPING RING 360FO L32. | E13: 0 | F13: 100 | G13: 100 | H13: 100 | I13: =IFERROR(VLOOKUP(D13,[2]Pieces!A:C,3,0),"") -> 220 | J13: 1 | K13: =(F13-E13)*J13 -> 100 | L13: =(G13-F13)*J13 -> 0 | M13: =(H13-G13)*J13 -> 0 | N13: =IF(I13="","",K13/I13) -> 0.45454545 | O13: =IF(I13="","",L13/I13) -> 0 | P13: =IF(I13="","",M13/I13) -> 0 | Q13: 13 | S13: =U13+T13-K13-L13-M13 -> 0 | U13: =(K13+L13+M13)-T13-V13 -> 100 | Z13: =IF(OR(I13="",I13=0),0,(U13+T13)/I13) -> 0.45454545 | AA13: =IF(OR(Q13=0,I13=0),"",Z13/Q13*100) -> 3.4965035 | AC13: OK | AE13: =IF(AA13>85," ","WARNING") -> WARNING | AF13: OK | AG13: OK | AH13: OK | AI13: OK | AJ13: OK | AM13: =(N13+O13+P13)/(Q13*3600) -> 9.7125097e-06 | AN13: =((3600/I13)*U13)/(N13+O13+P13) -> 3600 | AO13: =(U13-T13)/U13 -> 1 | AP13: =AM13*AN13*AO13 -> 0.034965035 | AQ13: =((U13-T13)*(3600/I13))/(Q13*3600) -> 0.034965035
A14: F | B14: TSUGAMI | C14: =IFERROR(VLOOKUP(D14,[2]Pieces!A:B,2,0)," ") -> - | D14: Arrêt | E14: 0 | F14: 0 | G14: 0 | H14: 0 | I14: =IFERROR(VLOOKUP(D14,[2]Pieces!A:C,3,0),"") -> 1 | J14: 1 | K14: =(F14-E14)*J14 -> 0 | L14: =(G14-F14)*J14 -> 0 | M14: =(H14-G14)*J14 -> 0 | N14: =IF(I14="","",K14/I14) -> 0 | O14: =IF(I14="","",L14/I14) -> 0 | P14: =IF(I14="","",M14/I14) -> 0 | Q14: 13 | S14: =U14+T14-K14-L14-M14 -> 0 | U14: =(K14+L14+M14)-T14-V14 -> 0 | Z14: =IF(OR(I14="",I14=0),0,(U14+T14)/I14) -> 0 | AA14: =IF(OR(Q14=0,I14=0),"",Z14/Q14*100) -> 0 | AE14: =IF(AA14>85," ","WARNING") -> WARNING | AM14: =(N14+O14+P14)/(Q14*3600) -> 0 | AN14: =((3600/I14)*U14)/(N14+O14+P14) -> #DIV/0! | AO14: =(U14-T14)/U14 -> #DIV/0! | AP14: =AM14*AN14*AO14 -> #DIV/0! | AQ14: =((U14-T14)*(3600/I14))/(Q14*3600) -> 0
A15: G | B15: Tour STAR SV-32-J | C15: =IFERROR(VLOOKUP(D15,[2]Pieces!A:B,2,0)," ") -> 68.0815 | D15: BUSE A DROITE D8 M445 maj 07-06-2022 | E15: 41570 | F15: 41995 | G15: 42070 | H15: 42150 | I15: =IFERROR(VLOOKUP(D15,[2]Pieces!A:C,3,0),"") -> 56 | J15: 1 | K15: =(F15-E15)*J15 -> 425 | L15: =(G15-F15)*J15 -> 75 | M15: =(H15-G15)*J15 -> 80 | N15: =IF(I15="","",K15/I15) -> 7.5892857 | O15: =IF(I15="","",L15/I15) -> 1.3392857 | P15: =IF(I15="","",M15/I15) -> 1.4285714 | Q15: 13 | R15: CASSURE FORET | S15: =U15+T15-K15-L15-M15 -> 0 | T15: 3 | U15: =(K15+L15+M15)-T15-V15 -> 577 | W15: CASSURE FORET | X15: ABSENCE TROU | Z15: =IF(OR(I15="",I15=0),0,(U15+T15)/I15) -> 10.357143 | AA15: =IF(OR(Q15=0,I15=0),"",Z15/Q15*100) -> 79.67033 | AC15: OK | AE15: =IF(AA15>85," ","WARNING") -> WARNING | AF15: OK | AG15: OK | AH15: OK | AI15: OK | AJ15: OK | AM15: =(N15+O15+P15)/(Q15*3600) -> 0.00022130647 | AN15: =((3600/I15)*U15)/(N15+O15+P15) -> 3581.3793 | AO15: =(U15-T15)/U15 -> 0.99480069 | AP15: =AM15*AN15*AO15 -> 0.78846154 | AQ15: =((U15-T15)*(3600/I15))/(Q15*3600) -> 0.78846154
A16: H | B16: Tour CNC STAR SB avec embarreur LNS Express 220 | C16: =IFERROR(VLOOKUP(D16,[2]Pieces!A:B,2,0)," ") -> 1740 | D16: VIS ALLUM M10 | E16: 0 | F16: 241 | G16: 241 | H16: 360 | I16: =IFERROR(VLOOKUP(D16,[2]Pieces!A:C,3,0),"") -> 36 | J16: 1 | K16: =(F16-E16)*J16 -> 241 | L16: =(G16-F16)*J16 -> 0 | M16: =(H16-G16)*J16 -> 119 | N16: =IF(I16="","",K16/I16) -> 6.6944444 | O16: =IF(I16="","",L16/I16) -> 0 | P16: =IF(I16="","",M16/I16) -> 3.3055556 | Q16: 13 | R16: BAGUE FILLETE ENTRE N'ENTRE PAS | S16: =U16+T16-K16-L16-M16 -> 0 | T16: 16 | U16: =(K16+L16+M16)-T16-V16 -> 344 | Z16: =IF(OR(I16="",I16=0),0,(U16+T16)/I16) -> 10 | AA16: =IF(OR(Q16=0,I16=0),"",Z16/Q16*100) -> 76.923077 | AC16: OK | AE16: =IF(AA16>85," ","WARNING") -> WARNING | AF16: OK | AG16: OK | AH16: OK | AI16: OK | AJ16: OK | AM16: =(N16+O16+P16)/(Q16*3600) -> 0.00021367521 | AN16: =((3600/I16)*U16)/(N16+O16+P16) -> 3440 | AO16: =(U16-T16)/U16 -> 0.95348837 | AP16: =AM16*AN16*AO16 -> 0.7008547 | AQ16: =((U16-T16)*(3600/I16))/(Q16*3600) -> 0.7008547
A17: I | B17: MULTIBROCHE | C17: =IFERROR(VLOOKUP(D17,[2]Pieces!A:B,2,0)," ") -> MPS000300 | D17: raccord HEX 17 | E17: 0 | F17: 0 | G17: 0 | H17: 0 | I17: =IFERROR(VLOOKUP(D17,[2]Pieces!A:C,3,0),"") -> 500 | J17: 1 | K17: =(F17-E17)*J17 -> 0 | L17: =(G17-F17)*J17 -> 0 | M17: =(H17-G17)*J17 -> 0 | N17: =IF(I17="","",K17/I17) -> 0 | O17: =IF(I17="","",L17/I17) -> 0 | P17: =IF(I17="","",M17/I17) -> 0 | Q17: 13 | S17: =U17+T17-K17-L17-M17 -> 0 | U17: =(K17+L17+M17)-T17-V17 -> 0 | Z17: =IF(OR(I17="",I17=0),0,(U17+T17)/I17) -> 0 | AA17: =IF(OR(Q17=0,I17=0),"",Z17/Q17*100) -> 0 | AE17: =IF(AA17>85," ","WARNING") -> WARNING | AM17: =(N17+O17+P17)/(Q17*3600) -> 0 | AN17: =((3600/I17)*U17)/(N17+O17+P17) -> #DIV/0! | AO17: =(U17-T17)/U17 -> #DIV/0! | AP17: =AM17*AN17*AO17 -> #DIV/0! | AQ17: =((U17-T17)*(3600/I17))/(Q17*3600) -> 0
A18: J | B18: Tour CNC WEILER UD 24 - 100 | C18: =IFERROR(VLOOKUP(D18,[2]Pieces!A:B,2,0)," ") -> 0-4180 | D18: ANNEAU FX 25,2*32*21-CHUTES MJ | E18: 0 | F18: 0 | G18: 0 | H18: 0 | I18: =IFERROR(VLOOKUP(D18,[2]Pieces!A:C,3,0),"") -> 50 | J18: 1 | K18: =(F18-E18)*J18 -> 0 | L18: =(G18-F18)*J18 -> 0 | M18: =(H18-G18)*J18 -> 0 | N18: =IF(I18="","",K18/I18) -> 0 | O18: =IF(I18="","",L18/I18) -> 0 | P18: =IF(I18="","",M18/I18) -> 0 | Q18: 9 | S18: =U18+T18-K18-L18-M18 -> 0 | U18: =(K18+L18+M18)-T18-V18 -> 0 | Z18: =IF(OR(I18="",I18=0),0,(U18+T18)/I18) -> 0 | AA18: =IF(OR(Q18=0,I18=0),"",Z18/Q18*100) -> 0 | AE18: =IF(AA18>85," ","WARNING") -> WARNING | AM18: =(N18+O18+P18)/(Q18*3600) -> 0 | AN18: =((3600/I18)*U18)/(N18+O18+P18) -> #DIV/0! | AO18: =(U18-T18)/U18 -> #DIV/0! | AP18: =AM18*AN18*AO18 -> #DIV/0! | AQ18: =((U18-T18)*(3600/I18))/(Q18*3600) -> 0
A19: K | B19: TOUR WEILER | C19: =IFERROR(VLOOKUP(D19,[2]Pieces!A:B,2,0)," ") -> 4-7009-1 | D19: BAGUE DECOLLETE | E19: 815 | F19: 1051 | G19: 1051 | H19: 1051 | I19: =IFERROR(VLOOKUP(D19,[2]Pieces!A:C,3,0),"") -> 45 | J19: 1 | K19: =(F19-E19)*J19 -> 236 | L19: =(G19-F19)*J19 -> 0 | M19: =(H19-G19)*J19 -> 0 | N19: =IF(I19="","",K19/I19) -> 5.2444444 | O19: =IF(I19="","",L19/I19) -> 0 | P19: =IF(I19="","",M19/I19) -> 0 | Q19: 9 | S19: =U19+T19-K19-L19-M19 -> 0 | U19: =(K19+L19+M19)-T19-V19 -> 236 | Z19: =IF(OR(I19="",I19=0),0,(U19+T19)/I19) -> 5.2444444 | AA19: =IF(OR(Q19=0,I19=0),"",Z19/Q19*100) -> 58.271605 | AC19: OK | AE19: =IF(AA19>85," ","WARNING") -> WARNING | AF19: OK | AG19: OK | AH19: OK | AI19: OK | AJ19: OK | AM19: =(N19+O19+P19)/(Q19*3600) -> 0.00016186557 | AN19: =((3600/I19)*U19)/(N19+O19+P19) -> 3600 | AO19: =(U19-T19)/U19 -> 1 | AP19: =AM19*AN19*AO19 -> 0.58271605 | AQ19: =((U19-T19)*(3600/I19))/(Q19*3600) -> 0.58271605
A20: L | B20: NAKAMURA | C20: =IFERROR(VLOOKUP(D20,[2]Pieces!A:B,2,0)," ") -> 4-8103 | D20: ANNEAU BRUTE AVEC CHANF INT 40*50*28 | E20: 95 | F20: 427 | G20: 427 | H20: 427 | I20: =IFERROR(VLOOKUP(D20,[2]Pieces!A:C,3,0),"") -> 55 | J20: 1 | K20: =(F20-E20)*J20 -> 332 | L20: =(G20-F20)*J20 -> 0 | M20: =(H20-G20)*J20 -> 0 | N20: =IF(I20="","",K20/I20) -> 6.0363636 | O20: =IF(I20="","",L20/I20) -> 0 | P20: =IF(I20="","",M20/I20) -> 0 | Q20: 9 | S20: =U20+T20-K20-L20-M20 -> 0 | U20: =(K20+L20+M20)-T20-V20 -> 332 | Z20: =IF(OR(I20="",I20=0),0,(U20+T20)/I20) -> 6.0363636 | AA20: =IF(OR(Q20=0,I20=0),"",Z20/Q20*100) -> 67.070707 | AC20: OK | AE20: =IF(AA20>85," ","WARNING") -> WARNING | AF20: OK | AG20: OK | AH20: OK | AI20: OK | AJ20: OK | AM20: =(N20+O20+P20)/(Q20*3600) -> 0.00018630752 | AN20: =((3600/I20)*U20)/(N20+O20+P20) -> 3600 | AO20: =(U20-T20)/U20 -> 1 | AP20: =AM20*AN20*AO20 -> 0.67070707 | AQ20: =((U20-T20)*(3600/I20))/(Q20*3600) -> 0.67070707
A21: M | B21: MORI SEIKI 3 axes | C21: =IFERROR(VLOOKUP(D21,[2]Pieces!A:B,2,0)," ") -> i004 | D21: Ecrou suspension- surfacage | E21: 0 | F21: 0 | G21: 0 | H21: 0 | I21: =IFERROR(VLOOKUP(D21,[2]Pieces!A:C,3,0),"") -> 54 | J21: 9 | K21: =(F21-E21)*J21 -> 0 | L21: =(G21-F21)*J21 -> 0 | M21: =(H21-G21)*J21 -> 0 | N21: =IF(I21="","",K21/I21) -> 0 | O21: =IF(I21="","",L21/I21) -> 0 | P21: =IF(I21="","",M21/I21) -> 0 | Q21: 9 | S21: =U21+T21-K21-L21-M21 -> 0 | U21: =(K21+L21+M21)-T21-V21 -> 0 | Z21: =IF(OR(I21="",I21=0),0,(U21+T21)/I21) -> 0 | AA21: =IF(OR(Q21=0,I21=0),"",Z21/Q21*100) -> 0 | AE21: =IF(AA21>85," ","WARNING") -> WARNING | AM21: =(N21+O21+P21)/(Q21*3600) -> 0 | AN21: =((3600/I21)*U21)/(N21+O21+P21) -> #DIV/0! | AO21: =(U21-T21)/U21 -> #DIV/0! | AP21: =AM21*AN21*AO21 -> #DIV/0! | AQ21: =((U21-T21)*(3600/I21))/(Q21*3600) -> 0
A22: N | B22: MORI SEIKI 5 axes | C22: =IFERROR(VLOOKUP(D22,[2]Pieces!A:B,2,0)," ") -> 601130 | D22: ECROU DE FUSEE + fraisage 5 pcs pignion | E22: 0 | F22: 0 | G22: 0 | H22: 0 | I22: =IFERROR(VLOOKUP(D22,[2]Pieces!A:C,3,0),"") -> 24 | J22: 5 | K22: =(F22-E22)*J22 -> 0 | L22: =(G22-F22)*J22 -> 0 | M22: =(H22-G22)*J22 -> 0 | N22: =IF(I22="","",K22/I22) -> 0 | O22: =IF(I22="","",L22/I22) -> 0 | P22: =IF(I22="","",M22/I22) -> 0 | Q22: 9 | S22: =U22+T22-K22-L22-M22 -> 0 | U22: =(K22+L22+M22)-T22-V22 -> 0 | Z22: =IF(OR(I22="",I22=0),0,(U22+T22)/I22) -> 0 | AA22: =IF(OR(Q22=0,I22=0),"",Z22/Q22*100) -> 0 | AE22: =IF(AA22>85," ","WARNING") -> WARNING | AM22: =(N22+O22+P22)/(Q22*3600) -> 0 | AN22: =((3600/I22)*U22)/(N22+O22+P22) -> #DIV/0! | AO22: =(U22-T22)/U22 -> #DIV/0! | AP22: =AM22*AN22*AO22 -> #DIV/0! | AQ22: =((U22-T22)*(3600/I22))/(Q22*3600) -> 0
A23: O | B23: HARDING | C23: =IFERROR(VLOOKUP(D23,[2]Pieces!A:B,2,0)," ") -> 480387-SF | D23: EVACUATION 2 EN3 SEMI FINI | E23: 104 | F23: 112 | G23: 112 | H23: 112 | I23: =IFERROR(VLOOKUP(D23,[2]Pieces!A:C,3,0),"") -> 25 | J23: 30 | K23: =(F23-E23)*J23 -> 240 | L23: =(G23-F23)*J23 -> 0 | M23: =(H23-G23)*J23 -> 0 | N23: =IF(I23="","",K23/I23) -> 9.6 | O23: =IF(I23="","",L23/I23) -> 0 | P23: =IF(I23="","",M23/I23) -> 0 | Q23: 9 | S23: =U23+T23-K23-L23-M23 -> 0 | U23: =(K23+L23+M23)-T23-V23 -> 240 | Z23: =IF(OR(I23="",I23=0),0,(U23+T23)/I23) -> 9.6 | AA23: =IF(OR(Q23=0,I23=0),"",Z23/Q23*100) -> 106.66667 | AC23: OK | AE23: =IF(AA23>85," ","WARNING") | AF23: OK | AG23: OK | AH23: OK | AI23: OK | AJ23: OK | AM23: =(N23+O23+P23)/(Q23*3600) -> 0.0002962963 | AN23: =((3600/I23)*U23)/(N23+O23+P23) -> 3600 | AO23: =(U23-T23)/U23 -> 1 | AP23: =AM23*AN23*AO23 -> 1.0666667 | AQ23: =((U23-T23)*(3600/I23))/(Q23*3600) -> 1.0666667
A24: O | B24: HARDING | C24: =IFERROR(VLOOKUP(D24,[2]Pieces!A:B,2,0)," ") -> 480387-PF | D24: EVACUATION 2/3G X-ONE-harding-taraudageM4+GAZ | E24: 104 | F24: 112 | G24: 112 | H24: 112 | I24: =IFERROR(VLOOKUP(D24,[2]Pieces!A:C,3,0),"") -> 40 | J24: 20 | K24: =(F24-E24)*J24 -> 160 | L24: =(G24-F24)*J24 -> 0 | M24: =(H24-G24)*J24 -> 0 | N24: =IF(I24="","",K24/I24) -> 4 | O24: =IF(I24="","",L24/I24) -> 0 | P24: =IF(I24="","",M24/I24) -> 0 | Q24: 9 | S24: =U24+T24-K24-L24-M24 -> 0 | U24: =(K24+L24+M24)-T24-V24 -> 160 | Z24: =IF(OR(I24="",I24=0),0,(U24+T24)/I24) -> 4 | AA24: =IF(OR(Q24=0,I24=0),"",Z24/Q24*100) -> 44.444444 | AC24: OK | AE24: =IF(AA24>85," ","WARNING") -> WARNING | AF24: OK | AG24: OK | AH24: OK | AI24: OK | AJ24: OK | AM24: =(N24+O24+P24)/(Q24*3600) -> 0.00012345679 | AN24: =((3600/I24)*U24)/(N24+O24+P24) -> 3600 | AO24: =(U24-T24)/U24 -> 1 | AP24: =AM24*AN24*AO24 -> 0.44444444 | AQ24: =((U24-T24)*(3600/I24))/(Q24*3600) -> 0.44444444
A25: P | B25: KITAMURA | C25: =IFERROR(VLOOKUP(D25,[2]Pieces!A:B,2,0)," ") -> 9751-fraise a fielter | D25: USINAGE BORNE CPF PROPREITAIRE -foret de forme d4+fraise a fielter | E25: 1183 | F25: 1298 | G25: 1298 | H25: 1298 | I25: =IFERROR(VLOOKUP(D25,[2]Pieces!A:C,3,0),"") -> 200 | J25: 12 | K25: =(F25-E25)*J25 -> 1380 | L25: =(G25-F25)*J25 -> 0 | M25: =(H25-G25)*J25 -> 0 | N25: =IF(I25="","",K25/I25) -> 6.9 | O25: =IF(I25="","",L25/I25) -> 0 | P25: =IF(I25="","",M25/I25) -> 0 | Q25: 15 | S25: =U25+T25-K25-L25-M25 -> 0 | U25: =(K25+L25+M25)-T25-V25 -> 1380 | Z25: =IF(OR(I25="",I25=0),0,(U25+T25)/I25) -> 6.9 | AA25: =IF(OR(Q25=0,I25=0),"",Z25/Q25*100) -> 46 | AC25: OK | AE25: =IF(AA25>85," ","WARNING") -> WARNING | AF25: OK | AG25: OK | AH25: OK | AI25: OK | AJ25: OK | AM25: =(N25+O25+P25)/(Q25*3600) -> 0.00012777778 | AN25: =((3600/I25)*U25)/(N25+O25+P25) -> 3600 | AO25: =(U25-T25)/U25 -> 1 | AP25: =AM25*AN25*AO25 -> 0.46 | AQ25: =((U25-T25)*(3600/I25))/(Q25*3600) -> 0.46
A26: Q | B26: NOUVEAU MACHINE P014 | C26: =IFERROR(VLOOKUP(D26,[2]Pieces!A:B,2,0)," ") -> 22*12*65 | D26: BAGUE GALVANISEE 22*12*65 | E26: 202 | F26: 202 | G26: 202 | H26: 202 | I26: =IFERROR(VLOOKUP(D26,[2]Pieces!A:C,3,0),"") -> 70 | J26: 1 | K26: =(F26-E26)*J26 -> 0 | L26: =(G26-F26)*J26 -> 0 | M26: =(H26-G26)*J26 -> 0 | N26: =IF(I26="","",K26/I26) -> 0 | O26: =IF(I26="","",L26/I26) -> 0 | P26: =IF(I26="","",M26/I26) -> 0 | Q26: 15 | S26: =U26+T26-K26-L26-M26 -> 0 | U26: =(K26+L26+M26)-T26-V26 -> 0 | Z26: =IF(OR(I26="",I26=0),0,(U26+T26)/I26) -> 0 | AA26: =IF(OR(Q26=0,I26=0),"",Z26/Q26*100) -> 0 | AE26: =IF(AA26>85," ","WARNING") -> WARNING | AM26: =(N26+O26+P26)/(Q26*3600) -> 0 | AN26: =((3600/I26)*U26)/(N26+O26+P26) -> #DIV/0! | AO26: =(U26-T26)/U26 -> #DIV/0! | AP26: =AM26*AN26*AO26 -> #DIV/0! | AQ26: =((U26-T26)*(3600/I26))/(Q26*3600) -> 0
A27: Q | B27: NOUVEAU MACHINE 32sk300 | C27: =IFERROR(VLOOKUP(D27,[2]Pieces!A:B,2,0)," ") -> TIGE M6+2ECROU | D27: TIGRE M6 AVEC 2 ECROUS | E27: 889 | F27: 1455 | G27: 1455 | H27: 1455 | I27: =IFERROR(VLOOKUP(D27,[2]Pieces!A:C,3,0),"") -> 120 | J27: 1 | K27: =(F27-E27)*J27 -> 566 | L27: =(G27-F27)*J27 -> 0 | M27: =(H27-G27)*J27 -> 0 | N27: =IF(I27="","",K27/I27) -> 4.7166667 | O27: =IF(I27="","",L27/I27) -> 0 | P27: =IF(I27="","",M27/I27) -> 0 | Q27: 15 | S27: =U27+T27-K27-L27-M27 -> 0 | U27: =(K27+L27+M27)-T27-V27 -> 566 | Z27: =IF(OR(I27="",I27=0),0,(U27+T27)/I27) -> 4.7166667 | AA27: =IF(OR(Q27=0,I27=0),"",Z27/Q27*100) -> 31.444444 | AE27: =IF(AA27>85," ","WARNING") -> WARNING | AM27: =(N27+O27+P27)/(Q27*3600) -> 8.7345679e-05 | AN27: =((3600/I27)*U27)/(N27+O27+P27) -> 3600 | AO27: =(U27-T27)/U27 -> 1 | AP27: =AM27*AN27*AO27 -> 0.31444444 | AQ27: =((U27-T27)*(3600/I27))/(Q27*3600) -> 0.31444444
S29: Taux de NC journalière | U29: =#REF!/#REF! -> #REF!
J33: Approbateur:
J34: Date:
J35: Visa:

Sheet 21-6-22
A1: 21-06-2022 | Z1: CODE: DAS-PRO-16
Z2: DATE:30/08/2019
Z3: VERSION:07
Z4: PAGE:1
A8: SYMBOLE | B8: MACHINE | C8: REF ARTICLE | D8: DESIGNATION | E8: COMPTEUR AUJOURD’HUI à 8h | F8: COMPTEUR HIER à 17H | G8: COMPTEUR HIER à 22H | H8: COMPTEUR AUJOURD’HUI à 8h | I8: CADENCE | J8: NOMBRE DE PIECES FINIS PAR CYCLE | K8: PIECES SUIVANT COMPTEU 8h-->17h | L8: PIECES SUIVANT COMPTEUR 17H-->22H | M8: PIECES SUIVANT COMPTEUR 6h-->8h | N8: NOMBRE D'HEURES DE TRAVAIL 8h-->17h | O8: NOMBRE D'HEURES DE TRAVAIL 17H-->22H | P8: NOMBRE D'HEURES DE TRAVAIL 6h-->8h | Q8: NOMBRE D'HEURES DE TRAVAIL | R8: OBSERVATIONS | S8: Pieces manquantes | T8: PIECES NC | U8: Pieces REELLES | V8: Nombre des pieces à retoucher | W8: Cause de la non-conformité | X8: Effet de la non-conformité | Y8: Machine pour retouche | Z8: NOMBRES D'HEURES SUIVANT LES PIECES REELLES | AA8: RENDEMENT | AB8: Maintenance | AC8: Affutage | AD8: Gamme d'usingae | AE8: ALERTES | AF8: enregitrement | AG8: Identification | AH8: Propreté des tables de contrôle | AI8: Rangement des outils de contrôle | AJ8: Existance de l'OF | AK8: Panne | AL8: gestion de modification | AM8: A | AN8: P | AO8: Q | AP8: OEE | AQ8: OEE
A9: A | B9: SST16 | C9: =IFERROR(VLOOKUP(D9,[2]Pieces!A:B,2,0)," ") -> BROCH L 180 | D9: BROCHE ACIER D13 ZINGUE L180 | E9: 0 | F9: 757 | G9: 944 | H9: 1080 | I9: =IFERROR(VLOOKUP(D9,[2]Pieces!A:C,3,0),"") -> 120 | J9: 1 | K9: =(F9-E9)*J9 -> 757 | L9: =(G9-F9)*J9 -> 187 | M9: =(H9-G9)*J9 -> 136 | N9: =IF(I9="","",K9/I9) -> 6.3083333 | O9: =IF(I9="","",L9/I9) -> 1.5583333 | P9: =IF(I9="","",M9/I9) -> 1.1333333 | Q9: 13 | S9: =U9+T9-K9-L9-M9 -> 0 | U9: =(K9+L9+M9)-T9-V9 -> 1080 | Z9: =IF(OR(I9="",I9=0),0,(U9+T9)/I9) -> 9 | AA9: =IF(OR(Q9=0,I9=0),"",Z9/Q9*100) -> 69.230769 | AE9: =IF(AA9>85," ","WARNING") -> WARNING | AM9: =(N9+O9+P9)/(Q9*3600) -> 0.00019230769 | AN9: =((3600/I9)*U9)/(N9+O9+P9) -> 3600 | AO9: =(U9-T9)/U9 -> 1 | AP9: =AM9*AN9*AO9 -> 0.69230769 | AQ9: =((U9-T9)*(3600/I9))/(Q9*3600) -> 0.69230769
A10: B | B10: SB16 | C10: =IFERROR(VLOOKUP(D10,[2]Pieces!A:B,2,0)," ") -> 68.1010 | D10: Buse droite à collerette Ø10 | E10: 14794 | F10: 15408 | G10: 15554 | H10: 15680 | I10: =IFERROR(VLOOKUP(D10,[2]Pieces!A:C,3,0),"") -> 80 | J10: 1 | K10: =(F10-E10)*J10 -> 614 | L10: =(G10-F10)*J10 -> 146 | M10: =(H10-G10)*J10 -> 126 | N10: =IF(I10="","",K10/I10) -> 7.675 | O10: =IF(I10="","",L10/I10) -> 1.825 | P10: =IF(I10="","",M10/I10) -> 1.575 | Q10: 13 | S10: =U10+T10-K10-L10-M10 -> 0 | U10: =(K10+L10+M10)-T10-V10 -> 886 | Z10: =IF(OR(I10="",I10=0),0,(U10+T10)/I10) -> 11.075 | AA10: =IF(OR(Q10=0,I10=0),"",Z10/Q10*100) -> 85.192308 | AE10: =IF(AA10>85," ","WARNING") | AM10: =(N10+O10+P10)/(Q10*3600) -> 0.0002366453 | AN10: =((3600/I10)*U10)/(N10+O10+P10) -> 3600 | AO10: =(U10-T10)/U10 -> 1 | AP10: =AM10*AN10*AO10 -> 0.85192308 | AQ10: =((U10-T10)*(3600/I10))/(Q10*3600) -> 0.85192308
A11: C | B11: BIGLIA 301 SM | C11: =IFERROR(VLOOKUP(D11,[2]Pieces!A:B,2,0)," ") -> TF48-57-I162-CP2 | D11: AXE JUMELLE-CP2 B301 | E11: 553 | F11: 850 | G11: 925 | H11: 994 | I11: =IFERROR(VLOOKUP(D11,[2]Pieces!A:C,3,0),"") -> 40 | J11: 1 | K11: =(F11-E11)*J11 -> 297 | L11: =(G11-F11)*J11 -> 75 | M11: =(H11-G11)*J11 -> 69 | N11: =IF(I11="","",K11/I11) -> 7.425 | O11: =IF(I11="","",L11/I11) -> 1.875 | P11: =IF(I11="","",M11/I11) -> 1.725 | Q11: 13 | R11: DIAMETRE HORS MAXI | S11: =U11+T11-K11-L11-M11 -> 0 | T11: 13 | U11: =(K11+L11+M11)-T11-V11 -> 428 | Z11: =IF(OR(I11="",I11=0),0,(U11+T11)/I11) -> 11.025 | AA11: =IF(OR(Q11=0,I11=0),"",Z11/Q11*100) -> 84.807692 | AE11: =IF(AA11>85," ","WARNING") -> WARNING | AM11: =(N11+O11+P11)/(Q11*3600) -> 0.00023557692 | AN11: =((3600/I11)*U11)/(N11+O11+P11) -> 3493.8776 | AO11: =(U11-T11)/U11 -> 0.96962617 | AP11: =AM11*AN11*AO11 -> 0.79807692 | AQ11: =((U11-T11)*(3600/I11))/(Q11*3600) -> 0.79807692
A12: D | B12: BIGLIA 42 S2M bitourelle | C12: =IFERROR(VLOOKUP(D12,[2]Pieces!A:B,2,0)," ") -> M001-CP1 | D12: BOULON CENTRE AR OM40 | E12: 0 | F12: 141 | G12: 141 | H12: 153 | I12: =IFERROR(VLOOKUP(D12,[2]Pieces!A:C,3,0),"") -> 25 | J12: 1 | K12: =(F12-E12)*J12 -> 141 | L12: =(G12-F12)*J12 -> 0 | M12: =(H12-G12)*J12 -> 12 | N12: =IF(I12="","",K12/I12) -> 5.64 | O12: =IF(I12="","",L12/I12) -> 0 | P12: =IF(I12="","",M12/I12) -> 0.48 | Q12: 10 | S12: =U12+T12-K12-L12-M12 -> 0 | U12: =(K12+L12+M12)-T12-V12 -> 153 | Z12: =IF(OR(I12="",I12=0),0,(U12+T12)/I12) -> 6.12 | AA12: =IF(OR(Q12=0,I12=0),"",Z12/Q12*100) -> 61.2 | AE12: =IF(AA12>85," ","WARNING") -> WARNING | AM12: =(N12+O12+P12)/(Q12*3600) -> 0.00017 | AN12: =((3600/I12)*U12)/(N12+O12+P12) -> 3600 | AO12: =(U12-T12)/U12 -> 1 | AP12: =AM12*AN12*AO12 -> 0.612 | AQ12: =((U12-T12)*(3600/I12))/(Q12*3600) -> 0.612
A13: E | B13: L32 | C13: =IFERROR(VLOOKUP(D13,[2]Pieces!A:B,2,0)," ") -> 2018101-01-02 | D13: AXE FEMELLE M8*50 L32 | E13: 0 | F13: 238 | G13: 321 | H13: 397 | I13: =IFERROR(VLOOKUP(D13,[2]Pieces!A:C,3,0),"") -> 45 | J13: 1 | K13: =(F13-E13)*J13 -> 238 | L13: =(G13-F13)*J13 -> 83 | M13: =(H13-G13)*J13 -> 76 | N13: =IF(I13="","",K13/I13) -> 5.2888889 | O13: =IF(I13="","",L13/I13) -> 1.8444444 | P13: =IF(I13="","",M13/I13) -> 1.6888889 | Q13: 13 | S13: =U13+T13-K13-L13-M13 -> 0 | U13: =(K13+L13+M13)-T13-V13 -> 397 | Z13: =IF(OR(I13="",I13=0),0,(U13+T13)/I13) -> 8.8222222 | AA13: =IF(OR(Q13=0,I13=0),"",Z13/Q13*100) -> 67.863248 | AE13: =IF(AA13>85," ","WARNING") -> WARNING | AM13: =(N13+O13+P13)/(Q13*3600) -> 0.00018850902 | AN13: =((3600/I13)*U13)/(N13+O13+P13) -> 3600 | AO13: =(U13-T13)/U13 -> 1 | AP13: =AM13*AN13*AO13 -> 0.67863248 | AQ13: =((U13-T13)*(3600/I13))/(Q13*3600) -> 0.67863248
A14: F | B14: TSUGAMI | C14: =IFERROR(VLOOKUP(D14,[2]Pieces!A:B,2,0)," ") -> - | D14: Arrêt | E14: 0 | F14: 0 | G14: 0 | H14: 0 | I14: =IFERROR(VLOOKUP(D14,[2]Pieces!A:C,3,0),"") -> 1 | J14: 1 | K14: =(F14-E14)*J14 -> 0 | L14: =(G14-F14)*J14 -> 0 | M14: =(H14-G14)*J14 -> 0 | N14: =IF(I14="","",K14/I14) -> 0 | O14: =IF(I14="","",L14/I14) -> 0 | P14: =IF(I14="","",M14/I14) -> 0 | Q14: 13 | S14: =U14+T14-K14-L14-M14 -> 0 | U14: =(K14+L14+M14)-T14-V14 -> 0 | Z14: =IF(OR(I14="",I14=0),0,(U14+T14)/I14) -> 0 | AA14: =IF(OR(Q14=0,I14=0),"",Z14/Q14*100) -> 0 | AE14: =IF(AA14>85," ","WARNING") -> WARNING | AM14: =(N14+O14+P14)/(Q14*3600) -> 0 | AN14: =((3600/I14)*U14)/(N14+O14+P14) -> #DIV/0! | AO14: =(U14-T14)/U14 -> #DIV/0! | AP14: =AM14*AN14*AO14 -> #DIV/0! | AQ14: =((U14-T14)*(3600/I14))/(Q14*3600) -> 0
A15: G | B15: Tour STAR SV-32-J | C15: =IFERROR(VLOOKUP(D15,[2]Pieces!A:B,2,0)," ") -> 68.0815 | D15: BUSE A DROITE D8 M445 maj 07-06-2022 | E15: 40980 | F15: 41409 | G15: 41489 | H15: 41570 | I15: =IFERROR(VLOOKUP(D15,[2]Pieces!A:C,3,0),"") -> 56 | J15: 1 | K15: =(F15-E15)*J15 -> 429 | L15: =(G15-F15)*J15 -> 80 | M15: =(H15-G15)*J15 -> 81 | N15: =IF(I15="","",K15/I15) -> 7.6607143 | O15: =IF(I15="","",L15/I15) -> 1.4285714 | P15: =IF(I15="","",M15/I15) -> 1.4464286 | Q15: 13 | S15: =U15+T15-K15-L15-M15 -> 0 | U15: =(K15+L15+M15)-T15-V15 -> 590 | Z15: =IF(OR(I15="",I15=0),0,(U15+T15)/I15) -> 10.535714 | AA15: =IF(OR(Q15=0,I15=0),"",Z15/Q15*100) -> 81.043956 | AE15: =IF(AA15>85," ","WARNING") -> WARNING | AM15: =(N15+O15+P15)/(Q15*3600) -> 0.0002251221 | AN15: =((3600/I15)*U15)/(N15+O15+P15) -> 3600 | AO15: =(U15-T15)/U15 -> 1 | AP15: =AM15*AN15*AO15 -> 0.81043956 | AQ15: =((U15-T15)*(3600/I15))/(Q15*3600) -> 0.81043956
A16: H | B16: Tour CNC STAR SB avec embarreur LNS Express 220 | C16: =IFERROR(VLOOKUP(D16,[2]Pieces!A:B,2,0)," ") -> 1740 | D16: VIS ALLUM M10 | E16: 0 | F16: 0 | G16: 0 | H16: 0 | I16: =IFERROR(VLOOKUP(D16,[2]Pieces!A:C,3,0),"") -> 36 | J16: 1 | K16: =(F16-E16)*J16 -> 0 | L16: =(G16-F16)*J16 -> 0 | M16: =(H16-G16)*J16 -> 0 | N16: =IF(I16="","",K16/I16) -> 0 | O16: =IF(I16="","",L16/I16) -> 0 | P16: =IF(I16="","",M16/I16) -> 0 | Q16: 13 | S16: =U16+T16-K16-L16-M16 -> 0 | U16: =(K16+L16+M16)-T16-V16 -> 0 | Z16: =IF(OR(I16="",I16=0),0,(U16+T16)/I16) -> 0 | AA16: =IF(OR(Q16=0,I16=0),"",Z16/Q16*100) -> 0 | AE16: =IF(AA16>85," ","WARNING") -> WARNING | AM16: =(N16+O16+P16)/(Q16*3600) -> 0 | AN16: =((3600/I16)*U16)/(N16+O16+P16) -> #DIV/0! | AO16: =(U16-T16)/U16 -> #DIV/0! | AP16: =AM16*AN16*AO16 -> #DIV/0! | AQ16: =((U16-T16)*(3600/I16))/(Q16*3600) -> 0
A17: I | B17: MULTIBROCHE | C17: =IFERROR(VLOOKUP(D17,[2]Pieces!A:B,2,0)," ") -> MPS000300 | D17: raccord HEX 17 | E17: 0 | F17: 0 | G17: 0 | H17: 0 | I17: =IFERROR(VLOOKUP(D17,[2]Pieces!A:C,3,0),"") -> 500 | J17: 1 | K17: =(F17-E17)*J17 -> 0 | L17: =(G17-F17)*J17 -> 0 | M17: =(H17-G17)*J17 -> 0 | N17: =IF(I17="","",K17/I17) -> 0 | O17: =IF(I17="","",L17/I17) -> 0 | P17: =IF(I17="","",M17/I17) -> 0 | Q17: 13 | S17: =U17+T17-K17-L17-M17 -> 0 | U17: =(K17+L17+M17)-T17-V17 -> 0 | Z17: =IF(OR(I17="",I17=0),0,(U17+T17)/I17) -> 0 | AA17: =IF(OR(Q17=0,I17=0),"",Z17/Q17*100) -> 0 | AE17: =IF(AA17>85," ","WARNING") -> WARNING | AM17: =(N17+O17+P17)/(Q17*3600) -> 0 | AN17: =((3600/I17)*U17)/(N17+O17+P17) -> #DIV/0! | AO17: =(U17-T17)/U17 -> #DIV/0! | AP17: =AM17*AN17*AO17 -> #DIV/0! | AQ17: =((U17-T17)*(3600/I17))/(Q17*3600) -> 0
A18: J | B18: Tour CNC WEILER UD 24 - 100 | C18: =IFERROR(VLOOKUP(D18,[2]Pieces!A:B,2,0)," ") -> 0-4180 | D18: ANNEAU FX 25,2*32*21-CHUTES MJ | E18: 0 | F18: 0 | G18: 0 | H18: 0 | I18: =IFERROR(VLOOKUP(D18,[2]Pieces!A:C,3,0),"") -> 50 | J18: 1 | K18: =(F18-E18)*J18 -> 0 | L18: =(G18-F18)*J18 -> 0 | M18: =(H18-G18)*J18 -> 0 | N18: =IF(I18="","",K18/I18) -> 0 | O18: =IF(I18="","",L18/I18) -> 0 | P18: =IF(I18="","",M18/I18) -> 0 | Q18: 9 | S18: =U18+T18-K18-L18-M18 -> 0 | U18: =(K18+L18+M18)-T18-V18 -> 0 | Z18: =IF(OR(I18="",I18=0),0,(U18+T18)/I18) -> 0 | AA18: =IF(OR(Q18=0,I18=0),"",Z18/Q18*100) -> 0 | AE18: =IF(AA18>85," ","WARNING") -> WARNING | AM18: =(N18+O18+P18)/(Q18*3600) -> 0 | AN18: =((3600/I18)*U18)/(N18+O18+P18) -> #DIV/0! | AO18: =(U18-T18)/U18 -> #DIV/0! | AP18: =AM18*AN18*AO18 -> #DIV/0! | AQ18: =((U18-T18)*(3600/I18))/(Q18*3600) -> 0
A19: K | B19: TOUR WEILER | C19: =IFERROR(VLOOKUP(D19,[2]Pieces!A:B,2,0)," ") -> 4-7009-1 | D19: BAGUE DECOLLETE | E19: 560 | F19: 815 | G19: 815 | H19: 815 | I19: =IFERROR(VLOOKUP(D19,[2]Pieces!A:C,3,0),"") -> 45 | J19: 1 | K19: =(F19-E19)*J19 -> 255 | L19: =(G19-F19)*J19 -> 0 | M19: =(H19-G19)*J19 -> 0 | N19: =IF(I19="","",K19/I19) -> 5.6666667 | O19: =IF(I19="","",L19/I19) -> 0 | P19: =IF(I19="","",M19/I19) -> 0 | Q19: 9 | S19: =U19+T19-K19-L19-M19 -> 0 | U19: =(K19+L19+M19)-T19-V19 -> 255 | Z19: =IF(OR(I19="",I19=0),0,(U19+T19)/I19) -> 5.6666667 | AA19: =IF(OR(Q19=0,I19=0),"",Z19/Q19*100) -> 62.962963 | AE19: =IF(AA19>85," ","WARNING") -> WARNING | AM19: =(N19+O19+P19)/(Q19*3600) -> 0.00017489712 | AN19: =((3600/I19)*U19)/(N19+O19+P19) -> 3600 | AO19: =(U19-T19)/U19 -> 1 | AP19: =AM19*AN19*AO19 -> 0.62962963 | AQ19: =((U19-T19)*(3600/I19))/(Q19*3600) -> 0.62962963
A20: L | B20: NAKAMURA | C20: =IFERROR(VLOOKUP(D20,[2]Pieces!A:B,2,0)," ") -> 4-8103 | D20: ANNEAU BRUTE AVEC CHANF INT 40*50*28 | E20: 0 | F20: 95 | G20: 95 | H20: 95 | I20: =IFERROR(VLOOKUP(D20,[2]Pieces!A:C,3,0),"") -> 55 | J20: 1 | K20: =(F20-E20)*J20 -> 95 | L20: =(G20-F20)*J20 -> 0 | M20: =(H20-G20)*J20 -> 0 | N20: =IF(I20="","",K20/I20) -> 1.7272727 | O20: =IF(I20="","",L20/I20) -> 0 | P20: =IF(I20="","",M20/I20) -> 0 | Q20: 9 | S20: =U20+T20-K20-L20-M20 -> 0 | U20: =(K20+L20+M20)-T20-V20 -> 95 | Z20: =IF(OR(I20="",I20=0),0,(U20+T20)/I20) -> 1.7272727 | AA20: =IF(OR(Q20=0,I20=0),"",Z20/Q20*100) -> 19.191919 | AE20: =IF(AA20>85," ","WARNING") -> WARNING | AM20: =(N20+O20+P20)/(Q20*3600) -> 5.3310887e-05 | AN20: =((3600/I20)*U20)/(N20+O20+P20) -> 3600 | AO20: =(U20-T20)/U20 -> 1 | AP20: =AM20*AN20*AO20 -> 0.19191919 | AQ20: =((U20-T20)*(3600/I20))/(Q20*3600) -> 0.19191919
A21: M | B21: MORI SEIKI 3 axes | C21: =IFERROR(VLOOKUP(D21,[2]Pieces!A:B,2,0)," ") -> i004 | D21: Ecrou suspension- surfacage | E21: 0 | F21: 0 | G21: 0 | H21: 0 | I21: =IFERROR(VLOOKUP(D21,[2]Pieces!A:C,3,0),"") -> 54 | J21: 9 | K21: =(F21-E21)*J21 -> 0 | L21: =(G21-F21)*J21 -> 0 | M21: =(H21-G21)*J21 -> 0 | N21: =IF(I21="","",K21/I21) -> 0 | O21: =IF(I21="","",L21/I21) -> 0 | P21: =IF(I21="","",M21/I21) -> 0 | Q21: 9 | S21: =U21+T21-K21-L21-M21 -> 0 | U21: =(K21+L21+M21)-T21-V21 -> 0 | Z21: =IF(OR(I21="",I21=0),0,(U21+T21)/I21) -> 0 | AA21: =IF(OR(Q21=0,I21=0),"",Z21/Q21*100) -> 0 | AE21: =IF(AA21>85," ","WARNING") -> WARNING | AM21: =(N21+O21+P21)/(Q21*3600) -> 0 | AN21: =((3600/I21)*U21)/(N21+O21+P21) -> #DIV/0! | AO21: =(U21-T21)/U21 -> #DIV/0! | AP21: =AM21*AN21*AO21 -> #DIV/0! | AQ21: =((U21-T21)*(3600/I21))/(Q21*3600) -> 0
A22: N | B22: MORI SEIKI 5 axes | C22: =IFERROR(VLOOKUP(D22,[2]Pieces!A:B,2,0)," ") -> 601130 | D22: ECROU DE FUSEE + fraisage 5 pcs pignion | E22: 0 | F22: 0 | G22: 0 | H22: 0 | I22: =IFERROR(VLOOKUP(D22,[2]Pieces!A:C,3,0),"") -> 24 | J22: 5 | K22: =(F22-E22)*J22 -> 0 | L22: =(G22-F22)*J22 -> 0 | M22: =(H22-G22)*J22 -> 0 | N22: =IF(I22="","",K22/I22) -> 0 | O22: =IF(I22="","",L22/I22) -> 0 | P22: =IF(I22="","",M22/I22) -> 0 | Q22: 9 | S22: =U22+T22-K22-L22-M22 -> 0 | U22: =(K22+L22+M22)-T22-V22 -> 0 | Z22: =IF(OR(I22="",I22=0),0,(U22+T22)/I22) -> 0 | AA22: =IF(OR(Q22=0,I22=0),"",Z22/Q22*100) -> 0 | AE22: =IF(AA22>85," ","WARNING") -> WARNING | AM22: =(N22+O22+P22)/(Q22*3600) -> 0 | AN22: =((3600/I22)*U22)/(N22+O22+P22) -> #DIV/0! | AO22: =(U22-T22)/U22 -> #DIV/0! | AP22: =AM22*AN22*AO22 -> #DIV/0! | AQ22: =((U22-T22)*(3600/I22))/(Q22*3600) -> 0
A23: O | B23: HARDING | C23: =IFERROR(VLOOKUP(D23,[2]Pieces!A:B,2,0)," ") -> 480387-SF | D23: EVACUATION 2 EN3 SEMI FINI | E23: 96 | F23: 104 | G23: 104 | H23: 104 | I23: =IFERROR(VLOOKUP(D23,[2]Pieces!A:C,3,0),"") -> 25 | J23: 30 | K23: =(F23-E23)*J23 -> 240 | L23: =(G23-F23)*J23 -> 0 | M23: =(H23-G23)*J23 -> 0 | N23: =IF(I23="","",K23/I23) -> 9.6 | O23: =IF(I23="","",L23/I23) -> 0 | P23: =IF(I23="","",M23/I23) -> 0 | Q23: 9 | S23: =U23+T23-K23-L23-M23 -> 0 | U23: =(K23+L23+M23)-T23-V23 -> 240 | Z23: =IF(OR(I23="",I23=0),0,(U23+T23)/I23) -> 9.6 | AA23: =IF(OR(Q23=0,I23=0),"",Z23/Q23*100) -> 106.66667 | AE23: =IF(AA23>85," ","WARNING") | AM23: =(N23+O23+P23)/(Q23*3600) -> 0.0002962963 | AN23: =((3600/I23)*U23)/(N23+O23+P23) -> 3600 | AO23: =(U23-T23)/U23 -> 1 | AP23: =AM23*AN23*AO23 -> 1.0666667 | AQ23: =((U23-T23)*(3600/I23))/(Q23*3600) -> 1.0666667
... A27: Q | B27: NOUVEAU MACHINE 32sk300 | C27: =IFERROR(VLOOKUP(D27,[2]Pieces!A:B,2,0)," ") -> TIGE M6+2ECROU | D27: TIGRE M6 AVEC 2 ECROUS | E27: 314 | F27: 889 | G27: 889 | H27: 889 | I27: =IFERROR(VLOOKUP(D27,[2]Pieces!A:C,3,0),"") -> 120 | J27: 1 | K27: =(F27-E27)*J27 -> 575 | L27: =(G27-F27)*J27 -> 0 | M27: =(H27-G27)*J27 -> 0 | N27: =IF(I27="","",K27/I27) -> 4.7916667 | O27: =IF(I27="","",L27/I27) -> 0 | P27: =IF(I27="","",M27/I27) -> 0 | Q27: 9 | S27: =U27+T27-K27-L27-M27 -> 0 | U27: =(K27+L27+M27)-T27-V27 -> 575 | Z27: =IF(OR(I27="",I27=0),0,(U27+T27)/I27) -> 4.7916667 | AA27: =IF(OR(Q27=0,I27=0),"",Z27/Q27*100) -> 53.240741 | AE27: =IF(AA27>85," ","WARNING") -> WARNING | AM27: =(N27+O27+P27)/(Q27*3600) -> 0.00014789095 | AN27: =((3600/I27)*U27)/(N27+O27+P27) -> 3600 | AO27: =(U27-T27)/U27 -> 1 | AP27: =AM27*AN27*AO27 -> 0.53240741 | AQ27: =((U27-T27)*(3600/I27))/(Q27*3600) -> 0.53240741
S29: Taux de NC journalière | U29: =#REF!/#REF! -> #REF!
J33: Approbateur:
J34: Date:
J35: Visa:

Sheet 20-6-22
A1: 20-06-2022 | Z1: CODE: DAS-PRO-16
Z2: DATE:30/08/2019
Z3: VERSION:07
Z4: PAGE:1
A8: SYMBOLE | B8: MACHINE | C8: REF ARTICLE | D8: DESIGNATION | E8: COMPTEUR AUJOURD’HUI à 8h | F8: COMPTEUR HIER à 17H | G8: COMPTEUR HIER à 22H | H8: COMPTEUR AUJOURD’HUI à 8h | I8: CADENCE | J8: NOMBRE DE PIECES FINIS PAR CYCLE | K8: PIECES SUIVANT COMPTEU 8h-->17h | L8: PIECES SUIVANT COMPTEUR 17H-->22H | M8: PIECES SUIVANT COMPTEUR 6h-->8h | N8: NOMBRE D'HEURES DE TRAVAIL 8h-->17h | O8: NOMBRE D'HEURES DE TRAVAIL 17H-->22H | P8: NOMBRE D'HEURES DE TRAVAIL 6h-->8h | Q8: NOMBRE D'HEURES DE TRAVAIL | R8: OBSERVATIONS | S8: Pieces manquantes | T8: PIECES NC | U8: Pieces REELLES | V8: Nombre des pieces à retoucher | W8: Cause de la non-conformité | X8: Effet de la non-conformité | Y8: Machine pour retouche | Z8: NOMBRES D'HEURES SUIVANT LES PIECES REELLES | AA8: RENDEMENT | AB8: Maintenance | AC8: Affutage | AD8: Gamme d'usingae | AE8: ALERTES | AF8: enregitrement | AG8: Identification | AH8: Propreté des tables de contrôle | AI8: Rangement des outils de contrôle | AJ8: Existance de l'OF | AK8: Panne | AL8: gestion de modification | AM8: A | AN8: P | AO8: Q | AP8: OEE | AQ8: OEE
A9: A | B9: SST16 | C9: =IFERROR(VLOOKUP(D9,[2]Pieces!A:B,2,0)," ") -> BROCH L230 | D9: BROCHE ACIER D13 ZINGUE L230 20-06-2022 | E9: 473 | F9: 1057 | G9: 1182 | H9: 1313 | I9: =IFERROR(VLOOKUP(D9,[2]Pieces!A:C,3,0),"") -> 112 | J9: 1 | K9: =(F9-E9)*J9 -> 584 | L9: =(G9-F9)*J9 -> 125 | M9: =(H9-G9)*J9 -> 131 | N9: =IF(I9="","",K9/I9) -> 5.2142857 | O9: =IF(I9="","",L9/I9) -> 1.1160714 | P9: =IF(I9="","",M9/I9) -> 1.1696429 | Q9: 13 | S9: =U9+T9-K9-L9-M9 -> 0 | U9: =(K9+L9+M9)-T9-V9 -> 840 | Z9: =IF(OR(I9="",I9=0),0,(U9+T9)/I9) -> 7.5 | AA9: =IF(OR(Q9=0,I9=0),"",Z9/Q9*100) -> 57.692308 | AE9: =IF(AA9>85," ","WARNING") -> WARNING | AM9: =(N9+O9+P9)/(Q9*3600) -> 0.00016025641 | AN9: =((3600/I9)*U9)/(N9+O9+P9) -> 3600 | AO9: =(U9-T9)/U9 -> 1 | AP9: =AM9*AN9*AO9 -> 0.57692308 | AQ9: =((U9-T9)*(3600/I9))/(Q9*3600) -> 0.57692308
A10: B | B10: SB16 | C10: =IFERROR(VLOOKUP(D10,[2]Pieces!A:B,2,0)," ") -> 68.1010 | D10: Buse droite à collerette Ø10 | E10: 13826 | F10: 14526 | G10: 14672 | H10: 14794 | I10: =IFERROR(VLOOKUP(D10,[2]Pieces!A:C,3,0),"") -> 80 | J10: 1 | K10: =(F10-E10)*J10 -> 700 | L10: =(G10-F10)*J10 -> 146 | M10: =(H10-G10)*J10 -> 122 | N10: =IF(I10="","",K10/I10) -> 8.75 | O10: =IF(I10="","",L10/I10) -> 1.825 | P10: =IF(I10="","",M10/I10) -> 1.525 | Q10: 13 | S10: =U10+T10-K10-L10-M10 -> 0 | U10: =(K10+L10+M10)-T10-V10 -> 968 | Z10: =IF(OR(I10="",I10=0),0,(U10+T10)/I10) -> 12.1 | AA10: =IF(OR(Q10=0,I10=0),"",Z10/Q10*100) -> 93.076923 | AE10: =IF(AA10>85," ","WARNING") | AM10: =(N10+O10+P10)/(Q10*3600) -> 0.00025854701 | AN10: =((3600/I10)*U10)/(N10+O10+P10) -> 3600 | AO10: =(U10-T10)/U10 -> 1 | AP10: =AM10*AN10*AO10 -> 0.93076923 | AQ10: =((U10-T10)*(3600/I10))/(Q10*3600) -> 0.93076923
A11: C | B11: BIGLIA 301 SM | C11: =IFERROR(VLOOKUP(D11,[2]Pieces!A:B,2,0)," ") -> TF48-57-I162-CP2 | D11: AXE JUMELLE-CP2 B301 | E11: 157 | F11: 448 | G11: 500 | H11: 553 | I11: =IFERROR(VLOOKUP(D11,[2]Pieces!A:C,3,0),"") -> 40 | J11: 1 | K11: =(F11-E11)*J11 -> 291 | L11: =(G11-F11)*J11 -> 52 | M11: =(H11-G11)*J11 -> 53 | N11: =IF(I11="","",K11/I11) -> 7.275 | O11: =IF(I11="","",L11/I11) -> 1.3 | P11: =IF(I11="","",M11/I11) -> 1.325 | Q11: 13 | S11: =U11+T11-K11-L11-M11 -> 0 | T11: 6 | U11: =(K11+L11+M11)-T11-V11 -> 390 | Z11: =IF(OR(I11="",I11=0),0,(U11+T11)/I11) -> 9.9 | AA11: =IF(OR(Q11=0,I11=0),"",Z11/Q11*100) -> 76.153846 | AE11: =IF(AA11>85," ","WARNING") -> WARNING | AM11: =(N11+O11+P11)/(Q11*3600) -> 0.00021153846 | AN11: =((3600/I11)*U11)/(N11+O11+P11) -> 3545.4545 | AO11: =(U11-T11)/U11 -> 0.98461538 | AP11: =AM11*AN11*AO11 -> 0.73846154 | AQ11: =((U11-T11)*(3600/I11))/(Q11*3600) -> 0.73846154
A12: D | B12: BIGLIA 42 S2M bitourelle | C12: =IFERROR(VLOOKUP(D12,[2]Pieces!A:B,2,0)," ") -> B001-CP1/chutes | D12: BOULON D'ASSEMBLAGE 404-PAR CHUTES D16.2 | E12: 1347 | F12: 1379 | G12: 1379 | H12: 1379 | I12: =IFERROR(VLOOKUP(D12,[2]Pieces!A:C,3,0),"") -> 35 | J12: 1 | K12: =(F12-E12)*J12 -> 32 | L12: =(G12-F12)*J12 -> 0 | M12: =(H12-G12)*J12 -> 0 | N12: =IF(I12="","",K12/I12) -> 0.91428571 | O12: =IF(I12="","",L12/I12) -> 0 | P12: =IF(I12="","",M12/I12) -> 0 | Q12: 13 | S12: =U12+T12-K12-L12-M12 -> 0 | U12: =(K12+L12+M12)-T12-V12 -> 32 | Z12: =IF(OR(I12="",I12=0),0,(U12+T12)/I12) -> 0.91428571 | AA12: =IF(OR(Q12=0,I12=0),"",Z12/Q12*100) -> 7.032967 | AE12: =IF(AA12>85," ","WARNING") -> WARNING | AM12: =(N12+O12+P12)/(Q12*3600) -> 1.953602e-05 | AN12: =((3600/I12)*U12)/(N12+O12+P12) -> 3600 | AO12: =(U12-T12)/U12 -> 1 | AP12: =AM12*AN12*AO12 -> 0.07032967 | AQ12: =((U12-T12)*(3600/I12))/(Q12*3600) -> 0.07032967
A13: E | B13: L32 | C13: =IFERROR(VLOOKUP(D13,[2]Pieces!A:B,2,0)," ") -> 2018130 | D13: AXE MALE L=100 - juin 2022 | E13: 500 | F13: 500 | G13: 500 | H13: 500 | I13: =IFERROR(VLOOKUP(D13,[2]Pieces!A:C,3,0),"") -> 22 | J13: 1 | K13: =(F13-E13)*J13 -> 0 | L13: =(G13-F13)*J13 -> 0 | M13: =(H13-G13)*J13 -> 0 | N13: =IF(I13="","",K13/I13) -> 0 | O13: =IF(I13="","",L13/I13) -> 0 | P13: =IF(I13="","",M13/I13) -> 0 | Q13: 13 | S13: =U13+T13-K13-L13-M13 -> 0 | U13: =(K13+L13+M13)-T13-V13 -> 0 | Z13: =IF(OR(I13="",I13=0),0,(U13+T13)/I13) -> 0 | AA13: =IF(OR(Q13=0,I13=0),"",Z13/Q13*100) -> 0 | AE13: =IF(AA13>85," ","WARNING") -> WARNING | AM13: =(N13+O13+P13)/(Q13*3600) -> 0 | AN13: =((3600/I13)*U13)/(N13+O13+P13) -> #DIV/0! | AO13: =(U13-T13)/U13 -> #DIV/0! | AP13: =AM13*AN13*AO13 -> #DIV/0! | AQ13: =((U13-T13)*(3600/I13))/(Q13*3600) -> 0
A14: F | B14: TSUGAMI | C14: =IFERROR(VLOOKUP(D14,[2]Pieces!A:B,2,0)," ") -> - | D14: Arrêt | E14: 0 | F14: 0 | G14: 0 | H14: 0 | I14: =IFERROR(VLOOKUP(D14,[2]Pieces!A:C,3,0),"") -> 1 | J14: 1 | K14: =(F14-E14)*J14 -> 0 | L14: =(G14-F14)*J14 -> 0 | M14: =(H14-G14)*J14 -> 0 | N14: =IF(I14="","",K14/I14) -> 0 | O14: =IF(I14="","",L14/I14) -> 0 | P14: =IF(I14="","",M14/I14) -> 0 | Q14: 13 | S14: =U14+T14-K14-L14-M14 -> 0 | U14: =(K14+L14+M14)-T14-V14 -> 0 | Z14: =IF(OR(I14="",I14=0),0,(U14+T14)/I14) -> 0 | AA14: =IF(OR(Q14=0,I14=0),"",Z14/Q14*100) -> 0 | AE14: =IF(AA14>85," ","WARNING") -> WARNING | AM14: =(N14+O14+P14)/(Q14*3600) -> 0 | AN14: =((3600/I14)*U14)/(N14+O14+P14) -> #DIV/0! | AO14: =(U14-T14)/U14 -> #DIV/0! | AP14: =AM14*AN14*AO14 -> #DIV/0! | AQ14: =((U14-T14)*(3600/I14))/(Q14*3600) -> 0
A15: G | B15: Tour STAR SV-32-J | C15: =IFERROR(VLOOKUP(D15,[2]Pieces!A:B,2,0)," ") -> 68.0815 | D15: BUSE A DROITE D8 M445 maj 07-06-2022 | E15: 40350 | F15: 40807 | G15: 40890 | H15: 40980 | I15: =IFERROR(VLOOKUP(D15,[2]Pieces!A:C,3,0),"") -> 56 | J15: 1 | K15: =(F15-E15)*J15 -> 457 | L15: =(G15-F15)*J15 -> 83 | M15: =(H15-G15)*J15 -> 90 | N15: =IF(I15="","",K15/I15) -> 8.1607143 | O15: =IF(I15="","",L15/I15) -> 1.4821429 | P15: =IF(I15="","",M15/I15) -> 1.6071429 | Q15: 13 | S15: =U15+T15-K15-L15-M15 -> 0 | U15: =(K15+L15+M15)-T15-V15 -> 630 | Z15: =IF(OR(I15="",I15=0),0,(U15+T15)/I15) -> 11.25 | AA15: =IF(OR(Q15=0,I15=0),"",Z15/Q15*100) -> 86.538462 | AE15: =IF(AA15>85," ","WARNING") | AM15: =(N15+O15+P15)/(Q15*3600) -> 0.00024038462 | AN15: =((3600/I15)*U15)/(N15+O15+P15) -> 3600 | AO15: =(U15-T15)/U15 -> 1 | AP15: =AM15*AN15*AO15 -> 0.86538462 | AQ15: =((U15-T15)*(3600/I15))/(Q15*3600) -> 0.86538462
A16: H | B16: Tour CNC STAR SB avec embarreur LNS Express 220 | C16: =IFERROR(VLOOKUP(D16,[2]Pieces!A:B,2,0)," ") -> 1740 | D16: VIS ALLUM M10 | E16: 0 | F16: 0 | G16: 0 | H16: 0 | I16: =IFERROR(VLOOKUP(D16,[2]Pieces!A:C,3,0),"") -> 36 | J16: 1 | K16: =(F16-E16)*J16 -> 0 | L16: =(G16-F16)*J16 -> 0 | M16: =(H16-G16)*J16 -> 0 | N16: =IF(I16="","",K16/I16) -> 0 | O16: =IF(I16="","",L16/I16) -> 0 | P16: =IF(I16="","",M16/I16) -> 0 | Q16: 13 | S16: =U16+T16-K16-L16-M16 -> 0 | U16: =(K16+L16+M16)-T16-V16 -> 0 | Z16: =IF(OR(I16="",I16=0),0,(U16+T16)/I16) -> 0 | AA16: =IF(OR(Q16=0,I16=0),"",Z16/Q16*100) -> 0 | AE16: =IF(AA16>85," ","WARNING") -> WARNING | AM16: =(N16+O16+P16)/(Q16*3600) -> 0 | AN16: =((3600/I16)*U16)/(N16+O16+P16) -> #DIV/0! | AO16: =(U16-T16)/U16 -> #DIV/0! | AP16: =AM16*AN16*AO16 -> #DIV/0! | AQ16: =((U16-T16)*(3600/I16))/(Q16*3600) -> 0
A17: I | B17: MULTIBROCHE | C17: =IFERROR(VLOOKUP(D17,[2]Pieces!A:B,2,0)," ") -> MPS000300 | D17: raccord HEX 17 | E17: 0 | F17: 0 | G17: 0 | H17: 0 | I17: =IFERROR(VLOOKUP(D17,[2]Pieces!A:C,3,0),"") -> 500 | J17: 1 | K17: =(F17-E17)*J17 -> 0 | L17: =(G17-F17)*J17 -> 0 | M17: =(H17-G17)*J17 -> 0 | N17: =IF(I17="","",K17/I17) -> 0 | O17: =IF(I17="","",L17/I17) -> 0 | P17: =IF(I17="","",M17/I17) -> 0 | Q17: 13 | S17: =U17+T17-K17-L17-M17 -> 0 | U17: =(K17+L17+M17)-T17-V17 -> 0 | Z17: =IF(OR(I17="",I17=0),0,(U17+T17)/I17) -> 0 | AA17: =IF(OR(Q17=0,I17=0),"",Z17/Q17*100) -> 0 | AE17: =IF(AA17>85," ","WARNING") -> WARNING | AM17: =(N17+O17+P17)/(Q17*3600) -> 0 | AN17: =((3600/I17)*U17)/(N17+O17+P17) -> #DIV/0! | AO17: =(U17-T17)/U17 -> #DIV/0! | AP17: =AM17*AN17*AO17 -> #DIV/0! | AQ17: =((U17-T17)*(3600/I17))/(Q17*3600) -> 0
A18: J | B18: Tour CNC WEILER UD 24 - 100 | C18: =IFERROR(VLOOKUP(D18,[2]Pieces!A:B,2,0)," ") -> 0-4180 | D18: ANNEAU FX 25,2*32*21-CHUTES MJ | E18: 0 | F18: 0 | G18: 0 | H18: 0 | I18: =IFERROR(VLOOKUP(D18,[2]Pieces!A:C,3,0),"") -> 50 | J18: 1 | K18: =(F18-E18)*J18 -> 0 | L18: =(G18-F18)*J18 -> 0 | M18: =(H18-G18)*J18 -> 0 | N18: =IF(I18="","",K18/I18) -> 0 | O18: =IF(I18="","",L18/I18) -> 0 | P18: =IF(I18="","",M18/I18) -> 0 | Q18: 9 | S18: =U18+T18-K18-L18-M18 -> 0 | U18: =(K18+L18+M18)-T18-V18 -> 0 | Z18: =IF(OR(I18="",I18=0),0,(U18+T18)/I18) -> 0 | AA18: =IF(OR(Q18=0,I18=0),"",Z18/Q18*100) -> 0 | AE18: =IF(AA18>85," ","WARNING") -> WARNING | AM18: =(N18+O18+P18)/(Q18*3600) -> 0 | AN18: =((3600/I18)*U18)/(N18+O18+P18) -> #DIV/0! | AO18: =(U18-T18)/U18 -> #DIV/0! | AP18: =AM18*AN18*AO18 -> #DIV/0! | AQ18: =((U18-T18)*(3600/I18))/(Q18*3600) -> 0
A19: K | B19: TOUR WEILER | C19: =IFERROR(VLOOKUP(D19,[2]Pieces!A:B,2,0)," ") -> 4-7009-1 | D19: BAGUE DECOLLETE | E19: 201 | F19: 533 | G19: 533 | H19: 560 | I19: =IFERROR(VLOOKUP(D19,[2]Pieces!A:C,3,0),"") -> 45 | J19: 1 | K19: =(F19-E19)*J19 -> 332 | L19: =(G19-F19)*J19 -> 0 | M19: =(H19-G19)*J19 -> 27 | N19: =IF(I19="","",K19/I19) -> 7.3777778 | O19: =IF(I19="","",L19/I19) -> 0 | P19: =IF(I19="","",M19/I19) -> 0.6 | Q19: 9 | S19: =U19+T19-K19-L19-M19 -> 0 | U19: =(K19+L19+M19)-T19-V19 -> 359 | Z19: =IF(OR(I19="",I19=0),0,(U19+T19)/I19) -> 7.9777778 | AA19: =IF(OR(Q19=0,I19=0),"",Z19/Q19*100) -> 88.641975 | AE19: =IF(AA19>85," ","WARNING") | AM19: =(N19+O19+P19)/(Q19*3600) -> 0.00024622771 | AN19: =((3600/I19)*U19)/(N19+O19+P19) -> 3600 | AO19: =(U19-T19)/U19 -> 1 | AP19: =AM19*AN19*AO19 -> 0.88641975 | AQ19: =((U19-T19)*(3600/I19))/(Q19*3600) -> 0.88641975
A20: L | B20: NAKAMURA | C20: =IFERROR(VLOOKUP(D20,[2]Pieces!A:B,2,0)," ") -> 480387 | D20: EVACUATION 2 EN 1 SUR NAKAMURA | E20: 2235 | F20: 2469 | G20: 2469 | H20: 2469 | I20: =IFERROR(VLOOKUP(D20,[2]Pieces!A:C,3,0),"") -> 45 | J20: 1 | K20: =(F20-E20)*J20 -> 234 | L20: =(G20-F20)*J20 -> 0 | M20: =(H20-G20)*J20 -> 0 | N20: =IF(I20="","",K20/I20) -> 5.2 | O20: =IF(I20="","",L20/I20) -> 0 | P20: =IF(I20="","",M20/I20) -> 0 | Q20: 9 | S20: =U20+T20-K20-L20-M20 -> 0 | U20: =(K20+L20+M20)-T20-V20 -> 234 | Z20: =IF(OR(I20="",I20=0),0,(U20+T20)/I20) -> 5.2 | AA20: =IF(OR(Q20=0,I20=0),"",Z20/Q20*100) -> 57.777778 | AE20: =IF(AA20>85," ","WARNING") -> WARNING | AM20: =(N20+O20+P20)/(Q20*3600) -> 0.00016049383 | AN20: =((3600/I20)*U20)/(N20+O20+P20) -> 3600 | AO20: =(U20-T20)/U20 -> 1 | AP20: =AM20*AN20*AO20 -> 0.57777778 | AQ20: =((U20-T20)*(3600/I20))/(Q20*3600) -> 0.57777778
A21: M | B21: MORI SEIKI 3 axes | C21: =IFERROR(VLOOKUP(D21,[2]Pieces!A:B,2,0)," ") -> i004 | D21: Ecrou suspension- surfacage | E21: 0 | F21: 0 | G21: 0 | H21: 0 | I21: =IFERROR(VLOOKUP(D21,[2]Pieces!A:C,3,0),"") -> 54 | J21: 9 | K21: =(F21-E21)*J21 -> 0 | L21: =(G21-F21)*J21 -> 0 | M21: =(H21-G21)*J21 -> 0 | N21: =IF(I21="","",K21/I21) -> 0 | O21: =IF(I21="","",L21/I21) -> 0 | P21: =IF(I21="","",M21/I21) -> 0 | Q21: 9 | S21: =U21+T21-K21-L21-M21 -> 0 | U21: =(K21+L21+M21)-T21-V21 -> 0 | Z21: =IF(OR(I21="",I21=0),0,(U21+T21)/I21) -> 0 | AA21: =IF(OR(Q21=0,I21=0),"",Z21/Q21*100) -> 0 | AE21: =IF(AA21>85," ","WARNING") -> WARNING | AM21: =(N21+O21+P21)/(Q21*3600) -> 0 | AN21: =((3600/I21)*U21)/(N21+O21+P21) -> #DIV/0! | AO21: =(U21-T21)/U21 -> #DIV/0! | AP21: =AM21*AN21*AO21 -> #DIV/0! | AQ21: =((U21-T21)*(3600/I21))/(Q21*3600) -> 0
A22: N | B22: MORI SEIKI 5 axes | C22: =IFERROR(VLOOKUP(D22,[2]Pieces!A:B,2,0)," ") -> 601130 | D22: ECROU DE FUSEE + fraisage 5 pcs pignion | E22: 319 | F22: 319 | G22: 319 | H22: 319 | I22: =IFERROR(VLOOKUP(D22,[2]Pieces!A:C,3,0),"") -> 24 | J22: 5 | K22: =(F22-E22)*J22 -> 0 | L22: =(G22-F22)*J22 -> 0 | M22: =(H22-G22)*J22 -> 0 | N22: =IF(I22="","",K22/I22) -> 0 | O22: =IF(I22="","",L22/I22) -> 0 | P22: =IF(I22="","",M22/I22) -> 0 | Q22: 9 | S22: =U22+T22-K22-L22-M22 -> 0 | U22: =(K22+L22+M22)-T22-V22 -> 0 | Z22: =IF(OR(I22="",I22=0),0,(U22+T22)/I22) -> 0 | AA22: =IF(OR(Q22=0,I22=0),"",Z22/Q22*100) -> 0 | AE22: =IF(AA22>85," ","WARNING") -> WARNING | AM22: =(N22+O22+P22)/(Q22*3600) -> 0 | AN22: =((3600/I22)*U22)/(N22+O22+P22) -> #DIV/0! | AO22: =(U22-T22)/U22 -> #DIV/0! | AP22: =AM22*AN22*AO22 -> #DIV/0! | AQ22: =((U22-T22)*(3600/I22))/(Q22*3600) -> 0
A23: O | B23: HARDING | C23: =IFERROR(VLOOKUP(D23,[2]Pieces!A:B,2,0)," ") -> 480387-SF | D23: EVACUATION 2 EN3 SEMI FINI | E23: 90 | F23: 96 | G23: 96 | H23: 96 | I23: =IFERROR(VLOOKUP(D23,[2]Pieces!A:C,3,0),"") -> 25 | J23: 20 | K23: =(F23-E23)*J23 -> 120 | L23: =(G23-F23)*J23 -> 0 | M23: =(H23-G23)*J23 -> 0 | N23: =IF(I23="","",K23/I23) -> 4.8 | O23: =IF(I23="","",L23/I23) -> 0 | P23: =IF(I23="","",M23/I23) -> 0 | Q23: 9 | S23: =U23+T23-K23-L23-M23 -> 0 | U23: =(K23+L23+M23)-T23-V23 -> 120 | Z23: =IF(OR(I23="",I23=0),0,(U23+T23)/I23) -> 4.8 | AA23: =IF(OR(Q23=0,I23=0),"",Z23/Q23*100) -> 53.333333 | AE23: =IF(AA23>85," ","WARNING") -> WARNING | AM23: =(N23+O23+P23)/(Q23*3600) -> 0.00014814815 | AN23: =((3600/I23)*U23)/(N23+O23+P23) -> 3600 | AO23: =(U23-T23)/U23 -> 1 | AP23: =AM23*AN23*AO23 -> 0.53333333 | AQ23: =((U23-T23)*(3600/I23))/(Q23*3600) -> 0.53333333
... A27: Q | B27: NOUVEAU MACHINE 32sk300 | C27: =IFERROR(VLOOKUP(D27,[2]Pieces!A:B,2,0)," ") -> TIGE M6+2ECROU | D27: TIGRE M6 AVEC 2 ECROUS | E27: 0 | F27: 314 | G27: 314 | H27: 314 | I27: =IFERROR(VLOOKUP(D27,[2]Pieces!A:C,3,0),"") -> 120 | J27: 1 | K27: =(F27-E27)*J27 -> 314 | L27: =(G27-F27)*J27 -> 0 | M27: =(H27-G27)*J27 -> 0 | N27: =IF(I27="","",K27/I27) -> 2.6166667 | O27: =IF(I27="","",L27/I27) -> 0 | P27: =IF(I27="","",M27/I27) -> 0 | Q27: 9 | S27: =U27+T27-K27-L27-M27 -> 0 | U27: =(K27+L27+M27)-T27-V27 -> 314 | Z27: =IF(OR(I27="",I27=0),0,(U27+T27)/I27) -> 2.6166667 | AA27: =IF(OR(Q27=0,I27=0),"",Z27/Q27*100) -> 29.074074 | AE27: =IF(AA27>85," ","WARNING") -> WARNING | AM27: =(N27+O27+P27)/(Q27*3600) -> 8.0761317e-05 | AN27: =((3600/I27)*U27)/(N27+O27+P27) -> 3600 | AO27: =(U27-T27)/U27 -> 1 | AP27: =AM27*AN27*AO27 -> 0.29074074 | AQ27: =((U27-T27)*(3600/I27))/(Q27*3600) -> 0.29074074
S29: Taux de NC journalière | U29: =#REF!/#REF! -> #REF!
J33: Approbateur:
J34: Date:
J35: Visa:

Sheet 18-6-22
A1: 18-06-2022 | Z1: CODE: DAS-PRO-16
Z2: DATE:30/08/2019
Z3: VERSION:07
Z4: PAGE:1
A8: SYMBOLE | B8: MACHINE | C8: REF ARTICLE | D8: DESIGNATION | E8: COMPTEUR AUJOURD’HUI à 8h | F8: COMPTEUR HIER à 17H | G8: COMPTEUR HIER à 22H | H8: COMPTEUR AUJOURD’HUI à 8h | I8: CADENCE | J8: NOMBRE DE PIECES FINIS PAR CYCLE | K8: PIECES SUIVANT COMPTEU 8h-->17h | L8: PIECES SUIVANT COMPTEUR 17H-->22H | M8: PIECES SUIVANT COMPTEUR 6h-->8h | N8: NOMBRE D'HEURES DE TRAVAIL 8h-->17h | O8: NOMBRE D'HEURES DE TRAVAIL 17H-->22H | P8: NOMBRE D'HEURES DE TRAVAIL 6h-->8h | Q8: NOMBRE D'HEURES DE TRAVAIL | R8: OBSERVATIONS | S8: Pieces manquantes | T8: PIECES NC | U8: Pieces REELLES | V8: Nombre des pieces à retoucher | W8: Cause de la non-conformité | X8: Effet de la non-conformité | Y8: Machine pour retouche | Z8: NOMBRES D'HEURES SUIVANT LES PIECES REELLES | AA8: RENDEMENT | AB8: Maintenance | AC8: Affutage | AD8: Gamme d'usingae | AE8: ALERTES | AF8: enregitrement | AG8: Identification | AH8: Propreté des tables de contrôle | AI8: Rangement des outils de contrôle | AJ8: Existance de l'OF | AK8: Panne | AL8: gestion de modification | AM8: A | AN8: P | AO8: Q | AP8: OEE | AQ8: OEE
A9: A | B9: SST16 | C9: =IFERROR(VLOOKUP(D9,[2]Pieces!A:B,2,0)," ") -> BROCH L230 | D9: BROCHE ACIER D13 ZINGUE L230 20-06-2022 | E9: 0 | F9: 355 | G9: 355 | H9: 473 | I9: =IFERROR(VLOOKUP(D9,[2]Pieces!A:C,3,0),"") -> 112 | J9: 1 | K9: =(F9-E9)*J9 -> 355 | L9: =(G9-F9)*J9 -> 0 | M9: =(H9-G9)*J9 -> 118 | N9: =IF(I9="","",K9/I9) -> 3.1696429 | O9: =IF(I9="","",L9/I9) -> 0 | P9: =IF(I9="","",M9/I9) -> 1.0535714 | Q9: 7.5 | S9: =U9+T9-K9-L9-M9 -> 0 | U9: =(K9+L9+M9)-T9-V9 -> 473 | Z9: =IF(OR(I9="",I9=0),0,(U9+T9)/I9) -> 4.2232143 | AA9: =IF(OR(Q9=0,I9=0),"",Z9/Q9*100) -> 56.309524 | AE9: =IF(AA9>85," ","WARNING") -> WARNING | AM9: =(N9+O9+P9)/(Q9*3600) -> 0.00015641534 | AN9: =((3600/I9)*U9)/(N9+O9+P9) -> 3600 | AO9: =(U9-T9)/U9 -> 1 | AP9: =AM9*AN9*AO9 -> 0.56309524 | AQ9: =((U9-T9)*(3600/I9))/(Q9*3600) -> 0.56309524
A10: B | B10: SB16 | C10: =IFERROR(VLOOKUP(D10,[2]Pieces!A:B,2,0)," ") -> 68.1010 | D10: Buse droite à collerette Ø10 | E10: 13452 | F10: 13700 | G10: 13700 | H10: 13826 | I10: =IFERROR(VLOOKUP(D10,[2]Pieces!A:C,3,0),"") -> 80 | J10: 1 | K10: =(F10-E10)*J10 -> 248 | L10: =(G10-F10)*J10 -> 0 | M10: =(H10-G10)*J10 -> 126 | N10: =IF(I10="","",K10/I10) -> 3.1 | O10: =IF(I10="","",L10/I10) -> 0 | P10: =IF(I10="","",M10/I10) -> 1.575 | Q10: 7.5 | S10: =U10+T10-K10-L10-M10 -> 0 | U10: =(K10+L10+M10)-T10-V10 -> 374 | Z10: =IF(OR(I10="",I10=0),0,(U10+T10)/I10) -> 4.675 | AA10: =IF(OR(Q10=0,I10=0),"",Z10/Q10*100) -> 62.333333 | AE10: =IF(AA10>85," ","WARNING") -> WARNING | AM10: =(N10+O10+P10)/(Q10*3600) -> 0.00017314815 | AN10: =((3600/I10)*U10)/(N10+O10+P10) -> 3600 | AO10: =(U10-T10)/U10 -> 1 | AP10: =AM10*AN10*AO10 -> 0.62333333 | AQ10: =((U10-T10)*(3600/I10))/(Q10*3600) -> 0.62333333
A11: C | B11: BIGLIA 301 SM | C11: =IFERROR(VLOOKUP(D11,[2]Pieces!A:B,2,0)," ") -> TF48-57-I162-CP2 | D11: AXE JUMELLE-CP2 B301 | E11: 0 | F11: 95 | G11: 95 | H11: 157 | I11: =IFERROR(VLOOKUP(D11,[2]Pieces!A:C,3,0),"") -> 40 | J11: 1 | K11: =(F11-E11)*J11 -> 95 | L11: =(G11-F11)*J11 -> 0 | M11: =(H11-G11)*J11 -> 62 | N11: =IF(I11="","",K11/I11) -> 2.375 | O11: =IF(I11="","",L11/I11) -> 0 | P11: =IF(I11="","",M11/I11) -> 1.55 | Q11: 7.5 | S11: =U11+T11-K11-L11-M11 -> 0 | U11: =(K11+L11+M11)-T11-V11 -> 157 | Z11: =IF(OR(I11="",I11=0),0,(U11+T11)/I11) -> 3.925 | AA11: =IF(OR(Q11=0,I11=0),"",Z11/Q11*100) -> 52.333333 | AE11: =IF(AA11>85," ","WARNING") -> WARNING | AM11: =(N11+O11+P11)/(Q11*3600) -> 0.00014537037 | AN11: =((3600/I11)*U11)/(N11+O11+P11) -> 3600 | AO11: =(U11-T11)/U11 -> 1 | AP11: =AM11*AN11*AO11 -> 0.52333333 | AQ11: =((U11-T11)*(3600/I11))/(Q11*3600) -> 0.52333333
A12: D | B12: BIGLIA 42 S2M bitourelle | C12: =IFERROR(VLOOKUP(D12,[2]Pieces!A:B,2,0)," ") -> B001-CP1/chutes | D12: BOULON D'ASSEMBLAGE 404-PAR CHUTES D16.2 | E12: 1347 | F12: 1347 | G12: 1347 | H12: 1347 | I12: =IFERROR(VLOOKUP(D12,[2]Pieces!A:C,3,0),"") -> 35 | J12: 1 | K12: =(F12-E12)*J12 -> 0 | L12: =(G12-F12)*J12 -> 0 | M12: =(H12-G12)*J12 -> 0 | N12: =IF(I12="","",K12/I12) -> 0 | O12: =IF(I12="","",L12/I12) -> 0 | P12: =IF(I12="","",M12/I12) -> 0 | Q12: 7.5 | S12: =U12+T12-K12-L12-M12 -> 0 | U12: =(K12+L12+M12)-T12-V12 -> 0 | Z12: =IF(OR(I12="",I12=0),0,(U12+T12)/I12) -> 0 | AA12: =IF(OR(Q12=0,I12=0),"",Z12/Q12*100) -> 0 | AE12: =IF(AA12>85," ","WARNING") -> WARNING | AM12: =(N12+O12+P12)/(Q12*3600) -> 0 | AN12: =((3600/I12)*U12)/(N12+O12+P12) -> #DIV/0! | AO12: =(U12-T12)/U12 -> #DIV/0! | AP12: =AM12*AN12*AO12 -> #DIV/0! | AQ12: =((U12-T12)*(3600/I12))/(Q12*3600) -> 0
A13: E | B13: L32 | C13: =IFERROR(VLOOKUP(D13,[2]Pieces!A:B,2,0)," ") -> 2018130 | D13: AXE MALE L=100 - juin 2022 | E13: 500 | F13: 500 | G13: 500 | H13: 500 | I13: =IFERROR(VLOOKUP(D13,[2]Pieces!A:C,3,0),"") -> 22 | J13: 1 | K13: =(F13-E13)*J13 -> 0 | L13: =(G13-F13)*J13 -> 0 | M13: =(H13-G13)*J13 -> 0 | N13: =IF(I13="","",K13/I13) -> 0 | O13: =IF(I13="","",L13/I13) -> 0 | P13: =IF(I13="","",M13/I13) -> 0 | Q13: 7.5 | S13: =U13+T13-K13-L13-M13 -> 0 | U13: =(K13+L13+M13)-T13-V13 -> 0 | Z13: =IF(OR(I13="",I13=0),0,(U13+T13)/I13) -> 0 | AA13: =IF(OR(Q13=0,I13=0),"",Z13/Q13*100) -> 0 | AE13: =IF(AA13>85," ","WARNING") -> WARNING | AM13: =(N13+O13+P13)/(Q13*3600) -> 0 | AN13: =((3600/I13)*U13)/(N13+O13+P13) -> #DIV/0! | AO13: =(U13-T13)/U13 -> #DIV/0! | AP13: =AM13*AN13*AO13 -> #DIV/0! | AQ13: =((U13-T13)*(3600/I13))/(Q13*3600) -> 0
A14: F | B14: TSUGAMI | C14: =IFERROR(VLOOKUP(D14,[2]Pieces!A:B,2,0)," ") -> - | D14: Arrêt | E14: 0 | F14: 0 | G14: 0 | H14: 0 | I14: =IFERROR(VLOOKUP(D14,[2]Pieces!A:C,3,0),"") -> 1 | J14: 1 | K14: =(F14-E14)*J14 -> 0 | L14: =(G14-F14)*J14 -> 0 | M14: =(H14-G14)*J14 -> 0 | N14: =IF(I14="","",K14/I14) -> 0 | O14: =IF(I14="","",L14/I14) -> 0 | P14: =IF(I14="","",M14/I14) -> 0 | Q14: 7.5 | S14: =U14+T14-K14-L14-M14 -> 0 | U14: =(K14+L14+M14)-T14-V14 -> 0 | Z14: =IF(OR(I14="",I14=0),0,(U14+T14)/I14) -> 0 | AA14: =IF(OR(Q14=0,I14=0),"",Z14/Q14*100) -> 0 | AE14: =IF(AA14>85," ","WARNING") -> WARNING | AM14: =(N14+O14+P14)/(Q14*3600) -> 0 | AN14: =((3600/I14)*U14)/(N14+O14+P14) -> #DIV/0! | AO14: =(U14-T14)/U14 -> #DIV/0! | AP14: =AM14*AN14*AO14 -> #DIV/0! | AQ14: =((U14-T14)*(3600/I14))/(Q14*3600) -> 0
A15: G | B15: Tour STAR SV-32-J | C15: =IFERROR(VLOOKUP(D15,[2]Pieces!A:B,2,0)," ") -> 68.0815 | D15: BUSE A DROITE D8 M445 maj 07-06-2022 | E15: 40002 | F15: 40270 | G15: 40270 | H15: 40350 | I15: =IFERROR(VLOOKUP(D15,[2]Pieces!A:C,3,0),"") -> 56 | J15: 1 | K15: =(F15-E15)*J15 -> 268 | L15: =(G15-F15)*J15 -> 0 | M15: =(H15-G15)*J15 -> 80 | N15: =IF(I15="","",K15/I15) -> 4.7857143 | O15: =IF(I15="","",L15/I15) -> 0 | P15: =IF(I15="","",M15/I15) -> 1.4285714 | Q15: 7.5 | S15: =U15+T15-K15-L15-M15 -> 0 | U15: =(K15+L15+M15)-T15-V15 -> 348 | Z15: =IF(OR(I15="",I15=0),0,(U15+T15)/I15) -> 6.2142857 | AA15: =IF(OR(Q15=0,I15=0),"",Z15/Q15*100) -> 82.857143 | AE15: =IF(AA15>85," ","WARNING") -> WARNING | AM15: =(N15+O15+P15)/(Q15*3600) -> 0.00023015873 | AN15: =((3600/I15)*U15)/(N15+O15+P15) -> 3600 | AO15: =(U15-T15)/U15 -> 1 | AP15: =AM15*AN15*AO15 -> 0.82857143 | AQ15: =((U15-T15)*(3600/I15))/(Q15*3600) -> 0.82857143
A16: H | B16: Tour CNC STAR SB avec embarreur LNS Express 220 | C16: =IFERROR(VLOOKUP(D16,[2]Pieces!A:B,2,0)," ") -> 1740 | D16: VIS ALLUM M10 | E16: 0 | F16: 0 | G16: 0 | H16: 0 | I16: =IFERROR(VLOOKUP(D16,[2]Pieces!A:C,3,0),"") -> 36 | J16: 1 | K16: =(F16-E16)*J16 -> 0 | L16: =(G16-F16)*J16 -> 0 | M16: =(H16-G16)*J16 -> 0 | N16: =IF(I16="","",K16/I16) -> 0 | O16: =IF(I16="","",L16/I16) -> 0 | P16: =IF(I16="","",M16/I16) -> 0 | Q16: 7.5 | S16: =U16+T16-K16-L16-M16 -> 0 | U16: =(K16+L16+M16)-T16-V16 -> 0 | Z16: =IF(OR(I16="",I16=0),0,(U16+T16)/I16) -> 0 | AA16: =IF(OR(Q16=0,I16=0),"",Z16/Q16*100) -> 0 | AE16: =IF(AA16>85," ","WARNING") -> WARNING | AM16: =(N16+O16+P16)/(Q16*3600) -> 0 | AN16: =((3600/I16)*U16)/(N16+O16+P16) -> #DIV/0! | AO16: =(U16-T16)/U16 -> #DIV/0! | AP16: =AM16*AN16*AO16 -> #DIV/0! | AQ16: =((U16-T16)*(3600/I16))/(Q16*3600) -> 0
A17: I | B17: MULTIBROCHE | C17: =IFERROR(VLOOKUP(D17,[2]Pieces!A:B,2,0)," ") -> MPS000300 | D17: raccord HEX 17 | E17: 0 | F17: 0 | G17: 0 | H17: 0 | I17: =IFERROR(VLOOKUP(D17,[2]Pieces!A:C,3,0),"") -> 500 | J17: 1 | K17: =(F17-E17)*J17 -> 0 | L17: =(G17-F17)*J17 -> 0 | M17: =(H17-G17)*J17 -> 0 | N17: =IF(I17="","",K17/I17) -> 0 | O17: =IF(I17="","",L17/I17) -> 0 | P17: =IF(I17="","",M17/I17) -> 0 | Q17: 7.5 | S17: =U17+T17-K17-L17-M17 -> 0 | U17: =(K17+L17+M17)-T17-V17 -> 0 | Z17: =IF(OR(I17="",I17=0),0,(U17+T17)/I17) -> 0 | AA17: =IF(OR(Q17=0,I17=0),"",Z17/Q17*100) -> 0 | AE17: =IF(AA17>85," ","WARNING") -> WARNING | AM17: =(N17+O17+P17)/(Q17*3600) -> 0 | AN17: =((3600/I17)*U17)/(N17+O17+P17) -> #DIV/0! | AO17: =(U17-T17)/U17 -> #DIV/0! | AP17: =AM17*AN17*AO17 -> #DIV/0! | AQ17: =((U17-T17)*(3600/I17))/(Q17*3600) -> 0
A18: J | B18: Tour CNC WEILER UD 24 - 100 | C18: =IFERROR(VLOOKUP(D18,[2]Pieces!A:B,2,0)," ") -> 0-4180 | D18: ANNEAU FX 25,2*32*21-CHUTES MJ | E18: 0 | F18: 0 | G18: 0 | H18: 0 | I18: =IFERROR(VLOOKUP(D18,[2]Pieces!A:C,3,0),"") -> 50 | J18: 1 | K18: =(F18-E18)*J18 -> 0 | L18: =(G18-F18)*J18 -> 0 | M18: =(H18-G18)*J18 -> 0 | N18: =IF(I18="","",K18/I18) -> 0 | O18: =IF(I18="","",L18/I18) -> 0 | P18: =IF(I18="","",M18/I18) -> 0 | Q18: 5 | S18: =U18+T18-K18-L18-M18 -> 0 | U18: =(K18+L18+M18)-T18-V18 -> 0 | Z18: =IF(OR(I18="",I18=0),0,(U18+T18)/I18) -> 0 | AA18: =IF(OR(Q18=0,I18=0),"",Z18/Q18*100) -> 0 | AE18: =IF(AA18>85," ","WARNING") -> WARNING | AM18: =(N18+O18+P18)/(Q18*3600) -> 0 | AN18: =((3600/I18)*U18)/(N18+O18+P18) -> #DIV/0! | AO18: =(U18-T18)/U18 -> #DIV/0! | AP18: =AM18*AN18*AO18 -> #DIV/0! | AQ18: =((U18-T18)*(3600/I18))/(Q18*3600) -> 0
A19: K | B19: TOUR WEILER | C19: =IFERROR(VLOOKUP(D19,[2]Pieces!A:B,2,0)," ") -> 4-7009-1 | D19: BAGUE DECOLLETE | E19: 0 | F19: 178 | G19: 178 | H19: 201 | I19: =IFERROR(VLOOKUP(D19,[2]Pieces!A:C,3,0),"") -> 45 | J19: 3 | K19: =(F19-E19)*J19 -> 534 | L19: =(G19-F19)*J19 -> 0 | M19: =(H19-G19)*J19 -> 69 | N19: =IF(I19="","",K19/I19) -> 11.866667 | O19: =IF(I19="","",L19/I19) -> 0 | P19: =IF(I19="","",M19/I19) -> 1.5333333 | Q19: 5 | S19: =U19+T19-K19-L19-M19 -> 0 | U19: =(K19+L19+M19)-T19-V19 -> 603 | Z19: =IF(OR(I19="",I19=0),0,(U19+T19)/I19) -> 13.4 | AA19: =IF(OR(Q19=0,I19=0),"",Z19/Q19*100) -> 268 | AE19: =IF(AA19>85," ","WARNING") | AM19: =(N19+O19+P19)/(Q19*3600) -> 0.00074444444 | AN19: =((3600/I19)*U19)/(N19+O19+P19) -> 3600 | AO19: =(U19-T19)/U19 -> 1 | AP19: =AM19*AN19*AO19 -> 2.68 | AQ19: =((U19-T19)*(3600/I19))/(Q19*3600) -> 2.68
A20: L | B20: NAKAMURA | C20: =IFERROR(VLOOKUP(D20,[2]Pieces!A:B,2,0)," ") -> 480387 | D20: EVACUATION 2 EN 1 SUR NAKAMURA | E20: 1996 | F20: 2235 | G20: 2235 | H20: 2235 | I20: =IFERROR(VLOOKUP(D20,[2]Pieces!A:C,3,0),"") -> 45 | J20: 1 | K20: =(F20-E20)*J20 -> 239 | L20: =(G20-F20)*J20 -> 0 | M20: =(H20-G20)*J20 -> 0 | N20: =IF(I20="","",K20/I20) -> 5.3111111 | O20: =IF(I20="","",L20/I20) -> 0 | P20: =IF(I20="","",M20/I20) -> 0 | Q20: 5 | S20: =U20+T20-K20-L20-M20 -> 0 | U20: =(K20+L20+M20)-T20-V20 -> 239 | Z20: =IF(OR(I20="",I20=0),0,(U20+T20)/I20) -> 5.3111111 | AA20: =IF(OR(Q20=0,I20=0),"",Z20/Q20*100) -> 106.22222 | AE20: =IF(AA20>85," ","WARNING") | AM20: =(N20+O20+P20)/(Q20*3600) -> 0.00029506173 | AN20: =((3600/I20)*U20)/(N20+O20+P20) -> 3600 | AO20: =(U20-T20)/U20 -> 1 | AP20: =AM20*AN20*AO20 -> 1.0622222 | AQ20: =((U20-T20)*(3600/I20))/(Q20*3600) -> 1.0622222
... A26: Q | B26: NOUVEAU MACHINE P014 | C26: =IFERROR(VLOOKUP(D26,[2]Pieces!A:B,2,0)," ") -> I035-CP2/chutes | D26: BAGUE INTERIEUR SILENT BLOC TRIANGLE TFR /chutes | E26: 47 | F26: 357 | G26: 357 | H26: 357 | I26: =IFERROR(VLOOKUP(D26,[2]Pieces!A:C,3,0),"") -> 70 | J26: 1 | K26: =(F26-E26)*J26 -> 310 | L26: =(G26-F26)*J26 -> 0 | M26: =(H26-G26)*J26 -> 0 | N26: =IF(I26="","",K26/I26) -> 4.4285714 | O26: =IF(I26="","",L26/I26) -> 0 | P26: =IF(I26="","",M26/I26) -> 0 | Q26: 5 | S26: =U26+T26-K26-L26-M26 -> 0 | U26: =(K26+L26+M26)-T26-V26 -> 310 | Z26: =IF(OR(I26="",I26=0),0,(U26+T26)/I26) -> 4.4285714 | AA26: =IF(OR(Q26=0,I26=0),"",Z26/Q26*100) -> 88.571429 | AE26: =IF(AA26>85," ","WARNING") | AM26: =(N26+O26+P26)/(Q26*3600) -> 0.00024603175 | AN26: =((3600/I26)*U26)/(N26+O26+P26) -> 3600 | AO26: =(U26-T26)/U26 -> 1 | AP26: =AM26*AN26*AO26 -> 0.88571429 | AQ26: =((U26-T26)*(3600/I26))/(Q26*3600) -> 0.88571429
S28: Taux de NC journalière | U28: =#REF!/#REF! -> #REF!
J32: Approbateur:
J33: Date:
J34: Visa:
