Workbook

Sheet NOTES
A1: FEUILA | C1: Données de base
A3: FEUILB | C3: Fichier qui va être importé et qui doit avoir cette architecture
A5: Colonnes | B5: Libellés | C5: Données requises | D5: Observations
A6: Col A | B6: =+FEUILB!A1 -> D_CA | C6: ACTUAL | D6: VALEUR UNIQUE
A7: Col B & C | B7: =+FEUILB!B1 -> D_DP | C7: période à renseigner chaque mois | D7: AAAA.MM
A8: Col D | B8: =+FEUILB!D1 -> D_RU | C8: S2000 | D8: VALEUR UNIQUE
A9: Col E | B9: =+FEUILB!E1 -> D_AC | C9: =Col D de [FEUILB]
A10: Col F | B10: =+FEUILB!F1 -> D_FL | C10: F99 | D10: VALEUR UNIQUE
A11: Col G | B11: =+FEUILB!G1 -> D_CU | C11: EURO | D11: VALEUR UNIQUE
A12: Col H | B12: =+FEUILB!H1 -> D_PS | C12: ='Col F de [FEUILB]
A13: Col I | B13: =+FEUILB!I1 -> P_AMOUNT | C13: ='Col E de [FEUILB]
A14: Col J | B14: =+FEUILB!J1 -> D_AU | C14: 0LOC01 | D14: VALEUR UNIQUE

Sheet FEUILA
A3: (Tous)
A4: (Tous)
A5: (Tous)
A8: N° compte V | B8: Code interco V correspondant au code S | C8: Total | D8: D_AC | E8: P_AMOUNT | F8: D_PS
A9: AS7100 | C9: 43189551 | D9: =IF(AND(A9="as7100",C9>0),A9,IF(AND(A9="as7140",C9>0),A9,IF(AND(A9="PL1125",C9>0),A9,IF(AND(A9="PL1315",C9>0),A9,IF(AND(A9="PL1320",C9>0),A9,IF(AND(A9="PL1380",C9>0),A9,IF(AND(A9="LI8100",C9<0),A9,IF(AND(A9="LI8140",C9<0),A9,IF(AND(A9="PL1120",C9<0),A9,IF(AND(A9="PL1355",C9<0),A9,IF(AND(A9="PL1385",C9<0),A9,VLOOKUP(A9,'[1]TAB CONV SIGNE VECTOR'!A:C,3,FALSE)))))))))))) -> AS7100 | E9: =IF(AND(D9="as7100",C9>0),ROUND(C9/1000,0),IF(AND(D9="as7140",C9>0),ROUND(C9/1000,0),IF(AND(D9="pl1120",C9<0),-ROUND(C9/1000,0),IF(AND(D9="pl1125",C9>0),-ROUND(C9/1000,0),IF(AND(D9="pl1315",C9<0),ROUND(C9/1000,0),IF((D9="pl1340"),-ROUND(C9/1000,0),IF(AND(D9="pl1355",C9<0),-ROUND(C9/1000,0),IF(AND(D9="pl1320",C9>0),ROUND(C9/1000,0),IF(AND(D9="pl1380",C9>0),-ROUND(C9/1000,0),IF(AND(D9="pl1385",C9<0),-ROUND(C9/1000,0),IF(AND(D9="li8100",C9<0),-ROUND(C9/1000,0),IF(AND(D9="li8140",C9<0),-ROUND(C9/1000,0),IF(AND(D9="pl1120",C9<0),ROUND(C9/1000,0),IF(AND(D9="pl1355",C9<0),ROUND(C9/1000,0),IF(AND(D9="pl1385",C9<0),ROUND(C9/1000,0),IF((D9="pl1340"),ROUND(C9/1000,0),IF((D9="pl2275"),-ROUND(C9/1000,0),-ROUND(C9/1000,0)))))))))))))))))) -> 43190 | F9: =IF(ISERROR(VLOOKUP(B9,'[1]TAB CONV SIGNE VECTOR'!J:K,2,FALSE)),'[1]TEST FORM'!B9,VLOOKUP(B9,'[1]TAB CONV SIGNE VECTOR'!J:K,2,FALSE)) -> 0
A10: AS7100 | B10: S0002 | C10: 13170232 | D10: =IF(AND(A10="as7100",C10>0),A10,IF(AND(A10="as7140",C10>0),A10,IF(AND(A10="PL1125",C10>0),A10,IF(AND(A10="PL1315",C10>0),A10,IF(AND(A10="PL1320",C10>0),A10,IF(AND(A10="PL1380",C10>0),A10,IF(AND(A10="LI8100",C10<0),A10,IF(AND(A10="LI8140",C10<0),A10,IF(AND(A10="PL1120",C10<0),A10,IF(AND(A10="PL1355",C10<0),A10,IF(AND(A10="PL1385",C10<0),A10,VLOOKUP(A10,'[1]TAB CONV SIGNE VECTOR'!A:C,3,FALSE)))))))))))) -> AS7100 | E10: =IF(AND(D10="as7100",C10>0),ROUND(C10/1000,0),IF(AND(D10="as7140",C10>0),ROUND(C10/1000,0),IF(AND(D10="pl1120",C10<0),-ROUND(C10/1000,0),IF(AND(D10="pl1125",C10>0),-ROUND(C10/1000,0),IF(AND(D10="pl1315",C10<0),ROUND(C10/1000,0),IF((D10="pl1340"),-ROUND(C10/1000,0),IF(AND(D10="pl1355",C10<0),-ROUND(C10/1000,0),IF(AND(D10="pl1320",C10>0),ROUND(C10/1000,0),IF(AND(D10="pl1380",C10>0),-ROUND(C10/1000,0),IF(AND(D10="pl1385",C10<0),-ROUND(C10/1000,0),IF(AND(D10="li8100",C10<0),-ROUND(C10/1000,0),IF(AND(D10="li8140",C10<0),-ROUND(C10/1000,0),IF(AND(D10="pl1120",C10<0),ROUND(C10/1000,0),IF(AND(D10="pl1355",C10<0),ROUND(C10/1000,0),IF(AND(D10="pl1385",C10<0),ROUND(C10/1000,0),IF((D10="pl1340"),ROUND(C10/1000,0),IF((D10="pl2275"),-ROUND(C10/1000,0),-ROUND(C10/1000,0)))))))))))))))))) -> 13170 | F10: =IF(ISERROR(VLOOKUP(B10,'[1]TAB CONV SIGNE VECTOR'!J:K,2,FALSE)),'[1]TEST FORM'!B10,VLOOKUP(B10,'[1]TAB CONV SIGNE VECTOR'!J:K,2,FALSE)) -> S0002
A11: AS7100 | B11: S0005 | C11: 14019141 | D11: =IF(AND(A11="as7100",C11>0),A11,IF(AND(A11="as7140",C11>0),A11,IF(AND(A11="PL1125",C11>0),A11,IF(AND(A11="PL1315",C11>0),A11,IF(AND(A11="PL1320",C11>0),A11,IF(AND(A11="PL1380",C11>0),A11,IF(AND(A11="LI8100",C11<0),A11,IF(AND(A11="LI8140",C11<0),A11,IF(AND(A11="PL1120",C11<0),A11,IF(AND(A11="PL1355",C11<0),A11,IF(AND(A11="PL1385",C11<0),A11,VLOOKUP(A11,'[1]TAB CONV SIGNE VECTOR'!A:C,3,FALSE)))))))))))) -> AS7100 | E11: =IF(AND(D11="as7100",C11>0),ROUND(C11/1000,0),IF(AND(D11="as7140",C11>0),ROUND(C11/1000,0),IF(AND(D11="pl1120",C11<0),-ROUND(C11/1000,0),IF(AND(D11="pl1125",C11>0),-ROUND(C11/1000,0),IF(AND(D11="pl1315",C11<0),ROUND(C11/1000,0),IF((D11="pl1340"),-ROUND(C11/1000,0),IF(AND(D11="pl1355",C11<0),-ROUND(C11/1000,0),IF(AND(D11="pl1320",C11>0),ROUND(C11/1000,0),IF(AND(D11="pl1380",C11>0),-ROUND(C11/1000,0),IF(AND(D11="pl1385",C11<0),-ROUND(C11/1000,0),IF(AND(D11="li8100",C11<0),-ROUND(C11/1000,0),IF(AND(D11="li8140",C11<0),-ROUND(C11/1000,0),IF(AND(D11="pl1120",C11<0),ROUND(C11/1000,0),IF(AND(D11="pl1355",C11<0),ROUND(C11/1000,0),IF(AND(D11="pl1385",C11<0),ROUND(C11/1000,0),IF((D11="pl1340"),ROUND(C11/1000,0),IF((D11="pl2275"),-ROUND(C11/1000,0),-ROUND(C11/1000,0)))))))))))))))))) -> 14019 | F11: =IF(ISERROR(VLOOKUP(B11,'[1]TAB CONV SIGNE VECTOR'!J:K,2,FALSE)),'[1]TEST FORM'!B11,VLOOKUP(B11,'[1]TAB CONV SIGNE VECTOR'!J:K,2,FALSE)) -> S0005
A12: AS7100 | B12: S0024 | C12: 233966.83 | D12: =IF(AND(A12="as7100",C12>0),A12,IF(AND(A12="as7140",C12>0),A12,IF(AND(A12="PL1125",C12>0),A12,IF(AND(A12="PL1315",C12>0),A12,IF(AND(A12="PL1320",C12>0),A12,IF(AND(A12="PL1380",C12>0),A12,IF(AND(A12="LI8100",C12<0),A12,IF(AND(A12="LI8140",C12<0),A12,IF(AND(A12="PL1120",C12<0),A12,IF(AND(A12="PL1355",C12<0),A12,IF(AND(A12="PL1385",C12<0),A12,VLOOKUP(A12,'[1]TAB CONV SIGNE VECTOR'!A:C,3,FALSE)))))))))))) -> AS7100 | E12: =IF(AND(D12="as7100",C12>0),ROUND(C12/1000,0),IF(AND(D12="as7140",C12>0),ROUND(C12/1000,0),IF(AND(D12="pl1120",C12<0),-ROUND(C12/1000,0),IF(AND(D12="pl1125",C12>0),-ROUND(C12/1000,0),IF(AND(D12="pl1315",C12<0),ROUND(C12/1000,0),IF((D12="pl1340"),-ROUND(C12/1000,0),IF(AND(D12="pl1355",C12<0),-ROUND(C12/1000,0),IF(AND(D12="pl1320",C12>0),ROUND(C12/1000,0),IF(AND(D12="pl1380",C12>0),-ROUND(C12/1000,0),IF(AND(D12="pl1385",C12<0),-ROUND(C12/1000,0),IF(AND(D12="li8100",C12<0),-ROUND(C12/1000,0),IF(AND(D12="li8140",C12<0),-ROUND(C12/1000,0),IF(AND(D12="pl1120",C12<0),ROUND(C12/1000,0),IF(AND(D12="pl1355",C12<0),ROUND(C12/1000,0),IF(AND(D12="pl1385",C12<0),ROUND(C12/1000,0),IF((D12="pl1340"),ROUND(C12/1000,0),IF((D12="pl2275"),-ROUND(C12/1000,0),-ROUND(C12/1000,0)))))))))))))))))) -> 234 | F12: =IF(ISERROR(VLOOKUP(B12,'[1]TAB CONV SIGNE VECTOR'!J:K,2,FALSE)),'[1]TEST FORM'!B12,VLOOKUP(B12,'[1]TAB CONV SIGNE VECTOR'!J:K,2,FALSE)) -> S0024
A13: AS7100 | B13: SX326 | C13: 41558 | D13: =IF(AND(A13="as7100",C13>0),A13,IF(AND(A13="as7140",C13>0),A13,IF(AND(A13="PL1125",C13>0),A13,IF(AND(A13="PL1315",C13>0),A13,IF(AND(A13="PL1320",C13>0),A13,IF(AND(A13="PL1380",C13>0),A13,IF(AND(A13="LI8100",C13<0),A13,IF(AND(A13="LI8140",C13<0),A13,IF(AND(A13="PL1120",C13<0),A13,IF(AND(A13="PL1355",C13<0),A13,IF(AND(A13="PL1385",C13<0),A13,VLOOKUP(A13,'[1]TAB CONV SIGNE VECTOR'!A:C,3,FALSE)))))))))))) -> AS7100 | E13: =IF(AND(D13="as7100",C13>0),ROUND(C13/1000,0),IF(AND(D13="as7140",C13>0),ROUND(C13/1000,0),IF(AND(D13="pl1120",C13<0),-ROUND(C13/1000,0),IF(AND(D13="pl1125",C13>0),-ROUND(C13/1000,0),IF(AND(D13="pl1315",C13<0),ROUND(C13/1000,0),IF((D13="pl1340"),-ROUND(C13/1000,0),IF(AND(D13="pl1355",C13<0),-ROUND(C13/1000,0),IF(AND(D13="pl1320",C13>0),ROUND(C13/1000,0),IF(AND(D13="pl1380",C13>0),-ROUND(C13/1000,0),IF(AND(D13="pl1385",C13<0),-ROUND(C13/1000,0),IF(AND(D13="li8100",C13<0),-ROUND(C13/1000,0),IF(AND(D13="li8140",C13<0),-ROUND(C13/1000,0),IF(AND(D13="pl1120",C13<0),ROUND(C13/1000,0),IF(AND(D13="pl1355",C13<0),ROUND(C13/1000,0),IF(AND(D13="pl1385",C13<0),ROUND(C13/1000,0),IF((D13="pl1340"),ROUND(C13/1000,0),IF((D13="pl2275"),-ROUND(C13/1000,0),-ROUND(C13/1000,0)))))))))))))))))) -> 42 | F13: =IF(ISERROR(VLOOKUP(B13,'[1]TAB CONV SIGNE VECTOR'!J:K,2,FALSE)),'[1]TEST FORM'!B13,VLOOKUP(B13,'[1]TAB CONV SIGNE VECTOR'!J:K,2,FALSE)) -> S0025
A14: AS7100 | B14: SX327P | C14: 70775 | D14: =IF(AND(A14="as7100",C14>0),A14,IF(AND(A14="as7140",C14>0),A14,IF(AND(A14="PL1125",C14>0),A14,IF(AND(A14="PL1315",C14>0),A14,IF(AND(A14="PL1320",C14>0),A14,IF(AND(A14="PL1380",C14>0),A14,IF(AND(A14="LI8100",C14<0),A14,IF(AND(A14="LI8140",C14<0),A14,IF(AND(A14="PL1120",C14<0),A14,IF(AND(A14="PL1355",C14<0),A14,IF(AND(A14="PL1385",C14<0),A14,VLOOKUP(A14,'[1]TAB CONV SIGNE VECTOR'!A:C,3,FALSE)))))))))))) -> AS7100 | E14: =IF(AND(D14="as7100",C14>0),ROUND(C14/1000,0),IF(AND(D14="as7140",C14>0),ROUND(C14/1000,0),IF(AND(D14="pl1120",C14<0),-ROUND(C14/1000,0),IF(AND(D14="pl1125",C14>0),-ROUND(C14/1000,0),IF(AND(D14="pl1315",C14<0),ROUND(C14/1000,0),IF((D14="pl1340"),-ROUND(C14/1000,0),IF(AND(D14="pl1355",C14<0),-ROUND(C14/1000,0),IF(AND(D14="pl1320",C14>0),ROUND(C14/1000,0),IF(AND(D14="pl1380",C14>0),-ROUND(C14/1000,0),IF(AND(D14="pl1385",C14<0),-ROUND(C14/1000,0),IF(AND(D14="li8100",C14<0),-ROUND(C14/1000,0),IF(AND(D14="li8140",C14<0),-ROUND(C14/1000,0),IF(AND(D14="pl1120",C14<0),ROUND(C14/1000,0),IF(AND(D14="pl1355",C14<0),ROUND(C14/1000,0),IF(AND(D14="pl1385",C14<0),ROUND(C14/1000,0),IF((D14="pl1340"),ROUND(C14/1000,0),IF((D14="pl2275"),-ROUND(C14/1000,0),-ROUND(C14/1000,0)))))))))))))))))) -> 71 | F14: =IF(ISERROR(VLOOKUP(B14,'[1]TAB CONV SIGNE VECTOR'!J:K,2,FALSE)),'[1]TEST FORM'!B14,VLOOKUP(B14,'[1]TAB CONV SIGNE VECTOR'!J:K,2,FALSE)) -> S0234
A15: AS7100 | B15: SX328 | C15: 831426 | D15: =IF(AND(A15="as7100",C15>0),A15,IF(AND(A15="as7140",C15>0),A15,IF(AND(A15="PL1125",C15>0),A15,IF(AND(A15="PL1315",C15>0),A15,IF(AND(A15="PL1320",C15>0),A15,IF(AND(A15="PL1380",C15>0),A15,IF(AND(A15="LI8100",C15<0),A15,IF(AND(A15="LI8140",C15<0),A15,IF(AND(A15="PL1120",C15<0),A15,IF(AND(A15="PL1355",C15<0),A15,IF(AND(A15="PL1385",C15<0),A15,VLOOKUP(A15,'[1]TAB CONV SIGNE VECTOR'!A:C,3,FALSE)))))))))))) -> AS7100 | E15: =IF(AND(D15="as7100",C15>0),ROUND(C15/1000,0),IF(AND(D15="as7140",C15>0),ROUND(C15/1000,0),IF(AND(D15="pl1120",C15<0),-ROUND(C15/1000,0),IF(AND(D15="pl1125",C15>0),-ROUND(C15/1000,0),IF(AND(D15="pl1315",C15<0),ROUND(C15/1000,0),IF((D15="pl1340"),-ROUND(C15/1000,0),IF(AND(D15="pl1355",C15<0),-ROUND(C15/1000,0),IF(AND(D15="pl1320",C15>0),ROUND(C15/1000,0),IF(AND(D15="pl1380",C15>0),-ROUND(C15/1000,0),IF(AND(D15="pl1385",C15<0),-ROUND(C15/1000,0),IF(AND(D15="li8100",C15<0),-ROUND(C15/1000,0),IF(AND(D15="li8140",C15<0),-ROUND(C15/1000,0),IF(AND(D15="pl1120",C15<0),ROUND(C15/1000,0),IF(AND(D15="pl1355",C15<0),ROUND(C15/1000,0),IF(AND(D15="pl1385",C15<0),ROUND(C15/1000,0),IF((D15="pl1340"),ROUND(C15/1000,0),IF((D15="pl2275"),-ROUND(C15/1000,0),-ROUND(C15/1000,0)))))))))))))))))) -> 831 | F15: =IF(ISERROR(VLOOKUP(B15,'[1]TAB CONV SIGNE VECTOR'!J:K,2,FALSE)),'[1]TEST FORM'!B15,VLOOKUP(B15,'[1]TAB CONV SIGNE VECTOR'!J:K,2,FALSE)) -> S0301
A16: AS7100 | B16: SX332 | C16: 5149368.9 | D16: =IF(AND(A16="as7100",C16>0),A16,IF(AND(A16="as7140",C16>0),A16,IF(AND(A16="PL1125",C16>0),A16,IF(AND(A16="PL1315",C16>0),A16,IF(AND(A16="PL1320",C16>0),A16,IF(AND(A16="PL1380",C16>0),A16,IF(AND(A16="LI8100",C16<0),A16,IF(AND(A16="LI8140",C16<0),A16,IF(AND(A16="PL1120",C16<0),A16,IF(AND(A16="PL1355",C16<0),A16,IF(AND(A16="PL1385",C16<0),A16,VLOOKUP(A16,'[1]TAB CONV SIGNE VECTOR'!A:C,3,FALSE)))))))))))) -> AS7100 | E16: =IF(AND(D16="as7100",C16>0),ROUND(C16/1000,0),IF(AND(D16="as7140",C16>0),ROUND(C16/1000,0),IF(AND(D16="pl1120",C16<0),-ROUND(C16/1000,0),IF(AND(D16="pl1125",C16>0),-ROUND(C16/1000,0),IF(AND(D16="pl1315",C16<0),ROUND(C16/1000,0),IF((D16="pl1340"),-ROUND(C16/1000,0),IF(AND(D16="pl1355",C16<0),-ROUND(C16/1000,0),IF(AND(D16="pl1320",C16>0),ROUND(C16/1000,0),IF(AND(D16="pl1380",C16>0),-ROUND(C16/1000,0),IF(AND(D16="pl1385",C16<0),-ROUND(C16/1000,0),IF(AND(D16="li8100",C16<0),-ROUND(C16/1000,0),IF(AND(D16="li8140",C16<0),-ROUND(C16/1000,0),IF(AND(D16="pl1120",C16<0),ROUND(C16/1000,0),IF(AND(D16="pl1355",C16<0),ROUND(C16/1000,0),IF(AND(D16="pl1385",C16<0),ROUND(C16/1000,0),IF((D16="pl1340"),ROUND(C16/1000,0),IF((D16="pl2275"),-ROUND(C16/1000,0),-ROUND(C16/1000,0)))))))))))))))))) -> 5149 | F16: =IF(ISERROR(VLOOKUP(B16,'[1]TAB CONV SIGNE VECTOR'!J:K,2,FALSE)),'[1]TEST FORM'!B16,VLOOKUP(B16,'[1]TAB CONV SIGNE VECTOR'!J:K,2,FALSE)) -> S0309
A17: AS7100 | B17: SX334 | C17: 2316369.9 | D17: =IF(AND(A17="as7100",C17>0),A17,IF(AND(A17="as7140",C17>0),A17,IF(AND(A17="PL1125",C17>0),A17,IF(AND(A17="PL1315",C17>0),A17,IF(AND(A17="PL1320",C17>0),A17,IF(AND(A17="PL1380",C17>0),A17,IF(AND(A17="LI8100",C17<0),A17,IF(AND(A17="LI8140",C17<0),A17,IF(AND(A17="PL1120",C17<0),A17,IF(AND(A17="PL1355",C17<0),A17,IF(AND(A17="PL1385",C17<0),A17,VLOOKUP(A17,'[1]TAB CONV SIGNE VECTOR'!A:C,3,FALSE)))))))))))) -> AS7100 | E17: =IF(AND(D17="as7100",C17>0),ROUND(C17/1000,0),IF(AND(D17="as7140",C17>0),ROUND(C17/1000,0),IF(AND(D17="pl1120",C17<0),-ROUND(C17/1000,0),IF(AND(D17="pl1125",C17>0),-ROUND(C17/1000,0),IF(AND(D17="pl1315",C17<0),ROUND(C17/1000,0),IF((D17="pl1340"),-ROUND(C17/1000,0),IF(AND(D17="pl1355",C17<0),-ROUND(C17/1000,0),IF(AND(D17="pl1320",C17>0),ROUND(C17/1000,0),IF(AND(D17="pl1380",C17>0),-ROUND(C17/1000,0),IF(AND(D17="pl1385",C17<0),-ROUND(C17/1000,0),IF(AND(D17="li8100",C17<0),-ROUND(C17/1000,0),IF(AND(D17="li8140",C17<0),-ROUND(C17/1000,0),IF(AND(D17="pl1120",C17<0),ROUND(C17/1000,0),IF(AND(D17="pl1355",C17<0),ROUND(C17/1000,0),IF(AND(D17="pl1385",C17<0),ROUND(C17/1000,0),IF((D17="pl1340"),ROUND(C17/1000,0),IF((D17="pl2275"),-ROUND(C17/1000,0),-ROUND(C17/1000,0)))))))))))))))))) -> 2316 | F17: =IF(ISERROR(VLOOKUP(B17,'[1]TAB CONV SIGNE VECTOR'!J:K,2,FALSE)),'[1]TEST FORM'!B17,VLOOKUP(B17,'[1]TAB CONV SIGNE VECTOR'!J:K,2,FALSE)) -> S0332
A18: AS7100 | B18: SX345 | C18: 24077.64 | D18: =IF(AND(A18="as7100",C18>0),A18,IF(AND(A18="as7140",C18>0),A18,IF(AND(A18="PL1125",C18>0),A18,IF(AND(A18="PL1315",C18>0),A18,IF(AND(A18="PL1320",C18>0),A18,IF(AND(A18="PL1380",C18>0),A18,IF(AND(A18="LI8100",C18<0),A18,IF(AND(A18="LI8140",C18<0),A18,IF(AND(A18="PL1120",C18<0),A18,IF(AND(A18="PL1355",C18<0),A18,IF(AND(A18="PL1385",C18<0),A18,VLOOKUP(A18,'[1]TAB CONV SIGNE VECTOR'!A:C,3,FALSE)))))))))))) -> AS7100 | E18: =IF(AND(D18="as7100",C18>0),ROUND(C18/1000,0),IF(AND(D18="as7140",C18>0),ROUND(C18/1000,0),IF(AND(D18="pl1120",C18<0),-ROUND(C18/1000,0),IF(AND(D18="pl1125",C18>0),-ROUND(C18/1000,0),IF(AND(D18="pl1315",C18<0),ROUND(C18/1000,0),IF((D18="pl1340"),-ROUND(C18/1000,0),IF(AND(D18="pl1355",C18<0),-ROUND(C18/1000,0),IF(AND(D18="pl1320",C18>0),ROUND(C18/1000,0),IF(AND(D18="pl1380",C18>0),-ROUND(C18/1000,0),IF(AND(D18="pl1385",C18<0),-ROUND(C18/1000,0),IF(AND(D18="li8100",C18<0),-ROUND(C18/1000,0),IF(AND(D18="li8140",C18<0),-ROUND(C18/1000,0),IF(AND(D18="pl1120",C18<0),ROUND(C18/1000,0),IF(AND(D18="pl1355",C18<0),ROUND(C18/1000,0),IF(AND(D18="pl1385",C18<0),ROUND(C18/1000,0),IF((D18="pl1340"),ROUND(C18/1000,0),IF((D18="pl2275"),-ROUND(C18/1000,0),-ROUND(C18/1000,0)))))))))))))))))) -> 24 | F18: =IF(ISERROR(VLOOKUP(B18,'[1]TAB CONV SIGNE VECTOR'!J:K,2,FALSE)),'[1]TEST FORM'!B18,VLOOKUP(B18,'[1]TAB CONV SIGNE VECTOR'!J:K,2,FALSE)) -> S0339
A19: AS7100 | B19: SX360CP | C19: 937.03 | D19: =IF(AND(A19="as7100",C19>0),A19,IF(AND(A19="as7140",C19>0),A19,IF(AND(A19="PL1125",C19>0),A19,IF(AND(A19="PL1315",C19>0),A19,IF(AND(A19="PL1320",C19>0),A19,IF(AND(A19="PL1380",C19>0),A19,IF(AND(A19="LI8100",C19<0),A19,IF(AND(A19="LI8140",C19<0),A19,IF(AND(A19="PL1120",C19<0),A19,IF(AND(A19="PL1355",C19<0),A19,IF(AND(A19="PL1385",C19<0),A19,VLOOKUP(A19,'[1]TAB CONV SIGNE VECTOR'!A:C,3,FALSE)))))))))))) -> AS7100 | E19: =IF(AND(D19="as7100",C19>0),ROUND(C19/1000,0),IF(AND(D19="as7140",C19>0),ROUND(C19/1000,0),IF(AND(D19="pl1120",C19<0),-ROUND(C19/1000,0),IF(AND(D19="pl1125",C19>0),-ROUND(C19/1000,0),IF(AND(D19="pl1315",C19<0),ROUND(C19/1000,0),IF((D19="pl1340"),-ROUND(C19/1000,0),IF(AND(D19="pl1355",C19<0),-ROUND(C19/1000,0),IF(AND(D19="pl1320",C19>0),ROUND(C19/1000,0),IF(AND(D19="pl1380",C19>0),-ROUND(C19/1000,0),IF(AND(D19="pl1385",C19<0),-ROUND(C19/1000,0),IF(AND(D19="li8100",C19<0),-ROUND(C19/1000,0),IF(AND(D19="li8140",C19<0),-ROUND(C19/1000,0),IF(AND(D19="pl1120",C19<0),ROUND(C19/1000,0),IF(AND(D19="pl1355",C19<0),ROUND(C19/1000,0),IF(AND(D19="pl1385",C19<0),ROUND(C19/1000,0),IF((D19="pl1340"),ROUND(C19/1000,0),IF((D19="pl2275"),-ROUND(C19/1000,0),-ROUND(C19/1000,0)))))))))))))))))) -> 1 | F19: =IF(ISERROR(VLOOKUP(B19,'[1]TAB CONV SIGNE VECTOR'!J:K,2,FALSE)),'[1]TEST FORM'!B19,VLOOKUP(B19,'[1]TAB CONV SIGNE VECTOR'!J:K,2,FALSE)) -> S0401
A20: AS7100 | B20: SX371 | C20: 11960 | D20: =IF(AND(A20="as7100",C20>0),A20,IF(AND(A20="as7140",C20>0),A20,IF(AND(A20="PL1125",C20>0),A20,IF(AND(A20="PL1315",C20>0),A20,IF(AND(A20="PL1320",C20>0),A20,IF(AND(A20="PL1380",C20>0),A20,IF(AND(A20="LI8100",C20<0),A20,IF(AND(A20="LI8140",C20<0),A20,IF(AND(A20="PL1120",C20<0),A20,IF(AND(A20="PL1355",C20<0),A20,IF(AND(A20="PL1385",C20<0),A20,VLOOKUP(A20,'[1]TAB CONV SIGNE VECTOR'!A:C,3,FALSE)))))))))))) -> AS7100 | E20: =IF(AND(D20="as7100",C20>0),ROUND(C20/1000,0),IF(AND(D20="as7140",C20>0),ROUND(C20/1000,0),IF(AND(D20="pl1120",C20<0),-ROUND(C20/1000,0),IF(AND(D20="pl1125",C20>0),-ROUND(C20/1000,0),IF(AND(D20="pl1315",C20<0),ROUND(C20/1000,0),IF((D20="pl1340"),-ROUND(C20/1000,0),IF(AND(D20="pl1355",C20<0),-ROUND(C20/1000,0),IF(AND(D20="pl1320",C20>0),ROUND(C20/1000,0),IF(AND(D20="pl1380",C20>0),-ROUND(C20/1000,0),IF(AND(D20="pl1385",C20<0),-ROUND(C20/1000,0),IF(AND(D20="li8100",C20<0),-ROUND(C20/1000,0),IF(AND(D20="li8140",C20<0),-ROUND(C20/1000,0),IF(AND(D20="pl1120",C20<0),ROUND(C20/1000,0),IF(AND(D20="pl1355",C20<0),ROUND(C20/1000,0),IF(AND(D20="pl1385",C20<0),ROUND(C20/1000,0),IF((D20="pl1340"),ROUND(C20/1000,0),IF((D20="pl2275"),-ROUND(C20/1000,0),-ROUND(C20/1000,0)))))))))))))))))) -> 12 | F20: =IF(ISERROR(VLOOKUP(B20,'[1]TAB CONV SIGNE VECTOR'!J:K,2,FALSE)),'[1]TEST FORM'!B20,VLOOKUP(B20,'[1]TAB CONV SIGNE VECTOR'!J:K,2,FALSE)) -> S0917
A21: AS7100 | B21: SX385 | C21: 7280733.8 | D21: =IF(AND(A21="as7100",C21>0),A21,IF(AND(A21="as7140",C21>0),A21,IF(AND(A21="PL1125",C21>0),A21,IF(AND(A21="PL1315",C21>0),A21,IF(AND(A21="PL1320",C21>0),A21,IF(AND(A21="PL1380",C21>0),A21,IF(AND(A21="LI8100",C21<0),A21,IF(AND(A21="LI8140",C21<0),A21,IF(AND(A21="PL1120",C21<0),A21,IF(AND(A21="PL1355",C21<0),A21,IF(AND(A21="PL1385",C21<0),A21,VLOOKUP(A21,'[1]TAB CONV SIGNE VECTOR'!A:C,3,FALSE)))))))))))) -> AS7100 | E21: =IF(AND(D21="as7100",C21>0),ROUND(C21/1000,0),IF(AND(D21="as7140",C21>0),ROUND(C21/1000,0),IF(AND(D21="pl1120",C21<0),-ROUND(C21/1000,0),IF(AND(D21="pl1125",C21>0),-ROUND(C21/1000,0),IF(AND(D21="pl1315",C21<0),ROUND(C21/1000,0),IF((D21="pl1340"),-ROUND(C21/1000,0),IF(AND(D21="pl1355",C21<0),-ROUND(C21/1000,0),IF(AND(D21="pl1320",C21>0),ROUND(C21/1000,0),IF(AND(D21="pl1380",C21>0),-ROUND(C21/1000,0),IF(AND(D21="pl1385",C21<0),-ROUND(C21/1000,0),IF(AND(D21="li8100",C21<0),-ROUND(C21/1000,0),IF(AND(D21="li8140",C21<0),-ROUND(C21/1000,0),IF(AND(D21="pl1120",C21<0),ROUND(C21/1000,0),IF(AND(D21="pl1355",C21<0),ROUND(C21/1000,0),IF(AND(D21="pl1385",C21<0),ROUND(C21/1000,0),IF((D21="pl1340"),ROUND(C21/1000,0),IF((D21="pl2275"),-ROUND(C21/1000,0),-ROUND(C21/1000,0)))))))))))))))))) -> 7281 | F21: =IF(ISERROR(VLOOKUP(B21,'[1]TAB CONV SIGNE VECTOR'!J:K,2,FALSE)),'[1]TEST FORM'!B21,VLOOKUP(B21,'[1]TAB CONV SIGNE VECTOR'!J:K,2,FALSE)) -> S2100
... A30: AS7100 | B30: ZSX324 | C30: 133284.11 | D30: =IF(AND(A30="as7100",C30>0),A30,IF(AND(A30="as7140",C30>0),A30,IF(AND(A30="PL1125",C30>0),A30,IF(AND(A30="PL1315",C30>0),A30,IF(AND(A30="PL1320",C30>0),A30,IF(AND(A30="PL1380",C30>0),A30,IF(AND(A30="LI8100",C30<0),A30,IF(AND(A30="LI8140",C30<0),A30,IF(AND(A30="PL1120",C30<0),A30,IF(AND(A30="PL1355",C30<0),A30,IF(AND(A30="PL1385",C30<0),A30,VLOOKUP(A30,'[1]TAB CONV SIGNE VECTOR'!A:C,3,FALSE)))))))))))) -> AS7100 | E30: =IF(AND(D30="as7100",C30>0),ROUND(C30/1000,0),IF(AND(D30="as7140",C30>0),ROUND(C30/1000,0),IF(AND(D30="pl1120",C30<0),-ROUND(C30/1000,0),IF(AND(D30="pl1125",C30>0),-ROUND(C30/1000,0),IF(AND(D30="pl1315",C30<0),ROUND(C30/1000,0),IF((D30="pl1340"),-ROUND(C30/1000,0),IF(AND(D30="pl1355",C30<0),-ROUND(C30/1000,0),IF(AND(D30="pl1320",C30>0),ROUND(C30/1000,0),IF(AND(D30="pl1380",C30>0),-ROUND(C30/1000,0),IF(AND(D30="pl1385",C30<0),-ROUND(C30/1000,0),IF(AND(D30="li8100",C30<0),-ROUND(C30/1000,0),IF(AND(D30="li8140",C30<0),-ROUND(C30/1000,0),IF(AND(D30="pl1120",C30<0),ROUND(C30/1000,0),IF(AND(D30="pl1355",C30<0),ROUND(C30/1000,0),IF(AND(D30="pl1385",C30<0),ROUND(C30/1000,0),IF((D30="pl1340"),ROUND(C30/1000,0),IF((D30="pl2275"),-ROUND(C30/1000,0),-ROUND(C30/1000,0)))))))))))))))))) -> 133 | F30: =IF(ISERROR(VLOOKUP(B30,'[1]TAB CONV SIGNE VECTOR'!J:K,2,FALSE)),'[1]TEST FORM'!B30,VLOOKUP(B30,'[1]TAB CONV SIGNE VECTOR'!J:K,2,FALSE)) -> ZSX324P
A31: Total AS7100 | C31: 5.3193991e+08 | D31: =IF(AND(A31="as7100",C31>0),A31,IF(AND(A31="as7140",C31>0),A31,IF(AND(A31="PL1125",C31>0),A31,IF(AND(A31="PL1315",C31>0),A31,IF(AND(A31="PL1320",C31>0),A31,IF(AND(A31="PL1380",C31>0),A31,IF(AND(A31="LI8100",C31<0),A31,IF(AND(A31="LI8140",C31<0),A31,IF(AND(A31="PL1120",C31<0),A31,IF(AND(A31="PL1355",C31<0),A31,IF(AND(A31="PL1385",C31<0),A31,VLOOKUP(A31,'[1]TAB CONV SIGNE VECTOR'!A:C,3,FALSE)))))))))))) -> #N/A | E31: =IF(AND(D31="as7100",C31>0),ROUND(C31/1000,0),IF(AND(D31="as7140",C31>0),ROUND(C31/1000,0),IF(AND(D31="pl1120",C31<0),-ROUND(C31/1000,0),IF(AND(D31="pl1125",C31>0),-ROUND(C31/1000,0),IF(AND(D31="pl1315",C31<0),ROUND(C31/1000,0),IF((D31="pl1340"),-ROUND(C31/1000,0),IF(AND(D31="pl1355",C31<0),-ROUND(C31/1000,0),IF(AND(D31="pl1320",C31>0),ROUND(C31/1000,0),IF(AND(D31="pl1380",C31>0),-ROUND(C31/1000,0),IF(AND(D31="pl1385",C31<0),-ROUND(C31/1000,0),IF(AND(D31="li8100",C31<0),-ROUND(C31/1000,0),IF(AND(D31="li8140",C31<0),-ROUND(C31/1000,0),IF(AND(D31="pl1120",C31<0),ROUND(C31/1000,0),IF(AND(D31="pl1355",C31<0),ROUND(C31/1000,0),IF(AND(D31="pl1385",C31<0),ROUND(C31/1000,0),IF((D31="pl1340"),ROUND(C31/1000,0),IF((D31="pl2275"),-ROUND(C31/1000,0),-ROUND(C31/1000,0)))))))))))))))))) -> #N/A | F31: =IF(ISERROR(VLOOKUP(B31,'[1]TAB CONV SIGNE VECTOR'!J:K,2,FALSE)),'[1]TEST FORM'!B31,VLOOKUP(B31,'[1]TAB CONV SIGNE VECTOR'!J:K,2,FALSE)) -> S2230
A32: AS7140 | B32: 0 | C32: 17592474 | D32: =IF(AND(A32="as7100",C32>0),A32,IF(AND(A32="as7140",C32>0),A32,IF(AND(A32="PL1125",C32>0),A32,IF(AND(A32="PL1315",C32>0),A32,IF(AND(A32="PL1320",C32>0),A32,IF(AND(A32="PL1380",C32>0),A32,IF(AND(A32="LI8100",C32<0),A32,IF(AND(A32="LI8140",C32<0),A32,IF(AND(A32="PL1120",C32<0),A32,IF(AND(A32="PL1355",C32<0),A32,IF(AND(A32="PL1385",C32<0),A32,VLOOKUP(A32,'[1]TAB CONV SIGNE VECTOR'!A:C,3,FALSE)))))))))))) -> AS7140 | E32: =IF(AND(D32="as7100",C32>0),ROUND(C32/1000,0),IF(AND(D32="as7140",C32>0),ROUND(C32/1000,0),IF(AND(D32="pl1120",C32<0),-ROUND(C32/1000,0),IF(AND(D32="pl1125",C32>0),-ROUND(C32/1000,0),IF(AND(D32="pl1315",C32<0),ROUND(C32/1000,0),IF((D32="pl1340"),-ROUND(C32/1000,0),IF(AND(D32="pl1355",C32<0),-ROUND(C32/1000,0),IF(AND(D32="pl1320",C32>0),ROUND(C32/1000,0),IF(AND(D32="pl1380",C32>0),-ROUND(C32/1000,0),IF(AND(D32="pl1385",C32<0),-ROUND(C32/1000,0),IF(AND(D32="li8100",C32<0),-ROUND(C32/1000,0),IF(AND(D32="li8140",C32<0),-ROUND(C32/1000,0),IF(AND(D32="pl1120",C32<0),ROUND(C32/1000,0),IF(AND(D32="pl1355",C32<0),ROUND(C32/1000,0),IF(AND(D32="pl1385",C32<0),ROUND(C32/1000,0),IF((D32="pl1340"),ROUND(C32/1000,0),IF((D32="pl2275"),-ROUND(C32/1000,0),-ROUND(C32/1000,0)))))))))))))))))) -> 17592 | F32: =IF(ISERROR(VLOOKUP(B32,'[1]TAB CONV SIGNE VECTOR'!J:K,2,FALSE)),'[1]TEST FORM'!B32,VLOOKUP(B32,'[1]TAB CONV SIGNE VECTOR'!J:K,2,FALSE)) -> S2232
A33: AS7140 | C33: 1.2638965e+09 | D33: =IF(AND(A33="as7100",C33>0),A33,IF(AND(A33="as7140",C33>0),A33,IF(AND(A33="PL1125",C33>0),A33,IF(AND(A33="PL1315",C33>0),A33,IF(AND(A33="PL1320",C33>0),A33,IF(AND(A33="PL1380",C33>0),A33,IF(AND(A33="LI8100",C33<0),A33,IF(AND(A33="LI8140",C33<0),A33,IF(AND(A33="PL1120",C33<0),A33,IF(AND(A33="PL1355",C33<0),A33,IF(AND(A33="PL1385",C33<0),A33,VLOOKUP(A33,'[1]TAB CONV SIGNE VECTOR'!A:C,3,FALSE)))))))))))) -> AS7140 | E33: =IF(AND(D33="as7100",C33>0),ROUND(C33/1000,0),IF(AND(D33="as7140",C33>0),ROUND(C33/1000,0),IF(AND(D33="pl1120",C33<0),-ROUND(C33/1000,0),IF(AND(D33="pl1125",C33>0),-ROUND(C33/1000,0),IF(AND(D33="pl1315",C33<0),ROUND(C33/1000,0),IF((D33="pl1340"),-ROUND(C33/1000,0),IF(AND(D33="pl1355",C33<0),-ROUND(C33/1000,0),IF(AND(D33="pl1320",C33>0),ROUND(C33/1000,0),IF(AND(D33="pl1380",C33>0),-ROUND(C33/1000,0),IF(AND(D33="pl1385",C33<0),-ROUND(C33/1000,0),IF(AND(D33="li8100",C33<0),-ROUND(C33/1000,0),IF(AND(D33="li8140",C33<0),-ROUND(C33/1000,0),IF(AND(D33="pl1120",C33<0),ROUND(C33/1000,0),IF(AND(D33="pl1355",C33<0),ROUND(C33/1000,0),IF(AND(D33="pl1385",C33<0),ROUND(C33/1000,0),IF((D33="pl1340"),ROUND(C33/1000,0),IF((D33="pl2275"),-ROUND(C33/1000,0),-ROUND(C33/1000,0)))))))))))))))))) -> 1263896 | F33: =IF(ISERROR(VLOOKUP(B33,'[1]TAB CONV SIGNE VECTOR'!J:K,2,FALSE)),'[1]TEST FORM'!B33,VLOOKUP(B33,'[1]TAB CONV SIGNE VECTOR'!J:K,2,FALSE)) -> s2407
A34: AS7140 | B34: S0002 | C34: -6576564.2 | D34: =IF(AND(A34="as7100",C34>0),A34,IF(AND(A34="as7140",C34>0),A34,IF(AND(A34="PL1125",C34>0),A34,IF(AND(A34="PL1315",C34>0),A34,IF(AND(A34="PL1320",C34>0),A34,IF(AND(A34="PL1380",C34>0),A34,IF(AND(A34="LI8100",C34<0),A34,IF(AND(A34="LI8140",C34<0),A34,IF(AND(A34="PL1120",C34<0),A34,IF(AND(A34="PL1355",C34<0),A34,IF(AND(A34="PL1385",C34<0),A34,VLOOKUP(A34,'[1]TAB CONV SIGNE VECTOR'!A:C,3,FALSE)))))))))))) -> LI8140 | E34: =IF(AND(D34="as7100",C34>0),ROUND(C34/1000,0),IF(AND(D34="as7140",C34>0),ROUND(C34/1000,0),IF(AND(D34="pl1120",C34<0),-ROUND(C34/1000,0),IF(AND(D34="pl1125",C34>0),-ROUND(C34/1000,0),IF(AND(D34="pl1315",C34<0),ROUND(C34/1000,0),IF((D34="pl1340"),-ROUND(C34/1000,0),IF(AND(D34="pl1355",C34<0),-ROUND(C34/1000,0),IF(AND(D34="pl1320",C34>0),ROUND(C34/1000,0),IF(AND(D34="pl1380",C34>0),-ROUND(C34/1000,0),IF(AND(D34="pl1385",C34<0),-ROUND(C34/1000,0),IF(AND(D34="li8100",C34<0),-ROUND(C34/1000,0),IF(AND(D34="li8140",C34<0),-ROUND(C34/1000,0),IF(AND(D34="pl1120",C34<0),ROUND(C34/1000,0),IF(AND(D34="pl1355",C34<0),ROUND(C34/1000,0),IF(AND(D34="pl1385",C34<0),ROUND(C34/1000,0),IF((D34="pl1340"),ROUND(C34/1000,0),IF((D34="pl2275"),-ROUND(C34/1000,0),-ROUND(C34/1000,0)))))))))))))))))) -> 6577 | F34: =IF(ISERROR(VLOOKUP(B34,'[1]TAB CONV SIGNE VECTOR'!J:K,2,FALSE)),'[1]TEST FORM'!B34,VLOOKUP(B34,'[1]TAB CONV SIGNE VECTOR'!J:K,2,FALSE)) -> S7000
A35: AS7140 | B35: S0005 | C35: 0 | D35: =IF(AND(A35="as7100",C35>0),A35,IF(AND(A35="as7140",C35>0),A35,IF(AND(A35="PL1125",C35>0),A35,IF(AND(A35="PL1315",C35>0),A35,IF(AND(A35="PL1320",C35>0),A35,IF(AND(A35="PL1380",C35>0),A35,IF(AND(A35="LI8100",C35<0),A35,IF(AND(A35="LI8140",C35<0),A35,IF(AND(A35="PL1120",C35<0),A35,IF(AND(A35="PL1355",C35<0),A35,IF(AND(A35="PL1385",C35<0),A35,VLOOKUP(A35,'[1]TAB CONV SIGNE VECTOR'!A:C,3,FALSE)))))))))))) -> LI8140 | E35: =IF(AND(D35="as7100",C35>0),ROUND(C35/1000,0),IF(AND(D35="as7140",C35>0),ROUND(C35/1000,0),IF(AND(D35="pl1120",C35<0),-ROUND(C35/1000,0),IF(AND(D35="pl1125",C35>0),-ROUND(C35/1000,0),IF(AND(D35="pl1315",C35<0),ROUND(C35/1000,0),IF((D35="pl1340"),-ROUND(C35/1000,0),IF(AND(D35="pl1355",C35<0),-ROUND(C35/1000,0),IF(AND(D35="pl1320",C35>0),ROUND(C35/1000,0),IF(AND(D35="pl1380",C35>0),-ROUND(C35/1000,0),IF(AND(D35="pl1385",C35<0),-ROUND(C35/1000,0),IF(AND(D35="li8100",C35<0),-ROUND(C35/1000,0),IF(AND(D35="li8140",C35<0),-ROUND(C35/1000,0),IF(AND(D35="pl1120",C35<0),ROUND(C35/1000,0),IF(AND(D35="pl1355",C35<0),ROUND(C35/1000,0),IF(AND(D35="pl1385",C35<0),ROUND(C35/1000,0),IF((D35="pl1340"),ROUND(C35/1000,0),IF((D35="pl2275"),-ROUND(C35/1000,0),-ROUND(C35/1000,0)))))))))))))))))) -> 0 | F35: =IF(ISERROR(VLOOKUP(B35,'[1]TAB CONV SIGNE VECTOR'!J:K,2,FALSE)),'[1]TEST FORM'!B35,VLOOKUP(B35,'[1]TAB CONV SIGNE VECTOR'!J:K,2,FALSE)) -> S9065
A36: AS7140 | B36: S0191 | C36: 1199.2 | D36: =IF(AND(A36="as7100",C36>0),A36,IF(AND(A36="as7140",C36>0),A36,IF(AND(A36="PL1125",C36>0),A36,IF(AND(A36="PL1315",C36>0),A36,IF(AND(A36="PL1320",C36>0),A36,IF(AND(A36="PL1380",C36>0),A36,IF(AND(A36="LI8100",C36<0),A36,IF(AND(A36="LI8140",C36<0),A36,IF(AND(A36="PL1120",C36<0),A36,IF(AND(A36="PL1355",C36<0),A36,IF(AND(A36="PL1385",C36<0),A36,VLOOKUP(A36,'[1]TAB CONV SIGNE VECTOR'!A:C,3,FALSE)))))))))))) -> AS7140 | E36: =IF(AND(D36="as7100",C36>0),ROUND(C36/1000,0),IF(AND(D36="as7140",C36>0),ROUND(C36/1000,0),IF(AND(D36="pl1120",C36<0),-ROUND(C36/1000,0),IF(AND(D36="pl1125",C36>0),-ROUND(C36/1000,0),IF(AND(D36="pl1315",C36<0),ROUND(C36/1000,0),IF((D36="pl1340"),-ROUND(C36/1000,0),IF(AND(D36="pl1355",C36<0),-ROUND(C36/1000,0),IF(AND(D36="pl1320",C36>0),ROUND(C36/1000,0),IF(AND(D36="pl1380",C36>0),-ROUND(C36/1000,0),IF(AND(D36="pl1385",C36<0),-ROUND(C36/1000,0),IF(AND(D36="li8100",C36<0),-ROUND(C36/1000,0),IF(AND(D36="li8140",C36<0),-ROUND(C36/1000,0),IF(AND(D36="pl1120",C36<0),ROUND(C36/1000,0),IF(AND(D36="pl1355",C36<0),ROUND(C36/1000,0),IF(AND(D36="pl1385",C36<0),ROUND(C36/1000,0),IF((D36="pl1340"),ROUND(C36/1000,0),IF((D36="pl2275"),-ROUND(C36/1000,0),-ROUND(C36/1000,0)))))))))))))))))) -> 1 | F36: =IF(ISERROR(VLOOKUP(B36,'[1]TAB CONV SIGNE VECTOR'!J:K,2,FALSE)),'[1]TEST FORM'!B36,VLOOKUP(B36,'[1]TAB CONV SIGNE VECTOR'!J:K,2,FALSE)) -> S9095
A37: AS7140 | B37: S0204 | C37: 17045 | D37: =IF(AND(A37="as7100",C37>0),A37,IF(AND(A37="as7140",C37>0),A37,IF(AND(A37="PL1125",C37>0),A37,IF(AND(A37="PL1315",C37>0),A37,IF(AND(A37="PL1320",C37>0),A37,IF(AND(A37="PL1380",C37>0),A37,IF(AND(A37="LI8100",C37<0),A37,IF(AND(A37="LI8140",C37<0),A37,IF(AND(A37="PL1120",C37<0),A37,IF(AND(A37="PL1355",C37<0),A37,IF(AND(A37="PL1385",C37<0),A37,VLOOKUP(A37,'[1]TAB CONV SIGNE VECTOR'!A:C,3,FALSE)))))))))))) -> AS7140 | E37: =IF(AND(D37="as7100",C37>0),ROUND(C37/1000,0),IF(AND(D37="as7140",C37>0),ROUND(C37/1000,0),IF(AND(D37="pl1120",C37<0),-ROUND(C37/1000,0),IF(AND(D37="pl1125",C37>0),-ROUND(C37/1000,0),IF(AND(D37="pl1315",C37<0),ROUND(C37/1000,0),IF((D37="pl1340"),-ROUND(C37/1000,0),IF(AND(D37="pl1355",C37<0),-ROUND(C37/1000,0),IF(AND(D37="pl1320",C37>0),ROUND(C37/1000,0),IF(AND(D37="pl1380",C37>0),-ROUND(C37/1000,0),IF(AND(D37="pl1385",C37<0),-ROUND(C37/1000,0),IF(AND(D37="li8100",C37<0),-ROUND(C37/1000,0),IF(AND(D37="li8140",C37<0),-ROUND(C37/1000,0),IF(AND(D37="pl1120",C37<0),ROUND(C37/1000,0),IF(AND(D37="pl1355",C37<0),ROUND(C37/1000,0),IF(AND(D37="pl1385",C37<0),ROUND(C37/1000,0),IF((D37="pl1340"),ROUND(C37/1000,0),IF((D37="pl2275"),-ROUND(C37/1000,0),-ROUND(C37/1000,0)))))))))))))))))) -> 17 | F37: =IF(ISERROR(VLOOKUP(B37,'[1]TAB CONV SIGNE VECTOR'!J:K,2,FALSE)),'[1]TEST FORM'!B37,VLOOKUP(B37,'[1]TAB CONV SIGNE VECTOR'!J:K,2,FALSE)) -> S9096
A38: AS7140 | B38: S0208 | C38: 427786 | D38: =IF(AND(A38="as7100",C38>0),A38,IF(AND(A38="as7140",C38>0),A38,IF(AND(A38="PL1125",C38>0),A38,IF(AND(A38="PL1315",C38>0),A38,IF(AND(A38="PL1320",C38>0),A38,IF(AND(A38="PL1380",C38>0),A38,IF(AND(A38="LI8100",C38<0),A38,IF(AND(A38="LI8140",C38<0),A38,IF(AND(A38="PL1120",C38<0),A38,IF(AND(A38="PL1355",C38<0),A38,IF(AND(A38="PL1385",C38<0),A38,VLOOKUP(A38,'[1]TAB CONV SIGNE VECTOR'!A:C,3,FALSE)))))))))))) -> AS7140 | E38: =IF(AND(D38="as7100",C38>0),ROUND(C38/1000,0),IF(AND(D38="as7140",C38>0),ROUND(C38/1000,0),IF(AND(D38="pl1120",C38<0),-ROUND(C38/1000,0),IF(AND(D38="pl1125",C38>0),-ROUND(C38/1000,0),IF(AND(D38="pl1315",C38<0),ROUND(C38/1000,0),IF((D38="pl1340"),-ROUND(C38/1000,0),IF(AND(D38="pl1355",C38<0),-ROUND(C38/1000,0),IF(AND(D38="pl1320",C38>0),ROUND(C38/1000,0),IF(AND(D38="pl1380",C38>0),-ROUND(C38/1000,0),IF(AND(D38="pl1385",C38<0),-ROUND(C38/1000,0),IF(AND(D38="li8100",C38<0),-ROUND(C38/1000,0),IF(AND(D38="li8140",C38<0),-ROUND(C38/1000,0),IF(AND(D38="pl1120",C38<0),ROUND(C38/1000,0),IF(AND(D38="pl1355",C38<0),ROUND(C38/1000,0),IF(AND(D38="pl1385",C38<0),ROUND(C38/1000,0),IF((D38="pl1340"),ROUND(C38/1000,0),IF((D38="pl2275"),-ROUND(C38/1000,0),-ROUND(C38/1000,0)))))))))))))))))) -> 428 | F38: =IF(ISERROR(VLOOKUP(B38,'[1]TAB CONV SIGNE VECTOR'!J:K,2,FALSE)),'[1]TEST FORM'!B38,VLOOKUP(B38,'[1]TAB CONV SIGNE VECTOR'!J:K,2,FALSE)) -> S9178
A39: AS7140 | B39: S0226 | C39: 617198 | D39: =IF(AND(A39="as7100",C39>0),A39,IF(AND(A39="as7140",C39>0),A39,IF(AND(A39="PL1125",C39>0),A39,IF(AND(A39="PL1315",C39>0),A39,IF(AND(A39="PL1320",C39>0),A39,IF(AND(A39="PL1380",C39>0),A39,IF(AND(A39="LI8100",C39<0),A39,IF(AND(A39="LI8140",C39<0),A39,IF(AND(A39="PL1120",C39<0),A39,IF(AND(A39="PL1355",C39<0),A39,IF(AND(A39="PL1385",C39<0),A39,VLOOKUP(A39,'[1]TAB CONV SIGNE VECTOR'!A:C,3,FALSE)))))))))))) -> AS7140 | E39: =IF(AND(D39="as7100",C39>0),ROUND(C39/1000,0),IF(AND(D39="as7140",C39>0),ROUND(C39/1000,0),IF(AND(D39="pl1120",C39<0),-ROUND(C39/1000,0),IF(AND(D39="pl1125",C39>0),-ROUND(C39/1000,0),IF(AND(D39="pl1315",C39<0),ROUND(C39/1000,0),IF((D39="pl1340"),-ROUND(C39/1000,0),IF(AND(D39="pl1355",C39<0),-ROUND(C39/1000,0),IF(AND(D39="pl1320",C39>0),ROUND(C39/1000,0),IF(AND(D39="pl1380",C39>0),-ROUND(C39/1000,0),IF(AND(D39="pl1385",C39<0),-ROUND(C39/1000,0),IF(AND(D39="li8100",C39<0),-ROUND(C39/1000,0),IF(AND(D39="li8140",C39<0),-ROUND(C39/1000,0),IF(AND(D39="pl1120",C39<0),ROUND(C39/1000,0),IF(AND(D39="pl1355",C39<0),ROUND(C39/1000,0),IF(AND(D39="pl1385",C39<0),ROUND(C39/1000,0),IF((D39="pl1340"),ROUND(C39/1000,0),IF((D39="pl2275"),-ROUND(C39/1000,0),-ROUND(C39/1000,0)))))))))))))))))) -> 617 | F39: =IF(ISERROR(VLOOKUP(B39,'[1]TAB CONV SIGNE VECTOR'!J:K,2,FALSE)),'[1]TEST FORM'!B39,VLOOKUP(B39,'[1]TAB CONV SIGNE VECTOR'!J:K,2,FALSE)) -> S9400
A40: AS7140 | B40: S0228 | C40: 2863889 | D40: =IF(AND(A40="as7100",C40>0),A40,IF(AND(A40="as7140",C40>0),A40,IF(AND(A40="PL1125",C40>0),A40,IF(AND(A40="PL1315",C40>0),A40,IF(AND(A40="PL1320",C40>0),A40,IF(AND(A40="PL1380",C40>0),A40,IF(AND(A40="LI8100",C40<0),A40,IF(AND(A40="LI8140",C40<0),A40,IF(AND(A40="PL1120",C40<0),A40,IF(AND(A40="PL1355",C40<0),A40,IF(AND(A40="PL1385",C40<0),A40,VLOOKUP(A40,'[1]TAB CONV SIGNE VECTOR'!A:C,3,FALSE)))))))))))) -> AS7140 | E40: =IF(AND(D40="as7100",C40>0),ROUND(C40/1000,0),IF(AND(D40="as7140",C40>0),ROUND(C40/1000,0),IF(AND(D40="pl1120",C40<0),-ROUND(C40/1000,0),IF(AND(D40="pl1125",C40>0),-ROUND(C40/1000,0),IF(AND(D40="pl1315",C40<0),ROUND(C40/1000,0),IF((D40="pl1340"),-ROUND(C40/1000,0),IF(AND(D40="pl1355",C40<0),-ROUND(C40/1000,0),IF(AND(D40="pl1320",C40>0),ROUND(C40/1000,0),IF(AND(D40="pl1380",C40>0),-ROUND(C40/1000,0),IF(AND(D40="pl1385",C40<0),-ROUND(C40/1000,0),IF(AND(D40="li8100",C40<0),-ROUND(C40/1000,0),IF(AND(D40="li8140",C40<0),-ROUND(C40/1000,0),IF(AND(D40="pl1120",C40<0),ROUND(C40/1000,0),IF(AND(D40="pl1355",C40<0),ROUND(C40/1000,0),IF(AND(D40="pl1385",C40<0),ROUND(C40/1000,0),IF((D40="pl1340"),ROUND(C40/1000,0),IF((D40="pl2275"),-ROUND(C40/1000,0),-ROUND(C40/1000,0)))))))))))))))))) -> 2864 | F40: =IF(ISERROR(VLOOKUP(B40,'[1]TAB CONV SIGNE VECTOR'!J:K,2,FALSE)),'[1]TEST FORM'!B40,VLOOKUP(B40,'[1]TAB CONV SIGNE VECTOR'!J:K,2,FALSE)) -> S9999
A41: AS7140 | B41: SD095 | C41: -2068.12 | D41: =IF(AND(A41="as7100",C41>0),A41,IF(AND(A41="as7140",C41>0),A41,IF(AND(A41="PL1125",C41>0),A41,IF(AND(A41="PL1315",C41>0),A41,IF(AND(A41="PL1320",C41>0),A41,IF(AND(A41="PL1380",C41>0),A41,IF(AND(A41="LI8100",C41<0),A41,IF(AND(A41="LI8140",C41<0),A41,IF(AND(A41="PL1120",C41<0),A41,IF(AND(A41="PL1355",C41<0),A41,IF(AND(A41="PL1385",C41<0),A41,VLOOKUP(A41,'[1]TAB CONV SIGNE VECTOR'!A:C,3,FALSE)))))))))))) -> LI8140 | E41: =IF(AND(D41="as7100",C41>0),ROUND(C41/1000,0),IF(AND(D41="as7140",C41>0),ROUND(C41/1000,0),IF(AND(D41="pl1120",C41<0),-ROUND(C41/1000,0),IF(AND(D41="pl1125",C41>0),-ROUND(C41/1000,0),IF(AND(D41="pl1315",C41<0),ROUND(C41/1000,0),IF((D41="pl1340"),-ROUND(C41/1000,0),IF(AND(D41="pl1355",C41<0),-ROUND(C41/1000,0),IF(AND(D41="pl1320",C41>0),ROUND(C41/1000,0),IF(AND(D41="pl1380",C41>0),-ROUND(C41/1000,0),IF(AND(D41="pl1385",C41<0),-ROUND(C41/1000,0),IF(AND(D41="li8100",C41<0),-ROUND(C41/1000,0),IF(AND(D41="li8140",C41<0),-ROUND(C41/1000,0),IF(AND(D41="pl1120",C41<0),ROUND(C41/1000,0),IF(AND(D41="pl1355",C41<0),ROUND(C41/1000,0),IF(AND(D41="pl1385",C41<0),ROUND(C41/1000,0),IF((D41="pl1340"),ROUND(C41/1000,0),IF((D41="pl2275"),-ROUND(C41/1000,0),-ROUND(C41/1000,0)))))))))))))))))) -> 2 | F41: =IF(ISERROR(VLOOKUP(B41,'[1]TAB CONV SIGNE VECTOR'!J:K,2,FALSE)),'[1]TEST FORM'!B41,VLOOKUP(B41,'[1]TAB CONV SIGNE VECTOR'!J:K,2,FALSE)) -> SA024
A42: AS7140 | B42: SD096 | C42: -170.15 | D42: =IF(AND(A42="as7100",C42>0),A42,IF(AND(A42="as7140",C42>0),A42,IF(AND(A42="PL1125",C42>0),A42,IF(AND(A42="PL1315",C42>0),A42,IF(AND(A42="PL1320",C42>0),A42,IF(AND(A42="PL1380",C42>0),A42,IF(AND(A42="LI8100",C42<0),A42,IF(AND(A42="LI8140",C42<0),A42,IF(AND(A42="PL1120",C42<0),A42,IF(AND(A42="PL1355",C42<0),A42,IF(AND(A42="PL1385",C42<0),A42,VLOOKUP(A42,'[1]TAB CONV SIGNE VECTOR'!A:C,3,FALSE)))))))))))) -> LI8140 | E42: =IF(AND(D42="as7100",C42>0),ROUND(C42/1000,0),IF(AND(D42="as7140",C42>0),ROUND(C42/1000,0),IF(AND(D42="pl1120",C42<0),-ROUND(C42/1000,0),IF(AND(D42="pl1125",C42>0),-ROUND(C42/1000,0),IF(AND(D42="pl1315",C42<0),ROUND(C42/1000,0),IF((D42="pl1340"),-ROUND(C42/1000,0),IF(AND(D42="pl1355",C42<0),-ROUND(C42/1000,0),IF(AND(D42="pl1320",C42>0),ROUND(C42/1000,0),IF(AND(D42="pl1380",C42>0),-ROUND(C42/1000,0),IF(AND(D42="pl1385",C42<0),-ROUND(C42/1000,0),IF(AND(D42="li8100",C42<0),-ROUND(C42/1000,0),IF(AND(D42="li8140",C42<0),-ROUND(C42/1000,0),IF(AND(D42="pl1120",C42<0),ROUND(C42/1000,0),IF(AND(D42="pl1355",C42<0),ROUND(C42/1000,0),IF(AND(D42="pl1385",C42<0),ROUND(C42/1000,0),IF((D42="pl1340"),ROUND(C42/1000,0),IF((D42="pl2275"),-ROUND(C42/1000,0),-ROUND(C42/1000,0)))))))))))))))))) -> 0 | F42: =IF(ISERROR(VLOOKUP(B42,'[1]TAB CONV SIGNE VECTOR'!J:K,2,FALSE)),'[1]TEST FORM'!B42,VLOOKUP(B42,'[1]TAB CONV SIGNE VECTOR'!J:K,2,FALSE)) -> SA054
A43: AS7140 | B43: SD097 | C43: -81.24 | D43: =IF(AND(A43="as7100",C43>0),A43,IF(AND(A43="as7140",C43>0),A43,IF(AND(A43="PL1125",C43>0),A43,IF(AND(A43="PL1315",C43>0),A43,IF(AND(A43="PL1320",C43>0),A43,IF(AND(A43="PL1380",C43>0),A43,IF(AND(A43="LI8100",C43<0),A43,IF(AND(A43="LI8140",C43<0),A43,IF(AND(A43="PL1120",C43<0),A43,IF(AND(A43="PL1355",C43<0),A43,IF(AND(A43="PL1385",C43<0),A43,VLOOKUP(A43,'[1]TAB CONV SIGNE VECTOR'!A:C,3,FALSE)))))))))))) -> LI8140 | E43: =IF(AND(D43="as7100",C43>0),ROUND(C43/1000,0),IF(AND(D43="as7140",C43>0),ROUND(C43/1000,0),IF(AND(D43="pl1120",C43<0),-ROUND(C43/1000,0),IF(AND(D43="pl1125",C43>0),-ROUND(C43/1000,0),IF(AND(D43="pl1315",C43<0),ROUND(C43/1000,0),IF((D43="pl1340"),-ROUND(C43/1000,0),IF(AND(D43="pl1355",C43<0),-ROUND(C43/1000,0),IF(AND(D43="pl1320",C43>0),ROUND(C43/1000,0),IF(AND(D43="pl1380",C43>0),-ROUND(C43/1000,0),IF(AND(D43="pl1385",C43<0),-ROUND(C43/1000,0),IF(AND(D43="li8100",C43<0),-ROUND(C43/1000,0),IF(AND(D43="li8140",C43<0),-ROUND(C43/1000,0),IF(AND(D43="pl1120",C43<0),ROUND(C43/1000,0),IF(AND(D43="pl1355",C43<0),ROUND(C43/1000,0),IF(AND(D43="pl1385",C43<0),ROUND(C43/1000,0),IF((D43="pl1340"),ROUND(C43/1000,0),IF((D43="pl2275"),-ROUND(C43/1000,0),-ROUND(C43/1000,0)))))))))))))))))) -> 0 | F43: =IF(ISERROR(VLOOKUP(B43,'[1]TAB CONV SIGNE VECTOR'!J:K,2,FALSE)),'[1]TEST FORM'!B43,VLOOKUP(B43,'[1]TAB CONV SIGNE VECTOR'!J:K,2,FALSE)) -> SA310
A44: AS7140 | B44: SD199 | C44: -234487.59 | D44: =IF(AND(A44="as7100",C44>0),A44,IF(AND(A44="as7140",C44>0),A44,IF(AND(A44="PL1125",C44>0),A44,IF(AND(A44="PL1315",C44>0),A44,IF(AND(A44="PL1320",C44>0),A44,IF(AND(A44="PL1380",C44>0),A44,IF(AND(A44="LI8100",C44<0),A44,IF(AND(A44="LI8140",C44<0),A44,IF(AND(A44="PL1120",C44<0),A44,IF(AND(A44="PL1355",C44<0),A44,IF(AND(A44="PL1385",C44<0),A44,VLOOKUP(A44,'[1]TAB CONV SIGNE VECTOR'!A:C,3,FALSE)))))))))))) -> LI8140 | E44: =IF(AND(D44="as7100",C44>0),ROUND(C44/1000,0),IF(AND(D44="as7140",C44>0),ROUND(C44/1000,0),IF(AND(D44="pl1120",C44<0),-ROUND(C44/1000,0),IF(AND(D44="pl1125",C44>0),-ROUND(C44/1000,0),IF(AND(D44="pl1315",C44<0),ROUND(C44/1000,0),IF((D44="pl1340"),-ROUND(C44/1000,0),IF(AND(D44="pl1355",C44<0),-ROUND(C44/1000,0),IF(AND(D44="pl1320",C44>0),ROUND(C44/1000,0),IF(AND(D44="pl1380",C44>0),-ROUND(C44/1000,0),IF(AND(D44="pl1385",C44<0),-ROUND(C44/1000,0),IF(AND(D44="li8100",C44<0),-ROUND(C44/1000,0),IF(AND(D44="li8140",C44<0),-ROUND(C44/1000,0),IF(AND(D44="pl1120",C44<0),ROUND(C44/1000,0),IF(AND(D44="pl1355",C44<0),ROUND(C44/1000,0),IF(AND(D44="pl1385",C44<0),ROUND(C44/1000,0),IF((D44="pl1340"),ROUND(C44/1000,0),IF((D44="pl2275"),-ROUND(C44/1000,0),-ROUND(C44/1000,0)))))))))))))))))) -> 234 | F44: =IF(ISERROR(VLOOKUP(B44,'[1]TAB CONV SIGNE VECTOR'!J:K,2,FALSE)),'[1]TEST FORM'!B44,VLOOKUP(B44,'[1]TAB CONV SIGNE VECTOR'!J:K,2,FALSE)) -> SA311
A45: AS7140 | B45: SD245 | C45: -29 | D45: =IF(AND(A45="as7100",C45>0),A45,IF(AND(A45="as7140",C45>0),A45,IF(AND(A45="PL1125",C45>0),A45,IF(AND(A45="PL1315",C45>0),A45,IF(AND(A45="PL1320",C45>0),A45,IF(AND(A45="PL1380",C45>0),A45,IF(AND(A45="LI8100",C45<0),A45,IF(AND(A45="LI8140",C45<0),A45,IF(AND(A45="PL1120",C45<0),A45,IF(AND(A45="PL1355",C45<0),A45,IF(AND(A45="PL1385",C45<0),A45,VLOOKUP(A45,'[1]TAB CONV SIGNE VECTOR'!A:C,3,FALSE)))))))))))) -> LI8140 | E45: =IF(AND(D45="as7100",C45>0),ROUND(C45/1000,0),IF(AND(D45="as7140",C45>0),ROUND(C45/1000,0),IF(AND(D45="pl1120",C45<0),-ROUND(C45/1000,0),IF(AND(D45="pl1125",C45>0),-ROUND(C45/1000,0),IF(AND(D45="pl1315",C45<0),ROUND(C45/1000,0),IF((D45="pl1340"),-ROUND(C45/1000,0),IF(AND(D45="pl1355",C45<0),-ROUND(C45/1000,0),IF(AND(D45="pl1320",C45>0),ROUND(C45/1000,0),IF(AND(D45="pl1380",C45>0),-ROUND(C45/1000,0),IF(AND(D45="pl1385",C45<0),-ROUND(C45/1000,0),IF(AND(D45="li8100",C45<0),-ROUND(C45/1000,0),IF(AND(D45="li8140",C45<0),-ROUND(C45/1000,0),IF(AND(D45="pl1120",C45<0),ROUND(C45/1000,0),IF(AND(D45="pl1355",C45<0),ROUND(C45/1000,0),IF(AND(D45="pl1385",C45<0),ROUND(C45/1000,0),IF((D45="pl1340"),ROUND(C45/1000,0),IF((D45="pl2275"),-ROUND(C45/1000,0),-ROUND(C45/1000,0)))))))))))))))))) -> 0 | F45: =IF(ISERROR(VLOOKUP(B45,'[1]TAB CONV SIGNE VECTOR'!J:K,2,FALSE)),'[1]TEST FORM'!B45,VLOOKUP(B45,'[1]TAB CONV SIGNE VECTOR'!J:K,2,FALSE)) -> SA313
A46: LI8100 | C46: -23462177 | D46: =IF(AND(A46="as7100",C46>0),A46,IF(AND(A46="as7140",C46>0),A46,IF(AND(A46="PL1125",C46>0),A46,IF(AND(A46="PL1315",C46>0),A46,IF(AND(A46="PL1320",C46>0),A46,IF(AND(A46="PL1380",C46>0),A46,IF(AND(A46="LI8100",C46<0),A46,IF(AND(A46="LI8140",C46<0),A46,IF(AND(A46="PL1120",C46<0),A46,IF(AND(A46="PL1355",C46<0),A46,IF(AND(A46="PL1385",C46<0),A46,VLOOKUP(A46,'[1]TAB CONV SIGNE VECTOR'!A:C,3,FALSE)))))))))))) -> LI8100 | E46: =IF(AND(D46="as7100",C46>0),ROUND(C46/1000,0),IF(AND(D46="as7140",C46>0),ROUND(C46/1000,0),IF(AND(D46="pl1120",C46<0),-ROUND(C46/1000,0),IF(AND(D46="pl1125",C46>0),-ROUND(C46/1000,0),IF(AND(D46="pl1315",C46<0),ROUND(C46/1000,0),IF((D46="pl1340"),-ROUND(C46/1000,0),IF(AND(D46="pl1355",C46<0),-ROUND(C46/1000,0),IF(AND(D46="pl1320",C46>0),ROUND(C46/1000,0),IF(AND(D46="pl1380",C46>0),-ROUND(C46/1000,0),IF(AND(D46="pl1385",C46<0),-ROUND(C46/1000,0),IF(AND(D46="li8100",C46<0),-ROUND(C46/1000,0),IF(AND(D46="li8140",C46<0),-ROUND(C46/1000,0),IF(AND(D46="pl1120",C46<0),ROUND(C46/1000,0),IF(AND(D46="pl1355",C46<0),ROUND(C46/1000,0),IF(AND(D46="pl1385",C46<0),ROUND(C46/1000,0),IF((D46="pl1340"),ROUND(C46/1000,0),IF((D46="pl2275"),-ROUND(C46/1000,0),-ROUND(C46/1000,0)))))))))))))))))) -> 23462 | F46: =IF(ISERROR(VLOOKUP(B46,'[1]TAB CONV SIGNE VECTOR'!J:K,2,FALSE)),'[1]TEST FORM'!B46,VLOOKUP(B46,'[1]TAB CONV SIGNE VECTOR'!J:K,2,FALSE)) -> SA317
A47: LI8100 | B47: S0002 | C47: -17590497 | D47: =IF(AND(A47="as7100",C47>0),A47,IF(AND(A47="as7140",C47>0),A47,IF(AND(A47="PL1125",C47>0),A47,IF(AND(A47="PL1315",C47>0),A47,IF(AND(A47="PL1320",C47>0),A47,IF(AND(A47="PL1380",C47>0),A47,IF(AND(A47="LI8100",C47<0),A47,IF(AND(A47="LI8140",C47<0),A47,IF(AND(A47="PL1120",C47<0),A47,IF(AND(A47="PL1355",C47<0),A47,IF(AND(A47="PL1385",C47<0),A47,VLOOKUP(A47,'[1]TAB CONV SIGNE VECTOR'!A:C,3,FALSE)))))))))))) -> LI8100 | E47: =IF(AND(D47="as7100",C47>0),ROUND(C47/1000,0),IF(AND(D47="as7140",C47>0),ROUND(C47/1000,0),IF(AND(D47="pl1120",C47<0),-ROUND(C47/1000,0),IF(AND(D47="pl1125",C47>0),-ROUND(C47/1000,0),IF(AND(D47="pl1315",C47<0),ROUND(C47/1000,0),IF((D47="pl1340"),-ROUND(C47/1000,0),IF(AND(D47="pl1355",C47<0),-ROUND(C47/1000,0),IF(AND(D47="pl1320",C47>0),ROUND(C47/1000,0),IF(AND(D47="pl1380",C47>0),-ROUND(C47/1000,0),IF(AND(D47="pl1385",C47<0),-ROUND(C47/1000,0),IF(AND(D47="li8100",C47<0),-ROUND(C47/1000,0),IF(AND(D47="li8140",C47<0),-ROUND(C47/1000,0),IF(AND(D47="pl1120",C47<0),ROUND(C47/1000,0),IF(AND(D47="pl1355",C47<0),ROUND(C47/1000,0),IF(AND(D47="pl1385",C47<0),ROUND(C47/1000,0),IF((D47="pl1340"),ROUND(C47/1000,0),IF((D47="pl2275"),-ROUND(C47/1000,0),-ROUND(C47/1000,0)))))))))))))))))) -> 17590 | F47: =IF(ISERROR(VLOOKUP(B47,'[1]TAB CONV SIGNE VECTOR'!J:K,2,FALSE)),'[1]TEST FORM'!B47,VLOOKUP(B47,'[1]TAB CONV SIGNE VECTOR'!J:K,2,FALSE)) -> SA330
A48: LI8100 | B48: S0005 | C48: -232203.98 | D48: =IF(AND(A48="as7100",C48>0),A48,IF(AND(A48="as7140",C48>0),A48,IF(AND(A48="PL1125",C48>0),A48,IF(AND(A48="PL1315",C48>0),A48,IF(AND(A48="PL1320",C48>0),A48,IF(AND(A48="PL1380",C48>0),A48,IF(AND(A48="LI8100",C48<0),A48,IF(AND(A48="LI8140",C48<0),A48,IF(AND(A48="PL1120",C48<0),A48,IF(AND(A48="PL1355",C48<0),A48,IF(AND(A48="PL1385",C48<0),A48,VLOOKUP(A48,'[1]TAB CONV SIGNE VECTOR'!A:C,3,FALSE)))))))))))) -> LI8100 | E48: =IF(AND(D48="as7100",C48>0),ROUND(C48/1000,0),IF(AND(D48="as7140",C48>0),ROUND(C48/1000,0),IF(AND(D48="pl1120",C48<0),-ROUND(C48/1000,0),IF(AND(D48="pl1125",C48>0),-ROUND(C48/1000,0),IF(AND(D48="pl1315",C48<0),ROUND(C48/1000,0),IF((D48="pl1340"),-ROUND(C48/1000,0),IF(AND(D48="pl1355",C48<0),-ROUND(C48/1000,0),IF(AND(D48="pl1320",C48>0),ROUND(C48/1000,0),IF(AND(D48="pl1380",C48>0),-ROUND(C48/1000,0),IF(AND(D48="pl1385",C48<0),-ROUND(C48/1000,0),IF(AND(D48="li8100",C48<0),-ROUND(C48/1000,0),IF(AND(D48="li8140",C48<0),-ROUND(C48/1000,0),IF(AND(D48="pl1120",C48<0),ROUND(C48/1000,0),IF(AND(D48="pl1355",C48<0),ROUND(C48/1000,0),IF(AND(D48="pl1385",C48<0),ROUND(C48/1000,0),IF((D48="pl1340"),ROUND(C48/1000,0),IF((D48="pl2275"),-ROUND(C48/1000,0),-ROUND(C48/1000,0)))))))))))))))))) -> 232 | F48: =IF(ISERROR(VLOOKUP(B48,'[1]TAB CONV SIGNE VECTOR'!J:K,2,FALSE)),'[1]TEST FORM'!B48,VLOOKUP(B48,'[1]TAB CONV SIGNE VECTOR'!J:K,2,FALSE)) -> SA331
A49: LI8100 | B49: S0009 | C49: -10007.04 | D49: =IF(AND(A49="as7100",C49>0),A49,IF(AND(A49="as7140",C49>0),A49,IF(AND(A49="PL1125",C49>0),A49,IF(AND(A49="PL1315",C49>0),A49,IF(AND(A49="PL1320",C49>0),A49,IF(AND(A49="PL1380",C49>0),A49,IF(AND(A49="LI8100",C49<0),A49,IF(AND(A49="LI8140",C49<0),A49,IF(AND(A49="PL1120",C49<0),A49,IF(AND(A49="PL1355",C49<0),A49,IF(AND(A49="PL1385",C49<0),A49,VLOOKUP(A49,'[1]TAB CONV SIGNE VECTOR'!A:C,3,FALSE)))))))))))) -> LI8100 | E49: =IF(AND(D49="as7100",C49>0),ROUND(C49/1000,0),IF(AND(D49="as7140",C49>0),ROUND(C49/1000,0),IF(AND(D49="pl1120",C49<0),-ROUND(C49/1000,0),IF(AND(D49="pl1125",C49>0),-ROUND(C49/1000,0),IF(AND(D49="pl1315",C49<0),ROUND(C49/1000,0),IF((D49="pl1340"),-ROUND(C49/1000,0),IF(AND(D49="pl1355",C49<0),-ROUND(C49/1000,0),IF(AND(D49="pl1320",C49>0),ROUND(C49/1000,0),IF(AND(D49="pl1380",C49>0),-ROUND(C49/1000,0),IF(AND(D49="pl1385",C49<0),-ROUND(C49/1000,0),IF(AND(D49="li8100",C49<0),-ROUND(C49/1000,0),IF(AND(D49="li8140",C49<0),-ROUND(C49/1000,0),IF(AND(D49="pl1120",C49<0),ROUND(C49/1000,0),IF(AND(D49="pl1355",C49<0),ROUND(C49/1000,0),IF(AND(D49="pl1385",C49<0),ROUND(C49/1000,0),IF((D49="pl1340"),ROUND(C49/1000,0),IF((D49="pl2275"),-ROUND(C49/1000,0),-ROUND(C49/1000,0)))))))))))))))))) -> 10 | F49: =IF(ISERROR(VLOOKUP(B49,'[1]TAB CONV SIGNE VECTOR'!J:K,2,FALSE)),'[1]TEST FORM'!B49,VLOOKUP(B49,'[1]TAB CONV SIGNE VECTOR'!J:K,2,FALSE)) -> SA332
A50: LI8100 | B50: SL1060 | C50: 1808.4 | D50: =IF(AND(A50="as7100",C50>0),A50,IF(AND(A50="as7140",C50>0),A50,IF(AND(A50="PL1125",C50>0),A50,IF(AND(A50="PL1315",C50>0),A50,IF(AND(A50="PL1320",C50>0),A50,IF(AND(A50="PL1380",C50>0),A50,IF(AND(A50="LI8100",C50<0),A50,IF(AND(A50="LI8140",C50<0),A50,IF(AND(A50="PL1120",C50<0),A50,IF(AND(A50="PL1355",C50<0),A50,IF(AND(A50="PL1385",C50<0),A50,VLOOKUP(A50,'[1]TAB CONV SIGNE VECTOR'!A:C,3,FALSE)))))))))))) -> AS7100 | E50: =IF(AND(D50="as7100",C50>0),ROUND(C50/1000,0),IF(AND(D50="as7140",C50>0),ROUND(C50/1000,0),IF(AND(D50="pl1120",C50<0),-ROUND(C50/1000,0),IF(AND(D50="pl1125",C50>0),-ROUND(C50/1000,0),IF(AND(D50="pl1315",C50<0),ROUND(C50/1000,0),IF((D50="pl1340"),-ROUND(C50/1000,0),IF(AND(D50="pl1355",C50<0),-ROUND(C50/1000,0),IF(AND(D50="pl1320",C50>0),ROUND(C50/1000,0),IF(AND(D50="pl1380",C50>0),-ROUND(C50/1000,0),IF(AND(D50="pl1385",C50<0),-ROUND(C50/1000,0),IF(AND(D50="li8100",C50<0),-ROUND(C50/1000,0),IF(AND(D50="li8140",C50<0),-ROUND(C50/1000,0),IF(AND(D50="pl1120",C50<0),ROUND(C50/1000,0),IF(AND(D50="pl1355",C50<0),ROUND(C50/1000,0),IF(AND(D50="pl1385",C50<0),ROUND(C50/1000,0),IF((D50="pl1340"),ROUND(C50/1000,0),IF((D50="pl2275"),-ROUND(C50/1000,0),-ROUND(C50/1000,0)))))))))))))))))) -> 2 | F50: =IF(ISERROR(VLOOKUP(B50,'[1]TAB CONV SIGNE VECTOR'!J:K,2,FALSE)),'[1]TEST FORM'!B50,VLOOKUP(B50,'[1]TAB CONV SIGNE VECTOR'!J:K,2,FALSE)) -> SA333
A51: LI8100 | B51: SL431 | C51: -6175.44 | D51: =IF(AND(A51="as7100",C51>0),A51,IF(AND(A51="as7140",C51>0),A51,IF(AND(A51="PL1125",C51>0),A51,IF(AND(A51="PL1315",C51>0),A51,IF(AND(A51="PL1320",C51>0),A51,IF(AND(A51="PL1380",C51>0),A51,IF(AND(A51="LI8100",C51<0),A51,IF(AND(A51="LI8140",C51<0),A51,IF(AND(A51="PL1120",C51<0),A51,IF(AND(A51="PL1355",C51<0),A51,IF(AND(A51="PL1385",C51<0),A51,VLOOKUP(A51,'[1]TAB CONV SIGNE VECTOR'!A:C,3,FALSE)))))))))))) -> LI8100 | E51: =IF(AND(D51="as7100",C51>0),ROUND(C51/1000,0),IF(AND(D51="as7140",C51>0),ROUND(C51/1000,0),IF(AND(D51="pl1120",C51<0),-ROUND(C51/1000,0),IF(AND(D51="pl1125",C51>0),-ROUND(C51/1000,0),IF(AND(D51="pl1315",C51<0),ROUND(C51/1000,0),IF((D51="pl1340"),-ROUND(C51/1000,0),IF(AND(D51="pl1355",C51<0),-ROUND(C51/1000,0),IF(AND(D51="pl1320",C51>0),ROUND(C51/1000,0),IF(AND(D51="pl1380",C51>0),-ROUND(C51/1000,0),IF(AND(D51="pl1385",C51<0),-ROUND(C51/1000,0),IF(AND(D51="li8100",C51<0),-ROUND(C51/1000,0),IF(AND(D51="li8140",C51<0),-ROUND(C51/1000,0),IF(AND(D51="pl1120",C51<0),ROUND(C51/1000,0),IF(AND(D51="pl1355",C51<0),ROUND(C51/1000,0),IF(AND(D51="pl1385",C51<0),ROUND(C51/1000,0),IF((D51="pl1340"),ROUND(C51/1000,0),IF((D51="pl2275"),-ROUND(C51/1000,0),-ROUND(C51/1000,0)))))))))))))))))) -> 6 | F51: =IF(ISERROR(VLOOKUP(B51,'[1]TAB CONV SIGNE VECTOR'!J:K,2,FALSE)),'[1]TEST FORM'!B51,VLOOKUP(B51,'[1]TAB CONV SIGNE VECTOR'!J:K,2,FALSE)) -> SA464
A52: LI8100 | B52: SM001 | C52: -13260 | D52: =IF(AND(A52="as7100",C52>0),A52,IF(AND(A52="as7140",C52>0),A52,IF(AND(A52="PL1125",C52>0),A52,IF(AND(A52="PL1315",C52>0),A52,IF(AND(A52="PL1320",C52>0),A52,IF(AND(A52="PL1380",C52>0),A52,IF(AND(A52="LI8100",C52<0),A52,IF(AND(A52="LI8140",C52<0),A52,IF(AND(A52="PL1120",C52<0),A52,IF(AND(A52="PL1355",C52<0),A52,IF(AND(A52="PL1385",C52<0),A52,VLOOKUP(A52,'[1]TAB CONV SIGNE VECTOR'!A:C,3,FALSE)))))))))))) -> LI8100 | E52: =IF(AND(D52="as7100",C52>0),ROUND(C52/1000,0),IF(AND(D52="as7140",C52>0),ROUND(C52/1000,0),IF(AND(D52="pl1120",C52<0),-ROUND(C52/1000,0),IF(AND(D52="pl1125",C52>0),-ROUND(C52/1000,0),IF(AND(D52="pl1315",C52<0),ROUND(C52/1000,0),IF((D52="pl1340"),-ROUND(C52/1000,0),IF(AND(D52="pl1355",C52<0),-ROUND(C52/1000,0),IF(AND(D52="pl1320",C52>0),ROUND(C52/1000,0),IF(AND(D52="pl1380",C52>0),-ROUND(C52/1000,0),IF(AND(D52="pl1385",C52<0),-ROUND(C52/1000,0),IF(AND(D52="li8100",C52<0),-ROUND(C52/1000,0),IF(AND(D52="li8140",C52<0),-ROUND(C52/1000,0),IF(AND(D52="pl1120",C52<0),ROUND(C52/1000,0),IF(AND(D52="pl1355",C52<0),ROUND(C52/1000,0),IF(AND(D52="pl1385",C52<0),ROUND(C52/1000,0),IF((D52="pl1340"),ROUND(C52/1000,0),IF((D52="pl2275"),-ROUND(C52/1000,0),-ROUND(C52/1000,0)))))))))))))))))) -> 13 | F52: =IF(ISERROR(VLOOKUP(B52,'[1]TAB CONV SIGNE VECTOR'!J:K,2,FALSE)),'[1]TEST FORM'!B52,VLOOKUP(B52,'[1]TAB CONV SIGNE VECTOR'!J:K,2,FALSE)) -> SA668
...

Sheet FEUILB
A1: D_CA | B1: D_DP | C1: D_PE | D1: D_RU | E1: D_AC | F1: D_FL | G1: D_CU | H1: D_PS | I1: P_AMOUNT | J1: D_AU
A2: ACTUAL | B2: 2015.07 | C2: 2015.07 | D2: S2000 | E2: AS7100 | F2: F99 | G2: EURO | H2: 0 | I2: 43190 | J2: 0LOC01
A3: ACTUAL | B3: 2015.07 | C3: 2015.07 | D3: S2000 | E3: AS7100 | F3: F99 | G3: EURO | H3: S0002 | I3: 13170 | J3: 0LOC01
A4: ACTUAL | B4: 2015.07 | C4: 2015.07 | D4: S2000 | E4: AS7100 | F4: F99 | G4: EURO | H4: S0005 | I4: 14019 | J4: 0LOC01
A5: ACTUAL | B5: 2015.07 | C5: 2015.07 | D5: S2000 | E5: AS7100 | F5: F99 | G5: EURO | H5: S0024 | I5: 234 | J5: 0LOC01
A6: ACTUAL | B6: 2015.07 | C6: 2015.07 | D6: S2000 | E6: AS7100 | F6: F99 | G6: EURO | H6: SX326 | I6: 42 | J6: 0LOC01
A7: ACTUAL | B7: 2015.07 | C7: 2015.07 | D7: S2000 | E7: AS7100 | F7: F99 | G7: EURO | H7: SX327P | I7: 71 | J7: 0LOC01
A8: ACTUAL | B8: 2015.07 | C8: 2015.07 | D8: S2000 | E8: AS7100 | F8: F99 | G8: EURO | H8: SX328 | I8: 831 | J8: 0LOC01
A9: ACTUAL | B9: 2015.07 | C9: 2015.07 | D9: S2000 | E9: AS7100 | F9: F99 | G9: EURO | H9: SX332 | I9: 5149 | J9: 0LOC01
A10: ACTUAL | B10: 2015.07 | C10: 2015.07 | D10: S2000 | E10: AS7100 | F10: F99 | G10: EURO | H10: SX334 | I10: 2316 | J10: 0LOC01
A11: ACTUAL | B11: 2015.07 | C11: 2015.07 | D11: S2000 | E11: AS7100 | F11: F99 | G11: EURO | H11: SX345 | I11: 24 | J11: 0LOC01
A12: ACTUAL | B12: 2015.07 | C12: 2015.07 | D12: S2000 | E12: AS7100 | F12: F99 | G12: EURO | H12: SX360CP | I12: 1 | J12: 0LOC01
A13: ACTUAL | B13: 2015.07 | C13: 2015.07 | D13: S2000 | E13: AS7100 | F13: F99 | G13: EURO | H13: SX371 | I13: 12 | J13: 0LOC01
A14: ACTUAL | B14: 2015.07 | C14: 2015.07 | D14: S2000 | E14: AS7100 | F14: F99 | G14: EURO | H14: SX385 | I14: 7281 | J14: 0LOC01
... A23: ACTUAL | B23: 2015.07 | C23: 2015.07 | D23: S2000 | E23: AS7100 | F23: F99 | G23: EURO | H23: ZSX324P | I23: 133 | J23: 0LOC01
A24: ACTUAL | B24: 2015.07 | C24: 2015.07 | D24: S2000 | E24: AS7140 | F24: F99 | G24: EURO | I24: 17592 | J24: 0LOC01
A25: ACTUAL | B25: 2015.07 | C25: 2015.07 | D25: S2000 | E25: AS7140 | F25: F99 | G25: EURO | I25: 1263896 | J25: 0LOC01
A26: ACTUAL | B26: 2015.07 | C26: 2015.07 | D26: S2000 | E26: LI8140 | F26: F99 | G26: EURO | H26: S0002 | I26: 6577 | J26: 0LOC01
A27: ACTUAL | B27: 2015.07 | C27: 2015.07 | D27: S2000 | E27: LI8140 | F27: F99 | G27: EURO | H27: S0005 | I27: 0 | J27: 0LOC01
A28: ACTUAL | B28: 2015.07 | C28: 2015.07 | D28: S2000 | E28: AS7140 | F28: F99 | G28: EURO | H28: S0191 | I28: 1 | J28: 0LOC01
A29: ACTUAL | B29: 2015.07 | C29: 2015.07 | D29: S2000 | E29: AS7140 | F29: F99 | G29: EURO | H29: S0204 | I29: 17 | J29: 0LOC01
A30: ACTUAL | B30: 2015.07 | C30: 2015.07 | D30: S2000 | E30: AS7140 | F30: F99 | G30: EURO | H30: S0208 | I30: 428 | J30: 0LOC01
A31: ACTUAL | B31: 2015.07 | C31: 2015.07 | D31: S2000 | E31: AS7140 | F31: F99 | G31: EURO | H31: S0226 | I31: 617 | J31: 0LOC01
A32: ACTUAL | B32: 2015.07 | C32: 2015.07 | D32: S2000 | E32: AS7140 | F32: F99 | G32: EURO | H32: S0228 | I32: 2864 | J32: 0LOC01
A33: ACTUAL | B33: 2015.07 | C33: 2015.07 | D33: S2000 | E33: LI8140 | F33: F99 | G33: EURO | H33: SD095 | I33: 2 | J33: 0LOC01
A34: ACTUAL | B34: 2015.07 | C34: 2015.07 | D34: S2000 | E34: LI8140 | F34: F99 | G34: EURO | H34: SD096 | I34: 0 | J34: 0LOC01
A35: ACTUAL | B35: 2015.07 | C35: 2015.07 | D35: S2000 | E35: LI8140 | F35: F99 | G35: EURO | H35: SD097 | I35: 0 | J35: 0LOC01
A36: ACTUAL | B36: 2015.07 | C36: 2015.07 | D36: S2000 | E36: LI8140 | F36: F99 | G36: EURO | H36: SD199 | I36: 234 | J36: 0LOC01
A37: ACTUAL | B37: 2015.07 | C37: 2015.07 | D37: S2000 | E37: LI8140 | F37: F99 | G37: EURO | H37: SD245 | I37: 0 | J37: 0LOC01
A38: ACTUAL | B38: 2015.07 | C38: 2015.07 | D38: S2000 | E38: LI8100 | F38: F99 | G38: EURO | I38: 23462 | J38: 0LOC01
A39: ACTUAL | B39: 2015.07 | C39: 2015.07 | D39: S2000 | E39: LI8100 | F39: F99 | G39: EURO | H39: S0002 | I39: 17590 | J39: 0LOC01
A40: ACTUAL | B40: 2015.07 | C40: 2015.07 | D40: S2000 | E40: LI8100 | F40: F99 | G40: EURO | H40: S0005 | I40: 232 | J40: 0LOC01
A41: ACTUAL | B41: 2015.07 | C41: 2015.07 | D41: S2000 | E41: LI8100 | F41: F99 | G41: EURO | H41: S0009 | I41: 10 | J41: 0LOC01
A42: ACTUAL | B42: 2015.07 | C42: 2015.07 | D42: S2000 | E42: AS7100 | F42: F99 | G42: EURO | H42: SL1060 | I42: 2 | J42: 0LOC01
A43: ACTUAL | B43: 2015.07 | C43: 2015.07 | D43: S2000 | E43: LI8100 | F43: F99 | G43: EURO | H43: SL431 | I43: 6 | J43: 0LOC01
A44: ACTUAL | B44: 2015.07 | C44: 2015.07 | D44: S2000 | E44: LI8100 | F44: F99 | G44: EURO | H44: SM001 | I44: 13 | J44: 0LOC01
A45: ACTUAL | B45: 2015.07 | C45: 2015.07 | D45: S2000 | E45: LI8100 | F45: F99 | G45: EURO | H45: SM053 | I45: 137 | J45: 0LOC01
A46: ACTUAL | B46: 2015.07 | C46: 2015.07 | D46: S2000 | E46: LI8100 | F46: F99 | G46: EURO | H46: SR023 | I46: 3 | J46: 0LOC01
A47: ACTUAL | B47: 2015.07 | C47: 2015.07 | D47: S2000 | E47: LI8100 | F47: F99 | G47: EURO | H47: SR112 | I47: 129 | J47: 0LOC01
A48: ACTUAL | B48: 2015.07 | C48: 2015.07 | D48: S2000 | E48: LI8100 | F48: F99 | G48: EURO | H48: SA316 | I48: 7 | J48: 0LOC01
...

Sheet TAB CONV SIGNE VECTOR
J1: SL ERRONES | K1: SL CORRIGES
A2: PCGR | B2: Convention Signe | C2: Versus | J2: s2407 | K2: S2407
A3: AS7100 | B3: >0 | C3: LI8100 | J3: SX081 | K3: SX081CP
A4: AS7130
A5: AS7140 | B5: >0 | C5: LI8140 | J5: SX226n | K5: SX226CP
A6: LI8100 | B6: >0 | C6: AS7100 | J6: SX317P | K6: SX317IG
A7: LI8130
A8: LI8140 | B8: >0 | C8: AS7140 | J8: ZSX324 | K8: ZSX324P
A9: PL1120 | B9: >0 | C9: PL1125 | J9: S2150EA | K9: S2150
A10: PL1125 | B10: <0 | C10: PL1120 | J10: s2407n | K10: S2407
A11: PL1315 | B11: >0 | C11: PL1355 | J11: SV607EA | K11: SV607
A12: PL1320 | B12: >0 | C12: =+A12 -> PL1320 | J12: YSV205 | K12: SV205
A13: PL1340 | C13: =+A13 -> PL1340 | J13: YSV207 | K13: SV207
A14: PL1355 | B14: <0 | C14: PL1315 | J14: YSV212 | K14: SV212
A15: PL1380 | B15: >0 | C15: PL1385 | J15: YSV214 | K15: SV214
A16: PL1385 | B16: <0 | C16: PL1380 | J16: YSV216 | K16: SV216
A17: PL2275 | C17: =+A17 -> PL2275 | J17: YSV218 | K17: SV218
A18: PL2220 | C18: =+Tableau1[[#This Row],[PCGR]] -> PL2220 | J18: YSV604 | K18: SV604
A19: PL4020 | C19: =+Tableau1[[#This Row],[PCGR]] -> PL4020 | J19: YSV623 | K19: SV623
J20: YSV624 | K20: SV624
J21: YSV629 | K21: SV629
J22: s2407n | K22: S2407
J23: SX317P | K23: SX317IG
J24: SYB251 | K24: SB251
J25: YSA316 | K25: SA316
J26: YSW043 | K26: ZYSW043
J27: s2407n | K27: S2407
J28: SYB251 | K28: SB251
J29: YSW043 | K29: ZYSW043
J30: s2407n | K30: S2407
J31: SX081n | K31: SX081CP
... J37: SX317IG | K37: SX317IG

Sheet Feuil4
