Workbook

Sheet NOTES
A1: FEUILA | C1: Données de base
A3: FEUILB | C3: Fichier qui va être importé et qui doit avoir cette architecture
A5: Colonnes | B5: Libellés | C5: Données requises | D5: Observations
A6: Col A | B6: =+FEUILB!A1 -> D_CA | C6: ACTUAL | D6: VALEUR UNIQUE
A7: Col B & C | B7: =+FEUILB!B1 -> D_DP | C7: période à renseigner chaque mois | D7: AAAA.MM
A8: Col D | B8: =+FEUILB!D1 -> D_RU | C8: S2000 | D8: VALEUR UNIQUE
A9: Col E | B9: =+FEUILB!E1 -> D_AC | C9: =Col D de [FEUILB]
A10: Col F | B10: =+FEUILB!F1 -> D_FL | C10: F99 | D10: VALEUR UNIQUE
A11: Col G | B11: =+FEUILB!G1 -> D_CU | C11: EURO | D11: VALEUR UNIQUE
A12: Col H | B12: =+FEUILB!H1 -> D_PS | C12: ='Col F de [FEUILB]
A13: Col I | B13: =+FEUILB!I1 -> P_AMOUNT | C13: ='Col E de [FEUILB]
A14: Col J | B14: =+FEUILB!J1 -> D_AU | C14: 0LOC01 | D14: VALEUR UNIQUE

Sheet FEUILA
A3: (Tous)
A4: (Tous)
A5: (Tous)
A8: N° compte V | B8: Code interco V correspondant au code S | C8: Total | D8: D_AC | E8: P_AMOUNT | F8: D_PS
A9: AS7100 | C9: 43189551 | D9: =IF(AND(A9="as7100",C9>0),A9,IF(AND(A9="as7140",C9>0),A9,IF(AND(A9="PL1125",C9>0),A9,IF(AND(A9="PL1315",C9>0),A9,IF(AND(A9="PL1320",C9>0),A9,IF(AND(A9="PL1380",C9>0),A9,IF(AND(A9="LI8100",C9<0),A9,IF(AND(A9="LI8140",C9<0),A9,IF(AND(A9="PL1120",C9<0),A9,IF(AND(A9="PL1355",C9<0),A9,IF(AND(A9="PL1385",C9<0),A9,VLOOKUP(A9,'[1]TAB CONV SIGNE VECTOR'!A:C,3,FALSE)))))))))))) -> AS7100 | E9: =IF(AND(D9="as7100",C9>0),ROUND(C9/1000,0),IF(AND(D9="as7140",C9>0),ROUND(C9/1000,0),IF(AND(D9="pl1120",C9<0),-ROUND(C9/1000,0),IF(AND(D9="pl1125",C9>0),-ROUND(C9/1000,0),IF(AND(D9="pl1315",C9<0),ROUND(C9/1000,0),IF((D9="pl1340"),-ROUND(C9/1000,0),IF(AND(D9="pl1355",C9<0),-ROUND(C9/1000,0),IF(AND(D9="pl1320",C9>0),ROUND(C9/1000,0),IF(AND(D9="pl1380",C9>0),-ROUND(C9/1000,0),IF(AND(D9="pl1385",C9<0),-ROUND(C9/1000,0),IF(AND(D9="li8100",C9<0),-ROUND(C9/1000,0),IF(AND(D9="li8140",C9<0),-ROUND(C9/1000,0),IF(AND(D9="pl1120",C9<0),ROUND(C9/1000,0),IF(AND(D9="pl1355",C9<0),ROUND(C9/1000,0),IF(AND(D9="pl1385",C9<0),ROUND(C9/1000,0),IF((D9="pl1340"),ROUND(C9/1000,0),IF((D9="pl2275"),-ROUND(C9/1000,0),-ROUND(C9/1000,0)))))))))))))))))) -> 43190 | F9: =IF(ISERROR(VLOOKUP(B9,'[1]TAB CONV SIGNE VECTOR'!J:K,2,FALSE)),'[1]TEST FORM'!B9,VLOOKUP(B9,'[1]TAB CONV SIGNE VECTOR'!J:K,2,FALSE)) -> 0
A10: AS7100 | B10: S0002 | C10: 13170232 | D10: =IF(AND(A10="as7100",C10>0),A10,IF(AND(A10="as7140",C10>0),A10,IF(AND(A10="PL1125",C10>0),A10,IF(AND(A10="PL1315",C10>0),A10,IF(AND(A10="PL1320",C10>0),A10,IF(AND(A10="PL1380",C10>0),A10,IF(AND(A10="LI8100",C10<0),A10,IF(AND(A10="LI8140",C10<0),A10,IF(AND(A10="PL1120",C10<0),A10,IF(AND(A10="PL1355",C10<0),A10,IF(AND(A10="PL1385",C10<0),A10,VLOOKUP(A10,'[1]TAB CONV SIGNE VECTOR'!A:C,3,FALSE)))))))))))) -> AS7100 | E10: =IF(AND(D10="as7100",C10>0),ROUND(C10/1000,0),IF(AND(D10="as7140",C10>0),ROUND(C10/1000,0),IF(AND(D10="pl1120",C10<0),-ROUND(C10/1000,0),IF(AND(D10="pl1125",C10>0),-ROUND(C10/1000,0),IF(AND(D10="pl1315",C10<0),ROUND(C10/1000,0),IF((D10="pl1340"),-ROUND(C10/1000,0),IF(AND(D10="pl1355",C10<0),-ROUND(C10/1000,0),IF(AND(D10="pl1320",C10>0),ROUND(C10/1000,0),IF(AND(D10="pl1380",C10>0),-ROUND(C10/1000,0),IF(AND(D10="pl1385",C10<0),-ROUND(C10/1000,0),IF(AND(D10="li8100",C10<0),-ROUND(C10/1000,0),IF(AND(D10="li8140",C10<0),-ROUND(C10/1000,0),IF(AND(D10="pl1120",C10<0),ROUND(C10/1000,0),IF(AND(D10="pl1355",C10<0),ROUND(C10/1000,0),IF(AND(D10="pl1385",C10<0),ROUND(C10/1000,0),IF((D10="pl1340"),ROUND(C10/1000,0),IF((D10="pl2275"),-ROUND(C10/1000,0),-ROUND(C10/1000,0)))))))))))))))))) -> 13170 | F10: =IF(ISERROR(VLOOKUP(B10,'[1]TAB CONV SIGNE VECTOR'!J:K,2,FALSE)),'[1]TEST FORM'!B10,VLOOKUP(B10,'[1]TAB CONV SIGNE VECTOR'!J:K,2,FALSE)) -> S0002
A11: AS7100 | B11: S0005 | C11: 14019141 | D11: =IF(AND(A11="as7100",C11>0),A11,IF(AND(A11="as7140",C11>0),A11,IF(AND(A11="PL1125",C11>0),A11,IF(AND(A11="PL1315",C11>0),A11,IF(AND(A11="PL1320",C11>0),A11,IF(AND(A11="PL1380",C11>0),A11,IF(AND(A11="LI8100",C11<0),A11,IF(AND(A11="LI8140",C11<0),A11,IF(AND(A11="PL1120",C11<0),A11,IF(AND(A11="PL1355",C11<0),A11,IF(AND(A11="PL1385",C11<0),A11,VLOOKUP(A11,'[1]TAB CONV SIGNE VECTOR'!A:C,3,FALSE)))))))))))) -> AS7100 | E11: =IF(AND(D11="as7100",C11>0),ROUND(C11/1000,0),IF(AND(D11="as7140",C11>0),ROUND(C11/1000,0),IF(AND(D11="pl1120",C11<0),-ROUND(C11/1000,0),IF(AND(D11="pl1125",C11>0),-ROUND(C11/1000,0),IF(AND(D11="pl1315",C11<0),ROUND(C11/1000,0),IF((D11="pl1340"),-ROUND(C11/1000,0),IF(AND(D11="pl1355",C11<0),-ROUND(C11/1000,0),IF(AND(D11="pl1320",C11>0),ROUND(C11/1000,0),IF(AND(D11="pl1380",C11>0),-ROUND(C11/1000,0),IF(AND(D11="pl1385",C11<0),-ROUND(C11/1000,0),IF(AND(D11="li8100",C11<0),-ROUND(C11/1000,0),IF(AND(D11="li8140",C11<0),-ROUND(C11/1000,0),IF(AND(D11="pl1120",C11<0),ROUND(C11/1000,0),IF(AND(D11="pl1355",C11<0),ROUND(C11/1000,0),IF(AND(D11="pl1385",C11<0),ROUND(C11/1000,0),IF((D11="pl1340"),ROUND(C11/1000,0),IF((D11="pl2275"),-ROUND(C11/1000,0),-ROUND(C11/1000,0)))))))))))))))))) -> 14019 | F11: =IF(ISERROR(VLOOKUP(B11,'[1]TAB CONV SIGNE VECTOR'!J:K,2,FALSE)),'[1]TEST FORM'!B11,VLOOKUP(B11,'[1]TAB CONV SIGNE VECTOR'!J:K,2,FALSE)) -> S0005
A12: AS7100 | B12: S0024 | C12: 233966.83 | D12: =IF(AND(A12="as7100",C12>0),A12,IF(AND(A12="as7140",C12>0),A12,IF(AND(A12="PL1125",C12>0),A12,IF(AND(A12="PL1315",C12>0),A12,IF(AND(A12="PL1320",C12>0),A12,IF(AND(A12="PL1380",C12>0),A12,IF(AND(A12="LI8100",C12<0),A12,IF(AND(A12="LI8140",C12<0),A12,IF(AND(A12="PL1120",C12<0),A12,IF(AND(A12="PL1355",C12<0),A12,IF(AND(A12="PL1385",C12<0),A12,VLOOKUP(A12,'[1]TAB CONV SIGNE VECTOR'!A:C,3,FALSE)))))))))))) -> AS7100 | E12: =IF(AND(D12="as7100",C12>0),ROUND(C12/1000,0),IF(AND(D12="as7140",C12>0),ROUND(C12/1000,0),IF(AND(D12="pl1120",C12<0),-ROUND(C12/1000,0),IF(AND(D12="pl1125",C12>0),-ROUND(C12/1000,0),IF(AND(D12="pl1315",C12<0),ROUND(C12/1000,0),IF((D12="pl1340"),-ROUND(C12/1000,0),IF(AND(D12="pl1355",C12<0),-ROUND(C12/1000,0),IF(AND(D12="pl1320",C12>0),ROUND(C12/1000,0),IF(AND(D12="pl1380",C12>0),-ROUND(C12/1000,0),IF(AND(D12="pl1385",C12<0),-ROUND(C12/1000,0),IF(AND(D12="li8100",C12<0),-ROUND(C12/1000,0),IF(AND(D12="li8140",C12<0),-ROUND(C12/1000,0),IF(AND(D12="pl1120",C12<0),ROUND(C12/1000,0),IF(AND(D12="pl1355",C12<0),ROUND(C12/1000,0),IF(AND(D12="pl1385",C12<0),ROUND(C12/1000,0),IF((D12="pl1340"),ROUND(C12/1000,0),IF((D12="pl2275"),-ROUND(C12/1000,0),-ROUND(C12/1000,0)))))))))))))))))) -> 234 | F12: =IF(ISERROR(VLOOKUP(B12,'[1]TAB CONV SIGNE VECTOR'!J:K,2,FALSE)),'[1]TEST FORM'!B12,VLOOKUP(B12,'[1]TAB CONV SIGNE VECTOR'!J:K,2,FALSE)) -> S0024
A13: AS7100 | B13: SX326 | C13: 41558 | D13: =IF(AND(A13="as7100",C13>0),A13,IF(AND(A13="as7140",C13>0),A13,IF(AND(A13="PL1125",C13>0),A13,IF(AND(A13="PL1315",C13>0),A13,IF(AND(A13="PL1320",C13>0),A13,IF(AND(A13="PL1380",C13>0),A13,IF(AND(A13="LI8100",C13<0),A13,IF(AND(A13="LI8140",C13<0),A13,IF(AND(A13="PL1120",C13<0),A13,IF(AND(A13="PL1355",C13<0),A13,IF(AND(A13="PL1385",C13<0),A13,VLOOKUP(A13,'[1]TAB CONV SIGNE VECTOR'!A:C,3,FALSE)))))))))))) -> AS7100 | E13: =IF(AND(D13="as7100",C13>0),ROUND(C13/1000,0),IF(AND(D13="as7140",C13>0),ROUND(C13/1000,0),IF(AND(D13="pl1120",C13<0),-ROUND(C13/1000,0),IF(AND(D13="pl1125",C13>0),-ROUND(C13/1000,0),IF(AND(D13="pl1315",C13<0),ROUND(C13/1000,0),IF((D13="pl1340"),-ROUND(C13/1000,0),IF(AND(D13="pl1355",C13<0),-ROUND(C13/1000,0),IF(AND(D13="pl1320",C13>0),ROUND(C13/1000,0),IF(AND(D13="pl1380",C13>0),-ROUND(C13/1000,0),IF(AND(D13="pl1385",C13<0),-ROUND(C13/1000,0),IF(AND(D13="li8100",C13<0),-ROUND(C13/1000,0),IF(AND(D13="li8140",C13<0),-ROUND(C13/1000,0),IF(AND(D13="pl1120",C13<0),ROUND(C13/1000,0),IF(AND(D13="pl1355",C13<0),ROUND(C13/1000,0),IF(AND(D13="pl1385",C13<0),ROUND(C13/1000,0),IF((D13="pl1340"),ROUND(C13/1000,0),IF((D13="pl2275"),-ROUND(C13/1000,0),-ROUND(C13/1000,0)))))))))))))))))) -> 42 | F13: =IF(ISERROR(VLOOKUP(B13,'[1]TAB CONV SIGNE VECTOR'!J:K,2,FALSE)),'[1]TEST FORM'!B13,VLOOKUP(B13,'[1]TAB CONV SIGNE VECTOR'!J:K,2,FALSE)) -> S0025
A14: AS7100 | B14: SX327P | C14: 70775 | D14: =IF(AND(A14="as7100",C14>0),A14,IF(AND(A14="as7140",C14>0),A14,IF(AND(A14="PL1125",C14>0),A14,IF(AND(A14="PL1315",C14>0),A14,IF(AND(A14="PL1320",C14>0),A14,IF(AND(A14="PL1380",C14>0),A14,IF(AND(A14="LI8100",C14<0),A14,IF(AND(A14="LI8140",C14<0),A14,IF(AND(A14="PL1120",C14<0),A14,IF(AND(A14="PL1355",C14<0),A14,IF(AND(A14="PL1385",C14<0),A14,VLOOKUP(A14,'[1]TAB CONV SIGNE VECTOR'!A:C,3,FALSE)))))))))))) -> AS7100 | E14: =IF(AND(D14="as7100",C14>0),ROUND(C14/1000,0),IF(AND(D14="as7140",C14>0),ROUND(C14/1000,0),IF(AND(D14="pl1120",C14<0),-ROUND(C14/1000,0),IF(AND(D14="pl1125",C14>0),-ROUND(C14/1000,0),IF(AND(D14="pl1315",C14<0),ROUND(C14/1000,0),IF((D14="pl1340"),-ROUND(C14/1000,0),IF(AND(D14="pl1355",C14<0),-ROUND(C14/1000,0),IF(AND(D14="pl1320",C14>0),ROUND(C14/1000,0),IF(AND(D14="pl1380",C14>0),-ROUND(C14/1000,0),IF(AND(D14="pl1385",C14<0),-ROUND(C14/1000,0),IF(AND(D14="li8100",C14<0),-ROUND(C14/1000,0),IF(AND(D14="li8140",C14<0),-ROUND(C14/1000,0),IF(AND(D14="pl1120",C14<0),ROUND(C14/1000,0),IF(AND(D14="pl1355",C14<0),ROUND(C14/1000,0),IF(AND(D14="pl1385",C14<0),ROUND(C14/1000,0),IF((D14="pl1340"),ROUND(C14/1000,0),IF((D14="pl2275"),-ROUND(C14/1000,0),-ROUND(C14/1000,0)))))))))))))))))) -> 71 | F14: =IF(ISERROR(VLOOKUP(B14,'[1]TAB CONV SIGNE VECTOR'!J:K,2,FALSE)),'[1]TEST FORM'!B14,VLOOKUP(B14,'[1]TAB CONV SIGNE VECTOR'!J:K,2,FALSE)) -> S0234
A15: AS7100 | B15: SX328 | C15: 831426 | D15: =IF(AND(A15="as7100",C15>0),A15,IF(AND(A15="as7140",C15>0),A15,IF(AND(A15="PL1125",C15>0),A15,IF(AND(A15="PL1315",C15>0),A15,IF(AND(A15="PL1320",C15>0),A15,IF(AND(A15="PL1380",C15>0),A15,IF(AND(A15="LI8100",C15<0),A15,IF(AND(A15="LI8140",C15<0),A15,IF(AND(A15="PL1120",C15<0),A15,IF(AND(A15="PL1355",C15<0),A15,IF(AND(A15="PL1385",C15<0),A15,VLOOKUP(A15,'[1]TAB CONV SIGNE VECTOR'!A:C,3,FALSE)))))))))))) -> AS7100 | E15: =IF(AND(D15="as7100",C15>0),ROUND(C15/1000,0),IF(AND(D15="as7140",C15>0),ROUND(C15/1000,0),IF(AND(D15="pl1120",C15<0),-ROUND(C15/1000,0),IF(AND(D15="pl1125",C15>0),-ROUND(C15/1000,0),IF(AND(D15="pl1315",C15<0),ROUND(C15/1000,0),IF((D15="pl1340"),-ROUND(C15/1000,0),IF(AND(D15="pl1355",C15<0),-ROUND(C15/1000,0),IF(AND(D15="pl1320",C15>0),ROUND(C15/1000,0),IF(AND(D15="pl1380",C15>0),-ROUND(C15/1000,0),IF(AND(D15="pl1385",C15<0),-ROUND(C15/1000,0),IF(AND(D15="li8100",C15<0),-ROUND(C15/1000,0),IF(AND(D15="li8140",C15<0),-ROUND(C15/1000,0),IF(AND(D15="pl1120",C15<0),ROUND(C15/1000,0),IF(AND(D15="pl1355",C15<0),ROUND(C15/1000,0),IF(AND(D15="pl1385",C15<0),ROUND(C15/1000,0),IF((D15="pl1340"),ROUND(C15/1000,0),IF((D15="pl2275"),-ROUND(C15/1000,0),-ROUND(C15/1000,0)))))))))))))))))) -> 831 | F15: =IF(ISERROR(VLOOKUP(B15,'[1]TAB CONV SIGNE VECTOR'!J:K,2,FALSE)),'[1]TEST FORM'!B15,VLOOKUP(B15,'[1]TAB CONV SIGNE VECTOR'!J:K,2,FALSE)) -> S0301
A16: AS7100 | B16: SX332 | C16: 5149368.9 | D16: =IF(AND(A16="as7100",C16>0),A16,IF(AND(A16="as7140",C16>0),A16,IF(AND(A16="PL1125",C16>0),A16,IF(AND(A16="PL1315",C16>0),A16,IF(AND(A16="PL1320",C16>0),A16,IF(AND(A16="PL1380",C16>0),A16,IF(AND(A16="LI8100",C16<0),A16,IF(AND(A16="LI8140",C16<0),A16,IF(AND(A16="PL1120",C16<0),A16,IF(AND(A16="PL1355",C16<0),A16,IF(AND(A16="PL1385",C16<0),A16,VLOOKUP(A16,'[1]TAB CONV SIGNE VECTOR'!A:C,3,FALSE)))))))))))) -> AS7100 | E16: =IF(AND(D16="as7100",C16>0),ROUND(C16/1000,0),IF(AND(D16="as7140",C16>0),ROUND(C16/1000,0),IF(AND(D16="pl1120",C16<0),-ROUND(C16/1000,0),IF(AND(D16="pl1125",C16>0),-ROUND(C16/1000,0),IF(AND(D16="pl1315",C16<0),ROUND(C16/1000,0),IF((D16="pl1340"),-ROUND(C16/1000,0),IF(AND(D16="pl1355",C16<0),-ROUND(C16/1000,0),IF(AND(D16="pl1320",C16>0),ROUND(C16/1000,0),IF(AND(D16="pl1380",C16>0),-ROUND(C16/1000,0),IF(AND(D16="pl1385",C16<0),-ROUND(C16/1000,0),IF(AND(D16="li8100",C16<0),-ROUND(C16/1000,0),IF(AND(D16="li8140",C16<0),-ROUND(C16/1000,0),IF(AND(D16="pl1120",C16<0),ROUND(C16/1000,0),IF(AND(D16="pl1355",C16<0),ROUND(C16/1000,0),IF(AND(D16="pl1385",C16<0),ROUND(C16/1000,0),IF((D16="pl1340"),ROUND(C16/1000,0),IF((D16="pl2275"),-ROUND(C16/1000,0),-ROUND(C16/1000,0)))))))))))))))))) -> 5149 | F16: =IF(ISERROR(VLOOKUP(B16,'[1]TAB CONV SIGNE VECTOR'!J:K,2,FALSE)),'[1]TEST FORM'!B16,VLOOKUP(B16,'[1]TAB CONV SIGNE VECTOR'!J:K,2,FALSE)) -> S0309
A17: AS7100 | B17: SX334 | C17: 2316369.9 | D17: =IF(AND(A17="as7100",C17>0),A17,IF(AND(A17="as7140",C17>0),A17,IF(AND(A17="PL1125",C17>0),A17,IF(AND(A17="PL1315",C17>0),A17,IF(AND(A17="PL1320",C17>0),A17,IF(AND(A17="PL1380",C17>0),A17,IF(AND(A17="LI8100",C17<0),A17,IF(AND(A17="LI8140",C17<0),A17,IF(AND(A17="PL1120",C17<0),A17,IF(AND(A17="PL1355",C17<0),A17,IF(AND(A17="PL1385",C17<0),A17,VLOOKUP(A17,'[1]TAB CONV SIGNE VECTOR'!A:C,3,FALSE)))))))))))) -> AS7100 | E17: =IF(AND(D17="as7100",C17>0),ROUND(C17/1000,0),IF(AND(D17="as7140",C17>0),ROUND(C17/1000,0),IF(AND(D17="pl1120",C17<0),-ROUND(C17/1000,0),IF(AND(D17="pl1125",C17>0),-ROUND(C17/1000,0),IF(AND(D17="pl1315",C17<0),ROUND(C17/1000,0),IF((D17="pl1340"),-ROUND(C17/1000,0),IF(AND(D17="pl1355",C17<0),-ROUND(C17/1000,0),IF(AND(D17="pl1320",C17>0),ROUND(C17/1000,0),IF(AND(D17="pl1380",C17>0),-ROUND(C17/1000,0),IF(AND(D17="pl1385",C17<0),-ROUND(C17/1000,0),IF(AND(D17="li8100",C17<0),-ROUND(C17/1000,0),IF(AND(D17="li8140",C17<0),-ROUND(C17/1000,0),IF(AND(D17="pl1120",C17<0),ROUND(C17/1000,0),IF(AND(D17="pl1355",C17<0),ROUND(C17/1000,0),IF(AND(D17="pl1385",C17<0),ROUND(C17/1000,0),IF((D17="pl1340"),ROUND(C17/1000,0),IF((D17="pl2275"),-ROUND(C17/1000,0),-ROUND(C17/1000,0)))))))))))))))))) -> 2316 | F17: =IF(ISERROR(VLOOKUP(B17,'[1]TAB CONV SIGNE VECTOR'!J:K,2,FALSE)),'[1]TEST FORM'!B17,VLOOKUP(B17,'[1]TAB CONV SIGNE VECTOR'!J:K,2,FALSE)) -> S0332
A18: AS7100 | B18: SX345 | C18: 24077.64 | D18: =IF(AND(A18="as7100",C18>0),A18,IF(AND(A18="as7140",C18>0),A18,IF(AND(A18="PL1125",C18>0),A18,IF(AND(A18="PL1315",C18>0),A18,IF(AND(A18="PL1320",C18>0),A18,IF(AND(A18="PL1380",C18>0),A18,IF(AND(A18="LI8100",C18<0),A18,IF(AND(A18="LI8140",C18<0),A18,IF(AND(A18="PL1120",C18<0),A18,IF(AND(A18="PL1355",C18<0),A18,IF(AND(A18="PL1385",C18<0),A18,VLOOKUP(A18,'[1]TAB CONV SIGNE VECTOR'!A:C,3,FALSE)))))))))))) -> AS7100 | E18: =IF(AND(D18="as7100",C18>0),ROUND(C18/1000,0),IF(AND(D18="as7140",C18>0),ROUND(C18/1000,0),IF(AND(D18="pl1120",C18<0),-ROUND(C18/1000,0),IF(AND(D18="pl1125",C18>0),-ROUND(C18/1000,0),IF(AND(D18="pl1315",C18<0),ROUND(C18/1000,0),IF((D18="pl1340"),-ROUND(C18/1000,0),IF(AND(D18="pl1355",C18<0),-ROUND(C18/1000,0),IF(AND(D18="pl1320",C18>0),ROUND(C18/1000,0),IF(AND(D18="pl1380",C18>0),-ROUND(C18/1000,0),IF(AND(D18="pl1385",C18<0),-ROUND(C18/1000,0),IF(AND(D18="li8100",C18<0),-ROUND(C18/1000,0),IF(AND(D18="li8140",C18<0),-ROUND(C18/1000,0),IF(AND(D18="pl1120",C18<0),ROUND(C18/1000,0),IF(AND(D18="pl1355",C18<0),ROUND(C18/1000,0),IF(AND(D18="pl1385",C18<0),ROUND(C18/1000,0),IF((D18="pl1340"),ROUND(C18/1000,0),IF((D18="pl2275"),-ROUND(C18/1000,0),-ROUND(C18/1000,0)))))))))))))))))) -> 24 | F18: =IF(ISERROR(VLOOKUP(B18,'[1]TAB CONV SIGNE VECTOR'!J:K,2,FALSE)),'[1]TEST FORM'!B18,VLOOKUP(B18,'[1]TAB CONV SIGNE VECTOR'!J:K,2,FALSE)) -> S0339
A19: AS7100 | B19: SX360CP | C19: 937.03 | D19: =IF(AND(A19="as7100",C19>0),A19,IF(AND(A19="as7140",C19>0),A19,IF(AND(A19="PL1125",C19>0),A19,IF(AND(A19="PL1315",C19>0),A19,IF(AND(A19="PL1320",C19>0),A19,IF(AND(A19="PL1380",C19>0),A19,IF(AND(A19="LI8100",C19<0),A19,IF(AND(A19="LI8140",C19<0),A19,IF(AND(A19="PL1120",C19<0),A19,IF(AND(A19="PL1355",C19<0),A19,IF(AND(A19="PL1385",C19<0),A19,VLOOKUP(A19,'[1]TAB CONV SIGNE VECTOR'!A:C,3,FALSE)))))))))))) -> AS7100 | E19: =IF(AND(D19="as7100",C19>0),ROUND(C19/1000,0),IF(AND(D19="as7140",C19>0),ROUND(C19/1000,0),IF(AND(D19="pl1120",C19<0),-ROUND(C19/1000,0),IF(AND(D19="pl1125",C19>0),-ROUND(C19/1000,0),IF(AND(D19="pl1315",C19<0),ROUND(C19/1000,0),IF((D19="pl1340"),-ROUND(C19/1000,0),IF(AND(D19="pl1355",C19<0),-ROUND(C19/1000,0),IF(AND(D19="pl1320",C19>0),ROUND(C19/1000,0),IF(AND(D19="pl1380",C19>0),-ROUND(C19/1000,0),IF(AND(D19="pl1385",C19<0),-ROUND(C19/1000,0),IF(AND(D19="li8100",C19<0),-ROUND(C19/1000,0),IF(AND(D19="li8140",C19<0),-ROUND(C19/1000,0),IF(AND(D19="pl1120",C19<0),ROUND(C19/1000,0),IF(AND(D19="pl1355",C19<0),ROUND(C19/1000,0),IF(AND(D19="pl1385",C19<0),ROUND(C19/1000,0),IF((D19="pl1340"),ROUND(C19/1000,0),IF((D19="pl2275"),-ROUND(C19/1000,0),-ROUND(C19/1000,0)))))))))))))))))) -> 1 | F19: =IF(ISERROR(VLOOKUP(B19,'[1]TAB CONV SIGNE VECTOR'!J:K,2,FALSE)),'[1]TEST FORM'!B19,VLOOKUP(B19,'[1]TAB CONV SIGNE VECTOR'!J:K,2,FALSE)) -> S0401
A20: AS7100 | B20: SX371 | C20: 11960 | D20: =IF(AND(A20="as7100",C20>0),A20,IF(AND(A20="as7140",C20>0),A20,IF(AND(A20="PL1125",C20>0),A20,IF(AND(A20="PL1315",C20>0),A20,IF(AND(A20="PL1320",C20>0),A20,IF(AND(A20="PL1380",C20>0),A20,IF(AND(A20="LI8100",C20<0),A20,IF(AND(A20="LI8140",C20<0),A20,IF(AND(A20="PL1120",C20<0),A20,IF(AND(A20="PL1355",C20<0),A20,IF(AND(A20="PL1385",C20<0),A20,VLOOKUP(A20,'[1]TAB CONV SIGNE VECTOR'!A:C,3,FALSE)))))))))))) -> AS7100 | E20: =IF(AND(D20="as7100",C20>0),ROUND(C20/1000,0),IF(AND(D20="as7140",C20>0),ROUND(C20/1000,0),IF(AND(D20="pl1120",C20<0),-ROUND(C20/1000,0),IF(AND(D20="pl1125",C20>0),-ROUND(C20/1000,0),IF(AND(D20="pl1315",C20<0),ROUND(C20/1000,0),IF((D20="pl1340"),-ROUND(C20/1000,0),IF(AND(D20="pl1355",C20<0),-ROUND(C20/1000,0),IF(AND(D20="pl1320",C20>0),ROUND(C20/1000,0),IF(AND(D20="pl1380",C20>0),-ROUND(C20/1000,0),IF(AND(D20="pl1385",C20<0),-ROUND(C20/1000,0),IF(AND(D20="li8100",C20<0),-ROUND(C20/1000,0),IF(AND(D20="li8140",C20<0),-ROUND(C20/1000,0),IF(AND(D20="pl1120",C20<0),ROUND(C20/1000,0),IF(AND(D20="pl1355",C20<0),ROUND(C20/1000,0),IF(AND(D20="pl1385",C20<0),ROUND(C20/1000,0),IF((D20="pl1340"),ROUND(C20/1000,0),IF((D20="pl2275"),-ROUND(C20/1000,0),-ROUND(C20/1000,0)))))))))))))))))) -> 12 | F20: =IF(ISERROR(VLOOKUP(B20,'[1]TAB CONV SIGNE VECTOR'!J:K,2,FALSE)),'[1]TEST FORM'!B20,VLOOKUP(B20,'[1]TAB CONV SIGNE VECTOR'!J:K,2,FALSE)) -> S0917
A21: AS7100 | B21: SX385 | C21: 7280733.8 | D21: =IF(AND(A21="as7100",C21>0),A21,IF(AND(A21="as7140",C21>0),A21,IF(AND(A21="PL1125",C21>0),A21,IF(AND(A21="PL1315",C21>0),A21,IF(AND(A21="PL1320",C21>0),A21,IF(AND(A21="PL1380",C21>0),A21,IF(AND(A21="LI8100",C21<0),A21,IF(AND(A21="LI8140",C21<0),A21,IF(AND(A21="PL1120",C21<0),A21,IF(AND(A21="PL1355",C21<0),A21,IF(AND(A21="PL1385",C21<0),A21,VLOOKUP(A21,'[1]TAB CONV SIGNE VECTOR'!A:C,3,FALSE)))))))))))) -> AS7100 | E21: =IF(AND(D21="as7100",C21>0),ROUND(C21/1000,0),IF(AND(D21="as7140",C21>0),ROUND(C21/1000,0),IF(AND(D21="pl1120",C21<0),-ROUND(C21/1000,0),IF(AND(D21="pl1125",C21>0),-ROUND(C21/1000,0),IF(AND(D21="pl1315",C21<0),ROUND(C21/1000,0),IF((D21="pl1340"),-ROUND(C21/1000,0),IF(AND(D21="pl1355",C21<0),-ROUND(C21/1000,0),IF(AND(D21="pl1320",C21>0),ROUND(C21/1000,0),IF(AND(D21="pl1380",C21>0),-ROUND(C21/1000,0),IF(AND(D21="pl1385",C21<0),-ROUND(C21/1000,0),IF(AND(D21="li8100",C21<0),-ROUND(C21/1000,0),IF(AND(D21="li8140",C21<0),-ROUND(C21/1000,0),IF(AND(D21="pl1120",C21<0),ROUND(C21/1000,0),IF(AND(D21="pl1355",C21<0),ROUND(C21/1000,0),IF(AND(D21="pl1385",C21<0),ROUND(C21/1000,0),IF((D21="pl1340"),ROUND(C21/1000,0),IF((D21="pl2275"),-ROUND(C21/1000,0),-ROUND(C21/1000,0)))))))))))))))))) -> 7281 | F21: =IF(ISERROR(VLOOKUP(B21,'[1]TAB CONV SIGNE VECTOR'!J:K,2,FALSE)),'[1]TEST FORM'!B21,VLOOKUP(B21,'[1]TAB CONV SIGNE VECTOR'!J:K,2,FALSE)) -> S2100
... A30: AS7100 | B30: ZSX324 | C30: 133284.11 | D30: =IF(AND(A30="as7100",C30>0),A30,IF(AND(A30="as7140",C30>0),A30,IF(AND(A30="PL1125",C30>0),A30,IF(AND(A30="PL1315",C30>0),A30,IF(AND(A30="PL1320",C30>0),A30,IF(AND(A30="PL1380",C30>0),A30,IF(AND(A30="LI8100",C30<0),A30,IF(AND(A30="LI8140",C30<0),A30,IF(AND(A30="PL1120",C30<0),A30,IF(AND(A30="PL1355",C30<0),A30,IF(AND(A30="PL1385",C30<0),A30,VLOOKUP(A30,'[1]TAB CONV SIGNE VECTOR'!A:C,3,FALSE)))))))))))) -> AS7100 | E30: =IF(AND(D30="as7100",C30>0),ROUND(C30/1000,0),IF(AND(D30="as7140",C30>0),ROUND(C30/1000,0),IF(AND(D30="pl1120",C30<0),-ROUND(C30/1000,0),IF(AND(D30="pl1125",C30>0),-ROUND(C30/1000,0),IF(AND(D30="pl1315",C30<0),ROUND(C30/1000,0),IF((D30="pl1340"),-ROUND(C30/1000,0),IF(AND(D30="pl1355",C30<0),-ROUND(C30/1000,0),IF(AND(D30="pl1320",C30>0),ROUND(C30/1000,0),IF(AND(D30="pl1380",C30>0),-ROUND(C30/1000,0),IF(AND(D30="pl1385",C30<0),-ROUND(C30/1000,0),IF(AND(D30="li8100",C30<0),-ROUND(C30/1000,0),IF(AND(D30="li8140",C30<0),-ROUND(C30/1000,0),IF(AND(D30="pl1120",C30<0),ROUND(C30/1000,0),IF(AND(D30="pl1355",C30<0),ROUND(C30/1000,0),IF(AND(D30="pl1385",C30<0),ROUND(C30/1000,0),IF((D30="pl1340"),ROUND(C30/1000,0),IF((D30="pl2275"),-ROUND(C30/1000,0),-ROUND(C30/1000,0)))))))))))))))))) -> 133 | F30: =IF(ISERROR(VLOOKUP(B30,'[1]TAB CONV SIGNE VECTOR'!J:K,2,FALSE)),'[1]TEST FORM'!B30,VLOOKUP(B30,'[1]TAB CONV SIGNE VECTOR'!J:K,2,FALSE)) -> ZSX324P
A31: Total AS7100 | C31: 5.3193991e+08 | D31: =IF(AND(A31="as7100",C31>0),A31,IF(AND(A31="as7140",C31>0),A31,IF(AND(A31="PL1125",C31>0),A31,IF(AND(A31="PL1315",C31>0),A31,IF(AND(A31="PL1320",C31>0),A31,IF(AND(A31="PL1380",C31>0),A31,IF(AND(A31="LI8100",C31<0),A31,IF(AND(A31="LI8140",C31<0),A31,IF(AND(A31="PL1120",C31<0),A31,IF(AND(A31="PL1355",C31<0),A31,IF(AND(A31="PL1385",C31<0),A31,VLOOKUP(A31,'[1]TAB CONV SIGNE VECTOR'!A:C,3,FALSE)))))))))))) -> #N/A | E31: =IF(AND(D31="as7100",C31>0),ROUND(C31/1000,0),IF(AND(D31="as7140",C31>0),ROUND(C31/1000,0),IF(AND(D31="pl1120",C31<0),-ROUND(C31/1000,0),IF(AND(D31="pl1125",C31>0),-ROUND(C31/1000,0),IF(AND(D31="pl1315",C31<0),ROUND(C31/1000,0),IF((D31="pl1340"),-ROUND(C31/1000,0),IF(AND(D31="pl1355",C31<0),-ROUND(C31/1000,0),IF(AND(D31="pl1320",C31>0),ROUND(C31/1000,0),IF(AND(D31="pl1380",C31>0),-ROUND(C31/1000,0),IF(AND(D31="pl1385",C31<0),-ROUND(C31/1000,0),IF(AND(D31="li8100",C31<0),-ROUND(C31/1000,0),IF(AND(D31="li8140",C31<0),-ROUND(C31/1000,0),IF(AND(D31="pl1120",C31<0),ROUND(C31/1000,0),IF(AND(D31="pl1355",C31<0),ROUND(C31/1000,0),IF(AND(D31="pl1385",C31<0),ROUND(C31/1000,0),IF((D31="pl1340"),ROUND(C31/1000,0),IF((D31="pl2275"),-ROUND(C31/1000,0),-ROUND(C31/1000,0)))))))))))))))))) -> #N/A | F31: =IF(ISERROR(VLOOKUP(B31,'[1]TAB CONV SIGNE VECTOR'!J:K,2,FALSE)),'[1]TEST FORM'!B31,VLOOKUP(B31,'[1]TAB CONV SIGNE VECTOR'!J:K,2,FALSE)) -> S2230
A32: AS7140 | B32: 0 | C32: 17592474 | D32: =IF(AND(A32="as7100",C32>0),A32,IF(AND(A32="as7140",C32>0),A32,IF(AND(A32="PL1125",C32>0),A32,IF(AND(A32="PL1315",C32>0),A32,IF(AND(A32="PL1320",C32>0),A32,IF(AND(A32="PL1380",C32>0),A32,IF(AND(A32="LI8100",C32<0),A32,IF(AND(A32="LI8140",C32<0),A32,IF(AND(A32="PL1120",C32<0),A32,IF(AND(A32="PL1355",C32<0),A32,IF(AND(A32="PL1385",C32<0),A32,VLOOKUP(A32,'[1]TAB CONV SIGNE VECTOR'!A:C,3,FALSE)))))))))))) -> AS7140 | E32: =IF(AND(D32="as7100",C32>0),ROUND(C32/1000,0),IF(AND(D32="as7140",C32>0),ROUND(C32/1000,0),IF(AND(D32="pl1120",C32<0),-ROUND(C32/1000,0),IF(AND(D32="pl1125",C32>0),-ROUND(C32/1000,0),IF(AND(D32="pl1315",C32<0),ROUND(C32/1000,0),IF((D32="pl1340"),-ROUND(C32/1000,0),IF(AND(D32="pl1355",C32<0),-ROUND(C32/1000,0),IF(AND(D32="pl1320",C32>0),ROUND(C32/1000,0),IF(AND(D32="pl1380",C32>0),-ROUND(C32/1000,0),IF(AND(D32="pl1385",C32<0),-ROUND(C32/1000,0),IF(AND(D32="li8100",C32<0),-ROUND(C32/1000,0),IF(AND(D32="li8140",C32<0),-ROUND(C32/1000,0),IF(AND(D32="pl1120",C32<0),ROUND(C32/1000,0),IF(AND(D32="pl1355",C32<0),ROUND(C32/1000,0),IF(AND(D32="pl1385",C32<0),ROUND(C32/1000,0),IF((D32="pl1340"),ROUND(C32/1000,0),IF((D32="pl2275"),-ROUND(C32/1000,0),-ROUND(C32/1000,0)))))))))))))))))) -> 17592 | F32: =IF(ISERROR(VLOOKUP(B32,'[1]TAB CONV SIGNE VECTOR'!J:K,2,FALSE)),'[1]TEST FORM'!B32,VLOOKUP(B32,'[1]TAB CONV SIGNE VECTOR'!J:K,2,FALSE)) -> S2232
A33: AS7140 | C33: 1.2638965e+09 | D33: =IF(AND(A33="as7100",C33>0),A33,IF(AND(A33="as7140",C33>0),A33,IF(AND(A33="PL1125",C33>0),A33,IF(AND(A33="PL1315",C33>0),A33,IF(AND(A33="PL1320",C33>0),A33,IF(AND(A33="PL1380",C33>0),A33,IF(AND(A33="LI8100",C33<0),A33,IF(AND(A33="LI8140",C33<0),A33,IF(AND(A33="PL1120",C33<0),A33,IF(AND(A33="PL1355",C33<0),A33,IF(AND(A33="PL1385",C33<0),A33,VLOOKUP(A33,'[1]TAB CONV SIGNE VECTOR'!A:C,3,FALSE)))))))))))) -> AS7140 | E33: =IF(AND(D33="as7100",C33>0),ROUND(C33/1000,0),IF(AND(D33="as7140",C33>0),ROUND(C33/1000,0),IF(AND(D33="pl1120",C33<0),-ROUND(C33/1000,0),IF(AND(D33="pl1125",C33>0),-ROUND(C33/1000,0),IF(AND(D33="pl1315",C33<0),ROUND(C33/1000,0),IF((D33="pl1340"),-ROUND(C33/1000,0),IF(AND(D33="pl1355",C33<0),-ROUND(C33/1000,0),IF(AND(D33="pl1320",C33>0),ROUND(C33/1000,0),IF(AND(D33="pl1380",C33>0),-ROUND(C33/1000,0),IF(AND(D33="pl1385",C33<0),-ROUND(C33/1000,0),IF(AND(D33="li8100",C33<0),-ROUND(C33/1000,0),IF(AND(D33="li8140",C33<0),-ROUND(C33/1000,0),IF(AND(D33="pl1120",C33<0),ROUND(C33/1000,0),IF(AND(D33="pl1355",C33<0),ROUND(C33/1000,0),IF(AND(D33="pl1385",C33<0),ROUND(C33/1000,0),IF((D33="pl1340"),ROUND(C33/1000,0),IF((D33="pl2275"),-ROUND(C33/1000,0),-ROUND(C33/1000,0)))))))))))))))))) -> 1263896 | F33: =IF(ISERROR(VLOOKUP(B33,'[1]TAB CONV SIGNE VECTOR'!J:K,2,FALSE)),'[1]TEST FORM'!B33,VLOOKUP(B33,'[1]TAB CONV SIGNE VECTOR'!J:K,2,FALSE)) -> s2407
A34: AS7140 | B34: S0002 | C34: -6576564.2 | D34: =IF(AND(A34="as7100",C34>0),A34,IF(AND(A34="as7140",C34>0),A34,IF(AND(A34="PL1125",C34>0),A34,IF(AND(A34="PL1315",C34>0),A34,IF(AND(A34="PL1320",C34>0),A34,IF(AND(A34="PL1380",C34>0),A34,IF(AND(A34="LI8100",C34<0),A34,IF(AND(A34="LI8140",C34<0),A34,IF(AND(A34="PL1120",C34<0),A34,IF(AND(A34="PL1355",C34<0),A34,IF(AND(A34="PL1385",C34<0),A34,VLOOKUP(A34,'[1]TAB CONV SIGNE VECTOR'!A:C,3,FALSE)))))))))))) -> LI8140 | E34: =IF(AND(D34="as7100",C34>0),ROUND(C34/1000,0),IF(AND(D34="as7140",C34>0),ROUND(C34/1000,0),IF(AND(D34="pl1120",C34<0),-ROUND(C34/1000,0),IF(AND(D34="pl1125",C34>0),-ROUND(C34/1000,0),IF(AND(D34="pl1315",C34<0),ROUND(C34/1000,0),IF((D34="pl1340"),-ROUND(C34/1000,0),IF(AND(D34="pl1355",C34<0),-ROUND(C34/1000,0),IF(AND(D34="pl1320",C34>0),ROUND(C34/1000,0),IF(AND(D34="pl1380",C34>0),-ROUND(C34/1000,0),IF(AND(D34="pl1385",C34<0),-ROUND(C34/1000,0),IF(AND(D34="li8100",C34<0),-ROUND(C34/1000,0),IF(AND(D34="li8140",C34<0),-ROUND(C34/1000,0),IF(AND(D34="pl1120",C34<0),ROUND(C34/1000,0),IF(AND(D34="pl1355",C34<0),ROUND(C34/1000,0),IF(AND(D34="pl1385",C34<0),ROUND(C34/1000,0),IF((D34="pl1340"),ROUND(C34/1000,0),IF((D34="pl2275"),-ROUND(C34/1000,0),-ROUND(C34/1000,0)))))))))))))))))) -> 6577 | F34: =IF(ISERROR(VLOOKUP(B34,'[1]TAB CONV SIGNE VECTOR'!J:K,2,FALSE)),'[1]TEST FORM'!B34,VLOOKUP(B34,'[1]TAB CONV SIGNE VECTOR'!J:K,2,FALSE)) -> S7000
A35: AS7140 | B35: S0005 | C35: 0 | D35: =IF(AND(A35="as7100",C35>0),A35,IF(AND(A35="as7140",C35>0),A35,IF(AND(A35="PL1125",C35>0),A35,IF(AND(A35="PL1315",C35>0),A35,IF(AND(A35="PL1320",C35>0),A35,IF(AND(A35="PL1380",C35>0),A35,IF(AND(A35="LI8100",C35<0),A35,IF(AND(A35="LI8140",C35<0),A35,IF(AND(A35="PL1120",C35<0),A35,IF(AND(A35="PL1355",C35<0),A35,IF(AND(A35="PL1385",C35<0),A35,VLOOKUP(A35,'[1]TAB CONV SIGNE VECTOR'!A:C,3,FALSE)))))))))))) -> LI8140 | E35: =IF(AND(D35="as7100",C35>0),ROUND(C35/1000,0),IF(AND(D35="as7140",C35>0),ROUND(C35/1000,0),IF(AND(D35="pl1120",C35<0),-ROUND(C35/1000,0),IF(AND(D35="pl1125",C35>0),-ROUND(C35/1000,0),IF(AND(D35="pl1315",C35<0),ROUND(C35/1000,0),IF((D35="pl1340"),-ROUND(C35/1000,0),IF(AND(D35="pl1355",C35<0),-ROUND(C35/1000,0),IF(AND(D35="pl1320",C35>0),ROUND(C35/1000,0),IF(AND(D35="pl1380",C35>0),-ROUND(C35/1000,0),IF(AND(D35="pl1385",C35<0),-ROUND(C35/1000,0),IF(AND(D35="li8100",C35<0),-ROUND(C35/1000,0),IF(AND(D35="li8140",C35<0),-ROUND(C35/1000,0),IF(AND(D35="pl1120",C35<0),ROUND(C35/1000,0),IF(AND(D35="pl1355",C35<0),ROUND(C35/1000,0),IF(AND(D35="pl1385",C35<0),ROUND(C35/1000,0),IF((D35="pl1340"),ROUND(C35/1000,0),IF((D35="pl2275"),-ROUND(C35/1000,0),-ROUND(C35/1000,0)))))))))))))))))) -> 0 | F35: =IF(ISERROR(VLOOKUP(B35,'[1]TAB CONV SIGNE VECTOR'!J:K,2,FALSE)),'[1]TEST FORM'!B35,VLOOKUP(B35,'[1]TAB CONV SIGNE VECTOR'!J:K,2,FALSE)) -> S9065
A36: AS7140 | B36: S0191 | C36: 1199.2 | D36: =IF(AND(A36="as7100",C36>0),A36,IF(AND(A36="as7140",C36>0),A36,IF(AND(A36="PL1125",C36>0),A36,IF(AND(A36="PL1315",C36>0),A36,IF(AND(A36="PL1320",C36>0),A36,IF(AND(A36="PL1380",C36>0),A36,IF(AND(A36="LI8100",C36<0),A36,IF(AND(A36="LI8140",C36<0),A36,IF(AND(A36="PL1120",C36<0),A36,IF(AND(A36="PL1355",C36<0),A36,IF(AND(A36="PL1385",C36<0),A36,VLOOKUP(A36,'[1]TAB CONV SIGNE VECTOR'!A:C,3,FALSE)))))))))))) -> AS7140 | E36: =IF(AND(D36="as7100",C36>0),ROUND(C36/1000,0),IF(AND(D36="as7140",C36>0),ROUND(C36/1000,0),IF(AND(D36="pl1120",C36<0),-ROUND(C36/1000,0),IF(AND(D36="pl1125",C36>0),-ROUND(C36/1000,0),IF(AND(D36="pl1315",C36<0),ROUND(C36/1000,0),IF((D36="pl1340"),-ROUND(C36/1000,0),IF(AND(D36="pl1355",C36<0),-ROUND(C36/1000,0),IF(AND(D36="pl1320",C36>0),ROUND(C36/1000,0),IF(AND(D36="pl1380",C36>0),-ROUND(C36/1000,0),IF(AND(D36="pl1385",C36<0),-ROUND(C36/1000,0),IF(AND(D36="li8100",C36<0),-ROUND(C36/1000,0),IF(AND(D36="li8140",C36<0),-ROUND(C36/1000,0),IF(AND(D36="pl1120",C36<0),ROUND(C36/1000,0),IF(AND(D36="pl1355",C36<0),ROUND(C36/1000,0),IF(AND(D36="pl1385",C36<0),ROUND(C36/1000,0),IF((D36="pl1340"),ROUND(C36/1000,0),IF((D36="pl2275"),-ROUND(C36/1000,0),-ROUND(C36/1000,0)))))))))))))))))) -> 1 | F36: =IF(ISERROR(VLOOKUP(B36,'[1]TAB CONV SIGNE VECTOR'!J:K,2,FALSE)),'[1]TEST FORM'!B36,VLOOKUP(B36,'[1]TAB CONV SIGNE VECTOR'!J:K,2,FALSE)) -> S9095
A37: AS7140 | B37: S0204 | C37: 17045 | D37: =IF(AND(A37="as7100",C37>0),A37,IF(AND(A37="as7140",C37>0),A37,IF(AND(A37="PL1125",C37>0),A37,IF(AND(A37="PL1315",C37>0),A37,IF(AND(A37="PL1320",C37>0),A37,IF(AND(A37="PL1380",C37>0),A37,IF(AND(A37="LI8100",C37<0),A37,IF(AND(A37="LI8140",C37<0),A37,IF(AND(A37="PL1120",C37<0),A37,IF(AND(A37="PL1355",C37<0),A37,IF(AND(A37="PL1385",C37<0),A37,VLOOKUP(A37,'[1]TAB CONV SIGNE VECTOR'!A:C,3,FALSE)))))))))))) -> AS7140 | E37: =IF(AND(D37="as7100",C37>0),ROUND(C37/1000,0),IF(AND(D37="as7140",C37>0),ROUND(C37/1000,0),IF(AND(D37="pl1120",C37<0),-ROUND(C37/1000,0),IF(AND(D37="pl1125",C37>0),-ROUND(C37/1000,0),IF(AND(D37="pl1315",C37<0),ROUND(C37/1000,0),IF((D37="pl1340"),-ROUND(C37/1000,0),IF(AND(D37="pl1355",C37<0),-ROUND(C37/1000,0),IF(AND(D37="pl1320",C37>0),ROUND(C37/1000,0),IF(AND(D37="pl1380",C37>0),-ROUND(C37/1000,0),IF(AND(D37="pl1385",C37<0),-ROUND(C37/1000,0),IF(AND(D37="li8100",C37<0),-ROUND(C37/1000,0),IF(AND(D37="li8140",C37<0),-ROUND(C37/1000,0),IF(AND(D37="pl1120",C37<0),ROUND(C37/1000,0),IF(AND(D37="pl1355",C37<0),ROUND(C37/1000,0),IF(AND(D37="pl1385",C37<0),ROUND(C37/1000,0),IF((D37="pl1340"),ROUND(C37/1000,0),IF((D37="pl2275"),-ROUND(C37/1000,0),-ROUND(C37/1000,0)))))))))))))))))) -> 17 | F37: =IF(ISERROR(VLOOKUP(B37,'[1]TAB CONV SIGNE VECTOR'!J:K,2,FALSE)),'[1]TEST FORM'!B37,VLOOKUP(B37,'[1]TAB CONV SIGNE VECTOR'!J:K,2,FALSE)) -> S9096
A38: AS7140 | B38: S0208 | C38: 427786 | D38: =IF(AND(A38="as7100",C38>0),A38,IF(AND(A38="as7140",C38>0),A38,IF(AND(A38="PL1125",C38>0),A38,IF(AND(A38="PL1315",C38>0),A38,IF(AND(A38="PL1320",C38>0),A38,IF(AND(A38="PL1380",C38>0),A38,IF(AND(A38="LI8100",C38<0),A38,IF(AND(A38="LI8140",C38<0),A38,IF(AND(A38="PL1120",C38<0),A38,IF(AND(A38="PL1355",C38<0),A38,IF(AND(A38="PL1385",C38<0),A38,VLOOKUP(A38,'[1]TAB CONV SIGNE VECTOR'!A:C,3,FALSE)))))))))))) -> AS7140 | E38: =IF(AND(D38="as7100",C38>0),ROUND(C38/1000,0),IF(AND(D38="as7140",C38>0),ROUND(C38/1000,0),IF(AND(D38="pl1120",C38<0),-ROUND(C38/1000,0),IF(AND(D38="pl1125",C38>0),-ROUND(C38/1000,0),IF(AND(D38="pl1315",C38<0),ROUND(C38/1000,0),IF((D38="pl1340"),-ROUND(C38/1000,0),IF(AND(D38="pl1355",C38<0),-ROUND(C38/1000,0),IF(AND(D38="pl1320",C38>0),ROUND(C38/1000,0),IF(AND(D38="pl1380",C38>0),-ROUND(C38/1000,0),IF(AND(D38="pl1385",C38<0),-ROUND(C38/1000,0),IF(AND(D38="li8100",C38<0),-ROUND(C38/1000,0),IF(AND(D38="li8140",C38<0),-ROUND(C38/1000,0),IF(AND(D38="pl1120",C38<0),ROUND(C38/1000,0),IF(AND(D38="pl1355",C38<0),ROUND(C38/1000,0),IF(AND(D38="pl1385",C38<0),ROUND(C38/1000,0),IF((D38="pl1340"),ROUND(C38/1000,0),IF((D38="pl2275"),-ROUND(C38/1000,0),-ROUND(C38/1000,0)))))))))))))))))) -> 428 | F38: =IF(ISERROR(VLOOKUP(B38,'[1]TAB CONV SIGNE VECTOR'!J:K,2,FALSE)),'[1]TEST FORM'!B38,VLOOKUP(B38,'[1]TAB CONV SIGNE VECTOR'!J:K,2,FALSE)) -> S9178
A39: AS7140 | B39: S0226 | C39: 617198 | D39: =IF(AND(A39="as7100",C39>0),A39,IF(AND(A39="as7140",C39>0),A39,IF(AND(A39="PL1125",C39>0),A39,IF(AND(A39="PL1315",C39>0),A39,IF(AND(A39="PL1320",C39>0),A39,IF(AND(A39="PL1380",C39>0),A39,IF(AND(A39="LI8100",C39<0),A39,IF(AND(A39="LI8140",C39<0),A39,IF(AND(A39="PL1120",C39<0),A39,IF(AND(A39="PL1355",C39<0),A39,IF(AND(A39="PL1385",C39<0),A39,VLOOKUP(A39,'[1]TAB CONV SIGNE VECTOR'!A:C,3,FALSE)))))))))))) -> AS7140 | E39: =IF(AND(D39="as7100",C39>0),ROUND(C39/1000,0),IF(AND(D39="as7140",C39>0),ROUND(C39/1000,0),IF(AND(D39="pl1120",C39<0),-ROUND(C39/1000,0),IF(AND(D39="pl1125",C39>0),-ROUND(C39/1000,0),IF(AND(D39="pl1315",C39<0),ROUND(C39/1000,0),IF((D39="pl1340"),-ROUND(C39/1000,0),IF(AND(D39="pl1355",C39<0),-ROUND(C39/1000,0),IF(AND(D39="pl1320",C39>0),ROUND(C39/1000,0),IF(AND(D39="pl1380",C39>0),-ROUND(C39/1000,0),IF(AND(D39="pl1385",C39<0),-ROUND(C39/1000,0),IF(AND(D39="li8100",C39<0),-ROUND(C39/1000,0),IF(AND(D39="li8140",C39<0),-ROUND(C39/1000,0),IF(AND(D39="pl1120",C39<0),ROUND(C39/1000,0),IF(AND(D39="pl1355",C39<0),ROUND(C39/1000,0),IF(AND(D39="pl1385",C39<0),ROUND(C39/1000,0),IF((D39="pl1340"),ROUND(C39/1000,0),IF((D39="pl2275"),-ROUND(C39/1000,0),-ROUND(C39/1000,0)))))))))))))))))) -> 617 | F39: =IF(ISERROR(VLOOKUP(B39,'[1]TAB CONV SIGNE VECTOR'!J:K,2,FALSE)),'[1]TEST FORM'!B39,VLOOKUP(B39,'[1]TAB CONV SIGNE VECTOR'!J:K,2,FALSE)) -> S9400
A40: AS7140 | B40: S0228 | C40: 2863889 | D40: =IF(AND(A40="as7100",C40>0),A40,IF(AND(A40="as7140",C40>0),A40,IF(AND(A40="PL1125",C40>0),A40,IF(AND(A40="PL1315",C40>0),A40,IF(AND(A40="PL1320",C40>0),A40,IF(AND(A40="PL1380",C40>0),A40,IF(AND(A40="LI8100",C40<0),A40,IF(AND(A40="LI8140",C40<0),A40,IF(AND(A40="PL1120",C40<0),A40,IF(AND(A40="PL1355",C40<0),A40,IF(AND(A40="PL1385",C40<0),A40,VLOOKUP(A40,'[1]TAB CONV SIGNE VECTOR'!A:C,3,FALSE)))))))))))) -> AS7140 | E40: =IF(AND(D40="as7100",C40>0),ROUND(C40/1000,0),IF(AND(D40="as7140",C40>0),ROUND(C40/1000,0),IF(AND(D40="pl1120",C40<0),-ROUND(C40/1000,0),IF(AND(D40="pl1125",C40>0),-ROUND(C40/1000,0),IF(AND(D40="pl1315",C40<0),ROUND(C40/1000,0),IF((D40="pl1340"),-ROUND(C40/1000,0),IF(AND(D40="pl1355",C40<0),-ROUND(C40/1000,0),IF(AND(D40="pl1320",C40>0),ROUND(C40/1000,0),IF(AND(D40="pl1380",C40>0),-ROUND(C40/1000,0),IF(AND(D40="pl1385",C40<0),-ROUND(C40/1000,0),IF(AND(D40="li8100",C40<0),-ROUND(C40/1000,0),IF(AND(D40="li8140",C40<0),-ROUND(C40/1000,0),IF(AND(D40="pl1120",C40<0),ROUND(C40/1000,0),IF(AND(D40="pl1355",C40<0),ROUND(C40/1000,0),IF(AND(D40="pl1385",C40<0),ROUND(C40/1000,0),IF((D40="pl1340"),ROUND(C40/1000,0),IF((D40="pl2275"),-ROUND(C40/1000,0),-ROUND(C40/1000,0)))))))))))))))))) -> 2864 | F40: =IF(ISERROR(VLOOKUP(B40,'[1]TAB CONV SIGNE VECTOR'!J:K,2,FALSE)),'[1]TEST FORM'!B40,VLOOKUP(B40,'[1]TAB CONV SIGNE VECTOR'!J:K,2,FALSE)) -> S9999
A41: AS7140 | B41: SD095 | C41: -2068.12 | D41: =IF(AND(A41="as7100",C41>0),A41,IF(AND(A41="as7140",C41>0),A41,IF(AND(A41="PL1125",C41>0),A41,IF(AND(A41="PL1315",C41>0),A41,IF(AND(A41="PL1320",C41>0),A41,IF(AND(A41="PL1380",C41>0),A41,IF(AND(A41="LI8100",C41<0),A41,IF(AND(A41="LI8140",C41<0),A41,IF(AND(A41="PL1120",C41<0),A41,IF(AND(A41="PL1355",C41<0),A41,IF(AND(A41="PL1385",C41<0),A41,VLOOKUP(A41,'[1]TAB CONV SIGNE VECTOR'!A:C,3,FALSE)))))))))))) -> LI8140 | E41: =IF(AND(D41="as7100",C41>0),ROUND(C41/1000,0),IF(AND(D41="as7140",C41>0),ROUND(C41/1000,0),IF(AND(D41="pl1120",C41<0),-ROUND(C41/1000,0),IF(AND(D41="pl1125",C41>0),-ROUND(C41/1000,0),IF(AND(D41="pl1315",C41<0),ROUND(C41/1000,0),IF((D41="pl1340"),-ROUND(C41/1000,0),IF(AND(D41="pl1355",C41<0),-ROUND(C41/1000,0),IF(AND(D41="pl1320",C41>0),ROUND(C41/1000,0),IF(AND(D41="pl1380",C41>0),-ROUND(C41/1000,0),IF(AND(D41="pl1385",C41<0),-ROUND(C41/1000,0),IF(AND(D41="li8100",C41<0),-ROUND(C41/1000,0),IF(AND(D41="li8140",C41<0),-ROUND(C41/1000,0),IF(AND(D41="pl1120",C41<0),ROUND(C41/1000,0),IF(AND(D41="pl1355",C41<0),ROUND(C41/1000,0),IF(AND(D41="pl1385",C41<0),ROUND(C41/1000,0),IF((D41="pl1340"),ROUND(C41/1000,0),IF((D41="pl2275"),-ROUND(C41/1000,0),-ROUND(C41/1000,0)))))))))))))))))) -> 2 | F41: =IF(ISERROR(VLOOKUP(B41,'[1]TAB CONV SIGNE VECTOR'!J:K,2,FALSE)),'[1]TEST FORM'!B41,VLOOKUP(B41,'[1]TAB CONV SIGNE VECTOR'!J:K,2,FALSE)) -> SA024
A42: AS7140 | B42: SD096 | C42: -170.15 | D42: =IF(AND(A42="as7100",C42>0),A42,IF(AND(A42="as7140",C42>0),A42,IF(AND(A42="PL1125",C42>0),A42,IF(AND(A42="PL1315",C42>0),A42,IF(AND(A42="PL1320",C42>0),A42,IF(AND(A42="PL1380",C42>0),A42,IF(AND(A42="LI8100",C42<0),A42,IF(AND(A42="LI8140",C42<0),A42,IF(AND(A42="PL1120",C42<0),A42,IF(AND(A42="PL1355",C42<0),A42,IF(AND(A42="PL1385",C42<0),A42,VLOOKUP(A42,'[1]TAB CONV SIGNE VECTOR'!A:C,3,FALSE)))))))))))) -> LI8140 | E42: =IF(AND(D42="as7100",C42>0),ROUND(C42/1000,0),IF(AND(D42="as7140",C42>0),ROUND(C42/1000,0),IF(AND(D42="pl1120",C42<0),-ROUND(C42/1000,0),IF(AND(D42="pl1125",C42>0),-ROUND(C42/1000,0),IF(AND(D42="pl1315",C42<0),ROUND(C42/1000,0),IF((D42="pl1340"),-ROUND(C42/1000,0),IF(AND(D42="pl1355",C42<0),-ROUND(C42/1000,0),IF(AND(D42="pl1320",C42>0),ROUND(C42/1000,0),IF(AND(D42="pl1380",C42>0),-ROUND(C42/1000,0),IF(AND(D42="pl1385",C42<0),-ROUND(C42/1000,0),IF(AND(D42="li8100",C42<0),-ROUND(C42/1000,0),IF(AND(D42="li8140",C42<0),-ROUND(C42/1000,0),IF(AND(D42="pl1120",C42<0),ROUND(C42/1000,0),IF(AND(D42="pl1355",C42<0),ROUND(C42/1000,0),IF(AND(D42="pl1385",C42<0),ROUND(C42/1000,0),IF((D42="pl1340"),ROUND(C42/1000,0),IF((D42="pl2275"),-ROUND(C42/1000,0),-ROUND(C42/1000,0)))))))))))))))))) -> 0 | F42: =IF(ISERROR(VLOOKUP(B42,'[1]TAB CONV SIGNE VECTOR'!J:K,2,FALSE)),'[1]TEST FORM'!B42,VLOOKUP(B42,'[1]TAB CONV SIGNE VECTOR'!J:K,2,FALSE)) -> SA054
A43: AS7140 | B43: SD097 | C43: -81.24 | D43: =IF(AND(A43="as7100",C43>0),A43,IF(AND(A43="as7140",C43>0),A43,IF(AND(A43="PL1125",C43>0),A43,IF(AND(A43="PL1315",C43>0),A43,IF(AND(A43="PL1320",C43>0),A43,IF(AND(A43="PL1380",C43>0),A43,IF(AND(A43="LI8100",C43<0),A43,IF(AND(A43="LI8140",C43<0),A43,IF(AND(A43="PL1120",C43<0),A43,IF(AND(A43="PL1355",C43<0),A43,IF(AND(A43="PL1385",C43<0),A43,VLOOKUP(A43,'[1]TAB CONV SIGNE VECTOR'!A:C,3,FALSE)))))))))))) -> LI8140 | E43: =IF(AND(D43="as7100",C43>0),ROUND(C43/1000,0),IF(AND(D43="as7140",C43>0),ROUND(C43/1000,0),IF(AND(D43="pl1120",C43<0),-ROUND(C43/1000,0),IF(AND(D43="pl1125",C43>0),-ROUND(C43/1000,0),IF(AND(D43="pl1315",C43<0),ROUND(C43/1000,0),IF((D43="pl1340"),-ROUND(C43/1000,0),IF(AND(D43="pl1355",C43<0),-ROUND(C43/1000,0),IF(AND(D43="pl1320",C43>0),ROUND(C43/1000,0),IF(AND(D43="pl1380",C43>0),-ROUND(C43/1000,0),IF(AND(D43="pl1385",C43<0),-ROUND(C43/1000,0),IF(AND(D43="li8100",C43<0),-ROUND(C43/1000,0),IF(AND(D43="li8140",C43<0),-ROUND(C43/1000,0),IF(AND(D43="pl1120",C43<0),ROUND(C43/1000,0),IF(AND(D43="pl1355",C43<0),ROUND(C43/1000,0),IF(AND(D43="pl1385",C43<0),ROUND(C43/1000,0),IF((D43="pl1340"),ROUND(C43/1000,0),IF((D43="pl2275"),-ROUND(C43/1000,0),-ROUND(C43/1000,0)))))))))))))))))) -> 0 | F43: =IF(ISERROR(VLOOKUP(B43,'[1]TAB CONV SIGNE VECTOR'!J:K,2,FALSE)),'[1]TEST FORM'!B43,VLOOKUP(B43,'[1]TAB CONV SIGNE VECTOR'!J:K,2,FALSE)) -> SA310
A44: AS7140 | B44: SD199 | C44: -234487.59 | D44: =IF(AND(A44="as7100",C44>0),A44,IF(AND(A44="as7140",C44>0),A44,IF(AND(A44="PL1125",C44>0),A44,IF(AND(A44="PL1315",C44>0),A44,IF(AND(A44="PL1320",C44>0),A44,IF(AND(A44="PL1380",C44>0),A44,IF(AND(A44="LI8100",C44<0),A44,IF(AND(A44="LI8140",C44<0),A44,IF(AND(A44="PL1120",C44<0),A44,IF(AND(A44="PL1355",C44<0),A44,IF(AND(A44="PL1385",C44<0),A44,VLOOKUP(A44,'[1]TAB CONV SIGNE VECTOR'!A:C,3,FALSE)))))))))))) -> LI8140 | E44: =IF(AND(D44="as7100",C44>0),ROUND(C44/1000,0),IF(AND(D44="as7140",C44>0),ROUND(C44/1000,0),IF(AND(D44="pl1120",C44<0),-ROUND(C44/1000,0),IF(AND(D44="pl1125",C44>0),-ROUND(C44/1000,0),IF(AND(D44="pl1315",C44<0),ROUND(C44/1000,0),IF((D44="pl1340"),-ROUND(C44/1000,0),IF(AND(D44="pl1355",C44<0),-ROUND(C44/1000,0),IF(AND(D44="pl1320",C44>0),ROUND(C44/1000,0),IF(AND(D44="pl1380",C44>0),-ROUND(C44/1000,0),IF(AND(D44="pl1385",C44<0),-ROUND(C44/1000,0),IF(AND(D44="li8100",C44<0),-ROUND(C44/1000,0),IF(AND(D44="li8140",C44<0),-ROUND(C44/1000,0),IF(AND(D44="pl1120",C44<0),ROUND(C44/1000,0),IF(AND(D44="pl1355",C44<0),ROUND(C44/1000,0),IF(AND(D44="pl1385",C44<0),ROUND(C44/1000,0),IF((D44="pl1340"),ROUND(C44/1000,0),IF((D44="pl2275"),-ROUND(C44/1000,0),-ROUND(C44/1000,0)))))))))))))))))) -> 234 | F44: =IF(ISERROR(VLOOKUP(B44,'[1]TAB CONV SIGNE VECTOR'!J:K,2,FALSE)),'[1]TEST FORM'!B44,VLOOKUP(B44,'[1]TAB CONV SIGNE VECTOR'!J:K,2,FALSE)) -> SA311
A45: AS7140 | B45: SD245 | C45: -29 | D45: =IF(AND(A45="as7100",C45>0),A45,IF(AND(A45="as7140",C45>0),A45,IF(AND(A45="PL1125",C45>0),A45,IF(AND(A45="PL1315",C45>0),A45,IF(AND(A45="PL1320",C45>0),A45,IF(AND(A45="PL1380",C45>0),A45,IF(AND(A45="LI8100",C45<0),A45,IF(AND(A45="LI8140",C45<0),A45,IF(AND(A45="PL1120",C45<0),A45,IF(AND(A45="PL1355",C45<0),A45,IF(AND(A45="PL1385",C45<0),A45,VLOOKUP(A45,'[1]TAB CONV SIGNE VECTOR'!A:C,3,FALSE)))))))))))) -> LI8140 | E45: =IF(AND(D45="as7100",C45>0),ROUND(C45/1000,0),IF(AND(D45="as7140",C45>0),ROUND(C45/1000,0),IF(AND(D45="pl1120",C45<0),-ROUND(C45/1000,0),IF(AND(D45="pl1125",C45>0),-ROUND(C45/1000,0),IF(AND(D45="pl1315",C45<0),ROUND(C45/1000,0),IF((D45="pl1340"),-ROUND(C45/1000,0),IF(AND(D45="pl1355",C45<0),-ROUND(C45/1000,0),IF(AND(D45="pl1320",C45>0),ROUND(C45/1000,0),IF(AND(D45="pl1380",C45>0),-ROUND(C45/1000,0),IF(AND(D45="pl1385",C45<0),-ROUND(C45/1000,0),IF(AND(D45="li8100",C45<0),-ROUND(C45/1000,0),IF(AND(D45="li8140",C45<0),-ROUND(C45/1000,0),IF(AND(D45="pl1120",C45<0),ROUND(C45/1000,0),IF(AND(D45="pl1355",C45<0),ROUND(C45/1000,0),IF(AND(D45="pl1385",C45<0),ROUND(C45/1000,0),IF((D45="pl1340"),ROUND(C45/1000,0),IF((D45="pl2275"),-ROUND(C45/1000,0),-ROUND(C45/1000,0)))))))))))))))))) -> 0 | F45: =IF(ISERROR(VLOOKUP(B45,'[1]TAB CONV SIGNE VECTOR'!J:K,2,FALSE)),'[1]TEST FORM'!B45,VLOOKUP(B45,'[1]TAB CONV SIGNE VECTOR'!J:K,2,FALSE)) -> SA313
A46: LI8100 | C46: -23462177 | D46: =IF(AND(A46="as7100",C46>0),A46,IF(AND(A46="as7140",C46>0),A46,IF(AND(A46="PL1125",C46>0),A46,IF(AND(A46="PL1315",C46>0),A46,IF(AND(A46="PL1320",C46>0),A46,IF(AND(A46="PL1380",C46>0),A46,IF(AND(A46="LI8100",C46<0),A46,IF(AND(A46="LI8140",C46<0),A46,IF(AND(A46="PL1120",C46<0),A46,IF(AND(A46="PL1355",C46<0),A46,IF(AND(A46="PL1385",C46<0),A46,VLOOKUP(A46,'[1]TAB CONV SIGNE VECTOR'!A:C,3,FALSE)))))))))))) -> LI8100 | E46: =IF(AND(D46="as7100",C46>0),ROUND(C46/1000,0),IF(AND(D46="as7140",C46>0),ROUND(C46/1000,0),IF(AND(D46="pl1120",C46<0),-ROUND(C46/1000,0),IF(AND(D46="pl1125",C46>0),-ROUND(C46/1000,0),IF(AND(D46="pl1315",C46<0),ROUND(C46/1000,0),IF((D46="pl1340"),-ROUND(C46/1000,0),IF(AND(D46="pl1355",C46<0),-ROUND(C46/1000,0),IF(AND(D46="pl1320",C46>0),ROUND(C46/1000,0),IF(AND(D46="pl1380",C46>0),-ROUND(C46/1000,0),IF(AND(D46="pl1385",C46<0),-ROUND(C46/1000,0),IF(AND(D46="li8100",C46<0),-ROUND(C46/1000,0),IF(AND(D46="li8140",C46<0),-ROUND(C46/1000,0),IF(AND(D46="pl1120",C46<0),ROUND(C46/1000,0),IF(AND(D46="pl1355",C46<0),ROUND(C46/1000,0),IF(AND(D46="pl1385",C46<0),ROUND(C46/1000,0),IF((D46="pl1340"),ROUND(C46/1000,0),IF((D46="pl2275"),-ROUND(C46/1000,0),-ROUND(C46/1000,0)))))))))))))))))) -> 23462 | F46: =IF(ISERROR(VLOOKUP(B46,'[1]TAB CONV SIGNE VECTOR'!J:K,2,FALSE)),'[1]TEST FORM'!B46,VLOOKUP(B46,'[1]TAB CONV SIGNE VECTOR'!J:K,2,FALSE)) -> SA317
A47: LI8100 | B47: S0002 | C47: -17590497 | D47: =IF(AND(A47="as7100",C47>0),A47,IF(AND(A47="as7140",C47>0),A47,IF(AND(A47="PL1125",C47>0),A47,IF(AND(A47="PL1315",C47>0),A47,IF(AND(A47="PL1320",C47>0),A47,IF(AND(A47="PL1380",C47>0),A47,IF(AND(A47="LI8100",C47<0),A47,IF(AND(A47="LI8140",C47<0),A47,IF(AND(A47="PL1120",C47<0),A47,IF(AND(A47="PL1355",C47<0),A47,IF(AND(A47="PL1385",C47<0),A47,VLOOKUP(A47,'[1]TAB CONV SIGNE VECTOR'!A:C,3,FALSE)))))))))))) -> LI8100 | E47: =IF(AND(D47="as7100",C47>0),ROUND(C47/1000,0),IF(AND(D47="as7140",C47>0),ROUND(C47/1000,0),IF(AND(D47="pl1120",C47<0),-ROUND(C47/1000,0),IF(AND(D47="pl1125",C47>0),-ROUND(C47/1000,0),IF(AND(D47="pl1315",C47<0),ROUND(C47/1000,0),IF((D47="pl1340"),-ROUND(C47/1000,0),IF(AND(D47="pl1355",C47<0),-ROUND(C47/1000,0),IF(AND(D47="pl1320",C47>0),ROUND(C47/1000,0),IF(AND(D47="pl1380",C47>0),-ROUND(C47/1000,0),IF(AND(D47="pl1385",C47<0),-ROUND(C47/1000,0),IF(AND(D47="li8100",C47<0),-ROUND(C47/1000,0),IF(AND(D47="li8140",C47<0),-ROUND(C47/1000,0),IF(AND(D47="pl1120",C47<0),ROUND(C47/1000,0),IF(AND(D47="pl1355",C47<0),ROUND(C47/1000,0),IF(AND(D47="pl1385",C47<0),ROUND(C47/1000,0),IF((D47="pl1340"),ROUND(C47/1000,0),IF((D47="pl2275"),-ROUND(C47/1000,0),-ROUND(C47/1000,0)))))))))))))))))) -> 17590 | F47: =IF(ISERROR(VLOOKUP(B47,'[1]TAB CONV SIGNE VECTOR'!J:K,2,FALSE)),'[1]TEST FORM'!B47,VLOOKUP(B47,'[1]TAB CONV SIGNE VECTOR'!J:K,2,FALSE)) -> SA330
A48: LI8100 | B48: S0005 | C48: -232203.98 | D48: =IF(AND(A48="as7100",C48>0),A48,IF(AND(A48="as7140",C48>0),A48,IF(AND(A48="PL1125",C48>0),A48,IF(AND(A48="PL1315",C48>0),A48,IF(AND(A48="PL1320",C48>0),A48,IF(AND(A48="PL1380",C48>0),A48,IF(AND(A48="LI8100",C48<0),A48,IF(AND(A48="LI8140",C48<0),A48,IF(AND(A48="PL1120",C48<0),A48,IF(AND(A48="PL1355",C48<0),A48,IF(AND(A48="PL1385",C48<0),A48,VLOOKUP(A48,'[1]TAB CONV SIGNE VECTOR'!A:C,3,FALSE)))))))))))) -> LI8100 | E48: =IF(AND(D48="as7100",C48>0),ROUND(C48/1000,0),IF(AND(D48="as7140",C48>0),ROUND(C48/1000,0),IF(AND(D48="pl1120",C48<0),-ROUND(C48/1000,0),IF(AND(D48="pl1125",C48>0),-ROUND(C48/1000,0),IF(AND(D48="pl1315",C48<0),ROUND(C48/1000,0),IF((D48="pl1340"),-ROUND(C48/1000,0),IF(AND(D48="pl1355",C48<0),-ROUND(C48/1000,0),IF(AND(D48="pl1320",C48>0),ROUND(C48/1000,0),IF(AND(D48="pl1380",C48>0),-ROUND(C48/1000,0),IF(AND(D48="pl1385",C48<0),-ROUND(C48/1000,0),IF(AND(D48="li8100",C48<0),-ROUND(C48/1000,0),IF(AND(D48="li8140",C48<0),-ROUND(C48/1000,0),IF(AND(D48="pl1120",C48<0),ROUND(C48/1000,0),IF(AND(D48="pl1355",C48<0),ROUND(C48/1000,0),IF(AND(D48="pl1385",C48<0),ROUND(C48/1000,0),IF((D48="pl1340"),ROUND(C48/1000,0),IF((D48="pl2275"),-ROUND(C48/1000,0),-ROUND(C48/1000,0)))))))))))))))))) -> 232 | F48: =IF(ISERROR(VLOOKUP(B48,'[1]TAB CONV SIGNE VECTOR'!J:K,2,FALSE)),'[1]TEST FORM'!B48,VLOOKUP(B48,'[1]TAB CONV SIGNE VECTOR'!J:K,2,FALSE)) -> SA331
A49: LI8100 | B49: S0009 | C49: -10007.04 | D49: =IF(AND(A49="as7100",C49>0),A49,IF(AND(A49="as7140",C49>0),A49,IF(AND(A49="PL1125",C49>0),A49,IF(AND(A49="PL1315",C49>0),A49,IF(AND(A49="PL1320",C49>0),A49,IF(AND(A49="PL1380",C49>0),A49,IF(AND(A49="LI8100",C49<0),A49,IF(AND(A49="LI8140",C49<0),A49,IF(AND(A49="PL1120",C49<0),A49,IF(AND(A49="PL1355",C49<0),A49,IF(AND(A49="PL1385",C49<0),A49,VLOOKUP(A49,'[1]TAB CONV SIGNE VECTOR'!A:C,3,FALSE)))))))))))) -> LI8100 | E49: =IF(AND(D49="as7100",C49>0),ROUND(C49/1000,0),IF(AND(D49="as7140",C49>0),ROUND(C49/1000,0),IF(AND(D49="pl1120",C49<0),-ROUND(C49/1000,0),IF(AND(D49="pl1125",C49>0),-ROUND(C49/1000,0),IF(AND(D49="pl1315",C49<0),ROUND(C49/1000,0),IF((D49="pl1340"),-ROUND(C49/1000,0),IF(AND(D49="pl1355",C49<0),-ROUND(C49/1000,0),IF(AND(D49="pl1320",C49>0),ROUND(C49/1000,0),IF(AND(D49="pl1380",C49>0),-ROUND(C49/1000,0),IF(AND(D49="pl1385",C49<0),-ROUND(C49/1000,0),IF(AND(D49="li8100",C49<0),-ROUND(C49/1000,0),IF(AND(D49="li8140",C49<0),-ROUND(C49/1000,0),IF(AND(D49="pl1120",C49<0),ROUND(C49/1000,0),IF(AND(D49="pl1355",C49<0),ROUND(C49/1000,0),IF(AND(D49="pl1385",C49<0),ROUND(C49/1000,0),IF((D49="pl1340"),ROUND(C49/1000,0),IF((D49="pl2275"),-ROUND(C49/1000,0),-ROUND(C49/1000,0)))))))))))))))))) -> 10 | F49: =IF(ISERROR(VLOOKUP(B49,'[1]TAB CONV SIGNE VECTOR'!J:K,2,FALSE)),'[1]TEST FORM'!B49,VLOOKUP(B49,'[1]TAB CONV SIGNE VECTOR'!J:K,2,FALSE)) -> SA332
A50: LI8100 | B50: SL1060 | C50: 1808.4 | D50: =IF(AND(A50="as7100",C50>0),A50,IF(AND(A50="as7140",C50>0),A50,IF(AND(A50="PL1125",C50>0),A50,IF(AND(A50="PL1315",C50>0),A50,IF(AND(A50="PL1320",C50>0),A50,IF(AND(A50="PL1380",C50>0),A50,IF(AND(A50="LI8100",C50<0),A50,IF(AND(A50="LI8140",C50<0),A50,IF(AND(A50="PL1120",C50<0),A50,IF(AND(A50="PL1355",C50<0),A50,IF(AND(A50="PL1385",C50<0),A50,VLOOKUP(A50,'[1]TAB CONV SIGNE VECTOR'!A:C,3,FALSE)))))))))))) -> AS7100 | E50: =IF(AND(D50="as7100",C50>0),ROUND(C50/1000,0),IF(AND(D50="as7140",C50>0),ROUND(C50/1000,0),IF(AND(D50="pl1120",C50<0),-ROUND(C50/1000,0),IF(AND(D50="pl1125",C50>0),-ROUND(C50/1000,0),IF(AND(D50="pl1315",C50<0),ROUND(C50/1000,0),IF((D50="pl1340"),-ROUND(C50/1000,0),IF(AND(D50="pl1355",C50<0),-ROUND(C50/1000,0),IF(AND(D50="pl1320",C50>0),ROUND(C50/1000,0),IF(AND(D50="pl1380",C50>0),-ROUND(C50/1000,0),IF(AND(D50="pl1385",C50<0),-ROUND(C50/1000,0),IF(AND(D50="li8100",C50<0),-ROUND(C50/1000,0),IF(AND(D50="li8140",C50<0),-ROUND(C50/1000,0),IF(AND(D50="pl1120",C50<0),ROUND(C50/1000,0),IF(AND(D50="pl1355",C50<0),ROUND(C50/1000,0),IF(AND(D50="pl1385",C50<0),ROUND(C50/1000,0),IF((D50="pl1340"),ROUND(C50/1000,0),IF((D50="pl2275"),-ROUND(C50/1000,0),-ROUND(C50/1000,0)))))))))))))))))) -> 2 | F50: =IF(ISERROR(VLOOKUP(B50,'[1]TAB CONV SIGNE VECTOR'!J:K,2,FALSE)),'[1]TEST FORM'!B50,VLOOKUP(B50,'[1]TAB CONV SIGNE VECTOR'!J:K,2,FALSE)) -> SA333
A51: LI8100 | B51: SL431 | C51: -6175.44 | D51: =IF(AND(A51="as7100",C51>0),A51,IF(AND(A51="as7140",C51>0),A51,IF(AND(A51="PL1125",C51>0),A51,IF(AND(A51="PL1315",C51>0),A51,IF(AND(A51="PL1320",C51>0),A51,IF(AND(A51="PL1380",C51>0),A51,IF(AND(A51="LI8100",C51<0),A51,IF(AND(A51="LI8140",C51<0),A51,IF(AND(A51="PL1120",C51<0),A51,IF(AND(A51="PL1355",C51<0),A51,IF(AND(A51="PL1385",C51<0),A51,VLOOKUP(A51,'[1]TAB CONV SIGNE VECTOR'!A:C,3,FALSE)))))))))))) -> LI8100 | E51: =IF(AND(D51="as7100",C51>0),ROUND(C51/1000,0),IF(AND(D51="as7140",C51>0),ROUND(C51/1000,0),IF(AND(D51="pl1120",C51<0),-ROUND(C51/1000,0),IF(AND(D51="pl1125",C51>0),-ROUND(C51/1000,0),IF(AND(D51="pl1315",C51<0),ROUND(C51/1000,0),IF((D51="pl1340"),-ROUND(C51/1000,0),IF(AND(D51="pl1355",C51<0),-ROUND(C51/1000,0),IF(AND(D51="pl1320",C51>0),ROUND(C51/1000,0),IF(AND(D51="pl1380",C51>0),-ROUND(C51/1000,0),IF(AND(D51="pl1385",C51<0),-ROUND(C51/1000,0),IF(AND(D51="li8100",C51<0),-ROUND(C51/1000,0),IF(AND(D51="li8140",C51<0),-ROUND(C51/1000,0),IF(AND(D51="pl1120",C51<0),ROUND(C51/1000,0),IF(AND(D51="pl1355",C51<0),ROUND(C51/1000,0),IF(AND(D51="pl1385",C51<0),ROUND(C51/1000,0),IF((D51="pl1340"),ROUND(C51/1000,0),IF((D51="pl2275"),-ROUND(C51/1000,0),-ROUND(C51/1000,0)))))))))))))))))) -> 6 | F51: =IF(ISERROR(VLOOKUP(B51,'[1]TAB CONV SIGNE VECTOR'!J:K,2,FALSE)),'[1]TEST FORM'!B51,VLOOKUP(B51,'[1]TAB CONV SIGNE VECTOR'!J:K,2,FALSE)) -> SA464
A52: LI8100 | B52: SM001 | C52: -13260 | D52: =IF(AND(A52="as7100",C52>0),A52,IF(AND(A52="as7140",C52>0),A52,IF(AND(A52="PL1125",C52>0),A52,IF(AND(A52="PL1315",C52>0),A52,IF(AND(A52="PL1320",C52>0),A52,IF(AND(A52="PL1380",C52>0),A52,IF(AND(A52="LI8100",C52<0),A52,IF(AND(A52="LI8140",C52<0),A52,IF(AND(A52="PL1120",C52<0),A52,IF(AND(A52="PL1355",C52<0),A52,IF(AND(A52="PL1385",C52<0),A52,VLOOKUP(A52,'[1]TAB CONV SIGNE VECTOR'!A:C,3,FALSE)))))))))))) -> LI8100 | E52: =IF(AND(D52="as7100",C52>0),ROUND(C52/1000,0),IF(AND(D52="as7140",C52>0),ROUND(C52/1000,0),IF(AND(D52="pl1120",C52<0),-ROUND(C52/1000,0),IF(AND(D52="pl1125",C52>0),-ROUND(C52/1000,0),IF(AND(D52="pl1315",C52<0),ROUND(C52/1000,0),IF((D52="pl1340"),-ROUND(C52/1000,0),IF(AND(D52="pl1355",C52<0),-ROUND(C52/1000,0),IF(AND(D52="pl1320",C52>0),ROUND(C52/1000,0),IF(AND(D52="pl1380",C52>0),-ROUND(C52/1000,0),IF(AND(D52="pl1385",C52<0),-ROUND(C52/1000,0),IF(AND(D52="li8100",C52<0),-ROUND(C52/1000,0),IF(AND(D52="li8140",C52<0),-ROUND(C52/1000,0),IF(AND(D52="pl1120",C52<0),ROUND(C52/1000,0),IF(AND(D52="pl1355",C52<0),ROUND(C52/1000,0),IF(AND(D52="pl1385",C52<0),ROUND(C52/1000,0),IF((D52="pl1340"),ROUND(C52/1000,0),IF((D52="pl2275"),-ROUND(C52/1000,0),-ROUND(C52/1000,0)))))))))))))))))) -> 13 | F52: =IF(ISERROR(VLOOKUP(B52,'[1]TAB CONV SIGNE VECTOR'!J:K,2,FALSE)),'[1]TEST FORM'!B52,VLOOKUP(B52,'[1]TAB CONV SIGNE VECTOR'!J:K,2,FALSE)) -> SA668
A53: LI8100 | B53: SM053 | C53: -137040 | D53: =IF(AND(A53="as7100",C53>0),A53,IF(AND(A53="as7140",C53>0),A53,IF(AND(A53="PL1125",C53>0),A53,IF(AND(A53="PL1315",C53>0),A53,IF(AND(A53="PL1320",C53>0),A53,IF(AND(A53="PL1380",C53>0),A53,IF(AND(A53="LI8100",C53<0),A53,IF(AND(A53="LI8140",C53<0),A53,IF(AND(A53="PL1120",C53<0),A53,IF(AND(A53="PL1355",C53<0),A53,IF(AND(A53="PL1385",C53<0),A53,VLOOKUP(A53,'[1]TAB CONV SIGNE VECTOR'!A:C,3,FALSE)))))))))))) -> LI8100 | E53: =IF(AND(D53="as7100",C53>0),ROUND(C53/1000,0),IF(AND(D53="as7140",C53>0),ROUND(C53/1000,0),IF(AND(D53="pl1120",C53<0),-ROUND(C53/1000,0),IF(AND(D53="pl1125",C53>0),-ROUND(C53/1000,0),IF(AND(D53="pl1315",C53<0),ROUND(C53/1000,0),IF((D53="pl1340"),-ROUND(C53/1000,0),IF(AND(D53="pl1355",C53<0),-ROUND(C53/1000,0),IF(AND(D53="pl1320",C53>0),ROUND(C53/1000,0),IF(AND(D53="pl1380",C53>0),-ROUND(C53/1000,0),IF(AND(D53="pl1385",C53<0),-ROUND(C53/1000,0),IF(AND(D53="li8100",C53<0),-ROUND(C53/1000,0),IF(AND(D53="li8140",C53<0),-ROUND(C53/1000,0),IF(AND(D53="pl1120",C53<0),ROUND(C53/1000,0),IF(AND(D53="pl1355",C53<0),ROUND(C53/1000,0),IF(AND(D53="pl1385",C53<0),ROUND(C53/1000,0),IF((D53="pl1340"),ROUND(C53/1000,0),IF((D53="pl2275"),-ROUND(C53/1000,0),-ROUND(C53/1000,0)))))))))))))))))) -> 137 | F53: =IF(ISERROR(VLOOKUP(B53,'[1]TAB CONV SIGNE VECTOR'!J:K,2,FALSE)),'[1]TEST FORM'!B53,VLOOKUP(B53,'[1]TAB CONV SIGNE VECTOR'!J:K,2,FALSE)) -> SA719
A54: LI8100 | B54: SR023 | C54: -3461.4 | D54: =IF(AND(A54="as7100",C54>0),A54,IF(AND(A54="as7140",C54>0),A54,IF(AND(A54="PL1125",C54>0),A54,IF(AND(A54="PL1315",C54>0),A54,IF(AND(A54="PL1320",C54>0),A54,IF(AND(A54="PL1380",C54>0),A54,IF(AND(A54="LI8100",C54<0),A54,IF(AND(A54="LI8140",C54<0),A54,IF(AND(A54="PL1120",C54<0),A54,IF(AND(A54="PL1355",C54<0),A54,IF(AND(A54="PL1385",C54<0),A54,VLOOKUP(A54,'[1]TAB CONV SIGNE VECTOR'!A:C,3,FALSE)))))))))))) -> LI8100 | E54: =IF(AND(D54="as7100",C54>0),ROUND(C54/1000,0),IF(AND(D54="as7140",C54>0),ROUND(C54/1000,0),IF(AND(D54="pl1120",C54<0),-ROUND(C54/1000,0),IF(AND(D54="pl1125",C54>0),-ROUND(C54/1000,0),IF(AND(D54="pl1315",C54<0),ROUND(C54/1000,0),IF((D54="pl1340"),-ROUND(C54/1000,0),IF(AND(D54="pl1355",C54<0),-ROUND(C54/1000,0),IF(AND(D54="pl1320",C54>0),ROUND(C54/1000,0),IF(AND(D54="pl1380",C54>0),-ROUND(C54/1000,0),IF(AND(D54="pl1385",C54<0),-ROUND(C54/1000,0),IF(AND(D54="li8100",C54<0),-ROUND(C54/1000,0),IF(AND(D54="li8140",C54<0),-ROUND(C54/1000,0),IF(AND(D54="pl1120",C54<0),ROUND(C54/1000,0),IF(AND(D54="pl1355",C54<0),ROUND(C54/1000,0),IF(AND(D54="pl1385",C54<0),ROUND(C54/1000,0),IF((D54="pl1340"),ROUND(C54/1000,0),IF((D54="pl2275"),-ROUND(C54/1000,0),-ROUND(C54/1000,0)))))))))))))))))) -> 3 | F54: =IF(ISERROR(VLOOKUP(B54,'[1]TAB CONV SIGNE VECTOR'!J:K,2,FALSE)),'[1]TEST FORM'!B54,VLOOKUP(B54,'[1]TAB CONV SIGNE VECTOR'!J:K,2,FALSE)) -> SA725
A55: LI8100 | B55: SR112 | C55: -129172.42 | D55: =IF(AND(A55="as7100",C55>0),A55,IF(AND(A55="as7140",C55>0),A55,IF(AND(A55="PL1125",C55>0),A55,IF(AND(A55="PL1315",C55>0),A55,IF(AND(A55="PL1320",C55>0),A55,IF(AND(A55="PL1380",C55>0),A55,IF(AND(A55="LI8100",C55<0),A55,IF(AND(A55="LI8140",C55<0),A55,IF(AND(A55="PL1120",C55<0),A55,IF(AND(A55="PL1355",C55<0),A55,IF(AND(A55="PL1385",C55<0),A55,VLOOKUP(A55,'[1]TAB CONV SIGNE VECTOR'!A:C,3,FALSE)))))))))))) -> LI8100 | E55: =IF(AND(D55="as7100",C55>0),ROUND(C55/1000,0),IF(AND(D55="as7140",C55>0),ROUND(C55/1000,0),IF(AND(D55="pl1120",C55<0),-ROUND(C55/1000,0),IF(AND(D55="pl1125",C55>0),-ROUND(C55/1000,0),IF(AND(D55="pl1315",C55<0),ROUND(C55/1000,0),IF((D55="pl1340"),-ROUND(C55/1000,0),IF(AND(D55="pl1355",C55<0),-ROUND(C55/1000,0),IF(AND(D55="pl1320",C55>0),ROUND(C55/1000,0),IF(AND(D55="pl1380",C55>0),-ROUND(C55/1000,0),IF(AND(D55="pl1385",C55<0),-ROUND(C55/1000,0),IF(AND(D55="li8100",C55<0),-ROUND(C55/1000,0),IF(AND(D55="li8140",C55<0),-ROUND(C55/1000,0),IF(AND(D55="pl1120",C55<0),ROUND(C55/1000,0),IF(AND(D55="pl1355",C55<0),ROUND(C55/1000,0),IF(AND(D55="pl1385",C55<0),ROUND(C55/1000,0),IF((D55="pl1340"),ROUND(C55/1000,0),IF((D55="pl2275"),-ROUND(C55/1000,0),-ROUND(C55/1000,0)))))))))))))))))) -> 129 | F55: =IF(ISERROR(VLOOKUP(B55,'[1]TAB CONV SIGNE VECTOR'!J:K,2,FALSE)),'[1]TEST FORM'!B55,VLOOKUP(B55,'[1]TAB CONV SIGNE VECTOR'!J:K,2,FALSE)) -> SB225
A56: LI8100 | B56: YSA316 | C56: -7413.58 | D56: =IF(AND(A56="as7100",C56>0),A56,IF(AND(A56="as7140",C56>0),A56,IF(AND(A56="PL1125",C56>0),A56,IF(AND(A56="PL1315",C56>0),A56,IF(AND(A56="PL1320",C56>0),A56,IF(AND(A56="PL1380",C56>0),A56,IF(AND(A56="LI8100",C56<0),A56,IF(AND(A56="LI8140",C56<0),A56,IF(AND(A56="PL1120",C56<0),A56,IF(AND(A56="PL1355",C56<0),A56,IF(AND(A56="PL1385",C56<0),A56,VLOOKUP(A56,'[1]TAB CONV SIGNE VECTOR'!A:C,3,FALSE)))))))))))) -> LI8100 | E56: =IF(AND(D56="as7100",C56>0),ROUND(C56/1000,0),IF(AND(D56="as7140",C56>0),ROUND(C56/1000,0),IF(AND(D56="pl1120",C56<0),-ROUND(C56/1000,0),IF(AND(D56="pl1125",C56>0),-ROUND(C56/1000,0),IF(AND(D56="pl1315",C56<0),ROUND(C56/1000,0),IF((D56="pl1340"),-ROUND(C56/1000,0),IF(AND(D56="pl1355",C56<0),-ROUND(C56/1000,0),IF(AND(D56="pl1320",C56>0),ROUND(C56/1000,0),IF(AND(D56="pl1380",C56>0),-ROUND(C56/1000,0),IF(AND(D56="pl1385",C56<0),-ROUND(C56/1000,0),IF(AND(D56="li8100",C56<0),-ROUND(C56/1000,0),IF(AND(D56="li8140",C56<0),-ROUND(C56/1000,0),IF(AND(D56="pl1120",C56<0),ROUND(C56/1000,0),IF(AND(D56="pl1355",C56<0),ROUND(C56/1000,0),IF(AND(D56="pl1385",C56<0),ROUND(C56/1000,0),IF((D56="pl1340"),ROUND(C56/1000,0),IF((D56="pl2275"),-ROUND(C56/1000,0),-ROUND(C56/1000,0)))))))))))))))))) -> 7 | F56: =IF(ISERROR(VLOOKUP(B56,'[1]TAB CONV SIGNE VECTOR'!J:K,2,FALSE)),'[1]TEST FORM'!B56,VLOOKUP(B56,'[1]TAB CONV SIGNE VECTOR'!J:K,2,FALSE)) -> SA316
A57: LI8100 | B57: YSD999 | C57: 2.910383e-11 | D57: =IF(AND(A57="as7100",C57>0),A57,IF(AND(A57="as7140",C57>0),A57,IF(AND(A57="PL1125",C57>0),A57,IF(AND(A57="PL1315",C57>0),A57,IF(AND(A57="PL1320",C57>0),A57,IF(AND(A57="PL1380",C57>0),A57,IF(AND(A57="LI8100",C57<0),A57,IF(AND(A57="LI8140",C57<0),A57,IF(AND(A57="PL1120",C57<0),A57,IF(AND(A57="PL1355",C57<0),A57,IF(AND(A57="PL1385",C57<0),A57,VLOOKUP(A57,'[1]TAB CONV SIGNE VECTOR'!A:C,3,FALSE)))))))))))) -> AS7100 | E57: =IF(AND(D57="as7100",C57>0),ROUND(C57/1000,0),IF(AND(D57="as7140",C57>0),ROUND(C57/1000,0),IF(AND(D57="pl1120",C57<0),-ROUND(C57/1000,0),IF(AND(D57="pl1125",C57>0),-ROUND(C57/1000,0),IF(AND(D57="pl1315",C57<0),ROUND(C57/1000,0),IF((D57="pl1340"),-ROUND(C57/1000,0),IF(AND(D57="pl1355",C57<0),-ROUND(C57/1000,0),IF(AND(D57="pl1320",C57>0),ROUND(C57/1000,0),IF(AND(D57="pl1380",C57>0),-ROUND(C57/1000,0),IF(AND(D57="pl1385",C57<0),-ROUND(C57/1000,0),IF(AND(D57="li8100",C57<0),-ROUND(C57/1000,0),IF(AND(D57="li8140",C57<0),-ROUND(C57/1000,0),IF(AND(D57="pl1120",C57<0),ROUND(C57/1000,0),IF(AND(D57="pl1355",C57<0),ROUND(C57/1000,0),IF(AND(D57="pl1385",C57<0),ROUND(C57/1000,0),IF((D57="pl1340"),ROUND(C57/1000,0),IF((D57="pl2275"),-ROUND(C57/1000,0),-ROUND(C57/1000,0)))))))))))))))))) -> 0 | F57: =IF(ISERROR(VLOOKUP(B57,'[1]TAB CONV SIGNE VECTOR'!J:K,2,FALSE)),'[1]TEST FORM'!B57,VLOOKUP(B57,'[1]TAB CONV SIGNE VECTOR'!J:K,2,FALSE)) -> SD190
A58: LI8100 | B58: YSW043 | C58: 1740 | D58: =IF(AND(A58="as7100",C58>0),A58,IF(AND(A58="as7140",C58>0),A58,IF(AND(A58="PL1125",C58>0),A58,IF(AND(A58="PL1315",C58>0),A58,IF(AND(A58="PL1320",C58>0),A58,IF(AND(A58="PL1380",C58>0),A58,IF(AND(A58="LI8100",C58<0),A58,IF(AND(A58="LI8140",C58<0),A58,IF(AND(A58="PL1120",C58<0),A58,IF(AND(A58="PL1355",C58<0),A58,IF(AND(A58="PL1385",C58<0),A58,VLOOKUP(A58,'[1]TAB CONV SIGNE VECTOR'!A:C,3,FALSE)))))))))))) -> AS7100 | E58: =IF(AND(D58="as7100",C58>0),ROUND(C58/1000,0),IF(AND(D58="as7140",C58>0),ROUND(C58/1000,0),IF(AND(D58="pl1120",C58<0),-ROUND(C58/1000,0),IF(AND(D58="pl1125",C58>0),-ROUND(C58/1000,0),IF(AND(D58="pl1315",C58<0),ROUND(C58/1000,0),IF((D58="pl1340"),-ROUND(C58/1000,0),IF(AND(D58="pl1355",C58<0),-ROUND(C58/1000,0),IF(AND(D58="pl1320",C58>0),ROUND(C58/1000,0),IF(AND(D58="pl1380",C58>0),-ROUND(C58/1000,0),IF(AND(D58="pl1385",C58<0),-ROUND(C58/1000,0),IF(AND(D58="li8100",C58<0),-ROUND(C58/1000,0),IF(AND(D58="li8140",C58<0),-ROUND(C58/1000,0),IF(AND(D58="pl1120",C58<0),ROUND(C58/1000,0),IF(AND(D58="pl1355",C58<0),ROUND(C58/1000,0),IF(AND(D58="pl1385",C58<0),ROUND(C58/1000,0),IF((D58="pl1340"),ROUND(C58/1000,0),IF((D58="pl2275"),-ROUND(C58/1000,0),-ROUND(C58/1000,0)))))))))))))))))) -> 2 | F58: =IF(ISERROR(VLOOKUP(B58,'[1]TAB CONV SIGNE VECTOR'!J:K,2,FALSE)),'[1]TEST FORM'!B58,VLOOKUP(B58,'[1]TAB CONV SIGNE VECTOR'!J:K,2,FALSE)) -> ZYSW043
... A60: LI8100 | B60: ZSV831 | C60: 0 | D60: =IF(AND(A60="as7100",C60>0),A60,IF(AND(A60="as7140",C60>0),A60,IF(AND(A60="PL1125",C60>0),A60,IF(AND(A60="PL1315",C60>0),A60,IF(AND(A60="PL1320",C60>0),A60,IF(AND(A60="PL1380",C60>0),A60,IF(AND(A60="LI8100",C60<0),A60,IF(AND(A60="LI8140",C60<0),A60,IF(AND(A60="PL1120",C60<0),A60,IF(AND(A60="PL1355",C60<0),A60,IF(AND(A60="PL1385",C60<0),A60,VLOOKUP(A60,'[1]TAB CONV SIGNE VECTOR'!A:C,3,FALSE)))))))))))) -> AS7100 | E60: =IF(AND(D60="as7100",C60>0),ROUND(C60/1000,0),IF(AND(D60="as7140",C60>0),ROUND(C60/1000,0),IF(AND(D60="pl1120",C60<0),-ROUND(C60/1000,0),IF(AND(D60="pl1125",C60>0),-ROUND(C60/1000,0),IF(AND(D60="pl1315",C60<0),ROUND(C60/1000,0),IF((D60="pl1340"),-ROUND(C60/1000,0),IF(AND(D60="pl1355",C60<0),-ROUND(C60/1000,0),IF(AND(D60="pl1320",C60>0),ROUND(C60/1000,0),IF(AND(D60="pl1380",C60>0),-ROUND(C60/1000,0),IF(AND(D60="pl1385",C60<0),-ROUND(C60/1000,0),IF(AND(D60="li8100",C60<0),-ROUND(C60/1000,0),IF(AND(D60="li8140",C60<0),-ROUND(C60/1000,0),IF(AND(D60="pl1120",C60<0),ROUND(C60/1000,0),IF(AND(D60="pl1355",C60<0),ROUND(C60/1000,0),IF(AND(D60="pl1385",C60<0),ROUND(C60/1000,0),IF((D60="pl1340"),ROUND(C60/1000,0),IF((D60="pl2275"),-ROUND(C60/1000,0),-ROUND(C60/1000,0)))))))))))))))))) -> 0 | F60: =IF(ISERROR(VLOOKUP(B60,'[1]TAB CONV SIGNE VECTOR'!J:K,2,FALSE)),'[1]TEST FORM'!B60,VLOOKUP(B60,'[1]TAB CONV SIGNE VECTOR'!J:K,2,FALSE)) -> SD426A
A61: LI8140 | C61: -66429229 | D61: =IF(AND(A61="as7100",C61>0),A61,IF(AND(A61="as7140",C61>0),A61,IF(AND(A61="PL1125",C61>0),A61,IF(AND(A61="PL1315",C61>0),A61,IF(AND(A61="PL1320",C61>0),A61,IF(AND(A61="PL1380",C61>0),A61,IF(AND(A61="LI8100",C61<0),A61,IF(AND(A61="LI8140",C61<0),A61,IF(AND(A61="PL1120",C61<0),A61,IF(AND(A61="PL1355",C61<0),A61,IF(AND(A61="PL1385",C61<0),A61,VLOOKUP(A61,'[1]TAB CONV SIGNE VECTOR'!A:C,3,FALSE)))))))))))) -> LI8140 | E61: =IF(AND(D61="as7100",C61>0),ROUND(C61/1000,0),IF(AND(D61="as7140",C61>0),ROUND(C61/1000,0),IF(AND(D61="pl1120",C61<0),-ROUND(C61/1000,0),IF(AND(D61="pl1125",C61>0),-ROUND(C61/1000,0),IF(AND(D61="pl1315",C61<0),ROUND(C61/1000,0),IF((D61="pl1340"),-ROUND(C61/1000,0),IF(AND(D61="pl1355",C61<0),-ROUND(C61/1000,0),IF(AND(D61="pl1320",C61>0),ROUND(C61/1000,0),IF(AND(D61="pl1380",C61>0),-ROUND(C61/1000,0),IF(AND(D61="pl1385",C61<0),-ROUND(C61/1000,0),IF(AND(D61="li8100",C61<0),-ROUND(C61/1000,0),IF(AND(D61="li8140",C61<0),-ROUND(C61/1000,0),IF(AND(D61="pl1120",C61<0),ROUND(C61/1000,0),IF(AND(D61="pl1355",C61<0),ROUND(C61/1000,0),IF(AND(D61="pl1385",C61<0),ROUND(C61/1000,0),IF((D61="pl1340"),ROUND(C61/1000,0),IF((D61="pl2275"),-ROUND(C61/1000,0),-ROUND(C61/1000,0)))))))))))))))))) -> 66429 | F61: =IF(ISERROR(VLOOKUP(B61,'[1]TAB CONV SIGNE VECTOR'!J:K,2,FALSE)),'[1]TEST FORM'!B61,VLOOKUP(B61,'[1]TAB CONV SIGNE VECTOR'!J:K,2,FALSE)) -> SD440
A62: LI8140 | B62: S0002 | C62: -5027133.7 | D62: =IF(AND(A62="as7100",C62>0),A62,IF(AND(A62="as7140",C62>0),A62,IF(AND(A62="PL1125",C62>0),A62,IF(AND(A62="PL1315",C62>0),A62,IF(AND(A62="PL1320",C62>0),A62,IF(AND(A62="PL1380",C62>0),A62,IF(AND(A62="LI8100",C62<0),A62,IF(AND(A62="LI8140",C62<0),A62,IF(AND(A62="PL1120",C62<0),A62,IF(AND(A62="PL1355",C62<0),A62,IF(AND(A62="PL1385",C62<0),A62,VLOOKUP(A62,'[1]TAB CONV SIGNE VECTOR'!A:C,3,FALSE)))))))))))) -> LI8140 | E62: =IF(AND(D62="as7100",C62>0),ROUND(C62/1000,0),IF(AND(D62="as7140",C62>0),ROUND(C62/1000,0),IF(AND(D62="pl1120",C62<0),-ROUND(C62/1000,0),IF(AND(D62="pl1125",C62>0),-ROUND(C62/1000,0),IF(AND(D62="pl1315",C62<0),ROUND(C62/1000,0),IF((D62="pl1340"),-ROUND(C62/1000,0),IF(AND(D62="pl1355",C62<0),-ROUND(C62/1000,0),IF(AND(D62="pl1320",C62>0),ROUND(C62/1000,0),IF(AND(D62="pl1380",C62>0),-ROUND(C62/1000,0),IF(AND(D62="pl1385",C62<0),-ROUND(C62/1000,0),IF(AND(D62="li8100",C62<0),-ROUND(C62/1000,0),IF(AND(D62="li8140",C62<0),-ROUND(C62/1000,0),IF(AND(D62="pl1120",C62<0),ROUND(C62/1000,0),IF(AND(D62="pl1355",C62<0),ROUND(C62/1000,0),IF(AND(D62="pl1385",C62<0),ROUND(C62/1000,0),IF((D62="pl1340"),ROUND(C62/1000,0),IF((D62="pl2275"),-ROUND(C62/1000,0),-ROUND(C62/1000,0)))))))))))))))))) -> 5027 | F62: =IF(ISERROR(VLOOKUP(B62,'[1]TAB CONV SIGNE VECTOR'!J:K,2,FALSE)),'[1]TEST FORM'!B62,VLOOKUP(B62,'[1]TAB CONV SIGNE VECTOR'!J:K,2,FALSE)) -> SD493
A63: LI8140 | B63: S0309 | C63: -296540.79 | D63: =IF(AND(A63="as7100",C63>0),A63,IF(AND(A63="as7140",C63>0),A63,IF(AND(A63="PL1125",C63>0),A63,IF(AND(A63="PL1315",C63>0),A63,IF(AND(A63="PL1320",C63>0),A63,IF(AND(A63="PL1380",C63>0),A63,IF(AND(A63="LI8100",C63<0),A63,IF(AND(A63="LI8140",C63<0),A63,IF(AND(A63="PL1120",C63<0),A63,IF(AND(A63="PL1355",C63<0),A63,IF(AND(A63="PL1385",C63<0),A63,VLOOKUP(A63,'[1]TAB CONV SIGNE VECTOR'!A:C,3,FALSE)))))))))))) -> LI8140 | E63: =IF(AND(D63="as7100",C63>0),ROUND(C63/1000,0),IF(AND(D63="as7140",C63>0),ROUND(C63/1000,0),IF(AND(D63="pl1120",C63<0),-ROUND(C63/1000,0),IF(AND(D63="pl1125",C63>0),-ROUND(C63/1000,0),IF(AND(D63="pl1315",C63<0),ROUND(C63/1000,0),IF((D63="pl1340"),-ROUND(C63/1000,0),IF(AND(D63="pl1355",C63<0),-ROUND(C63/1000,0),IF(AND(D63="pl1320",C63>0),ROUND(C63/1000,0),IF(AND(D63="pl1380",C63>0),-ROUND(C63/1000,0),IF(AND(D63="pl1385",C63<0),-ROUND(C63/1000,0),IF(AND(D63="li8100",C63<0),-ROUND(C63/1000,0),IF(AND(D63="li8140",C63<0),-ROUND(C63/1000,0),IF(AND(D63="pl1120",C63<0),ROUND(C63/1000,0),IF(AND(D63="pl1355",C63<0),ROUND(C63/1000,0),IF(AND(D63="pl1385",C63<0),ROUND(C63/1000,0),IF((D63="pl1340"),ROUND(C63/1000,0),IF((D63="pl2275"),-ROUND(C63/1000,0),-ROUND(C63/1000,0)))))))))))))))))) -> 297 | F63: =IF(ISERROR(VLOOKUP(B63,'[1]TAB CONV SIGNE VECTOR'!J:K,2,FALSE)),'[1]TEST FORM'!B63,VLOOKUP(B63,'[1]TAB CONV SIGNE VECTOR'!J:K,2,FALSE)) -> SD499
A64: LI8140 | B64: S0401 | C64: -1240137.7 | D64: =IF(AND(A64="as7100",C64>0),A64,IF(AND(A64="as7140",C64>0),A64,IF(AND(A64="PL1125",C64>0),A64,IF(AND(A64="PL1315",C64>0),A64,IF(AND(A64="PL1320",C64>0),A64,IF(AND(A64="PL1380",C64>0),A64,IF(AND(A64="LI8100",C64<0),A64,IF(AND(A64="LI8140",C64<0),A64,IF(AND(A64="PL1120",C64<0),A64,IF(AND(A64="PL1355",C64<0),A64,IF(AND(A64="PL1385",C64<0),A64,VLOOKUP(A64,'[1]TAB CONV SIGNE VECTOR'!A:C,3,FALSE)))))))))))) -> LI8140 | E64: =IF(AND(D64="as7100",C64>0),ROUND(C64/1000,0),IF(AND(D64="as7140",C64>0),ROUND(C64/1000,0),IF(AND(D64="pl1120",C64<0),-ROUND(C64/1000,0),IF(AND(D64="pl1125",C64>0),-ROUND(C64/1000,0),IF(AND(D64="pl1315",C64<0),ROUND(C64/1000,0),IF((D64="pl1340"),-ROUND(C64/1000,0),IF(AND(D64="pl1355",C64<0),-ROUND(C64/1000,0),IF(AND(D64="pl1320",C64>0),ROUND(C64/1000,0),IF(AND(D64="pl1380",C64>0),-ROUND(C64/1000,0),IF(AND(D64="pl1385",C64<0),-ROUND(C64/1000,0),IF(AND(D64="li8100",C64<0),-ROUND(C64/1000,0),IF(AND(D64="li8140",C64<0),-ROUND(C64/1000,0),IF(AND(D64="pl1120",C64<0),ROUND(C64/1000,0),IF(AND(D64="pl1355",C64<0),ROUND(C64/1000,0),IF(AND(D64="pl1385",C64<0),ROUND(C64/1000,0),IF((D64="pl1340"),ROUND(C64/1000,0),IF((D64="pl2275"),-ROUND(C64/1000,0),-ROUND(C64/1000,0)))))))))))))))))) -> 1240 | F64: =IF(ISERROR(VLOOKUP(B64,'[1]TAB CONV SIGNE VECTOR'!J:K,2,FALSE)),'[1]TEST FORM'!B64,VLOOKUP(B64,'[1]TAB CONV SIGNE VECTOR'!J:K,2,FALSE)) -> SE054
A65: LI8140 | B65: S2206 | C65: 1039.82 | D65: =IF(AND(A65="as7100",C65>0),A65,IF(AND(A65="as7140",C65>0),A65,IF(AND(A65="PL1125",C65>0),A65,IF(AND(A65="PL1315",C65>0),A65,IF(AND(A65="PL1320",C65>0),A65,IF(AND(A65="PL1380",C65>0),A65,IF(AND(A65="LI8100",C65<0),A65,IF(AND(A65="LI8140",C65<0),A65,IF(AND(A65="PL1120",C65<0),A65,IF(AND(A65="PL1355",C65<0),A65,IF(AND(A65="PL1385",C65<0),A65,VLOOKUP(A65,'[1]TAB CONV SIGNE VECTOR'!A:C,3,FALSE)))))))))))) -> AS7140 | E65: =IF(AND(D65="as7100",C65>0),ROUND(C65/1000,0),IF(AND(D65="as7140",C65>0),ROUND(C65/1000,0),IF(AND(D65="pl1120",C65<0),-ROUND(C65/1000,0),IF(AND(D65="pl1125",C65>0),-ROUND(C65/1000,0),IF(AND(D65="pl1315",C65<0),ROUND(C65/1000,0),IF((D65="pl1340"),-ROUND(C65/1000,0),IF(AND(D65="pl1355",C65<0),-ROUND(C65/1000,0),IF(AND(D65="pl1320",C65>0),ROUND(C65/1000,0),IF(AND(D65="pl1380",C65>0),-ROUND(C65/1000,0),IF(AND(D65="pl1385",C65<0),-ROUND(C65/1000,0),IF(AND(D65="li8100",C65<0),-ROUND(C65/1000,0),IF(AND(D65="li8140",C65<0),-ROUND(C65/1000,0),IF(AND(D65="pl1120",C65<0),ROUND(C65/1000,0),IF(AND(D65="pl1355",C65<0),ROUND(C65/1000,0),IF(AND(D65="pl1385",C65<0),ROUND(C65/1000,0),IF((D65="pl1340"),ROUND(C65/1000,0),IF((D65="pl2275"),-ROUND(C65/1000,0),-ROUND(C65/1000,0)))))))))))))))))) -> 1 | F65: =IF(ISERROR(VLOOKUP(B65,'[1]TAB CONV SIGNE VECTOR'!J:K,2,FALSE)),'[1]TEST FORM'!B65,VLOOKUP(B65,'[1]TAB CONV SIGNE VECTOR'!J:K,2,FALSE)) -> SE426
A66: LI8140 | B66: SD493 | C66: -22842.21 | D66: =IF(AND(A66="as7100",C66>0),A66,IF(AND(A66="as7140",C66>0),A66,IF(AND(A66="PL1125",C66>0),A66,IF(AND(A66="PL1315",C66>0),A66,IF(AND(A66="PL1320",C66>0),A66,IF(AND(A66="PL1380",C66>0),A66,IF(AND(A66="LI8100",C66<0),A66,IF(AND(A66="LI8140",C66<0),A66,IF(AND(A66="PL1120",C66<0),A66,IF(AND(A66="PL1355",C66<0),A66,IF(AND(A66="PL1385",C66<0),A66,VLOOKUP(A66,'[1]TAB CONV SIGNE VECTOR'!A:C,3,FALSE)))))))))))) -> LI8140 | E66: =IF(AND(D66="as7100",C66>0),ROUND(C66/1000,0),IF(AND(D66="as7140",C66>0),ROUND(C66/1000,0),IF(AND(D66="pl1120",C66<0),-ROUND(C66/1000,0),IF(AND(D66="pl1125",C66>0),-ROUND(C66/1000,0),IF(AND(D66="pl1315",C66<0),ROUND(C66/1000,0),IF((D66="pl1340"),-ROUND(C66/1000,0),IF(AND(D66="pl1355",C66<0),-ROUND(C66/1000,0),IF(AND(D66="pl1320",C66>0),ROUND(C66/1000,0),IF(AND(D66="pl1380",C66>0),-ROUND(C66/1000,0),IF(AND(D66="pl1385",C66<0),-ROUND(C66/1000,0),IF(AND(D66="li8100",C66<0),-ROUND(C66/1000,0),IF(AND(D66="li8140",C66<0),-ROUND(C66/1000,0),IF(AND(D66="pl1120",C66<0),ROUND(C66/1000,0),IF(AND(D66="pl1355",C66<0),ROUND(C66/1000,0),IF(AND(D66="pl1385",C66<0),ROUND(C66/1000,0),IF((D66="pl1340"),ROUND(C66/1000,0),IF((D66="pl2275"),-ROUND(C66/1000,0),-ROUND(C66/1000,0)))))))))))))))))) -> 23 | F66: =IF(ISERROR(VLOOKUP(B66,'[1]TAB CONV SIGNE VECTOR'!J:K,2,FALSE)),'[1]TEST FORM'!B66,VLOOKUP(B66,'[1]TAB CONV SIGNE VECTOR'!J:K,2,FALSE)) -> SG001
A67: LI8140 | B67: SH001JV | C67: -31157.47 | D67: =IF(AND(A67="as7100",C67>0),A67,IF(AND(A67="as7140",C67>0),A67,IF(AND(A67="PL1125",C67>0),A67,IF(AND(A67="PL1315",C67>0),A67,IF(AND(A67="PL1320",C67>0),A67,IF(AND(A67="PL1380",C67>0),A67,IF(AND(A67="LI8100",C67<0),A67,IF(AND(A67="LI8140",C67<0),A67,IF(AND(A67="PL1120",C67<0),A67,IF(AND(A67="PL1355",C67<0),A67,IF(AND(A67="PL1385",C67<0),A67,VLOOKUP(A67,'[1]TAB CONV SIGNE VECTOR'!A:C,3,FALSE)))))))))))) -> LI8140 | E67: =IF(AND(D67="as7100",C67>0),ROUND(C67/1000,0),IF(AND(D67="as7140",C67>0),ROUND(C67/1000,0),IF(AND(D67="pl1120",C67<0),-ROUND(C67/1000,0),IF(AND(D67="pl1125",C67>0),-ROUND(C67/1000,0),IF(AND(D67="pl1315",C67<0),ROUND(C67/1000,0),IF((D67="pl1340"),-ROUND(C67/1000,0),IF(AND(D67="pl1355",C67<0),-ROUND(C67/1000,0),IF(AND(D67="pl1320",C67>0),ROUND(C67/1000,0),IF(AND(D67="pl1380",C67>0),-ROUND(C67/1000,0),IF(AND(D67="pl1385",C67<0),-ROUND(C67/1000,0),IF(AND(D67="li8100",C67<0),-ROUND(C67/1000,0),IF(AND(D67="li8140",C67<0),-ROUND(C67/1000,0),IF(AND(D67="pl1120",C67<0),ROUND(C67/1000,0),IF(AND(D67="pl1355",C67<0),ROUND(C67/1000,0),IF(AND(D67="pl1385",C67<0),ROUND(C67/1000,0),IF((D67="pl1340"),ROUND(C67/1000,0),IF((D67="pl2275"),-ROUND(C67/1000,0),-ROUND(C67/1000,0)))))))))))))))))) -> 31 | F67: =IF(ISERROR(VLOOKUP(B67,'[1]TAB CONV SIGNE VECTOR'!J:K,2,FALSE)),'[1]TEST FORM'!B67,VLOOKUP(B67,'[1]TAB CONV SIGNE VECTOR'!J:K,2,FALSE)) -> SG007
A68: LI8140 | B68: SK039EA | C68: -68734.18 | D68: =IF(AND(A68="as7100",C68>0),A68,IF(AND(A68="as7140",C68>0),A68,IF(AND(A68="PL1125",C68>0),A68,IF(AND(A68="PL1315",C68>0),A68,IF(AND(A68="PL1320",C68>0),A68,IF(AND(A68="PL1380",C68>0),A68,IF(AND(A68="LI8100",C68<0),A68,IF(AND(A68="LI8140",C68<0),A68,IF(AND(A68="PL1120",C68<0),A68,IF(AND(A68="PL1355",C68<0),A68,IF(AND(A68="PL1385",C68<0),A68,VLOOKUP(A68,'[1]TAB CONV SIGNE VECTOR'!A:C,3,FALSE)))))))))))) -> LI8140 | E68: =IF(AND(D68="as7100",C68>0),ROUND(C68/1000,0),IF(AND(D68="as7140",C68>0),ROUND(C68/1000,0),IF(AND(D68="pl1120",C68<0),-ROUND(C68/1000,0),IF(AND(D68="pl1125",C68>0),-ROUND(C68/1000,0),IF(AND(D68="pl1315",C68<0),ROUND(C68/1000,0),IF((D68="pl1340"),-ROUND(C68/1000,0),IF(AND(D68="pl1355",C68<0),-ROUND(C68/1000,0),IF(AND(D68="pl1320",C68>0),ROUND(C68/1000,0),IF(AND(D68="pl1380",C68>0),-ROUND(C68/1000,0),IF(AND(D68="pl1385",C68<0),-ROUND(C68/1000,0),IF(AND(D68="li8100",C68<0),-ROUND(C68/1000,0),IF(AND(D68="li8140",C68<0),-ROUND(C68/1000,0),IF(AND(D68="pl1120",C68<0),ROUND(C68/1000,0),IF(AND(D68="pl1355",C68<0),ROUND(C68/1000,0),IF(AND(D68="pl1385",C68<0),ROUND(C68/1000,0),IF((D68="pl1340"),ROUND(C68/1000,0),IF((D68="pl2275"),-ROUND(C68/1000,0),-ROUND(C68/1000,0)))))))))))))))))) -> 69 | F68: =IF(ISERROR(VLOOKUP(B68,'[1]TAB CONV SIGNE VECTOR'!J:K,2,FALSE)),'[1]TEST FORM'!B68,VLOOKUP(B68,'[1]TAB CONV SIGNE VECTOR'!J:K,2,FALSE)) -> SG008
A69: LI8140 | B69: SL397 | C69: -1 | D69: =IF(AND(A69="as7100",C69>0),A69,IF(AND(A69="as7140",C69>0),A69,IF(AND(A69="PL1125",C69>0),A69,IF(AND(A69="PL1315",C69>0),A69,IF(AND(A69="PL1320",C69>0),A69,IF(AND(A69="PL1380",C69>0),A69,IF(AND(A69="LI8100",C69<0),A69,IF(AND(A69="LI8140",C69<0),A69,IF(AND(A69="PL1120",C69<0),A69,IF(AND(A69="PL1355",C69<0),A69,IF(AND(A69="PL1385",C69<0),A69,VLOOKUP(A69,'[1]TAB CONV SIGNE VECTOR'!A:C,3,FALSE)))))))))))) -> LI8140 | E69: =IF(AND(D69="as7100",C69>0),ROUND(C69/1000,0),IF(AND(D69="as7140",C69>0),ROUND(C69/1000,0),IF(AND(D69="pl1120",C69<0),-ROUND(C69/1000,0),IF(AND(D69="pl1125",C69>0),-ROUND(C69/1000,0),IF(AND(D69="pl1315",C69<0),ROUND(C69/1000,0),IF((D69="pl1340"),-ROUND(C69/1000,0),IF(AND(D69="pl1355",C69<0),-ROUND(C69/1000,0),IF(AND(D69="pl1320",C69>0),ROUND(C69/1000,0),IF(AND(D69="pl1380",C69>0),-ROUND(C69/1000,0),IF(AND(D69="pl1385",C69<0),-ROUND(C69/1000,0),IF(AND(D69="li8100",C69<0),-ROUND(C69/1000,0),IF(AND(D69="li8140",C69<0),-ROUND(C69/1000,0),IF(AND(D69="pl1120",C69<0),ROUND(C69/1000,0),IF(AND(D69="pl1355",C69<0),ROUND(C69/1000,0),IF(AND(D69="pl1385",C69<0),ROUND(C69/1000,0),IF((D69="pl1340"),ROUND(C69/1000,0),IF((D69="pl2275"),-ROUND(C69/1000,0),-ROUND(C69/1000,0)))))))))))))))))) -> 0 | F69: =IF(ISERROR(VLOOKUP(B69,'[1]TAB CONV SIGNE VECTOR'!J:K,2,FALSE)),'[1]TEST FORM'!B69,VLOOKUP(B69,'[1]TAB CONV SIGNE VECTOR'!J:K,2,FALSE)) -> SG022
A70: LI8140 | B70: SN001 | C70: -177457.86 | D70: =IF(AND(A70="as7100",C70>0),A70,IF(AND(A70="as7140",C70>0),A70,IF(AND(A70="PL1125",C70>0),A70,IF(AND(A70="PL1315",C70>0),A70,IF(AND(A70="PL1320",C70>0),A70,IF(AND(A70="PL1380",C70>0),A70,IF(AND(A70="LI8100",C70<0),A70,IF(AND(A70="LI8140",C70<0),A70,IF(AND(A70="PL1120",C70<0),A70,IF(AND(A70="PL1355",C70<0),A70,IF(AND(A70="PL1385",C70<0),A70,VLOOKUP(A70,'[1]TAB CONV SIGNE VECTOR'!A:C,3,FALSE)))))))))))) -> LI8140 | E70: =IF(AND(D70="as7100",C70>0),ROUND(C70/1000,0),IF(AND(D70="as7140",C70>0),ROUND(C70/1000,0),IF(AND(D70="pl1120",C70<0),-ROUND(C70/1000,0),IF(AND(D70="pl1125",C70>0),-ROUND(C70/1000,0),IF(AND(D70="pl1315",C70<0),ROUND(C70/1000,0),IF((D70="pl1340"),-ROUND(C70/1000,0),IF(AND(D70="pl1355",C70<0),-ROUND(C70/1000,0),IF(AND(D70="pl1320",C70>0),ROUND(C70/1000,0),IF(AND(D70="pl1380",C70>0),-ROUND(C70/1000,0),IF(AND(D70="pl1385",C70<0),-ROUND(C70/1000,0),IF(AND(D70="li8100",C70<0),-ROUND(C70/1000,0),IF(AND(D70="li8140",C70<0),-ROUND(C70/1000,0),IF(AND(D70="pl1120",C70<0),ROUND(C70/1000,0),IF(AND(D70="pl1355",C70<0),ROUND(C70/1000,0),IF(AND(D70="pl1385",C70<0),ROUND(C70/1000,0),IF((D70="pl1340"),ROUND(C70/1000,0),IF((D70="pl2275"),-ROUND(C70/1000,0),-ROUND(C70/1000,0)))))))))))))))))) -> 177 | F70: =IF(ISERROR(VLOOKUP(B70,'[1]TAB CONV SIGNE VECTOR'!J:K,2,FALSE)),'[1]TEST FORM'!B70,VLOOKUP(B70,'[1]TAB CONV SIGNE VECTOR'!J:K,2,FALSE)) -> SG622
A71: LI8140 | B71: SR130 | C71: -642638.8 | D71: =IF(AND(A71="as7100",C71>0),A71,IF(AND(A71="as7140",C71>0),A71,IF(AND(A71="PL1125",C71>0),A71,IF(AND(A71="PL1315",C71>0),A71,IF(AND(A71="PL1320",C71>0),A71,IF(AND(A71="PL1380",C71>0),A71,IF(AND(A71="LI8100",C71<0),A71,IF(AND(A71="LI8140",C71<0),A71,IF(AND(A71="PL1120",C71<0),A71,IF(AND(A71="PL1355",C71<0),A71,IF(AND(A71="PL1385",C71<0),A71,VLOOKUP(A71,'[1]TAB CONV SIGNE VECTOR'!A:C,3,FALSE)))))))))))) -> LI8140 | E71: =IF(AND(D71="as7100",C71>0),ROUND(C71/1000,0),IF(AND(D71="as7140",C71>0),ROUND(C71/1000,0),IF(AND(D71="pl1120",C71<0),-ROUND(C71/1000,0),IF(AND(D71="pl1125",C71>0),-ROUND(C71/1000,0),IF(AND(D71="pl1315",C71<0),ROUND(C71/1000,0),IF((D71="pl1340"),-ROUND(C71/1000,0),IF(AND(D71="pl1355",C71<0),-ROUND(C71/1000,0),IF(AND(D71="pl1320",C71>0),ROUND(C71/1000,0),IF(AND(D71="pl1380",C71>0),-ROUND(C71/1000,0),IF(AND(D71="pl1385",C71<0),-ROUND(C71/1000,0),IF(AND(D71="li8100",C71<0),-ROUND(C71/1000,0),IF(AND(D71="li8140",C71<0),-ROUND(C71/1000,0),IF(AND(D71="pl1120",C71<0),ROUND(C71/1000,0),IF(AND(D71="pl1355",C71<0),ROUND(C71/1000,0),IF(AND(D71="pl1385",C71<0),ROUND(C71/1000,0),IF((D71="pl1340"),ROUND(C71/1000,0),IF((D71="pl2275"),-ROUND(C71/1000,0),-ROUND(C71/1000,0)))))))))))))))))) -> 643 | F71: =IF(ISERROR(VLOOKUP(B71,'[1]TAB CONV SIGNE VECTOR'!J:K,2,FALSE)),'[1]TEST FORM'!B71,VLOOKUP(B71,'[1]TAB CONV SIGNE VECTOR'!J:K,2,FALSE)) -> SG660
A72: LI8140 | B72: SU106 | C72: -35731.15 | D72: =IF(AND(A72="as7100",C72>0),A72,IF(AND(A72="as7140",C72>0),A72,IF(AND(A72="PL1125",C72>0),A72,IF(AND(A72="PL1315",C72>0),A72,IF(AND(A72="PL1320",C72>0),A72,IF(AND(A72="PL1380",C72>0),A72,IF(AND(A72="LI8100",C72<0),A72,IF(AND(A72="LI8140",C72<0),A72,IF(AND(A72="PL1120",C72<0),A72,IF(AND(A72="PL1355",C72<0),A72,IF(AND(A72="PL1385",C72<0),A72,VLOOKUP(A72,'[1]TAB CONV SIGNE VECTOR'!A:C,3,FALSE)))))))))))) -> LI8140 | E72: =IF(AND(D72="as7100",C72>0),ROUND(C72/1000,0),IF(AND(D72="as7140",C72>0),ROUND(C72/1000,0),IF(AND(D72="pl1120",C72<0),-ROUND(C72/1000,0),IF(AND(D72="pl1125",C72>0),-ROUND(C72/1000,0),IF(AND(D72="pl1315",C72<0),ROUND(C72/1000,0),IF((D72="pl1340"),-ROUND(C72/1000,0),IF(AND(D72="pl1355",C72<0),-ROUND(C72/1000,0),IF(AND(D72="pl1320",C72>0),ROUND(C72/1000,0),IF(AND(D72="pl1380",C72>0),-ROUND(C72/1000,0),IF(AND(D72="pl1385",C72<0),-ROUND(C72/1000,0),IF(AND(D72="li8100",C72<0),-ROUND(C72/1000,0),IF(AND(D72="li8140",C72<0),-ROUND(C72/1000,0),IF(AND(D72="pl1120",C72<0),ROUND(C72/1000,0),IF(AND(D72="pl1355",C72<0),ROUND(C72/1000,0),IF(AND(D72="pl1385",C72<0),ROUND(C72/1000,0),IF((D72="pl1340"),ROUND(C72/1000,0),IF((D72="pl2275"),-ROUND(C72/1000,0),-ROUND(C72/1000,0)))))))))))))))))) -> 36 | F72: =IF(ISERROR(VLOOKUP(B72,'[1]TAB CONV SIGNE VECTOR'!J:K,2,FALSE)),'[1]TEST FORM'!B72,VLOOKUP(B72,'[1]TAB CONV SIGNE VECTOR'!J:K,2,FALSE)) -> SG751
A73: LI8140 | B73: SU306 | C73: -1213785.9 | D73: =IF(AND(A73="as7100",C73>0),A73,IF(AND(A73="as7140",C73>0),A73,IF(AND(A73="PL1125",C73>0),A73,IF(AND(A73="PL1315",C73>0),A73,IF(AND(A73="PL1320",C73>0),A73,IF(AND(A73="PL1380",C73>0),A73,IF(AND(A73="LI8100",C73<0),A73,IF(AND(A73="LI8140",C73<0),A73,IF(AND(A73="PL1120",C73<0),A73,IF(AND(A73="PL1355",C73<0),A73,IF(AND(A73="PL1385",C73<0),A73,VLOOKUP(A73,'[1]TAB CONV SIGNE VECTOR'!A:C,3,FALSE)))))))))))) -> LI8140 | E73: =IF(AND(D73="as7100",C73>0),ROUND(C73/1000,0),IF(AND(D73="as7140",C73>0),ROUND(C73/1000,0),IF(AND(D73="pl1120",C73<0),-ROUND(C73/1000,0),IF(AND(D73="pl1125",C73>0),-ROUND(C73/1000,0),IF(AND(D73="pl1315",C73<0),ROUND(C73/1000,0),IF((D73="pl1340"),-ROUND(C73/1000,0),IF(AND(D73="pl1355",C73<0),-ROUND(C73/1000,0),IF(AND(D73="pl1320",C73>0),ROUND(C73/1000,0),IF(AND(D73="pl1380",C73>0),-ROUND(C73/1000,0),IF(AND(D73="pl1385",C73<0),-ROUND(C73/1000,0),IF(AND(D73="li8100",C73<0),-ROUND(C73/1000,0),IF(AND(D73="li8140",C73<0),-ROUND(C73/1000,0),IF(AND(D73="pl1120",C73<0),ROUND(C73/1000,0),IF(AND(D73="pl1355",C73<0),ROUND(C73/1000,0),IF(AND(D73="pl1385",C73<0),ROUND(C73/1000,0),IF((D73="pl1340"),ROUND(C73/1000,0),IF((D73="pl2275"),-ROUND(C73/1000,0),-ROUND(C73/1000,0)))))))))))))))))) -> 1214 | F73: =IF(ISERROR(VLOOKUP(B73,'[1]TAB CONV SIGNE VECTOR'!J:K,2,FALSE)),'[1]TEST FORM'!B73,VLOOKUP(B73,'[1]TAB CONV SIGNE VECTOR'!J:K,2,FALSE)) -> SH001JV
... A78: PL1125 | B78: SX004 | C78: 59721383 | D78: =IF(AND(A78="as7100",C78>0),A78,IF(AND(A78="as7140",C78>0),A78,IF(AND(A78="PL1125",C78>0),A78,IF(AND(A78="PL1315",C78>0),A78,IF(AND(A78="PL1320",C78>0),A78,IF(AND(A78="PL1380",C78>0),A78,IF(AND(A78="LI8100",C78<0),A78,IF(AND(A78="LI8140",C78<0),A78,IF(AND(A78="PL1120",C78<0),A78,IF(AND(A78="PL1355",C78<0),A78,IF(AND(A78="PL1385",C78<0),A78,VLOOKUP(A78,'[1]TAB CONV SIGNE VECTOR'!A:C,3,FALSE)))))))))))) -> PL1125 | E78: =IF(AND(D78="as7100",C78>0),ROUND(C78/1000,0),IF(AND(D78="as7140",C78>0),ROUND(C78/1000,0),IF(AND(D78="pl1120",C78<0),-ROUND(C78/1000,0),IF(AND(D78="pl1125",C78>0),-ROUND(C78/1000,0),IF(AND(D78="pl1315",C78<0),ROUND(C78/1000,0),IF((D78="pl1340"),-ROUND(C78/1000,0),IF(AND(D78="pl1355",C78<0),-ROUND(C78/1000,0),IF(AND(D78="pl1320",C78>0),ROUND(C78/1000,0),IF(AND(D78="pl1380",C78>0),-ROUND(C78/1000,0),IF(AND(D78="pl1385",C78<0),-ROUND(C78/1000,0),IF(AND(D78="li8100",C78<0),-ROUND(C78/1000,0),IF(AND(D78="li8140",C78<0),-ROUND(C78/1000,0),IF(AND(D78="pl1120",C78<0),ROUND(C78/1000,0),IF(AND(D78="pl1355",C78<0),ROUND(C78/1000,0),IF(AND(D78="pl1385",C78<0),ROUND(C78/1000,0),IF((D78="pl1340"),ROUND(C78/1000,0),IF((D78="pl2275"),-ROUND(C78/1000,0),-ROUND(C78/1000,0)))))))))))))))))) -> -59721 | F78: =IF(ISERROR(VLOOKUP(B78,'[1]TAB CONV SIGNE VECTOR'!J:K,2,FALSE)),'[1]TEST FORM'!B78,VLOOKUP(B78,'[1]TAB CONV SIGNE VECTOR'!J:K,2,FALSE)) -> SL381
A79: PL1315 | C79: 47428988 | D79: =IF(AND(A79="as7100",C79>0),A79,IF(AND(A79="as7140",C79>0),A79,IF(AND(A79="PL1125",C79>0),A79,IF(AND(A79="PL1315",C79>0),A79,IF(AND(A79="PL1320",C79>0),A79,IF(AND(A79="PL1380",C79>0),A79,IF(AND(A79="LI8100",C79<0),A79,IF(AND(A79="LI8140",C79<0),A79,IF(AND(A79="PL1120",C79<0),A79,IF(AND(A79="PL1355",C79<0),A79,IF(AND(A79="PL1385",C79<0),A79,VLOOKUP(A79,'[1]TAB CONV SIGNE VECTOR'!A:C,3,FALSE)))))))))))) -> PL1315 | E79: =IF(AND(D79="as7100",C79>0),ROUND(C79/1000,0),IF(AND(D79="as7140",C79>0),ROUND(C79/1000,0),IF(AND(D79="pl1120",C79<0),-ROUND(C79/1000,0),IF(AND(D79="pl1125",C79>0),-ROUND(C79/1000,0),IF(AND(D79="pl1315",C79<0),ROUND(C79/1000,0),IF((D79="pl1340"),-ROUND(C79/1000,0),IF(AND(D79="pl1355",C79<0),-ROUND(C79/1000,0),IF(AND(D79="pl1320",C79>0),ROUND(C79/1000,0),IF(AND(D79="pl1380",C79>0),-ROUND(C79/1000,0),IF(AND(D79="pl1385",C79<0),-ROUND(C79/1000,0),IF(AND(D79="li8100",C79<0),-ROUND(C79/1000,0),IF(AND(D79="li8140",C79<0),-ROUND(C79/1000,0),IF(AND(D79="pl1120",C79<0),ROUND(C79/1000,0),IF(AND(D79="pl1355",C79<0),ROUND(C79/1000,0),IF(AND(D79="pl1385",C79<0),ROUND(C79/1000,0),IF((D79="pl1340"),ROUND(C79/1000,0),IF((D79="pl2275"),-ROUND(C79/1000,0),-ROUND(C79/1000,0)))))))))))))))))) -> -47429 | F79: =IF(ISERROR(VLOOKUP(B79,'[1]TAB CONV SIGNE VECTOR'!J:K,2,FALSE)),'[1]TEST FORM'!B79,VLOOKUP(B79,'[1]TAB CONV SIGNE VECTOR'!J:K,2,FALSE)) -> SL5417
A80: PL1315 | B80: S0002 | C80: 3435035.8 | D80: =IF(AND(A80="as7100",C80>0),A80,IF(AND(A80="as7140",C80>0),A80,IF(AND(A80="PL1125",C80>0),A80,IF(AND(A80="PL1315",C80>0),A80,IF(AND(A80="PL1320",C80>0),A80,IF(AND(A80="PL1380",C80>0),A80,IF(AND(A80="LI8100",C80<0),A80,IF(AND(A80="LI8140",C80<0),A80,IF(AND(A80="PL1120",C80<0),A80,IF(AND(A80="PL1355",C80<0),A80,IF(AND(A80="PL1385",C80<0),A80,VLOOKUP(A80,'[1]TAB CONV SIGNE VECTOR'!A:C,3,FALSE)))))))))))) -> PL1315 | E80: =IF(AND(D80="as7100",C80>0),ROUND(C80/1000,0),IF(AND(D80="as7140",C80>0),ROUND(C80/1000,0),IF(AND(D80="pl1120",C80<0),-ROUND(C80/1000,0),IF(AND(D80="pl1125",C80>0),-ROUND(C80/1000,0),IF(AND(D80="pl1315",C80<0),ROUND(C80/1000,0),IF((D80="pl1340"),-ROUND(C80/1000,0),IF(AND(D80="pl1355",C80<0),-ROUND(C80/1000,0),IF(AND(D80="pl1320",C80>0),ROUND(C80/1000,0),IF(AND(D80="pl1380",C80>0),-ROUND(C80/1000,0),IF(AND(D80="pl1385",C80<0),-ROUND(C80/1000,0),IF(AND(D80="li8100",C80<0),-ROUND(C80/1000,0),IF(AND(D80="li8140",C80<0),-ROUND(C80/1000,0),IF(AND(D80="pl1120",C80<0),ROUND(C80/1000,0),IF(AND(D80="pl1355",C80<0),ROUND(C80/1000,0),IF(AND(D80="pl1385",C80<0),ROUND(C80/1000,0),IF((D80="pl1340"),ROUND(C80/1000,0),IF((D80="pl2275"),-ROUND(C80/1000,0),-ROUND(C80/1000,0)))))))))))))))))) -> -3435 | F80: =IF(ISERROR(VLOOKUP(B80,'[1]TAB CONV SIGNE VECTOR'!J:K,2,FALSE)),'[1]TEST FORM'!B80,VLOOKUP(B80,'[1]TAB CONV SIGNE VECTOR'!J:K,2,FALSE)) -> SM100
A81: PL1315 | B81: S0005 | C81: 244978.81 | D81: =IF(AND(A81="as7100",C81>0),A81,IF(AND(A81="as7140",C81>0),A81,IF(AND(A81="PL1125",C81>0),A81,IF(AND(A81="PL1315",C81>0),A81,IF(AND(A81="PL1320",C81>0),A81,IF(AND(A81="PL1380",C81>0),A81,IF(AND(A81="LI8100",C81<0),A81,IF(AND(A81="LI8140",C81<0),A81,IF(AND(A81="PL1120",C81<0),A81,IF(AND(A81="PL1355",C81<0),A81,IF(AND(A81="PL1385",C81<0),A81,VLOOKUP(A81,'[1]TAB CONV SIGNE VECTOR'!A:C,3,FALSE)))))))))))) -> PL1315 | E81: =IF(AND(D81="as7100",C81>0),ROUND(C81/1000,0),IF(AND(D81="as7140",C81>0),ROUND(C81/1000,0),IF(AND(D81="pl1120",C81<0),-ROUND(C81/1000,0),IF(AND(D81="pl1125",C81>0),-ROUND(C81/1000,0),IF(AND(D81="pl1315",C81<0),ROUND(C81/1000,0),IF((D81="pl1340"),-ROUND(C81/1000,0),IF(AND(D81="pl1355",C81<0),-ROUND(C81/1000,0),IF(AND(D81="pl1320",C81>0),ROUND(C81/1000,0),IF(AND(D81="pl1380",C81>0),-ROUND(C81/1000,0),IF(AND(D81="pl1385",C81<0),-ROUND(C81/1000,0),IF(AND(D81="li8100",C81<0),-ROUND(C81/1000,0),IF(AND(D81="li8140",C81<0),-ROUND(C81/1000,0),IF(AND(D81="pl1120",C81<0),ROUND(C81/1000,0),IF(AND(D81="pl1355",C81<0),ROUND(C81/1000,0),IF(AND(D81="pl1385",C81<0),ROUND(C81/1000,0),IF((D81="pl1340"),ROUND(C81/1000,0),IF((D81="pl2275"),-ROUND(C81/1000,0),-ROUND(C81/1000,0)))))))))))))))))) -> -245 | F81: =IF(ISERROR(VLOOKUP(B81,'[1]TAB CONV SIGNE VECTOR'!J:K,2,FALSE)),'[1]TEST FORM'!B81,VLOOKUP(B81,'[1]TAB CONV SIGNE VECTOR'!J:K,2,FALSE)) -> SM101
A82: PL1315 | B82: S0196 | C82: 20000 | D82: =IF(AND(A82="as7100",C82>0),A82,IF(AND(A82="as7140",C82>0),A82,IF(AND(A82="PL1125",C82>0),A82,IF(AND(A82="PL1315",C82>0),A82,IF(AND(A82="PL1320",C82>0),A82,IF(AND(A82="PL1380",C82>0),A82,IF(AND(A82="LI8100",C82<0),A82,IF(AND(A82="LI8140",C82<0),A82,IF(AND(A82="PL1120",C82<0),A82,IF(AND(A82="PL1355",C82<0),A82,IF(AND(A82="PL1385",C82<0),A82,VLOOKUP(A82,'[1]TAB CONV SIGNE VECTOR'!A:C,3,FALSE)))))))))))) -> PL1315 | E82: =IF(AND(D82="as7100",C82>0),ROUND(C82/1000,0),IF(AND(D82="as7140",C82>0),ROUND(C82/1000,0),IF(AND(D82="pl1120",C82<0),-ROUND(C82/1000,0),IF(AND(D82="pl1125",C82>0),-ROUND(C82/1000,0),IF(AND(D82="pl1315",C82<0),ROUND(C82/1000,0),IF((D82="pl1340"),-ROUND(C82/1000,0),IF(AND(D82="pl1355",C82<0),-ROUND(C82/1000,0),IF(AND(D82="pl1320",C82>0),ROUND(C82/1000,0),IF(AND(D82="pl1380",C82>0),-ROUND(C82/1000,0),IF(AND(D82="pl1385",C82<0),-ROUND(C82/1000,0),IF(AND(D82="li8100",C82<0),-ROUND(C82/1000,0),IF(AND(D82="li8140",C82<0),-ROUND(C82/1000,0),IF(AND(D82="pl1120",C82<0),ROUND(C82/1000,0),IF(AND(D82="pl1355",C82<0),ROUND(C82/1000,0),IF(AND(D82="pl1385",C82<0),ROUND(C82/1000,0),IF((D82="pl1340"),ROUND(C82/1000,0),IF((D82="pl2275"),-ROUND(C82/1000,0),-ROUND(C82/1000,0)))))))))))))))))) -> -20 | F82: =IF(ISERROR(VLOOKUP(B82,'[1]TAB CONV SIGNE VECTOR'!J:K,2,FALSE)),'[1]TEST FORM'!B82,VLOOKUP(B82,'[1]TAB CONV SIGNE VECTOR'!J:K,2,FALSE)) -> SN001
A83: PL1315 | B83: YS2166 | C83: 626000 | D83: =IF(AND(A83="as7100",C83>0),A83,IF(AND(A83="as7140",C83>0),A83,IF(AND(A83="PL1125",C83>0),A83,IF(AND(A83="PL1315",C83>0),A83,IF(AND(A83="PL1320",C83>0),A83,IF(AND(A83="PL1380",C83>0),A83,IF(AND(A83="LI8100",C83<0),A83,IF(AND(A83="LI8140",C83<0),A83,IF(AND(A83="PL1120",C83<0),A83,IF(AND(A83="PL1355",C83<0),A83,IF(AND(A83="PL1385",C83<0),A83,VLOOKUP(A83,'[1]TAB CONV SIGNE VECTOR'!A:C,3,FALSE)))))))))))) -> PL1315 | E83: =IF(AND(D83="as7100",C83>0),ROUND(C83/1000,0),IF(AND(D83="as7140",C83>0),ROUND(C83/1000,0),IF(AND(D83="pl1120",C83<0),-ROUND(C83/1000,0),IF(AND(D83="pl1125",C83>0),-ROUND(C83/1000,0),IF(AND(D83="pl1315",C83<0),ROUND(C83/1000,0),IF((D83="pl1340"),-ROUND(C83/1000,0),IF(AND(D83="pl1355",C83<0),-ROUND(C83/1000,0),IF(AND(D83="pl1320",C83>0),ROUND(C83/1000,0),IF(AND(D83="pl1380",C83>0),-ROUND(C83/1000,0),IF(AND(D83="pl1385",C83<0),-ROUND(C83/1000,0),IF(AND(D83="li8100",C83<0),-ROUND(C83/1000,0),IF(AND(D83="li8140",C83<0),-ROUND(C83/1000,0),IF(AND(D83="pl1120",C83<0),ROUND(C83/1000,0),IF(AND(D83="pl1355",C83<0),ROUND(C83/1000,0),IF(AND(D83="pl1385",C83<0),ROUND(C83/1000,0),IF((D83="pl1340"),ROUND(C83/1000,0),IF((D83="pl2275"),-ROUND(C83/1000,0),-ROUND(C83/1000,0)))))))))))))))))) -> -626 | F83: =IF(ISERROR(VLOOKUP(B83,'[1]TAB CONV SIGNE VECTOR'!J:K,2,FALSE)),'[1]TEST FORM'!B83,VLOOKUP(B83,'[1]TAB CONV SIGNE VECTOR'!J:K,2,FALSE)) -> SN016
A84: PL1315 | B84: YSD999 | C84: 197445.34 | D84: =IF(AND(A84="as7100",C84>0),A84,IF(AND(A84="as7140",C84>0),A84,IF(AND(A84="PL1125",C84>0),A84,IF(AND(A84="PL1315",C84>0),A84,IF(AND(A84="PL1320",C84>0),A84,IF(AND(A84="PL1380",C84>0),A84,IF(AND(A84="LI8100",C84<0),A84,IF(AND(A84="LI8140",C84<0),A84,IF(AND(A84="PL1120",C84<0),A84,IF(AND(A84="PL1355",C84<0),A84,IF(AND(A84="PL1385",C84<0),A84,VLOOKUP(A84,'[1]TAB CONV SIGNE VECTOR'!A:C,3,FALSE)))))))))))) -> PL1315 | E84: =IF(AND(D84="as7100",C84>0),ROUND(C84/1000,0),IF(AND(D84="as7140",C84>0),ROUND(C84/1000,0),IF(AND(D84="pl1120",C84<0),-ROUND(C84/1000,0),IF(AND(D84="pl1125",C84>0),-ROUND(C84/1000,0),IF(AND(D84="pl1315",C84<0),ROUND(C84/1000,0),IF((D84="pl1340"),-ROUND(C84/1000,0),IF(AND(D84="pl1355",C84<0),-ROUND(C84/1000,0),IF(AND(D84="pl1320",C84>0),ROUND(C84/1000,0),IF(AND(D84="pl1380",C84>0),-ROUND(C84/1000,0),IF(AND(D84="pl1385",C84<0),-ROUND(C84/1000,0),IF(AND(D84="li8100",C84<0),-ROUND(C84/1000,0),IF(AND(D84="li8140",C84<0),-ROUND(C84/1000,0),IF(AND(D84="pl1120",C84<0),ROUND(C84/1000,0),IF(AND(D84="pl1355",C84<0),ROUND(C84/1000,0),IF(AND(D84="pl1385",C84<0),ROUND(C84/1000,0),IF((D84="pl1340"),ROUND(C84/1000,0),IF((D84="pl2275"),-ROUND(C84/1000,0),-ROUND(C84/1000,0)))))))))))))))))) -> -197 | F84: =IF(ISERROR(VLOOKUP(B84,'[1]TAB CONV SIGNE VECTOR'!J:K,2,FALSE)),'[1]TEST FORM'!B84,VLOOKUP(B84,'[1]TAB CONV SIGNE VECTOR'!J:K,2,FALSE)) -> SR034CP
A85: PL1315 | B85: YSW043 | C85: 1740 | D85: =IF(AND(A85="as7100",C85>0),A85,IF(AND(A85="as7140",C85>0),A85,IF(AND(A85="PL1125",C85>0),A85,IF(AND(A85="PL1315",C85>0),A85,IF(AND(A85="PL1320",C85>0),A85,IF(AND(A85="PL1380",C85>0),A85,IF(AND(A85="LI8100",C85<0),A85,IF(AND(A85="LI8140",C85<0),A85,IF(AND(A85="PL1120",C85<0),A85,IF(AND(A85="PL1355",C85<0),A85,IF(AND(A85="PL1385",C85<0),A85,VLOOKUP(A85,'[1]TAB CONV SIGNE VECTOR'!A:C,3,FALSE)))))))))))) -> PL1315 | E85: =IF(AND(D85="as7100",C85>0),ROUND(C85/1000,0),IF(AND(D85="as7140",C85>0),ROUND(C85/1000,0),IF(AND(D85="pl1120",C85<0),-ROUND(C85/1000,0),IF(AND(D85="pl1125",C85>0),-ROUND(C85/1000,0),IF(AND(D85="pl1315",C85<0),ROUND(C85/1000,0),IF((D85="pl1340"),-ROUND(C85/1000,0),IF(AND(D85="pl1355",C85<0),-ROUND(C85/1000,0),IF(AND(D85="pl1320",C85>0),ROUND(C85/1000,0),IF(AND(D85="pl1380",C85>0),-ROUND(C85/1000,0),IF(AND(D85="pl1385",C85<0),-ROUND(C85/1000,0),IF(AND(D85="li8100",C85<0),-ROUND(C85/1000,0),IF(AND(D85="li8140",C85<0),-ROUND(C85/1000,0),IF(AND(D85="pl1120",C85<0),ROUND(C85/1000,0),IF(AND(D85="pl1355",C85<0),ROUND(C85/1000,0),IF(AND(D85="pl1385",C85<0),ROUND(C85/1000,0),IF((D85="pl1340"),ROUND(C85/1000,0),IF((D85="pl2275"),-ROUND(C85/1000,0),-ROUND(C85/1000,0)))))))))))))))))) -> -2 | F85: =IF(ISERROR(VLOOKUP(B85,'[1]TAB CONV SIGNE VECTOR'!J:K,2,FALSE)),'[1]TEST FORM'!B85,VLOOKUP(B85,'[1]TAB CONV SIGNE VECTOR'!J:K,2,FALSE)) -> ZYSW043
A86: PL1315 | B86: ZSV831 | C86: -5944.4 | D86: =IF(AND(A86="as7100",C86>0),A86,IF(AND(A86="as7140",C86>0),A86,IF(AND(A86="PL1125",C86>0),A86,IF(AND(A86="PL1315",C86>0),A86,IF(AND(A86="PL1320",C86>0),A86,IF(AND(A86="PL1380",C86>0),A86,IF(AND(A86="LI8100",C86<0),A86,IF(AND(A86="LI8140",C86<0),A86,IF(AND(A86="PL1120",C86<0),A86,IF(AND(A86="PL1355",C86<0),A86,IF(AND(A86="PL1385",C86<0),A86,VLOOKUP(A86,'[1]TAB CONV SIGNE VECTOR'!A:C,3,FALSE)))))))))))) -> PL1355 | E86: =IF(AND(D86="as7100",C86>0),ROUND(C86/1000,0),IF(AND(D86="as7140",C86>0),ROUND(C86/1000,0),IF(AND(D86="pl1120",C86<0),-ROUND(C86/1000,0),IF(AND(D86="pl1125",C86>0),-ROUND(C86/1000,0),IF(AND(D86="pl1315",C86<0),ROUND(C86/1000,0),IF((D86="pl1340"),-ROUND(C86/1000,0),IF(AND(D86="pl1355",C86<0),-ROUND(C86/1000,0),IF(AND(D86="pl1320",C86>0),ROUND(C86/1000,0),IF(AND(D86="pl1380",C86>0),-ROUND(C86/1000,0),IF(AND(D86="pl1385",C86<0),-ROUND(C86/1000,0),IF(AND(D86="li8100",C86<0),-ROUND(C86/1000,0),IF(AND(D86="li8140",C86<0),-ROUND(C86/1000,0),IF(AND(D86="pl1120",C86<0),ROUND(C86/1000,0),IF(AND(D86="pl1355",C86<0),ROUND(C86/1000,0),IF(AND(D86="pl1385",C86<0),ROUND(C86/1000,0),IF((D86="pl1340"),ROUND(C86/1000,0),IF((D86="pl2275"),-ROUND(C86/1000,0),-ROUND(C86/1000,0)))))))))))))))))) -> 6 | F86: =IF(ISERROR(VLOOKUP(B86,'[1]TAB CONV SIGNE VECTOR'!J:K,2,FALSE)),'[1]TEST FORM'!B86,VLOOKUP(B86,'[1]TAB CONV SIGNE VECTOR'!J:K,2,FALSE)) -> SR131
A87: PL1340 | C87: 206484.52 | D87: =IF(AND(A87="as7100",C87>0),A87,IF(AND(A87="as7140",C87>0),A87,IF(AND(A87="PL1125",C87>0),A87,IF(AND(A87="PL1315",C87>0),A87,IF(AND(A87="PL1320",C87>0),A87,IF(AND(A87="PL1380",C87>0),A87,IF(AND(A87="LI8100",C87<0),A87,IF(AND(A87="LI8140",C87<0),A87,IF(AND(A87="PL1120",C87<0),A87,IF(AND(A87="PL1355",C87<0),A87,IF(AND(A87="PL1385",C87<0),A87,VLOOKUP(A87,'[1]TAB CONV SIGNE VECTOR'!A:C,3,FALSE)))))))))))) -> PL1340 | E87: =IF(AND(D87="as7100",C87>0),ROUND(C87/1000,0),IF(AND(D87="as7140",C87>0),ROUND(C87/1000,0),IF(AND(D87="pl1120",C87<0),-ROUND(C87/1000,0),IF(AND(D87="pl1125",C87>0),-ROUND(C87/1000,0),IF(AND(D87="pl1315",C87<0),ROUND(C87/1000,0),IF((D87="pl1340"),-ROUND(C87/1000,0),IF(AND(D87="pl1355",C87<0),-ROUND(C87/1000,0),IF(AND(D87="pl1320",C87>0),ROUND(C87/1000,0),IF(AND(D87="pl1380",C87>0),-ROUND(C87/1000,0),IF(AND(D87="pl1385",C87<0),-ROUND(C87/1000,0),IF(AND(D87="li8100",C87<0),-ROUND(C87/1000,0),IF(AND(D87="li8140",C87<0),-ROUND(C87/1000,0),IF(AND(D87="pl1120",C87<0),ROUND(C87/1000,0),IF(AND(D87="pl1355",C87<0),ROUND(C87/1000,0),IF(AND(D87="pl1385",C87<0),ROUND(C87/1000,0),IF((D87="pl1340"),ROUND(C87/1000,0),IF((D87="pl2275"),-ROUND(C87/1000,0),-ROUND(C87/1000,0)))))))))))))))))) -> -206 | F87: =IF(ISERROR(VLOOKUP(B87,'[1]TAB CONV SIGNE VECTOR'!J:K,2,FALSE)),'[1]TEST FORM'!B87,VLOOKUP(B87,'[1]TAB CONV SIGNE VECTOR'!J:K,2,FALSE)) -> SR157
A88: PL1355 | C88: -3294414.2 | D88: =IF(AND(A88="as7100",C88>0),A88,IF(AND(A88="as7140",C88>0),A88,IF(AND(A88="PL1125",C88>0),A88,IF(AND(A88="PL1315",C88>0),A88,IF(AND(A88="PL1320",C88>0),A88,IF(AND(A88="PL1380",C88>0),A88,IF(AND(A88="LI8100",C88<0),A88,IF(AND(A88="LI8140",C88<0),A88,IF(AND(A88="PL1120",C88<0),A88,IF(AND(A88="PL1355",C88<0),A88,IF(AND(A88="PL1385",C88<0),A88,VLOOKUP(A88,'[1]TAB CONV SIGNE VECTOR'!A:C,3,FALSE)))))))))))) -> PL1355 | E88: =IF(AND(D88="as7100",C88>0),ROUND(C88/1000,0),IF(AND(D88="as7140",C88>0),ROUND(C88/1000,0),IF(AND(D88="pl1120",C88<0),-ROUND(C88/1000,0),IF(AND(D88="pl1125",C88>0),-ROUND(C88/1000,0),IF(AND(D88="pl1315",C88<0),ROUND(C88/1000,0),IF((D88="pl1340"),-ROUND(C88/1000,0),IF(AND(D88="pl1355",C88<0),-ROUND(C88/1000,0),IF(AND(D88="pl1320",C88>0),ROUND(C88/1000,0),IF(AND(D88="pl1380",C88>0),-ROUND(C88/1000,0),IF(AND(D88="pl1385",C88<0),-ROUND(C88/1000,0),IF(AND(D88="li8100",C88<0),-ROUND(C88/1000,0),IF(AND(D88="li8140",C88<0),-ROUND(C88/1000,0),IF(AND(D88="pl1120",C88<0),ROUND(C88/1000,0),IF(AND(D88="pl1355",C88<0),ROUND(C88/1000,0),IF(AND(D88="pl1385",C88<0),ROUND(C88/1000,0),IF((D88="pl1340"),ROUND(C88/1000,0),IF((D88="pl2275"),-ROUND(C88/1000,0),-ROUND(C88/1000,0)))))))))))))))))) -> 3294 | F88: =IF(ISERROR(VLOOKUP(B88,'[1]TAB CONV SIGNE VECTOR'!J:K,2,FALSE)),'[1]TEST FORM'!B88,VLOOKUP(B88,'[1]TAB CONV SIGNE VECTOR'!J:K,2,FALSE)) -> SR174
A89: PL1355 | B89: S0002 | C89: 4447825.1 | D89: =IF(AND(A89="as7100",C89>0),A89,IF(AND(A89="as7140",C89>0),A89,IF(AND(A89="PL1125",C89>0),A89,IF(AND(A89="PL1315",C89>0),A89,IF(AND(A89="PL1320",C89>0),A89,IF(AND(A89="PL1380",C89>0),A89,IF(AND(A89="LI8100",C89<0),A89,IF(AND(A89="LI8140",C89<0),A89,IF(AND(A89="PL1120",C89<0),A89,IF(AND(A89="PL1355",C89<0),A89,IF(AND(A89="PL1385",C89<0),A89,VLOOKUP(A89,'[1]TAB CONV SIGNE VECTOR'!A:C,3,FALSE)))))))))))) -> PL1315 | E89: =IF(AND(D89="as7100",C89>0),ROUND(C89/1000,0),IF(AND(D89="as7140",C89>0),ROUND(C89/1000,0),IF(AND(D89="pl1120",C89<0),-ROUND(C89/1000,0),IF(AND(D89="pl1125",C89>0),-ROUND(C89/1000,0),IF(AND(D89="pl1315",C89<0),ROUND(C89/1000,0),IF((D89="pl1340"),-ROUND(C89/1000,0),IF(AND(D89="pl1355",C89<0),-ROUND(C89/1000,0),IF(AND(D89="pl1320",C89>0),ROUND(C89/1000,0),IF(AND(D89="pl1380",C89>0),-ROUND(C89/1000,0),IF(AND(D89="pl1385",C89<0),-ROUND(C89/1000,0),IF(AND(D89="li8100",C89<0),-ROUND(C89/1000,0),IF(AND(D89="li8140",C89<0),-ROUND(C89/1000,0),IF(AND(D89="pl1120",C89<0),ROUND(C89/1000,0),IF(AND(D89="pl1355",C89<0),ROUND(C89/1000,0),IF(AND(D89="pl1385",C89<0),ROUND(C89/1000,0),IF((D89="pl1340"),ROUND(C89/1000,0),IF((D89="pl2275"),-ROUND(C89/1000,0),-ROUND(C89/1000,0)))))))))))))))))) -> -4448 | F89: =IF(ISERROR(VLOOKUP(B89,'[1]TAB CONV SIGNE VECTOR'!J:K,2,FALSE)),'[1]TEST FORM'!B89,VLOOKUP(B89,'[1]TAB CONV SIGNE VECTOR'!J:K,2,FALSE)) -> SR176CP
A90: PL1355 | B90: SA464 | C90: 272566 | D90: =IF(AND(A90="as7100",C90>0),A90,IF(AND(A90="as7140",C90>0),A90,IF(AND(A90="PL1125",C90>0),A90,IF(AND(A90="PL1315",C90>0),A90,IF(AND(A90="PL1320",C90>0),A90,IF(AND(A90="PL1380",C90>0),A90,IF(AND(A90="LI8100",C90<0),A90,IF(AND(A90="LI8140",C90<0),A90,IF(AND(A90="PL1120",C90<0),A90,IF(AND(A90="PL1355",C90<0),A90,IF(AND(A90="PL1385",C90<0),A90,VLOOKUP(A90,'[1]TAB CONV SIGNE VECTOR'!A:C,3,FALSE)))))))))))) -> PL1315 | E90: =IF(AND(D90="as7100",C90>0),ROUND(C90/1000,0),IF(AND(D90="as7140",C90>0),ROUND(C90/1000,0),IF(AND(D90="pl1120",C90<0),-ROUND(C90/1000,0),IF(AND(D90="pl1125",C90>0),-ROUND(C90/1000,0),IF(AND(D90="pl1315",C90<0),ROUND(C90/1000,0),IF((D90="pl1340"),-ROUND(C90/1000,0),IF(AND(D90="pl1355",C90<0),-ROUND(C90/1000,0),IF(AND(D90="pl1320",C90>0),ROUND(C90/1000,0),IF(AND(D90="pl1380",C90>0),-ROUND(C90/1000,0),IF(AND(D90="pl1385",C90<0),-ROUND(C90/1000,0),IF(AND(D90="li8100",C90<0),-ROUND(C90/1000,0),IF(AND(D90="li8140",C90<0),-ROUND(C90/1000,0),IF(AND(D90="pl1120",C90<0),ROUND(C90/1000,0),IF(AND(D90="pl1355",C90<0),ROUND(C90/1000,0),IF(AND(D90="pl1385",C90<0),ROUND(C90/1000,0),IF((D90="pl1340"),ROUND(C90/1000,0),IF((D90="pl2275"),-ROUND(C90/1000,0),-ROUND(C90/1000,0)))))))))))))))))) -> -273 | F90: =IF(ISERROR(VLOOKUP(B90,'[1]TAB CONV SIGNE VECTOR'!J:K,2,FALSE)),'[1]TEST FORM'!B90,VLOOKUP(B90,'[1]TAB CONV SIGNE VECTOR'!J:K,2,FALSE)) -> SR180
A91: PL1355 | B91: SA719 | C91: -144327 | D91: =IF(AND(A91="as7100",C91>0),A91,IF(AND(A91="as7140",C91>0),A91,IF(AND(A91="PL1125",C91>0),A91,IF(AND(A91="PL1315",C91>0),A91,IF(AND(A91="PL1320",C91>0),A91,IF(AND(A91="PL1380",C91>0),A91,IF(AND(A91="LI8100",C91<0),A91,IF(AND(A91="LI8140",C91<0),A91,IF(AND(A91="PL1120",C91<0),A91,IF(AND(A91="PL1355",C91<0),A91,IF(AND(A91="PL1385",C91<0),A91,VLOOKUP(A91,'[1]TAB CONV SIGNE VECTOR'!A:C,3,FALSE)))))))))))) -> PL1355 | E91: =IF(AND(D91="as7100",C91>0),ROUND(C91/1000,0),IF(AND(D91="as7140",C91>0),ROUND(C91/1000,0),IF(AND(D91="pl1120",C91<0),-ROUND(C91/1000,0),IF(AND(D91="pl1125",C91>0),-ROUND(C91/1000,0),IF(AND(D91="pl1315",C91<0),ROUND(C91/1000,0),IF((D91="pl1340"),-ROUND(C91/1000,0),IF(AND(D91="pl1355",C91<0),-ROUND(C91/1000,0),IF(AND(D91="pl1320",C91>0),ROUND(C91/1000,0),IF(AND(D91="pl1380",C91>0),-ROUND(C91/1000,0),IF(AND(D91="pl1385",C91<0),-ROUND(C91/1000,0),IF(AND(D91="li8100",C91<0),-ROUND(C91/1000,0),IF(AND(D91="li8140",C91<0),-ROUND(C91/1000,0),IF(AND(D91="pl1120",C91<0),ROUND(C91/1000,0),IF(AND(D91="pl1355",C91<0),ROUND(C91/1000,0),IF(AND(D91="pl1385",C91<0),ROUND(C91/1000,0),IF((D91="pl1340"),ROUND(C91/1000,0),IF((D91="pl2275"),-ROUND(C91/1000,0),-ROUND(C91/1000,0)))))))))))))))))) -> 144 | F91: =IF(ISERROR(VLOOKUP(B91,'[1]TAB CONV SIGNE VECTOR'!J:K,2,FALSE)),'[1]TEST FORM'!B91,VLOOKUP(B91,'[1]TAB CONV SIGNE VECTOR'!J:K,2,FALSE)) -> ST801
A92: PL1355 | B92: SB225 | C92: -13014 | D92: =IF(AND(A92="as7100",C92>0),A92,IF(AND(A92="as7140",C92>0),A92,IF(AND(A92="PL1125",C92>0),A92,IF(AND(A92="PL1315",C92>0),A92,IF(AND(A92="PL1320",C92>0),A92,IF(AND(A92="PL1380",C92>0),A92,IF(AND(A92="LI8100",C92<0),A92,IF(AND(A92="LI8140",C92<0),A92,IF(AND(A92="PL1120",C92<0),A92,IF(AND(A92="PL1355",C92<0),A92,IF(AND(A92="PL1385",C92<0),A92,VLOOKUP(A92,'[1]TAB CONV SIGNE VECTOR'!A:C,3,FALSE)))))))))))) -> PL1355 | E92: =IF(AND(D92="as7100",C92>0),ROUND(C92/1000,0),IF(AND(D92="as7140",C92>0),ROUND(C92/1000,0),IF(AND(D92="pl1120",C92<0),-ROUND(C92/1000,0),IF(AND(D92="pl1125",C92>0),-ROUND(C92/1000,0),IF(AND(D92="pl1315",C92<0),ROUND(C92/1000,0),IF((D92="pl1340"),-ROUND(C92/1000,0),IF(AND(D92="pl1355",C92<0),-ROUND(C92/1000,0),IF(AND(D92="pl1320",C92>0),ROUND(C92/1000,0),IF(AND(D92="pl1380",C92>0),-ROUND(C92/1000,0),IF(AND(D92="pl1385",C92<0),-ROUND(C92/1000,0),IF(AND(D92="li8100",C92<0),-ROUND(C92/1000,0),IF(AND(D92="li8140",C92<0),-ROUND(C92/1000,0),IF(AND(D92="pl1120",C92<0),ROUND(C92/1000,0),IF(AND(D92="pl1355",C92<0),ROUND(C92/1000,0),IF(AND(D92="pl1385",C92<0),ROUND(C92/1000,0),IF((D92="pl1340"),ROUND(C92/1000,0),IF((D92="pl2275"),-ROUND(C92/1000,0),-ROUND(C92/1000,0)))))))))))))))))) -> 13 | F92: =IF(ISERROR(VLOOKUP(B92,'[1]TAB CONV SIGNE VECTOR'!J:K,2,FALSE)),'[1]TEST FORM'!B92,VLOOKUP(B92,'[1]TAB CONV SIGNE VECTOR'!J:K,2,FALSE)) -> SU023
A93: PL1355 | B93: SX334 | C93: -478434 | D93: =IF(AND(A93="as7100",C93>0),A93,IF(AND(A93="as7140",C93>0),A93,IF(AND(A93="PL1125",C93>0),A93,IF(AND(A93="PL1315",C93>0),A93,IF(AND(A93="PL1320",C93>0),A93,IF(AND(A93="PL1380",C93>0),A93,IF(AND(A93="LI8100",C93<0),A93,IF(AND(A93="LI8140",C93<0),A93,IF(AND(A93="PL1120",C93<0),A93,IF(AND(A93="PL1355",C93<0),A93,IF(AND(A93="PL1385",C93<0),A93,VLOOKUP(A93,'[1]TAB CONV SIGNE VECTOR'!A:C,3,FALSE)))))))))))) -> PL1355 | E93: =IF(AND(D93="as7100",C93>0),ROUND(C93/1000,0),IF(AND(D93="as7140",C93>0),ROUND(C93/1000,0),IF(AND(D93="pl1120",C93<0),-ROUND(C93/1000,0),IF(AND(D93="pl1125",C93>0),-ROUND(C93/1000,0),IF(AND(D93="pl1315",C93<0),ROUND(C93/1000,0),IF((D93="pl1340"),-ROUND(C93/1000,0),IF(AND(D93="pl1355",C93<0),-ROUND(C93/1000,0),IF(AND(D93="pl1320",C93>0),ROUND(C93/1000,0),IF(AND(D93="pl1380",C93>0),-ROUND(C93/1000,0),IF(AND(D93="pl1385",C93<0),-ROUND(C93/1000,0),IF(AND(D93="li8100",C93<0),-ROUND(C93/1000,0),IF(AND(D93="li8140",C93<0),-ROUND(C93/1000,0),IF(AND(D93="pl1120",C93<0),ROUND(C93/1000,0),IF(AND(D93="pl1355",C93<0),ROUND(C93/1000,0),IF(AND(D93="pl1385",C93<0),ROUND(C93/1000,0),IF((D93="pl1340"),ROUND(C93/1000,0),IF((D93="pl2275"),-ROUND(C93/1000,0),-ROUND(C93/1000,0)))))))))))))))))) -> 478 | F93: =IF(ISERROR(VLOOKUP(B93,'[1]TAB CONV SIGNE VECTOR'!J:K,2,FALSE)),'[1]TEST FORM'!B93,VLOOKUP(B93,'[1]TAB CONV SIGNE VECTOR'!J:K,2,FALSE)) -> SU1050
A94: PL1355 | B94: SX345 | C94: -24477.76 | D94: =IF(AND(A94="as7100",C94>0),A94,IF(AND(A94="as7140",C94>0),A94,IF(AND(A94="PL1125",C94>0),A94,IF(AND(A94="PL1315",C94>0),A94,IF(AND(A94="PL1320",C94>0),A94,IF(AND(A94="PL1380",C94>0),A94,IF(AND(A94="LI8100",C94<0),A94,IF(AND(A94="LI8140",C94<0),A94,IF(AND(A94="PL1120",C94<0),A94,IF(AND(A94="PL1355",C94<0),A94,IF(AND(A94="PL1385",C94<0),A94,VLOOKUP(A94,'[1]TAB CONV SIGNE VECTOR'!A:C,3,FALSE)))))))))))) -> PL1355 | E94: =IF(AND(D94="as7100",C94>0),ROUND(C94/1000,0),IF(AND(D94="as7140",C94>0),ROUND(C94/1000,0),IF(AND(D94="pl1120",C94<0),-ROUND(C94/1000,0),IF(AND(D94="pl1125",C94>0),-ROUND(C94/1000,0),IF(AND(D94="pl1315",C94<0),ROUND(C94/1000,0),IF((D94="pl1340"),-ROUND(C94/1000,0),IF(AND(D94="pl1355",C94<0),-ROUND(C94/1000,0),IF(AND(D94="pl1320",C94>0),ROUND(C94/1000,0),IF(AND(D94="pl1380",C94>0),-ROUND(C94/1000,0),IF(AND(D94="pl1385",C94<0),-ROUND(C94/1000,0),IF(AND(D94="li8100",C94<0),-ROUND(C94/1000,0),IF(AND(D94="li8140",C94<0),-ROUND(C94/1000,0),IF(AND(D94="pl1120",C94<0),ROUND(C94/1000,0),IF(AND(D94="pl1355",C94<0),ROUND(C94/1000,0),IF(AND(D94="pl1385",C94<0),ROUND(C94/1000,0),IF((D94="pl1340"),ROUND(C94/1000,0),IF((D94="pl2275"),-ROUND(C94/1000,0),-ROUND(C94/1000,0)))))))))))))))))) -> 24 | F94: =IF(ISERROR(VLOOKUP(B94,'[1]TAB CONV SIGNE VECTOR'!J:K,2,FALSE)),'[1]TEST FORM'!B94,VLOOKUP(B94,'[1]TAB CONV SIGNE VECTOR'!J:K,2,FALSE)) -> SU106
A95: PL1355 | B95: SX385 | C95: -323747.06 | D95: =IF(AND(A95="as7100",C95>0),A95,IF(AND(A95="as7140",C95>0),A95,IF(AND(A95="PL1125",C95>0),A95,IF(AND(A95="PL1315",C95>0),A95,IF(AND(A95="PL1320",C95>0),A95,IF(AND(A95="PL1380",C95>0),A95,IF(AND(A95="LI8100",C95<0),A95,IF(AND(A95="LI8140",C95<0),A95,IF(AND(A95="PL1120",C95<0),A95,IF(AND(A95="PL1355",C95<0),A95,IF(AND(A95="PL1385",C95<0),A95,VLOOKUP(A95,'[1]TAB CONV SIGNE VECTOR'!A:C,3,FALSE)))))))))))) -> PL1355 | E95: =IF(AND(D95="as7100",C95>0),ROUND(C95/1000,0),IF(AND(D95="as7140",C95>0),ROUND(C95/1000,0),IF(AND(D95="pl1120",C95<0),-ROUND(C95/1000,0),IF(AND(D95="pl1125",C95>0),-ROUND(C95/1000,0),IF(AND(D95="pl1315",C95<0),ROUND(C95/1000,0),IF((D95="pl1340"),-ROUND(C95/1000,0),IF(AND(D95="pl1355",C95<0),-ROUND(C95/1000,0),IF(AND(D95="pl1320",C95>0),ROUND(C95/1000,0),IF(AND(D95="pl1380",C95>0),-ROUND(C95/1000,0),IF(AND(D95="pl1385",C95<0),-ROUND(C95/1000,0),IF(AND(D95="li8100",C95<0),-ROUND(C95/1000,0),IF(AND(D95="li8140",C95<0),-ROUND(C95/1000,0),IF(AND(D95="pl1120",C95<0),ROUND(C95/1000,0),IF(AND(D95="pl1355",C95<0),ROUND(C95/1000,0),IF(AND(D95="pl1385",C95<0),ROUND(C95/1000,0),IF((D95="pl1340"),ROUND(C95/1000,0),IF((D95="pl2275"),-ROUND(C95/1000,0),-ROUND(C95/1000,0)))))))))))))))))) -> 324 | F95: =IF(ISERROR(VLOOKUP(B95,'[1]TAB CONV SIGNE VECTOR'!J:K,2,FALSE)),'[1]TEST FORM'!B95,VLOOKUP(B95,'[1]TAB CONV SIGNE VECTOR'!J:K,2,FALSE)) -> SU111
A96: PL1355 | B96: SX400 | C96: -714341 | D96: =IF(AND(A96="as7100",C96>0),A96,IF(AND(A96="as7140",C96>0),A96,IF(AND(A96="PL1125",C96>0),A96,IF(AND(A96="PL1315",C96>0),A96,IF(AND(A96="PL1320",C96>0),A96,IF(AND(A96="PL1380",C96>0),A96,IF(AND(A96="LI8100",C96<0),A96,IF(AND(A96="LI8140",C96<0),A96,IF(AND(A96="PL1120",C96<0),A96,IF(AND(A96="PL1355",C96<0),A96,IF(AND(A96="PL1385",C96<0),A96,VLOOKUP(A96,'[1]TAB CONV SIGNE VECTOR'!A:C,3,FALSE)))))))))))) -> PL1355 | E96: =IF(AND(D96="as7100",C96>0),ROUND(C96/1000,0),IF(AND(D96="as7140",C96>0),ROUND(C96/1000,0),IF(AND(D96="pl1120",C96<0),-ROUND(C96/1000,0),IF(AND(D96="pl1125",C96>0),-ROUND(C96/1000,0),IF(AND(D96="pl1315",C96<0),ROUND(C96/1000,0),IF((D96="pl1340"),-ROUND(C96/1000,0),IF(AND(D96="pl1355",C96<0),-ROUND(C96/1000,0),IF(AND(D96="pl1320",C96>0),ROUND(C96/1000,0),IF(AND(D96="pl1380",C96>0),-ROUND(C96/1000,0),IF(AND(D96="pl1385",C96<0),-ROUND(C96/1000,0),IF(AND(D96="li8100",C96<0),-ROUND(C96/1000,0),IF(AND(D96="li8140",C96<0),-ROUND(C96/1000,0),IF(AND(D96="pl1120",C96<0),ROUND(C96/1000,0),IF(AND(D96="pl1355",C96<0),ROUND(C96/1000,0),IF(AND(D96="pl1385",C96<0),ROUND(C96/1000,0),IF((D96="pl1340"),ROUND(C96/1000,0),IF((D96="pl2275"),-ROUND(C96/1000,0),-ROUND(C96/1000,0)))))))))))))))))) -> 714 | F96: =IF(ISERROR(VLOOKUP(B96,'[1]TAB CONV SIGNE VECTOR'!J:K,2,FALSE)),'[1]TEST FORM'!B96,VLOOKUP(B96,'[1]TAB CONV SIGNE VECTOR'!J:K,2,FALSE)) -> SU181
A97: PL1355 | B97: SX408 | C97: -12783.12 | D97: =IF(AND(A97="as7100",C97>0),A97,IF(AND(A97="as7140",C97>0),A97,IF(AND(A97="PL1125",C97>0),A97,IF(AND(A97="PL1315",C97>0),A97,IF(AND(A97="PL1320",C97>0),A97,IF(AND(A97="PL1380",C97>0),A97,IF(AND(A97="LI8100",C97<0),A97,IF(AND(A97="LI8140",C97<0),A97,IF(AND(A97="PL1120",C97<0),A97,IF(AND(A97="PL1355",C97<0),A97,IF(AND(A97="PL1385",C97<0),A97,VLOOKUP(A97,'[1]TAB CONV SIGNE VECTOR'!A:C,3,FALSE)))))))))))) -> PL1355 | E97: =IF(AND(D97="as7100",C97>0),ROUND(C97/1000,0),IF(AND(D97="as7140",C97>0),ROUND(C97/1000,0),IF(AND(D97="pl1120",C97<0),-ROUND(C97/1000,0),IF(AND(D97="pl1125",C97>0),-ROUND(C97/1000,0),IF(AND(D97="pl1315",C97<0),ROUND(C97/1000,0),IF((D97="pl1340"),-ROUND(C97/1000,0),IF(AND(D97="pl1355",C97<0),-ROUND(C97/1000,0),IF(AND(D97="pl1320",C97>0),ROUND(C97/1000,0),IF(AND(D97="pl1380",C97>0),-ROUND(C97/1000,0),IF(AND(D97="pl1385",C97<0),-ROUND(C97/1000,0),IF(AND(D97="li8100",C97<0),-ROUND(C97/1000,0),IF(AND(D97="li8140",C97<0),-ROUND(C97/1000,0),IF(AND(D97="pl1120",C97<0),ROUND(C97/1000,0),IF(AND(D97="pl1355",C97<0),ROUND(C97/1000,0),IF(AND(D97="pl1385",C97<0),ROUND(C97/1000,0),IF((D97="pl1340"),ROUND(C97/1000,0),IF((D97="pl2275"),-ROUND(C97/1000,0),-ROUND(C97/1000,0)))))))))))))))))) -> 13 | F97: =IF(ISERROR(VLOOKUP(B97,'[1]TAB CONV SIGNE VECTOR'!J:K,2,FALSE)),'[1]TEST FORM'!B97,VLOOKUP(B97,'[1]TAB CONV SIGNE VECTOR'!J:K,2,FALSE)) -> SU205
A98: PL1355 | B98: SX418 | C98: -43651.18 | D98: =IF(AND(A98="as7100",C98>0),A98,IF(AND(A98="as7140",C98>0),A98,IF(AND(A98="PL1125",C98>0),A98,IF(AND(A98="PL1315",C98>0),A98,IF(AND(A98="PL1320",C98>0),A98,IF(AND(A98="PL1380",C98>0),A98,IF(AND(A98="LI8100",C98<0),A98,IF(AND(A98="LI8140",C98<0),A98,IF(AND(A98="PL1120",C98<0),A98,IF(AND(A98="PL1355",C98<0),A98,IF(AND(A98="PL1385",C98<0),A98,VLOOKUP(A98,'[1]TAB CONV SIGNE VECTOR'!A:C,3,FALSE)))))))))))) -> PL1355 | E98: =IF(AND(D98="as7100",C98>0),ROUND(C98/1000,0),IF(AND(D98="as7140",C98>0),ROUND(C98/1000,0),IF(AND(D98="pl1120",C98<0),-ROUND(C98/1000,0),IF(AND(D98="pl1125",C98>0),-ROUND(C98/1000,0),IF(AND(D98="pl1315",C98<0),ROUND(C98/1000,0),IF((D98="pl1340"),-ROUND(C98/1000,0),IF(AND(D98="pl1355",C98<0),-ROUND(C98/1000,0),IF(AND(D98="pl1320",C98>0),ROUND(C98/1000,0),IF(AND(D98="pl1380",C98>0),-ROUND(C98/1000,0),IF(AND(D98="pl1385",C98<0),-ROUND(C98/1000,0),IF(AND(D98="li8100",C98<0),-ROUND(C98/1000,0),IF(AND(D98="li8140",C98<0),-ROUND(C98/1000,0),IF(AND(D98="pl1120",C98<0),ROUND(C98/1000,0),IF(AND(D98="pl1355",C98<0),ROUND(C98/1000,0),IF(AND(D98="pl1385",C98<0),ROUND(C98/1000,0),IF((D98="pl1340"),ROUND(C98/1000,0),IF((D98="pl2275"),-ROUND(C98/1000,0),-ROUND(C98/1000,0)))))))))))))))))) -> 44 | F98: =IF(ISERROR(VLOOKUP(B98,'[1]TAB CONV SIGNE VECTOR'!J:K,2,FALSE)),'[1]TEST FORM'!B98,VLOOKUP(B98,'[1]TAB CONV SIGNE VECTOR'!J:K,2,FALSE)) -> SU212
A99: PL1355 | B99: SX600 | C99: -185684.12 | D99: =IF(AND(A99="as7100",C99>0),A99,IF(AND(A99="as7140",C99>0),A99,IF(AND(A99="PL1125",C99>0),A99,IF(AND(A99="PL1315",C99>0),A99,IF(AND(A99="PL1320",C99>0),A99,IF(AND(A99="PL1380",C99>0),A99,IF(AND(A99="LI8100",C99<0),A99,IF(AND(A99="LI8140",C99<0),A99,IF(AND(A99="PL1120",C99<0),A99,IF(AND(A99="PL1355",C99<0),A99,IF(AND(A99="PL1385",C99<0),A99,VLOOKUP(A99,'[1]TAB CONV SIGNE VECTOR'!A:C,3,FALSE)))))))))))) -> PL1355 | E99: =IF(AND(D99="as7100",C99>0),ROUND(C99/1000,0),IF(AND(D99="as7140",C99>0),ROUND(C99/1000,0),IF(AND(D99="pl1120",C99<0),-ROUND(C99/1000,0),IF(AND(D99="pl1125",C99>0),-ROUND(C99/1000,0),IF(AND(D99="pl1315",C99<0),ROUND(C99/1000,0),IF((D99="pl1340"),-ROUND(C99/1000,0),IF(AND(D99="pl1355",C99<0),-ROUND(C99/1000,0),IF(AND(D99="pl1320",C99>0),ROUND(C99/1000,0),IF(AND(D99="pl1380",C99>0),-ROUND(C99/1000,0),IF(AND(D99="pl1385",C99<0),-ROUND(C99/1000,0),IF(AND(D99="li8100",C99<0),-ROUND(C99/1000,0),IF(AND(D99="li8140",C99<0),-ROUND(C99/1000,0),IF(AND(D99="pl1120",C99<0),ROUND(C99/1000,0),IF(AND(D99="pl1355",C99<0),ROUND(C99/1000,0),IF(AND(D99="pl1385",C99<0),ROUND(C99/1000,0),IF((D99="pl1340"),ROUND(C99/1000,0),IF((D99="pl2275"),-ROUND(C99/1000,0),-ROUND(C99/1000,0)))))))))))))))))) -> 186 | F99: =IF(ISERROR(VLOOKUP(B99,'[1]TAB CONV SIGNE VECTOR'!J:K,2,FALSE)),'[1]TEST FORM'!B99,VLOOKUP(B99,'[1]TAB CONV SIGNE VECTOR'!J:K,2,FALSE)) -> SU217
A100: PL1355 | B100: YSD999 | C100: 774530.32 | D100: =IF(AND(A100="as7100",C100>0),A100,IF(AND(A100="as7140",C100>0),A100,IF(AND(A100="PL1125",C100>0),A100,IF(AND(A100="PL1315",C100>0),A100,IF(AND(A100="PL1320",C100>0),A100,IF(AND(A100="PL1380",C100>0),A100,IF(AND(A100="LI8100",C100<0),A100,IF(AND(A100="LI8140",C100<0),A100,IF(AND(A100="PL1120",C100<0),A100,IF(AND(A100="PL1355",C100<0),A100,IF(AND(A100="PL1385",C100<0),A100,VLOOKUP(A100,'[1]TAB CONV SIGNE VECTOR'!A:C,3,FALSE)))))))))))) -> PL1315 | E100: =IF(AND(D100="as7100",C100>0),ROUND(C100/1000,0),IF(AND(D100="as7140",C100>0),ROUND(C100/1000,0),IF(AND(D100="pl1120",C100<0),-ROUND(C100/1000,0),IF(AND(D100="pl1125",C100>0),-ROUND(C100/1000,0),IF(AND(D100="pl1315",C100<0),ROUND(C100/1000,0),IF((D100="pl1340"),-ROUND(C100/1000,0),IF(AND(D100="pl1355",C100<0),-ROUND(C100/1000,0),IF(AND(D100="pl1320",C100>0),ROUND(C100/1000,0),IF(AND(D100="pl1380",C100>0),-ROUND(C100/1000,0),IF(AND(D100="pl1385",C100<0),-ROUND(C100/1000,0),IF(AND(D100="li8100",C100<0),-ROUND(C100/1000,0),IF(AND(D100="li8140",C100<0),-ROUND(C100/1000,0),IF(AND(D100="pl1120",C100<0),ROUND(C100/1000,0),IF(AND(D100="pl1355",C100<0),ROUND(C100/1000,0),IF(AND(D100="pl1385",C100<0),ROUND(C100/1000,0),IF((D100="pl1340"),ROUND(C100/1000,0),IF((D100="pl2275"),-ROUND(C100/1000,0),-ROUND(C100/1000,0)))))))))))))))))) -> -775 | F100: =IF(ISERROR(VLOOKUP(B100,'[1]TAB CONV SIGNE VECTOR'!J:K,2,FALSE)),'[1]TEST FORM'!B100,VLOOKUP(B100,'[1]TAB CONV SIGNE VECTOR'!J:K,2,FALSE)) -> SU253
A101: PL1380 | B101: ST601 | D101: =IF(AND(A101="as7100",C101>0),A101,IF(AND(A101="as7140",C101>0),A101,IF(AND(A101="PL1125",C101>0),A101,IF(AND(A101="PL1315",C101>0),A101,IF(AND(A101="PL1320",C101>0),A101,IF(AND(A101="PL1380",C101>0),A101,IF(AND(A101="LI8100",C101<0),A101,IF(AND(A101="LI8140",C101<0),A101,IF(AND(A101="PL1120",C101<0),A101,IF(AND(A101="PL1355",C101<0),A101,IF(AND(A101="PL1385",C101<0),A101,VLOOKUP(A101,'[1]TAB CONV SIGNE VECTOR'!A:C,3,FALSE)))))))))))) -> PL1385 | E101: =IF(AND(D101="as7100",C101>0),ROUND(C101/1000,0),IF(AND(D101="as7140",C101>0),ROUND(C101/1000,0),IF(AND(D101="pl1120",C101<0),-ROUND(C101/1000,0),IF(AND(D101="pl1125",C101>0),-ROUND(C101/1000,0),IF(AND(D101="pl1315",C101<0),ROUND(C101/1000,0),IF((D101="pl1340"),-ROUND(C101/1000,0),IF(AND(D101="pl1355",C101<0),-ROUND(C101/1000,0),IF(AND(D101="pl1320",C101>0),ROUND(C101/1000,0),IF(AND(D101="pl1380",C101>0),-ROUND(C101/1000,0),IF(AND(D101="pl1385",C101<0),-ROUND(C101/1000,0),IF(AND(D101="li8100",C101<0),-ROUND(C101/1000,0),IF(AND(D101="li8140",C101<0),-ROUND(C101/1000,0),IF(AND(D101="pl1120",C101<0),ROUND(C101/1000,0),IF(AND(D101="pl1355",C101<0),ROUND(C101/1000,0),IF(AND(D101="pl1385",C101<0),ROUND(C101/1000,0),IF((D101="pl1340"),ROUND(C101/1000,0),IF((D101="pl2275"),-ROUND(C101/1000,0),-ROUND(C101/1000,0)))))))))))))))))) -> 0 | F101: =IF(ISERROR(VLOOKUP(B101,'[1]TAB CONV SIGNE VECTOR'!J:K,2,FALSE)),'[1]TEST FORM'!B101,VLOOKUP(B101,'[1]TAB CONV SIGNE VECTOR'!J:K,2,FALSE)) -> SU274
A102: PL1385 | B102: S0002 | C102: -4174416.7 | D102: =IF(AND(A102="as7100",C102>0),A102,IF(AND(A102="as7140",C102>0),A102,IF(AND(A102="PL1125",C102>0),A102,IF(AND(A102="PL1315",C102>0),A102,IF(AND(A102="PL1320",C102>0),A102,IF(AND(A102="PL1380",C102>0),A102,IF(AND(A102="LI8100",C102<0),A102,IF(AND(A102="LI8140",C102<0),A102,IF(AND(A102="PL1120",C102<0),A102,IF(AND(A102="PL1355",C102<0),A102,IF(AND(A102="PL1385",C102<0),A102,VLOOKUP(A102,'[1]TAB CONV SIGNE VECTOR'!A:C,3,FALSE)))))))))))) -> PL1385 | E102: =IF(AND(D102="as7100",C102>0),ROUND(C102/1000,0),IF(AND(D102="as7140",C102>0),ROUND(C102/1000,0),IF(AND(D102="pl1120",C102<0),-ROUND(C102/1000,0),IF(AND(D102="pl1125",C102>0),-ROUND(C102/1000,0),IF(AND(D102="pl1315",C102<0),ROUND(C102/1000,0),IF((D102="pl1340"),-ROUND(C102/1000,0),IF(AND(D102="pl1355",C102<0),-ROUND(C102/1000,0),IF(AND(D102="pl1320",C102>0),ROUND(C102/1000,0),IF(AND(D102="pl1380",C102>0),-ROUND(C102/1000,0),IF(AND(D102="pl1385",C102<0),-ROUND(C102/1000,0),IF(AND(D102="li8100",C102<0),-ROUND(C102/1000,0),IF(AND(D102="li8140",C102<0),-ROUND(C102/1000,0),IF(AND(D102="pl1120",C102<0),ROUND(C102/1000,0),IF(AND(D102="pl1355",C102<0),ROUND(C102/1000,0),IF(AND(D102="pl1385",C102<0),ROUND(C102/1000,0),IF((D102="pl1340"),ROUND(C102/1000,0),IF((D102="pl2275"),-ROUND(C102/1000,0),-ROUND(C102/1000,0)))))))))))))))))) -> 4174 | F102: =IF(ISERROR(VLOOKUP(B102,'[1]TAB CONV SIGNE VECTOR'!J:K,2,FALSE)),'[1]TEST FORM'!B102,VLOOKUP(B102,'[1]TAB CONV SIGNE VECTOR'!J:K,2,FALSE)) -> SU296
A103: PL1385 | B103: S0005 | C103: -6742000 | D103: =IF(AND(A103="as7100",C103>0),A103,IF(AND(A103="as7140",C103>0),A103,IF(AND(A103="PL1125",C103>0),A103,IF(AND(A103="PL1315",C103>0),A103,IF(AND(A103="PL1320",C103>0),A103,IF(AND(A103="PL1380",C103>0),A103,IF(AND(A103="LI8100",C103<0),A103,IF(AND(A103="LI8140",C103<0),A103,IF(AND(A103="PL1120",C103<0),A103,IF(AND(A103="PL1355",C103<0),A103,IF(AND(A103="PL1385",C103<0),A103,VLOOKUP(A103,'[1]TAB CONV SIGNE VECTOR'!A:C,3,FALSE)))))))))))) -> PL1385 | E103: =IF(AND(D103="as7100",C103>0),ROUND(C103/1000,0),IF(AND(D103="as7140",C103>0),ROUND(C103/1000,0),IF(AND(D103="pl1120",C103<0),-ROUND(C103/1000,0),IF(AND(D103="pl1125",C103>0),-ROUND(C103/1000,0),IF(AND(D103="pl1315",C103<0),ROUND(C103/1000,0),IF((D103="pl1340"),-ROUND(C103/1000,0),IF(AND(D103="pl1355",C103<0),-ROUND(C103/1000,0),IF(AND(D103="pl1320",C103>0),ROUND(C103/1000,0),IF(AND(D103="pl1380",C103>0),-ROUND(C103/1000,0),IF(AND(D103="pl1385",C103<0),-ROUND(C103/1000,0),IF(AND(D103="li8100",C103<0),-ROUND(C103/1000,0),IF(AND(D103="li8140",C103<0),-ROUND(C103/1000,0),IF(AND(D103="pl1120",C103<0),ROUND(C103/1000,0),IF(AND(D103="pl1355",C103<0),ROUND(C103/1000,0),IF(AND(D103="pl1385",C103<0),ROUND(C103/1000,0),IF((D103="pl1340"),ROUND(C103/1000,0),IF((D103="pl2275"),-ROUND(C103/1000,0),-ROUND(C103/1000,0)))))))))))))))))) -> 6742 | F103: =IF(ISERROR(VLOOKUP(B103,'[1]TAB CONV SIGNE VECTOR'!J:K,2,FALSE)),'[1]TEST FORM'!B103,VLOOKUP(B103,'[1]TAB CONV SIGNE VECTOR'!J:K,2,FALSE)) -> SU297
A104: PL1385 | B104: S0309 | C104: -2943000 | D104: =IF(AND(A104="as7100",C104>0),A104,IF(AND(A104="as7140",C104>0),A104,IF(AND(A104="PL1125",C104>0),A104,IF(AND(A104="PL1315",C104>0),A104,IF(AND(A104="PL1320",C104>0),A104,IF(AND(A104="PL1380",C104>0),A104,IF(AND(A104="LI8100",C104<0),A104,IF(AND(A104="LI8140",C104<0),A104,IF(AND(A104="PL1120",C104<0),A104,IF(AND(A104="PL1355",C104<0),A104,IF(AND(A104="PL1385",C104<0),A104,VLOOKUP(A104,'[1]TAB CONV SIGNE VECTOR'!A:C,3,FALSE)))))))))))) -> PL1385 | E104: =IF(AND(D104="as7100",C104>0),ROUND(C104/1000,0),IF(AND(D104="as7140",C104>0),ROUND(C104/1000,0),IF(AND(D104="pl1120",C104<0),-ROUND(C104/1000,0),IF(AND(D104="pl1125",C104>0),-ROUND(C104/1000,0),IF(AND(D104="pl1315",C104<0),ROUND(C104/1000,0),IF((D104="pl1340"),-ROUND(C104/1000,0),IF(AND(D104="pl1355",C104<0),-ROUND(C104/1000,0),IF(AND(D104="pl1320",C104>0),ROUND(C104/1000,0),IF(AND(D104="pl1380",C104>0),-ROUND(C104/1000,0),IF(AND(D104="pl1385",C104<0),-ROUND(C104/1000,0),IF(AND(D104="li8100",C104<0),-ROUND(C104/1000,0),IF(AND(D104="li8140",C104<0),-ROUND(C104/1000,0),IF(AND(D104="pl1120",C104<0),ROUND(C104/1000,0),IF(AND(D104="pl1355",C104<0),ROUND(C104/1000,0),IF(AND(D104="pl1385",C104<0),ROUND(C104/1000,0),IF((D104="pl1340"),ROUND(C104/1000,0),IF((D104="pl2275"),-ROUND(C104/1000,0),-ROUND(C104/1000,0)))))))))))))))))) -> 2943 | F104: =IF(ISERROR(VLOOKUP(B104,'[1]TAB CONV SIGNE VECTOR'!J:K,2,FALSE)),'[1]TEST FORM'!B104,VLOOKUP(B104,'[1]TAB CONV SIGNE VECTOR'!J:K,2,FALSE)) -> SU306
A105: PL1385 | B105: S9095 | C105: -1750000 | D105: =IF(AND(A105="as7100",C105>0),A105,IF(AND(A105="as7140",C105>0),A105,IF(AND(A105="PL1125",C105>0),A105,IF(AND(A105="PL1315",C105>0),A105,IF(AND(A105="PL1320",C105>0),A105,IF(AND(A105="PL1380",C105>0),A105,IF(AND(A105="LI8100",C105<0),A105,IF(AND(A105="LI8140",C105<0),A105,IF(AND(A105="PL1120",C105<0),A105,IF(AND(A105="PL1355",C105<0),A105,IF(AND(A105="PL1385",C105<0),A105,VLOOKUP(A105,'[1]TAB CONV SIGNE VECTOR'!A:C,3,FALSE)))))))))))) -> PL1385 | E105: =IF(AND(D105="as7100",C105>0),ROUND(C105/1000,0),IF(AND(D105="as7140",C105>0),ROUND(C105/1000,0),IF(AND(D105="pl1120",C105<0),-ROUND(C105/1000,0),IF(AND(D105="pl1125",C105>0),-ROUND(C105/1000,0),IF(AND(D105="pl1315",C105<0),ROUND(C105/1000,0),IF((D105="pl1340"),-ROUND(C105/1000,0),IF(AND(D105="pl1355",C105<0),-ROUND(C105/1000,0),IF(AND(D105="pl1320",C105>0),ROUND(C105/1000,0),IF(AND(D105="pl1380",C105>0),-ROUND(C105/1000,0),IF(AND(D105="pl1385",C105<0),-ROUND(C105/1000,0),IF(AND(D105="li8100",C105<0),-ROUND(C105/1000,0),IF(AND(D105="li8140",C105<0),-ROUND(C105/1000,0),IF(AND(D105="pl1120",C105<0),ROUND(C105/1000,0),IF(AND(D105="pl1355",C105<0),ROUND(C105/1000,0),IF(AND(D105="pl1385",C105<0),ROUND(C105/1000,0),IF((D105="pl1340"),ROUND(C105/1000,0),IF((D105="pl2275"),-ROUND(C105/1000,0),-ROUND(C105/1000,0)))))))))))))))))) -> 1750 | F105: =IF(ISERROR(VLOOKUP(B105,'[1]TAB CONV SIGNE VECTOR'!J:K,2,FALSE)),'[1]TEST FORM'!B105,VLOOKUP(B105,'[1]TAB CONV SIGNE VECTOR'!J:K,2,FALSE)) -> SU3100
A106: PL1385 | B106: SA024 | C106: 865683 | D106: =IF(AND(A106="as7100",C106>0),A106,IF(AND(A106="as7140",C106>0),A106,IF(AND(A106="PL1125",C106>0),A106,IF(AND(A106="PL1315",C106>0),A106,IF(AND(A106="PL1320",C106>0),A106,IF(AND(A106="PL1380",C106>0),A106,IF(AND(A106="LI8100",C106<0),A106,IF(AND(A106="LI8140",C106<0),A106,IF(AND(A106="PL1120",C106<0),A106,IF(AND(A106="PL1355",C106<0),A106,IF(AND(A106="PL1385",C106<0),A106,VLOOKUP(A106,'[1]TAB CONV SIGNE VECTOR'!A:C,3,FALSE)))))))))))) -> PL1380 | E106: =IF(AND(D106="as7100",C106>0),ROUND(C106/1000,0),IF(AND(D106="as7140",C106>0),ROUND(C106/1000,0),IF(AND(D106="pl1120",C106<0),-ROUND(C106/1000,0),IF(AND(D106="pl1125",C106>0),-ROUND(C106/1000,0),IF(AND(D106="pl1315",C106<0),ROUND(C106/1000,0),IF((D106="pl1340"),-ROUND(C106/1000,0),IF(AND(D106="pl1355",C106<0),-ROUND(C106/1000,0),IF(AND(D106="pl1320",C106>0),ROUND(C106/1000,0),IF(AND(D106="pl1380",C106>0),-ROUND(C106/1000,0),IF(AND(D106="pl1385",C106<0),-ROUND(C106/1000,0),IF(AND(D106="li8100",C106<0),-ROUND(C106/1000,0),IF(AND(D106="li8140",C106<0),-ROUND(C106/1000,0),IF(AND(D106="pl1120",C106<0),ROUND(C106/1000,0),IF(AND(D106="pl1355",C106<0),ROUND(C106/1000,0),IF(AND(D106="pl1385",C106<0),ROUND(C106/1000,0),IF((D106="pl1340"),ROUND(C106/1000,0),IF((D106="pl2275"),-ROUND(C106/1000,0),-ROUND(C106/1000,0)))))))))))))))))) -> -866 | F106: =IF(ISERROR(VLOOKUP(B106,'[1]TAB CONV SIGNE VECTOR'!J:K,2,FALSE)),'[1]TEST FORM'!B106,VLOOKUP(B106,'[1]TAB CONV SIGNE VECTOR'!J:K,2,FALSE)) -> SU339
A107: PL1385 | B107: SX332 | C107: -2265714.6 | D107: =IF(AND(A107="as7100",C107>0),A107,IF(AND(A107="as7140",C107>0),A107,IF(AND(A107="PL1125",C107>0),A107,IF(AND(A107="PL1315",C107>0),A107,IF(AND(A107="PL1320",C107>0),A107,IF(AND(A107="PL1380",C107>0),A107,IF(AND(A107="LI8100",C107<0),A107,IF(AND(A107="LI8140",C107<0),A107,IF(AND(A107="PL1120",C107<0),A107,IF(AND(A107="PL1355",C107<0),A107,IF(AND(A107="PL1385",C107<0),A107,VLOOKUP(A107,'[1]TAB CONV SIGNE VECTOR'!A:C,3,FALSE)))))))))))) -> PL1385 | E107: =IF(AND(D107="as7100",C107>0),ROUND(C107/1000,0),IF(AND(D107="as7140",C107>0),ROUND(C107/1000,0),IF(AND(D107="pl1120",C107<0),-ROUND(C107/1000,0),IF(AND(D107="pl1125",C107>0),-ROUND(C107/1000,0),IF(AND(D107="pl1315",C107<0),ROUND(C107/1000,0),IF((D107="pl1340"),-ROUND(C107/1000,0),IF(AND(D107="pl1355",C107<0),-ROUND(C107/1000,0),IF(AND(D107="pl1320",C107>0),ROUND(C107/1000,0),IF(AND(D107="pl1380",C107>0),-ROUND(C107/1000,0),IF(AND(D107="pl1385",C107<0),-ROUND(C107/1000,0),IF(AND(D107="li8100",C107<0),-ROUND(C107/1000,0),IF(AND(D107="li8140",C107<0),-ROUND(C107/1000,0),IF(AND(D107="pl1120",C107<0),ROUND(C107/1000,0),IF(AND(D107="pl1355",C107<0),ROUND(C107/1000,0),IF(AND(D107="pl1385",C107<0),ROUND(C107/1000,0),IF((D107="pl1340"),ROUND(C107/1000,0),IF((D107="pl2275"),-ROUND(C107/1000,0),-ROUND(C107/1000,0)))))))))))))))))) -> 2266 | F107: =IF(ISERROR(VLOOKUP(B107,'[1]TAB CONV SIGNE VECTOR'!J:K,2,FALSE)),'[1]TEST FORM'!B107,VLOOKUP(B107,'[1]TAB CONV SIGNE VECTOR'!J:K,2,FALSE)) -> SU397
A108: PL1385 | B108: SX385 | C108: -3086485.1 | D108: =IF(AND(A108="as7100",C108>0),A108,IF(AND(A108="as7140",C108>0),A108,IF(AND(A108="PL1125",C108>0),A108,IF(AND(A108="PL1315",C108>0),A108,IF(AND(A108="PL1320",C108>0),A108,IF(AND(A108="PL1380",C108>0),A108,IF(AND(A108="LI8100",C108<0),A108,IF(AND(A108="LI8140",C108<0),A108,IF(AND(A108="PL1120",C108<0),A108,IF(AND(A108="PL1355",C108<0),A108,IF(AND(A108="PL1385",C108<0),A108,VLOOKUP(A108,'[1]TAB CONV SIGNE VECTOR'!A:C,3,FALSE)))))))))))) -> PL1385 | E108: =IF(AND(D108="as7100",C108>0),ROUND(C108/1000,0),IF(AND(D108="as7140",C108>0),ROUND(C108/1000,0),IF(AND(D108="pl1120",C108<0),-ROUND(C108/1000,0),IF(AND(D108="pl1125",C108>0),-ROUND(C108/1000,0),IF(AND(D108="pl1315",C108<0),ROUND(C108/1000,0),IF((D108="pl1340"),-ROUND(C108/1000,0),IF(AND(D108="pl1355",C108<0),-ROUND(C108/1000,0),IF(AND(D108="pl1320",C108>0),ROUND(C108/1000,0),IF(AND(D108="pl1380",C108>0),-ROUND(C108/1000,0),IF(AND(D108="pl1385",C108<0),-ROUND(C108/1000,0),IF(AND(D108="li8100",C108<0),-ROUND(C108/1000,0),IF(AND(D108="li8140",C108<0),-ROUND(C108/1000,0),IF(AND(D108="pl1120",C108<0),ROUND(C108/1000,0),IF(AND(D108="pl1355",C108<0),ROUND(C108/1000,0),IF(AND(D108="pl1385",C108<0),ROUND(C108/1000,0),IF((D108="pl1340"),ROUND(C108/1000,0),IF((D108="pl2275"),-ROUND(C108/1000,0),-ROUND(C108/1000,0)))))))))))))))))) -> 3086 | F108: =IF(ISERROR(VLOOKUP(B108,'[1]TAB CONV SIGNE VECTOR'!J:K,2,FALSE)),'[1]TEST FORM'!B108,VLOOKUP(B108,'[1]TAB CONV SIGNE VECTOR'!J:K,2,FALSE)) -> SU400
A109: PL1385 | B109: SX400 | C109: -1980174 | D109: =IF(AND(A109="as7100",C109>0),A109,IF(AND(A109="as7140",C109>0),A109,IF(AND(A109="PL1125",C109>0),A109,IF(AND(A109="PL1315",C109>0),A109,IF(AND(A109="PL1320",C109>0),A109,IF(AND(A109="PL1380",C109>0),A109,IF(AND(A109="LI8100",C109<0),A109,IF(AND(A109="LI8140",C109<0),A109,IF(AND(A109="PL1120",C109<0),A109,IF(AND(A109="PL1355",C109<0),A109,IF(AND(A109="PL1385",C109<0),A109,VLOOKUP(A109,'[1]TAB CONV SIGNE VECTOR'!A:C,3,FALSE)))))))))))) -> PL1385 | E109: =IF(AND(D109="as7100",C109>0),ROUND(C109/1000,0),IF(AND(D109="as7140",C109>0),ROUND(C109/1000,0),IF(AND(D109="pl1120",C109<0),-ROUND(C109/1000,0),IF(AND(D109="pl1125",C109>0),-ROUND(C109/1000,0),IF(AND(D109="pl1315",C109<0),ROUND(C109/1000,0),IF((D109="pl1340"),-ROUND(C109/1000,0),IF(AND(D109="pl1355",C109<0),-ROUND(C109/1000,0),IF(AND(D109="pl1320",C109>0),ROUND(C109/1000,0),IF(AND(D109="pl1380",C109>0),-ROUND(C109/1000,0),IF(AND(D109="pl1385",C109<0),-ROUND(C109/1000,0),IF(AND(D109="li8100",C109<0),-ROUND(C109/1000,0),IF(AND(D109="li8140",C109<0),-ROUND(C109/1000,0),IF(AND(D109="pl1120",C109<0),ROUND(C109/1000,0),IF(AND(D109="pl1355",C109<0),ROUND(C109/1000,0),IF(AND(D109="pl1385",C109<0),ROUND(C109/1000,0),IF((D109="pl1340"),ROUND(C109/1000,0),IF((D109="pl2275"),-ROUND(C109/1000,0),-ROUND(C109/1000,0)))))))))))))))))) -> 1980 | F109: =IF(ISERROR(VLOOKUP(B109,'[1]TAB CONV SIGNE VECTOR'!J:K,2,FALSE)),'[1]TEST FORM'!B109,VLOOKUP(B109,'[1]TAB CONV SIGNE VECTOR'!J:K,2,FALSE)) -> SU406
A110: PL1385 | B110: SX600 | C110: -12059.71 | D110: =IF(AND(A110="as7100",C110>0),A110,IF(AND(A110="as7140",C110>0),A110,IF(AND(A110="PL1125",C110>0),A110,IF(AND(A110="PL1315",C110>0),A110,IF(AND(A110="PL1320",C110>0),A110,IF(AND(A110="PL1380",C110>0),A110,IF(AND(A110="LI8100",C110<0),A110,IF(AND(A110="LI8140",C110<0),A110,IF(AND(A110="PL1120",C110<0),A110,IF(AND(A110="PL1355",C110<0),A110,IF(AND(A110="PL1385",C110<0),A110,VLOOKUP(A110,'[1]TAB CONV SIGNE VECTOR'!A:C,3,FALSE)))))))))))) -> PL1385 | E110: =IF(AND(D110="as7100",C110>0),ROUND(C110/1000,0),IF(AND(D110="as7140",C110>0),ROUND(C110/1000,0),IF(AND(D110="pl1120",C110<0),-ROUND(C110/1000,0),IF(AND(D110="pl1125",C110>0),-ROUND(C110/1000,0),IF(AND(D110="pl1315",C110<0),ROUND(C110/1000,0),IF((D110="pl1340"),-ROUND(C110/1000,0),IF(AND(D110="pl1355",C110<0),-ROUND(C110/1000,0),IF(AND(D110="pl1320",C110>0),ROUND(C110/1000,0),IF(AND(D110="pl1380",C110>0),-ROUND(C110/1000,0),IF(AND(D110="pl1385",C110<0),-ROUND(C110/1000,0),IF(AND(D110="li8100",C110<0),-ROUND(C110/1000,0),IF(AND(D110="li8140",C110<0),-ROUND(C110/1000,0),IF(AND(D110="pl1120",C110<0),ROUND(C110/1000,0),IF(AND(D110="pl1355",C110<0),ROUND(C110/1000,0),IF(AND(D110="pl1385",C110<0),ROUND(C110/1000,0),IF((D110="pl1340"),ROUND(C110/1000,0),IF((D110="pl2275"),-ROUND(C110/1000,0),-ROUND(C110/1000,0)))))))))))))))))) -> 12 | F110: =IF(ISERROR(VLOOKUP(B110,'[1]TAB CONV SIGNE VECTOR'!J:K,2,FALSE)),'[1]TEST FORM'!B110,VLOOKUP(B110,'[1]TAB CONV SIGNE VECTOR'!J:K,2,FALSE)) -> SU423
A111: PL1385 | B111: ZSX370 | C111: -31320.98 | D111: =IF(AND(A111="as7100",C111>0),A111,IF(AND(A111="as7140",C111>0),A111,IF(AND(A111="PL1125",C111>0),A111,IF(AND(A111="PL1315",C111>0),A111,IF(AND(A111="PL1320",C111>0),A111,IF(AND(A111="PL1380",C111>0),A111,IF(AND(A111="LI8100",C111<0),A111,IF(AND(A111="LI8140",C111<0),A111,IF(AND(A111="PL1120",C111<0),A111,IF(AND(A111="PL1355",C111<0),A111,IF(AND(A111="PL1385",C111<0),A111,VLOOKUP(A111,'[1]TAB CONV SIGNE VECTOR'!A:C,3,FALSE)))))))))))) -> PL1385 | E111: =IF(AND(D111="as7100",C111>0),ROUND(C111/1000,0),IF(AND(D111="as7140",C111>0),ROUND(C111/1000,0),IF(AND(D111="pl1120",C111<0),-ROUND(C111/1000,0),IF(AND(D111="pl1125",C111>0),-ROUND(C111/1000,0),IF(AND(D111="pl1315",C111<0),ROUND(C111/1000,0),IF((D111="pl1340"),-ROUND(C111/1000,0),IF(AND(D111="pl1355",C111<0),-ROUND(C111/1000,0),IF(AND(D111="pl1320",C111>0),ROUND(C111/1000,0),IF(AND(D111="pl1380",C111>0),-ROUND(C111/1000,0),IF(AND(D111="pl1385",C111<0),-ROUND(C111/1000,0),IF(AND(D111="li8100",C111<0),-ROUND(C111/1000,0),IF(AND(D111="li8140",C111<0),-ROUND(C111/1000,0),IF(AND(D111="pl1120",C111<0),ROUND(C111/1000,0),IF(AND(D111="pl1355",C111<0),ROUND(C111/1000,0),IF(AND(D111="pl1385",C111<0),ROUND(C111/1000,0),IF((D111="pl1340"),ROUND(C111/1000,0),IF((D111="pl2275"),-ROUND(C111/1000,0),-ROUND(C111/1000,0)))))))))))))))))) -> 31 | F111: =IF(ISERROR(VLOOKUP(B111,'[1]TAB CONV SIGNE VECTOR'!J:K,2,FALSE)),'[1]TEST FORM'!B111,VLOOKUP(B111,'[1]TAB CONV SIGNE VECTOR'!J:K,2,FALSE)) -> SU433
A112: PL2220 | B112: SX014 | C112: -208783.66 | D112: =IF(AND(A112="as7100",C112>0),A112,IF(AND(A112="as7140",C112>0),A112,IF(AND(A112="PL1125",C112>0),A112,IF(AND(A112="PL1315",C112>0),A112,IF(AND(A112="PL1320",C112>0),A112,IF(AND(A112="PL1380",C112>0),A112,IF(AND(A112="LI8100",C112<0),A112,IF(AND(A112="LI8140",C112<0),A112,IF(AND(A112="PL1120",C112<0),A112,IF(AND(A112="PL1355",C112<0),A112,IF(AND(A112="PL1385",C112<0),A112,VLOOKUP(A112,'[1]TAB CONV SIGNE VECTOR'!A:C,3,FALSE)))))))))))) -> PL2220 | E112: =IF(AND(D112="as7100",C112>0),ROUND(C112/1000,0),IF(AND(D112="as7140",C112>0),ROUND(C112/1000,0),IF(AND(D112="pl1120",C112<0),-ROUND(C112/1000,0),IF(AND(D112="pl1125",C112>0),-ROUND(C112/1000,0),IF(AND(D112="pl1315",C112<0),ROUND(C112/1000,0),IF((D112="pl1340"),-ROUND(C112/1000,0),IF(AND(D112="pl1355",C112<0),-ROUND(C112/1000,0),IF(AND(D112="pl1320",C112>0),ROUND(C112/1000,0),IF(AND(D112="pl1380",C112>0),-ROUND(C112/1000,0),IF(AND(D112="pl1385",C112<0),-ROUND(C112/1000,0),IF(AND(D112="li8100",C112<0),-ROUND(C112/1000,0),IF(AND(D112="li8140",C112<0),-ROUND(C112/1000,0),IF(AND(D112="pl1120",C112<0),ROUND(C112/1000,0),IF(AND(D112="pl1355",C112<0),ROUND(C112/1000,0),IF(AND(D112="pl1385",C112<0),ROUND(C112/1000,0),IF((D112="pl1340"),ROUND(C112/1000,0),IF((D112="pl2275"),-ROUND(C112/1000,0),-ROUND(C112/1000,0)))))))))))))))))) -> 209 | F112: =IF(ISERROR(VLOOKUP(B112,'[1]TAB CONV SIGNE VECTOR'!J:K,2,FALSE)),'[1]TEST FORM'!B112,VLOOKUP(B112,'[1]TAB CONV SIGNE VECTOR'!J:K,2,FALSE)) -> SU556
A113: PL2275 | B113: SU296 | C113: 2089228.9 | D113: =IF(AND(A113="as7100",C113>0),A113,IF(AND(A113="as7140",C113>0),A113,IF(AND(A113="PL1125",C113>0),A113,IF(AND(A113="PL1315",C113>0),A113,IF(AND(A113="PL1320",C113>0),A113,IF(AND(A113="PL1380",C113>0),A113,IF(AND(A113="LI8100",C113<0),A113,IF(AND(A113="LI8140",C113<0),A113,IF(AND(A113="PL1120",C113<0),A113,IF(AND(A113="PL1355",C113<0),A113,IF(AND(A113="PL1385",C113<0),A113,VLOOKUP(A113,'[1]TAB CONV SIGNE VECTOR'!A:C,3,FALSE)))))))))))) -> PL2275 | E113: =IF(AND(D113="as7100",C113>0),ROUND(C113/1000,0),IF(AND(D113="as7140",C113>0),ROUND(C113/1000,0),IF(AND(D113="pl1120",C113<0),-ROUND(C113/1000,0),IF(AND(D113="pl1125",C113>0),-ROUND(C113/1000,0),IF(AND(D113="pl1315",C113<0),ROUND(C113/1000,0),IF((D113="pl1340"),-ROUND(C113/1000,0),IF(AND(D113="pl1355",C113<0),-ROUND(C113/1000,0),IF(AND(D113="pl1320",C113>0),ROUND(C113/1000,0),IF(AND(D113="pl1380",C113>0),-ROUND(C113/1000,0),IF(AND(D113="pl1385",C113<0),-ROUND(C113/1000,0),IF(AND(D113="li8100",C113<0),-ROUND(C113/1000,0),IF(AND(D113="li8140",C113<0),-ROUND(C113/1000,0),IF(AND(D113="pl1120",C113<0),ROUND(C113/1000,0),IF(AND(D113="pl1355",C113<0),ROUND(C113/1000,0),IF(AND(D113="pl1385",C113<0),ROUND(C113/1000,0),IF((D113="pl1340"),ROUND(C113/1000,0),IF((D113="pl2275"),-ROUND(C113/1000,0),-ROUND(C113/1000,0)))))))))))))))))) -> -2089 | F113: =IF(ISERROR(VLOOKUP(B113,'[1]TAB CONV SIGNE VECTOR'!J:K,2,FALSE)),'[1]TEST FORM'!B113,VLOOKUP(B113,'[1]TAB CONV SIGNE VECTOR'!J:K,2,FALSE)) -> SU715
A114: PL4020 | C114: 183000 | D114: =IF(AND(A114="as7100",C114>0),A114,IF(AND(A114="as7140",C114>0),A114,IF(AND(A114="PL1125",C114>0),A114,IF(AND(A114="PL1315",C114>0),A114,IF(AND(A114="PL1320",C114>0),A114,IF(AND(A114="PL1380",C114>0),A114,IF(AND(A114="LI8100",C114<0),A114,IF(AND(A114="LI8140",C114<0),A114,IF(AND(A114="PL1120",C114<0),A114,IF(AND(A114="PL1355",C114<0),A114,IF(AND(A114="PL1385",C114<0),A114,VLOOKUP(A114,'[1]TAB CONV SIGNE VECTOR'!A:C,3,FALSE)))))))))))) -> PL4020 | E114: =IF(AND(D114="as7100",C114>0),ROUND(C114/1000,0),IF(AND(D114="as7140",C114>0),ROUND(C114/1000,0),IF(AND(D114="pl1120",C114<0),-ROUND(C114/1000,0),IF(AND(D114="pl1125",C114>0),-ROUND(C114/1000,0),IF(AND(D114="pl1315",C114<0),ROUND(C114/1000,0),IF((D114="pl1340"),-ROUND(C114/1000,0),IF(AND(D114="pl1355",C114<0),-ROUND(C114/1000,0),IF(AND(D114="pl1320",C114>0),ROUND(C114/1000,0),IF(AND(D114="pl1380",C114>0),-ROUND(C114/1000,0),IF(AND(D114="pl1385",C114<0),-ROUND(C114/1000,0),IF(AND(D114="li8100",C114<0),-ROUND(C114/1000,0),IF(AND(D114="li8140",C114<0),-ROUND(C114/1000,0),IF(AND(D114="pl1120",C114<0),ROUND(C114/1000,0),IF(AND(D114="pl1355",C114<0),ROUND(C114/1000,0),IF(AND(D114="pl1385",C114<0),ROUND(C114/1000,0),IF((D114="pl1340"),ROUND(C114/1000,0),IF((D114="pl2275"),-ROUND(C114/1000,0),-ROUND(C114/1000,0)))))))))))))))))) -> -183 | F114: =IF(ISERROR(VLOOKUP(B114,'[1]TAB CONV SIGNE VECTOR'!J:K,2,FALSE)),'[1]TEST FORM'!B114,VLOOKUP(B114,'[1]TAB CONV SIGNE VECTOR'!J:K,2,FALSE)) -> SU723
A115: Total PL4020 | C115: 183000 | D115: =IF(AND(A115="as7100",C115>0),A115,IF(AND(A115="as7140",C115>0),A115,IF(AND(A115="PL1125",C115>0),A115,IF(AND(A115="PL1315",C115>0),A115,IF(AND(A115="PL1320",C115>0),A115,IF(AND(A115="PL1380",C115>0),A115,IF(AND(A115="LI8100",C115<0),A115,IF(AND(A115="LI8140",C115<0),A115,IF(AND(A115="PL1120",C115<0),A115,IF(AND(A115="PL1355",C115<0),A115,IF(AND(A115="PL1385",C115<0),A115,VLOOKUP(A115,'[1]TAB CONV SIGNE VECTOR'!A:C,3,FALSE)))))))))))) -> #N/A | E115: =IF(AND(D115="as7100",C115>0),ROUND(C115/1000,0),IF(AND(D115="as7140",C115>0),ROUND(C115/1000,0),IF(AND(D115="pl1120",C115<0),-ROUND(C115/1000,0),IF(AND(D115="pl1125",C115>0),-ROUND(C115/1000,0),IF(AND(D115="pl1315",C115<0),ROUND(C115/1000,0),IF((D115="pl1340"),-ROUND(C115/1000,0),IF(AND(D115="pl1355",C115<0),-ROUND(C115/1000,0),IF(AND(D115="pl1320",C115>0),ROUND(C115/1000,0),IF(AND(D115="pl1380",C115>0),-ROUND(C115/1000,0),IF(AND(D115="pl1385",C115<0),-ROUND(C115/1000,0),IF(AND(D115="li8100",C115<0),-ROUND(C115/1000,0),IF(AND(D115="li8140",C115<0),-ROUND(C115/1000,0),IF(AND(D115="pl1120",C115<0),ROUND(C115/1000,0),IF(AND(D115="pl1355",C115<0),ROUND(C115/1000,0),IF(AND(D115="pl1385",C115<0),ROUND(C115/1000,0),IF((D115="pl1340"),ROUND(C115/1000,0),IF((D115="pl2275"),-ROUND(C115/1000,0),-ROUND(C115/1000,0)))))))))))))))))) -> #N/A | F115: =IF(ISERROR(VLOOKUP(B115,'[1]TAB CONV SIGNE VECTOR'!J:K,2,FALSE)),'[1]TEST FORM'!B115,VLOOKUP(B115,'[1]TAB CONV SIGNE VECTOR'!J:K,2,FALSE)) -> SU730

Sheet FEUILB
A1: D_CA | B1: D_DP | C1: D_PE | D1: D_RU | E1: D_AC | F1: D_FL | G1: D_CU | H1: D_PS | I1: P_AMOUNT | J1: D_AU
A2: ACTUAL | B2: 2015.07 | C2: 2015.07 | D2: S2000 | E2: AS7100 | F2: F99 | G2: EURO | H2: 0 | I2: 43190 | J2: 0LOC01
A3: ACTUAL | B3: 2015.07 | C3: 2015.07 | D3: S2000 | E3: AS7100 | F3: F99 | G3: EURO | H3: S0002 | I3: 13170 | J3: 0LOC01
A4: ACTUAL | B4: 2015.07 | C4: 2015.07 | D4: S2000 | E4: AS7100 | F4: F99 | G4: EURO | H4: S0005 | I4: 14019 | J4: 0LOC01
A5: ACTUAL | B5: 2015.07 | C5: 2015.07 | D5: S2000 | E5: AS7100 | F5: F99 | G5: EURO | H5: S0024 | I5: 234 | J5: 0LOC01
A6: ACTUAL | B6: 2015.07 | C6: 2015.07 | D6: S2000 | E6: AS7100 | F6: F99 | G6: EURO | H6: SX326 | I6: 42 | J6: 0LOC01
A7: ACTUAL | B7: 2015.07 | C7: 2015.07 | D7: S2000 | E7: AS7100 | F7: F99 | G7: EURO | H7: SX327P | I7: 71 | J7: 0LOC01
A8: ACTUAL | B8: 2015.07 | C8: 2015.07 | D8: S2000 | E8: AS7100 | F8: F99 | G8: EURO | H8: SX328 | I8: 831 | J8: 0LOC01
A9: ACTUAL | B9: 2015.07 | C9: 2015.07 | D9: S2000 | E9: AS7100 | F9: F99 | G9: EURO | H9: SX332 | I9: 5149 | J9: 0LOC01
A10: ACTUAL | B10: 2015.07 | C10: 2015.07 | D10: S2000 | E10: AS7100 | F10: F99 | G10: EURO | H10: SX334 | I10: 2316 | J10: 0LOC01
A11: ACTUAL | B11: 2015.07 | C11: 2015.07 | D11: S2000 | E11: AS7100 | F11: F99 | G11: EURO | H11: SX345 | I11: 24 | J11: 0LOC01
A12: ACTUAL | B12: 2015.07 | C12: 2015.07 | D12: S2000 | E12: AS7100 | F12: F99 | G12: EURO | H12: SX360CP | I12: 1 | J12: 0LOC01
A13: ACTUAL | B13: 2015.07 | C13: 2015.07 | D13: S2000 | E13: AS7100 | F13: F99 | G13: EURO | H13: SX371 | I13: 12 | J13: 0LOC01
A14: ACTUAL | B14: 2015.07 | C14: 2015.07 | D14: S2000 | E14: AS7100 | F14: F99 | G14: EURO | H14: SX385 | I14: 7281 | J14: 0LOC01
... A23: ACTUAL | B23: 2015.07 | C23: 2015.07 | D23: S2000 | E23: AS7100 | F23: F99 | G23: EURO | H23: ZSX324P | I23: 133 | J23: 0LOC01
A24: ACTUAL | B24: 2015.07 | C24: 2015.07 | D24: S2000 | E24: AS7140 | F24: F99 | G24: EURO | I24: 17592 | J24: 0LOC01
A25: ACTUAL | B25: 2015.07 | C25: 2015.07 | D25: S2000 | E25: AS7140 | F25: F99 | G25: EURO | I25: 1263896 | J25: 0LOC01
A26: ACTUAL | B26: 2015.07 | C26: 2015.07 | D26: S2000 | E26: LI8140 | F26: F99 | G26: EURO | H26: S0002 | I26: 6577 | J26: 0LOC01
A27: ACTUAL | B27: 2015.07 | C27: 2015.07 | D27: S2000 | E27: LI8140 | F27: F99 | G27: EURO | H27: S0005 | I27: 0 | J27: 0LOC01
A28: ACTUAL | B28: 2015.07 | C28: 2015.07 | D28: S2000 | E28: AS7140 | F28: F99 | G28: EURO | H28: S0191 | I28: 1 | J28: 0LOC01
A29: ACTUAL | B29: 2015.07 | C29: 2015.07 | D29: S2000 | E29: AS7140 | F29: F99 | G29: EURO | H29: S0204 | I29: 17 | J29: 0LOC01
A30: ACTUAL | B30: 2015.07 | C30: 2015.07 | D30: S2000 | E30: AS7140 | F30: F99 | G30: EURO | H30: S0208 | I30: 428 | J30: 0LOC01
A31: ACTUAL | B31: 2015.07 | C31: 2015.07 | D31: S2000 | E31: AS7140 | F31: F99 | G31: EURO | H31: S0226 | I31: 617 | J31: 0LOC01
A32: ACTUAL | B32: 2015.07 | C32: 2015.07 | D32: S2000 | E32: AS7140 | F32: F99 | G32: EURO | H32: S0228 | I32: 2864 | J32: 0LOC01
A33: ACTUAL | B33: 2015.07 | C33: 2015.07 | D33: S2000 | E33: LI8140 | F33: F99 | G33: EURO | H33: SD095 | I33: 2 | J33: 0LOC01
A34: ACTUAL | B34: 2015.07 | C34: 2015.07 | D34: S2000 | E34: LI8140 | F34: F99 | G34: EURO | H34: SD096 | I34: 0 | J34: 0LOC01
A35: ACTUAL | B35: 2015.07 | C35: 2015.07 | D35: S2000 | E35: LI8140 | F35: F99 | G35: EURO | H35: SD097 | I35: 0 | J35: 0LOC01
A36: ACTUAL | B36: 2015.07 | C36: 2015.07 | D36: S2000 | E36: LI8140 | F36: F99 | G36: EURO | H36: SD199 | I36: 234 | J36: 0LOC01
A37: ACTUAL | B37: 2015.07 | C37: 2015.07 | D37: S2000 | E37: LI8140 | F37: F99 | G37: EURO | H37: SD245 | I37: 0 | J37: 0LOC01
A38: ACTUAL | B38: 2015.07 | C38: 2015.07 | D38: S2000 | E38: LI8100 | F38: F99 | G38: EURO | I38: 23462 | J38: 0LOC01
A39: ACTUAL | B39: 2015.07 | C39: 2015.07 | D39: S2000 | E39: LI8100 | F39: F99 | G39: EURO | H39: S0002 | I39: 17590 | J39: 0LOC01
A40: ACTUAL | B40: 2015.07 | C40: 2015.07 | D40: S2000 | E40: LI8100 | F40: F99 | G40: EURO | H40: S0005 | I40: 232 | J40: 0LOC01
A41: ACTUAL | B41: 2015.07 | C41: 2015.07 | D41: S2000 | E41: LI8100 | F41: F99 | G41: EURO | H41: S0009 | I41: 10 | J41: 0LOC01
A42: ACTUAL | B42: 2015.07 | C42: 2015.07 | D42: S2000 | E42: AS7100 | F42: F99 | G42: EURO | H42: SL1060 | I42: 2 | J42: 0LOC01
A43: ACTUAL | B43: 2015.07 | C43: 2015.07 | D43: S2000 | E43: LI8100 | F43: F99 | G43: EURO | H43: SL431 | I43: 6 | J43: 0LOC01
A44: ACTUAL | B44: 2015.07 | C44: 2015.07 | D44: S2000 | E44: LI8100 | F44: F99 | G44: EURO | H44: SM001 | I44: 13 | J44: 0LOC01
A45: ACTUAL | B45: 2015.07 | C45: 2015.07 | D45: S2000 | E45: LI8100 | F45: F99 | G45: EURO | H45: SM053 | I45: 137 | J45: 0LOC01
A46: ACTUAL | B46: 2015.07 | C46: 2015.07 | D46: S2000 | E46: LI8100 | F46: F99 | G46: EURO | H46: SR023 | I46: 3 | J46: 0LOC01
A47: ACTUAL | B47: 2015.07 | C47: 2015.07 | D47: S2000 | E47: LI8100 | F47: F99 | G47: EURO | H47: SR112 | I47: 129 | J47: 0LOC01
A48: ACTUAL | B48: 2015.07 | C48: 2015.07 | D48: S2000 | E48: LI8100 | F48: F99 | G48: EURO | H48: SA316 | I48: 7 | J48: 0LOC01
A49: ACTUAL | B49: 2015.07 | C49: 2015.07 | D49: S2000 | E49: AS7100 | F49: F99 | G49: EURO | H49: YSD999 | I49: 0 | J49: 0LOC01
A50: ACTUAL | B50: 2015.07 | C50: 2015.07 | D50: S2000 | E50: AS7100 | F50: F99 | G50: EURO | H50: ZYSW043 | I50: 2 | J50: 0LOC01
... A52: ACTUAL | B52: 2015.07 | C52: 2015.07 | D52: S2000 | E52: AS7100 | F52: F99 | G52: EURO | H52: ZSV831 | I52: 0 | J52: 0LOC01
A53: ACTUAL | B53: 2015.07 | C53: 2015.07 | D53: S2000 | E53: LI8140 | F53: F99 | G53: EURO | I53: 66429 | J53: 0LOC01
A54: ACTUAL | B54: 2015.07 | C54: 2015.07 | D54: S2000 | E54: LI8140 | F54: F99 | G54: EURO | H54: S0002 | I54: 5027 | J54: 0LOC01
A55: ACTUAL | B55: 2015.07 | C55: 2015.07 | D55: S2000 | E55: LI8140 | F55: F99 | G55: EURO | H55: S0309 | I55: 297 | J55: 0LOC01
A56: ACTUAL | B56: 2015.07 | C56: 2015.07 | D56: S2000 | E56: LI8140 | F56: F99 | G56: EURO | H56: S0401 | I56: 1240 | J56: 0LOC01
A57: ACTUAL | B57: 2015.07 | C57: 2015.07 | D57: S2000 | E57: AS7140 | F57: F99 | G57: EURO | H57: S2206 | I57: 1 | J57: 0LOC01
A58: ACTUAL | B58: 2015.07 | C58: 2015.07 | D58: S2000 | E58: LI8140 | F58: F99 | G58: EURO | H58: SD493 | I58: 23 | J58: 0LOC01
A59: ACTUAL | B59: 2015.07 | C59: 2015.07 | D59: S2000 | E59: LI8140 | F59: F99 | G59: EURO | H59: SH001JV | I59: 31 | J59: 0LOC01
A60: ACTUAL | B60: 2015.07 | C60: 2015.07 | D60: S2000 | E60: LI8140 | F60: F99 | G60: EURO | H60: SK039EA | I60: 69 | J60: 0LOC01
A61: ACTUAL | B61: 2015.07 | C61: 2015.07 | D61: S2000 | E61: LI8140 | F61: F99 | G61: EURO | H61: SL397 | I61: 0 | J61: 0LOC01
A62: ACTUAL | B62: 2015.07 | C62: 2015.07 | D62: S2000 | E62: LI8140 | F62: F99 | G62: EURO | H62: SN001 | I62: 177 | J62: 0LOC01
A63: ACTUAL | B63: 2015.07 | C63: 2015.07 | D63: S2000 | E63: LI8140 | F63: F99 | G63: EURO | H63: SR130 | I63: 643 | J63: 0LOC01
A64: ACTUAL | B64: 2015.07 | C64: 2015.07 | D64: S2000 | E64: LI8140 | F64: F99 | G64: EURO | H64: SU106 | I64: 36 | J64: 0LOC01
A65: ACTUAL | B65: 2015.07 | C65: 2015.07 | D65: S2000 | E65: LI8140 | F65: F99 | G65: EURO | H65: SU306 | I65: 1214 | J65: 0LOC01
... A70: ACTUAL | B70: 2015.07 | C70: 2015.07 | D70: S2000 | E70: PL1125 | F70: F99 | G70: EURO | H70: SX004 | I70: -59721 | J70: 0LOC01
A71: ACTUAL | B71: 2015.07 | C71: 2015.07 | D71: S2000 | E71: PL1315 | F71: F99 | G71: EURO | I71: -47429 | J71: 0LOC01
A72: ACTUAL | B72: 2015.07 | C72: 2015.07 | D72: S2000 | E72: PL1315 | F72: F99 | G72: EURO | H72: S0002 | I72: -3435 | J72: 0LOC01
A73: ACTUAL | B73: 2015.07 | C73: 2015.07 | D73: S2000 | E73: PL1315 | F73: F99 | G73: EURO | H73: S0005 | I73: -245 | J73: 0LOC01
A74: ACTUAL | B74: 2015.07 | C74: 2015.07 | D74: S2000 | E74: PL1315 | F74: F99 | G74: EURO | H74: S0196 | I74: -20 | J74: 0LOC01
A75: ACTUAL | B75: 2015.07 | C75: 2015.07 | D75: S2000 | E75: PL1315 | F75: F99 | G75: EURO | H75: YS2166 | I75: -626 | J75: 0LOC01
A76: ACTUAL | B76: 2015.07 | C76: 2015.07 | D76: S2000 | E76: PL1315 | F76: F99 | G76: EURO | H76: YSD999 | I76: -197 | J76: 0LOC01
A77: ACTUAL | B77: 2015.07 | C77: 2015.07 | D77: S2000 | E77: PL1315 | F77: F99 | G77: EURO | H77: ZYSW043 | I77: -2 | J77: 0LOC01
A78: ACTUAL | B78: 2015.07 | C78: 2015.07 | D78: S2000 | E78: PL1355 | F78: F99 | G78: EURO | H78: ZSV831 | I78: 6 | J78: 0LOC01
A79: ACTUAL | B79: 2015.07 | C79: 2015.07 | D79: S2000 | E79: PL1340 | F79: F99 | G79: EURO | I79: -206 | J79: 0LOC01
A80: ACTUAL | B80: 2015.07 | C80: 2015.07 | D80: S2000 | E80: PL1355 | F80: F99 | G80: EURO | I80: 3294 | J80: 0LOC01
A81: ACTUAL | B81: 2015.07 | C81: 2015.07 | D81: S2000 | E81: PL1315 | F81: F99 | G81: EURO | H81: S0002 | I81: -4448 | J81: 0LOC01
A82: ACTUAL | B82: 2015.07 | C82: 2015.07 | D82: S2000 | E82: PL1315 | F82: F99 | G82: EURO | H82: SA464 | I82: -273 | J82: 0LOC01
A83: ACTUAL | B83: 2015.07 | C83: 2015.07 | D83: S2000 | E83: PL1355 | F83: F99 | G83: EURO | H83: SA719 | I83: 144 | J83: 0LOC01
A84: ACTUAL | B84: 2015.07 | C84: 2015.07 | D84: S2000 | E84: PL1355 | F84: F99 | G84: EURO | H84: SB225 | I84: 13 | J84: 0LOC01
A85: ACTUAL | B85: 2015.07 | C85: 2015.07 | D85: S2000 | E85: PL1355 | F85: F99 | G85: EURO | H85: SX334 | I85: 478 | J85: 0LOC01
A86: ACTUAL | B86: 2015.07 | C86: 2015.07 | D86: S2000 | E86: PL1355 | F86: F99 | G86: EURO | H86: SX345 | I86: 24 | J86: 0LOC01
A87: ACTUAL | B87: 2015.07 | C87: 2015.07 | D87: S2000 | E87: PL1355 | F87: F99 | G87: EURO | H87: SX385 | I87: 324 | J87: 0LOC01
A88: ACTUAL | B88: 2015.07 | C88: 2015.07 | D88: S2000 | E88: PL1355 | F88: F99 | G88: EURO | H88: SX400 | I88: 714 | J88: 0LOC01
A89: ACTUAL | B89: 2015.07 | C89: 2015.07 | D89: S2000 | E89: PL1355 | F89: F99 | G89: EURO | H89: SX408 | I89: 13 | J89: 0LOC01
A90: ACTUAL | B90: 2015.07 | C90: 2015.07 | D90: S2000 | E90: PL1355 | F90: F99 | G90: EURO | H90: SX418 | I90: 44 | J90: 0LOC01
A91: ACTUAL | B91: 2015.07 | C91: 2015.07 | D91: S2000 | E91: PL1355 | F91: F99 | G91: EURO | H91: SX600 | I91: 186 | J91: 0LOC01
A92: ACTUAL | B92: 2015.07 | C92: 2015.07 | D92: S2000 | E92: PL1315 | F92: F99 | G92: EURO | H92: YSD999 | I92: -775 | J92: 0LOC01
... A98: ACTUAL | B98: 2015.07 | C98: 2015.07 | D98: S2000 | E98: PL1380 | F98: F99 | G98: EURO | H98: SA024 | I98: -866 | J98: 0LOC01

Sheet TAB CONV SIGNE VECTOR
J1: SL ERRONES | K1: SL CORRIGES
A2: PCGR | B2: Convention Signe | C2: Versus | J2: s2407 | K2: S2407
A3: AS7100 | B3: >0 | C3: LI8100 | J3: SX081 | K3: SX081CP
A4: AS7130
A5: AS7140 | B5: >0 | C5: LI8140 | J5: SX226n | K5: SX226CP
A6: LI8100 | B6: >0 | C6: AS7100 | J6: SX317P | K6: SX317IG
A7: LI8130
A8: LI8140 | B8: >0 | C8: AS7140 | J8: ZSX324 | K8: ZSX324P
A9: PL1120 | B9: >0 | C9: PL1125 | J9: S2150EA | K9: S2150
A10: PL1125 | B10: <0 | C10: PL1120 | J10: s2407n | K10: S2407
A11: PL1315 | B11: >0 | C11: PL1355 | J11: SV607EA | K11: SV607
A12: PL1320 | B12: >0 | C12: =+A12 -> PL1320 | J12: YSV205 | K12: SV205
A13: PL1340 | C13: =+A13 -> PL1340 | J13: YSV207 | K13: SV207
A14: PL1355 | B14: <0 | C14: PL1315 | J14: YSV212 | K14: SV212
A15: PL1380 | B15: >0 | C15: PL1385 | J15: YSV214 | K15: SV214
A16: PL1385 | B16: <0 | C16: PL1380 | J16: YSV216 | K16: SV216
A17: PL2275 | C17: =+A17 -> PL2275 | J17: YSV218 | K17: SV218
A18: PL2220 | C18: =+Tableau1[[#This Row],[PCGR]] -> PL2220 | J18: YSV604 | K18: SV604
A19: PL4020 | C19: =+Tableau1[[#This Row],[PCGR]] -> PL4020 | J19: YSV623 | K19: SV623
J20: YSV624 | K20: SV624
J21: YSV629 | K21: SV629
J22: s2407n | K22: S2407
J23: SX317P | K23: SX317IG
J24: SYB251 | K24: SB251
J25: YSA316 | K25: SA316
J26: YSW043 | K26: ZYSW043
J27: s2407n | K27: S2407
J28: SYB251 | K28: SB251
J29: YSW043 | K29: ZYSW043
J30: s2407n | K30: S2407
J31: SX081n | K31: SX081CP
... J37: SX317IG | K37: SX317IG

Sheet Feuil4
