Workbook

Sheet Prévisionnel
A1: Usine | B1: Commercial | C1: Code Produit | D1: Libellé Produit | E1: janv.-20 | F1: févr.-20 | G1: 43891 | H1: 43922
A2: Paris | B2: Jean | C2: A | D2: Produit A | E2: 208 | F2: 241 | G2: 384 | H2: 307
A3: Marseille | B3: Pierre | C3: B | D3: Produit B | E3: 200 | F3: 384 | G3: 307 | H3: 65
A4: Toulouse | B4: Pierre | C4: C | D4: Produit C | E4: 65 | F4: 200 | G4: 65 | H4: 307
A5: Marseille | B5: Paul | C5: C | D5: Produit C | E5: 384 | F5: 65 | G5: 65 | H5: 65
A6: Marseille | B6: Paul | C6: A | D6: Produit A | E6: 65 | F6: 200 | G6: 65 | H6: 200
A7: Toulouse | B7: Paul | C7: A | D7: Produit A | E7: 384 | F7: 65 | G7: 307 | H7: 65
A8: Paris | B8: Pierre | C8: A | D8: Produit A | E8: 307 | F8: 65 | G8: 307 | H8: 65
A9: Toulouse | B9: Jean | C9: A | D9: Produit A | E9: 200 | F9: 65 | G9: 65 | H9: 307
A10: Paris | B10: Pierre | C10: A | D10: Produit A | E10: 65 | F10: 384 | G10: 65 | H10: 65
A11: Toulouse | B11: Pierre | C11: A | D11: Produit A | E11: 307 | F11: 200 | G11: 89 | H11: 564
A12: Marseille | B12: Paul | C12: C | D12: Produit C | E12: 8976 | F12: 8976 | G12: 8976 | H12: 8976
A13: Paris | B13: Jean | C13: A | D13: Produit A | E13: 8976 | F13: 8976 | G13: 307 | H13: 8976
... A25: Paris | B25: Jean | C25: A | D25: Produit A | E25: 8 | F25: 384 | G25: 8 | H25: 8

Sheet TCD
A3: Usine | B3: Commercial | C3: Code Produit | D3: Libellé Produit | E3: Somme de janv.-20 | F3: Somme de févr.-20 | G3: Somme de mars-20 | H3: Somme de avr-20
A4: Marseille | B4: Jean | C4: A | D4: Produit A | E4: 8976 | F4: 200 | G4: 8976 | H4: 307
A5: Marseille | B5: Paul | C5: A | D5: Produit A | E5: 65 | F5: 200 | G5: 65 | H5: 200
A6: Marseille | B6: Paul | C6: B | D6: Produit B | E6: 8976 | F6: 8976 | G6: 8976 | H6: 8976
A7: Marseille | B7: Paul | C7: C | D7: Produit C | E7: 9368 | F7: 9049 | G7: 9425 | H7: 9049
A8: Marseille | B8: Pierre | C8: B | D8: Produit B | E8: 200 | F8: 384 | G8: 307 | H8: 65
A9: Marseille | B9: Pierre | C9: C | D9: Produit C | E9: 8976 | F9: 8976 | G9: 8976 | H9: 8976
A10: Paris | B10: Jean | C10: A | D10: Produit A | E10: 9978 | F10: 10387 | G10: 1485 | H10: 10077
A11: Paris | B11: Paul | C11: A | D11: Produit A | E11: 986 | F11: 1170 | G11: 9762 | H11: 986
A12: Paris | B12: Pierre | C12: A | D12: Produit A | E12: 372 | F12: 449 | G12: 372 | H12: 130
A13: Toulouse | B13: Jean | C13: A | D13: Produit A | E13: 200 | F13: 65 | G13: 65 | H13: 307
A14: Toulouse | B14: Paul | C14: A | D14: Produit A | E14: 384 | F14: 65 | G14: 307 | H14: 65
A15: Toulouse | B15: Pierre | C15: A | D15: Produit A | E15: 2079 | F15: 1378 | G15: 1083 | H15: 2336
A16: Toulouse | B16: Pierre | C16: C | D16: Produit C | E16: 9041 | F16: 584 | G16: 372 | H16: 9283
A17: Total général | E17: 59601 | F17: 41883 | G17: 50171 | H17: 50757

Sheet Plan de production
B1: =TCD!B3 -> Commercial | C1: =TCD!C3 -> Code Produit | D1: =TCD!D3 -> Libellé Produit | E1: =TCD!E3 -> Somme de janv.-20 | F1: =TCD!F3 -> Somme de févr.-20 | G1: =TCD!G3 -> Somme de mars-20 | H1: =TCD!H3 -> Somme de avr-20
A2: Marseille | B2: Marseille | C2: =IF(TCD!A:A='Plan de production'!$B$2,TCD!C:C,"") | D2: =IF(TCD!A:A='Plan de production'!$B$2,TCD!D:D,"") | E2: =GETPIVOTDATA("Somme de janv.-20",TCD!$A$3,"Usine",$B$2,"Code Produit",$C2) -> #REF! | F2: =GETPIVOTDATA("Somme de févr.-20",TCD!$A$3,"Usine",$B$2,"Code Produit",$C2) -> #REF! | G2: =GETPIVOTDATA("Somme de mars-20",TCD!$A$3,"Usine",$B$2,"Code Produit",$C2) -> #REF! | H2: =GETPIVOTDATA("Somme de mars-20",TCD!$A$3,"Usine",$B$2,"Code Produit",$C2) -> #REF!
A3: Paris | C3: =IF(TCD!A:A='Plan de production'!$B$2,TCD!C:C,"") | D3: =IF(TCD!A:A='Plan de production'!$B$2,TCD!D:D,"") | E3: =GETPIVOTDATA("Somme de janv.-20",TCD!$A$3,"Usine",$B$2,"Code Produit",$C3) -> #REF! | F3: =GETPIVOTDATA("Somme de févr.-20",TCD!$A$3,"Usine",$B$2,"Code Produit",$C3) -> #REF! | G3: =GETPIVOTDATA("Somme de mars-20",TCD!$A$3,"Usine",$B$2,"Code Produit",$C3) -> #REF! | H3: =GETPIVOTDATA("Somme de mars-20",TCD!$A$3,"Usine",$B$2,"Code Produit",$C3) -> #REF!
A4: Toulouse | C4: =IF(TCD!A:A='Plan de production'!$B$2,TCD!C:C,"") -> A | D4: =IF(TCD!A:A='Plan de production'!$B$2,TCD!D:D,"") -> Produit A | E4: =GETPIVOTDATA("Somme de janv.-20",TCD!$A$3,"Usine",$B$2,"Code Produit",$C4) -> #REF! | F4: =GETPIVOTDATA("Somme de févr.-20",TCD!$A$3,"Usine",$B$2,"Code Produit",$C4) -> #REF! | G4: =GETPIVOTDATA("Somme de mars-20",TCD!$A$3,"Usine",$B$2,"Code Produit",$C4) -> #REF! | H4: =GETPIVOTDATA("Somme de mars-20",TCD!$A$3,"Usine",$B$2,"Code Produit",$C4) -> #REF!
C5: =IF(TCD!A:A='Plan de production'!$B$2,TCD!C:C,"") -> A | D5: =IF(TCD!A:A='Plan de production'!$B$2,TCD!D:D,"") -> Produit A | E5: =GETPIVOTDATA("Somme de janv.-20",TCD!$A$3,"Usine",$B$2,"Code Produit",$C5) -> #REF! | F5: =GETPIVOTDATA("Somme de févr.-20",TCD!$A$3,"Usine",$B$2,"Code Produit",$C5) -> #REF! | G5: =GETPIVOTDATA("Somme de mars-20",TCD!$A$3,"Usine",$B$2,"Code Produit",$C5) -> #REF! | H5: =GETPIVOTDATA("Somme de mars-20",TCD!$A$3,"Usine",$B$2,"Code Produit",$C5) -> #REF!
C6: =IF(TCD!A:A='Plan de production'!$B$2,TCD!C:C,"") -> B | D6: =IF(TCD!A:A='Plan de production'!$B$2,TCD!D:D,"") -> Produit B | E6: =GETPIVOTDATA("Somme de janv.-20",TCD!$A$3,"Usine",$B$2,"Code Produit",$C6) -> #REF! | F6: =GETPIVOTDATA("Somme de févr.-20",TCD!$A$3,"Usine",$B$2,"Code Produit",$C6) -> #REF! | G6: =GETPIVOTDATA("Somme de mars-20",TCD!$A$3,"Usine",$B$2,"Code Produit",$C6) -> #REF! | H6: =GETPIVOTDATA("Somme de mars-20",TCD!$A$3,"Usine",$B$2,"Code Produit",$C6) -> #REF!
C7: =IF(TCD!A:A='Plan de production'!$B$2,TCD!C:C,"") -> C | D7: =IF(TCD!A:A='Plan de production'!$B$2,TCD!D:D,"") -> Produit C | E7: =GETPIVOTDATA("Somme de janv.-20",TCD!$A$3,"Usine",$B$2,"Code Produit",$C7) -> #REF! | F7: =GETPIVOTDATA("Somme de févr.-20",TCD!$A$3,"Usine",$B$2,"Code Produit",$C7) -> #REF! | G7: =GETPIVOTDATA("Somme de mars-20",TCD!$A$3,"Usine",$B$2,"Code Produit",$C7) -> #REF! | H7: =GETPIVOTDATA("Somme de mars-20",TCD!$A$3,"Usine",$B$2,"Code Produit",$C7) -> #REF!
C8: =IF(TCD!A:A='Plan de production'!$B$2,TCD!C:C,"") -> B | D8: =IF(TCD!A:A='Plan de production'!$B$2,TCD!D:D,"") -> Produit B | E8: =GETPIVOTDATA("Somme de janv.-20",TCD!$A$3,"Usine",$B$2,"Code Produit",$C8) -> #REF! | F8: =GETPIVOTDATA("Somme de févr.-20",TCD!$A$3,"Usine",$B$2,"Code Produit",$C8) -> #REF! | G8: =GETPIVOTDATA("Somme de mars-20",TCD!$A$3,"Usine",$B$2,"Code Produit",$C8) -> #REF! | H8: =GETPIVOTDATA("Somme de mars-20",TCD!$A$3,"Usine",$B$2,"Code Produit",$C8) -> #REF!
C9: =IF(TCD!A:A='Plan de production'!$B$2,TCD!C:C,"") -> C | D9: =IF(TCD!A:A='Plan de production'!$B$2,TCD!D:D,"") -> Produit C | E9: =GETPIVOTDATA("Somme de janv.-20",TCD!$A$3,"Usine",$B$2,"Code Produit",$C9) -> #REF! | F9: =GETPIVOTDATA("Somme de févr.-20",TCD!$A$3,"Usine",$B$2,"Code Produit",$C9) -> #REF! | G9: =GETPIVOTDATA("Somme de mars-20",TCD!$A$3,"Usine",$B$2,"Code Produit",$C9) -> #REF! | H9: =GETPIVOTDATA("Somme de mars-20",TCD!$A$3,"Usine",$B$2,"Code Produit",$C9) -> #REF!
C10: =IF(TCD!A:A='Plan de production'!$B$2,TCD!C:C,"") | D10: =IF(TCD!A:A='Plan de production'!$B$2,TCD!D:D,"")
C11: =IF(TCD!A:A='Plan de production'!$B$2,TCD!C:C,"") | D11: =IF(TCD!A:A='Plan de production'!$B$2,TCD!D:D,"")
C12: =IF(TCD!A:A='Plan de production'!$B$2,TCD!C:C,"") | D12: =IF(TCD!A:A='Plan de production'!$B$2,TCD!D:D,"")
C13: =IF(TCD!A:A='Plan de production'!$B$2,TCD!C:C,"") | D13: =IF(TCD!A:A='Plan de production'!$B$2,TCD!D:D,"")
C14: =IF(TCD!A:A='Plan de production'!$B$2,TCD!C:C,"") | D14: =IF(TCD!A:A='Plan de production'!$B$2,TCD!D:D,"")
C15: =IF(TCD!A:A='Plan de production'!$B$2,TCD!C:C,"") | D15: =IF(TCD!A:A='Plan de production'!$B$2,TCD!D:D,"")
C16: =IF(TCD!A:A='Plan de production'!$B$2,TCD!C:C,"") | D16: =IF(TCD!A:A='Plan de production'!$B$2,TCD!D:D,"")
C17: =IF(TCD!A:A='Plan de production'!$B$2,TCD!C:C,"") | D17: =IF(TCD!A:A='Plan de production'!$B$2,TCD!D:D,"")
C18: =IF(TCD!A:A='Plan de production'!$B$2,TCD!C:C,"") | D18: =IF(TCD!A:A='Plan de production'!$B$2,TCD!D:D,"")
C19: =IF(TCD!A:A='Plan de production'!$B$2,TCD!C:C,"") | D19: =IF(TCD!A:A='Plan de production'!$B$2,TCD!D:D,"")
C20: =IF(TCD!A:A='Plan de production'!$B$2,TCD!C:C,"") | D20: =IF(TCD!A:A='Plan de production'!$B$2,TCD!D:D,"")
C21: =IF(TCD!A:A='Plan de production'!$B$2,TCD!C:C,"") | D21: =IF(TCD!A:A='Plan de production'!$B$2,TCD!D:D,"")
... C23: =IF(TCD!A:A='Plan de production'!$B$2,TCD!C:C,"") | D23: =IF(TCD!A:A='Plan de production'!$B$2,TCD!D:D,"")
D24: =IF(TCD!$A:$A='Plan de production'!$B$2,TCD!C26,"")
D25: =IF(TCD!$A:$A='Plan de production'!$B$2,TCD!C27,"")
D26: =IF(TCD!$A:$A='Plan de production'!$B$2,TCD!C28,"")
