Workbook

Sheet Sheet1
A1: Netting Form AP/AR
A3: Date of Netting: 13/08/2015 | C3: Company code:
C4: X
A5: Customer Number: Malitel | C5: Vendor Number:
A6: X | C6: X
A7: For One-Time Netting Only:
A8: Netted AR Balance (incl. currency abbrev.): | C8: Netted AP Balance (incl. currency abbrev.):
A9: =B13+D13 -> 1208.73
A10: Choose one of the following to specify how the balance is calculated:
A11: 1) Document date time frame for all netted documents | B11: FROM : | D11: TO :
B12: =TEXT(DATE(YEAR(MIN(Sheet2!H1:'Sheet2'!H5)),MONTH(MIN(Sheet2!H1:'Sheet2'!H5))-1,1),"MMMM-RRRR") -> leden-2014 | D12: =TEXT(DATE(YEAR(MAX(Sheet2!H1:'Sheet2'!H5)),MONTH(MAX(Sheet2!H1:'Sheet2'!H5))-1,1),"MMMM-RRRR") -> červenec-2015
B13: =SUM(Sheet2!I1:I1) -> 1282.46 | D13: =SUM(Sheet2!I5:I5) -> -73.73
A14: 2) List of document numbers from ERP | B14: AR Document Numbers: | D14: AP Document Numbers:
B15: =Sheet2!F1 -> 889993 | D15: =Sheet2!F5 -> 5554444
B16: =Sheet2!F2 -> 5554444 | D16: =Sheet2!#REF! -> #REF!
B17: =Sheet2!F3 -> 5554444 | D17: =Sheet2!#REF! -> #REF!
B18: =Sheet2!F7 -> 0 | D18: =Sheet2!#REF! -> #REF!
B19: =Sheet2!F8 -> 0 | D19: =Sheet2!#REF! -> #REF!
B20: =Sheet2!F9 -> 0
B21: =Sheet2!F10 -> 0
B22: =Sheet2!F11 -> 0
B23: =Sheet2!F12 -> 0
A26: Additional Details for Sybase365 Netting Only:
A27: List of document numbers from the legacy system | B27: AR Document Numbers: | D27: AP Document Numbers:
B28: =Sheet2!D1 -> G1215072169I | D28: =Sheet2!E5 -> E1215072169S
B29: =Sheet2!D5 -> H1215072169S | D29: =Sheet2!#REF! -> #REF!
B30: =Sheet2!D6 -> 0 | D30: =Sheet2!#REF! -> #REF!
B31: =Sheet2!D7 -> 0 | D31: =Sheet2!#REF! -> #REF!
B32: =Sheet2!D8 -> 0 | D32: =Sheet2!#REF! -> #REF!
B33: =Sheet2!D9 -> 0
B34: =Sheet2!D10 -> 0
B35: =Sheet2!D11 -> 0
B36: =Sheet2!D12 -> 0

Sheet Sheet2
A1: 5 | B1: Tennis equipment | C1: HH2103 | D1: G1215072169I | E1: E1215072169I | F1: 889993 | G1: DM | H1: 42193 | I1: 1282.46 | J1: USD | K1: MS | L1: Jun 15_E1215072169I Tennis equipment
A2: 5 | B2: Sport equipment | C2: 99762989 | D2: H1215072169S | E2: E1215072169S | F2: 5554444 | G2: KM | H2: 41678 | I2: 1282.46 | L2: Jun 15_E1215072169S Sport equipment
A3: 5 | B3: Sport equipment | C3: 99762989 | D3: H1215072169S | E3: E1215072169S | F3: 5554444 | G3: KM | H3: 42217 | I3: 1282.46 | L3: Jun 15_E1215072169S Sport equipment
A4: 5 | B4: Sport equipment | C4: 99762989 | D4: H1215072169S | E4: E1215072169S | F4: 5554444 | G4: KM | H4: 42161 | I4: -73.73 | L4: Jun 15_E1215072169S Sport equipment
A5: 5 | B5: Sport equipment | C5: 99762989 | D5: H1215072169S | E5: E1215072169S | F5: 5554444 | G5: KM | H5: 42193 | I5: -73.73 | J5: USD | L5: Jun 15_E1215072169S Sport equipment
I6: =SUM(I1:I5) -> 3699.92

Sheet Sheet3
