Workbook
Name DateFin: OFFSET([1]Donnees_Filtre!#REF!,,,COUNTA([1]Donnees_Filtre!$H:$H)-1)
Name DateFin: OFFSET([2]Donnees_Filtre!#REF!,,,COUNTA([2]Donnees_Filtre!$H:$H)-1)
Name Planning: #REF!

Sheet table de données
A5: TARIFICATION
A6: RESEAU
B7: par mois | L7: en cumulé
B8: Nombre d'études demandés (entrées) Santé | C8: Nombre d'études demandés (entrées) Prev | D8: Nombre d'études demandés (entrées) TOTAL | E8: Nombre d'études tarifées (sorties) Santé | F8: Nombre d'études tarifées (sorties) Santé KALIVIA | G8: Nombre d'études tarifées (sorties) Prev | H8: Nombre d'études tarifées (sorties)TOTAL | I8: CA Santé tarifé | J8: CA Prev tarifé | K8: CA TOTAL | L8: Nombre d'études demandés (entrées) Santé | M8: Nombre d'études demandés (entrées) Prev | N8: Nombre d'études demandés (entrées) TOTAL | O8: Nombre d'études tarifées (sorties) Santé | P8: Nombre d'études tarifées (sorties) Santé KALIVIA | Q8: Nombre d'études tarifées (sorties) Prev | R8: Nombre d'études tarifées (sorties)TOTAL | S8: CA Santé | T8: CA Prev | U8: CA TOTAL | W8: sortie ct resp reseau en cumulé
A9: =DATE(YEAR(TODAY()),1,1) -> 42005 | B9: 24 | C9: 23 | D9: =B9+C9 -> 47 | E9: 29 | F9: 12 | G9: 17 | H9: =E9+G9 -> 46 | I9: 1627720 | J9: 332342 | K9: =I9+J9 -> 1960062 | L9: =B9 -> 24 | M9: =C9 -> 23 | N9: =L9+M9 -> 47 | O9: =E9 -> 29 | P9: =F9 -> 12 | Q9: =G9 -> 17 | R9: =O9+Q9 -> 46 | S9: =I9 -> 1627720 | T9: =J9 -> 332342 | U9: =S9+T9 -> 1960062
A10: =DATE(YEAR(TODAY()),2,1) -> 42036 | B10: 43 | C10: 14 | D10: =B10+C10 -> 57 | E10: 24 | F10: 10 | G10: 11 | H10: =E10+G10 -> 35 | I10: 2208149 | J10: 846241 | K10: =I10+J10 -> 3054390 | L10: =L9+B10 -> 67 | M10: =M9+C10 -> 37 | N10: =L10+M10 -> 104 | O10: =O9+E10 -> 53 | P10: =P9+F10 -> 22 | Q10: =Q9+G10 -> 28 | R10: =O10+Q10 -> 81 | S10: =S9+I10 -> 3835869 | T10: =T9+J10 -> 1178583 | U10: =S10+T10 -> 5014452
A11: =DATE(YEAR(TODAY()),3,1) -> 42064 | B11: 116 | C11: 42 | D11: =B11+C11 -> 158 | E11: 81 | F11: 42 | G11: 23 | H11: =E11+G11 -> 104 | I11: 7441567 | J11: 1055938 | K11: =I11+J11 -> 8497505 | L11: =L10+B11 -> 183 | M11: =M10+C11 -> 79 | N11: =L11+M11 -> 262 | O11: =O10+E11 -> 134 | P11: =P10+F11 -> 64 | Q11: =Q10+G11 -> 51 | R11: =O11+Q11 -> 185 | S11: =S10+I11 -> 11277436 | T11: =T10+J11 -> 2234521 | U11: =S11+T11 -> 13511957
A12: =DATE(YEAR(TODAY()),4,1) -> 42095 | B12: 173 | C12: 53 | D12: =B12+C12 -> 226 | E12: 134 | F12: 53 | G12: 52 | H12: =E12+G12 -> 186 | I12: 16681152 | J12: 3910853 | K12: =I12+J12 -> 20592005 | L12: =L11+B12 -> 356 | M12: =M11+C12 -> 132 | N12: =L12+M12 -> 488 | O12: =O11+E12 -> 268 | P12: =P11+F12 -> 117 | Q12: =Q11+G12 -> 103 | R12: =O12+Q12 -> 371 | S12: =S11+I12 -> 27958588 | T12: =T11+J12 -> 6145374 | U12: =S12+T12 -> 34103962 | W12: 89
A13: =DATE(YEAR(TODAY()),5,1) -> 42125 | B13: 252 | C13: 46 | D13: =B13+C13 -> 298 | E13: 120 | F13: 65 | G13: 28 | H13: =E13+G13 -> 148 | I13: 635853 | J13: 738895 | K13: =I13+J13 -> 1374748 | L13: =L12+B13 -> 608 | M13: =M12+C13 -> 178 | N13: =L13+M13 -> 786 | O13: =O12+E13 -> 388 | P13: =P12+F13 -> 182 | Q13: =Q12+G13 -> 131 | R13: =O13+Q13 -> 519 | S13: =S12+I13 -> 28594441 | T13: =T12+J13 -> 6884269 | U13: =S13+T13 -> 35478710 | W13: 183
A14: =DATE(YEAR(TODAY()),6,1) -> 42156 | B14: 281 | C14: 68 | D14: =B14+C14 -> 349 | E14: 220 | F14: 64 | G14: 46 | H14: =E14+G14 -> 266 | I14: 22425333 | J14: 16096095 | K14: =I14+J14 -> 38521428 | L14: =L13+B14 -> 889 | M14: =M13+C14 -> 246 | N14: =L14+M14 -> 1135 | O14: =O13+E14 -> 608 | P14: =P13+F14 -> 246 | Q14: =Q13+G14 -> 177 | R14: =O14+Q14 -> 785 | S14: =S13+I14 -> 51019774 | T14: =T13+J14 -> 22980364 | U14: =S14+T14 -> 74000138
A15: =DATE(YEAR(TODAY()),7,1) -> 42186 | B15: 231 | C15: 85 | D15: =B15+C15 -> 316 | E15: 224 | F15: 64 | G15: 56 | H15: =E15+G15 -> 280 | I15: 24110851 | J15: 47621614 | K15: =I15+J15 -> 71732465 | L15: =L14+B15 -> 1120 | M15: =M14+C15 -> 331 | N15: =L15+M15 -> 1451 | O15: =O14+E15 -> 832 | P15: =P14+F15 -> 310 | Q15: =Q14+G15 -> 233 | R15: =O15+Q15 -> 1065 | S15: =S14+I15 -> 75130625 | T15: =T14+J15 -> 70601978 | U15: =S15+T15 -> 145732603 | W15: 401
A16: =DATE(YEAR(TODAY()),8,1) -> 42217 | B16: =[2]Résultats!$F$2-L15 -> 113 | C16: =[2]Résultats!$F$3-M15 -> 76 | D16: =B16+C16 -> 189 | E16: =[2]Résultats!$F$8-O15 -> 116 | F16: =[2]Résultats!$F$9-P15 -> 28 | G16: =[2]Résultats!$F$10-Q15 -> 47 | H16: =E16+G16 -> 163 | I16: =[2]Résultats!$F$17-S15 -> 232666709615 | J16: =[2]Résultats!$F$18-T15 -> 2816592 | K16: =I16+J16 -> 232669526207 | L16: =L15+B16 -> 1233 | M16: =M15+C16 -> 407 | N16: =L16+M16 -> 1640 | O16: =O15+E16 -> 948 | P16: =P15+F16 -> 338 | Q16: =Q15+G16 -> 280 | R16: =O16+Q16 -> 1228 | S16: =S15+I16 -> 232741840240 | T16: =T15+J16 -> 73418570 | U16: =S16+T16 -> 232815258810
A17: =DATE(YEAR(TODAY()),9,1) -> 42248 | D17: =B17+C17 -> 0 | H17: =E17+G17 -> 0 | K17: =I17+J17 -> 0 | L17: =L16+B17 -> 1233 | M17: =M16+C17 -> 407 | N17: =L17+M17 -> 1640 | O17: =O16+E17 -> 948 | P17: =P16+F17 -> 338 | Q17: =Q16+G17 -> 280 | R17: =O17+Q17 -> 1228 | S17: =S16+I17 -> 232741840240 | T17: =T16+J17 -> 73418570 | U17: =S17+T17 -> 232815258810
A18: =DATE(YEAR(TODAY()),10,1) -> 42278 | D18: =B18+C18 -> 0 | H18: =E18+G18 -> 0 | K18: =I18+J18 -> 0 | L18: =L17+B18 -> 1233 | M18: =M17+C18 -> 407 | N18: =L18+M18 -> 1640 | O18: =O17+E18 -> 948 | P18: =P17+F18 -> 338 | Q18: =Q17+G18 -> 280 | R18: =O18+Q18 -> 1228 | S18: =S17+I18 -> 232741840240 | T18: =T17+J18 -> 73418570 | U18: =S18+T18 -> 232815258810
A19: =DATE(YEAR(TODAY()),11,1) -> 42309 | D19: =B19+C19 -> 0 | H19: =E19+G19 -> 0 | K19: =I19+J19 -> 0 | L19: =L18+B19 -> 1233 | M19: =M18+C19 -> 407 | N19: =L19+M19 -> 1640 | O19: =O18+E19 -> 948 | P19: =P18+F19 -> 338 | Q19: =Q18+G19 -> 280 | R19: =O19+Q19 -> 1228 | S19: =S18+I19 -> 232741840240 | T19: =T18+J19 -> 73418570 | U19: =S19+T19 -> 232815258810
A20: =DATE(YEAR(TODAY()),12,1) -> 42339 | D20: =B20+C20 -> 0 | H20: =E20+G20 -> 0 | K20: =I20+J20 -> 0 | L20: =L19+B20 -> 1233 | M20: =M19+C20 -> 407 | N20: =L20+M20 -> 1640 | O20: =O19+E20 -> 948 | P20: =P19+F20 -> 338 | Q20: =Q19+G20 -> 280 | R20: =O20+Q20 -> 1228 | S20: =S19+I20 -> 232741840240 | T20: =T19+J20 -> 73418570 | U20: =S20+T20 -> 232815258810
A22: TARIFICATION
A23: GC
B24: par mois | L24: en cumulé
B25: Nombre d'études demandés (entrées) Santé | C25: Nombre d'études demandés (entrées) Prev | D25: Nombre d'études demandés (entrées) TOTAL | E25: Nombre d'études tarifées (sorties) Santé | F25: Nombre d'études tarifées (sorties) Santé KALIVIA | G25: Nombre d'études tarifées (sorties) Prev | H25: Nombre d'études tarifées (sorties)TOTAL | I25: CA Santé tarifé | J25: CA Prev tarifé | K25: CA TOTAL | L25: Nombre d'études demandés (entrées) Santé | M25: Nombre d'études demandés (entrées) Prev | N25: Nombre d'études demandés (entrées) TOTAL | O25: Nombre d'études tarifées (sorties) Santé | P25: Nombre d'études tarifées (sorties) Santé KALIVIA | Q25: Nombre d'études tarifées (sorties) Prev | R25: Nombre d'études tarifées (sorties)TOTAL | S25: CA Santé | T25: CA Prev | U25: CA TOTAL
A26: 42005 | B26: 16 | C26: 4 | D26: =B26+C26 -> 20 | E26: 10 | G26: 2 | H26: =E26+G26 -> 12 | K26: =I26+J26 -> 0 | L26: =B26 -> 16 | M26: =C26 -> 4 | N26: =L26+M26 -> 20 | O26: =E26 -> 10 | P26: =F26 -> 0 | Q26: =G26 -> 2 | R26: =O26+Q26 -> 12 | S26: =I26 -> 0 | T26: =J26 -> 0 | U26: =S26+T26 -> 0
A27: 42036 | B27: 12 | C27: 7 | D27: =B27+C27 -> 19 | E27: 15 | G27: 18 | H27: =E27+G27 -> 33 | K27: =I27+J27 -> 0 | L27: =L26+B27 -> 28 | M27: =M26+C27 -> 11 | N27: =L27+M27 -> 39 | O27: =O26+E27 -> 25 | P27: =P26+F27 -> 0 | Q27: =Q26+G27 -> 20 | R27: =O27+Q27 -> 45 | S27: =S26+I27 -> 0 | T27: =T26+J27 -> 0 | U27: =S27+T27 -> 0
A28: 42064 | B28: 19 | C28: 11 | D28: =B28+C28 -> 30 | E28: 24 | G28: 9 | H28: =E28+G28 -> 33 | K28: =I28+J28 -> 0 | L28: =L27+B28 -> 47 | M28: =M27+C28 -> 22 | N28: =L28+M28 -> 69 | O28: =O27+E28 -> 49 | P28: =P27+F28 -> 0 | Q28: =Q27+G28 -> 29 | R28: =O28+Q28 -> 78 | S28: =S27+I28 -> 0 | T28: =T27+J28 -> 0 | U28: =S28+T28 -> 0
A29: 42095 | B29: 88 | C29: 13 | D29: =B29+C29 -> 101 | E29: 54 | G29: 9 | H29: =E29+G29 -> 63 | K29: =I29+J29 -> 0 | L29: =L28+B29 -> 135 | M29: =M28+C29 -> 35 | N29: =L29+M29 -> 170 | O29: =O28+E29 -> 103 | P29: =P28+F29 -> 0 | Q29: =Q28+G29 -> 38 | R29: =O29+Q29 -> 141 | S29: =S28+I29 -> 0 | T29: =T28+J29 -> 0 | U29: =S29+T29 -> 0
A30: 42125 | B30: 45 | C30: 23 | D30: =B30+C30 -> 68 | E30: 57 | G30: 29 | H30: =E30+G30 -> 86 | K30: =I30+J30 -> 0 | L30: =L29+B30 -> 180 | M30: =M29+C30 -> 58 | N30: =L30+M30 -> 238 | O30: =O29+E30 -> 160 | P30: =P29+F30 -> 0 | Q30: =Q29+G30 -> 67 | R30: =O30+Q30 -> 227 | S30: =S29+I30 -> 0 | T30: =T29+J30 -> 0 | U30: =S30+T30 -> 0
A31: 42156 | B31: 32 | C31: 14 | D31: =B31+C31 -> 46 | E31: 37 | G31: 14 | H31: =E31+G31 -> 51 | K31: =I31+J31 -> 0 | L31: =L30+B31 -> 212 | M31: =M30+C31 -> 72 | N31: =L31+M31 -> 284 | O31: =O30+E31 -> 197 | P31: =P30+F31 -> 0 | Q31: =Q30+G31 -> 81 | R31: =O31+Q31 -> 278 | S31: =S30+I31 -> 0 | T31: =T30+J31 -> 0 | U31: =S31+T31 -> 0
A32: 42186 | B32: 40 | C32: 47 | D32: =B32+C32 -> 87 | E32: 13 | G32: 10 | H32: =E32+G32 -> 23 | K32: =I32+J32 -> 0 | L32: =L31+B32 -> 252 | M32: =M31+C32 -> 119 | N32: =L32+M32 -> 371 | O32: =O31+E32 -> 210 | P32: =P31+F32 -> 0 | Q32: =Q31+G32 -> 91 | R32: =O32+Q32 -> 301 | S32: =S31+I32 -> 0 | T32: =T31+J32 -> 0 | U32: =S32+T32 -> 0
A33: 42217 | D33: =B33+C33 -> 0 | H33: =E33+G33 -> 0 | K33: =I33+J33 -> 0 | L33: =L32+B33 -> 252 | M33: =M32+C33 -> 119 | N33: =L33+M33 -> 371 | O33: =O32+E33 -> 210 | P33: =P32+F33 -> 0 | Q33: =Q32+G33 -> 91 | R33: =O33+Q33 -> 301 | S33: =S32+I33 -> 0 | T33: =T32+J33 -> 0 | U33: =S33+T33 -> 0
A34: 42248 | D34: =B34+C34 -> 0 | H34: =E34+G34 -> 0 | K34: =I34+J34 -> 0 | L34: =L33+B34 -> 252 | M34: =M33+C34 -> 119 | N34: =L34+M34 -> 371 | O34: =O33+E34 -> 210 | P34: =P33+F34 -> 0 | Q34: =Q33+G34 -> 91 | R34: =O34+Q34 -> 301 | S34: =S33+I34 -> 0 | T34: =T33+J34 -> 0 | U34: =S34+T34 -> 0
A35: 42278 | D35: =B35+C35 -> 0 | H35: =E35+G35 -> 0 | K35: =I35+J35 -> 0 | L35: =L34+B35 -> 252 | M35: =M34+C35 -> 119 | N35: =L35+M35 -> 371 | O35: =O34+E35 -> 210 | P35: =P34+F35 -> 0 | Q35: =Q34+G35 -> 91 | R35: =O35+Q35 -> 301 | S35: =S34+I35 -> 0 | T35: =T34+J35 -> 0 | U35: =S35+T35 -> 0
A36: 42309 | D36: =B36+C36 -> 0 | H36: =E36+G36 -> 0 | K36: =I36+J36 -> 0 | L36: =L35+B36 -> 252 | M36: =M35+C36 -> 119 | N36: =L36+M36 -> 371 | O36: =O35+E36 -> 210 | P36: =P35+F36 -> 0 | Q36: =Q35+G36 -> 91 | R36: =O36+Q36 -> 301 | S36: =S35+I36 -> 0 | T36: =T35+J36 -> 0 | U36: =S36+T36 -> 0
A37: 42339 | D37: =B37+C37 -> 0 | H37: =E37+G37 -> 0 | K37: =I37+J37 -> 0 | L37: =L36+B37 -> 252 | M37: =M36+C37 -> 119 | N37: =L37+M37 -> 371 | O37: =O36+E37 -> 210 | P37: =P36+F37 -> 0 | Q37: =Q36+G37 -> 91 | R37: =O37+Q37 -> 301 | S37: =S36+I37 -> 0 | T37: =T36+J37 -> 0 | U37: =S37+T37 -> 0
A39: TARIFICATION
A40: CCN
B41: par mois | L41: en cumulé
B42: Nombre d'études demandés (entrées) Santé | C42: Nombre d'études demandés (entrées) Prev | D42: Nombre d'études demandés (entrées) TOTAL | E42: Nombre d'études tarifées (sorties) Santé | F42: Nombre d'études tarifées (sorties) Santé KALIVIA | G42: Nombre d'études tarifées (sorties) Prev | H42: Nombre d'études tarifées (sorties)TOTAL | I42: CA Santé tarifé | J42: CA Prev tarifé | K42: CA TOTAL | L42: Nombre d'études demandés (entrées) Santé | M42: Nombre d'études demandés (entrées) Prev | N42: Nombre d'études demandés (entrées) TOTAL | O42: Nombre d'études tarifées (sorties) Santé | P42: Nombre d'études tarifées (sorties) Santé KALIVIA | Q42: Nombre d'études tarifées (sorties) Prev | R42: Nombre d'études tarifées (sorties)TOTAL | S42: CA Santé | T42: CA Prev | U42: CA TOTAL
A43: 42005 | B43: 15 | C43: 2 | D43: =B43+C43 -> 17 | E43: 15 | G43: 1 | H43: =E43+G43 -> 16 | K43: =I43+J43 -> 0 | L43: =B43 -> 15 | M43: =C43 -> 2 | N43: =L43+M43 -> 17 | O43: =E43 -> 15 | P43: =F43 -> 0 | Q43: =G43 -> 1 | R43: =O43+Q43 -> 16 | S43: =I43 -> 0 | T43: =J43 -> 0 | U43: =S43+T43 -> 0
A44: 42036 | B44: 23 | C44: 2 | D44: =B44+C44 -> 25 | E44: 14 | G44: 1 | H44: =E44+G44 -> 15 | K44: =I44+J44 -> 0 | L44: =L43+B44 -> 38 | M44: =M43+C44 -> 4 | N44: =L44+M44 -> 42 | O44: =O43+E44 -> 29 | P44: =P43+F44 -> 0 | Q44: =Q43+G44 -> 2 | R44: =O44+Q44 -> 31 | S44: =S43+I44 -> 0 | T44: =T43+J44 -> 0 | U44: =S44+T44 -> 0
A45: 42064 | B45: 41 | C45: 7 | D45: =B45+C45 -> 48 | E45: 36 | G45: 6 | H45: =E45+G45 -> 42 | K45: =I45+J45 -> 0 | L45: =L44+B45 -> 79 | M45: =M44+C45 -> 11 | N45: =L45+M45 -> 90 | O45: =O44+E45 -> 65 | P45: =P44+F45 -> 0 | Q45: =Q44+G45 -> 8 | R45: =O45+Q45 -> 73 | S45: =S44+I45 -> 0 | T45: =T44+J45 -> 0 | U45: =S45+T45 -> 0
A46: 42095 | B46: 13 | C46: 2 | D46: =B46+C46 -> 15 | E46: 6 | G46: 2 | H46: =E46+G46 -> 8 | K46: =I46+J46 -> 0 | L46: =L45+B46 -> 92 | M46: =M45+C46 -> 13 | N46: =L46+M46 -> 105 | O46: =O45+E46 -> 71 | P46: =P45+F46 -> 0 | Q46: =Q45+G46 -> 10 | R46: =O46+Q46 -> 81 | S46: =S45+I46 -> 0 | T46: =T45+J46 -> 0 | U46: =S46+T46 -> 0
...
