Workbook
Name DateFin: OFFSET([1]Donnees_Filtre!#REF!,,,COUNTA([1]Donnees_Filtre!$H:$H)-1)
Name DateFin: OFFSET([2]Donnees_Filtre!#REF!,,,COUNTA([2]Donnees_Filtre!$H:$H)-1)
Name Planning: #REF!

Sheet table de données
A5: TARIFICATION
A6: RESEAU
B7: par mois | L7: en cumulé
B8: Nombre d'études demandés (entrées) Santé | C8: Nombre d'études demandés (entrées) Prev | D8: Nombre d'études demandés (entrées) TOTAL | E8: Nombre d'études tarifées (sorties) Santé | F8: Nombre d'études tarifées (sorties) Santé KALIVIA | G8: Nombre d'études tarifées (sorties) Prev | H8: Nombre d'études tarifées (sorties)TOTAL | I8: CA Santé tarifé | J8: CA Prev tarifé | K8: CA TOTAL | L8: Nombre d'études demandés (entrées) Santé | M8: Nombre d'études demandés (entrées) Prev | N8: Nombre d'études demandés (entrées) TOTAL | O8: Nombre d'études tarifées (sorties) Santé | P8: Nombre d'études tarifées (sorties) Santé KALIVIA | Q8: Nombre d'études tarifées (sorties) Prev | R8: Nombre d'études tarifées (sorties)TOTAL | S8: CA Santé | T8: CA Prev | U8: CA TOTAL | W8: sortie ct resp reseau en cumulé
A9: =DATE(YEAR(TODAY()),1,1) -> 42005 | B9: 24 | C9: 23 | D9: =B9+C9 -> 47 | E9: 29 | F9: 12 | G9: 17 | H9: =E9+G9 -> 46 | I9: 1627720 | J9: 332342 | K9: =I9+J9 -> 1960062 | L9: =B9 -> 24 | M9: =C9 -> 23 | N9: =L9+M9 -> 47 | O9: =E9 -> 29 | P9: =F9 -> 12 | Q9: =G9 -> 17 | R9: =O9+Q9 -> 46 | S9: =I9 -> 1627720 | T9: =J9 -> 332342 | U9: =S9+T9 -> 1960062
A10: =DATE(YEAR(TODAY()),2,1) -> 42036 | B10: 43 | C10: 14 | D10: =B10+C10 -> 57 | E10: 24 | F10: 10 | G10: 11 | H10: =E10+G10 -> 35 | I10: 2208149 | J10: 846241 | K10: =I10+J10 -> 3054390 | L10: =L9+B10 -> 67 | M10: =M9+C10 -> 37 | N10: =L10+M10 -> 104 | O10: =O9+E10 -> 53 | P10: =P9+F10 -> 22 | Q10: =Q9+G10 -> 28 | R10: =O10+Q10 -> 81 | S10: =S9+I10 -> 3835869 | T10: =T9+J10 -> 1178583 | U10: =S10+T10 -> 5014452
A11: =DATE(YEAR(TODAY()),3,1) -> 42064 | B11: 116 | C11: 42 | D11: =B11+C11 -> 158 | E11: 81 | F11: 42 | G11: 23 | H11: =E11+G11 -> 104 | I11: 7441567 | J11: 1055938 | K11: =I11+J11 -> 8497505 | L11: =L10+B11 -> 183 | M11: =M10+C11 -> 79 | N11: =L11+M11 -> 262 | O11: =O10+E11 -> 134 | P11: =P10+F11 -> 64 | Q11: =Q10+G11 -> 51 | R11: =O11+Q11 -> 185 | S11: =S10+I11 -> 11277436 | T11: =T10+J11 -> 2234521 | U11: =S11+T11 -> 13511957
A12: =DATE(YEAR(TODAY()),4,1) -> 42095 | B12: 173 | C12: 53 | D12: =B12+C12 -> 226 | E12: 134 | F12: 53 | G12: 52 | H12: =E12+G12 -> 186 | I12: 16681152 | J12: 3910853 | K12: =I12+J12 -> 20592005 | L12: =L11+B12 -> 356 | M12: =M11+C12 -> 132 | N12: =L12+M12 -> 488 | O12: =O11+E12 -> 268 | P12: =P11+F12 -> 117 | Q12: =Q11+G12 -> 103 | R12: =O12+Q12 -> 371 | S12: =S11+I12 -> 27958588 | T12: =T11+J12 -> 6145374 | U12: =S12+T12 -> 34103962 | W12: 89
A13: =DATE(YEAR(TODAY()),5,1) -> 42125 | B13: 252 | C13: 46 | D13: =B13+C13 -> 298 | E13: 120 | F13: 65 | G13: 28 | H13: =E13+G13 -> 148 | I13: 635853 | J13: 738895 | K13: =I13+J13 -> 1374748 | L13: =L12+B13 -> 608 | M13: =M12+C13 -> 178 | N13: =L13+M13 -> 786 | O13: =O12+E13 -> 388 | P13: =P12+F13 -> 182 | Q13: =Q12+G13 -> 131 | R13: =O13+Q13 -> 519 | S13: =S12+I13 -> 28594441 | T13: =T12+J13 -> 6884269 | U13: =S13+T13 -> 35478710 | W13: 183
A14: =DATE(YEAR(TODAY()),6,1) -> 42156 | B14: 281 | C14: 68 | D14: =B14+C14 -> 349 | E14: 220 | F14: 64 | G14: 46 | H14: =E14+G14 -> 266 | I14: 22425333 | J14: 16096095 | K14: =I14+J14 -> 38521428 | L14: =L13+B14 -> 889 | M14: =M13+C14 -> 246 | N14: =L14+M14 -> 1135 | O14: =O13+E14 -> 608 | P14: =P13+F14 -> 246 | Q14: =Q13+G14 -> 177 | R14: =O14+Q14 -> 785 | S14: =S13+I14 -> 51019774 | T14: =T13+J14 -> 22980364 | U14: =S14+T14 -> 74000138
A15: =DATE(YEAR(TODAY()),7,1) -> 42186 | B15: 231 | C15: 85 | D15: =B15+C15 -> 316 | E15: 224 | F15: 64 | G15: 56 | H15: =E15+G15 -> 280 | I15: 24110851 | J15: 47621614 | K15: =I15+J15 -> 71732465 | L15: =L14+B15 -> 1120 | M15: =M14+C15 -> 331 | N15: =L15+M15 -> 1451 | O15: =O14+E15 -> 832 | P15: =P14+F15 -> 310 | Q15: =Q14+G15 -> 233 | R15: =O15+Q15 -> 1065 | S15: =S14+I15 -> 75130625 | T15: =T14+J15 -> 70601978 | U15: =S15+T15 -> 145732603 | W15: 401
A16: =DATE(YEAR(TODAY()),8,1) -> 42217 | B16: =[2]Résultats!$F$2-L15 -> 113 | C16: =[2]Résultats!$F$3-M15 -> 76 | D16: =B16+C16 -> 189 | E16: =[2]Résultats!$F$8-O15 -> 116 | F16: =[2]Résultats!$F$9-P15 -> 28 | G16: =[2]Résultats!$F$10-Q15 -> 47 | H16: =E16+G16 -> 163 | I16: =[2]Résultats!$F$17-S15 -> 232666709615 | J16: =[2]Résultats!$F$18-T15 -> 2816592 | K16: =I16+J16 -> 232669526207 | L16: =L15+B16 -> 1233 | M16: =M15+C16 -> 407 | N16: =L16+M16 -> 1640 | O16: =O15+E16 -> 948 | P16: =P15+F16 -> 338 | Q16: =Q15+G16 -> 280 | R16: =O16+Q16 -> 1228 | S16: =S15+I16 -> 232741840240 | T16: =T15+J16 -> 73418570 | U16: =S16+T16 -> 232815258810
A17: =DATE(YEAR(TODAY()),9,1) -> 42248 | D17: =B17+C17 -> 0 | H17: =E17+G17 -> 0 | K17: =I17+J17 -> 0 | L17: =L16+B17 -> 1233 | M17: =M16+C17 -> 407 | N17: =L17+M17 -> 1640 | O17: =O16+E17 -> 948 | P17: =P16+F17 -> 338 | Q17: =Q16+G17 -> 280 | R17: =O17+Q17 -> 1228 | S17: =S16+I17 -> 232741840240 | T17: =T16+J17 -> 73418570 | U17: =S17+T17 -> 232815258810
A18: =DATE(YEAR(TODAY()),10,1) -> 42278 | D18: =B18+C18 -> 0 | H18: =E18+G18 -> 0 | K18: =I18+J18 -> 0 | L18: =L17+B18 -> 1233 | M18: =M17+C18 -> 407 | N18: =L18+M18 -> 1640 | O18: =O17+E18 -> 948 | P18: =P17+F18 -> 338 | Q18: =Q17+G18 -> 280 | R18: =O18+Q18 -> 1228 | S18: =S17+I18 -> 232741840240 | T18: =T17+J18 -> 73418570 | U18: =S18+T18 -> 232815258810
A19: =DATE(YEAR(TODAY()),11,1) -> 42309 | D19: =B19+C19 -> 0 | H19: =E19+G19 -> 0 | K19: =I19+J19 -> 0 | L19: =L18+B19 -> 1233 | M19: =M18+C19 -> 407 | N19: =L19+M19 -> 1640 | O19: =O18+E19 -> 948 | P19: =P18+F19 -> 338 | Q19: =Q18+G19 -> 280 | R19: =O19+Q19 -> 1228 | S19: =S18+I19 -> 232741840240 | T19: =T18+J19 -> 73418570 | U19: =S19+T19 -> 232815258810
A20: =DATE(YEAR(TODAY()),12,1) -> 42339 | D20: =B20+C20 -> 0 | H20: =E20+G20 -> 0 | K20: =I20+J20 -> 0 | L20: =L19+B20 -> 1233 | M20: =M19+C20 -> 407 | N20: =L20+M20 -> 1640 | O20: =O19+E20 -> 948 | P20: =P19+F20 -> 338 | Q20: =Q19+G20 -> 280 | R20: =O20+Q20 -> 1228 | S20: =S19+I20 -> 232741840240 | T20: =T19+J20 -> 73418570 | U20: =S20+T20 -> 232815258810
A22: TARIFICATION
A23: GC
B24: par mois | L24: en cumulé
B25: Nombre d'études demandés (entrées) Santé | C25: Nombre d'études demandés (entrées) Prev | D25: Nombre d'études demandés (entrées) TOTAL | E25: Nombre d'études tarifées (sorties) Santé | F25: Nombre d'études tarifées (sorties) Santé KALIVIA | G25: Nombre d'études tarifées (sorties) Prev | H25: Nombre d'études tarifées (sorties)TOTAL | I25: CA Santé tarifé | J25: CA Prev tarifé | K25: CA TOTAL | L25: Nombre d'études demandés (entrées) Santé | M25: Nombre d'études demandés (entrées) Prev | N25: Nombre d'études demandés (entrées) TOTAL | O25: Nombre d'études tarifées (sorties) Santé | P25: Nombre d'études tarifées (sorties) Santé KALIVIA | Q25: Nombre d'études tarifées (sorties) Prev | R25: Nombre d'études tarifées (sorties)TOTAL | S25: CA Santé | T25: CA Prev | U25: CA TOTAL
A26: 42005 | B26: 16 | C26: 4 | D26: =B26+C26 -> 20 | E26: 10 | G26: 2 | H26: =E26+G26 -> 12 | K26: =I26+J26 -> 0 | L26: =B26 -> 16 | M26: =C26 -> 4 | N26: =L26+M26 -> 20 | O26: =E26 -> 10 | P26: =F26 -> 0 | Q26: =G26 -> 2 | R26: =O26+Q26 -> 12 | S26: =I26 -> 0 | T26: =J26 -> 0 | U26: =S26+T26 -> 0
A27: 42036 | B27: 12 | C27: 7 | D27: =B27+C27 -> 19 | E27: 15 | G27: 18 | H27: =E27+G27 -> 33 | K27: =I27+J27 -> 0 | L27: =L26+B27 -> 28 | M27: =M26+C27 -> 11 | N27: =L27+M27 -> 39 | O27: =O26+E27 -> 25 | P27: =P26+F27 -> 0 | Q27: =Q26+G27 -> 20 | R27: =O27+Q27 -> 45 | S27: =S26+I27 -> 0 | T27: =T26+J27 -> 0 | U27: =S27+T27 -> 0
A28: 42064 | B28: 19 | C28: 11 | D28: =B28+C28 -> 30 | E28: 24 | G28: 9 | H28: =E28+G28 -> 33 | K28: =I28+J28 -> 0 | L28: =L27+B28 -> 47 | M28: =M27+C28 -> 22 | N28: =L28+M28 -> 69 | O28: =O27+E28 -> 49 | P28: =P27+F28 -> 0 | Q28: =Q27+G28 -> 29 | R28: =O28+Q28 -> 78 | S28: =S27+I28 -> 0 | T28: =T27+J28 -> 0 | U28: =S28+T28 -> 0
A29: 42095 | B29: 88 | C29: 13 | D29: =B29+C29 -> 101 | E29: 54 | G29: 9 | H29: =E29+G29 -> 63 | K29: =I29+J29 -> 0 | L29: =L28+B29 -> 135 | M29: =M28+C29 -> 35 | N29: =L29+M29 -> 170 | O29: =O28+E29 -> 103 | P29: =P28+F29 -> 0 | Q29: =Q28+G29 -> 38 | R29: =O29+Q29 -> 141 | S29: =S28+I29 -> 0 | T29: =T28+J29 -> 0 | U29: =S29+T29 -> 0
A30: 42125 | B30: 45 | C30: 23 | D30: =B30+C30 -> 68 | E30: 57 | G30: 29 | H30: =E30+G30 -> 86 | K30: =I30+J30 -> 0 | L30: =L29+B30 -> 180 | M30: =M29+C30 -> 58 | N30: =L30+M30 -> 238 | O30: =O29+E30 -> 160 | P30: =P29+F30 -> 0 | Q30: =Q29+G30 -> 67 | R30: =O30+Q30 -> 227 | S30: =S29+I30 -> 0 | T30: =T29+J30 -> 0 | U30: =S30+T30 -> 0
A31: 42156 | B31: 32 | C31: 14 | D31: =B31+C31 -> 46 | E31: 37 | G31: 14 | H31: =E31+G31 -> 51 | K31: =I31+J31 -> 0 | L31: =L30+B31 -> 212 | M31: =M30+C31 -> 72 | N31: =L31+M31 -> 284 | O31: =O30+E31 -> 197 | P31: =P30+F31 -> 0 | Q31: =Q30+G31 -> 81 | R31: =O31+Q31 -> 278 | S31: =S30+I31 -> 0 | T31: =T30+J31 -> 0 | U31: =S31+T31 -> 0
A32: 42186 | B32: 40 | C32: 47 | D32: =B32+C32 -> 87 | E32: 13 | G32: 10 | H32: =E32+G32 -> 23 | K32: =I32+J32 -> 0 | L32: =L31+B32 -> 252 | M32: =M31+C32 -> 119 | N32: =L32+M32 -> 371 | O32: =O31+E32 -> 210 | P32: =P31+F32 -> 0 | Q32: =Q31+G32 -> 91 | R32: =O32+Q32 -> 301 | S32: =S31+I32 -> 0 | T32: =T31+J32 -> 0 | U32: =S32+T32 -> 0
A33: 42217 | D33: =B33+C33 -> 0 | H33: =E33+G33 -> 0 | K33: =I33+J33 -> 0 | L33: =L32+B33 -> 252 | M33: =M32+C33 -> 119 | N33: =L33+M33 -> 371 | O33: =O32+E33 -> 210 | P33: =P32+F33 -> 0 | Q33: =Q32+G33 -> 91 | R33: =O33+Q33 -> 301 | S33: =S32+I33 -> 0 | T33: =T32+J33 -> 0 | U33: =S33+T33 -> 0
A34: 42248 | D34: =B34+C34 -> 0 | H34: =E34+G34 -> 0 | K34: =I34+J34 -> 0 | L34: =L33+B34 -> 252 | M34: =M33+C34 -> 119 | N34: =L34+M34 -> 371 | O34: =O33+E34 -> 210 | P34: =P33+F34 -> 0 | Q34: =Q33+G34 -> 91 | R34: =O34+Q34 -> 301 | S34: =S33+I34 -> 0 | T34: =T33+J34 -> 0 | U34: =S34+T34 -> 0
A35: 42278 | D35: =B35+C35 -> 0 | H35: =E35+G35 -> 0 | K35: =I35+J35 -> 0 | L35: =L34+B35 -> 252 | M35: =M34+C35 -> 119 | N35: =L35+M35 -> 371 | O35: =O34+E35 -> 210 | P35: =P34+F35 -> 0 | Q35: =Q34+G35 -> 91 | R35: =O35+Q35 -> 301 | S35: =S34+I35 -> 0 | T35: =T34+J35 -> 0 | U35: =S35+T35 -> 0
A36: 42309 | D36: =B36+C36 -> 0 | H36: =E36+G36 -> 0 | K36: =I36+J36 -> 0 | L36: =L35+B36 -> 252 | M36: =M35+C36 -> 119 | N36: =L36+M36 -> 371 | O36: =O35+E36 -> 210 | P36: =P35+F36 -> 0 | Q36: =Q35+G36 -> 91 | R36: =O36+Q36 -> 301 | S36: =S35+I36 -> 0 | T36: =T35+J36 -> 0 | U36: =S36+T36 -> 0
A37: 42339 | D37: =B37+C37 -> 0 | H37: =E37+G37 -> 0 | K37: =I37+J37 -> 0 | L37: =L36+B37 -> 252 | M37: =M36+C37 -> 119 | N37: =L37+M37 -> 371 | O37: =O36+E37 -> 210 | P37: =P36+F37 -> 0 | Q37: =Q36+G37 -> 91 | R37: =O37+Q37 -> 301 | S37: =S36+I37 -> 0 | T37: =T36+J37 -> 0 | U37: =S37+T37 -> 0
A39: TARIFICATION
A40: CCN
B41: par mois | L41: en cumulé
B42: Nombre d'études demandés (entrées) Santé | C42: Nombre d'études demandés (entrées) Prev | D42: Nombre d'études demandés (entrées) TOTAL | E42: Nombre d'études tarifées (sorties) Santé | F42: Nombre d'études tarifées (sorties) Santé KALIVIA | G42: Nombre d'études tarifées (sorties) Prev | H42: Nombre d'études tarifées (sorties)TOTAL | I42: CA Santé tarifé | J42: CA Prev tarifé | K42: CA TOTAL | L42: Nombre d'études demandés (entrées) Santé | M42: Nombre d'études demandés (entrées) Prev | N42: Nombre d'études demandés (entrées) TOTAL | O42: Nombre d'études tarifées (sorties) Santé | P42: Nombre d'études tarifées (sorties) Santé KALIVIA | Q42: Nombre d'études tarifées (sorties) Prev | R42: Nombre d'études tarifées (sorties)TOTAL | S42: CA Santé | T42: CA Prev | U42: CA TOTAL
A43: 42005 | B43: 15 | C43: 2 | D43: =B43+C43 -> 17 | E43: 15 | G43: 1 | H43: =E43+G43 -> 16 | K43: =I43+J43 -> 0 | L43: =B43 -> 15 | M43: =C43 -> 2 | N43: =L43+M43 -> 17 | O43: =E43 -> 15 | P43: =F43 -> 0 | Q43: =G43 -> 1 | R43: =O43+Q43 -> 16 | S43: =I43 -> 0 | T43: =J43 -> 0 | U43: =S43+T43 -> 0
A44: 42036 | B44: 23 | C44: 2 | D44: =B44+C44 -> 25 | E44: 14 | G44: 1 | H44: =E44+G44 -> 15 | K44: =I44+J44 -> 0 | L44: =L43+B44 -> 38 | M44: =M43+C44 -> 4 | N44: =L44+M44 -> 42 | O44: =O43+E44 -> 29 | P44: =P43+F44 -> 0 | Q44: =Q43+G44 -> 2 | R44: =O44+Q44 -> 31 | S44: =S43+I44 -> 0 | T44: =T43+J44 -> 0 | U44: =S44+T44 -> 0
A45: 42064 | B45: 41 | C45: 7 | D45: =B45+C45 -> 48 | E45: 36 | G45: 6 | H45: =E45+G45 -> 42 | K45: =I45+J45 -> 0 | L45: =L44+B45 -> 79 | M45: =M44+C45 -> 11 | N45: =L45+M45 -> 90 | O45: =O44+E45 -> 65 | P45: =P44+F45 -> 0 | Q45: =Q44+G45 -> 8 | R45: =O45+Q45 -> 73 | S45: =S44+I45 -> 0 | T45: =T44+J45 -> 0 | U45: =S45+T45 -> 0
A46: 42095 | B46: 13 | C46: 2 | D46: =B46+C46 -> 15 | E46: 6 | G46: 2 | H46: =E46+G46 -> 8 | K46: =I46+J46 -> 0 | L46: =L45+B46 -> 92 | M46: =M45+C46 -> 13 | N46: =L46+M46 -> 105 | O46: =O45+E46 -> 71 | P46: =P45+F46 -> 0 | Q46: =Q45+G46 -> 10 | R46: =O46+Q46 -> 81 | S46: =S45+I46 -> 0 | T46: =T45+J46 -> 0 | U46: =S46+T46 -> 0
A47: 42125 | B47: 43 | C47: 3 | D47: =B47+C47 -> 46 | E47: 53 | G47: 3 | H47: =E47+G47 -> 56 | K47: =I47+J47 -> 0 | L47: =L46+B47 -> 135 | M47: =M46+C47 -> 16 | N47: =L47+M47 -> 151 | O47: =O46+E47 -> 124 | P47: =P46+F47 -> 0 | Q47: =Q46+G47 -> 13 | R47: =O47+Q47 -> 137 | S47: =S46+I47 -> 0 | T47: =T46+J47 -> 0 | U47: =S47+T47 -> 0
A48: 42156 | B48: 43 | C48: 5 | D48: =B48+C48 -> 48 | E48: 38 | G48: 4 | H48: =E48+G48 -> 42 | K48: =I48+J48 -> 0 | L48: =L47+B48 -> 178 | M48: =M47+C48 -> 21 | N48: =L48+M48 -> 199 | O48: =O47+E48 -> 162 | P48: =P47+F48 -> 0 | Q48: =Q47+G48 -> 17 | R48: =O48+Q48 -> 179 | S48: =S47+I48 -> 0 | T48: =T47+J48 -> 0 | U48: =S48+T48 -> 0
A49: 42186 | B49: 46 | C49: 9 | D49: =B49+C49 -> 55 | E49: 45 | G49: 5 | H49: =E49+G49 -> 50 | K49: =I49+J49 -> 0 | L49: =L48+B49 -> 224 | M49: =M48+C49 -> 30 | N49: =L49+M49 -> 254 | O49: =O48+E49 -> 207 | P49: =P48+F49 -> 0 | Q49: =Q48+G49 -> 22 | R49: =O49+Q49 -> 229 | S49: =S48+I49 -> 0 | T49: =T48+J49 -> 0 | U49: =S49+T49 -> 0
A50: 42217 | D50: =B50+C50 -> 0 | H50: =E50+G50 -> 0 | K50: =I50+J50 -> 0 | L50: =L49+B50 -> 224 | M50: =M49+C50 -> 30 | N50: =L50+M50 -> 254 | O50: =O49+E50 -> 207 | P50: =P49+F50 -> 0 | Q50: =Q49+G50 -> 22 | R50: =O50+Q50 -> 229 | S50: =S49+I50 -> 0 | T50: =T49+J50 -> 0 | U50: =S50+T50 -> 0
A51: 42248 | D51: =B51+C51 -> 0 | H51: =E51+G51 -> 0 | K51: =I51+J51 -> 0 | L51: =L50+B51 -> 224 | M51: =M50+C51 -> 30 | N51: =L51+M51 -> 254 | O51: =O50+E51 -> 207 | P51: =P50+F51 -> 0 | Q51: =Q50+G51 -> 22 | R51: =O51+Q51 -> 229 | S51: =S50+I51 -> 0 | T51: =T50+J51 -> 0 | U51: =S51+T51 -> 0
A52: 42278 | D52: =B52+C52 -> 0 | H52: =E52+G52 -> 0 | K52: =I52+J52 -> 0 | L52: =L51+B52 -> 224 | M52: =M51+C52 -> 30 | N52: =L52+M52 -> 254 | O52: =O51+E52 -> 207 | P52: =P51+F52 -> 0 | Q52: =Q51+G52 -> 22 | R52: =O52+Q52 -> 229 | S52: =S51+I52 -> 0 | T52: =T51+J52 -> 0 | U52: =S52+T52 -> 0
A53: 42309 | D53: =B53+C53 -> 0 | H53: =E53+G53 -> 0 | K53: =I53+J53 -> 0 | L53: =L52+B53 -> 224 | M53: =M52+C53 -> 30 | N53: =L53+M53 -> 254 | O53: =O52+E53 -> 207 | P53: =P52+F53 -> 0 | Q53: =Q52+G53 -> 22 | R53: =O53+Q53 -> 229 | S53: =S52+I53 -> 0 | T53: =T52+J53 -> 0 | U53: =S53+T53 -> 0
A54: 42339 | D54: =B54+C54 -> 0 | H54: =E54+G54 -> 0 | K54: =I54+J54 -> 0 | L54: =L53+B54 -> 224 | M54: =M53+C54 -> 30 | N54: =L54+M54 -> 254 | O54: =O53+E54 -> 207 | P54: =P53+F54 -> 0 | Q54: =Q53+G54 -> 22 | R54: =O54+Q54 -> 229 | S54: =S53+I54 -> 0 | T54: =T53+J54 -> 0 | U54: =S54+T54 -> 0
A59: COMPTES
A60: RESEAU
B61: par mois | I61: en cumulé
B62: Nombre de comptes | C62: Nombre de redressements Santé(yc mutualisé à partir de août) | D62: Nombre de redressements Prévoyance | E62: Nombre de redressements Total | F62: impact marge Santé | G62: impact marge prev Prévoyance | H62: impact marge total Total | I62: Nombre de comptes | J62: Nombre de redressements Santé | K62: Nombre de redressements Prévoyance | L62: Nombre de redressements Total | M62: impact marge Santé | N62: impact marge prev Prévoyance | O62: impact marge total Total
A63: 42005 | B63: 0 | C63: 0 | D63: 0 | E63: =C63+D63 -> 0 | F63: 0 | G63: 0 | H63: =F63+G63 -> 0 | I63: =B63 -> 0 | J63: =C63 -> 0 | K63: =D63 -> 0 | L63: =J63+K63 -> 0 | M63: =F63 -> 0 | N63: =G63 -> 0 | O63: =M63+N63 -> 0
A64: 42036 | B64: 0 | C64: 0 | D64: 0 | E64: =C64+D64 -> 0 | F64: 0 | G64: 0 | H64: =F64+G64 -> 0 | I64: =I63+B64 -> 0 | J64: =J63+C64 -> 0 | K64: =K63+D64 -> 0 | L64: =J64+K64 -> 0 | M64: =M63+F64 -> 0 | N64: =N63+G64 -> 0 | O64: =M64+N64 -> 0
A65: 42064 | B65: 0 | C65: 0 | D65: 0 | E65: =C65+D65 -> 0 | F65: 0 | G65: 0 | H65: =F65+G65 -> 0 | I65: =I64+B65 -> 0 | J65: =J64+C65 -> 0 | K65: =K64+D65 -> 0 | L65: =J65+K65 -> 0 | M65: =M64+F65 -> 0 | N65: =N64+G65 -> 0 | O65: =M65+N65 -> 0
A66: 42095 | B66: 52 | C66: 0 | D66: 0 | E66: =C66+D66 -> 0 | F66: 0 | G66: 0 | H66: =F66+G66 -> 0 | I66: =I65+B66 -> 52 | J66: =J65+C66 -> 0 | K66: =K65+D66 -> 0 | L66: =J66+K66 -> 0 | M66: =M65+F66 -> 0 | N66: =N65+G66 -> 0 | O66: =M66+N66 -> 0
A67: 42125 | B67: 109 | C67: 90 | D67: 41 | E67: =C67+D67 -> 131 | F67: 2174835 | G67: 2862184 | H67: =F67+G67 -> 5037019 | I67: =I66+B67 -> 161 | J67: =J66+C67 -> 90 | K67: =K66+D67 -> 41 | L67: =J67+K67 -> 131 | M67: =M66+F67 -> 2174835 | N67: =N66+G67 -> 2862184 | O67: =M67+N67 -> 5037019
A68: 42156 | B68: 237 | C68: 27 | D68: 23 | E68: =C68+D68 -> 50 | F68: 517192 | G68: 1254624 | H68: =F68+G68 -> 1771816 | I68: =I67+B68 -> 398 | J68: =J67+C68 -> 117 | K68: =K67+D68 -> 64 | L68: =J68+K68 -> 181 | M68: =M67+F68 -> 2692027 | N68: =N67+G68 -> 4116808 | O68: =M68+N68 -> 6808835
A69: 42186 | B69: 68 | C69: 20 | D69: 16 | E69: =C69+D69 -> 36 | F69: 635847 | G69: 1526984 | H69: =F69+G69 -> 2162831 | I69: =I68+B69 -> 466 | J69: =J68+C69 -> 137 | K69: =K68+D69 -> 80 | L69: =J69+K69 -> 217 | M69: =M68+F69 -> 3327874 | N69: =N68+G69 -> 5643792 | O69: =M69+N69 -> 8971666
A70: 42217 | E70: =C70+D70 -> 0 | H70: =F70+G70 -> 0 | I70: =I69+B70 -> 466 | J70: =J69+C70 -> 137 | K70: =K69+D70 -> 80 | L70: =J70+K70 -> 217 | M70: =M69+F70 -> 3327874 | N70: =N69+G70 -> 5643792 | O70: =M70+N70 -> 8971666
A71: 42248 | E71: =C71+D71 -> 0 | H71: =F71+G71 -> 0 | I71: =I70+B71 -> 466 | J71: =J70+C71 -> 137 | K71: =K70+D71 -> 80 | L71: =J71+K71 -> 217 | M71: =M70+F71 -> 3327874 | N71: =N70+G71 -> 5643792 | O71: =M71+N71 -> 8971666
A72: 42278 | E72: =C72+D72 -> 0 | H72: =F72+G72 -> 0 | I72: =I71+B72 -> 466 | J72: =J71+C72 -> 137 | K72: =K71+D72 -> 80 | L72: =J72+K72 -> 217 | M72: =M71+F72 -> 3327874 | N72: =N71+G72 -> 5643792 | O72: =M72+N72 -> 8971666
A73: 42309 | E73: =C73+D73 -> 0 | H73: =F73+G73 -> 0 | I73: =I72+B73 -> 466 | J73: =J72+C73 -> 137 | K73: =K72+D73 -> 80 | L73: =J73+K73 -> 217 | M73: =M72+F73 -> 3327874 | N73: =N72+G73 -> 5643792 | O73: =M73+N73 -> 8971666
A74: 42339 | E74: =C74+D74 -> 0 | H74: =F74+G74 -> 0 | I74: =I73+B74 -> 466 | J74: =J73+C74 -> 137 | K74: =K73+D74 -> 80 | L74: =J74+K74 -> 217 | M74: =M73+F74 -> 3327874 | N74: =N73+G74 -> 5643792 | O74: =M74+N74 -> 8971666
A76: COMPTES
A77: GC
B78: par mois | I78: en cumulé
B79: Nombre de comptes | C79: Nombre de redressements Santé | D79: Nombre de redressements Prévoyance | E79: Nombre de redressements Total | F79: impact marge Santé | G79: impact marge prev Prévoyance | H79: impact marge total Total | I79: Nombre de comptes | J79: Nombre de redressements Santé | K79: Nombre de redressements Prévoyance | L79: Nombre de redressements Total | M79: impact marge Santé | N79: impact marge prev Prévoyance | O79: impact marge total Total
A80: 42005 | B80: 0 | C80: 0 | D80: 0 | E80: =C80+D80 -> 0 | F80: 0 | G80: 0 | H80: =F80+G80 -> 0 | I80: =B80 -> 0 | J80: =C80 -> 0 | K80: =D80 -> 0 | L80: =J80+K80 -> 0 | M80: =F80 -> 0 | N80: =G80 -> 0 | O80: =M80+N80 -> 0
A81: 42036 | B81: 0 | C81: 0 | D81: 0 | E81: =C81+D81 -> 0 | F81: 0 | G81: 0 | H81: =F81+G81 -> 0 | I81: =I80+B81 -> 0 | J81: =J80+C81 -> 0 | K81: =K80+D81 -> 0 | L81: =J81+K81 -> 0 | M81: =M80+F81 -> 0 | N81: =N80+G81 -> 0 | O81: =M81+N81 -> 0
A82: 42064 | B82: 0 | C82: 0 | D82: 0 | E82: =C82+D82 -> 0 | F82: 0 | G82: 0 | H82: =F82+G82 -> 0 | I82: =I81+B82 -> 0 | J82: =J81+C82 -> 0 | K82: =K81+D82 -> 0 | L82: =J82+K82 -> 0 | M82: =M81+F82 -> 0 | N82: =N81+G82 -> 0 | O82: =M82+N82 -> 0
A83: 42095 | B83: 50 | C83: 0 | D83: 0 | E83: =C83+D83 -> 0 | F83: 0 | G83: 0 | H83: =F83+G83 -> 0 | I83: =I82+B83 -> 50 | J83: =J82+C83 -> 0 | K83: =K82+D83 -> 0 | L83: =J83+K83 -> 0 | M83: =M82+F83 -> 0 | N83: =N82+G83 -> 0 | O83: =M83+N83 -> 0
A84: 42125 | B84: 45 | C84: 42 | D84: 5 | E84: =C84+D84 -> 47 | F84: 3998251 | G84: 4627055 | H84: =F84+G84 -> 8625306 | I84: =I83+B84 -> 95 | J84: =J83+C84 -> 42 | K84: =K83+D84 -> 5 | L84: =J84+K84 -> 47 | M84: =M83+F84 -> 3998251 | N84: =N83+G84 -> 4627055 | O84: =M84+N84 -> 8625306
A85: 42156 | B85: 58 | C85: 24 | D85: 5 | E85: =C85+D85 -> 29 | F85: 1425674 | G85: 253698 | H85: =F85+G85 -> 1679372 | I85: =I84+B85 -> 153 | J85: =J84+C85 -> 66 | K85: =K84+D85 -> 10 | L85: =J85+K85 -> 76 | M85: =M84+F85 -> 5423925 | N85: =N84+G85 -> 4880753 | O85: =M85+N85 -> 10304678
A86: 42186 | B86: 93 | C86: 43 | D86: 8 | E86: =C86+D86 -> 51 | F86: 2436089 | G86: 6752590 | H86: =F86+G86 -> 9188679 | I86: =I85+B86 -> 246 | J86: =J85+C86 -> 109 | K86: =K85+D86 -> 18 | L86: =J86+K86 -> 127 | M86: =M85+F86 -> 7860014 | N86: =N85+G86 -> 11633343 | O86: =M86+N86 -> 19493357
A87: 42217 | E87: =C87+D87 -> 0 | H87: =F87+G87 -> 0 | I87: =I86+B87 -> 246 | J87: =J86+C87 -> 109 | K87: =K86+D87 -> 18 | L87: =J87+K87 -> 127 | M87: =M86+F87 -> 7860014 | N87: =N86+G87 -> 11633343 | O87: =M87+N87 -> 19493357
A88: 42248 | E88: =C88+D88 -> 0 | H88: =F88+G88 -> 0 | I88: =I87+B88 -> 246 | J88: =J87+C88 -> 109 | K88: =K87+D88 -> 18 | L88: =J88+K88 -> 127 | M88: =M87+F88 -> 7860014 | N88: =N87+G88 -> 11633343 | O88: =M88+N88 -> 19493357
A89: 42278 | E89: =C89+D89 -> 0 | H89: =F89+G89 -> 0 | I89: =I88+B89 -> 246 | J89: =J88+C89 -> 109 | K89: =K88+D89 -> 18 | L89: =J89+K89 -> 127 | M89: =M88+F89 -> 7860014 | N89: =N88+G89 -> 11633343 | O89: =M89+N89 -> 19493357
A90: 42309 | E90: =C90+D90 -> 0 | H90: =F90+G90 -> 0 | I90: =I89+B90 -> 246 | J90: =J89+C90 -> 109 | K90: =K89+D90 -> 18 | L90: =J90+K90 -> 127 | M90: =M89+F90 -> 7860014 | N90: =N89+G90 -> 11633343 | O90: =M90+N90 -> 19493357
A91: 42339 | E91: =C91+D91 -> 0 | H91: =F91+G91 -> 0 | I91: =I90+B91 -> 246 | J91: =J90+C91 -> 109 | K91: =K90+D91 -> 18 | L91: =J91+K91 -> 127 | M91: =M90+F91 -> 7860014 | N91: =N90+G91 -> 11633343 | O91: =M91+N91 -> 19493357
A93: COMPTES
A94: CCN
B95: par mois | I95: en cumulé
B96: Nombre de comptes | C96: Nombre de redressements Santé | D96: Nombre de redressements Prévoyance | E96: Nombre de redressements Total | F96: impact marge Santé | G96: impact marge prev Prévoyance | H96: impact marge total Total | I96: Nombre de comptes | J96: Nombre de redressements Santé | K96: Nombre de redressements Prévoyance | L96: Nombre de redressements Total | M96: impact marge Santé | N96: impact marge prev Prévoyance | O96: impact marge total Total
A97: 42005 | B97: 0 | C97: 0 | D97: 0 | E97: =C97+D97 -> 0 | F97: 0 | G97: 0 | H97: =F97+G97 -> 0 | I97: =B97 -> 0 | J97: =C97 -> 0 | K97: =D97 -> 0 | L97: =J97+K97 -> 0 | M97: =F97 -> 0 | N97: =G97 -> 0 | O97: =M97+N97 -> 0
A98: 42036 | B98: 0 | C98: 0 | D98: 0 | E98: =C98+D98 -> 0 | F98: 0 | G98: 0 | H98: =F98+G98 -> 0 | I98: =I97+B98 -> 0 | J98: =J97+C98 -> 0 | K98: =K97+D98 -> 0 | L98: =J98+K98 -> 0 | M98: =M97+F98 -> 0 | N98: =N97+G98 -> 0 | O98: =M98+N98 -> 0
A99: 42064 | B99: 0 | C99: 0 | D99: 0 | E99: =C99+D99 -> 0 | F99: 0 | G99: 0 | H99: =F99+G99 -> 0 | I99: =I98+B99 -> 0 | J99: =J98+C99 -> 0 | K99: =K98+D99 -> 0 | L99: =J99+K99 -> 0 | M99: =M98+F99 -> 0 | N99: =N98+G99 -> 0 | O99: =M99+N99 -> 0
A100: 42095 | B100: 5 | C100: 0 | D100: 0 | E100: =C100+D100 -> 0 | F100: 0 | G100: 0 | H100: =F100+G100 -> 0 | I100: =I99+B100 -> 5 | J100: =J99+C100 -> 0 | K100: =K99+D100 -> 0 | L100: =J100+K100 -> 0 | M100: =M99+F100 -> 0 | N100: =N99+G100 -> 0 | O100: =M100+N100 -> 0
A101: 42125 | B101: 4 | C101: 0 | D101: 1 | E101: =C101+D101 -> 1 | F101: 0 | G101: 75535 | H101: =F101+G101 -> 75535 | I101: =I100+B101 -> 9 | J101: =J100+C101 -> 0 | K101: =K100+D101 -> 1 | L101: =J101+K101 -> 1 | M101: =M100+F101 -> 0 | N101: =N100+G101 -> 75535 | O101: =M101+N101 -> 75535
A102: 42156 | B102: 7 | C102: 0 | D102: 0 | E102: =C102+D102 -> 0 | F102: 0 | G102: 0 | H102: =F102+G102 -> 0 | I102: =I101+B102 -> 16 | J102: =J101+C102 -> 0 | K102: =K101+D102 -> 1 | L102: =J102+K102 -> 1 | M102: =M101+F102 -> 0 | N102: =N101+G102 -> 75535 | O102: =M102+N102 -> 75535
A103: 42186 | B103: 2 | C103: 1 | D103: 1 | E103: =C103+D103 -> 2 | F103: 10919 | G103: 10700172 | H103: =F103+G103 -> 10711091 | I103: =I102+B103 -> 18 | J103: =J102+C103 -> 1 | K103: =K102+D103 -> 2 | L103: =J103+K103 -> 3 | M103: =M102+F103 -> 10919 | N103: =N102+G103 -> 10775707 | O103: =M103+N103 -> 10786626
A104: 42217 | E104: =C104+D104 -> 0 | H104: =F104+G104 -> 0 | I104: =I103+B104 -> 18 | J104: =J103+C104 -> 1 | K104: =K103+D104 -> 2 | L104: =J104+K104 -> 3 | M104: =M103+F104 -> 10919 | N104: =N103+G104 -> 10775707 | O104: =M104+N104 -> 10786626
A105: 42248 | E105: =C105+D105 -> 0 | H105: =F105+G105 -> 0 | I105: =I104+B105 -> 18 | J105: =J104+C105 -> 1 | K105: =K104+D105 -> 2 | L105: =J105+K105 -> 3 | M105: =M104+F105 -> 10919 | N105: =N104+G105 -> 10775707 | O105: =M105+N105 -> 10786626
A106: 42278 | E106: =C106+D106 -> 0 | H106: =F106+G106 -> 0 | I106: =I105+B106 -> 18 | J106: =J105+C106 -> 1 | K106: =K105+D106 -> 2 | L106: =J106+K106 -> 3 | M106: =M105+F106 -> 10919 | N106: =N105+G106 -> 10775707 | O106: =M106+N106 -> 10786626
A107: 42309 | E107: =C107+D107 -> 0 | H107: =F107+G107 -> 0 | I107: =I106+B107 -> 18 | J107: =J106+C107 -> 1 | K107: =K106+D107 -> 2 | L107: =J107+K107 -> 3 | M107: =M106+F107 -> 10919 | N107: =N106+G107 -> 10775707 | O107: =M107+N107 -> 10786626
A108: 42339 | E108: =C108+D108 -> 0 | H108: =F108+G108 -> 0 | I108: =I107+B108 -> 18 | J108: =J107+C108 -> 1 | K108: =K107+D108 -> 2 | L108: =J108+K108 -> 3 | M108: =M107+F108 -> 10919 | N108: =N107+G108 -> 10775707 | O108: =M108+N108 -> 10786626
A113: MISE EN PRODUCTION
A114: RESEAU
B115: par mois | H115: en cumulé
B116: MEP recues Santé | C116: MEP recues Prev | D116: MEP recues Total | E116: MEP validées Santé | F116: MEP validées Prev | G116: MEP validées Total | H116: MEP recues Santé | I116: MEP recues Prev | J116: MEP recues Total | K116: MEP validées Santé | L116: MEP validées Prev | M116: MEP validées Total
...
