Workbook
Name contenant: info!$B$2:$B$14

Sheet Inv
A1: Type | H1: Invintaire des Bouteilles
A2: Entrée | B2: 1 | G2: cl | H2: 33 | I2: 37.5 | J2: 75
A3: Sortie | B3: -1 | G3: inv. Actuel | H3: =H5+(SUM(H6:H1000000)) -> 1048 | I3: =I5+(SUM(I6:I1000000)) -> -1456 | J3: =J5+(SUM(J6:J1000000)) -> 2340
A5: 43101 | B5: Qte | C5: Type | D5: Contenant | E5: cl | F5: Nbr. Bouteille | G5: début inv. | H5: 1000 | I5: 2000 | J5: 3000
A6: 43102 | B6: 2 | C6: 1 | D6: carton-33 | E6: =IFERROR(INDEX(info!C:C,MATCH(D6,info!B:B,0)),0) -> 33 | F6: =IFERROR(INDEX(info!$F:$F,MATCH(D6,info!$B:$B,0)),0) -> 24 | H6: =IF($E6=H$2,($B6*$C6*$F6),0) -> 48 | I6: =IF($E6=I$2,($B6*$C6*$F6),0) -> 0 | J6: =IF($E6=J$2,($B6*$C6*$F6),0) -> 0
A7: 43103 | B7: 3 | C7: -1 | D7: palette / bacs-37.5 | E7: =IFERROR(INDEX(info!C:C,MATCH(D7,info!B:B,0)),0) -> 37.5 | F7: =IFERROR(INDEX(info!$F:$F,MATCH(D7,info!$B:$B,0)),0) -> 1152 | H7: =IF($E7=H$2,($B7*$C7*$F7),0) -> 0 | I7: =IF($E7=I$2,($B7*$C7*$F7),0) -> -3456 | J7: =IF($E7=J$2,($B7*$C7*$F7),0) -> 0
A8: 43104 | B8: 1 | C8: -1 | D8: palette / cartons-75 | E8: =IFERROR(INDEX(info!C:C,MATCH(D8,info!B:B,0)),0) -> 75 | F8: =IFERROR(INDEX(info!$F:$F,MATCH(D8,info!$B:$B,0)),0) -> 660 | H8: =IF($E8=H$2,($B8*$C8*$F8),0) -> 0 | I8: =IF($E8=I$2,($B8*$C8*$F8),0) -> 0 | J8: =IF($E8=J$2,($B8*$C8*$F8),0) -> -660
E9: =IFERROR(INDEX(info!C:C,MATCH(D9,info!B:B,0)),0) -> 0 | F9: =IFERROR(INDEX(info!$F:$F,MATCH(D9,info!$B:$B,0)),0) -> 0 | H9: =IF($E9=H$2,($B9*$C9*$F9),0) -> 0 | I9: =IF($E9=I$2,($B9*$C9*$F9),0) -> 0 | J9: =IF($E9=J$2,($B9*$C9*$F9),0) -> 0
E10: =IFERROR(INDEX(info!C:C,MATCH(D10,info!B:B,0)),0) -> 0 | F10: =IFERROR(INDEX(info!$F:$F,MATCH(D10,info!$B:$B,0)),0) -> 0 | H10: =IF($E10=H$2,($B10*$C10*$F10),0) -> 0 | I10: =IF($E10=I$2,($B10*$C10*$F10),0) -> 0 | J10: =IF($E10=J$2,($B10*$C10*$F10),0) -> 0
E11: =IFERROR(INDEX(info!C:C,MATCH(D11,info!B:B,0)),0) -> 0 | F11: =IFERROR(INDEX(info!$F:$F,MATCH(D11,info!$B:$B,0)),0) -> 0 | H11: =IF($E11=H$2,($B11*$C11*$F11),0) -> 0 | I11: =IF($E11=I$2,($B11*$C11*$F11),0) -> 0 | J11: =IF($E11=J$2,($B11*$C11*$F11),0) -> 0
E12: =IFERROR(INDEX(info!C:C,MATCH(D12,info!B:B,0)),0) -> 0 | F12: =IFERROR(INDEX(info!$F:$F,MATCH(D12,info!$B:$B,0)),0) -> 0 | H12: =IF($E12=H$2,($B12*$C12*$F12),0) -> 0 | I12: =IF($E12=I$2,($B12*$C12*$F12),0) -> 0 | J12: =IF($E12=J$2,($B12*$C12*$F12),0) -> 0
E13: =IFERROR(INDEX(info!C:C,MATCH(D13,info!B:B,0)),0) -> 0 | F13: =IFERROR(INDEX(info!$F:$F,MATCH(D13,info!$B:$B,0)),0) -> 0 | H13: =IF($E13=H$2,($B13*$C13*$F13),0) -> 0 | I13: =IF($E13=I$2,($B13*$C13*$F13),0) -> 0 | J13: =IF($E13=J$2,($B13*$C13*$F13),0) -> 0
E14: =IFERROR(INDEX(info!C:C,MATCH(D14,info!B:B,0)),0) -> 0 | F14: =IFERROR(INDEX(info!$F:$F,MATCH(D14,info!$B:$B,0)),0) -> 0 | H14: =IF($E14=H$2,($B14*$C14*$F14),0) -> 0 | I14: =IF($E14=I$2,($B14*$C14*$F14),0) -> 0 | J14: =IF($E14=J$2,($B14*$C14*$F14),0) -> 0
E15: =IFERROR(INDEX(info!C:C,MATCH(D15,info!B:B,0)),0) -> 0 | F15: =IFERROR(INDEX(info!$F:$F,MATCH(D15,info!$B:$B,0)),0) -> 0 | H15: =IF($E15=H$2,($B15*$C15*$F15),0) -> 0 | I15: =IF($E15=I$2,($B15*$C15*$F15),0) -> 0 | J15: =IF($E15=J$2,($B15*$C15*$F15),0) -> 0
E16: =IFERROR(INDEX(info!C:C,MATCH(D16,info!B:B,0)),0) -> 0 | F16: =IFERROR(INDEX(info!$F:$F,MATCH(D16,info!$B:$B,0)),0) -> 0 | H16: =IF($E16=H$2,($B16*$C16*$F16),0) -> 0 | I16: =IF($E16=I$2,($B16*$C16*$F16),0) -> 0 | J16: =IF($E16=J$2,($B16*$C16*$F16),0) -> 0
E17: =IFERROR(INDEX(info!C:C,MATCH(D17,info!B:B,0)),0) -> 0 | F17: =IFERROR(INDEX(info!$F:$F,MATCH(D17,info!$B:$B,0)),0) -> 0 | H17: =IF($E17=H$2,($B17*$C17*$F17),0) -> 0 | I17: =IF($E17=I$2,($B17*$C17*$F17),0) -> 0 | J17: =IF($E17=J$2,($B17*$C17*$F17),0) -> 0
E18: =IFERROR(INDEX(info!C:C,MATCH(D18,info!B:B,0)),0) -> 0 | F18: =IFERROR(INDEX(info!$F:$F,MATCH(D18,info!$B:$B,0)),0) -> 0 | H18: =IF($E18=H$2,($B18*$C18*$F18),0) -> 0 | I18: =IF($E18=I$2,($B18*$C18*$F18),0) -> 0 | J18: =IF($E18=J$2,($B18*$C18*$F18),0) -> 0
E19: =IFERROR(INDEX(info!C:C,MATCH(D19,info!B:B,0)),0) -> 0 | F19: =IFERROR(INDEX(info!$F:$F,MATCH(D19,info!$B:$B,0)),0) -> 0 | H19: =IF($E19=H$2,($B19*$C19*$F19),0) -> 0 | I19: =IF($E19=I$2,($B19*$C19*$F19),0) -> 0 | J19: =IF($E19=J$2,($B19*$C19*$F19),0) -> 0
E20: =IFERROR(INDEX(info!C:C,MATCH(D20,info!B:B,0)),0) -> 0 | F20: =IFERROR(INDEX(info!$F:$F,MATCH(D20,info!$B:$B,0)),0) -> 0 | H20: =IF($E20=H$2,($B20*$C20*$F20),0) -> 0 | I20: =IF($E20=I$2,($B20*$C20*$F20),0) -> 0 | J20: =IF($E20=J$2,($B20*$C20*$F20),0) -> 0
... E29: =IFERROR(INDEX(info!C:C,MATCH(D29,info!B:B,0)),0) -> 0 | F29: =IFERROR(INDEX(info!$F:$F,MATCH(D29,info!$B:$B,0)),0) -> 0 | H29: =IF($E29=H$2,($B29*$C29*$F29),0) -> 0 | I29: =IF($E29=I$2,($B29*$C29*$F29),0) -> 0 | J29: =IF($E29=J$2,($B29*$C29*$F29),0) -> 0

Sheet info
A1: Qte | B1: stocks | C1: cl | F1: bouteilles
A3: 1 | B3: bac-33 | C3: 33 | F3: 24
A4: 1 | B4: bac-37.5 | C4: 37.5 | F4: 24
A5: 1 | B5: bac-75 | C5: 75 | F5: 12
A6: 1 | B6: carton-33 | C6: 33 | F6: 24
A7: 1 | B7: carton-37.5 | C7: 37.5 | F7: 12
A8: 1 | B8: carton-75 | C8: 75 | F8: 12
A9: 1 | B9: palette / bacs-33 | C9: 33 | D9: 60 | E9: bacs | F9: =D9*F3 -> 1440
A10: 1 | B10: palette / bacs-37.5 | C10: 37.5 | D10: 48 | E10: bacs | F10: =D10*F4 -> 1152
A11: 1 | B11: palette / bacs-75 | C11: 75 | D11: 48 | E11: bacs | F11: =D11*F5 -> 576
A12: 1 | B12: palette / cartons-33 | C12: 33 | D12: 72 | E12: cartons | F12: =D12*F6 -> 1728
A13: 1 | B13: palette / cartons-37.5 | C13: 37.5 | D13: 102 | E13: cartons | F13: =D13*F7 -> 1224
A14: 1 | B14: palette / cartons-75 | C14: 75 | D14: 55 | E14: cartons | F14: =D14*F8 -> 660
