Workbook
Name dept: Parametres!$I$2
Name Nom: OFFSET(Parametres!$A$2,,,COUNTIF(Parametres!$A:$A,"><")-1)
Name Plaques: OFFSET(Parametres!$C$1,1,,COUNTA(Parametres!$C:$C),2)
Name TRINOM: OFFSET(dept,,COUNTIF(Parametres!$I:$I,"><")-1)
Name Véhicules: OFFSET(dept,,,COUNTIF(Parametres!$C:$C,"><")-1)

Sheet ACCUEIL
B1: UNITED AIRLINES NEWARK
N2: NEWARK UA 044 / 045 | P2: A PARTIR DU 01/01/2015
N4: ALL COCKPIT CREW --> | Q4: THE HOTEL
F5: DATE | G5: 42393 | Q5: Boulevard de Waterloo, 38
N6: vol: | O6: Chicago UA 972 | Q6: 1000 Bruxelles
O7: Newatk UA 999 | Q7: Tél: 02/504 11 11
A8: UNITED AIRLINES NEWARK (UA 999) | O8: Washington UA 950 | Q8: Fax: 02/504 21 11
A9: BN AVION --> THE HOTEL ---- COCKPIT CREW
A10: N° | B10: NOM, PRENOMS | C10: N° VOL | D10: Heures | E10: Pax | F10: Véhicules | G10: Plaques | H10: Remarques
N11: CABINE CREW --> | Q11: STEIGENBERGER GRANDHOTEL
A12: 1 | B12: e | C12: UA 999 | D12: 07.50 | E12: 3 | F12: 55 | G12: {=VLOOKUP(G11,Plaques,2,0)} -> #N/A | Q12: Avenue Louise, 71
N13: Vol UA 972 Chicago | Q13: 1050 Bruxelles
A14: UNITED AIRLINES NEWARK (UA 999) | N14: vol UA 999 Newark | Q14: Tél: 02/542 42 42
A15: BN AVION --> STEIGENBERGER ---- CABINE CREW | Q15: Fax: 02/542 42 00
A16: N° | B16: NOM, PRENOMS | C16: N° VOL | D16: Heures | E16: Pax | F16: Véhicules | G16: Plaques | H16: Remarques
A18: 2 | B18: GUERRERA PIETRO | C18: UA 999 | D18: 07.50 | E18: 10 | F18: 99 | G18: 897-BCB | N18: CABINE CREW --> | Q18: RADISSON BLU ROYAL HOTEL
Q19: Rue du Fossé-aux-Loups, 47
A20: UNITED AIRLINES NEWARK (UA 998) | N20: Vol UA 950 Washington | Q20: 1000 Bruxelles
A21: THE HOTEL --> BN AVION ---- COCKPIT CREW | Q21: Tél: 02/219 28 28
A22: N° | B22: NOM, PRENOMS | C22: N° VOL | D22: Heures | E22: Pax | F22: Véhicules | G22: Plaques | H22: Remarques | Q22: Tél: 02/227 31 83 Congierge
Q23: Email: concierge.brussels@radissonblu.com
A24: 3 | B24: EL AMRANI NAJIM | C24: UA 998 | D24: 08.05 | E24: 3 | F24: 58 | G24: 1-GSR-063
A26: UNITED AIRLINES NEWARK (UA 998) | N26: VEHICULES: | O26: SPRINTER | Q26: VIANO
A27: STEIGENBERGER ---> BN AVION ---- CABINE CREW | O27: 75 | P27: 1-FDN-454 | Q27: 57 | R27: 1-HHE-232
A28: N° | B28: NOM, PRENOMS | C28: N° VOL | D28: Heures | E28: Pax | F28: Véhicules | G28: Plaques | H28: Remarques | O28: 92 | P28: 1-CXQ-003 | Q28: 58 | R28: 1-GSR-063
O29: 98 | P29: 076-BCC | Q29: 59 | R29: 1-FGF-340
A30: 4 | B30: SAKOUANE MOHAMED | C30: UA 998 | D30: 07.40 | E30: 10 | F30: 97 | G30: 075-BCC
A31: 5 | C31: UA 998 | D31: 07.40 | E31: 1
B34: UNITED AIRLINES WASHINGTON
F38: DATE | G38: =G5 -> 42393
A41: UNITED AIRLINES WASHINGTON (UA 950)
A42: BN AVION --> THE HOTEL ---- COCKPIT CREW
A43: N° | B43: NOM, PRENOMS | C43: N° VOL | D43: Heures | E43: Pax | F43: Véhicules | G43: Plaques | H43: Remarques
A45: 1 | B45: ADBAIDI ZAKARIA | C45: UA 950 | D45: 07.15 | E45: 3 | F45: 63 | G45: 1-EVM-482
A47: UNITED AIRLINES WASHINGTON (UA 950)
A48: BN AVION --> RADISSON BLUE ---- CABINE CREW
A49: N° | B49: NOM, PRENOMS | C49: N° VOL | D49: Heures | E49: Pax | F49: Véhicules | G49: Plaques | H49: Remarques
A51: 2 | B51: EL AMRANI NAJIM | C51: UA 950 | D51: 07.15 | E51: 10 | F51: 95 | G51: YSE-509
A53: UNITED AIRLINES WASHINGTON (UA 950)
A54: RADISSON BLUE --> BN AVION ---- CABINE CREW
A55: N° | B55: NOM, PRENOMS | C55: N° VOL | D55: Heures | E55: Pax | F55: Véhicules | G55: Plaques | H55: Remarques
A57: 3 | B57: SAKOUANE MOHAMED | C57: UA 951 | D57: 13.25 | E57: 9 | F57: 97 | G57: 075-BCC
A58: 5 | C58: UA 951 | D58: 13.25 | E58: 1
A60: UNITED AIRLINES WASHINGTON (UA 950)
A61: THE HOTEL ---> BN AVION ---- COCKPIT CREW
A62: N° | B62: NOM, PRENOMS | C62: N° VOL | D62: Heures | E62: Pax | F62: Véhicules | G62: Plaques | H62: Remarques
A64: 4 | B64: ROSSI ABDELILAH | C64: UA 951 | D64: 13.50 | E64: 3 | F64: 63 | G64: 1-EVM-482
B68: UNITED AIRLINES CHICAGO
F72: DATE | G72: =G5 -> 42393
A75: UNITED AIRLINES CHICAGO (UA 972)
A76: BN AVION --> THE HOTEL ---- COCKPIT CREW
A77: N° | B77: NOM, PRENOMS | C77: N° VOL | D77: Heures | E77: Pax | F77: Véhicules | G77: Plaques | H77: Remarques
A79: 1 | B79: EL AMRANI NAJIM | C79: UA 972 | D79: 08.50 | E79: 3 | F79: 58 | G79: 1-GSR-063
A81: UNITED AIRLINES CHICAGO (UA 972)
A82: BN AVION --> STEIGENBERGER ---- CABINE CREW
A83: N° | B83: NOM, PRENOMS | C83: N° VOL | D83: Heures | E83: Pax | F83: Véhicules | G83: Plaques | H83: Remarques
A85: 2 | B85: SAKOUANE MOHAMED | C85: UA 972 | D85: 08.50 | E85: 11 | F85: 97 | G85: 075-BCC
A87: UNITED AIRLINES CHICAGO (UA 973)
A88: THE HOTEL --> BN AVION ---- COCKPIT CREW
A89: N° | B89: NOM, PRENOMS | C89: N° VOL | D89: Heures | E89: Pax | F89: Véhicules | G89: Plaques | H89: Remarques
A91: 3 | B91: JAZOULI RIDOUAN | C91: UA 973 | D91: 09.00 | E91: 3 | F91: 51 | G91: 1-LBP-866
A93: UNITED AIRLINES CHICAGO (UA 973)
A94: STEIGENBERGER ---> BN AVION ---- CABINE CREW
A95: N° | B95: NOM, PRENOMS | C95: N° VOL | D95: Heures | E95: Pax | F95: Véhicules | G95: Plaques | H95: Remarques
A97: 4 | B97: AOULAD ABDELKARIM | C97: UA 973 | D97: 08.35 | E97: 8 | F97: 101 | G97: 1-EPU-104

Sheet UA 999 NEWARK
A1: FEUILLE DE ROUTE CHAUFFEUR
A3: DATE | B3: =ACCUEIL!G5 -> 42393 | E3: RETOUR | F3: =B3 -> 42393
A4: VEHICULE | B4: =ACCUEIL!F12 -> 55 | E4: PLAQUE | F4: =ACCUEIL!G12 -> #N/A
A5: CHAUFFEUR | B5: =ACCUEIL!B12 -> e | E5: N° REF | F5: UA 999 NEWARK
A7: CLIENT | C7: UNITED AIRLINES
A8: LIEU DE DEPART | C8: BRUSSELS AIRPORT | E8: Heure de départ | G8: =ACCUEIL!D12 -> 07.50
C9: POSITION VOL UA 044
C10: 1930 ZAVENTEM
A11: ARRETS
A12: DESTINATION | C12: THE HOTEL | E12: VOL | F12: =ACCUEIL!C12 -> UA 999
C13: Boulevard de Waterloo, 38
C14: 1000 Bruxelles | E14: Nbre de PAX | F14: =ACCUEIL!E12 -> 3
E17: Heure de fin
A18: TYPE DE VOYAGE | C18: TRANSFERT CREWS
A19: DESCRIPTION
A22: Documents de bord: | C22: Valide | D22: Pas valide | F22: O.B.D. (Message Display)
A23: Carnet d'immatriculation
A24: Assurance
A25: Contrôle technique
A27: Etat de propreté int: | C27: Propre | D27: Sale
A29: Matériel de secours: | C29: Présent | D29: Manquant
A30: Extincteur
A31: Triangle | E31: =[1]ACCEUIL!$H$16 -> ATTN. A LA VITESSE
A32: Boîte de secours
A34: Niveaux Divers: | C34: Bon | D34: Complété
A35: Etats des pneus
A36: Lumière
A37: Essuie-glaces
A38: Lave-glaces
A39: Eau | E39: ONLY CREW NO FAMILY
A40: Huile
A42: Premier stop
A43: Arrivée destination
A44: Départ destination
A45: Dernier stop
A46: Arrivée Garage
A47: TOTAL KM
C48: Important
B50: Contrôler les niveaux d'huile et de liquide de refroidissement
A51: FEUILLE DE ROUTE CHAUFFEUR
A53: DATE | B53: =ACCUEIL!G5 -> 42393 | E53: RETOUR | F53: =B53 -> 42393
A54: VEHICULE | B54: =ACCUEIL!F18 -> 99 | E54: PLAQUE | F54: =ACCUEIL!G18 -> 897-BCB
A55: CHAUFFEUR | B55: =ACCUEIL!B18 -> GUERRERA PIETRO | E55: N° REF | F55: UA 999 NEWARK
A57: CLIENT | C57: UNITED AIRLINES
A58: LIEU DE DEPART | C58: BRUSSELS AIRPORT | E58: Heure de départ | G58: =ACCUEIL!D18 -> 07.50
C59: POSITION VOL UA 044
C60: 1930 ZAVENTEM
A61: ARRETS
A62: DESTINATION | C62: STEIGENBERGER GRANDHTL | F62: =ACCUEIL!C18 -> UA 999
C63: Avenue Louise, 71
C64: 1050 Bruxelles | F64: PAX | G64: =ACCUEIL!E18 -> 10
E67: Heure de fin
A68: TYPE DE VOYAGE | C68: TRANSFERT CREWS
A69: DESCRIPTION
A72: Documents de bord: | C72: Valide | D72: Pas valide | F72: O.B.D. (Message Display)
A73: Carnet d'immatriculation
A74: Assurance
A75: Contrôle technique
A77: Etat de propreté int: | C77: Propre | D77: Sale
A79: Matériel de secours: | C79: Présent | D79: Manquant
A80: Extincteur
A81: Triangle | E81: =[1]ACCEUIL!$H$16 -> ATTN. A LA VITESSE
A82: Boîte de secours
A84: Niveaux Divers: | C84: Bon | D84: Complété
A85: Etats des pneus
A86: Lumière
A87: Essuie-glaces
A88: Lave-glaces
A89: Eau
A90: Huile | E90: ONLY CREW NO FAMILY
A92: Premier stop
A93: Arrivée destination
A94: Départ destination
A95: Dernier stop
A96: Arrivée Garage
A97: TOTAL KM
C98: Important
B99: Contrôler les niveaux d'huile et de liquide de refroidissement
A101: FEUILLE DE ROUTE CHAUFFEUR
A103: DATE | B103: =ACCUEIL!G5 -> 42393 | E103: RETOUR | F103: =B103 -> 42393
A104: VEHICULE | B104: =ACCUEIL!F24 -> 58 | E104: PLAQUE | F104: =ACCUEIL!G24
A105: CHAUFFEUR | B105: =ACCUEIL!B24 -> EL AMRANI NAJIM | E105: N° REF | F105: UA 998 NEWARK
A107: CLIENT | C107: UNITED AIRLINES
A108: LIEU DE DEPART | C108: THE HOTEL | E108: Heure de départ | G108: =ACCUEIL!D24 -> 08.05
A111: ARRETS
A112: DESTINATION | C112: BRUSSELS AIRPORT | E112: VOL | F112: =ACCUEIL!C24 -> UA 998
C113: POSITION VOL UA 044
C114: 1930 ZAVENTEM | E114: Nbre de PAX | F114: =ACCUEIL!E24 -> 3
E117: Heure de fin
A118: TYPE DE VOYAGE | C118: TRANSFERT CREWS
A119: DESCRIPTION
A122: Documents de bord: | C122: Valide | D122: Pas valide | F122: O.B.D. (Message Display)
A123: Carnet d'immatriculation
A124: Assurance
A125: Contrôle technique
A127: Etat de propreté int: | C127: Propre | D127: Sale
A129: Matériel de secours: | C129: Présent | D129: Manquant
A130: Extincteur
A131: Triangle | E131: =[1]ACCEUIL!$H$16 -> ATTN. A LA VITESSE
A132: Boîte de secours
...

Sheet UA 950 WASHINGTON
A1: FEUILLE DE ROUTE CHAUFFEUR
A3: DATE | B3: =ACCUEIL!G38 -> 42393 | E3: RETOUR | F3: =B3 -> 42393
A4: VEHICULE | B4: =ACCUEIL!F45 -> 63 | E4: PLAQUE | F4: =ACCUEIL!G45 -> 1-EVM-482
A5: CHAUFFEUR | B5: =ACCUEIL!B45 -> ADBAIDI ZAKARIA | E5: N° REF | F5: UA 950 WASHINGTON
A7: CLIENT | C7: UNITED AIRLINES
A8: LIEU DE DEPART | C8: BRUSSELS AIRPORT | E8: Heure de départ | G8: =ACCUEIL!D45 -> 07.15
C9: POSITION VOL UA 950
C10: 1930 ZAVENTEM
A11: ARRETS
A12: DESTINATION | C12: THE HOTEL | E12: VOL | F12: =ACCUEIL!C45 -> UA 950
C13: Boulevard de waterloo, 38
C14: 1000 Bruxelles | E14: Nbre de PAX | F14: =ACCUEIL!E45 -> 3
E17: Heure de fin
A18: TYPE DE VOYAGE | C18: TRANSFERT CREWS
A19: DESCRIPTION
A22: Documents de bord: | C22: Valide | D22: Pas valide | F22: O.B.D. (Message Display)
A23: Carnet d'immatriculation
A24: Assurance
A25: Contrôle technique
A27: Etat de propreté int: | C27: Propre | D27: Sale
A29: Matériel de secours: | C29: Présent | D29: Manquant
A30: Extincteur
A31: Triangle | E31: =[1]ACCEUIL!$H$16 -> ATTN. A LA VITESSE
A32: Boîte de secours
A34: Niveaux Divers: | C34: Bon | D34: Complété
A35: Etats des pneus
A36: Lumière
A37: Essuie-glaces
A38: Lave-glaces
A39: Eau | E39: ONLY CREW NO FAMILY
A40: Huile
A42: Premier stop
A43: Arrivée destination
A44: Départ destination
A45: Dernier stop
A46: Arrivée Garage
A47: TOTAL KM
C48: Important
B49: Contrôler les niveaux d'huile et de liquide de refroidissement
A51: FEUILLE DE ROUTE CHAUFFEUR
A53: DATE | B53: =ACCUEIL!G38 -> 42393 | E53: RETOUR | F53: =B53 -> 42393
A54: VEHICULE | B54: =ACCUEIL!F51 -> 95 | E54: PLAQUE | F54: =ACCUEIL!G51 -> YSE-509
A55: CHAUFFEUR | B55: =ACCUEIL!B51 -> EL AMRANI NAJIM | E55: N° REF | F55: UA 950 WASHINGTON
A57: CLIENT | C57: UNITED AIRLINES
A58: LIEU DE DEPART | C58: BRUSSELS AIRPORT | E58: Heure de départ | G58: =ACCUEIL!D51 -> 07.15
C59: POSITION VOL UA 0950
C60: 1930 ZAVENTEM
A61: ARRETS
A62: DESTINATION | C62: RADISSON BLU ROYAL HTL | E62: VOL | F62: =ACCUEIL!C51 -> UA 950
C63: Rue Fossé-aux-Loups, 47
C64: 1000 Bruxelles | E64: Nbre de PAX | F64: =ACCUEIL!E51 -> 10
E67: Heure de fin
A68: TYPE DE VOYAGE | C68: TRANSFERT CREWS
A69: DESCRIPTION
A72: Documents de bord: | C72: Valide | D72: Pas valide | F72: O.B.D. (Message Display)
A73: Carnet d'immatriculation
A74: Assurance
A75: Contrôle technique
A77: Etat de propreté int: | C77: Propre | D77: Sale
A79: Matériel de secours: | C79: Présent | D79: Manquant
A80: Extincteur
A81: Triangle | E81: =[1]ACCEUIL!$H$16 -> ATTN. A LA VITESSE
A82: Boîte de secours
A84: Niveaux Divers: | C84: Bon | D84: Complété
A85: Etats des pneus
A86: Lumière
A87: Essuie-glaces
A88: Lave-glaces | E88: ONLY CREW NO FAMILY
A89: Eau
A90: Huile
A92: Premier stop
A93: Arrivée destination
A94: Départ destination
A95: Dernier stop
A96: Arrivée Garage
A97: TOTAL KM
C98: Important
B99: Contrôler les niveaux d'huile et de liquide de refroidissement
A101: FEUILLE DE ROUTE CHAUFFEUR
A103: DATE | B103: =ACCUEIL!G38 -> 42393 | E103: RETOUR | F103: =B103 -> 42393
A104: VEHICULE | B104: =ACCUEIL!F57 -> 97 | E104: PLAQUE | F104: =ACCUEIL!G57
A105: CHAUFFEUR | B105: =ACCUEIL!B57 -> SAKOUANE MOHAMED | E105: N° REF | F105: UA 951 WASHINGTON
A107: CLIENT | C107: UNITED AIRLINES
A108: LIEU DE DEPART | C108: RADISSON BLU ROYAL HTL | E108: Heure de départ | G108: =ACCUEIL!D58 -> 13.25
C109: Rue Fossé-aux-Loups, 47
C110: 1000 Bruxelles
A111: ARRETS
A112: DESTINATION | C112: BRUSSELS AIRPORT | E112: VOL | F112: =ACCUEIL!C58 -> UA 951
C113: POSITION VOL UA 0951
C114: 1930 ZAVENTEM | E114: Nbre de PAX | F114: =ACCUEIL!E58 -> 1
E117: Heure de fin
A118: TYPE DE VOYAGE | C118: TRANSFERT CREWS
A119: DESCRIPTION
A122: Documents de bord: | C122: Valide | D122: Pas valide | F122: O.B.D. (Message Display)
A123: Carnet d'immatriculation
A124: Assurance
A125: Contrôle technique
A127: Etat de propreté int: | C127: Propre | D127: Sale
A129: Matériel de secours: | C129: Présent | D129: Manquant
A130: Extincteur
...

Sheet UA 972 CHICAGO
A1: FEUILLE DE ROUTE CHAUFFEUR
A3: DATE | B3: =ACCUEIL!G72 -> 42393 | E3: RETOUR | F3: =B3 -> 42393
A4: VEHICULE | B4: =ACCUEIL!F79 -> 58 | E4: PLAQUE | F4: =ACCUEIL!G79 -> 1-GSR-063
A5: CHAUFFEUR | B5: =ACCUEIL!B79 -> EL AMRANI NAJIM | E5: N° REF | F5: UA 972 CHICAGO
A7: CLIENT | C7: UNITED AIRLINES
A8: LIEU DE DEPART | C8: BRUSSELS AIRPORT | E8: Heure de départ | G8: =ACCUEIL!D79 -> 08.50
C9: POSITION VOL UA 0972
C10: 1930 ZAVENTEM
A11: ARRETS
A12: DESTINATION | C12: THE HOTEL | E12: VOL | F12: =ACCUEIL!C79 -> UA 972
C13: Boulevard de Waterloo, 38
C14: 1000 Bruxelles | E14: Nbre de PAX | F14: =ACCUEIL!E79 -> 3
E17: Heure de fin
A18: TYPE DE VOYAGE | C18: TRANSFERT CREWS
A19: DESCRIPTION
A22: Documents de bord: | C22: Valide | D22: Pas valide | F22: O.B.D. (Message Display)
A23: Carnet d'immatriculation
A24: Assurance
A25: Contrôle technique
A27: Etat de propreté int: | C27: Propre | D27: Sale
A29: Matériel de secours: | C29: Présent | D29: Manquant
A30: Extincteur
A31: Triangle | E31: =[1]ACCEUIL!$H$16 -> ATTN. A LA VITESSE
A32: Boîte de secours
A34: Niveaux Divers: | C34: Bon | D34: Complété
A35: Etats des pneus
A36: Lumière
A37: Essuie-glaces
A38: Lave-glaces
A39: Eau | E39: ONLY CREW NO FAMILY
A40: Huile
A42: Premier stop
A43: Arrivée destination
A44: Départ destination
A45: Dernier stop
A46: Arrivée Garage
A47: TOTAL KM
C48: Important
B49: Contrôler les niveaux d'huile et de liquide de refroidissement
A51: FEUILLE DE ROUTE CHAUFFEUR
A53: DATE | B53: =ACCUEIL!G72 -> 42393 | E53: RETOUR | F53: =B53 -> 42393
A54: VEHICULE | B54: =ACCUEIL!F85 -> 97 | E54: PLAQUE | F54: =ACCUEIL!G85 -> 075-BCC
A55: CHAUFFEUR | B55: =ACCUEIL!B85 -> SAKOUANE MOHAMED | E55: N° REF | F55: UA 972 CHICAGO
A57: CLIENT | C57: UNITED AIRLINES
A58: LIEU DE DEPART | C58: BRUSSELS AIRPORT | E58: Heure de départ | G58: =ACCUEIL!D85 -> 08.50
C59: POSITION VOL UA 0972
C60: 1930 ZAVENTEM
A61: ARRETS
A62: DESTINATION | C62: STEIGENBERGER GRANDHTL | E62: VOL | F62: =ACCUEIL!C85 -> UA 972
C63: Avenue Louise, 71
C64: 1050 Bruxelles | E64: Nbre de PAX | F64: =ACCUEIL!E85 -> 11
E67: Heure de fin
A68: TYPE DE VOYAGE | C68: TRANSFERT CREWS
A69: DESCRIPTION
A72: Documents de bord: | C72: Valide | D72: Pas valide | F72: O.B.D. (Message Display)
A73: Carnet d'immatriculation
A74: Assurance
A75: Contrôle technique
A77: Etat de propreté int: | C77: Propre | D77: Sale
A79: Matériel de secours: | C79: Présent | D79: Manquant
A80: Extincteur
A81: Triangle | E81: =[1]ACCEUIL!$H$16 -> ATTN. A LA VITESSE
A82: Boîte de secours
A84: Niveaux Divers: | C84: Bon | D84: Complété
A85: Etats des pneus
A86: Lumière
A87: Essuie-glaces
A88: Lave-glaces
A89: Eau | E89: ONLY CREW NO FAMILY
A90: Huile
A92: Premier stop
A93: Arrivée destination
A94: Départ destination
A95: Dernier stop
A96: Arrivée Garage
A97: TOTAL KM
C98: Important
B99: Contrôler les niveaux d'huile et de liquide de refroidissement
A101: FEUILLE DE ROUTE CHAUFFEUR
A103: DATE | B103: =ACCUEIL!G72 -> 42393 | E103: RETOUR | F103: =B103 -> 42393
A104: VEHICULE | B104: =ACCUEIL!F91 -> 51 | E104: PLAQUE | F104: =ACCUEIL!G91
A105: CHAUFFEUR | B105: =ACCUEIL!B91 -> JAZOULI RIDOUAN | E105: N° REF | F105: UA 973 CHICAGO
A107: CLIENT | C107: UNITED AIRLINES
A108: LIEU DE DEPART | C108: THE HOTEL | E108: Heure de départ | G108: =ACCUEIL!D91 -> 09.00
C109: Boulevard de Waterloo, 38
C110: 1000 Bruxelles
A111: ARRETS
A112: DESTINATION | C112: BRUSSELS AIRPORT | E112: VOL | F112: =ACCUEIL!C91 -> UA 973
C113: POSITION VOL UA0973
C114: 1930 ZAVENTEM | E114: Nbre de PAX | F114: =ACCUEIL!E91 -> 3
E117: Heure de fin
A118: TYPE DE VOYAGE | C118: TRANSFERT CREWS
A119: DESCRIPTION
A122: Documents de bord: | C122: Valide | D122: Pas valide | F122: O.B.D. (Message Display)
A123: Carnet d'immatriculation
A124: Assurance
A125: Contrôle technique
A127: Etat de propreté int: | C127: Propre | D127: Sale
A129: Matériel de secours: | C129: Présent | D129: Manquant
A130: Extincteur
...

Sheet Parametres
A1: Nom | C1: Véhicules | D1: Plaques | I1: TRINOM
A2: AARIBOU MOHAMED | C2: 21 | D2: 1-GBW-450 | I2: {=INDEX(Nom,MATCH(SMALL(COUNTIF(Nom,"<="&Nom),ROW(A1)),COUNTIF(Nom,"<="&Nom),0))} -> AARIBOU MOHAMED
A3: ABBOU MOHAMED | C3: 25 | D3: XBL-464 | I3: {=INDEX(Nom,MATCH(SMALL(COUNTIF(Nom,"<="&Nom),ROW(A2)),COUNTIF(Nom,"<="&Nom),0))} -> ABARKAN ADIL
A4: ABDELMOUMEN HICHEM | C4: 26 | D4: 1-ESA-108 | I4: {=INDEX(Nom,MATCH(SMALL(COUNTIF(Nom,"<="&Nom),ROW(A3)),COUNTIF(Nom,"<="&Nom),0))} -> ABBOU MOHAMED
A5: ABOUMEROUANE NAOUFEL | C5: 27 | D5: 1-ETL-759 | I5: {=INDEX(Nom,MATCH(SMALL(COUNTIF(Nom,"<="&Nom),ROW(A4)),COUNTIF(Nom,"<="&Nom),0))} -> ABDELMOUMEN HICHEM
A6: ADBAIBI ISMAEL | C6: 32 | D6: KIT-493 | I6: {=INDEX(Nom,MATCH(SMALL(COUNTIF(Nom,"<="&Nom),ROW(A5)),COUNTIF(Nom,"<="&Nom),0))} -> ABOUMEROUANE NAOUFEL
A7: ADBAIBI ZACHARIA | C7: 36 | D7: SWY-402 | I7: {=INDEX(Nom,MATCH(SMALL(COUNTIF(Nom,"<="&Nom),ROW(A6)),COUNTIF(Nom,"<="&Nom),0))} -> ADBAIBI ISMAEL
A8: ALVAREZ JOSE | C8: 45 | D8: YCL-530 | I8: {=INDEX(Nom,MATCH(SMALL(COUNTIF(Nom,"<="&Nom),ROW(A7)),COUNTIF(Nom,"<="&Nom),0))} -> ADBAIBI ZACHARIA
A9: AMJAHDI MOHAMED | C9: 48 | D9: JCQ-909 | I9: {=INDEX(Nom,MATCH(SMALL(COUNTIF(Nom,"<="&Nom),ROW(A8)),COUNTIF(Nom,"<="&Nom),0))} -> ALVAREZ JOSE
A10: AOULAD ABDELKARIM | C10: 49 | D10: 1-GLR-636 | I10: {=INDEX(Nom,MATCH(SMALL(COUNTIF(Nom,"<="&Nom),ROW(A9)),COUNTIF(Nom,"<="&Nom),0))} -> AMJAHDI MOHAMED
A11: AZZOUROU OMAR | C11: 101 | D11: 1-EPU-104 | I11: {=INDEX(Nom,MATCH(SMALL(COUNTIF(Nom,"<="&Nom),ROW(A10)),COUNTIF(Nom,"<="&Nom),0))} -> AOULAD ABDELKARIM
A12: BAHBAH AYOUB | C12: 120 | D12: 1-GNY-762 | I12: {=INDEX(Nom,MATCH(SMALL(COUNTIF(Nom,"<="&Nom),ROW(A11)),COUNTIF(Nom,"<="&Nom),0))} -> AZZOUROU OMAR
A13: BECKMAN EDWARD | C13: 121 | D13: 1-*** | I13: {=INDEX(Nom,MATCH(SMALL(COUNTIF(Nom,"<="&Nom),ROW(A12)),COUNTIF(Nom,"<="&Nom),0))} -> BAHBAH AYOUB
... A43: EL HATIB ABDELGHAFOUR | C43: 99 | D43: 897-BCB | I43: {=INDEX(Nom,MATCH(SMALL(COUNTIF(Nom,"<="&Nom),ROW(A42)),COUNTIF(Nom,"<="&Nom),0))} -> EL GAZZAR KHALID
A44: EL HATTACHI EL HASSAN | I44: {=INDEX(Nom,MATCH(SMALL(COUNTIF(Nom,"<="&Nom),ROW(A43)),COUNTIF(Nom,"<="&Nom),0))} -> EL HATIB ABDELGHAFOUR
A45: EL YOUNSSI RACHID | I45: {=INDEX(Nom,MATCH(SMALL(COUNTIF(Nom,"<="&Nom),ROW(A44)),COUNTIF(Nom,"<="&Nom),0))} -> EL HATTACHI EL HASSAN
A46: ENNIYA SAÏD | I46: {=INDEX(Nom,MATCH(SMALL(COUNTIF(Nom,"<="&Nom),ROW(A45)),COUNTIF(Nom,"<="&Nom),0))} -> EL YOUNSSI RACHID
A47: ERYORUK HASSAN | I47: {=INDEX(Nom,MATCH(SMALL(COUNTIF(Nom,"<="&Nom),ROW(A46)),COUNTIF(Nom,"<="&Nom),0))} -> ENNIYA SAÏD
A48: ESSAKAL ABDELHAY | I48: {=INDEX(Nom,MATCH(SMALL(COUNTIF(Nom,"<="&Nom),ROW(A47)),COUNTIF(Nom,"<="&Nom),0))} -> ERYORUK HASSAN
A49: ESSALHI AZZIZ | I49: {=INDEX(Nom,MATCH(SMALL(COUNTIF(Nom,"<="&Nom),ROW(A48)),COUNTIF(Nom,"<="&Nom),0))} -> ESSAKAL ABDELHAY
A50: ES-SAMRI HAMID | I50: {=INDEX(Nom,MATCH(SMALL(COUNTIF(Nom,"<="&Nom),ROW(A49)),COUNTIF(Nom,"<="&Nom),0))} -> ESSALHI AZZIZ
A51: GARD SAÏD | I51: {=INDEX(Nom,MATCH(SMALL(COUNTIF(Nom,"<="&Nom),ROW(A50)),COUNTIF(Nom,"<="&Nom),0))} -> ES-SAMRI HAMID
A52: GARD MOHAMED | I52: {=INDEX(Nom,MATCH(SMALL(COUNTIF(Nom,"<="&Nom),ROW(A51)),COUNTIF(Nom,"<="&Nom),0))} -> GARD SAÏD
A53: GHARBI SAMI | I53: {=INDEX(Nom,MATCH(SMALL(COUNTIF(Nom,"<="&Nom),ROW(A52)),COUNTIF(Nom,"<="&Nom),0))} -> GARD MOHAMED
A54: GORDILLO LOGAN | I54: {=INDEX(Nom,MATCH(SMALL(COUNTIF(Nom,"<="&Nom),ROW(A53)),COUNTIF(Nom,"<="&Nom),0))} -> GHARBI SAMI
A55: GUEDES JOSE | I55: {=INDEX(Nom,MATCH(SMALL(COUNTIF(Nom,"<="&Nom),ROW(A54)),COUNTIF(Nom,"<="&Nom),0))} -> GORDILLO LOGAN
... A132: OSMAN KARIM | I132: {=INDEX(Nom,MATCH(SMALL(COUNTIF(Nom,"<="&Nom),ROW(A131)),COUNTIF(Nom,"<="&Nom),0))} -> ZIAD ALI
I133: {=INDEX(Nom,MATCH(SMALL(COUNTIF(Nom,"<="&Nom),ROW(A132)),COUNTIF(Nom,"<="&Nom),0))} -> #NUM!
I134: {=INDEX(Nom,MATCH(SMALL(COUNTIF(Nom,"<="&Nom),ROW(A133)),COUNTIF(Nom,"<="&Nom),0))} -> #NUM!
I135: {=INDEX(Nom,MATCH(SMALL(COUNTIF(Nom,"<="&Nom),ROW(A134)),COUNTIF(Nom,"<="&Nom),0))} -> #NUM!
I136: {=INDEX(Nom,MATCH(SMALL(COUNTIF(Nom,"<="&Nom),ROW(A135)),COUNTIF(Nom,"<="&Nom),0))} -> #NUM!
I137: {=INDEX(Nom,MATCH(SMALL(COUNTIF(Nom,"<="&Nom),ROW(A136)),COUNTIF(Nom,"<="&Nom),0))} -> #NUM!
I138: {=INDEX(Nom,MATCH(SMALL(COUNTIF(Nom,"<="&Nom),ROW(A137)),COUNTIF(Nom,"<="&Nom),0))} -> #NUM!
I139: {=INDEX(Nom,MATCH(SMALL(COUNTIF(Nom,"<="&Nom),ROW(A138)),COUNTIF(Nom,"<="&Nom),0))} -> #NUM!
I140: {=INDEX(Nom,MATCH(SMALL(COUNTIF(Nom,"<="&Nom),ROW(A139)),COUNTIF(Nom,"<="&Nom),0))} -> #NUM!
I141: {=INDEX(Nom,MATCH(SMALL(COUNTIF(Nom,"<="&Nom),ROW(A140)),COUNTIF(Nom,"<="&Nom),0))} -> #NUM!
I142: {=INDEX(Nom,MATCH(SMALL(COUNTIF(Nom,"<="&Nom),ROW(A141)),COUNTIF(Nom,"<="&Nom),0))} -> #NUM!
I143: {=INDEX(Nom,MATCH(SMALL(COUNTIF(Nom,"<="&Nom),ROW(A142)),COUNTIF(Nom,"<="&Nom),0))} -> #NUM!
I144: {=INDEX(Nom,MATCH(SMALL(COUNTIF(Nom,"<="&Nom),ROW(A143)),COUNTIF(Nom,"<="&Nom),0))} -> #NUM!
... I150: {=INDEX(Nom,MATCH(SMALL(COUNTIF(Nom,"<="&Nom),ROW(A149)),COUNTIF(Nom,"<="&Nom),0))} -> #NUM!
