Workbook

Sheet Report
B8: NON CONFORMING MATERIAL REPORT | G8: NCMR N°: | H8: 1903
B9: Assignee: | C9: =VLOOKUP(H8,'Organised record'!A4:AP49,7) -> Finnian | D9: Supplier ID N°: | E9: =VLOOKUP(H8,'Organised record'!A4:AP49,12) -> 0 | F9: Initiation Date: | H9: =VLOOKUP(H8,'Organised record'!A4:AP49,2) -> 41779
B10: Company: | C10: =VLOOKUP(H8,'Organised record'!A4:AP49,8) -> FinCo | F10: Initiator: | G10: =VLOOKUP(H8,'Organised record'!A4:AP49,3) -> Tom Treacy
B11: Adress: | C11: =VLOOKUP(H8,'Organised record'!A4:AP49,9) -> Monaghan | F11: Position: | G11: =VLOOKUP(H8,'Organised record'!A4:AP49,4) -> QA Manager
B12: e-mail: | C12: =VLOOKUP(H8,'Organised record'!A4:AP49,10) -> 0 | F12: e-mail: | G12: =VLOOKUP(H8,'Organised record'!A4:AP49,5) -> 0
B13: Phone: | C13: =VLOOKUP(H8,'Organised record'!A4:AP49,11) -> 0 | F13: Phone: | G13: =VLOOKUP(H8,'Organised record'!A4:AP49,6) -> 00353(0)599721729
B14: Part name: | C14: =VLOOKUP(H8,'Organised record'!A4:AP49,13) -> Cylinder end | D14: Part N°: | E14: =VLOOKUP(H8,'Organised record'!A4:AP49,14) -> 3J-423693 | F14: Decision | G14: =VLOOKUP(H8,'Organised record'!A4:AP49,19) -> 0
D15: PB PO N°: | E15: =VLOOKUP(H8,'Organised record'!A4:AP49,15) -> 0
B16: Batch Quantity: | C16: =VLOOKUP(H8,'Organised record'!A4:AP49,16) -> 217 | D16: Quantity Wrong: | E16: =VLOOKUP(H8,'Organised record'!A4:AP49,18) -> 2 | F16: on Parts:
B17: Invoice N°: | C17: =VLOOKUP(H8,'Organised record'!A4:AP49,17) -> B071
B18: Severity of Non Conformance: (Rated1-10 with 10 the highest and 1 the lowest) Severity Rating | H18: =VLOOKUP(H8,'Organised record'!A4:AP49,20) -> 5
B19: Problem Identification: (Attach photo if relevant)
F20: =VLOOKUP(H8,'Organised record'!A4:AP49,22) -> 0 | J20: IMAGE
B21: =VLOOKUP(H8,'Organised record'!A4:AP49,21) -> Saw finish on base of cylinder end. When clevis is welded onto cylinder end problems could occur if base was not completely flat and parallel to weld prep of no more than 0.15. Saw finish is not permitted and surface finish is 3.5 Ra maximum.
B28: Your reply to the actions below is required within 24 hours unless otherwise notified by initiator of complaint
B29: Immediate Corrective Actions:
B30: 1 | C30: =VLOOKUP(H8,'Organised record'!A4:AP49,23) -> 0
B31: 2 | C31: =VLOOKUP(H8,'Organised record'!A4:AP49,24) -> 0
B32: 3 | C32: =VLOOKUP(H8,'Organised record'!A4:AP49,25) -> 0
B33: 4 | C33: =VLOOKUP(H8,'Organised record'!A4:AP49,26) -> 0
B34: Person Responsible for Corrective Action: | G34: Date: | H34: =VLOOKUP(H8,'Organised record'!A4:AP49,27) -> 0
B35: Root Cause of Problem: (List all know root causes)
B36: 1 | C36: =VLOOKUP(H8,'Organised record'!A4:AP49,28) -> 0
B37: 2 | C37: =VLOOKUP(H8,'Organised record'!A4:AP49,29) -> 0
B38: 3 | C38: =VLOOKUP(H8,'Organised record'!A4:AP49,30) -> 0
B39: 4 | C39: =VLOOKUP(H8,'Organised record'!A4:AP49,31) -> 0
B40: Preventive Action(s): (List all preventive actions)
B41: 1 | C41: =VLOOKUP(H8,'Organised record'!A4:AP49,32) -> 0
B42: 2 | C42: =VLOOKUP(H8,'Organised record'!A4:AP49,33) -> 0
B43: 3 | C43: =VLOOKUP(H8,'Organised record'!A4:AP49,34) -> 0
B44: 4 | C44: =VLOOKUP(H8,'Organised record'!A4:AP49,35) -> 0
B45: Person Responsible for Preventive Action(s): | C45: =VLOOKUP(H8,'Organised record'!A4:AP49,36) -> 0 | E45: Position: | G45: Date Implemented:
E46: =VLOOKUP(H8,'Organised record'!A4:AP49,37) -> 0 | G46: =VLOOKUP(H8,'Organised record'!A4:AP49,38) -> 0
C49: To be completed by initiator of complaint
C50: PB Machine Tech QA Verify Actions: | E50: =VLOOKUP(H8,'Organised record'!A4:AP49,39) -> 0 | F50: Date: | G50: =VLOOKUP(H8,'Organised record'!A4:AP49,40) -> 0
C51: PB Machine Tech QA Closure of Actions: | E51: =VLOOKUP(H8,'Organised record'!A4:AP49,41) -> 0 | F51: Date: | G51: =VLOOKUP(H8,'Organised record'!A4:AP49,42) -> 0

Sheet Organised record
W1: Immediate Corrective Action | AB1: Root cause Problem | AF1: Preventive Actions
A2: NCMR | B2: Iniation Date | C2: Initiator | D2: Position | E2: e-mail | F2: Phone | G2: Assignee | H2: Company | I2: Address | J2: e-mail | K2: Phone | L2: Supplier ID N | M2: Part Name | N2: Part N | O2: PB PO N | P2: Batch Quantity | Q2: Invoice N | R2: Quantity Wrong | S2: Decision on Parts | T2: Severity Rating | U2: Problem identification | V2: Picture | W2: 1 | X2: 2 | Y2: 3 | Z2: 4 | AA2: Date | AB2: 1 | AC2: 2 | AD2: 3 | AE2: 4 | AF2: 1 | AG2: 2 | AH2: 3 | AI2: 4 | AJ2: Responsible for P.A | AK2: Position | AL2: Date implemented | AM2: QA V.A | AN2: Date | AO2: QA C.A | AP2: Date | AR2: Comment | AS2: Cost involving | AT2: How the claim was Resulted | AU2: Closed ?
A4: 1903 | B4: 41779 | C4: Tom Treacy | D4: QA Manager | F4: 00353(0)599721729 | G4: Finnian | H4: FinCo | I4: Monaghan | M4: Cylinder end | N4: 3J-423693 | P4: 217 | Q4: B071 | R4: 2 | T4: 5 | U4: Saw finish on base of cylinder end. When clevis is welded onto cylinder end problems could occur if base was not completely flat and parallel to weld prep of no more than 0.15. Saw finish is not permitted and surface finish is 3.5 Ra maximum.
A5: 1931 | B5: 42025 | H5: Terex Benford | L5: Cell 1 | M5: Screwed gland | N5: 1g080045A-02 | P5: 60 | R5: 6 | S5: Reject | U5: will not screw into tube. Go gauge will not screw on to gland. | AJ5: Alan / Ray. | AU5: No
A6: 1932 | B6: 42037 | H6: TEREX | L6: Kelly Precision | M6: Cyl End valve Block | N6: 824184-6 | P6: 20 | R6: 6 | S6: Reject. | U6: 7/16UNF thread oversize. | AJ6: liam Fennely | AU6: Yes
A7: 1933 | B7: 42039 | H7: Terex Benford | L7: Cell 1 | M7: CLEVIS | N7: 3j-423701 | R7: 64 | S7: Reject | U7: Dia 46.975 - 47 mm is 46.45. | AJ7: Ray / Alan | AU7: No
A8: 1934 | B8: 42044 | H8: Terex Italy | L8: Kelly Precision | M8: Cyl End valve Block | N8: 824186-6 | P8: 89 | R8: 38 | S8: KP to send someone to check. | U8: Koneig plug will not fit in Ø6 H12 | AJ8: James / Liam. | AP8: 42045 | AU8: Yes
A9: 1935 | B9: 42046 | H9: Terex Benford | L9: Distag | M9: Cylinder end forging. | N9: 3J-423764 | P9: 696 | R9: 347 | S9: Reject back to supplier. | U9: Forgings formed badly. | AJ9: Tommy Hickey | AS9: Cost for reworking in PB to be sent to Distag. | AU9: No
A10: 1936 | B10: 42046 | H10: Kaiser | L10: Cell 1 | M10: Cyl End | N10: 1C055053B-01 | R10: 2 | S10: Scrap. | U10: Dimension 23 mm is 25 mm | AJ10: Ray / Alan
A11: 1937 | B11: 42046 | H11: Terex Benford | L11: Cell 1 | M11: Gland | N11: 3J-423766 | R11: 6 | S11: Return to supplier. | U11: Bore undersize. | AJ11: Ray / Alan
A12: 1938 | B12: 42046 | H12: Farid | L12: Cell 1 | M12: Gland | N12: KA070050A | R12: 1 | S12: Return to supplier | U12: Bore undersize. | AJ12: Ray / Alan
A13: 1939 | B13: 42046 | H13: Farid | L13: Cell 1 | M13: Profiled port | N13: 1M101140A-02 | R13: 2 | S13: Scrap. | U13: leaking after been welded. | AJ13: Ray / Alan
A14: 1940 | B14: 42046 | H14: Terex Italy | L14: Cell 1 | M14: Profiled mounting bracket | N14: 824188-6 | S14: Return to supplier. | U14: Profiled at an angle, slag not removed. | AJ14: Ray / Alan
A15: 1941 | B15: 42046 | H15: Terex Benford | L15: Distag | M15: Cylinder end forging. | N15: 3J-323651/A | S15: Inform supplier. | U15: Forging not uniform. After welding one side has to be ground. | AJ15: Tommy Hickey | AS15: Cost for reworking in PB to be sent to Distag. | AU15: No
A16: 1942 | B16: 42046 | H16: Snorkel | L16: Cell 1 | M16: Piston | N16: 1P045080A-01 | R16: 2 | S16: Reject | U16: Ø40.4 h9 IS Ø 44.8 | AJ16: Alan / Ray.
A17: 1943 | B17: 42047 | H17: TURKEY | L17: DOGANLAR | M17: U-CLEVIS | N17: 1J022036B-02 | P17: 1500 | S17: Reject | U17: Milling is not parallell to center line. | AR17: No reply from supplier. | AU17: No
A18: 1944 | B18: 42054 | H18: Snorkel | L18: Kelly Precision | M18: Valve block | N18: 15644 | P18: 63 | R18: 63 | S18: Oilpipe modified to suit. | U18: Ø11.5 is Ø12.02. | AJ18: liam Fennely | AP18: 42061 | AT18: New oilpipes from KP | AU18: Yes
A19: 1945 | B19: 42054 | H19: Snorkel | L19: Kelly Precision | M19: Valve Block | N19: 15644 | P19: 116 | R19: 116 | S19: Oilpipe modified to suit. | U19: Ø 11.5 is Ø 12.02 | AJ19: liam Fennely | AP19: 42061 | AT19: New oilpipes from KP | AU19: Yes
A20: 1946 | B20: 42060 | H20: lehnhoff | L20: Cell 1 | M20: GLAND | N20: 1G050025A-04 | R20: 26 | S20: Return for rework. | U20: Bore undersize. | AJ20: Ray / Alan | AP20: 42061 | AU20: Yes
A21: 1948 | B21: 42067 | H21: Farid | L21: Cell 1 | M21: SPACER | N21: 1E020030W-02 | P21: 207 | R21: % | S21: REWORK IN CELL 1 | U21: NOT ALL DE-BURRED. | AJ21: Alan / Ray. | AP21: 42103 | AT21: Spacers de-burred. | AU21: Yes
A22: 1949 | B22: 42055 | H22: KUHN | L22: PONCIAL | M22: Cyl End machined Forging. | N22: H0406640 | P22: 43 | R22: 10 | S22: Reject, supplier to collect. | U22: 3/8" BSP thread, no/go screwing in. | AJ22: Giselle. | AR22: 10 replacements required. | AU22: No
A23: 1950 | B23: 42096 | H23: KUHN | L23: Finco | M23: Boss | N23: 1D040080A-01 | P23: 20 | R23: 16 | S23: reject. | U23: Bore Ø 44 H7 undersize | AJ23: Finnian. | AP23: 42101 | AT23: New bosses delivered. | AU23: Yes
A24: 1951 | B24: 42097 | H24: Farid | L24: Cell 1 | M24: Gland. | N24: kA125090 | P24: 50 | R24: 50 | S24: Rework. | U24: Thread oversize. | AJ24: Ray / Alan | AP24: 42102 | AT24: Parts reworked in cell 1. | AU24: YES
A25: 1952 | B25: 42104 | H25: Various | L25: Wiederholt | M25: TUBE. | N25: 3A063075b-03 | R25: 25 | S25: REJECT. | U25: SEAM IN TUBE. | AU25: NO
A26: 1953 | B26: 42110 | H26: Snorkel. | L26: ST-Koneistus | M26: Cyl End. | N26: 1C090115G-01 | P26: 10 | R26: 10 | S26: reject. | U26: Ø 8 H12 is Ø 12. | AJ26: Teemu | AU26: No
A27: 1954 | B27: 42116 | H27: Various | L27: Uraine. | M27: Ø 70 CK45 | R27: 7 meters | S27: Reject | U27: Defect in base material. | AJ27: GENC Gülsen. | AU27: No
A28: 1955 | B28: 42116 | H28: Terex | L28: Kelly Precision | M28: CYL END VALVE BLOCK | N28: 1C045051C-01 | P28: 76 | R28: 76 | S28: Return to supplier for re-work. | U28: No radius on corners. | AJ28: James / Liam. | AU28: No
A29: 1956 | B29: 42116 | H29: Terex | L29: Kelly Precision | M29: Cyl end valve block | N29: 1C45051C-01 | R29: 1 | S29: Return to supplier for re-work. | U29: Koneig plug will not fit in Ø6 H12 | AJ29: James / Liam. | AU29: No
A30: 1957 | B30: 42116 | H30: Terex | L30: Kelly Precision | M30: Cyl end valve block | N30: 824186-6 | R30: 2 | S30: Return to supplier for re-work. | U30: Koneig plug will not fit in Ø6 H12 | AJ30: James / Liam. | AU30: No
A31: 1958 | B31: 42118 | H31: Snorkel | L31: Cell 1 | M31: Port block. | N31: 116373-000-5 | R31: 39 | S31: return to Cell 1 for rework. | U31: 58 mm milled slot is 54 mm. | AJ31: Ray / Alan | AU31: No
A32: 1959 | B32: 42142 | H32: Miedema | L32: Cell 1 | M32: Gland | N32: 1G080075A-01 | R32: 1 | S32: reject | U32: No spanner slot. | AJ32: Ray / Alan | AU32: NO
A33: 1960 | B33: 42143 | H33: lehnhoff | L33: Cell 1 | M33: Piston | N33: 102579/3 | R33: 5 | S33: Reject. | U33: Bore not concentric. | AJ33: Ray / Alan | AU33: NO
A34: 1961 | B34: 42144 | H34: KUHN | L34: Rosco Eng. | M34: Piston | N34: 1P040041B-01 | P34: 82 | R34: 82 | S34: Reject | U34: thread oversize. | AJ34: Stephen. | AU34: No
A35: 1962 | B35: 42170 | H35: Snorkel | L35: Finco | M35: CYL END | N35: 1C030045A-01 | P35: 25 | R35: 25 | S35: REJECT | U35: Ø40 IS Ø38. | AJ35: Finnian. | AU35: NO
A36: 1963 | B36: 42170 | H36: KUHN | L36: DNC | M36: BRACKET | N36: 1J025065M-01 | P36: 30 | R36: 30 | S36: REJECT | U36: M10 X 1.5 IS M12 X 1.5. BAD FINISH | AJ36: LEO | AU36: NO
A37: 1964 | B37: 42166 | H37: Snorkel | L37: Nimet | M37: 38 mm 20mnv6 | R37: 275 meters | S37: Reject | U37: Base material defective. | AJ37: Samy Numan.
A38: 1965 | B38: 42171 | H38: Snorkel | L38: Kelly Precision | M38: Cylinder end | N38: 1c050080c-01 | R38: 1 | S38: Reject | U38: 9/16 port not machined. Link hole inot full bore not machined, not stamped. | AJ38: liam Fennely
A39: 1966 | B39: 42171 | H39: Snorkel | L39: Cell 1 | M39: Piston. | N39: 1P045080A-01 | R39: 4 | S39: REJECT | U39: Run out in bore. | AJ39: Ray / Alan
A40: 1967 | B40: 42171 | H40: SNORKEL | L40: Cell 1 | M40: GLAND | N40: 1G045038A-01 | R40: 4 | S40: REJECT | U40: Run out in bore, BORE UNDERSIZE. | AJ40: Ray / Alan
A41: 1968 | B41: 42171 | H41: BENFORD | L41: CELL 1 | M41: GLAND | N41: 1G115055A-01 | R41: 1 | S41: REJECT | U41: Bore undersize. | AJ41: Ray / Alan
...
