Workbook
Name cotisation15_16: Cotisation!$A$14:$H$32
Name Image: 'ancien membre'!$D:$P
Name section: 'Info synthese membres'!$B$14:$B$27
Name tha: 'calendrier jrs'!$J$1
Name thb: 'calendrier jrs'!$H$1

Sheet liste Imprimable
A1: Nb | B1: Code | C1: licence | D1: Nom | E1: code2 | F1: S | G1: liste date Nai | H1: tél | I1: GSM | J1: 80 | K1: D/I | L1: Inscription | M1: As | N1: Cot
A2: =+'inscription 2015-2016'!B2 -> 1 | B2: =+'inscription 2015-2016'!C2 -> GRE | C2: =+'inscription 2015-2016'!D2 -> 14497 | D2: =+'inscription 2015-2016'!E2 -> Benhida-Yasmine | E2: =+'inscription 2015-2016'!F2 -> GRI | F2: =+'inscription 2015-2016'!G2 -> F | G2: =+'inscription 2015-2016'!K2 -> 36840 | H2: =+'inscription 2015-2016'!M2 -> 04/257 78 88 | I2: =+'inscription 2015-2016'!N2 -> 0497/38 42 26 0499/19 29 99 M | J2: =+'inscription 2015-2016'!O2 -> fat_osmani@hotmail.com | K2: =+'inscription 2015-2016'!P2 -> 34/o | L2: =+'inscription 2015-2016'!Q2 -> 42249 | M2: =+'inscription 2015-2016'!T2 -> OK | N2: =+'inscription 2015-2016'!AM2 -> ok | O2: Retard cot | P2: =SUBTOTAL(9,$N$2:$N$200) -> 3149
A3: =+'inscription 2015-2016'!B3 -> 1 | B3: =+'inscription 2015-2016'!C3 -> GRI | C3: =+'inscription 2015-2016'!D3 -> 14497 | D3: =+'inscription 2015-2016'!E3 -> Benhida-Yasmine | E3: =+'inscription 2015-2016'!F3 -> GRE | F3: =+'inscription 2015-2016'!G3 -> F | G3: =+'inscription 2015-2016'!K3 -> 36840 | H3: =+'inscription 2015-2016'!M3 -> 04/257 78 88 | I3: =+'inscription 2015-2016'!N3 -> 0497/38 42 26 0499/19 29 99 M | J3: =+'inscription 2015-2016'!O3 -> fat_osmani@hotmail.com | K3: =+'inscription 2015-2016'!P3 -> 34/o | L3: =+'inscription 2015-2016'!Q3 -> 42260 | M3: =+'inscription 2015-2016'!T3 -> OK | N3: =+'inscription 2015-2016'!AM3 -> 130
A4: =+'inscription 2015-2016'!B4 -> 1 | B4: =+'inscription 2015-2016'!C4 -> GRE | C4: =+'inscription 2015-2016'!D4 -> 14498 | D4: =+'inscription 2015-2016'!E4 -> Bortoletto-Laura | E4: =+'inscription 2015-2016'!F4 -> GRI | F4: =+'inscription 2015-2016'!G4 -> F | G4: =+'inscription 2015-2016'!K4 -> 36398 | H4: =+'inscription 2015-2016'!M4 -> 04/226 90 00 | I4: =+'inscription 2015-2016'!N4 -> 0483/36 10 47 0486/27 74 55 M | J4: =+'inscription 2015-2016'!O4 -> odette.marion@base.be | K4: =+'inscription 2015-2016'!P4 -> 2/o | L4: =+'inscription 2015-2016'!Q4 -> 42249 | M4: =+'inscription 2015-2016'!T4 -> OK | N4: =+'inscription 2015-2016'!AM4 -> ok
A5: =+'inscription 2015-2016'!B5 -> 1 | B5: =+'inscription 2015-2016'!C5 -> GRI | C5: =+'inscription 2015-2016'!D5 -> 14498 | D5: =+'inscription 2015-2016'!E5 -> Bortoletto-Laura | E5: =+'inscription 2015-2016'!F5 -> GRE | F5: =+'inscription 2015-2016'!G5 -> F | G5: =+'inscription 2015-2016'!K5 -> 36398 | H5: =+'inscription 2015-2016'!M5 -> 04/226 90 00 | I5: =+'inscription 2015-2016'!N5 -> 0483/36 10 47 0486/27 74 55 M | J5: =+'inscription 2015-2016'!O5 -> odette.marion@base.be | K5: =+'inscription 2015-2016'!P5 -> 2/o | L5: =+'inscription 2015-2016'!Q5 -> 42260 | M5: =+'inscription 2015-2016'!T5 -> OK | N5: =+'inscription 2015-2016'!AM5 -> 100
A6: =+'inscription 2015-2016'!B6 -> 1 | B6: =+'inscription 2015-2016'!C6 -> GRE | C6: =+'inscription 2015-2016'!D6 -> 19548 | D6: =+'inscription 2015-2016'!E6 -> Lesage-Tiffany | E6: =+'inscription 2015-2016'!F6 -> GRI | F6: =+'inscription 2015-2016'!G6 -> F | G6: =+'inscription 2015-2016'!K6 -> 35655 | H6: =+'inscription 2015-2016'!M6 -> 0 | I6: =+'inscription 2015-2016'!N6 -> 0498/78 32 68 0496/11 12 13 M | J6: =+'inscription 2015-2016'!O6 -> tiffany.lesage1997@gmail.com | K6: =+'inscription 2015-2016'!P6 -> 39/o | L6: =+'inscription 2015-2016'!Q6 -> 42249 | M6: =+'inscription 2015-2016'!T6 -> OK | N6: =+'inscription 2015-2016'!AM6 -> 75
A7: =+'inscription 2015-2016'!B7 -> 1 | B7: =+'inscription 2015-2016'!C7 -> GRI | C7: =+'inscription 2015-2016'!D7 -> 19548 | D7: =+'inscription 2015-2016'!E7 -> Lesage-Tiffany | E7: =+'inscription 2015-2016'!F7 -> GRE | F7: =+'inscription 2015-2016'!G7 -> F | G7: =+'inscription 2015-2016'!K7 -> 35655 | H7: =+'inscription 2015-2016'!M7 -> 0 | I7: =+'inscription 2015-2016'!N7 -> 0498/78 32 68 0496/11 12 13 M | J7: =+'inscription 2015-2016'!O7 -> tiffany.lesage1997@gmail.com | K7: =+'inscription 2015-2016'!P7 -> 39/o | L7: =+'inscription 2015-2016'!Q7 -> 42260 | M7: =+'inscription 2015-2016'!T7 -> OK | N7: =+'inscription 2015-2016'!AM7 -> ok
A8: =+'inscription 2015-2016'!B8 -> 1 | B8: =+'inscription 2015-2016'!C8 -> EDam | C8: =+'inscription 2015-2016'!D8 -> 19561 | D8: =+'inscription 2015-2016'!E8 -> Mattina-Nuzia | E8: =+'inscription 2015-2016'!F8 -> 0 | F8: =+'inscription 2015-2016'!G8 -> F | G8: =+'inscription 2015-2016'!K8 -> 19697 | H8: =+'inscription 2015-2016'!M8 -> 0 | I8: =+'inscription 2015-2016'!N8 -> 0499/176643 | J8: =+'inscription 2015-2016'!O8 -> 0 | K8: =+'inscription 2015-2016'!P8 -> 67/o | L8: =+'inscription 2015-2016'!Q8 -> 42248 | M8: =+'inscription 2015-2016'!T8 -> OK | N8: =+'inscription 2015-2016'!AM8 -> ok
A9: =+'inscription 2015-2016'!B9 -> 1 | B9: =+'inscription 2015-2016'!C9 -> GRE | C9: =+'inscription 2015-2016'!D9 -> 19562 | D9: =+'inscription 2015-2016'!E9 -> Mazziotta-Maude | E9: =+'inscription 2015-2016'!F9 -> 0 | F9: =+'inscription 2015-2016'!G9 -> F | G9: =+'inscription 2015-2016'!K9 -> 34493 | H9: =+'inscription 2015-2016'!M9 -> 0 | I9: =+'inscription 2015-2016'!N9 -> 0497/67 27 16 | J9: =+'inscription 2015-2016'!O9 -> maudesouricette0608@gmail.com | K9: =+'inscription 2015-2016'!P9 -> 6/o | L9: =+'inscription 2015-2016'!Q9 -> 42249 | M9: =+'inscription 2015-2016'!T9 -> OK | N9: =+'inscription 2015-2016'!AM9 -> 75
A10: =+'inscription 2015-2016'!B10 -> 1 | B10: =+'inscription 2015-2016'!C10 -> EDam | C10: =+'inscription 2015-2016'!D10 -> 19590 | D10: =+'inscription 2015-2016'!E10 -> Sciascia-Anna | E10: =+'inscription 2015-2016'!F10 -> 0 | F10: =+'inscription 2015-2016'!G10 -> F | G10: =+'inscription 2015-2016'!K10 -> 23770 | H10: =+'inscription 2015-2016'!M10 -> 04/234 05 51 | I10: =+'inscription 2015-2016'!N10 -> 0491/08 92 93 | J10: =+'inscription 2015-2016'!O10 -> Sciasciaanna@gmail.com | K10: =+'inscription 2015-2016'!P10 -> 9/o | L10: =+'inscription 2015-2016'!Q10 -> 42250 | M10: =+'inscription 2015-2016'!T10 -> OK | N10: =+'inscription 2015-2016'!AM10 -> ok
A11: =+'inscription 2015-2016'!B11 -> 1 | B11: =+'inscription 2015-2016'!C11 -> GRE | C11: =+'inscription 2015-2016'!D11 -> 32659 | D11: =+'inscription 2015-2016'!E11 -> Smets-Guénaëlle | E11: =+'inscription 2015-2016'!F11 -> GRI | F11: =+'inscription 2015-2016'!G11 -> F | G11: =+'inscription 2015-2016'!K11 -> 37202 | H11: =+'inscription 2015-2016'!M11 -> 04/384 78 00 | I11: =+'inscription 2015-2016'!N11 -> 0471/71 35 31 0493/58 36 16 M | J11: =+'inscription 2015-2016'!O11 -> lucie.nieduziak@hotmail.be | K11: =+'inscription 2015-2016'!P11 -> 36/o | L11: =+'inscription 2015-2016'!Q11 -> 42249 | M11: =+'inscription 2015-2016'!T11 -> OK | N11: =+'inscription 2015-2016'!AM11 -> 150
A12: =+'inscription 2015-2016'!B12 -> 1 | B12: =+'inscription 2015-2016'!C12 -> GRI | C12: =+'inscription 2015-2016'!D12 -> 32659 | D12: =+'inscription 2015-2016'!E12 -> Smets-Guénaëlle | E12: =+'inscription 2015-2016'!F12 -> GRE | F12: =+'inscription 2015-2016'!G12 -> F | G12: =+'inscription 2015-2016'!K12 -> 37202 | H12: =+'inscription 2015-2016'!M12 -> 04/384 78 00 | I12: =+'inscription 2015-2016'!N12 -> 0471/71 35 31 0493/58 36 16 M | J12: =+'inscription 2015-2016'!O12 -> lucie.nieduziak@hotmail.be | K12: =+'inscription 2015-2016'!P12 -> 36/o | L12: =+'inscription 2015-2016'!Q12 -> 42260 | M12: =+'inscription 2015-2016'!T12 -> OK | N12: =+'inscription 2015-2016'!AM12 -> 200
A13: =+'inscription 2015-2016'!B13 -> 1 | B13: =+'inscription 2015-2016'!C13 -> Edam | C13: =+'inscription 2015-2016'!D13 -> 32802 | D13: =+'inscription 2015-2016'!E13 -> Binnici-Vincianne | E13: =+'inscription 2015-2016'!F13 -> 0 | F13: =+'inscription 2015-2016'!G13 -> F | G13: =+'inscription 2015-2016'!K13 -> 26963 | H13: =+'inscription 2015-2016'!M13 -> 04/265 63 31 | I13: =+'inscription 2015-2016'!N13 -> 0485/56 99 79 | J13: =+'inscription 2015-2016'!O13 -> vincentarrisico@gmail.com | K13: =+'inscription 2015-2016'!P13 -> 65/o | L13: =+'inscription 2015-2016'!Q13 -> 42248 | M13: =+'inscription 2015-2016'!T13 -> OK | N13: =+'inscription 2015-2016'!AM13 -> ok
A14: =+'inscription 2015-2016'!B14 -> 2 | B14: =+'inscription 2015-2016'!C14 -> Edam | C14: =+'inscription 2015-2016'!D14 -> 35782 | D14: =+'inscription 2015-2016'!E14 -> Natola-Maria | E14: =+'inscription 2015-2016'!F14 -> 0 | F14: =+'inscription 2015-2016'!G14 -> F | G14: =+'inscription 2015-2016'!K14 -> 19833 | H14: =+'inscription 2015-2016'!M14 -> 04/246 34 00 | I14: =+'inscription 2015-2016'!N14 -> 0495/92 69 10 | J14: =+'inscription 2015-2016'!O14 -> 0 | K14: =+'inscription 2015-2016'!P14 -> 164/o | L14: =+'inscription 2015-2016'!Q14 -> 42270 | M14: =+'inscription 2015-2016'!T14 -> OK | N14: =+'inscription 2015-2016'!AM14 -> ok
... A20: =+'inscription 2015-2016'!B20 -> 1 | B20: =+'inscription 2015-2016'!C20 -> GRE | C20: =+'inscription 2015-2016'!D20 -> 55196 | D20: =+'inscription 2015-2016'!E20 -> Nyns-Nora | E20: =+'inscription 2015-2016'!F20 -> GRI | F20: =+'inscription 2015-2016'!G20 -> F | G20: =+'inscription 2015-2016'!K20 -> 37042 | H20: =+'inscription 2015-2016'!M20 -> 04/229 32 04 | I20: =+'inscription 2015-2016'!N20 -> 0493/62 02 80 | J20: =+'inscription 2015-2016'!O20 -> ben-nyns@hotmail.com | K20: =+'inscription 2015-2016'!P20 -> 89/o | L20: =+'inscription 2015-2016'!Q20 -> 42251 | M20: =+'inscription 2015-2016'!T20 -> OK | N20: =+'inscription 2015-2016'!AM20 -> ok
A21: =+'inscription 2015-2016'!B21 -> 1 | B21: =+'inscription 2015-2016'!C21 -> GRI | C21: =+'inscription 2015-2016'!D21 -> 55196 | D21: =+'inscription 2015-2016'!E21 -> Nyns-Nora | E21: =+'inscription 2015-2016'!F21 -> GRE | F21: =+'inscription 2015-2016'!G21 -> F | G21: =+'inscription 2015-2016'!K21 -> 37042 | H21: =+'inscription 2015-2016'!M21 -> 04/229 32 04 | I21: =+'inscription 2015-2016'!N21 -> 0493/62 02 80 | J21: =+'inscription 2015-2016'!O21 -> ben-nyns@hotmail.com | K21: =+'inscription 2015-2016'!P21 -> 89/o | L21: =+'inscription 2015-2016'!Q21 -> 42260 | M21: =+'inscription 2015-2016'!T21 -> OK | N21: =+'inscription 2015-2016'!AM21 -> 200 | O21: Retard cot | P21: =SUBTOTAL(9,$N$2:$N$100) -> 2914
A22: =+'inscription 2015-2016'!B22 -> 1 | B22: =+'inscription 2015-2016'!C22 -> GRA | C22: =+'inscription 2015-2016'!D22 -> 57397 | D22: =+'inscription 2015-2016'!E22 -> Gilles-Emma | E22: =+'inscription 2015-2016'!F22 -> 0 | F22: =+'inscription 2015-2016'!G22 -> F | G22: =+'inscription 2015-2016'!K22 -> 39582 | H22: =+'inscription 2015-2016'!M22 -> 0 | I22: =+'inscription 2015-2016'!N22 -> 0497/21 87 62 M | J22: =+'inscription 2015-2016'!O22 -> gilles.louis@hotmail.com | K22: =+'inscription 2015-2016'!P22 -> 161/o | L22: =+'inscription 2015-2016'!Q22 -> 42263 | M22: =+'inscription 2015-2016'!T22 -> OK | N22: =+'inscription 2015-2016'!AM22 -> ok
A23: =+'inscription 2015-2016'!B23 -> 1 | B23: =+'inscription 2015-2016'!C23 -> GRC | C23: =+'inscription 2015-2016'!D23 -> 58362 | D23: =+'inscription 2015-2016'!E23 -> Benvegna-Lilou | E23: =+'inscription 2015-2016'!F23 -> 0 | F23: =+'inscription 2015-2016'!G23 -> F | G23: =+'inscription 2015-2016'!K23 -> 39336 | H23: =+'inscription 2015-2016'!M23 -> 0 | I23: =+'inscription 2015-2016'!N23 -> 0475/29 63 71 | J23: =+'inscription 2015-2016'!O23 -> 0 | K23: =+'inscription 2015-2016'!P23 -> 146/o | L23: =+'inscription 2015-2016'!Q23 -> 42254 | M23: =+'inscription 2015-2016'!T23 -> OK | N23: =+'inscription 2015-2016'!AM23 -> ok
A24: =+'inscription 2015-2016'!B24 -> 1 | B24: =+'inscription 2015-2016'!C24 -> Edam | C24: =+'inscription 2015-2016'!D24 -> 58596 | D24: =+'inscription 2015-2016'!E24 -> Banken-Josiane | E24: =+'inscription 2015-2016'!F24 -> 0 | F24: =+'inscription 2015-2016'!G24 -> F | G24: =+'inscription 2015-2016'!K24 -> 22330 | H24: =+'inscription 2015-2016'!M24 -> 0 | I24: =+'inscription 2015-2016'!N24 -> 0495/77 23 69 | J24: =+'inscription 2015-2016'!O24 -> 0 | K24: =+'inscription 2015-2016'!P24 -> 149/o | L24: =+'inscription 2015-2016'!Q24 -> 42261 | M24: =+'inscription 2015-2016'!T24 -> OK | N24: =+'inscription 2015-2016'!AM24 -> ok
A25: =+'inscription 2015-2016'!B25 -> 1 | B25: =+'inscription 2015-2016'!C25 -> GRC | C25: =+'inscription 2015-2016'!D25 -> 68716 | D25: =+'inscription 2015-2016'!E25 -> Maréchal-Maria | E25: =+'inscription 2015-2016'!F25 -> 0 | F25: =+'inscription 2015-2016'!G25 -> F | G25: =+'inscription 2015-2016'!K25 -> 38582 | H25: =+'inscription 2015-2016'!M25 -> 04/2242728 | I25: =+'inscription 2015-2016'!N25 -> 0485/74 97 35 P 0486/40 87 10 M | J25: =+'inscription 2015-2016'!O25 -> ermarechal@gmail.com | K25: =+'inscription 2015-2016'!P25 -> 7/o | L25: =+'inscription 2015-2016'!Q25 -> 42264 | M25: =+'inscription 2015-2016'!T25 -> OK | N25: =+'inscription 2015-2016'!AM25 -> ok
A26: =+'inscription 2015-2016'!B26 -> 1 | B26: =+'inscription 2015-2016'!C26 -> EDam | C26: =+'inscription 2015-2016'!D26 -> 71369 | D26: =+'inscription 2015-2016'!E26 -> Defresne-Anne Marie | E26: =+'inscription 2015-2016'!F26 -> 0 | F26: =+'inscription 2015-2016'!G26 -> F | G26: =+'inscription 2015-2016'!K26 -> 18935 | H26: =+'inscription 2015-2016'!M26 -> 0 | I26: =+'inscription 2015-2016'!N26 -> 0471/88 51 89 | J26: =+'inscription 2015-2016'!O26 -> 0 | K26: =+'inscription 2015-2016'!P26 -> 54/o | L26: =+'inscription 2015-2016'!Q26 -> 42250 | M26: =+'inscription 2015-2016'!T26 -> OK | N26: =+'inscription 2015-2016'!AM26 -> ok
A27: =+'inscription 2015-2016'!B27 -> 2 | B27: =+'inscription 2015-2016'!C27 -> EDam | C27: =+'inscription 2015-2016'!D27 -> 71385 | D27: =+'inscription 2015-2016'!E27 -> Legrand-Marie-Louise | E27: =+'inscription 2015-2016'!F27 -> 0 | F27: =+'inscription 2015-2016'!G27 -> F | G27: =+'inscription 2015-2016'!K27 -> 21176 | H27: =+'inscription 2015-2016'!M27 -> 04/234 23 05 | I27: =+'inscription 2015-2016'!N27 -> 0487/74 95 50 | J27: =+'inscription 2015-2016'!O27 -> marie.l-legrand@hotmail.fr | K27: =+'inscription 2015-2016'!P27 -> 19/o | L27: =+'inscription 2015-2016'!Q27 -> 42248 | M27: =+'inscription 2015-2016'!T27 -> OK | N27: =+'inscription 2015-2016'!AM27 -> ok
A28: =+'inscription 2015-2016'!B28 -> 3 | B28: =+'inscription 2015-2016'!C28 -> EDam | C28: =+'inscription 2015-2016'!D28 -> 71386 | D28: =+'inscription 2015-2016'!E28 -> Mathy-Joelle | E28: =+'inscription 2015-2016'!F28 -> 0 | F28: =+'inscription 2015-2016'!G28 -> F | G28: =+'inscription 2015-2016'!K28 -> 22350 | H28: =+'inscription 2015-2016'!M28 -> 0 | I28: =+'inscription 2015-2016'!N28 -> 0497/18 45 07 | J28: =+'inscription 2015-2016'!O28 -> 0 | K28: =+'inscription 2015-2016'!P28 -> 138/N | L28: =+'inscription 2015-2016'!Q28 -> 42250 | M28: =+'inscription 2015-2016'!T28 -> OK | N28: =+'inscription 2015-2016'!AM28 -> ok
A29: =+'inscription 2015-2016'!B29 -> 1 | B29: =+'inscription 2015-2016'!C29 -> GRA | C29: =+'inscription 2015-2016'!D29 -> 74917 | D29: =+'inscription 2015-2016'!E29 -> Maes-Erin | E29: =+'inscription 2015-2016'!F29 -> 0 | F29: =+'inscription 2015-2016'!G29 -> F | G29: =+'inscription 2015-2016'!K29 -> 37949 | H29: =+'inscription 2015-2016'!M29 -> 0 | I29: =+'inscription 2015-2016'!N29 -> 0476/63 54 10 0498/21 27 58 M | J29: =+'inscription 2015-2016'!O29 -> catherinemaes12@hotmail.com | K29: =+'inscription 2015-2016'!P29 -> 158/? | L29: =+'inscription 2015-2016'!Q29 -> 42249 | M29: =+'inscription 2015-2016'!T29 -> OK | N29: =+'inscription 2015-2016'!AM29 -> 100
A30: =+'inscription 2015-2016'!B30 -> 2 | B30: =+'inscription 2015-2016'!C30 -> GRA | C30: =+'inscription 2015-2016'!D30 -> 75581 | D30: =+'inscription 2015-2016'!E30 -> Girardi-Charline | E30: =+'inscription 2015-2016'!F30 -> MJ | F30: =+'inscription 2015-2016'!G30 -> F | G30: =+'inscription 2015-2016'!K30 -> 39654 | H30: =+'inscription 2015-2016'!M30 -> 04/231 09 57 | I30: =+'inscription 2015-2016'!N30 -> 0496/67 07 80 P 0494/84 03 28 M | J30: =+'inscription 2015-2016'!O30 -> girardibrun@hotmail.com | K30: =+'inscription 2015-2016'!P30 -> 73/o | L30: =+'inscription 2015-2016'!Q30 -> 42249 | M30: =+'inscription 2015-2016'!T30 -> rappel | N30: =+'inscription 2015-2016'!AM30 -> 135
A31: =+'inscription 2015-2016'!B31 -> 1 | B31: =+'inscription 2015-2016'!C31 -> Mjazz | C31: =+'inscription 2015-2016'!D31 -> 75581 | D31: =+'inscription 2015-2016'!E31 -> Girardi-Charline | E31: =+'inscription 2015-2016'!F31 -> GRA | F31: =+'inscription 2015-2016'!G31 -> F | G31: =+'inscription 2015-2016'!K31 -> 39654 | H31: =+'inscription 2015-2016'!M31 -> 04/231 09 57 | I31: =+'inscription 2015-2016'!N31 -> 0496/67 07 80 P 0494/84 03 28 M | J31: =+'inscription 2015-2016'!O31 -> girardibrun@hotmail.com | K31: =+'inscription 2015-2016'!P31 -> 73/o | L31: =+'inscription 2015-2016'!Q31 -> 42254 | M31: =+'inscription 2015-2016'!T31 -> rappel | N31: =+'inscription 2015-2016'!AM31
A32: =+'inscription 2015-2016'!B32 -> 1 | B32: =+'inscription 2015-2016'!C32 -> GRA | C32: =+'inscription 2015-2016'!D32 -> 78893 | D32: =+'inscription 2015-2016'!E32 -> Vanturenhout-Mathilde | E32: =+'inscription 2015-2016'!F32 -> 0 | F32: =+'inscription 2015-2016'!G32 -> F | G32: =+'inscription 2015-2016'!K32 -> 39260 | H32: =+'inscription 2015-2016'!M32 -> 04/252 58 28 | I32: =+'inscription 2015-2016'!N32 -> 0495/43 36 51 M | J32: =+'inscription 2015-2016'!O32 -> genevieve.lizin@gmail.com | K32: =+'inscription 2015-2016'!P32 -> 45/o | L32: =+'inscription 2015-2016'!Q32 -> 42249 | M32: =+'inscription 2015-2016'!T32 -> OK | N32: =+'inscription 2015-2016'!AM32 -> ok
A33: =+'inscription 2015-2016'!B33 -> 1 | B33: =+'inscription 2015-2016'!C33 -> Mjazz | C33: =+'inscription 2015-2016'!D33 -> 78897 | D33: =+'inscription 2015-2016'!E33 -> Dagnely-Noella | E33: =+'inscription 2015-2016'!F33 -> 0 | F33: =+'inscription 2015-2016'!G33 -> F | G33: =+'inscription 2015-2016'!K33 -> 37676 | H33: =+'inscription 2015-2016'!M33 -> 04/266 21 09 | I33: =+'inscription 2015-2016'!N33 -> 0494/36 82 71 M | J33: =+'inscription 2015-2016'!O33 -> am.binnici@live.be | K33: =+'inscription 2015-2016'!P33 -> 57/o | L33: =+'inscription 2015-2016'!Q33 -> 42254 | M33: =+'inscription 2015-2016'!T33 -> rappel | N33: =+'inscription 2015-2016'!AM33
... A45: =+'inscription 2015-2016'!B45 -> 1 | B45: =+'inscription 2015-2016'!C45 -> GRI | C45: =+'inscription 2015-2016'!D45 -> 86167 | D45: =+'inscription 2015-2016'!E45 -> Quaranta-Issia | E45: =+'inscription 2015-2016'!F45 -> GRB | F45: =+'inscription 2015-2016'!G45 -> F | G45: =+'inscription 2015-2016'!K45 -> 39835 | H45: =+'inscription 2015-2016'!M45 -> 0 | I45: =+'inscription 2015-2016'!N45 -> 0492/31 10 22 M 0492/31 10 26 P | J45: =+'inscription 2015-2016'!O45 -> magange@live.be | K45: =+'inscription 2015-2016'!P45 -> 38/o | L45: =+'inscription 2015-2016'!Q45 -> 42260 | M45: =+'inscription 2015-2016'!T45 -> OK | N45: =+'inscription 2015-2016'!AM45 -> ok
A46: =+'inscription 2015-2016'!B46 -> 1 | B46: =+'inscription 2015-2016'!C46 -> GRB | C46: =+'inscription 2015-2016'!D46 -> 93824 | D46: =+'inscription 2015-2016'!E46 -> Roung-Eva | E46: =+'inscription 2015-2016'!F46 -> 0 | F46: =+'inscription 2015-2016'!G46 -> F | G46: =+'inscription 2015-2016'!K46 -> 37853 | H46: =+'inscription 2015-2016'!M46 -> 0 | I46: =+'inscription 2015-2016'!N46 -> 0495/32 94 03 0494/10 08 05 | J46: =+'inscription 2015-2016'!O46 -> cochi_20@hotmail.com | K46: =+'inscription 2015-2016'!P46 -> 71/o | L46: =+'inscription 2015-2016'!Q46 -> 42249 | M46: =+'inscription 2015-2016'!T46 -> OK | N46: =+'inscription 2015-2016'!AM46 -> ok | O46: Retard cot | P46: =SUBTOTAL(9,$N$2:$N$100) -> 2914
A47: =+'inscription 2015-2016'!B47 -> 1 | B47: =+'inscription 2015-2016'!C47 -> GRA | C47: =+'inscription 2015-2016'!D47 -> 93829 | D47: =+'inscription 2015-2016'!E47 -> Abbate-Lucie | E47: =+'inscription 2015-2016'!F47 -> 0 | F47: =+'inscription 2015-2016'!G47 -> F | G47: =+'inscription 2015-2016'!K47 -> 39357 | H47: =+'inscription 2015-2016'!M47 -> 04/246 10 87 | I47: =+'inscription 2015-2016'!N47 -> 0476/62 70 68 M | J47: =+'inscription 2015-2016'!O47 -> miprilou@hotmail.com | K47: =+'inscription 2015-2016'!P47 -> 70/o | L47: =+'inscription 2015-2016'!Q47 -> 42263 | M47: =+'inscription 2015-2016'!T47 -> OK | N47: =+'inscription 2015-2016'!AM47 -> ok
A48: =+'inscription 2015-2016'!B48 -> 2 | B48: =+'inscription 2015-2016'!C48 -> GRA | C48: =+'inscription 2015-2016'!D48 -> 98662 | D48: =+'inscription 2015-2016'!E48 -> Caputi-Alicia | E48: =+'inscription 2015-2016'!F48 -> 0 | F48: =+'inscription 2015-2016'!G48 -> F | G48: =+'inscription 2015-2016'!K48 -> 38849 | H48: =+'inscription 2015-2016'!M48 -> 04/269 55 78 | I48: =+'inscription 2015-2016'!N48 -> 0497/86 62 28 M 0496/84 51 81 P | J48: =+'inscription 2015-2016'!O48 -> brayeurisabelle@gmail.com | K48: =+'inscription 2015-2016'!P48 -> 88/o | L48: =+'inscription 2015-2016'!Q48 -> 42249 | M48: =+'inscription 2015-2016'!T48 -> OK | N48: =+'inscription 2015-2016'!AM48 -> ok
A49: =+'inscription 2015-2016'!B49 -> 3 | B49: =+'inscription 2015-2016'!C49 -> GRA | C49: =+'inscription 2015-2016'!D49 -> 98664 | D49: =+'inscription 2015-2016'!E49 -> Ramakers-Laly | E49: =+'inscription 2015-2016'!F49 -> MJ | F49: =+'inscription 2015-2016'!G49 -> F | G49: =+'inscription 2015-2016'!K49 -> 39521 | H49: =+'inscription 2015-2016'!M49 -> 042 33 67 00 | I49: =+'inscription 2015-2016'!N49 -> 0495/33 52 67 M | J49: =+'inscription 2015-2016'!O49 -> cricri57@live.be | K49: =+'inscription 2015-2016'!P49 -> 86/o | L49: =+'inscription 2015-2016'!Q49 -> 42249 | M49: =+'inscription 2015-2016'!T49 -> OK | N49: =+'inscription 2015-2016'!AM49 -> ok
A50: =+'inscription 2015-2016'!B50 -> 1 | B50: =+'inscription 2015-2016'!C50 -> Mjazz | C50: =+'inscription 2015-2016'!D50 -> 98664 | D50: =+'inscription 2015-2016'!E50 -> Ramakers-Laly | E50: =+'inscription 2015-2016'!F50 -> GRA | F50: =+'inscription 2015-2016'!G50 -> F | G50: =+'inscription 2015-2016'!K50 -> 39521 | H50: =+'inscription 2015-2016'!M50 -> 042 33 67 00 | I50: =+'inscription 2015-2016'!N50 -> 0495/33 52 67 M | J50: =+'inscription 2015-2016'!O50 -> cricri57@live.be | K50: =+'inscription 2015-2016'!P50 -> 86/o | L50: =+'inscription 2015-2016'!Q50 -> 42254 | M50: =+'inscription 2015-2016'!T50 -> OK | N50: =+'inscription 2015-2016'!AM50
A51: =+'inscription 2015-2016'!B51 -> 1 | B51: =+'inscription 2015-2016'!C51 -> GRA | C51: =+'inscription 2015-2016'!D51 -> 98665 | D51: =+'inscription 2015-2016'!E51 -> Vanstraelen-Clémentine | E51: =+'inscription 2015-2016'!F51 -> 0 | F51: =+'inscription 2015-2016'!G51 -> F | G51: =+'inscription 2015-2016'!K51 -> 38971 | H51: =+'inscription 2015-2016'!M51 -> 0 | I51: =+'inscription 2015-2016'!N51 -> 0474/62 15 28 P | J51: =+'inscription 2015-2016'!O51 -> rudyvanstraelen@yahoo.fr | K51: =+'inscription 2015-2016'!P51 -> 87/o | L51: =+'inscription 2015-2016'!Q51 -> 42256 | M51: =+'inscription 2015-2016'!T51 -> OK | N51: =+'inscription 2015-2016'!AM51 -> 50
A52: =+'inscription 2015-2016'!B52 -> 2 | B52: =+'inscription 2015-2016'!C52 -> GRA | C52: =+'inscription 2015-2016'!D52 -> 100296 | D52: =+'inscription 2015-2016'!E52 -> Santangelo-Eva | E52: =+'inscription 2015-2016'!F52 -> GRC | F52: =+'inscription 2015-2016'!G52 -> F | G52: =+'inscription 2015-2016'!K52 -> 38230 | H52: =+'inscription 2015-2016'!M52 -> 0 | I52: =+'inscription 2015-2016'!N52 -> 0493/20 54 04 0494/51 53 52 M | J52: =+'inscription 2015-2016'!O52 -> mary.licata@hotmail.com | K52: =+'inscription 2015-2016'!P52 -> 162/o | L52: =+'inscription 2015-2016'!Q52 -> 42263 | M52: =+'inscription 2015-2016'!T52 -> OK | N52: =+'inscription 2015-2016'!AM52 -> 77
A53: =+'inscription 2015-2016'!B53 -> 1 | B53: =+'inscription 2015-2016'!C53 -> GRC | C53: =+'inscription 2015-2016'!D53 -> 100296 | D53: =+'inscription 2015-2016'!E53 -> Santangelo-Eva | E53: =+'inscription 2015-2016'!F53 -> GRA | F53: =+'inscription 2015-2016'!G53 -> F | G53: =+'inscription 2015-2016'!K53 -> 38230 | H53: =+'inscription 2015-2016'!M53 -> 0 | I53: =+'inscription 2015-2016'!N53 -> 0493/20 54 04 0494/51 53 52 M | J53: =+'inscription 2015-2016'!O53 -> mary.licata@hotmail.com | K53: =+'inscription 2015-2016'!P53 -> 162/o | L53: =+'inscription 2015-2016'!Q53 -> 42263 | M53: =+'inscription 2015-2016'!T53 -> OK | N53: =+'inscription 2015-2016'!AM53 -> 77
A54: =+'inscription 2015-2016'!B54 -> 1 | B54: =+'inscription 2015-2016'!C54 -> GRA | C54: =+'inscription 2015-2016'!D54 -> 100362 | D54: =+'inscription 2015-2016'!E54 -> Preud'homme-Noémie | E54: =+'inscription 2015-2016'!F54 -> 0 | F54: =+'inscription 2015-2016'!G54 -> F | G54: =+'inscription 2015-2016'!K54 -> 37667 | H54: =+'inscription 2015-2016'!M54 -> 04/223 00 58 | I54: =+'inscription 2015-2016'!N54 -> Bastin Bernard R | J54: =+'inscription 2015-2016'!O54 -> asbllamaison@skynet.be | K54: =+'inscription 2015-2016'!P54 -> 106/N | L54: =+'inscription 2015-2016'!Q54 -> 42249 | M54: =+'inscription 2015-2016'!T54 -> OK | N54: =+'inscription 2015-2016'!AM54 -> ok
A55: =+'inscription 2015-2016'!B55 -> 2 | B55: =+'inscription 2015-2016'!C55 -> GRA | C55: =+'inscription 2015-2016'!D55 -> 100363 | D55: =+'inscription 2015-2016'!E55 -> Lahaye-Priscilla | E55: =+'inscription 2015-2016'!F55 -> 0 | F55: =+'inscription 2015-2016'!G55 -> F | G55: =+'inscription 2015-2016'!K55 -> 37333 | H55: =+'inscription 2015-2016'!M55 -> 04/223 00 58 | I55: =+'inscription 2015-2016'!N55 -> Bastin Bernard R | J55: =+'inscription 2015-2016'!O55 -> asbllamaison@skynet.be | K55: =+'inscription 2015-2016'!P55 -> 107/N | L55: =+'inscription 2015-2016'!Q55 -> 42249 | M55: =+'inscription 2015-2016'!T55 -> OK | N55: =+'inscription 2015-2016'!AM55 -> ok
A56: =+'inscription 2015-2016'!B56 -> 1 | B56: =+'inscription 2015-2016'!C56 -> GRB | C56: =+'inscription 2015-2016'!D56 -> 100365 | D56: =+'inscription 2015-2016'!E56 -> Lognoul-Luna | E56: =+'inscription 2015-2016'!F56 -> 0 | F56: =+'inscription 2015-2016'!G56 -> F | G56: =+'inscription 2015-2016'!K56 -> 37873 | H56: =+'inscription 2015-2016'!M56 -> 0 | I56: =+'inscription 2015-2016'!N56 -> 0495/79 51 86 P 0479/45 67 43 M | J56: =+'inscription 2015-2016'!O56 -> macgil2405@gmail.com | K56: =+'inscription 2015-2016'!P56 -> 108/o | L56: =+'inscription 2015-2016'!Q56 -> 42249 | M56: =+'inscription 2015-2016'!T56 -> OK | N56: =+'inscription 2015-2016'!AM56 -> 65 | O56: Retard cot | P56: =SUBTOTAL(9,$N$2:$N$100) -> 2914
...

Sheet TCD exemle
A1: Code liste | B1: GRB
A3: Étiquettes de lignes | B3: Nombre de licence | C3: Nombre de liste GSM | D3: Nombre de Liste droit image N° doc
A4: Abbate-Louise | B4: 1 | C4: 1 | D4: 1
A5: Caltabellotta-Eva | B5: 1 | C5: 1 | D5: 1
A6: Caltabellotta-Lola | B6: 1 | C6: 1 | D6: 1
A7: Chammache-Yassmine | B7: 1 | C7: 1 | D7: 1
A8: Lognoul-Luna | B8: 1 | C8: 1 | D8: 1
A9: Marchal-Lise | B9: 1 | C9: 1 | D9: 1
A10: Quaranta-Issia | B10: 1 | C10: 1 | D10: 1
A11: Roung-Eva | B11: 1 | C11: 1 | D11: 1
A12: Tergui-Naïssa | B12: 1 | C12: 1 | D12: 1
A13: Vincke-Lola | B13: 1 | C13: 1 | D13: 1
A14: Total général | B14: 10 | C14: 10 | D14: 10

Sheet inscription 2015-2016
A1: Date V.L. | B1: Nb liste | C1: Code liste | D1: licence liste | E1: Nom liste | F1: code2 | G1: S | H1: Adresse | I1: CP | J1: Localité | K1: liste date Nai | L1: Natio | M1: tél | N1: liste GSM | O1: =COUNTIF(O2:O135,"*@*") -> 79 | P1: Liste droit image N° doc | Q1: Liste Inscription | R1: assur | S1: date Paie assur | T1: =COUNTIF($T$2:$T$127,"ok") -> 93 | U1: 42277 | V1: Date Payé ou Arrangement | W1: =COUNTIF(W2:W127,"ok") -> 66 | X1: 42308 | Y1: Date Payé Cot 2 promesse | AA1: 42338 | AB1: Date Payé Cot 3 promesse | AD1: 42369 | AE1: Date Payé Cot 3 promesse | AG1: 42035 | AH1: Date Payé Cot 3 promesse | AJ1: 1er contact | AK1: tot cotisation | AL1: Versé | AM1: =COUNTIF(AM2:AM135,"ok") -> 62 | AN1: rappel | AO1: rappel | AP1: rappel | AQ1: retard assur | AR1: retard cotis -15 jr | AS1: diff paie ass
A2: 42255 | B2: =IF(C2=".","",IF(ISTEXT(C2),IF(C2=C1,B1+1,1),"")) -> 1 | C2: GRE | D2: 14497 | E2: Benhida-Yasmine | F2: GRI | G2: F | H2: Rue Louis Germeaux 30 | I2: 4342 | J2: Hognoul | K2: 36840 | L2: Belge | M2: 04/257 78 88 | N2: 0497/38 42 26 0499/19 29 99 M | O2: fat_osmani@hotmail.com | P2: 34/o | Q2: 42249 | R2: 35 | S2: 42250 | T2: =IF(Q2,IF(ISNUMBER(S2),"OK",IF(Q2+8<TODAY(),"rappel","encour")),"-") -> OK | U2: 120 | V2: 42250 | W2: =IF(ISNUMBER(U2),IF(ISNUMBER(V2),"OK",IF(Q2+15<TODAY(),"rappel","encour")),"-") -> OK | X2: 30 | Y2: 42278 | Z2: =IF(X2,IF(ISNUMBER(Y2),"OK",IF(X$1<TODAY(),"rappel","encour")),"-") -> OK | AC2: =IF(AA2,IF(ISNUMBER(AB2),"OK",IF(AA$1<TODAY(),"rappel","encour")),"-") -> - | AF2: =IF(AD2,IF(ISNUMBER(AE2),"OK",IF(AD$1<TODAY(),"rappel","encour")),"-") -> - | AI2: =IF(AG2,IF(ISNUMBER(AH2),"OK",IF(AG$1<TODAY(),"rappel","encour")),"-") -> - | AK2: =IF(OR(ISNUMBER(U2),ISNUMBER(X2),ISNUMBER(AA2),ISNUMBER(AD2),ISNUMBER(AG2)),+R2+U2+X2+AA2+AD2+AG2,"") -> 185 | AL2: =IF(T2="ok",+R2)+IF(W2="ok",+U2)+IF(Z2="ok",+X2)+IF(AC2="ok",+AA2)+IF(AF2="ok",+AD2)+IF(AI2="ok",+AG2) -> 185 | AM2: =IF(ISNUMBER(AK2),IF(AK2=AL2,"ok",AK2-AL2),"") -> ok | AQ2: =IF(T2="rappel",TODAY()-Q2,".") -> . | AR2: =IF(W2="rappel",TODAY()-Q2,".") -> . | AS2: =IF(W2="rappel",TODAY()-S2,".") -> .
A3: 42255 | B3: =IF(C3=".","",IF(ISTEXT(C3),IF(C3=C2,B2+1,1),"")) -> 1 | C3: GRI | D3: 14497 | E3: Benhida-Yasmine | F3: GRE | G3: F | H3: Rue Louis Germeaux 30 | I3: 4342 | J3: Hognoul | K3: 36840 | L3: Belge | M3: 04/257 78 88 | N3: 0497/38 42 26 0499/19 29 99 M | O3: fat_osmani@hotmail.com | P3: 34/o | Q3: 42260 | R3: 0 | S3: 42250 | T3: =IF(Q3,IF(ISNUMBER(S3),"OK",IF(Q3+8<TODAY(),"rappel","encour")),"-") -> OK | W3: =IF(ISNUMBER(U3),IF(ISNUMBER(V3),"OK",IF(Q3+15<TODAY(),"rappel","encour")),"-") -> - | X3: 70 | Y3: 42278 | Z3: =IF(X3,IF(ISNUMBER(Y3),"OK",IF(X$1<TODAY(),"rappel","encour")),"-") -> OK | AA3: 130 | AC3: =IF(AA3,IF(ISNUMBER(AB3),"OK",IF(AA$1<TODAY(),"rappel","encour")),"-") -> encour | AF3: =IF(AD3,IF(ISNUMBER(AE3),"OK",IF(AD$1<TODAY(),"rappel","encour")),"-") -> - | AI3: =IF(AG3,IF(ISNUMBER(AH3),"OK",IF(AG$1<TODAY(),"rappel","encour")),"-") -> - | AK3: =IF(OR(ISNUMBER(U3),ISNUMBER(X3),ISNUMBER(AA3),ISNUMBER(AD3),ISNUMBER(AG3)),+R3+U3+X3+AA3+AD3+AG3,"") -> 200 | AL3: =IF(T3="ok",+R3)+IF(W3="ok",+U3)+IF(Z3="ok",+X3)+IF(AC3="ok",+AA3)+IF(AF3="ok",+AD3)+IF(AI3="ok",+AG3) -> 70 | AM3: =IF(ISNUMBER(AK3),IF(AK3=AL3,"ok",AK3-AL3),"") -> 130 | AQ3: =IF(T3="rappel",TODAY()-Q3,".") -> . | AR3: =IF(W3="rappel",TODAY()-Q3,".") -> . | AS3: =IF(W3="rappel",TODAY()-S3,".") -> .
A4: 42255 | B4: =IF(C4=".","",IF(ISTEXT(C4),IF(C4=C3,B3+1,1),"")) -> 1 | C4: GRE | D4: 14498 | E4: Bortoletto-Laura | F4: GRI | G4: F | H4: Rue Fond-Pirette 87 | I4: 4000 | J4: Liège | K4: 36398 | L4: Belge | M4: 04/226 90 00 | N4: 0483/36 10 47 0486/27 74 55 M | O4: odette.marion@base.be | P4: 2/o | Q4: 42249 | R4: 35 | S4: 42249 | T4: =IF(Q4,IF(ISNUMBER(S4),"OK",IF(Q4+8<TODAY(),"rappel","encour")),"-") -> OK | U4: =IF(ISERROR(VLOOKUP(C4,cotisation15_16,4,FALSE)),".",VLOOKUP(C4,cotisation15_16,4,FALSE)) -> 150 | V4: 42249 | W4: =IF(ISNUMBER(U4),IF(ISNUMBER(V4),"OK",IF(Q4+15<TODAY(),"rappel","encour")),"-") -> OK | Z4: =IF(X4,IF(ISNUMBER(Y4),"OK",IF(X$1<TODAY(),"rappel","encour")),"-") -> - | AC4: =IF(AA4,IF(ISNUMBER(AB4),"OK",IF(AA$1<TODAY(),"rappel","encour")),"-") -> - | AF4: =IF(AD4,IF(ISNUMBER(AE4),"OK",IF(AD$1<TODAY(),"rappel","encour")),"-") -> - | AI4: =IF(AG4,IF(ISNUMBER(AH4),"OK",IF(AG$1<TODAY(),"rappel","encour")),"-") -> - | AK4: =IF(OR(ISNUMBER(U4),ISNUMBER(X4),ISNUMBER(AA4),ISNUMBER(AD4),ISNUMBER(AG4)),+R4+U4+X4+AA4+AD4+AG4,"") -> 185 | AL4: =IF(T4="ok",+R4)+IF(W4="ok",+U4)+IF(Z4="ok",+X4)+IF(AC4="ok",+AA4)+IF(AF4="ok",+AD4)+IF(AI4="ok",+AG4) -> 185 | AM4: =IF(ISNUMBER(AK4),IF(AK4=AL4,"ok",AK4-AL4),"") -> ok | AQ4: =IF(T4="rappel",TODAY()-Q4,".") -> . | AR4: =IF(W4="rappel",TODAY()-Q4,".") -> . | AS4: =IF(W4="rappel",TODAY()-S4,".") -> .
A5: 42255 | B5: =IF(C5=".","",IF(ISTEXT(C5),IF(C5=C4,B4+1,1),"")) -> 1 | C5: GRI | D5: 14498 | E5: Bortoletto-Laura | F5: GRE | G5: F | H5: Rue Fond-Pirette 87 | I5: 4000 | J5: Liège | K5: 36398 | L5: Belge | M5: 04/226 90 00 | N5: 0483/36 10 47 0486/27 74 55 M | O5: odette.marion@base.be | P5: 2/o | Q5: 42260 | R5: 0 | S5: 42249 | T5: =IF(Q5,IF(ISNUMBER(S5),"OK",IF(Q5+8<TODAY(),"rappel","encour")),"-") -> OK | W5: =IF(ISNUMBER(U5),IF(ISNUMBER(V5),"OK",IF(Q5+15<TODAY(),"rappel","encour")),"-") -> - | X5: 100 | Y5: 42289 | Z5: =IF(X5,IF(ISNUMBER(Y5),"OK",IF(X$1<TODAY(),"rappel","encour")),"-") -> OK | AA5: 100 | AC5: =IF(AA5,IF(ISNUMBER(AB5),"OK",IF(AA$1<TODAY(),"rappel","encour")),"-") -> encour | AF5: =IF(AD5,IF(ISNUMBER(AE5),"OK",IF(AD$1<TODAY(),"rappel","encour")),"-") -> - | AI5: =IF(AG5,IF(ISNUMBER(AH5),"OK",IF(AG$1<TODAY(),"rappel","encour")),"-") -> - | AK5: =IF(OR(ISNUMBER(U5),ISNUMBER(X5),ISNUMBER(AA5),ISNUMBER(AD5),ISNUMBER(AG5)),+R5+U5+X5+AA5+AD5+AG5,"") -> 200 | AL5: =IF(T5="ok",+R5)+IF(W5="ok",+U5)+IF(Z5="ok",+X5)+IF(AC5="ok",+AA5)+IF(AF5="ok",+AD5)+IF(AI5="ok",+AG5) -> 100 | AM5: =IF(ISNUMBER(AK5),IF(AK5=AL5,"ok",AK5-AL5),"") -> 100 | AQ5: =IF(T5="rappel",TODAY()-Q5,".") -> . | AR5: =IF(W5="rappel",TODAY()-Q5,".") -> . | AS5: =IF(W5="rappel",TODAY()-S5,".") -> .
A6: 42248 | B6: =IF(C6=".","",IF(ISTEXT(C6),IF(C6=C5,B5+1,1),"")) -> 1 | C6: GRE | D6: 19548 | E6: Lesage-Tiffany | F6: GRI | G6: F | H6: Rue Tout-Va-Bien 67 | I6: 4420 | J6: St Nicolas | K6: 35655 | L6: Belge | N6: 0498/78 32 68 0496/11 12 13 M | O6: tiffany.lesage1997@gmail.com | P6: 39/o | Q6: 42249 | R6: 0 | S6: 42248 | T6: =IF(Q6,IF(ISNUMBER(S6),"OK",IF(Q6+8<TODAY(),"rappel","encour")),"-") -> OK | U6: 75 | W6: =IF(ISNUMBER(U6),IF(ISNUMBER(V6),"OK",IF(Q6+15<TODAY(),"rappel","encour")),"-") -> rappel | Z6: =IF(X6,IF(ISNUMBER(Y6),"OK",IF(X$1<TODAY(),"rappel","encour")),"-") -> - | AC6: =IF(AA6,IF(ISNUMBER(AB6),"OK",IF(AA$1<TODAY(),"rappel","encour")),"-") -> - | AF6: =IF(AD6,IF(ISNUMBER(AE6),"OK",IF(AD$1<TODAY(),"rappel","encour")),"-") -> - | AI6: =IF(AG6,IF(ISNUMBER(AH6),"OK",IF(AG$1<TODAY(),"rappel","encour")),"-") -> - | AK6: =IF(OR(ISNUMBER(U6),ISNUMBER(X6),ISNUMBER(AA6),ISNUMBER(AD6),ISNUMBER(AG6)),+R6+U6+X6+AA6+AD6+AG6,"") -> 75 | AL6: =IF(T6="ok",+R6)+IF(W6="ok",+U6)+IF(Z6="ok",+X6)+IF(AC6="ok",+AA6)+IF(AF6="ok",+AD6)+IF(AI6="ok",+AG6) -> 0 | AM6: =IF(ISNUMBER(AK6),IF(AK6=AL6,"ok",AK6-AL6),"") -> 75 | AQ6: =IF(T6="rappel",TODAY()-Q6,".") -> . | AR6: =IF(W6="rappel",TODAY()-Q6-14,".") -> 27 | AS6: =IF(W6="rappel",TODAY()-S6,".") -> 42
A7: 42248 | B7: =IF(C7=".","",IF(ISTEXT(C7),IF(C7=C6,B6+1,1),"")) -> 1 | C7: GRI | D7: 19548 | E7: Lesage-Tiffany | F7: GRE | G7: F | H7: Rue Tout-Va-Bien 67 | I7: 4420 | J7: St Nicolas | K7: 35655 | L7: Belge | N7: 0498/78 32 68 0496/11 12 13 M | O7: tiffany.lesage1997@gmail.com | P7: 39/o | Q7: 42260 | R7: 0 | S7: 42248 | T7: =IF(Q7,IF(ISNUMBER(S7),"OK",IF(Q7+8<TODAY(),"rappel","encour")),"-") -> OK | U7: 100 | V7: 42263 | W7: =IF(ISNUMBER(U7),IF(ISNUMBER(V7),"OK",IF(Q7+15<TODAY(),"rappel","encour")),"-") -> OK | X7: 100 | Y7: 42282 | Z7: =IF(X7,IF(ISNUMBER(Y7),"OK",IF(X$1<TODAY(),"rappel","encour")),"-") -> OK | AC7: =IF(AA7,IF(ISNUMBER(AB7),"OK",IF(AA$1<TODAY(),"rappel","encour")),"-") -> - | AF7: =IF(AD7,IF(ISNUMBER(AE7),"OK",IF(AD$1<TODAY(),"rappel","encour")),"-") -> - | AI7: =IF(AG7,IF(ISNUMBER(AH7),"OK",IF(AG$1<TODAY(),"rappel","encour")),"-") -> - | AK7: =IF(OR(ISNUMBER(U7),ISNUMBER(X7),ISNUMBER(AA7),ISNUMBER(AD7),ISNUMBER(AG7)),+R7+U7+X7+AA7+AD7+AG7,"") -> 200 | AL7: =IF(T7="ok",+R7)+IF(W7="ok",+U7)+IF(Z7="ok",+X7)+IF(AC7="ok",+AA7)+IF(AF7="ok",+AD7)+IF(AI7="ok",+AG7) -> 200 | AM7: =IF(ISNUMBER(AK7),IF(AK7=AL7,"ok",AK7-AL7),"") -> ok | AQ7: =IF(T7="rappel",TODAY()-Q7,".") -> . | AR7: =IF(W7="rappel",TODAY()-Q7,".") -> . | AS7: =IF(W7="rappel",TODAY()-S7,".") -> .
A8: 42260 | B8: =IF(C8=".","",IF(ISTEXT(C8),IF(C8=C7,B7+1,1),"")) -> 1 | C8: EDam | D8: 19561 | E8: Mattina-Nuzia | G8: F | H8: rue des Muguets 34 | I8: 4420 | J8: St Nicolas | K8: 19697 | L8: Ital | N8: 0499/176643 | P8: 67/o | Q8: 42248 | R8: 35 | S8: 42258 | T8: =IF(Q8,IF(ISNUMBER(S8),"OK",IF(Q8+8<TODAY(),"rappel","encour")),"-") -> OK | U8: =IF(ISERROR(VLOOKUP(C8,cotisation15_16,4,FALSE)),".",VLOOKUP(C8,cotisation15_16,4,FALSE)) -> 100 | V8: 42258 | W8: =IF(ISNUMBER(U8),IF(ISNUMBER(V8),"OK",IF(Q8+15<TODAY(),"rappel","encour")),"-") -> OK | Z8: =IF(X8,IF(ISNUMBER(Y8),"OK",IF(X$1<TODAY(),"rappel","encour")),"-") -> - | AC8: =IF(AA8,IF(ISNUMBER(AB8),"OK",IF(AA$1<TODAY(),"rappel","encour")),"-") -> - | AF8: =IF(AD8,IF(ISNUMBER(AE8),"OK",IF(AD$1<TODAY(),"rappel","encour")),"-") -> - | AI8: =IF(AG8,IF(ISNUMBER(AH8),"OK",IF(AG$1<TODAY(),"rappel","encour")),"-") -> - | AK8: =IF(OR(ISNUMBER(U8),ISNUMBER(X8),ISNUMBER(AA8),ISNUMBER(AD8),ISNUMBER(AG8)),+R8+U8+X8+AA8+AD8+AG8,"") -> 135 | AL8: =IF(T8="ok",+R8)+IF(W8="ok",+U8)+IF(Z8="ok",+X8)+IF(AC8="ok",+AA8)+IF(AF8="ok",+AD8)+IF(AI8="ok",+AG8) -> 135 | AM8: =IF(ISNUMBER(AK8),IF(AK8=AL8,"ok",AK8-AL8),"") -> ok | AQ8: =IF(T8="rappel",TODAY()-Q8,".") -> . | AR8: =IF(W8="rappel",TODAY()-Q8,".") -> . | AS8: =IF(W8="rappel",TODAY()-S8,".") -> .
A9: 42248 | B9: =IF(C9=".","",IF(ISTEXT(C9),IF(C9=C8,B8+1,1),"")) -> 1 | C9: GRE | D9: 19562 | E9: Mazziotta-Maude | G9: F | H9: Rue De La Vaux 9/7 | I9: 4450 | J9: Juprelle | K9: 34493 | L9: Belge | N9: 0497/67 27 16 | O9: maudesouricette0608@gmail.com | P9: 6/o | Q9: 42249 | R9: 0 | S9: 42249 | T9: =IF(Q9,IF(ISNUMBER(S9),"OK",IF(Q9+8<TODAY(),"rappel","encour")),"-") -> OK | U9: 75 | W9: =IF(ISNUMBER(U9),IF(ISNUMBER(V9),"OK",IF(Q9+15<TODAY(),"rappel","encour")),"-") -> rappel | Z9: =IF(X9,IF(ISNUMBER(Y9),"OK",IF(X$1<TODAY(),"rappel","encour")),"-") -> - | AC9: =IF(AA9,IF(ISNUMBER(AB9),"OK",IF(AA$1<TODAY(),"rappel","encour")),"-") -> - | AF9: =IF(AD9,IF(ISNUMBER(AE9),"OK",IF(AD$1<TODAY(),"rappel","encour")),"-") -> - | AI9: =IF(AG9,IF(ISNUMBER(AH9),"OK",IF(AG$1<TODAY(),"rappel","encour")),"-") -> - | AK9: =IF(OR(ISNUMBER(U9),ISNUMBER(X9),ISNUMBER(AA9),ISNUMBER(AD9),ISNUMBER(AG9)),+R9+U9+X9+AA9+AD9+AG9,"") -> 75 | AL9: =IF(T9="ok",+R9)+IF(W9="ok",+U9)+IF(Z9="ok",+X9)+IF(AC9="ok",+AA9)+IF(AF9="ok",+AD9)+IF(AI9="ok",+AG9) -> 0 | AM9: =IF(ISNUMBER(AK9),IF(AK9=AL9,"ok",AK9-AL9),"") -> 75 | AQ9: =IF(T9="rappel",TODAY()-Q9,".") -> . | AR9: =IF(W9="rappel",TODAY()-Q9-14,".") -> 27 | AS9: =IF(W9="rappel",TODAY()-S9,".") -> 41
A10: 42255 | B10: =IF(C10=".","",IF(ISTEXT(C10),IF(C10=C9,B9+1,1),"")) -> 1 | C10: EDam | D10: 19590 | E10: Sciascia-Anna | G10: F | H10: Av Fr. Van Belle 41 | I10: 4420 | J10: Tilleur (lg) | K10: 23770 | L10: Belge | M10: 04/234 05 51 | N10: 0491/08 92 93 | O10: Sciasciaanna@gmail.com | P10: 9/o | Q10: 42250 | R10: 35 | S10: 42250 | T10: =IF(Q10,IF(ISNUMBER(S10),"OK",IF(Q10+8<TODAY(),"rappel","encour")),"-") -> OK | U10: 50 | V10: 42257 | W10: =IF(ISNUMBER(U10),IF(ISNUMBER(V10),"OK",IF(Q10+15<TODAY(),"rappel","encour")),"-") -> OK | X10: 50 | Y10: 42285 | Z10: =IF(X10,IF(ISNUMBER(Y10),"OK",IF(X$1<TODAY(),"rappel","encour")),"-") -> OK | AC10: =IF(AA10,IF(ISNUMBER(AB10),"OK",IF(AA$1<TODAY(),"rappel","encour")),"-") -> - | AF10: =IF(AD10,IF(ISNUMBER(AE10),"OK",IF(AD$1<TODAY(),"rappel","encour")),"-") -> - | AI10: =IF(AG10,IF(ISNUMBER(AH10),"OK",IF(AG$1<TODAY(),"rappel","encour")),"-") -> - | AK10: =IF(OR(ISNUMBER(U10),ISNUMBER(X10),ISNUMBER(AA10),ISNUMBER(AD10),ISNUMBER(AG10)),+R10+U10+X10+AA10+AD10+AG10,"") -> 135 | AL10: =IF(T10="ok",+R10)+IF(W10="ok",+U10)+IF(Z10="ok",+X10)+IF(AC10="ok",+AA10)+IF(AF10="ok",+AD10)+IF(AI10="ok",+AG10) -> 135 | AM10: =IF(ISNUMBER(AK10),IF(AK10=AL10,"ok",AK10-AL10),"") -> ok | AQ10: =IF(T10="rappel",TODAY()-Q10,".") -> . | AR10: =IF(W10="rappel",TODAY()-Q10,".") -> . | AS10: =IF(W10="rappel",TODAY()-S10,".") -> .
A11: 42255 | B11: =IF(C11=".","",IF(ISTEXT(C11),IF(C11=C10,B10+1,1),"")) -> 1 | C11: GRE | D11: 32659 | E11: Smets-Guénaëlle | F11: GRI | G11: F | H11: Rue Davio 17 | I11: 4102 | J11: Ougrée | K11: 37202 | L11: Belge | M11: 04/384 78 00 | N11: 0471/71 35 31 0493/58 36 16 M | O11: lucie.nieduziak@hotmail.be | P11: 36/o | Q11: 42249 | R11: 35 | S11: 42251 | T11: =IF(Q11,IF(ISNUMBER(S11),"OK",IF(Q11+8<TODAY(),"rappel","encour")),"-") -> OK | U11: =IF(ISERROR(VLOOKUP(C11,cotisation15_16,4,FALSE)),".",VLOOKUP(C11,cotisation15_16,4,FALSE)) -> 150 | W11: =IF(ISNUMBER(U11),IF(ISNUMBER(V11),"OK",IF(Q11+15<TODAY(),"rappel","encour")),"-") -> rappel | Z11: =IF(X11,IF(ISNUMBER(Y11),"OK",IF(X$1<TODAY(),"rappel","encour")),"-") -> - | AC11: =IF(AA11,IF(ISNUMBER(AB11),"OK",IF(AA$1<TODAY(),"rappel","encour")),"-") -> - | AF11: =IF(AD11,IF(ISNUMBER(AE11),"OK",IF(AD$1<TODAY(),"rappel","encour")),"-") -> - | AI11: =IF(AG11,IF(ISNUMBER(AH11),"OK",IF(AG$1<TODAY(),"rappel","encour")),"-") -> - | AK11: =IF(OR(ISNUMBER(U11),ISNUMBER(X11),ISNUMBER(AA11),ISNUMBER(AD11),ISNUMBER(AG11)),+R11+U11+X11+AA11+AD11+AG11,"") -> 185 | AL11: =IF(T11="ok",+R11)+IF(W11="ok",+U11)+IF(Z11="ok",+X11)+IF(AC11="ok",+AA11)+IF(AF11="ok",+AD11)+IF(AI11="ok",+AG11) -> 35 | AM11: =IF(ISNUMBER(AK11),IF(AK11=AL11,"ok",AK11-AL11),"") -> 150 | AN11: 42285 | AQ11: =IF(T11="rappel",TODAY()-Q11,".") -> . | AR11: =IF(W11="rappel",TODAY()-Q11-14,".") -> 27 | AS11: =IF(W11="rappel",TODAY()-S11,".") -> 39
A12: 42255 | B12: =IF(C12=".","",IF(ISTEXT(C12),IF(C12=C11,B11+1,1),"")) -> 1 | C12: GRI | D12: 32659 | E12: Smets-Guénaëlle | F12: GRE | G12: F | H12: Rue Davio 17 | I12: 4102 | J12: Ougrée | K12: 37202 | L12: Belge | M12: 04/384 78 00 | N12: 0471/71 35 31 0493/58 36 16 M | O12: lucie.nieduziak@hotmail.be | P12: 36/o | Q12: 42260 | R12: 0 | S12: 42251 | T12: =IF(Q12,IF(ISNUMBER(S12),"OK",IF(Q12+8<TODAY(),"rappel","encour")),"-") -> OK | U12: =IF(ISERROR(VLOOKUP(C12,cotisation15_16,4,FALSE)),".",VLOOKUP(C12,cotisation15_16,4,FALSE)) -> 200 | W12: =IF(ISNUMBER(U12),IF(ISNUMBER(V12),"OK",IF(Q12+15<TODAY(),"rappel","encour")),"-") -> rappel | Z12: =IF(X12,IF(ISNUMBER(Y12),"OK",IF(X$1<TODAY(),"rappel","encour")),"-") -> - | AC12: =IF(AA12,IF(ISNUMBER(AB12),"OK",IF(AA$1<TODAY(),"rappel","encour")),"-") -> - | AF12: =IF(AD12,IF(ISNUMBER(AE12),"OK",IF(AD$1<TODAY(),"rappel","encour")),"-") -> - | AI12: =IF(AG12,IF(ISNUMBER(AH12),"OK",IF(AG$1<TODAY(),"rappel","encour")),"-") -> - | AK12: =IF(OR(ISNUMBER(U12),ISNUMBER(X12),ISNUMBER(AA12),ISNUMBER(AD12),ISNUMBER(AG12)),+R12+U12+X12+AA12+AD12+AG12,"") -> 200 | AL12: =IF(T12="ok",+R12)+IF(W12="ok",+U12)+IF(Z12="ok",+X12)+IF(AC12="ok",+AA12)+IF(AF12="ok",+AD12)+IF(AI12="ok",+AG12) -> 0 | AM12: =IF(ISNUMBER(AK12),IF(AK12=AL12,"ok",AK12-AL12),"") -> 200 | AN12: 42285 | AQ12: =IF(T12="rappel",TODAY()-Q12,".") -> . | AR12: =IF(W12="rappel",TODAY()-Q12-14,".") -> 16 | AS12: =IF(W12="rappel",TODAY()-S12,".") -> 39
A13: 42263 | B13: =IF(C13=".","",IF(ISTEXT(C13),IF(C13=C12,B12+1,1),"")) -> 1 | C13: Edam | D13: 32802 | E13: Binnici-Vincianne | G13: F | H13: Rue du Carrefour 165 | I13: 4101 | J13: Jemeppe | K13: 26963 | L13: Belge | M13: 04/265 63 31 | N13: 0485/56 99 79 | O13: vincentarrisico@gmail.com | P13: 65/o | Q13: 42248 | R13: =IF(ISERROR(VLOOKUP(C13,cotisation15_16,3,FALSE)),".",VLOOKUP(C13,cotisation15_16,3,FALSE)) -> 35 | S13: 42263 | T13: =IF(Q13,IF(ISNUMBER(S13),"OK",IF(Q13+8<TODAY(),"rappel","encour")),"-") -> OK | U13: =IF(ISERROR(VLOOKUP(C13,cotisation15_16,4,FALSE)),".",VLOOKUP(C13,cotisation15_16,4,FALSE)) -> 100 | V13: 42263 | W13: =IF(ISNUMBER(U13),IF(ISNUMBER(V13),"OK",IF(Q13+15<TODAY(),"rappel","encour")),"-") -> OK | Z13: =IF(X13,IF(ISNUMBER(Y13),"OK",IF(X$1<TODAY(),"rappel","encour")),"-") -> - | AC13: =IF(AA13,IF(ISNUMBER(AB13),"OK",IF(AA$1<TODAY(),"rappel","encour")),"-") -> - | AF13: =IF(AD13,IF(ISNUMBER(AE13),"OK",IF(AD$1<TODAY(),"rappel","encour")),"-") -> - | AI13: =IF(AG13,IF(ISNUMBER(AH13),"OK",IF(AG$1<TODAY(),"rappel","encour")),"-") -> - | AK13: =IF(OR(ISNUMBER(U13),ISNUMBER(X13),ISNUMBER(AA13),ISNUMBER(AD13),ISNUMBER(AG13)),+R13+U13+X13+AA13+AD13+AG13,"") -> 135 | AL13: =IF(T13="ok",+R13)+IF(W13="ok",+U13)+IF(Z13="ok",+X13)+IF(AC13="ok",+AA13)+IF(AF13="ok",+AD13)+IF(AI13="ok",+AG13) -> 135 | AM13: =IF(ISNUMBER(AK13),IF(AK13=AL13,"ok",AK13-AL13),"") -> ok | AQ13: =IF(T13="rappel",TODAY()-Q13,".") -> . | AR13: =IF(W13="rappel",TODAY()-Q13,".") -> . | AS13: =IF(W13="rappel",TODAY()-S13,".") -> .
A14: 42279 | B14: =IF(C14=".","",IF(ISTEXT(C14),IF(C14=C13,B13+1,1),"")) -> 2 | C14: Edam | D14: 35782 | E14: Natola-Maria | G14: F | H14: Jean-Paul Sartre 15 | I14: 4460 | J14: Grâce-Hollogne | K14: 19833 | L14: Belge | M14: 04/246 34 00 | N14: 0495/92 69 10 | P14: 164/o | Q14: 42270 | R14: =IF(ISERROR(VLOOKUP(C14,cotisation15_16,3,FALSE)),".",VLOOKUP(C14,cotisation15_16,3,FALSE)) -> 35 | S14: 0 | T14: =IF(Q14,IF(ISNUMBER(S14),"OK",IF(Q14+8<TODAY(),"rappel","encour")),"-") -> OK | U14: =IF(ISERROR(VLOOKUP(C14,cotisation15_16,4,FALSE)),".",VLOOKUP(C14,cotisation15_16,4,FALSE)) -> 100 | V14: 42279 | W14: =IF(ISNUMBER(U14),IF(ISNUMBER(V14),"OK",IF(Q14+15<TODAY(),"rappel","encour")),"-") -> OK | Z14: =IF(X14,IF(ISNUMBER(Y14),"OK",IF(X$1<TODAY(),"rappel","encour")),"-") -> - | AC14: =IF(AA14,IF(ISNUMBER(AB14),"OK",IF(AA$1<TODAY(),"rappel","encour")),"-") -> - | AF14: =IF(AD14,IF(ISNUMBER(AE14),"OK",IF(AD$1<TODAY(),"rappel","encour")),"-") -> - | AI14: =IF(AG14,IF(ISNUMBER(AH14),"OK",IF(AG$1<TODAY(),"rappel","encour")),"-") -> - | AK14: =IF(OR(ISNUMBER(U14),ISNUMBER(X14),ISNUMBER(AA14),ISNUMBER(AD14),ISNUMBER(AG14)),+R14+U14+X14+AA14+AD14+AG14,"") -> 135 | AL14: =IF(Q14,IF(T14="ok",+R14)+IF(W14="ok",+U14)+IF(Z14="ok",+X14)+IF(AC14="ok",+AA14)+IF(AF14="ok",+AD14)+IF(AI14="ok",+AG14),"-") -> 135 | AM14: =IF(ISNUMBER(AK14),IF(AK14=AL14,"ok",AK14-AL14),"") -> ok | AQ14: =IF(T14="rappel",TODAY()-Q14,".") -> . | AR14: =IF(W14="rappel",TODAY()-Q14,".") -> . | AS14: =IF(W14="rappel",TODAY()-S14,".") -> .
A15: 42255 | B15: =IF(C15=".","",IF(ISTEXT(C15),IF(C15=C14,B14+1,1),"")) -> 3 | C15: EDam | D15: 38333 | E15: Picone-Dominique | G15: F | H15: Rue des Noyers 53 | I15: 4000 | J15: Liège | K15: 23587 | L15: Belge | M15: 04/226 41 71 | N15: 0485/37 22 41 | O15: dominique-picone@live.fr | P15: 12/o | Q15: 42248 | R15: 35 | S15: 42252 | T15: =IF(Q15,IF(ISNUMBER(S15),"OK",IF(Q15+8<TODAY(),"rappel","encour")),"-") -> OK | U15: =IF(ISERROR(VLOOKUP(C15,cotisation15_16,4,FALSE)),".",VLOOKUP(C15,cotisation15_16,4,FALSE)) -> 100 | V15: 42252 | W15: =IF(ISNUMBER(U15),IF(ISNUMBER(V15),"OK",IF(Q15+15<TODAY(),"rappel","encour")),"-") -> OK | Z15: =IF(X15,IF(ISNUMBER(Y15),"OK",IF(X$1<TODAY(),"rappel","encour")),"-") -> - | AC15: =IF(AA15,IF(ISNUMBER(AB15),"OK",IF(AA$1<TODAY(),"rappel","encour")),"-") -> - | AF15: =IF(AD15,IF(ISNUMBER(AE15),"OK",IF(AD$1<TODAY(),"rappel","encour")),"-") -> - | AI15: =IF(AG15,IF(ISNUMBER(AH15),"OK",IF(AG$1<TODAY(),"rappel","encour")),"-") -> - | AK15: =IF(OR(ISNUMBER(U15),ISNUMBER(X15),ISNUMBER(AA15),ISNUMBER(AD15),ISNUMBER(AG15)),+R15+U15+X15+AA15+AD15+AG15,"") -> 135 | AL15: =IF(T15="ok",+R15)+IF(W15="ok",+U15)+IF(Z15="ok",+X15)+IF(AC15="ok",+AA15)+IF(AF15="ok",+AD15)+IF(AI15="ok",+AG15) -> 135 | AM15: =IF(ISNUMBER(AK15),IF(AK15=AL15,"ok",AK15-AL15),"") -> ok | AQ15: =IF(T15="rappel",TODAY()-Q15,".") -> . | AR15: =IF(W15="rappel",TODAY()-Q15-14,".") -> . | AS15: =IF(W15="rappel",TODAY()-S15,".") -> .
A16: 42268 | B16: =IF(C16=".","",IF(ISTEXT(C16),IF(C16=C15,B15+1,1),"")) -> 1 | C16: GRC | D16: 43682 | E16: Rogge-Ambre | G16: F | H16: rue du Mayeur 66 | I16: 4420 | J16: St Nicolas | K16: 38901 | L16: Belge | M16: 04/342 90 61 | N16: 0497/93 87 51 M | O16: ac.fraikin@gmail.com | P16: 148/o | Q16: 42257 | R16: 35 | S16: 42268 | T16: =IF(Q16,IF(ISNUMBER(S16),"OK",IF(Q16+8<TODAY(),"rappel","encour")),"-") -> OK | U16: =IF(ISERROR(VLOOKUP(C16,cotisation15_16,4,FALSE)),".",VLOOKUP(C16,cotisation15_16,4,FALSE)) -> 100 | V16: 42268 | W16: =IF(ISNUMBER(U16),IF(ISNUMBER(V16),"OK",IF(Q16+15<TODAY(),"rappel","encour")),"-") -> OK | Z16: =IF(X16,IF(ISNUMBER(Y16),"OK",IF(X$1<TODAY(),"rappel","encour")),"-") -> - | AC16: =IF(AA16,IF(ISNUMBER(AB16),"OK",IF(AA$1<TODAY(),"rappel","encour")),"-") -> - | AF16: =IF(AD16,IF(ISNUMBER(AE16),"OK",IF(AD$1<TODAY(),"rappel","encour")),"-") -> - | AI16: =IF(AG16,IF(ISNUMBER(AH16),"OK",IF(AG$1<TODAY(),"rappel","encour")),"-") -> - | AK16: =IF(OR(ISNUMBER(U16),ISNUMBER(X16),ISNUMBER(AA16),ISNUMBER(AD16),ISNUMBER(AG16)),+R16+U16+X16+AA16+AD16+AG16,"") -> 135 | AL16: =IF(T16="ok",+R16)+IF(W16="ok",+U16)+IF(Z16="ok",+X16)+IF(AC16="ok",+AA16)+IF(AF16="ok",+AD16)+IF(AI16="ok",+AG16) -> 135 | AM16: =IF(ISNUMBER(AK16),IF(AK16=AL16,"ok",AK16-AL16),"") -> ok | AN16: 42267 | AQ16: =IF(T16="rappel",TODAY()-Q16,".") -> . | AR16: =IF(W16="rappel",TODAY()-Q16,".") -> . | AS16: =IF(W16="rappel",TODAY()-S16,".") -> .
A17: 42262 | B17: =IF(C17=".","",IF(ISTEXT(C17),IF(C17=C16,B16+1,1),"")) -> 1 | C17: EDam | D17: 54301 | E17: Viola-Marie-Therèse | G17: F | H17: Av des Maronniers 162 | I17: 4420 | J17: St Nicolas | K17: 17417 | L17: Belge | M17: 04/233 51 72 | N17: 0477/79 09 23 | P17: 14/o | Q17: 42248 | R17: 35 | S17: 42261 | T17: =IF(Q17,IF(ISNUMBER(S17),"OK",IF(Q17+8<TODAY(),"rappel","encour")),"-") -> OK | U17: =IF(ISERROR(VLOOKUP(C17,cotisation15_16,4,FALSE)),".",VLOOKUP(C17,cotisation15_16,4,FALSE)) -> 100 | V17: 42261 | W17: =IF(ISNUMBER(U17),IF(ISNUMBER(V17),"OK",IF(Q17+15<TODAY(),"rappel","encour")),"-") -> OK | Z17: =IF(X17,IF(ISNUMBER(Y17),"OK",IF(X$1<TODAY(),"rappel","encour")),"-") -> - | AC17: =IF(AA17,IF(ISNUMBER(AB17),"OK",IF(AA$1<TODAY(),"rappel","encour")),"-") -> - | AF17: =IF(AD17,IF(ISNUMBER(AE17),"OK",IF(AD$1<TODAY(),"rappel","encour")),"-") -> - | AI17: =IF(AG17,IF(ISNUMBER(AH17),"OK",IF(AG$1<TODAY(),"rappel","encour")),"-") -> - | AK17: =IF(OR(ISNUMBER(U17),ISNUMBER(X17),ISNUMBER(AA17),ISNUMBER(AD17),ISNUMBER(AG17)),+R17+U17+X17+AA17+AD17+AG17,"") -> 135 | AL17: =IF(Q17,IF(T17="ok",+R17)+IF(W17="ok",+U17)+IF(Z17="ok",+X17)+IF(AC17="ok",+AA17)+IF(AF17="ok",+AD17)+IF(AI17="ok",+AG17),"-") -> 135 | AM17: =IF(ISNUMBER(AK17),IF(AK17=AL17,"ok",AK17-AL17),"") -> ok | AQ17: =IF(T17="rappel",TODAY()-Q17,".") -> . | AR17: =IF(W17="rappel",TODAY()-Q17,".") -> . | AS17: =IF(W17="rappel",TODAY()-S17,".") -> .
A18: 42283 | B18: =IF(C18=".","",IF(ISTEXT(C18),IF(C18=C17,B17+1,1),"")) -> 2 | C18: EDam | D18: 54319 | E18: Castiglione-Assunta | G18: F | H18: Rue du Mayeur 27 | I18: 4420 | J18: St Nicolas | K18: 20519 | L18: Belge | N18: 0494/08 92 67 | O18: assunta.bode@hotmail.com | P18: 13/o | Q18: 42248 | R18: =IF(ISERROR(VLOOKUP(C18,cotisation15_16,3,FALSE)),".",VLOOKUP(C18,cotisation15_16,3,FALSE)) -> 35 | S18: 42283 | T18: =IF(Q18,IF(ISNUMBER(S18),"OK",IF(Q18+8<TODAY(),"rappel","encour")),"-") -> OK | U18: =IF(ISERROR(VLOOKUP(C18,cotisation15_16,4,FALSE)),".",VLOOKUP(C18,cotisation15_16,4,FALSE)) -> 100 | V18: 42283 | W18: =IF(ISNUMBER(U18),IF(ISNUMBER(V18),"OK",IF(Q18+15<TODAY(),"rappel","encour")),"-") -> OK | Z18: =IF(X18,IF(ISNUMBER(Y18),"OK",IF(X$1<TODAY(),"rappel","encour")),"-") -> - | AC18: =IF(AA18,IF(ISNUMBER(AB18),"OK",IF(AA$1<TODAY(),"rappel","encour")),"-") -> - | AF18: =IF(AD18,IF(ISNUMBER(AE18),"OK",IF(AD$1<TODAY(),"rappel","encour")),"-") -> - | AI18: =IF(AG18,IF(ISNUMBER(AH18),"OK",IF(AG$1<TODAY(),"rappel","encour")),"-") -> - | AK18: =IF(OR(ISNUMBER(U18),ISNUMBER(X18),ISNUMBER(AA18),ISNUMBER(AD18),ISNUMBER(AG18)),+R18+U18+X18+AA18+AD18+AG18,"") -> 135 | AL18: =IF(T18="ok",+R18)+IF(W18="ok",+U18)+IF(Z18="ok",+X18)+IF(AC18="ok",+AA18)+IF(AF18="ok",+AD18)+IF(AI18="ok",+AG18) -> 135 | AM18: =IF(ISNUMBER(AK18),IF(AK18=AL18,"ok",AK18-AL18),"") -> ok | AQ18: =IF(T18="rappel",TODAY()-Q18,".") -> . | AR18: =IF(W18="rappel",TODAY()-Q18,".") -> .
A19: 42273 | B19: =IF(C19=".","",IF(ISTEXT(C19),IF(C19=C18,B18+1,1),"")) -> 3 | C19: Edam | D19: 55108 | E19: Montagnino-Antonia | G19: F | H19: Chemin des Puisatiers 10 | I19: 4431 | J19: Loncin | K19: 18967 | L19: Ital | N19: 0496/08 07 02 | P19: 96/o | Q19: 42262 | R19: 35 | S19: 42271 | T19: =IF(Q19,IF(ISNUMBER(S19),"OK",IF(Q19+8<TODAY(),"rappel","encour")),"-") -> OK | U19: =IF(ISERROR(VLOOKUP(C19,cotisation15_16,4,FALSE)),".",VLOOKUP(C19,cotisation15_16,4,FALSE)) -> 100 | V19: 42271 | W19: =IF(ISNUMBER(U19),IF(ISNUMBER(V19),"OK",IF(Q19+15<TODAY(),"rappel","encour")),"-") -> OK | Z19: =IF(X19,IF(ISNUMBER(Y19),"OK",IF(X$1<TODAY(),"rappel","encour")),"-") -> - | AC19: =IF(AA19,IF(ISNUMBER(AB19),"OK",IF(AA$1<TODAY(),"rappel","encour")),"-") -> - | AF19: =IF(AD19,IF(ISNUMBER(AE19),"OK",IF(AD$1<TODAY(),"rappel","encour")),"-") -> - | AI19: =IF(AG19,IF(ISNUMBER(AH19),"OK",IF(AG$1<TODAY(),"rappel","encour")),"-") -> - | AK19: =IF(OR(ISNUMBER(U19),ISNUMBER(X19),ISNUMBER(AA19),ISNUMBER(AD19),ISNUMBER(AG19)),+R19+U19+X19+AA19+AD19+AG19,"") -> 135 | AL19: =IF(T19="ok",+R19)+IF(W19="ok",+U19)+IF(Z19="ok",+X19)+IF(AC19="ok",+AA19)+IF(AF19="ok",+AD19)+IF(AI19="ok",+AG19) -> 135 | AM19: =IF(ISNUMBER(AK19),IF(AK19=AL19,"ok",AK19-AL19),"") -> ok | AQ19: =IF(T19="rappel",TODAY()-Q19,".") -> . | AR19: =IF(W19="rappel",TODAY()-Q19,".") -> . | AS19: =IF(W19="rappel",TODAY()-S19,".") -> .
A20: 42270 | B20: =IF(C20=".","",IF(ISTEXT(C20),IF(C20=C19,B19+1,1),"")) -> 1 | C20: GRE | D20: 55196 | E20: Nyns-Nora | F20: GRI | G20: F | H20: rue des Noyers 27 | I20: 4000 | J20: Liège | K20: 37042 | L20: Belge | M20: 04/229 32 04 | N20: 0493/62 02 80 | O20: ben-nyns@hotmail.com | P20: 89/o | Q20: 42251 | R20: 35 | S20: 42265 | T20: =IF(Q20,IF(ISNUMBER(S20),"OK",IF(Q20+8<TODAY(),"rappel","encour")),"-") -> OK | U20: =IF(ISERROR(VLOOKUP(C20,cotisation15_16,4,FALSE)),".",VLOOKUP(C20,cotisation15_16,4,FALSE)) -> 150 | V20: 42265 | W20: =IF(ISNUMBER(U20),IF(ISNUMBER(V20),"OK",IF(Q20+15<TODAY(),"rappel","encour")),"-") -> OK | Z20: =IF(X20,IF(ISNUMBER(Y20),"OK",IF(X$1<TODAY(),"rappel","encour")),"-") -> - | AC20: =IF(AA20,IF(ISNUMBER(AB20),"OK",IF(AA$1<TODAY(),"rappel","encour")),"-") -> - | AF20: =IF(AD20,IF(ISNUMBER(AE20),"OK",IF(AD$1<TODAY(),"rappel","encour")),"-") -> - | AI20: =IF(AG20,IF(ISNUMBER(AH20),"OK",IF(AG$1<TODAY(),"rappel","encour")),"-") -> - | AK20: =IF(OR(ISNUMBER(U20),ISNUMBER(X20),ISNUMBER(AA20),ISNUMBER(AD20),ISNUMBER(AG20)),+R20+U20+X20+AA20+AD20+AG20,"") -> 185 | AL20: =IF(T20="ok",+R20)+IF(W20="ok",+U20)+IF(Z20="ok",+X20)+IF(AC20="ok",+AA20)+IF(AF20="ok",+AD20)+IF(AI20="ok",+AG20) -> 185 | AM20: =IF(ISNUMBER(AK20),IF(AK20=AL20,"ok",AK20-AL20),"") -> ok | AQ20: =IF(T20="rappel",TODAY()-Q20,".") -> . | AR20: =IF(W20="rappel",TODAY()-Q20,".") -> . | AS20: =IF(W20="rappel",TODAY()-S20,".") -> .
A21: 42270 | B21: =IF(C21=".","",IF(ISTEXT(C21),IF(C21=C20,B20+1,1),"")) -> 1 | C21: GRI | D21: 55196 | E21: Nyns-Nora | F21: GRE | G21: F | H21: rue des Noyers 27 | I21: 4000 | J21: Liège | K21: 37042 | L21: Belge | M21: 04/229 32 04 | N21: 0493/62 02 80 | O21: ben-nyns@hotmail.com | P21: 89/o | Q21: 42260 | R21: 0 | S21: 42265 | T21: =IF(Q21,IF(ISNUMBER(S21),"OK",IF(Q21+8<TODAY(),"rappel","encour")),"-") -> OK | U21: =IF(ISERROR(VLOOKUP(C21,cotisation15_16,4,FALSE)),".",VLOOKUP(C21,cotisation15_16,4,FALSE)) -> 200 | W21: =IF(ISNUMBER(U21),IF(ISNUMBER(V21),"OK",IF(Q21+15<TODAY(),"rappel","encour")),"-") -> rappel | Z21: =IF(X21,IF(ISNUMBER(Y21),"OK",IF(X$1<TODAY(),"rappel","encour")),"-") -> - | AC21: =IF(AA21,IF(ISNUMBER(AB21),"OK",IF(AA$1<TODAY(),"rappel","encour")),"-") -> - | AF21: =IF(AD21,IF(ISNUMBER(AE21),"OK",IF(AD$1<TODAY(),"rappel","encour")),"-") -> - | AI21: =IF(AG21,IF(ISNUMBER(AH21),"OK",IF(AG$1<TODAY(),"rappel","encour")),"-") -> - | AK21: =IF(OR(ISNUMBER(U21),ISNUMBER(X21),ISNUMBER(AA21),ISNUMBER(AD21),ISNUMBER(AG21)),+R21+U21+X21+AA21+AD21+AG21,"") -> 200 | AL21: =IF(T21="ok",+R21)+IF(W21="ok",+U21)+IF(Z21="ok",+X21)+IF(AC21="ok",+AA21)+IF(AF21="ok",+AD21)+IF(AI21="ok",+AG21) -> 0 | AM21: =IF(ISNUMBER(AK21),IF(AK21=AL21,"ok",AK21-AL21),"") -> 200 | AQ21: =IF(T21="rappel",TODAY()-Q21,".") -> . | AR21: =IF(W21="rappel",TODAY()-Q21-14,".") -> 16 | AS21: =IF(W21="rappel",TODAY()-S21,".") -> 25
A22: 42273 | B22: =IF(C22=".","",IF(ISTEXT(C22),IF(C22=C21,B21+1,1),"")) -> 1 | C22: GRA | D22: 57397 | E22: Gilles-Emma | G22: F | H22: bd De La Sauvenière 138/62 | I22: 4000 | J22: Liège | K22: 39582 | L22: Belgee | N22: 0497/21 87 62 M | O22: gilles.louis@hotmail.com | P22: 161/o | Q22: 42263 | R22: 35 | S22: 42268 | T22: =IF(Q22,IF(ISNUMBER(S22),"OK",IF(Q22+8<TODAY(),"rappel","encour")),"-") -> OK | U22: =IF(ISERROR(VLOOKUP(C22,cotisation15_16,4,FALSE)),".",VLOOKUP(C22,cotisation15_16,4,FALSE)) -> 100 | V22: 42268 | W22: =IF(ISNUMBER(U22),IF(ISNUMBER(V22),"OK",IF(Q22+15<TODAY(),"rappel","encour")),"-") -> OK | Z22: =IF(X22,IF(ISNUMBER(Y22),"OK",IF(X$1<TODAY(),"rappel","encour")),"-") -> - | AC22: =IF(AA22,IF(ISNUMBER(AB22),"OK",IF(AA$1<TODAY(),"rappel","encour")),"-") -> - | AF22: =IF(AD22,IF(ISNUMBER(AE22),"OK",IF(AD$1<TODAY(),"rappel","encour")),"-") -> - | AI22: =IF(AG22,IF(ISNUMBER(AH22),"OK",IF(AG$1<TODAY(),"rappel","encour")),"-") -> - | AK22: =IF(OR(ISNUMBER(U22),ISNUMBER(X22),ISNUMBER(AA22),ISNUMBER(AD22),ISNUMBER(AG22)),+R22+U22+X22+AA22+AD22+AG22,"") -> 135 | AL22: =IF(Q22,IF(T22="ok",+R22)+IF(W22="ok",+U22)+IF(Z22="ok",+X22)+IF(AC22="ok",+AA22)+IF(AF22="ok",+AD22)+IF(AI22="ok",+AG22),"-") -> 135 | AM22: =IF(ISNUMBER(AK22),IF(AK22=AL22,"ok",AK22-AL22),"") -> ok | AQ22: =IF(T22="rappel",TODAY()-Q22,".") -> . | AR22: =IF(W22="rappel",TODAY()-Q22,".") -> . | AS22: =IF(W22="rappel",TODAY()-S22,".") -> .
A23: 42260 | B23: =IF(C23=".","",IF(ISTEXT(C23),IF(C23=C22,B22+1,1),"")) -> 1 | C23: GRC | D23: 58362 | E23: Benvegna-Lilou | G23: F | H23: rue du Travail 32/A | I23: 4420 | J23: St Nicolas | K23: 39336 | L23: Belge | N23: 0475/29 63 71 | P23: 146/o | Q23: 42254 | R23: 35 | S23: 42258 | T23: =IF(Q23,IF(ISNUMBER(S23),"OK",IF(Q23+8<TODAY(),"rappel","encour")),"-") -> OK | U23: =IF(ISERROR(VLOOKUP(C23,cotisation15_16,4,FALSE)),".",VLOOKUP(C23,cotisation15_16,4,FALSE)) -> 100 | V23: 42279 | W23: =IF(ISNUMBER(U23),IF(ISNUMBER(V23),"OK",IF(Q23+15<TODAY(),"rappel","encour")),"-") -> OK | Z23: =IF(X23,IF(ISNUMBER(Y23),"OK",IF(X$1<TODAY(),"rappel","encour")),"-") -> - | AC23: =IF(AA23,IF(ISNUMBER(AB23),"OK",IF(AA$1<TODAY(),"rappel","encour")),"-") -> - | AF23: =IF(AD23,IF(ISNUMBER(AE23),"OK",IF(AD$1<TODAY(),"rappel","encour")),"-") -> - | AI23: =IF(AG23,IF(ISNUMBER(AH23),"OK",IF(AG$1<TODAY(),"rappel","encour")),"-") -> - | AK23: =IF(OR(ISNUMBER(U23),ISNUMBER(X23),ISNUMBER(AA23),ISNUMBER(AD23),ISNUMBER(AG23)),+R23+U23+X23+AA23+AD23+AG23,"") -> 135 | AL23: =IF(T23="ok",+R23)+IF(W23="ok",+U23)+IF(Z23="ok",+X23)+IF(AC23="ok",+AA23)+IF(AF23="ok",+AD23)+IF(AI23="ok",+AG23) -> 135 | AM23: =IF(ISNUMBER(AK23),IF(AK23=AL23,"ok",AK23-AL23),"") -> ok | AQ23: =IF(T23="rappel",TODAY()-Q23,".") -> . | AR23: =IF(W23="rappel",TODAY()-Q23,".") -> . | AS23: =IF(W23="rappel",TODAY()-S23,".") -> .
A24: 42266 | B24: =IF(C24=".","",IF(ISTEXT(C24),IF(C24=C23,B23+1,1),"")) -> 1 | C24: Edam | D24: 58596 | E24: Banken-Josiane | G24: F | H24: rue du Mayeur 14 | I24: 4420 | J24: St Nicolas | K24: 22330 | L24: Belge | N24: 0495/77 23 69 | P24: 149/o | Q24: 42261 | R24: =IF(ISERROR(VLOOKUP(C24,cotisation15_16,3,FALSE)),".",VLOOKUP(C24,cotisation15_16,3,FALSE)) -> 35 | S24: 42266 | T24: =IF(Q24,IF(ISNUMBER(S24),"OK",IF(Q24+8<TODAY(),"rappel","encour")),"-") -> OK | U24: =IF(ISERROR(VLOOKUP(C24,cotisation15_16,4,FALSE)),".",VLOOKUP(C24,cotisation15_16,4,FALSE)) -> 100 | V24: 42266 | W24: =IF(ISNUMBER(U24),IF(ISNUMBER(V24),"OK",IF(Q24+15<TODAY(),"rappel","encour")),"-") -> OK | Z24: =IF(X24,IF(ISNUMBER(Y24),"OK",IF(X$1<TODAY(),"rappel","encour")),"-") -> - | AC24: =IF(AA24,IF(ISNUMBER(AB24),"OK",IF(AA$1<TODAY(),"rappel","encour")),"-") -> - | AF24: =IF(AD24,IF(ISNUMBER(AE24),"OK",IF(AD$1<TODAY(),"rappel","encour")),"-") -> - | AI24: =IF(AG24,IF(ISNUMBER(AH24),"OK",IF(AG$1<TODAY(),"rappel","encour")),"-") -> - | AK24: =IF(OR(ISNUMBER(U24),ISNUMBER(X24),ISNUMBER(AA24),ISNUMBER(AD24),ISNUMBER(AG24)),+R24+U24+X24+AA24+AD24+AG24,"") -> 135 | AL24: =IF(T24="ok",+R24)+IF(W24="ok",+U24)+IF(Z24="ok",+X24)+IF(AC24="ok",+AA24)+IF(AF24="ok",+AD24)+IF(AI24="ok",+AG24) -> 135 | AM24: =IF(ISNUMBER(AK24),IF(AK24=AL24,"ok",AK24-AL24),"") -> ok | AQ24: =IF(T24="rappel",TODAY()-Q24,".") -> . | AR24: =IF(W24="rappel",TODAY()-Q24,".") -> . | AS24: =IF(W24="rappel",TODAY()-S24,".") -> .
