Workbook

Sheet The number
A1: Year | B1: Race | C1: #Drivers | D1: Entries | E1: Class. | F1: Wins | G1: Pod | H1: In Pts | I1: Pole | J1: FR | K1: FL | L1: Laps | M1: KM | N1: Laps Led | O1: KM led | P1: DNF | Q1: DNS | R1: NC | S1: Points
A2: 1950 | B2: =COUNT(1/FREQUENCY(IF((Database!B:B=A2),Database!D:D),Database!D:D)) -> 2 | D2: =COUNTIFS(Database!B:B,A2) -> 47 | E2: =COUNTIFS(Database!B:B,A2,Database!L:L,"<23") -> 19 | F2: =COUNTIFS(Database!B:B,A2,Database!L:L,1) -> 2 | G2: =COUNTIFS(Database!B:B,A2,Database!L:L,"<4") -> 6 | H2: =COUNTIFS(Database!B:B,A2,Database!L:L,"<7") -> 12 | I2: =COUNTIFS(Database!B:B,A2,Database!K:K,1) -> 2 | J2: =COUNTIFS(Database!B:B,A2,Database!K:K,"<3") -> 3 | K2: =COUNTIFS(Database!B:B,A2,Database!P:P,"*") -> 2 | L2: =SUMIFS(Database!M:M,Database!B:B,A2) -> 1807 | M2: =SUMIFS(Database!N:N,Database!B:B,A2) -> 7313.683 | N2: =SUMIFS(Database!Q:Q,Database!B:B,A2) -> 170 | O2: =SUMIFS(Database!R:R,Database!B:B,A2) -> 643.43 | P2: =COUNTIFS(Database!B:B,A2,Database!L:L,"DNF") -> 10 | Q2: =COUNTIFS(Database!B:B,A2,Database!L:L,"DNS") -> 1 | R2: =COUNTIFS(Database!B:B,A2,Database!L:L,"NC") -> 2 | S2: =SUMIFS(Database!T:T,Database!B:B,A2) -> 52

Sheet Database
A1: FP | B1: Year | C1: Round | D1: Champ | E1: Event | F1: Circuit | G1: Driver | H1: Constructor | I1: Engine | J1: Tyres | K1: Grid | L1: Race | M1: Race Laps | N1: Km Completed | O1: Retired | P1: FL | Q1: Lap Led | R1: Km Led | S1: Time Led | T1: Points
A2: 1 | B2: 1950 | C2: 1 | D2: 1 | E2: Great Britain | F2: Silverstone | G2: Farina, Giuseppe | H2: Alfa Romeo | I2: Alfa Romeo | J2: Pirelli | K2: 1 | L2: 1 | M2: 70 | N2: =M2*4.649 -> 325.43 | P2: * | Q2: 63 | R2: =Q2*4.649 -> 292.887 | T2: 10
A3: 2 | B3: 1950 | C3: 1 | D3: 1 | E3: Great Britain | F3: Silverstone | G3: Fagioli, Luigi | H3: Alfa Romeo | I3: Alfa Romeo | J3: Pirelli | K3: 2 | L3: 2 | M3: 70 | N3: =M3*4.649 -> 325.43 | Q3: 6 | R3: =Q3*4.649 -> 27.894 | T3: 6
A4: 3 | B4: 1950 | C4: 1 | D4: 1 | E4: Great Britain | F4: Silverstone | G4: Parnell, Reg | H4: Alfa Romeo | I4: Alfa Romeo | J4: Pirelli | K4: 4 | L4: 3 | M4: 70 | N4: =M4*4.649 -> 325.43 | R4: =Q4*4.649 -> 0 | T4: 4
A5: 4 | B5: 1950 | C5: 1 | D5: 1 | E5: Great Britain | F5: Silverstone | G5: Giraud-Cabantous, Yves | H5: Talbot Lago | I5: Talbot | J5: Dunlop | K5: 6 | L5: 4 | M5: 68 | N5: =M5*4.649 -> 316.132 | R5: =Q5*4.649 -> 0 | T5: 3
A6: 5 | B6: 1950 | C6: 1 | D6: 1 | E6: Great Britain | F6: Silverstone | G6: Rosier, Louis | H6: Talbot Lago | I6: Talbot | J6: Dunlop | K6: 9 | L6: 5 | M6: 68 | N6: =M6*4.649 -> 316.132 | R6: =Q6*4.649 -> 0 | T6: 2
A7: 6 | B7: 1950 | C7: 1 | D7: 1 | E7: Great Britain | F7: Silverstone | G7: Gerard, Bob | H7: E.R.A. | I7: E.R.A. | J7: Dunlop | K7: 13 | L7: 6 | M7: 67 | N7: =M7*4.649 -> 311.483 | R7: =Q7*4.649 -> 0 | T7: 1
A8: 7 | B8: 1950 | C8: 1 | D8: 1 | E8: Great Britain | F8: Silverstone | G8: Harrison, Cuth | H8: E.R.A. | I8: E.R.A. | J8: Dunlop | K8: 15 | L8: 7 | M8: 67 | N8: =M8*4.649 -> 311.483 | R8: =Q8*4.649 -> 0
A9: 8 | B9: 1950 | C9: 1 | D9: 1 | E9: Great Britain | F9: Silverstone | G9: Etancelin, Philippe | H9: Talbot Lago | I9: Talbot | J9: Dunlop | K9: 14 | L9: 8 | M9: 65 | N9: =M9*4.649 -> 302.185 | R9: =Q9*4.649 -> 0
A10: 9 | B10: 1950 | C10: 1 | D10: 1 | E10: Great Britain | F10: Silverstone | G10: Hampshire, David | H10: Maserati | I10: Maserati | J10: Dunlop | K10: 16 | L10: 9 | M10: 64 | N10: =M10*4.649 -> 297.536 | R10: =Q10*4.649 -> 0
A11: 10 | B11: 1950 | C11: 1 | D11: 1 | E11: Great Britain | F11: Silverstone | G11: Fry, Joe | H11: Maserati | I11: Maserati | J11: Dunlop | K11: 20 | L11: 10 | M11: 45 | N11: =M11*4.649 -> 209.205 | R11: =Q11*4.649 -> 0
A12: 10 | B12: 1950 | C12: 1 | D12: 1 | E12: Great Britain | F12: Silverstone | G12: Shawe-Taylor, Brian | H12: Maserati | I12: Maserati | J12: Dunlop | L12: 10 | M12: 19 | N12: =M12*4.649 -> 88.331 | R12: =Q12*4.649 -> 0
A13: 11 | B13: 1950 | C13: 1 | D13: 1 | E13: Great Britain | F13: Silverstone | G13: Claes, Johnny | H13: Talbot Lago | I13: Talbot | J13: Dunlop | K13: 21 | L13: 11 | M13: 64 | N13: =M13*4.649 -> 297.536 | R13: =Q13*4.649 -> 0
A14: 12 | B14: 1950 | C14: 1 | D14: 1 | E14: Great Britain | F14: Silverstone | G14: Fangio, Juan-Manuel | H14: Alfa Romeo | I14: Alfa Romeo | J14: Pirelli | K14: 22 | L14: DNF | M14: 62 | N14: =M14*4.649 -> 288.238 | O14: oil leak | Q14: 1 | R14: =Q14*4.649 -> 4.649
A15: 13 | B15: 1950 | C15: 1 | D15: 1 | E15: Great Britain | F15: Silverstone | G15: Kelly, Joe | H15: Alta | I15: Alta | J15: Dunlop | K15: 19 | L15: NC | M15: 57 | N15: =M15*4.649 -> 264.993 | R15: =Q15*4.649 -> 0
A16: 14 | B16: 1950 | C16: 1 | D16: 1 | E16: Great Britain | F16: Silverstone | G16: Bira, Prince B. | H16: Maserati | I16: Maserati | J16: Pirelli | K16: 5 | L16: DNF | M16: 49 | N16: =M16*4.649 -> 227.801 | O16: out of fuel | R16: =Q16*4.649 -> 0
A17: 15 | B17: 1950 | C17: 1 | D17: 1 | E17: Great Britain | F17: Silverstone | G17: Murray, David | H17: Maserati | I17: Maserati | J17: Dunlop | K17: 18 | L17: DNF | M17: 44 | N17: =M17*4.649 -> 204.556 | O17: engine | R17: =Q17*4.649 -> 0
A18: 16 | B18: 1950 | C18: 1 | D18: 1 | E18: Great Britain | F18: Silverstone | G18: Crossley, Geoff | H18: Alta | I18: Alta | J18: Dunlop | K18: 17 | L18: NC | M18: 43 | N18: =M18*4.649 -> 199.907 | R18: =Q18*4.649 -> 0
A19: 17 | B19: 1950 | C19: 1 | D19: 1 | E19: Great Britain | F19: Silverstone | G19: de Graffenried, Emmanuel | H19: Maserati | I19: Maserati | J19: Pirelli | K19: 8 | L19: DNF | M19: 36 | N19: =M19*4.649 -> 167.364 | O19: engine | R19: =Q19*4.649 -> 0
A20: 18 | B20: 1950 | C20: 1 | D20: 1 | E20: Great Britain | F20: Silverstone | G20: Chiron, Louis | H20: Maserati | I20: Maserati | J20: Pirelli | K20: 11 | L20: DNF | M20: 24 | N20: =M20*4.649 -> 111.576 | O20: clutch | R20: =Q20*4.649 -> 0
A21: 19 | B21: 1950 | C21: 1 | D21: 1 | E21: Great Britain | F21: Silverstone | G21: Martin, Eugene | H21: Talbot Lago | I21: Talbot | J21: Dunlop | K21: 7 | L21: DNF | M21: 8 | N21: =M21*4.649 -> 37.192 | O21: oil pressure | R21: =Q21*4.649 -> 0
A22: 20 | B22: 1950 | C22: 1 | D22: 1 | E22: Great Britain | F22: Silverstone | G22: Walker, Peter | H22: E.R.A. | I22: E.R.A. | J22: Dunlop | K22: 10 | L22: DNF | M22: 2 | N22: =M22*4.649 -> 9.298 | O22: Gearbox | R22: =Q22*4.649 -> 0
A23: 20 | B23: 1950 | C23: 1 | D23: 1 | E23: Great Britain | F23: Silverstone | G23: Rolt, tony | H23: E.R.A. | I23: E.R.A. | J23: Dunlop | L23: DNF | M23: 3 | N23: =M23*4.649 -> 13.947 | O23: Gearbox | R23: =Q23*4.649 -> 0
A24: 21 | B24: 1950 | C24: 1 | D24: 1 | E24: Great Britain | F24: Silverstone | G24: Johnson, Leslie | H24: E.R.A. | I24: E.R.A. | J24: Dunlop | K24: 12 | L24: DNF | M24: 2 | N24: =M24*4.649 -> 9.298 | O24: Compressor | R24: =Q24*4.649 -> 0
B25: 1950 | C25: 1 | D25: 1 | E25: Great Britain | F25: Silverstone | G25: Bonetto, Felice | H25: Maserati | I25: Maserati | J25: Pirelli | L25: DNS | N25: =M25*4.649 -> 0 | R25: =Q25*4.649 -> 0
A26: 1 | B26: 1950 | C26: 2 | D26: 2 | E26: Monaco | F26: Monte-Carlo | G26: Fangio, Juan-Manuel | H26: Alfa Romeo | I26: Alfa Romeo | J26: Pirelli | K26: 1 | L26: 1 | M26: 100 | N26: =M26*3.18 -> 318 | P26: * | Q26: 100 | R26: =Q26*3.18 -> 318 | T26: 10
A27: 2 | B27: 1950 | C27: 2 | D27: 2 | E27: Monaco | F27: Monte-Carlo | G27: Ascari, Alberto | H27: Ferrari | I27: Ferrari | J27: Pirelli | K27: 7 | L27: 2 | M27: 99 | N27: =M27*3.18 -> 314.82 | R27: =Q27*3.18 -> 0 | T27: 6
A28: 3 | B28: 1950 | C28: 2 | D28: 2 | E28: Monaco | F28: Monte-Carlo | G28: Chiron. Louis | H28: Maserati | I28: Maserati | J28: Pirelli | K28: 8 | L28: 3 | M28: 98 | N28: =M28*3.18 -> 311.64 | R28: =Q28*3.18 -> 0 | T28: 4
A29: 4 | B29: 1950 | C29: 2 | D29: 2 | E29: Monaco | F29: Monte-Carlo | G29: Sommer, Raymond | H29: Ferrari | I29: Ferrari | J29: Pirelli | K29: 9 | L29: 4 | M29: 97 | N29: =M29*3.18 -> 308.46 | R29: =Q29*3.18 -> 0 | T29: 3
A30: 5 | B30: 1950 | C30: 2 | D30: 2 | E30: Monaco | F30: Monte-Carlo | G30: Bira, Prince B. | H30: Maserati | I30: Maserati | J30: Pirelli | K30: 15 | L30: 5 | M30: 95 | N30: =M30*3.18 -> 302.1 | R30: =Q30*3.18 -> 0 | T30: 2
A31: 6 | B31: 1950 | C31: 2 | D31: 2 | E31: Monaco | F31: Monte-Carlo | G31: Gerard, Bob | H31: E.R.A. | I31: E.R.A. | J31: Dunlop | K31: 16 | L31: 6 | M31: 94 | N31: =M31*3.18 -> 298.92 | R31: =Q31*3.18 -> 0 | T31: 1
A32: 7 | B32: 1950 | C32: 2 | D32: 2 | E32: Monaco | F32: Monte-Carlo | G32: Claes, Johnny | H32: Talbot Lago | I32: Talbot | J32: Dunlop | K32: 18 | L32: 7 | M32: 94 | N32: =M32*3.18 -> 298.92 | R32: =Q32*3.18 -> 0
A33: 8 | B33: 1950 | C33: 2 | D33: 2 | E33: Monaco | F33: Monte-Carlo | G33: Villoresi, Luigi | H33: Ferrari | I33: Ferrari | J33: Pirelli | K33: 6 | L33: DNF | M33: 63 | N33: =M33*3.18 -> 200.34 | O33: axle | R33: =Q33*3.18 -> 0
A34: 9 | B34: 1950 | C34: 2 | D34: 2 | E34: Monaco | F34: Monte-Carlo | N34: =M34*3.18 -> 0 | R34: =Q34*3.18 -> 0
A35: 10 | B35: 1950 | C35: 2 | D35: 2 | E35: Monaco | F35: Monte-Carlo | N35: =M35*3.18 -> 0 | R35: =Q35*3.18 -> 0
A36: 11 | B36: 1950 | C36: 2 | D36: 2 | E36: Monaco | F36: Monte-Carlo | N36: =M36*3.18 -> 0 | R36: =Q36*3.18 -> 0
A37: 12 | B37: 1950 | C37: 2 | D37: 2 | E37: Monaco | F37: Monte-Carlo | N37: =M37*3.18 -> 0 | R37: =Q37*3.18 -> 0
A38: 13 | B38: 1950 | C38: 2 | D38: 2 | E38: Monaco | F38: Monte-Carlo | N38: =M38*3.18 -> 0 | R38: =Q38*3.18 -> 0
A39: 14 | B39: 1950 | C39: 2 | D39: 2 | E39: Monaco | F39: Monte-Carlo | N39: =M39*3.18 -> 0 | R39: =Q39*3.18 -> 0
A40: 15 | B40: 1950 | C40: 2 | D40: 2 | E40: Monaco | F40: Monte-Carlo | N40: =M40*3.18 -> 0 | R40: =Q40*3.18 -> 0
...
