Workbook

Sheet Fichier sect FM MAJ 05juin15
A1: code postal | B1: code postal | C1: ville | D1: apporteur | E1: raison sociale | F1: adresse | G1: SIRET | H1: téléphone. | I1: email apporteur | J1: N° utilisateur | K1: nom dirigeant | L1: prénom dirigeant | M1: téléphone dirigeant | N1: email dirigeant | O1: portable dirigeant | P1: scenar retro | Q1: N° utilisateur 1 | R1: nom apporteur 1 | S1: prénom apporteur 1 | T1: téléphone apporteur 1 | U1: mail apporteur 1 | V1: scenar retro | W1: N° utilisateur 2 | X1: nom apporteur 2 | Y1: prénom apporteur 2 | Z1: téléphone apporteur 2
A2: 17 | B2: 17690 | C2: ANGOULINS | D2: 31097 | E2: NANNI DIESEL | H2: 06 77 06 56 22 | K2: MIGNE | L2: JEAN JACQUES | P2: =IF(J2<>"",VLOOKUP(J2,Feuil4!$A$2:$C$2501,3,FALSE),"") | V2: =IF(Q2<>"",VLOOKUP(Q2,Feuil4!$A$2:$C$2501,3,FALSE),"")
A3: 17 | B3: 17590 | C3: ARS EN RE | D3: 30344 | E3: BLONDEAU MARINE | F3: 3 QUAI DE LA CRIEE | H3: 05 46 29 04 89 | I3: blondeau.marine@wanadoo.fr | J3: 32215 | K3: BLONDEAU | L3: YANN | N3: yann.blondeau@wanadoo.fr | P3: =IF(J3<>"",VLOOKUP(J3,Feuil4!$A$2:$C$2501,3,FALSE),"") -> 100% Collaborateur | Q3: 32216 | R3: BLONDEAU | S3: PIERRE | T3: 546290489 | U3: pierre.blondeau@wanadoo.fr | V3: =IF(Q3<>"",VLOOKUP(Q3,Feuil4!$A$2:$C$2501,3,FALSE),"") -> 100% Collaborateur | W3: 37111 | X3: PROFILET | Y3: DOMINIQUE | Z3: 546290489
A4: 17 | B4: 17590 | C4: ARS EN RE | D4: 34556 | E4: TAG YACHTING SAS | H4: 05 46 29 91 09 | I4: contact@bahama-boats.com | P4: =IF(J4<>"",VLOOKUP(J4,Feuil4!$A$2:$C$2501,3,FALSE),"") | V4: =IF(Q4<>"",VLOOKUP(Q4,Feuil4!$A$2:$C$2501,3,FALSE),"")
A5: 17 | B5: 17590 | C5: ARS EN RE | D5: 53179 | E5: BAHAMA YACHTING COMPANY | F5: 16 CHEMIN PAS MACHET | G5: 528954928 | H5: 05 46 56 26 68 | I5: contact@bahama-boats.com | J5: 53182 | K5: AUBOYNEAU | L5: JEAN | O5: 673003511 | P5: =IF(J5<>"",VLOOKUP(J5,Feuil4!$A$2:$C$2501,3,FALSE),"") -> 50% Société - 50% Collaborateur | V5: =IF(Q5<>"",VLOOKUP(Q5,Feuil4!$A$2:$C$2501,3,FALSE),"")
A6: 17 | B6: 17440 | C6: AYTRE | D6: 45129 | E6: GV NAUTIC | F6: ZAC BELLE AIRE NORD | H6: 05 46 31 50 64 | I6: gvnautic@orange.fr | J6: 45145 | K6: VALLET | L6: GEOFFROY | P6: =IF(J6<>"",VLOOKUP(J6,Feuil4!$A$2:$C$2501,3,FALSE),"") -> 50% Société - 50% Collaborateur | V6: =IF(Q6<>"",VLOOKUP(Q6,Feuil4!$A$2:$C$2501,3,FALSE),"")
A7: 17 | B7: 17487 | C7: EMPURIABRAVA | D7: 51311 | E7: NAUTIC MOTOR | F7: CTRA DE FIUERES A ROSES | H7: 4972450877 | I7: comercial@nauticmotor.com | J7: 51313 | K7: ANGUITA | L7: JOSE | M7: 34067433702 | N7: comercial@nauticmotor.com | P7: =IF(J7<>"",VLOOKUP(J7,Feuil4!$A$2:$C$2501,3,FALSE),"") -> 50% Société - 50% Collaborateur | V7: =IF(Q7<>"",VLOOKUP(Q7,Feuil4!$A$2:$C$2501,3,FALSE),"")
A8: 17 | B8: 17487 | C8: empuriabrava | D8: 70264 | E8: SUNSEEKER SPAIN | F8: CTRA FIGUERES-ROSES, C/ AEROCLU | H8: 4699913265 | I8: pascal@sunseekerspain.es | J8: 70267 | K8: RABAT | L8: PASCAL | M8: 34699913265 | N8: pascal@sunseekerspain.es | O8: 34972456099 | P8: =IF(J8<>"",VLOOKUP(J8,Feuil4!$A$2:$C$2501,3,FALSE),"") -> 50% Société - 50% Collaborateur | V8: =IF(Q8<>"",VLOOKUP(Q8,Feuil4!$A$2:$C$2501,3,FALSE),"")
A9: 17 | B9: 17 | C9: EMPURIABRAVA (GIRONA) | D9: 53026 | E9: MARINA ESTRELLA | H9: +34 972 456 098 | I9: ampuriabrava@marinaestrella.com | P9: =IF(J9<>"",VLOOKUP(J9,Feuil4!$A$2:$C$2501,3,FALSE),"") | V9: =IF(Q9<>"",VLOOKUP(Q9,Feuil4!$A$2:$C$2501,3,FALSE),"")
A10: 17 | B10: 17750 | C10: ETAULES | D10: 36326 | E10: SAN REMO France (EX) - utiliser SEUDRIMMO | F10: 10 RUE DE BEAUREGARD | P10: =IF(J10<>"",VLOOKUP(J10,Feuil4!$A$2:$C$2501,3,FALSE),"") | V10: =IF(Q10<>"",VLOOKUP(Q10,Feuil4!$A$2:$C$2501,3,FALSE),"")
A11: 17 | B11: 17000 | C11: LA ROCHELLE | D11: 52296 | E11: CAP OUEST LA ROCHELLE | F11: ZI PORT DES MINIMES | G11: 534867692 | H11: 05 46 44 32 80 | J11: 52298 | K11: JUBLIN | L11: TONY | N11: tonyjublin@oange.fr | P11: =IF(J11<>"",VLOOKUP(J11,Feuil4!$A$2:$C$2501,3,FALSE),"") -> 100% Collaborateur | V11: =IF(Q11<>"",VLOOKUP(Q11,Feuil4!$A$2:$C$2501,3,FALSE),"")
A12: 17 | B12: 17000 | C12: LA ROCHELLE | D12: 30572 | E12: WEST YACHT BROKER | F12: 4 PLACE DU PETIT HUNTER | G12: 434851150 | H12: 05 46 44 68 25 | I12: contact@wyb.fr | J12: 32083 | K12: BONNET | L12: FRANCIS | M12: 546446825 | N12: centrale.bateau@wanadoo.fr | O12: 676484361 | P12: =IF(J12<>"",VLOOKUP(J12,Feuil4!$A$2:$C$2501,3,FALSE),"") -> 100% Société | Q12: 32082 | R12: POCQUET | S12: JEAN PHILIPPE | T12: 546820797 | U12: centrale.bateau@wanadoo.fr | V12: =IF(Q12<>"",VLOOKUP(Q12,Feuil4!$A$2:$C$2501,3,FALSE),"") -> 100% Société | W12: 37245 | X12: TISSOT | Y12: FRANCK | Z12: 546446825
A13: 17 | B13: 17000 | C13: LA ROCHELLE | D13: 40415 | E13: CATWAY | F13: RUE D'ARTIMON | H13: 05 46 07 70 10 | I13: contact@catway.fr | J13: 40416 | K13: BITTARD | L13: JEAN BAPTISTE | N13: jbbitard@catway.fr | P13: =IF(J13<>"",VLOOKUP(J13,Feuil4!$A$2:$C$2501,3,FALSE),"") -> 100% Collaborateur | Q13: 47424 | R13: THOMASSERY | S13: JULIE | T13: 05 46 07 70 10 | U13: contact@catway.fr | V13: =IF(Q13<>"",VLOOKUP(Q13,Feuil4!$A$2:$C$2501,3,FALSE),"") -> 100% Collaborateur | W13: 51577 | X13: MINEAU | Y13: JEAN PHILIPPE | Z13: 546077010
A14: 17 | B14: 17000 | C14: LA ROCHELLE | D14: 39769 | E14: RAFALE | F14: 8 RUE DES RIVAUDS | H14: 02 40 13 21 57 | J14: 39774 | K14: VERMEULIN | L14: GILLES | N14: gve@rafaleboats.com | O14: 630553512 | P14: =IF(J14<>"",VLOOKUP(J14,Feuil4!$A$2:$C$2501,3,FALSE),"") -> 50% Société - 50% Collaborateur | Q14: 47188 | R14: MOLINERO | S14: HERVE | T14: 240132157 | U14: herve@molinero.fr | V14: =IF(Q14<>"",VLOOKUP(Q14,Feuil4!$A$2:$C$2501,3,FALSE),"") -> 50% Société - 50% Collaborateur
A15: 17 | B15: 17000 | C15: LA ROCHELLE | D15: 43213 | E15: SPEED NAUTIC | F15: RUE D'ARTIMON | G15: 409756491 | H15: 05 47 48 01 84 | I15: info@speednautic.fr | J15: 43214 | K15: SCHATT | L15: JEAN MARIE | P15: =IF(J15<>"",VLOOKUP(J15,Feuil4!$A$2:$C$2501,3,FALSE),"") -> 100% Société | V15: =IF(Q15<>"",VLOOKUP(Q15,Feuil4!$A$2:$C$2501,3,FALSE),"")
A16: 17 | B16: 17000 | C16: LA ROCHELLE | D16: 37270 | E16: EUROPEAN BOATS COURTAGE | F16: QUAI MARILLAC - ZA DES MINIMES | H16: 05 46 41 86 93 | I16: ebc@boats-diffusion.com | J16: 70666 | K16: SCHATT | L16: JEAN MARIE | M16: 05 46 41 86 93 | N16: ebc@boats-diffusion.com | P16: =IF(J16<>"",VLOOKUP(J16,Feuil4!$A$2:$C$2501,3,FALSE),"") -> 100% Société | Q16: 85648 | R16: SCHATT | S16: CELINE | V16: =IF(Q16<>"",VLOOKUP(Q16,Feuil4!$A$2:$C$2501,3,FALSE),"") -> 50% Société - 50% Collaborateur | W16: 37273 | X16: MOREL | Y16: IVAN
A17: 17 | B17: 17000 | C17: LA ROCHELLE | D17: 38296 | E17: NAUTIQUE SERVICE | F17: 29 QUAI MARILLAC | G17: 505343418 | H17: 05 46 44 73 13 | I17: nautiqueservice@orange.fr | J17: 38303 | K17: MOUNIER | L17: BRUNO | M17: 05 46 44 73 13 | N17: nautiqueservice@orange.fr | O17: 603015392 | P17: =IF(J17<>"",VLOOKUP(J17,Feuil4!$A$2:$C$2501,3,FALSE),"") -> 100% Collaborateur | Q17: 45342 | R17: CAILLAU | S17: FREDERIC | T17: 645224064 | U17: fcaillau@wanadoo.fr | V17: =IF(Q17<>"",VLOOKUP(Q17,Feuil4!$A$2:$C$2501,3,FALSE),"") -> 50% Société - 50% Collaborateur
A18: 17 | B18: 17000 | C18: LA ROCHELLE | D18: 69126 | E18: ESPACE BATEAUX | F18: 12 RUE DE LA PERRUCHE | G18: 789263092 | H18: 05 46 44 24 85 | I18: espacebateaux@orange.fr | J18: 69130 | K18: CAILLAU | L18: FREDERIC | M18: 06 31 70 45 53 | N18: espacebateaux@orange.fr | O18: 06 31 70 45 53 | P18: =IF(J18<>"",VLOOKUP(J18,Feuil4!$A$2:$C$2501,3,FALSE),"") -> 100% Société | V18: =IF(Q18<>"",VLOOKUP(Q18,Feuil4!$A$2:$C$2501,3,FALSE),"")
A19: 17 | B19: 17000 | C19: LA ROCHELLE | D19: 42989 | E19: ATLANTIC YACHTING | F19: QUAI MARILLAC - ZA DES MINIMES | H19: 05 16 85 95 59 | I19: yandrey@wayb.fr | J19: 42992 | K19: ANDREY | L19: PIERRE | M19: 516859559 | N19: pandrey17@gmail.com | O19: 624293318 | P19: =IF(J19<>"",VLOOKUP(J19,Feuil4!$A$2:$C$2501,3,FALSE),"") -> 50% Société - 50% Collaborateur | Q19: 42991 | R19: ANDREY | S19: YANN | T19: 05 16 85 95 59 | U19: yandrey@wayb.fr | V19: =IF(Q19<>"",VLOOKUP(Q19,Feuil4!$A$2:$C$2501,3,FALSE),"") -> 50% Société - 50% Collaborateur
A20: 17 | B20: 17000 | C20: LA ROCHELLE | D20: 31312 | E20: LJB MARINE | F20: 40 AV DU LAZARET | H20: 05 46 52 19 52 | I20: info@ljb-marine.com | J20: 32120 | K20: BOURDEL | L20: LOUIS JEAN | N20: info@ljb-marine.com | P20: =IF(J20<>"",VLOOKUP(J20,Feuil4!$A$2:$C$2501,3,FALSE),"") -> 100% Société | V20: =IF(Q20<>"",VLOOKUP(Q20,Feuil4!$A$2:$C$2501,3,FALSE),"")
A21: 17 | B21: 17000 | C21: LA ROCHELLE | D21: 39989 | E21: ALL A BOAT | F21: AV LAZARET | H21: 05 46 50 94 81 | I21: allaboat@gmail.com | J21: 72711 | K21: MOUNIER | L21: BRUNO | M21: 05 46 50 94 81 | N21: allaboat@gmail.com | O21: 06 85 49 27 12 | P21: =IF(J21<>"",VLOOKUP(J21,Feuil4!$A$2:$C$2501,3,FALSE),"") -> 100% Collaborateur | Q21: 39994 | R21: DE MOLLIENS | S21: REMI | T21: 05 46 50 94 81 | U21: allaboat@gmail.com | V21: =IF(Q21<>"",VLOOKUP(Q21,Feuil4!$A$2:$C$2501,3,FALSE),"") -> 50% Société - 50% Collaborateur | W21: 40075 | X21: DREVET | Y21: OLIVIER | Z21: 05 46 50 94 81
A22: 17 | B22: 17000 | C22: LA ROCHELLE | D22: 36233 | E22: ATLANTICOQUE | F22: 45 RUE TRINQUETTE | H22: 05 46 45 05 50 | I22: atlanticoque@wanadoo.fr | J22: 36234 | K22: BENOIT | L22: BERNARD | M22: 05 46 45 05 50 | N22: atlanticoque@wanadoo.fr | P22: =IF(J22<>"",VLOOKUP(J22,Feuil4!$A$2:$C$2501,3,FALSE),"") -> 50% Société - 50% Collaborateur | Q22: 34007 | R22: MANGIN | S22: PASCAL | T22: 546450550 | U22: atlanticoque@wanadoo.fr | V22: =IF(Q22<>"",VLOOKUP(Q22,Feuil4!$A$2:$C$2501,3,FALSE),"") -> 50% Société - 50% Collaborateur | W22: 39267 | X22: SENECHAL | Y22: CHRISTINE | Z22: 546450550
A23: 17 | B23: 17000 | C23: LA ROCHELLE | D23: 37289 | E23: RHEA MARINE | F23: RUE ELIE BARREAU | H23: 05 46 41 60 20 | I23: contact@rhea-marine.fr | K23: DANGLADE | L23: BERTRAND | P23: =IF(J23<>"",VLOOKUP(J23,Feuil4!$A$2:$C$2501,3,FALSE),"") | Q23: 37294 | R23: FRANCONY | S23: FLORENCE | T23: 546416020 | U23: contact@rhea-marine.fr | V23: =IF(Q23<>"",VLOOKUP(Q23,Feuil4!$A$2:$C$2501,3,FALSE),"") -> 50% Société - 50% Collaborateur
A24: 17 | B24: 17000 | C24: LA ROCHELLE | D24: 33613 | E24: LAROCQUE YACHTING | F24: 31 QUAI MARILLAC | H24: 546523465 | I24: contact@larocque-yachting.com | J24: 33616 | K24: DE LAROCQUE | L24: GILLES | M24: 546523465 | N24: larocque-yachting@orange.fr | O24: 06 65 54 93 08 | P24: =IF(J24<>"",VLOOKUP(J24,Feuil4!$A$2:$C$2501,3,FALSE),"") -> 50% Société - 50% Collaborateur | V24: =IF(Q24<>"",VLOOKUP(Q24,Feuil4!$A$2:$C$2501,3,FALSE),"")
A25: 17 | B25: 17000 | C25: LA ROCHELLE | D25: 69558 | E25: AMR LOCATION | F25: AVE EMILE NORMANDIN | H25: 06 44 27 29 92 | I25: amrlocation@orange.fr | J25: 69562 | K25: ROUVRAIS | L25: MORGAN | M25: 06 44 27 29 92 | O25: 06 44 27 29 92 | P25: =IF(J25<>"",VLOOKUP(J25,Feuil4!$A$2:$C$2501,3,FALSE),"") -> 50% Société - 50% Collaborateur | V25: =IF(Q25<>"",VLOOKUP(Q25,Feuil4!$A$2:$C$2501,3,FALSE),"")
A26: 17 | B26: 17000 | C26: LA ROCHELLE | D26: 69127 | E26: ANTIPODE | F26: 15 RUE BRIGANTINE | H26: 06 46 68 29 94 | I26: fk@antiode-yachts.com | J26: 69131 | K26: KAUFMANN | L26: FREDERIQUE | P26: =IF(J26<>"",VLOOKUP(J26,Feuil4!$A$2:$C$2501,3,FALSE),"") -> 50% Société - 50% Collaborateur | V26: =IF(Q26<>"",VLOOKUP(Q26,Feuil4!$A$2:$C$2501,3,FALSE),"")
A27: 17 | B27: 17000 | C27: LA ROCHELLE | D27: 63713 | E27: NETHUNS | F27: 33 QUAI MARILLAC | G27: 750927436 | H27: 05 46 43 51 40 | I27: nethuns@orange.fr | J27: 67459 | K27: CHARLES | L27: JEROME | M27: 546435140 | N27: nethuns@orange.fr | P27: =IF(J27<>"",VLOOKUP(J27,Feuil4!$A$2:$C$2501,3,FALSE),"") -> 50% Société - 50% Collaborateur | Q27: 67458 | R27: NANGLARD | S27: YANNICK | T27: 637802481 | U27: gestion.nethuns@orange.fr | V27: =IF(Q27<>"",VLOOKUP(Q27,Feuil4!$A$2:$C$2501,3,FALSE),"") -> 50% Société - 50% Collaborateur
A28: 17 | B28: 17000 | C28: LA ROCHELLE | D28: 68711 | E28: 4HAW - VOGAVECMOI | F28: 1 RUE DE LA TRINQUETTE | G28: 51792110200011 | H28: 06 77 29 09 60 | I28: contact@vogavecmoi.com | J28: 68716 | K28: PENOT | L28: ANTOINE | M28: 06 77 29 09 60 | N28: contact@vogavecmoi.com | O28: 06 77 29 09 60 | P28: =IF(J28<>"",VLOOKUP(J28,Feuil4!$A$2:$C$2501,3,FALSE),"") -> 50% Société - 50% Collaborateur | V28: =IF(Q28<>"",VLOOKUP(Q28,Feuil4!$A$2:$C$2501,3,FALSE),"")
A29: 17 | C29: LA ROCHELLE | D29: 30119 | E29: LA ROCHELLE BOAT CENTER HORS SERVICE | H29: 05 46 45 42 72 | P29: =IF(J29<>"",VLOOKUP(J29,Feuil4!$A$2:$C$2501,3,FALSE),"") | V29: =IF(Q29<>"",VLOOKUP(Q29,Feuil4!$A$2:$C$2501,3,FALSE),"")
A30: 17 | C30: LA ROCHELLE | D30: 30202 | E30: MARINA EUROPE | H30: 01 02 03 04 05 | P30: =IF(J30<>"",VLOOKUP(J30,Feuil4!$A$2:$C$2501,3,FALSE),"") | V30: =IF(Q30<>"",VLOOKUP(Q30,Feuil4!$A$2:$C$2501,3,FALSE),"")
A31: 17 | B31: 17000 | C31: LA ROCHELLE | D31: 30283 | E31: DESTINATION OCEAN | F31: QUAI MARILLAC - ZA DES MINIMES | H31: 05 46 45 17 29 | P31: =IF(J31<>"",VLOOKUP(J31,Feuil4!$A$2:$C$2501,3,FALSE),"") | V31: =IF(Q31<>"",VLOOKUP(Q31,Feuil4!$A$2:$C$2501,3,FALSE),"")
A32: 17 | B32: 17000 | C32: LA ROCHELLE | D32: 30303 | E32: TECH NAUTIC | F32: PORT DES MINIMES | H32: 05 46 44 32 80 | J32: 38302 | K32: JEANNEAU | L32: FRANCK | M32: 05 46 44 32 80 | P32: =IF(J32<>"",VLOOKUP(J32,Feuil4!$A$2:$C$2501,3,FALSE),"") -> 50% Société - 50% Collaborateur | V32: =IF(Q32<>"",VLOOKUP(Q32,Feuil4!$A$2:$C$2501,3,FALSE),"")
A33: 17 | B33: 17000 | C33: LA ROCHELLE | D33: 30424 | E33: DE MARTINI FRANCOIS | H33: 05 46 45 42 72 | P33: =IF(J33<>"",VLOOKUP(J33,Feuil4!$A$2:$C$2501,3,FALSE),"") | V33: =IF(Q33<>"",VLOOKUP(Q33,Feuil4!$A$2:$C$2501,3,FALSE),"")
A34: 17 | B34: 17000 | C34: LA ROCHELLE | D34: 30459 | E34: YACHTING SELECTION 17 | F34: AVENUE MARILLAC | H34: 05 46 07 78 00 | I34: la-rochelle@yachting-selection.com | J34: 37244 | K34: BARBIER | L34: SYLVIE | P34: =IF(J34<>"",VLOOKUP(J34,Feuil4!$A$2:$C$2501,3,FALSE),"") -> 50% Société - 50% Collaborateur | V34: =IF(Q34<>"",VLOOKUP(Q34,Feuil4!$A$2:$C$2501,3,FALSE),"")
A35: 17 | B35: 17000 | C35: LA ROCHELLE | D35: 30510 | E35: GRASSI BATEAUX | F35: 5 RUE SENAC DE MEILHAN - PLATEAU NAUTIQUE | G35: 413 843 319 | H35: 05 46 45 40 06 | I35: contact@grassibateaux.com | J35: 32453 | K35: GRASSI | L35: OLIVIER | M35: 05 46 45 40 06 | N35: contact@grassibateaux.com | P35: =IF(J35<>"",VLOOKUP(J35,Feuil4!$A$2:$C$2501,3,FALSE),"") -> 100% Société | Q35: 32238 | R35: GUIHENEUF | S35: LAURENT | T35: 546459077 | U35: contact@grassibateaux.com | V35: =IF(Q35<>"",VLOOKUP(Q35,Feuil4!$A$2:$C$2501,3,FALSE),"") -> 50% Société - 50% Collaborateur | W35: 32542 | X35: GRASSI DARMENDRAIL | Y35: INGRID | Z35: 546454006
A36: 17 | B36: 17000 | C36: LA ROCHELLE | D36: 30520 | E36: YAPLUKA | F36: 13 RUE SENAC DE MEILHAN | H36: 05 46 07 70 77 | P36: =IF(J36<>"",VLOOKUP(J36,Feuil4!$A$2:$C$2501,3,FALSE),"") | V36: =IF(Q36<>"",VLOOKUP(Q36,Feuil4!$A$2:$C$2501,3,FALSE),"")
A37: 17 | B37: 17000 | C37: LA ROCHELLE | D37: 30558 | E37: PLAISANCE ROCHELAISE | F37: AV MICHEL CREPEAU | H37: 05 46 44 48 44 | K37: TRETON | L37: GERARD | P37: =IF(J37<>"",VLOOKUP(J37,Feuil4!$A$2:$C$2501,3,FALSE),"") | V37: =IF(Q37<>"",VLOOKUP(Q37,Feuil4!$A$2:$C$2501,3,FALSE),"")
A38: 17 | B38: 17000 | C38: LA ROCHELLE | D38: 30593 | E38: DUFOUR | P38: =IF(J38<>"",VLOOKUP(J38,Feuil4!$A$2:$C$2501,3,FALSE),"") | V38: =IF(Q38<>"",VLOOKUP(Q38,Feuil4!$A$2:$C$2501,3,FALSE),"")
A39: 17 | B39: 17000 | C39: LA ROCHELLE | D39: 31305 | E39: HUNTER LA ROCHELLE | F39: AV MICHEL CREPEAU | H39: 05 46 44 48 44 | K39: TRETON | L39: GERARD | M39: 05 46 44 48 44 | N39: AZURPERF@WANADOO.FR | O39: 05 46 44 95 84 | P39: =IF(J39<>"",VLOOKUP(J39,Feuil4!$A$2:$C$2501,3,FALSE),"") | Q39: 32331 | R39: RUILLAT | S39: MICHEL | T39: 623151389 | V39: =IF(Q39<>"",VLOOKUP(Q39,Feuil4!$A$2:$C$2501,3,FALSE),"") -> 100% Société
A40: 17 | B40: 17000 | C40: LA ROCHELLE | D40: 31313 | E40: ELITE YACHTING | F40: 56 RUE DE LA TRINQUETTE | H40: 05 46 34 82 22 | K40: HAITCE | L40: OLIVIER | M40: 546348222 | O40: 06 81 78 98 81 | P40: =IF(J40<>"",VLOOKUP(J40,Feuil4!$A$2:$C$2501,3,FALSE),"") | V40: =IF(Q40<>"",VLOOKUP(Q40,Feuil4!$A$2:$C$2501,3,FALSE),"")
A41: 17 | B41: 17000 | C41: LA ROCHELLE | D41: 32264 | E41: CAP ATLANTIC YACHTING | F41: QUAI MARILLAC - ZA DES MINIMES | H41: 05 46 28 27 54 | J41: 32388 | K41: ANDREY | L41: PIERRE | M41: 05 46 28 27 54 | N41: pandrey@cap-atlantic-yachting.fr | P41: =IF(J41<>"",VLOOKUP(J41,Feuil4!$A$2:$C$2501,3,FALSE),"") -> 50% Société - 50% Collaborateur | Q41: 32117 | R41: CROISE | S41: LAURENT | T41: 687337635 | V41: =IF(Q41<>"",VLOOKUP(Q41,Feuil4!$A$2:$C$2501,3,FALSE),"") -> 50% Société - 50% Collaborateur | W41: 32390 | X41: ANDREY | Y41: YANN | Z41: 05 46 28 27 54
A42: 17 | B42: 17000 | C42: LA ROCHELLE | D42: 35627 | E42: OCEAN NAUTIQUE LA ROCHELLE | F42: 10 RUE BONETTE | H42: 05 46 44 10 24 | I42: oceanautique@wanadoo.fr | J42: 35628 | K42: HERBRETEAU | L42: LUC | M42: 05 46 44 10 24 | N42: oceanautique@wanadoo.fr | P42: =IF(J42<>"",VLOOKUP(J42,Feuil4!$A$2:$C$2501,3,FALSE),"") -> 100% Société | V42: =IF(Q42<>"",VLOOKUP(Q42,Feuil4!$A$2:$C$2501,3,FALSE),"")
A43: 17 | B43: 17000 | C43: LA ROCHELLE | D43: 36201 | E43: ESCALE TECHNIQUE 17 | F43: LES MINIMES | H43: 06 67 98 17 17 | I43: brau@escaletechnic17.com | K43: BRAU | L43: JEREMIE | O43: 623062249 | P43: =IF(J43<>"",VLOOKUP(J43,Feuil4!$A$2:$C$2501,3,FALSE),"") | V43: =IF(Q43<>"",VLOOKUP(Q43,Feuil4!$A$2:$C$2501,3,FALSE),"")
A44: 17 | B44: 17000 | C44: LA ROCHELLE | D44: 36662 | E44: AUNIS MOTONAUTIC | F44: QUAI MARILLAC - ZA DES MINIMES | H44: 05 46 44 23 66 | I44: contact@aunismotonautic.fr | J44: 36666 | K44: BEIGNON | L44: DIDIER | M44: 05 46 44 23 66 | N44: contact@aunismotonautic.fr | P44: =IF(J44<>"",VLOOKUP(J44,Feuil4!$A$2:$C$2501,3,FALSE),"") -> 50% Société - 50% Collaborateur | Q44: 36667 | R44: BEIGNON | S44: FRANCOISE | T44: 05 46 44 23 66 | U44: contact@aunismotonautic.fr | V44: =IF(Q44<>"",VLOOKUP(Q44,Feuil4!$A$2:$C$2501,3,FALSE),"") -> 50% Société - 50% Collaborateur
A45: 17 | B45: 17000 | C45: LA ROCHELLE | D45: 37268 | E45: VENT PORTANT | F45: PLACE BERNARD MOITESSIER | H45: 05 46 44 76 87 | I45: romain.villeneau@kiriacoulis-france.com | K45: DEMARTIAL | L45: PATRICK | P45: =IF(J45<>"",VLOOKUP(J45,Feuil4!$A$2:$C$2501,3,FALSE),"") | Q45: 37272 | R45: VILLENEAU | S45: ROMAIN | T45: 677676491 | U45: romain.villeneau@kiriacoulis-france.com | V45: =IF(Q45<>"",VLOOKUP(Q45,Feuil4!$A$2:$C$2501,3,FALSE),"") -> 50% Société - 50% Collaborateur
A46: 17 | B46: 17000 | C46: LA ROCHELLE | D46: 37271 | E46: NAUTIC OUEST | F46: 31 QUAI MARILLAC | H46: 05 46 50 47 30 | I46: frederic.dupuy@nautic-ouest.fr | J46: 37275 | K46: DUPUY | L46: FREDERIC | P46: =IF(J46<>"",VLOOKUP(J46,Feuil4!$A$2:$C$2501,3,FALSE),"") -> 50% Société - 50% Collaborateur | V46: =IF(Q46<>"",VLOOKUP(Q46,Feuil4!$A$2:$C$2501,3,FALSE),"")
A47: 17 | B47: 17000 | C47: LA ROCHELLE | D47: 37288 | E47: GITE BLEU | F47: RUE DE LA TRINQUETTE | H47: 05 46 07 70 10 | I47: gitebleu@wanadoo.fr | J47: 37293 | K47: KAARS SIJPESTEIJN | L47: WILLEM | P47: =IF(J47<>"",VLOOKUP(J47,Feuil4!$A$2:$C$2501,3,FALSE),"") -> 50% Société - 50% Collaborateur | V47: =IF(Q47<>"",VLOOKUP(Q47,Feuil4!$A$2:$C$2501,3,FALSE),"")
A48: 17 | B48: 17000 | C48: LA ROCHELLE | D48: 38295 | E48: COOL WATER MARINE | F48: RUE DE LA TRINQUETTE | H48: 05 46 30 11 10 | J48: 38301 | K48: HARRISON | L48: STEPHEN | P48: =IF(J48<>"",VLOOKUP(J48,Feuil4!$A$2:$C$2501,3,FALSE),"") -> 50% Société - 50% Collaborateur | V48: =IF(Q48<>"",VLOOKUP(Q48,Feuil4!$A$2:$C$2501,3,FALSE),"")
A49: 17 | B49: 17000 | C49: LA ROCHELLE | D49: 39734 | E49: CN DE LA PERROTINE LA ROCHELLE | F49: AV LAZARET | H49: 05 46 44 12 17 | I49: cnlaperrotine@wanadoo.fr | J49: 39739 | K49: BERBAIN | L49: MATTHIEU | M49: 546441217 | N49: matthieu.laperrotine@wanadoo.fr | O49: 682997944 | P49: =IF(J49<>"",VLOOKUP(J49,Feuil4!$A$2:$C$2501,3,FALSE),"") -> 50% Société - 50% Collaborateur | V49: =IF(Q49<>"",VLOOKUP(Q49,Feuil4!$A$2:$C$2501,3,FALSE),"")
A50: 17 | B50: 17000 | C50: LA ROCHELLE | D50: 39889 | E50: MOTTE YACHTING | F50: 16-18 QUAI GEROGES SIMENON | H50: 05 46 09 49 59 | I50: motte.yachting@mottemarine.fr | K50: MOTTE | P50: =IF(J50<>"",VLOOKUP(J50,Feuil4!$A$2:$C$2501,3,FALSE),"") | Q50: 39890 | R50: POULIQUEN | S50: HOELENN | T50: 546094959 | U50: motte.yachting@mottemarine.fr | V50: =IF(Q50<>"",VLOOKUP(Q50,Feuil4!$A$2:$C$2501,3,FALSE),"") -> 50% Société - 50% Collaborateur
A51: 17 | B51: 17000 | C51: LA ROCHELLE | D51: 40377 | E51: RIVAGES DEFI SARL | F51: PORT DES MINIMES | G51: 393802178 | H51: 05 46 44 70 93 | I51: rivages.larochelle@wanadoo.fr | K51: DELBECQ | L51: FRANCOISE | P51: =IF(J51<>"",VLOOKUP(J51,Feuil4!$A$2:$C$2501,3,FALSE),"") | Q51: 40379 | R51: GASTEBLED | S51: GUILLAUME | T51: 05 46 44 70 93 | U51: rivages.larochelle@wanadoo.fr | V51: =IF(Q51<>"",VLOOKUP(Q51,Feuil4!$A$2:$C$2501,3,FALSE),"") -> 50% Société - 50% Collaborateur
A52: 17 | B52: 17000 | C52: LA ROCHELLE | D52: 42888 | E52: LONGTZE YACHTS EUROPE | F52: 96 RUE DE LA MUSE | H52: 06 61 31 12 85 | I52: pmas@ledefi.net | J52: 42890 | K52: MAS | L52: PIERRE | N52: pmas@ledefi.net | O52: 06 61 31 12 85 | P52: =IF(J52<>"",VLOOKUP(J52,Feuil4!$A$2:$C$2501,3,FALSE),"") -> 50% Société - 50% Collaborateur | Q52: 44592 | R52: DE LESQUEN | S52: XAVIER | T52: 661311283 | U52: xavier@longtze.org | V52: =IF(Q52<>"",VLOOKUP(Q52,Feuil4!$A$2:$C$2501,3,FALSE),"") -> 50% Société - 50% Collaborateur
A53: 17 | B53: 17000 | C53: LA ROCHELLE | D53: 42909 | E53: VIDEO PLAISANCE | F53: PORT DES MINIMES | H53: 546446825 | I53: hbleu@club-internet.fr | J53: 32121 | K53: BLEU | L53: HERVE | M53: 546446825 | N53: hbleu@club-internet.fr | O53: 06 86 43 37 61 | P53: =IF(J53<>"",VLOOKUP(J53,Feuil4!$A$2:$C$2501,3,FALSE),"") -> 50% Société - 50% Collaborateur | V53: =IF(Q53<>"",VLOOKUP(Q53,Feuil4!$A$2:$C$2501,3,FALSE),"")
A54: 17 | B54: 17000 | C54: LA ROCHELLE | D54: 43449 | E54: ACCASTILLAGE DIFFUSION LA ROCHELLE | F54: 23-25 Quai Marillac - ZI LES MINIMES | H54: 05 46 45 49 49 | J54: 48612 | K54: CAZAUX | L54: THIERRY | P54: =IF(J54<>"",VLOOKUP(J54,Feuil4!$A$2:$C$2501,3,FALSE),"") -> 50% Société - 50% Collaborateur | V54: =IF(Q54<>"",VLOOKUP(Q54,Feuil4!$A$2:$C$2501,3,FALSE),"")
A55: 17 | B55: 17000 | C55: LA ROCHELLE | D55: 44016 | E55: LATITUDE 46 | F55: 16 RUE ELIE BARREAU | H55: 05 46 09 41 79 | I55: latitude-46@classic-boats.com | J55: 45248 | K55: ISCOVICI | L55: CHRISTIAN | N55: christian.iscovici@classic-boats.com | P55: =IF(J55<>"",VLOOKUP(J55,Feuil4!$A$2:$C$2501,3,FALSE),"") -> 100% Société | V55: =IF(Q55<>"",VLOOKUP(Q55,Feuil4!$A$2:$C$2501,3,FALSE),"")
A56: 17 | B56: 17000 | C56: LA ROCHELLE | D56: 49147 | E56: BRUNSWICK | F56: 5 RUE JACQUES MONOD | H56: 06 29 95 63 74 | I56: max.metadier@brunswick.com | J56: 49171 | K56: METADIER | L56: MAX | M56: 06 29 95 63 74 | N56: max.metadier@brunswick.com | O56: 06 29 95 63 74 | P56: =IF(J56<>"",VLOOKUP(J56,Feuil4!$A$2:$C$2501,3,FALSE),"") -> 50% Société - 50% Collaborateur | V56: =IF(Q56<>"",VLOOKUP(Q56,Feuil4!$A$2:$C$2501,3,FALSE),"")
A57: 17 | B57: 17 | C57: LA ROCHELLE | D57: 51169 | E57: ARCHAMBAULT AFFICHES | H57: 06 85 09 96 49 | P57: =IF(J57<>"",VLOOKUP(J57,Feuil4!$A$2:$C$2501,3,FALSE),"") | V57: =IF(Q57<>"",VLOOKUP(Q57,Feuil4!$A$2:$C$2501,3,FALSE),"")
A58: 17 | B58: 17000 | C58: LA ROCHELLE | D58: 55426 | E58: KIRIACOULIS | F58: PLACE BERNARD MOITESSIER | G58: 422979088 | H58: 05 46 44 76 87 | I58: romain.villeneau@kiriacoulis-france.com | K58: VAN GAVER | L58: ODON | M58: 06 48 95 98 47 | N58: odonvangaver@kiriacoulis-france.com | P58: =IF(J58<>"",VLOOKUP(J58,Feuil4!$A$2:$C$2501,3,FALSE),"") | Q58: 55441 | R58: VILLENEAU | S58: ROMAIN | U58: romain.villeneau@kiriacoulis-France.com | V58: =IF(Q58<>"",VLOOKUP(Q58,Feuil4!$A$2:$C$2501,3,FALSE),"") -> 50% Société - 50% Collaborateur
A59: 17 | B59: 17000 | C59: LA ROCHELLE | D59: 86006 | E59: AFEP MARINE EVOLUTION | F59: 50 RUE SENAC MEILHAN | H59: 05 46 44 81 51 | I59: contact@afep-marine.com | J59: 86009 | K59: ROY | L59: DAVID | P59: =IF(J59<>"",VLOOKUP(J59,Feuil4!$A$2:$C$2501,3,FALSE),"") -> 100% Société | V59: =IF(Q59<>"",VLOOKUP(Q59,Feuil4!$A$2:$C$2501,3,FALSE),"")
A60: 17 | B60: 17390 | C60: LA TREMBLADE | D60: 37666 | E60: CAP OUEST OLERON | F60: BD LALEU | G60: 488480377 | H60: 05 46 36 05 05 | I60: chantiernautique@wanadoo.fr | J60: 37764 | K60: JUBLIN | L60: TONY | M60: 546360505 | N60: tonyjublin@oange.fr | O60: 662964141 | P60: =IF(J60<>"",VLOOKUP(J60,Feuil4!$A$2:$C$2501,3,FALSE),"") -> 100% Collaborateur | Q60: 52194 | R60: AURIOL | S60: ADRIEN | T60: 699696452 | U60: adrien.auriol@capouest-oleron.fr | V60: =IF(Q60<>"",VLOOKUP(Q60,Feuil4!$A$2:$C$2501,3,FALSE),"") -> 100% Collaborateur | W60: 42543 | X60: DAGHER | Y60: CHRISTOPHE | Z60: 662964147
A61: 17 | B61: 17390 | C61: LA TREMBLADE | D61: 38327 | E61: NAUTIQUE EN PRESQU'ILE | F61: QUAI DE L'ATELIER | H61: 05 46 36 25 47 | I61: bateaux@nautique-en-presqu-ile.fr | J61: 40237 | K61: GUILLEMIN | L61: ANTHONY | M61: 05 46 36 25 47 | N61: bateaux@nautique-en-presqu-ile.fr | P61: =IF(J61<>"",VLOOKUP(J61,Feuil4!$A$2:$C$2501,3,FALSE),"") -> 50% Société - 50% Collaborateur | Q61: 38330 | R61: DAVID | S61: JOEL | T61: 546362547 | U61: j.david@nautique-en-presqu-ile.fr | V61: =IF(Q61<>"",VLOOKUP(Q61,Feuil4!$A$2:$C$2501,3,FALSE),"") -> 50% Société - 50% Collaborateur | W61: 40277 | X61: PASQUIER | Y61: NICOLAS | Z61: 682644050
A62: 17 | B62: 17390 | C62: LA TREMBLADE | D62: 39736 | E62: PATRICK MARINE | F62: ZA DES BRASSONS | H62: 05 46 36 14 13 | K62: LECOMTE | L62: PATRICK | P62: =IF(J62<>"",VLOOKUP(J62,Feuil4!$A$2:$C$2501,3,FALSE),"") | Q62: 39741 | R62: ESCOUBET | S62: CATHY | V62: =IF(Q62<>"",VLOOKUP(Q62,Feuil4!$A$2:$C$2501,3,FALSE),"") -> 50% Société - 50% Collaborateur
A63: 17 | B63: 17140 | C63: LAGORD | D63: 47172 | E63: SPORTBOAT SERVICES | F63: 6 RUE EUGENE FREYSSINET | H63: 06 09 13 07 15 | I63: frederic@sportboat-services.com | J63: 47187 | K63: LIOT | L63: FREDERIC | N63: frederic@sportboat-services.com | O63: 06 09 13 07 15 | P63: =IF(J63<>"",VLOOKUP(J63,Feuil4!$A$2:$C$2501,3,FALSE),"") -> 50% Société - 50% Collaborateur | V63: =IF(Q63<>"",VLOOKUP(Q63,Feuil4!$A$2:$C$2501,3,FALSE),"")
A64: 17 | B64: 17140 | C64: LAGORD | D64: 54084 | E64: ARVOR | F64: 6 RUE EUGENE FREYSSINET | G64: 443523071 | H64: 06 61 05 78 63 | I64: hugues@speedfeet.fr | J64: 54090 | K64: SCHREDER | L64: HUGUES | N64: hugues@speedfeet.fr | O64: 06 61 05 78 63 | P64: =IF(J64<>"",VLOOKUP(J64,Feuil4!$A$2:$C$2501,3,FALSE),"") -> 50% Société - 50% Collaborateur | V64: =IF(Q64<>"",VLOOKUP(Q64,Feuil4!$A$2:$C$2501,3,FALSE),"")
A65: 17 | B65: 17480 | C65: LE CHATEAU D OLERON | D65: 30580 | E65: SORLUT MARINE | F65: ROUTE DU VIADUC | H65: 05 46 47 54 08 | I65: sorlut.marine@wanadoo.fr | J65: 33579 | K65: FONTENEAU | L65: NELLY | M65: 05 46 47 54 08 | N65: sorlut.marine@wanadoo.fr | P65: =IF(J65<>"",VLOOKUP(J65,Feuil4!$A$2:$C$2501,3,FALSE),"") -> 100% Société | Q65: 32269 | R65: LISOIS | S65: CHRISTOPHE | T65: 05 46 47 54 08 | U65: sorlut.marine@wanadoo.fr | V65: =IF(Q65<>"",VLOOKUP(Q65,Feuil4!$A$2:$C$2501,3,FALSE),"") -> 100% Société | W65: 37706 | X65: SORLUT
A66: 17 | B66: 17480 | C66: LE CHATEAU D OLERON | D66: 30442 | E66: NAUTIC 17 | F66: LE PORT | G66: 344455233 | H66: 05 46 47 62 57 | I66: nautic17@wanadoo.fr | J66: 32292 | K66: DUBOIS | L66: ALAIN | P66: =IF(J66<>"",VLOOKUP(J66,Feuil4!$A$2:$C$2501,3,FALSE),"") -> 100% Collaborateur | V66: =IF(Q66<>"",VLOOKUP(Q66,Feuil4!$A$2:$C$2501,3,FALSE),"")
A67: 17 | B67: 17480 | C67: LE CHATEAU D OLERON | D67: 30177 | E67: ATLANTIQUE NAUTIC OLERON | F67: ZI ORS | H67: 05 46 47 40 71 | J67: 32598 | K67: GUILLEMET | L67: BERNARD | M67: 05 46 47 40 71 | N67: atlantique.nautic@wanadoo.fr | O67: 05 46 47 58 51 | P67: =IF(J67<>"",VLOOKUP(J67,Feuil4!$A$2:$C$2501,3,FALSE),"") -> 50% Société - 50% Collaborateur | V67: =IF(Q67<>"",VLOOKUP(Q67,Feuil4!$A$2:$C$2501,3,FALSE),"")
A68: 17 | B68: 17480 | C68: LE CHATEAU D'OLERON | D68: 30132 | E68: OLERONAUTIC | F68: 29 RUE DES CAYANNES | G68: 351669783 | H68: 05 46 75 30 11 | I68: oleronautic@orange.fr | J68: 36576 | K68: FONTENEAU | L68: MICHEL | M68: 05 46 75 30 11 | N68: oleronautic@orange.fr | P68: =IF(J68<>"",VLOOKUP(J68,Feuil4!$A$2:$C$2501,3,FALSE),"") -> 100% Société | Q68: 32091 | R68: AUGUSTE | S68: RODOLPHE | T68: 05 46 75 30 11 | U68: oleronautic@orange.fr | V68: =IF(Q68<>"",VLOOKUP(Q68,Feuil4!$A$2:$C$2501,3,FALSE),"") -> 50% Société - 50% Collaborateur | W68: 32092 | X68: ARBEILLE | Y68: SYLVETTE | Z68: 05 46 75 30 11
A69: 17 | B69: 17880 | C69: LES PORTES EN RE | D69: 37946 | E69: NAUTIC SERVICE | F69: AV DES SALINES | H69: 05 46 29 52 91 | I69: nauticservice17@orange.fr | K69: REGRENY | L69: FRANCOIS | P69: =IF(J69<>"",VLOOKUP(J69,Feuil4!$A$2:$C$2501,3,FALSE),"") | Q69: 37950 | R69: REGRENY | S69: ELIZABETH | V69: =IF(Q69<>"",VLOOKUP(Q69,Feuil4!$A$2:$C$2501,3,FALSE),"") -> 50% Société - 50% Collaborateur
A70: 17 | B70: 17320 | C70: MARANS | D70: 30376 | E70: LE DEPOT DU MARIN | F70: ZI DU PORT | H70: 05 46 01 66 79 | P70: =IF(J70<>"",VLOOKUP(J70,Feuil4!$A$2:$C$2501,3,FALSE),"") | V70: =IF(Q70<>"",VLOOKUP(Q70,Feuil4!$A$2:$C$2501,3,FALSE),"")
A71: 17 | B71: 17230 | C71: MARANS | D71: 30811 | E71: HARMONY YACHTS | F71: ZI DE LA PENISSIERE | G71: 447857715 | H71: 05 46 30 54 54 | I71: ac.revranche@groupeponcin.com | K71: PONCIN | L71: OLIVIER | P71: =IF(J71<>"",VLOOKUP(J71,Feuil4!$A$2:$C$2501,3,FALSE),"") | Q71: 32528 | R71: BOURDIN | S71: PHILIPPE | T71: 671908170 | U71: philippebourdin56@wanadoo.fr | V71: =IF(Q71<>"",VLOOKUP(Q71,Feuil4!$A$2:$C$2501,3,FALSE),"") -> 50% Société - 50% Collaborateur
A72: 17 | B72: 17230 | C72: MARANS | D72: 38222 | E72: PONCIN YACHTS | F72: LIEU DIT LA PENISSIERE | G72: 390406320 | H72: 05 46 00 87 11 | I72: t.pelissier@groupeponcin.com | K72: BOURDIN | L72: PHILIPPE | P72: =IF(J72<>"",VLOOKUP(J72,Feuil4!$A$2:$C$2501,3,FALSE),"") | Q72: 38223 | R72: CASTANIE | S72: CEDRIC | T72: 494943840 | U72: cedric.castanie@groupeponcin.com | V72: =IF(Q72<>"",VLOOKUP(Q72,Feuil4!$A$2:$C$2501,3,FALSE),"") -> 50% Société - 50% Collaborateur
A73: 17 | B73: 17320 | C73: MARENNES | D73: 37883 | E73: SEUDRE OLERON MARINE | G73: 498113166 | H73: 05 46 85 20 36 | I73: bateaux@seudre-oleron-marine.fr | J73: 74245 | K73: DUPAS | L73: PASCAL | N73: bateaux@seudre-oleron-marine.fr | O73: 07 78 66 30 29 | P73: =IF(J73<>"",VLOOKUP(J73,Feuil4!$A$2:$C$2501,3,FALSE),"") -> 100% Collaborateur | V73: =IF(Q73<>"",VLOOKUP(Q73,Feuil4!$A$2:$C$2501,3,FALSE),"")
A74: 17 | B74: 17320 | C74: MARENNES | D74: 39735 | E74: JOSE NAUTIC | F74: ZI FIEF ROQUET | H74: 05 46 85 21 27 | I74: jose.nautic@wanadoo.fr | J74: 39740 | K74: NADEAU | L74: JOSE | P74: =IF(J74<>"",VLOOKUP(J74,Feuil4!$A$2:$C$2501,3,FALSE),"") -> 50% Société - 50% Collaborateur | V74: =IF(Q74<>"",VLOOKUP(Q74,Feuil4!$A$2:$C$2501,3,FALSE),"")
A75: 17 | B75: 17320 | C75: MARENNES | D75: 52361 | E75: PROPHIL MARINE | F75: LES PRADES | G75: 520404955 | H75: 06 46 32 01 16 | I75: denisproteau@orange.fr | J75: 52364 | K75: PROTEAU | L75: DENIS | M75: 06 46 32 01 16 | N75: denisproteau@orange.fr | P75: =IF(J75<>"",VLOOKUP(J75,Feuil4!$A$2:$C$2501,3,FALSE),"") -> 50% Société - 50% Collaborateur | V75: =IF(Q75<>"",VLOOKUP(Q75,Feuil4!$A$2:$C$2501,3,FALSE),"")
A76: 17 | B76: 17132 | C76: MESCHERS SUR GIRONDE | D76: 40448 | E76: ELIAN MARINE | F76: LE PORT | H76: 546225709 | I76: elian-marine@orange.fr | J76: 40451 | K76: LAURENT | L76: ELIAN | M76: 546225709 | N76: elian-marine@orange.fr | O76: 06 61 29 51 00 | P76: =IF(J76<>"",VLOOKUP(J76,Feuil4!$A$2:$C$2501,3,FALSE),"") -> 50% Société - 50% Collaborateur | V76: =IF(Q76<>"",VLOOKUP(Q76,Feuil4!$A$2:$C$2501,3,FALSE),"")
A77: 17 | B77: 17132 | C77: MESCHERS SUR GIRONDE | D77: 48522 | E77: MESCHERS SERVICE MARINE | F77: 5 IMP CARRELETS | H77: 05 46 02 50 50 | I77: meschersmarine@free.fr | J77: 48545 | K77: MECHIN | L77: GERALD | P77: =IF(J77<>"",VLOOKUP(J77,Feuil4!$A$2:$C$2501,3,FALSE),"") -> 50% Société - 50% Collaborateur | V77: =IF(Q77<>"",VLOOKUP(Q77,Feuil4!$A$2:$C$2501,3,FALSE),"")
A78: 17 | B78: 17 | C78: PERIGNY | D78: 40674 | E78: DUFOUR YACHTS | H78: 05 46 30 45 65 | K78: DE VUILLEFROY | L78: ERWAN | P78: =IF(J78<>"",VLOOKUP(J78,Feuil4!$A$2:$C$2501,3,FALSE),"") | V78: =IF(Q78<>"",VLOOKUP(Q78,Feuil4!$A$2:$C$2501,3,FALSE),"")
A79: 17 | B79: 17000 | C79: PERIGNY | D79: 30567 | E79: DUFOUR YACHTS | F79: 11 RUE BLAISE PASCAL | H79: 05 46 28 27 54 | I79: info@dufour-yachts.com | K79: SERIO | L79: SALVATORE | P79: =IF(J79<>"",VLOOKUP(J79,Feuil4!$A$2:$C$2501,3,FALSE),"") | Q79: 32340 | R79: LEMAIRE | S79: STEPHANE | T79: 671908166 | U79: stephane.lemaire@gmail.coml | V79: =IF(Q79<>"",VLOOKUP(Q79,Feuil4!$A$2:$C$2501,3,FALSE),"") -> 100% Collaborateur | W79: 73710 | X79: POURTALET | Y79: JEROME | Z79: 546282754
A80: 17 | B80: 17185 | C80: PERIGNY CEDEX | D80: 54262 | E80: RM FORA MARINE | F80: ZI DES 4 CHEVALIERS | G80: 444525232 | H80: 05 46 44 73 00 | I80: service.client@rm-yachts.com | K80: LEPOUTRE | L80: MARTIN | M80: 05 46 44 73 00 | P80: =IF(J80<>"",VLOOKUP(J80,Feuil4!$A$2:$C$2501,3,FALSE),"") | Q80: 54264 | R80: MARTIN | S80: CATHY | V80: =IF(Q80<>"",VLOOKUP(Q80,Feuil4!$A$2:$C$2501,3,FALSE),"") -> 50% Société - 50% Collaborateur
A81: 17 | B81: 17181 | C81: PERIGNY CEDEX | D81: 67579 | E81: MULTIHULL MARINA | F81: BP 28 | H81: 06 30 77 29 27 | I81: vg@multihull-marina.com | J81: 68551 | K81: CARIS | L81: OLIVIER | M81: 06 33 57 79 42 | N81: oc@multihull-marina.com | O81: 06 33 57 79 42 | P81: =IF(J81<>"",VLOOKUP(J81,Feuil4!$A$2:$C$2501,3,FALSE),"") -> 50% Société - 50% Collaborateur | V81: =IF(Q81<>"",VLOOKUP(Q81,Feuil4!$A$2:$C$2501,3,FALSE),"")
A82: 17 | B82: 17940 | C82: RIVEDOUX PLAGE | D82: 31020 | E82: MOTTE MARINE ILE DE RE | F82: 360 AV GUSTAVE PERREAU | G82: 40636634 | H82: 05 46 09 08 02 | I82: contact@mottemarine.fr | K82: MOTTE | L82: VINCENT | M82: 05 46 09 08 02 | P82: =IF(J82<>"",VLOOKUP(J82,Feuil4!$A$2:$C$2501,3,FALSE),"") | Q82: 39738 | R82: MOTTE | S82: FLORENTIN | T82: 546090802 | U82: fmotte@mottemarine.fr | V82: =IF(Q82<>"",VLOOKUP(Q82,Feuil4!$A$2:$C$2501,3,FALSE),"") -> 100% Collaborateur | W82: 32290 | X82: DEMARTINI | Y82: FRANCOIS | Z82: 546090802
A83: 17 | B83: 17300 | C83: ROCHEFORT | D83: 30468 | E83: CHARENTE OCEAN | F83: PORT DE PLAISANCE | H83: 05 46 82 07 97 | K83: POCQUET | L83: JEAN PHILIPPE | P83: =IF(J83<>"",VLOOKUP(J83,Feuil4!$A$2:$C$2501,3,FALSE),"") | V83: =IF(Q83<>"",VLOOKUP(Q83,Feuil4!$A$2:$C$2501,3,FALSE),"")
A84: 17 | B84: 17300 | C84: ROCHEFORT | D84: 37663 | E84: JS MARINE | F84: QUAI LE MOINE DE SERIGNY | H84: 06 10 97 97 21 | I84: jsmarine@hotmail.fr | J84: 37668 | K84: BERNAGEAU | L84: JEAN-SERGE | P84: =IF(J84<>"",VLOOKUP(J84,Feuil4!$A$2:$C$2501,3,FALSE),"") -> 50% Société - 50% Collaborateur | V84: =IF(Q84<>"",VLOOKUP(Q84,Feuil4!$A$2:$C$2501,3,FALSE),"")
A85: 17 | B85: 17300 | C85: ROCHEFORT | D85: 46435 | E85: AEQUUS | F85: RUE TOUBOULIC | H85: 05 46 82 47 16 | I85: contact@aequusboats.com | K85: HERVOUET | L85: BRUNO | P85: =IF(J85<>"",VLOOKUP(J85,Feuil4!$A$2:$C$2501,3,FALSE),"") | V85: =IF(Q85<>"",VLOOKUP(Q85,Feuil4!$A$2:$C$2501,3,FALSE),"")
A86: 17 | B86: 17200 | C86: ROYAN | D86: 37105 | E86: CHRIS NAUTIC | F86: 4 RUE TARTANE | G86: 484991955 | H86: 05 46 38 52 00 | I86: chrisnautic@sfr.fr | J86: 37113 | K86: PERAUDEAU | L86: CHRISTOPHE | P86: =IF(J86<>"",VLOOKUP(J86,Feuil4!$A$2:$C$2501,3,FALSE),"") -> 50% Société - 50% Collaborateur | V86: =IF(Q86<>"",VLOOKUP(Q86,Feuil4!$A$2:$C$2501,3,FALSE),"")
A87: 17 | B87: 17200 | C87: ROYAN | D87: 44254 | E87: SEUDRIMMO SARL | F87: 28 QUAI AMIRAL MEYER | G87: 481202232 | H87: 06 67 15 16 16 | I87: sanremofrance@orange.fr | J87: 55461 | K87: DELPEYRAT | L87: CHRISTOPHE | M87: 06 67 15 16 16 | N87: christophedelpeyrat@orange.fr | O87: 667151616 | P87: =IF(J87<>"",VLOOKUP(J87,Feuil4!$A$2:$C$2501,3,FALSE),"") -> 100% Société | V87: =IF(Q87<>"",VLOOKUP(Q87,Feuil4!$A$2:$C$2501,3,FALSE),"")
A88: 17 | B88: 17200 | C88: ROYAN | D88: 52305 | E88: ROYAN MARINE | F88: 14 QUAI DE L'AMIRAL MEYER | H88: 05 46 38 54 00 | I88: mathieu.collinet@royan-marine.fr | J88: 52309 | K88: COLLINET | L88: MATHIEU | M88: 546385400 | N88: mathieu.collinet@royan-marine.fr | P88: =IF(J88<>"",VLOOKUP(J88,Feuil4!$A$2:$C$2501,3,FALSE),"") -> 50% Société - 50% Collaborateur | Q88: 70053 | R88: REVOLAT | S88: BASTIEN | T88: 615111123 | U88: bastien.revolat@royan-marine.fr | V88: =IF(Q88<>"",VLOOKUP(Q88,Feuil4!$A$2:$C$2501,3,FALSE),"") -> 50% Société - 50% Collaborateur
A89: 17 | B89: 17200 | C89: ROYAN | D89: 30317 | E89: LOCA MARINE | F89: 3 VOUTES DU PORT | H89: 05 46 38 45 99 | J89: 53340 | K89: LOCAMARINE | P89: =IF(J89<>"",VLOOKUP(J89,Feuil4!$A$2:$C$2501,3,FALSE),"") -> 50% Société - 50% Collaborateur | V89: =IF(Q89<>"",VLOOKUP(Q89,Feuil4!$A$2:$C$2501,3,FALSE),"")
A90: 17 | B90: 17200 | C90: ROYAN | D90: 37664 | E90: AZ NAUTIC | F90: 10 RUE LOUIS DE FOIX | H90: 05 46 05 65 81 | I90: contact@aznautic.fr | J90: 37762 | K90: AUPY | L90: DOMINIQUE | P90: =IF(J90<>"",VLOOKUP(J90,Feuil4!$A$2:$C$2501,3,FALSE),"") -> 50% Société - 50% Collaborateur | V90: =IF(Q90<>"",VLOOKUP(Q90,Feuil4!$A$2:$C$2501,3,FALSE),"")
A91: 17 | B91: 17200 | C91: ROYAN | D91: 40253 | E91: ESPACE NAUTIC ROYAN | F91: 1 RUE LEPINE | H91: 05 46 06 52 36 | I91: ets.espacenautic@wanadoo.fr | K91: DIET | L91: JEAN-LUC | M91: 05 46 06 52 36 | N91: ets.espacenautic@wanadoo.fr | P91: =IF(J91<>"",VLOOKUP(J91,Feuil4!$A$2:$C$2501,3,FALSE),"") | Q91: 40256 | R91: DIET | S91: CAROLE | T91: 05 46 06 52 36 | U91: ets.espacenautic@wanadoo.fr | V91: =IF(Q91<>"",VLOOKUP(Q91,Feuil4!$A$2:$C$2501,3,FALSE),"") -> 50% Société - 50% Collaborateur
A92: 17 | B92: 17200 | C92: ROYAN | D92: 45225 | E92: OCEAN NAUTIQUE ROYAN | F92: 50 RUE FRANCOIS ARAGO | H92: 05 46 06 52 36 | I92: oceannautiqueroyan@orange.fr | P92: =IF(J92<>"",VLOOKUP(J92,Feuil4!$A$2:$C$2501,3,FALSE),"") | V92: =IF(Q92<>"",VLOOKUP(Q92,Feuil4!$A$2:$C$2501,3,FALSE),"")
A93: 17 | B93: 17203 | C93: ROYAN CEDEX | D93: 37665 | E93: SEUDRE SERVICE | F93: 29 ROUTE DE MAGARIN | H93: 05 46 22 74 38 | I93: seudre.service@wanadoo.fr | J93: 37949 | K93: LE BAIL | L93: STEPHANE | M93: 05 46 22 74 38 | N93: seudre.service@wanadoo.fr | P93: =IF(J93<>"",VLOOKUP(J93,Feuil4!$A$2:$C$2501,3,FALSE),"") -> 50% Société - 50% Collaborateur | Q93: 37671 | R93: GUILLOT | S93: ANNICK | T93: 05 46 22 74 38 | U93: seudre.service@wanadoo.fr | V93: =IF(Q93<>"",VLOOKUP(Q93,Feuil4!$A$2:$C$2501,3,FALSE),"") -> 50% Société - 50% Collaborateur
A94: 17 | B94: 17 | C94: Saint-Pierre d'Oléron | D94: 101427 | E94: LA PERROTINE - CHANTIER NAVAL & PORT SEC | H94: 05 46 47 01 36 | I94: Marine.oleron@orange.fr | K94: BARRE | L94: THIBAULT | N94: Marine.oleron@orange.fr | O94: 06 59 19 46 41 | P94: =IF(J94<>"",VLOOKUP(J94,Feuil4!$A$2:$C$2501,3,FALSE),"") | V94: =IF(Q94<>"",VLOOKUP(Q94,Feuil4!$A$2:$C$2501,3,FALSE),"")
A95: 17 | B95: 17600 | C95: SAUJON | D95: 36535 | E95: JET SUN OUEST | F95: ROUTE DU CHEMIN VERT | H95: 05 46 05 87 87 | I95: jsoroyan@gmail.com | J95: 36542 | K95: FOULQUES | L95: ERICK | M95: 05 46 05 87 87 | N95: pro@jetsunouest.com | P95: =IF(J95<>"",VLOOKUP(J95,Feuil4!$A$2:$C$2501,3,FALSE),"") -> 100% Société | Q95: 36543 | R95: LOTODE | S95: ALEXIA | T95: 546058787 | U95: contact@jetsunouest.com | V95: =IF(Q95<>"",VLOOKUP(Q95,Feuil4!$A$2:$C$2501,3,FALSE),"") -> 50% Société - 50% Collaborateur | W95: 40255 | X95: DAVY | Y95: CHRISTOPHER | Z95: 546058787
A96: 17 | B96: 17600 | C96: SAUJON | D96: 50201 | E96: SEVENTEEN JET& PARTS | F96: 20 CHEMIN VERT | H96: 05 46 22 78 49 | I96: direction@17jet-parts.fr | J96: 50206 | K96: BOISNARD | L96: THIBAUT | M96: 05 46 22 78 49 | N96: direction@17jet-parts.fr | P96: =IF(J96<>"",VLOOKUP(J96,Feuil4!$A$2:$C$2501,3,FALSE),"") -> 50% Société - 50% Collaborateur | V96: =IF(Q96<>"",VLOOKUP(Q96,Feuil4!$A$2:$C$2501,3,FALSE),"")
A97: 17 | B97: 17780 | C97: SOUBISE | D97: 30481 | E97: TOURNIER MARINE | F97: 18 RUE DU DOCTEUR SAVIGNY | G97: 453383028 | H97: 05 46 83 63 35 | I97: contact@tourniermarine.com | J97: 37669 | K97: TOURNIER | L97: CLAUDE | P97: =IF(J97<>"",VLOOKUP(J97,Feuil4!$A$2:$C$2501,3,FALSE),"") -> 50% Société - 50% Collaborateur | V97: =IF(Q97<>"",VLOOKUP(Q97,Feuil4!$A$2:$C$2501,3,FALSE),"")
A98: 17 | B98: 17650 | C98: ST DENIS D OLERON | D98: 39423 | E98: LE PECHEUR D'ANTIOCHE | F98: 5 A RUE DES CHARDONNETTES | H98: 05 46 75 70 65 | I98: lepecheurantioche@hotmail.fr | J98: 39424 | K98: VERRIER | L98: JEAN PIERRE | P98: =IF(J98<>"",VLOOKUP(J98,Feuil4!$A$2:$C$2501,3,FALSE),"") -> 100% Collaborateur | V98: =IF(Q98<>"",VLOOKUP(Q98,Feuil4!$A$2:$C$2501,3,FALSE),"")
A99: 17 | B99: 17190 | C99: ST GEORGES D OLERON | D99: 36217 | E99: ESPACE NAUTIQUE OLERON | F99: PORT DE PLAISANCE DU DOUHET | H99: 05 46 75 07 22 | I99: espacenautique.io@wanadoo.fr | J99: 36219 | K99: SCHAEFFER | L99: PASCAL | M99: 05 46 75 07 22 | N99: espacenautique.io@wanadoo.fr | P99: =IF(J99<>"",VLOOKUP(J99,Feuil4!$A$2:$C$2501,3,FALSE),"") -> 50% Société - 50% Collaborateur | Q99: 37112 | R99: SCHAEFFER | S99: CHRISTINE | T99: 05 46 75 07 22 | U99: espacenautique.io@wanadoo.fr | V99: =IF(Q99<>"",VLOOKUP(Q99,Feuil4!$A$2:$C$2501,3,FALSE),"") -> 50% Société - 50% Collaborateur
A100: 17 | B100: 17410 | C100: ST MARTIN DE RE | D100: 30596 | E100: OCEAN NAUTIQUE 17 | F100: 11 RUE SALIERES | H100: 05 46 09 13 83 | I100: ocean.nautique@libertysurf.fr | J100: 37110 | K100: HERBRETEAU | L100: LAURENT | M100: 05 46 09 13 83 | N100: ocean.nautique@libertysurf.fr | O100: 06 15 70 15 98 | P100: =IF(J100<>"",VLOOKUP(J100,Feuil4!$A$2:$C$2501,3,FALSE),"") -> 100% Société | Q100: 33893 | R100: HERBRETEAU | S100: LUC | T100: 546091383 | U100: ocean.nautique@libertysurf.fr | V100: =IF(Q100<>"",VLOOKUP(Q100,Feuil4!$A$2:$C$2501,3,FALSE),"") -> 100% Société
...

Sheet Feuil4
A1: no_utilisateur | B1: scenario_retrocession_assurance | C1: libelle
A2: 31029 | B2: 110 | C2: 50% Société - 50% Collaborateur
A3: 32000 | B3: 110 | C3: 50% Société - 50% Collaborateur
A4: 32005 | B4: 110 | C4: 50% Société - 50% Collaborateur
A5: 32008 | B5: 100 | C5: 100% Société
A6: 32009 | B6: 110 | C6: 50% Société - 50% Collaborateur
A7: 32011 | B7: 110 | C7: 50% Société - 50% Collaborateur
A8: 32013 | B8: 110 | C8: 50% Société - 50% Collaborateur
A9: 32014 | B9: 120 | C9: 100% Collaborateur
A10: 32015 | B10: 110 | C10: 50% Société - 50% Collaborateur
A11: 32016 | B11: 110 | C11: 50% Société - 50% Collaborateur
A12: 32017 | B12: 110 | C12: 50% Société - 50% Collaborateur
A13: 32018 | B13: 110 | C13: 50% Société - 50% Collaborateur
... A148: 32187 | B148: 110 | C148: 50% Société - 50% Collaborateur
A149: 32188 | C149: \N
A150: 32190 | B150: 100 | C150: 100% Société
A151: 32191 | B151: 110 | C151: 50% Société - 50% Collaborateur
A152: 32192 | B152: 110 | C152: 50% Société - 50% Collaborateur
A153: 32195 | B153: 110 | C153: 50% Société - 50% Collaborateur
A154: 32196 | B154: 110 | C154: 50% Société - 50% Collaborateur
A155: 32197 | B155: 110 | C155: 50% Société - 50% Collaborateur
A156: 32198 | B156: 110 | C156: 50% Société - 50% Collaborateur
A157: 32199 | B157: 110 | C157: 50% Société - 50% Collaborateur
A158: 32200 | B158: 110 | C158: 50% Société - 50% Collaborateur
A159: 32201 | B159: 110 | C159: 50% Société - 50% Collaborateur
A160: 32202 | B160: 110 | C160: 50% Société - 50% Collaborateur
A161: 32203 | B161: 110 | C161: 50% Société - 50% Collaborateur
... A256: 32322 | B256: 110 | C256: 50% Société - 50% Collaborateur
A257: 32323 | C257: \N
A258: 32324 | B258: 110 | C258: 50% Société - 50% Collaborateur
A259: 32325 | B259: 110 | C259: 50% Société - 50% Collaborateur
A260: 32326 | B260: 110 | C260: 50% Société - 50% Collaborateur
A261: 32327 | B261: 110 | C261: 50% Société - 50% Collaborateur
A262: 32328 | B262: 110 | C262: 50% Société - 50% Collaborateur
A263: 32329 | B263: 110 | C263: 50% Société - 50% Collaborateur
A264: 32330 | B264: 110 | C264: 50% Société - 50% Collaborateur
A265: 32331 | B265: 100 | C265: 100% Société
A266: 32332 | B266: 110 | C266: 50% Société - 50% Collaborateur
A267: 32334 | B267: 110 | C267: 50% Société - 50% Collaborateur
A268: 32335 | B268: 110 | C268: 50% Société - 50% Collaborateur
A269: 32336 | B269: 110 | C269: 50% Société - 50% Collaborateur
... A406: 32489 | B406: 110 | C406: 50% Société - 50% Collaborateur
A407: 32490 | C407: \N
A408: 32491 | B408: 120 | C408: 100% Collaborateur
A409: 32492 | B409: 110 | C409: 50% Société - 50% Collaborateur
A410: 32493 | B410: 100 | C410: 100% Société
A411: 32494 | B411: 110 | C411: 50% Société - 50% Collaborateur
A412: 32495 | B412: 110 | C412: 50% Société - 50% Collaborateur
A413: 32496 | B413: 110 | C413: 50% Société - 50% Collaborateur
A414: 32497 | B414: 110 | C414: 50% Société - 50% Collaborateur
A415: 32498 | B415: 110 | C415: 50% Société - 50% Collaborateur
A416: 32499 | B416: 110 | C416: 50% Société - 50% Collaborateur
A417: 32500 | B417: 110 | C417: 50% Société - 50% Collaborateur
A418: 32501 | B418: 110 | C418: 50% Société - 50% Collaborateur
A419: 32502 | B419: 110 | C419: 50% Société - 50% Collaborateur
... A741: 36459 | B741: 110 | C741: 50% Société - 50% Collaborateur
A742: 36461 | C742: \N
A743: 36476 | B743: 110 | C743: 50% Société - 50% Collaborateur
A744: 36477 | B744: 110 | C744: 50% Société - 50% Collaborateur
A745: 36491 | B745: 120 | C745: 100% Collaborateur
A746: 36501 | B746: 100 | C746: 100% Société
A747: 36510 | B747: 100 | C747: 100% Société
A748: 36511 | B748: 110 | C748: 50% Société - 50% Collaborateur
A749: 36512 | B749: 110 | C749: 50% Société - 50% Collaborateur
A750: 36525 | B750: 110 | C750: 50% Société - 50% Collaborateur
A751: 36540 | B751: 110 | C751: 50% Société - 50% Collaborateur
A752: 36541 | B752: 110 | C752: 50% Société - 50% Collaborateur
A753: 36542 | B753: 100 | C753: 100% Société
A754: 36543 | B754: 110 | C754: 50% Société - 50% Collaborateur
... A1093: 39171 | B1093: 110 | C1093: 50% Société - 50% Collaborateur
A1094: 39187 | C1094: \N
A1095: 39261 | B1095: 110 | C1095: 50% Société - 50% Collaborateur
A1096: 39267 | B1096: 110 | C1096: 50% Société - 50% Collaborateur
A1097: 39273 | B1097: 110 | C1097: 50% Société - 50% Collaborateur
A1098: 39283 | B1098: 110 | C1098: 50% Société - 50% Collaborateur
A1099: 39292 | B1099: 120 | C1099: 100% Collaborateur
A1100: 39312 | B1100: 110 | C1100: 50% Société - 50% Collaborateur
A1101: 39316 | B1101: 110 | C1101: 50% Société - 50% Collaborateur
A1102: 39317 | B1102: 110 | C1102: 50% Société - 50% Collaborateur
A1103: 39318 | B1103: 110 | C1103: 50% Société - 50% Collaborateur
A1104: 39328 | B1104: 110 | C1104: 50% Société - 50% Collaborateur
A1105: 39329 | C1105: \N
A1106: 39335 | B1106: 110 | C1106: 50% Société - 50% Collaborateur
A1107: 39336 | B1107: 110 | C1107: 50% Société - 50% Collaborateur
A1108: 39337 | B1108: 110 | C1108: 50% Société - 50% Collaborateur
A1109: 39346 | B1109: 110 | C1109: 50% Société - 50% Collaborateur
A1110: 39362 | B1110: 100 | C1110: 100% Société
A1111: 39370 | B1111: 100 | C1111: 100% Société
A1112: 39414 | B1112: 110 | C1112: 50% Société - 50% Collaborateur
A1113: 39415 | B1113: 110 | C1113: 50% Société - 50% Collaborateur
A1114: 39424 | B1114: 120 | C1114: 100% Collaborateur
A1115: 39436 | B1115: 110 | C1115: 50% Société - 50% Collaborateur
A1116: 39448 | B1116: 120 | C1116: 100% Collaborateur
A1117: 39460 | B1117: 100 | C1117: 100% Société
... A1144: 39621 | B1144: 110 | C1144: 50% Société - 50% Collaborateur
A1145: 39628 | C1145: \N
A1146: 39629 | B1146: 110 | C1146: 50% Société - 50% Collaborateur
A1147: 39630 | B1147: 110 | C1147: 50% Société - 50% Collaborateur
A1148: 39631 | B1148: 110 | C1148: 50% Société - 50% Collaborateur
A1149: 39647 | B1149: 120 | C1149: 100% Collaborateur
...

Sheet Feuil1
