Workbook

Sheet Fichier sect FM MAJ 05juin15
A1: code postal | B1: code postal | C1: ville | D1: apporteur | E1: raison sociale | F1: adresse | G1: SIRET | H1: téléphone. | I1: email apporteur | J1: N° utilisateur | K1: nom dirigeant | L1: prénom dirigeant | M1: téléphone dirigeant | N1: email dirigeant | O1: portable dirigeant | P1: scenar retro | Q1: N° utilisateur 1 | R1: nom apporteur 1 | S1: prénom apporteur 1 | T1: téléphone apporteur 1 | U1: mail apporteur 1 | V1: scenar retro | W1: N° utilisateur 2 | X1: nom apporteur 2 | Y1: prénom apporteur 2 | Z1: téléphone apporteur 2
A2: 17 | B2: 17690 | C2: ANGOULINS | D2: 31097 | E2: NANNI DIESEL | H2: 06 77 06 56 22 | K2: MIGNE | L2: JEAN JACQUES | P2: =IF(J2<>"",VLOOKUP(J2,Feuil4!$A$2:$C$2501,3,FALSE),"") | V2: =IF(Q2<>"",VLOOKUP(Q2,Feuil4!$A$2:$C$2501,3,FALSE),"")
A3: 17 | B3: 17590 | C3: ARS EN RE | D3: 30344 | E3: BLONDEAU MARINE | F3: 3 QUAI DE LA CRIEE | H3: 05 46 29 04 89 | I3: blondeau.marine@wanadoo.fr | J3: 32215 | K3: BLONDEAU | L3: YANN | N3: yann.blondeau@wanadoo.fr | P3: =IF(J3<>"",VLOOKUP(J3,Feuil4!$A$2:$C$2501,3,FALSE),"") -> 100% Collaborateur | Q3: 32216 | R3: BLONDEAU | S3: PIERRE | T3: 546290489 | U3: pierre.blondeau@wanadoo.fr | V3: =IF(Q3<>"",VLOOKUP(Q3,Feuil4!$A$2:$C$2501,3,FALSE),"") -> 100% Collaborateur | W3: 37111 | X3: PROFILET | Y3: DOMINIQUE | Z3: 546290489
A4: 17 | B4: 17590 | C4: ARS EN RE | D4: 34556 | E4: TAG YACHTING SAS | H4: 05 46 29 91 09 | I4: contact@bahama-boats.com | P4: =IF(J4<>"",VLOOKUP(J4,Feuil4!$A$2:$C$2501,3,FALSE),"") | V4: =IF(Q4<>"",VLOOKUP(Q4,Feuil4!$A$2:$C$2501,3,FALSE),"")
A5: 17 | B5: 17590 | C5: ARS EN RE | D5: 53179 | E5: BAHAMA YACHTING COMPANY | F5: 16 CHEMIN PAS MACHET | G5: 528954928 | H5: 05 46 56 26 68 | I5: contact@bahama-boats.com | J5: 53182 | K5: AUBOYNEAU | L5: JEAN | O5: 673003511 | P5: =IF(J5<>"",VLOOKUP(J5,Feuil4!$A$2:$C$2501,3,FALSE),"") -> 50% Société - 50% Collaborateur | V5: =IF(Q5<>"",VLOOKUP(Q5,Feuil4!$A$2:$C$2501,3,FALSE),"")
A6: 17 | B6: 17440 | C6: AYTRE | D6: 45129 | E6: GV NAUTIC | F6: ZAC BELLE AIRE NORD | H6: 05 46 31 50 64 | I6: gvnautic@orange.fr | J6: 45145 | K6: VALLET | L6: GEOFFROY | P6: =IF(J6<>"",VLOOKUP(J6,Feuil4!$A$2:$C$2501,3,FALSE),"") -> 50% Société - 50% Collaborateur | V6: =IF(Q6<>"",VLOOKUP(Q6,Feuil4!$A$2:$C$2501,3,FALSE),"")
A7: 17 | B7: 17487 | C7: EMPURIABRAVA | D7: 51311 | E7: NAUTIC MOTOR | F7: CTRA DE FIUERES A ROSES | H7: 4972450877 | I7: comercial@nauticmotor.com | J7: 51313 | K7: ANGUITA | L7: JOSE | M7: 34067433702 | N7: comercial@nauticmotor.com | P7: =IF(J7<>"",VLOOKUP(J7,Feuil4!$A$2:$C$2501,3,FALSE),"") -> 50% Société - 50% Collaborateur | V7: =IF(Q7<>"",VLOOKUP(Q7,Feuil4!$A$2:$C$2501,3,FALSE),"")
A8: 17 | B8: 17487 | C8: empuriabrava | D8: 70264 | E8: SUNSEEKER SPAIN | F8: CTRA FIGUERES-ROSES, C/ AEROCLU | H8: 4699913265 | I8: pascal@sunseekerspain.es | J8: 70267 | K8: RABAT | L8: PASCAL | M8: 34699913265 | N8: pascal@sunseekerspain.es | O8: 34972456099 | P8: =IF(J8<>"",VLOOKUP(J8,Feuil4!$A$2:$C$2501,3,FALSE),"") -> 50% Société - 50% Collaborateur | V8: =IF(Q8<>"",VLOOKUP(Q8,Feuil4!$A$2:$C$2501,3,FALSE),"")
A9: 17 | B9: 17 | C9: EMPURIABRAVA (GIRONA) | D9: 53026 | E9: MARINA ESTRELLA | H9: +34 972 456 098 | I9: ampuriabrava@marinaestrella.com | P9: =IF(J9<>"",VLOOKUP(J9,Feuil4!$A$2:$C$2501,3,FALSE),"") | V9: =IF(Q9<>"",VLOOKUP(Q9,Feuil4!$A$2:$C$2501,3,FALSE),"")
A10: 17 | B10: 17750 | C10: ETAULES | D10: 36326 | E10: SAN REMO France (EX) - utiliser SEUDRIMMO | F10: 10 RUE DE BEAUREGARD | P10: =IF(J10<>"",VLOOKUP(J10,Feuil4!$A$2:$C$2501,3,FALSE),"") | V10: =IF(Q10<>"",VLOOKUP(Q10,Feuil4!$A$2:$C$2501,3,FALSE),"")
A11: 17 | B11: 17000 | C11: LA ROCHELLE | D11: 52296 | E11: CAP OUEST LA ROCHELLE | F11: ZI PORT DES MINIMES | G11: 534867692 | H11: 05 46 44 32 80 | J11: 52298 | K11: JUBLIN | L11: TONY | N11: tonyjublin@oange.fr | P11: =IF(J11<>"",VLOOKUP(J11,Feuil4!$A$2:$C$2501,3,FALSE),"") -> 100% Collaborateur | V11: =IF(Q11<>"",VLOOKUP(Q11,Feuil4!$A$2:$C$2501,3,FALSE),"")
A12: 17 | B12: 17000 | C12: LA ROCHELLE | D12: 30572 | E12: WEST YACHT BROKER | F12: 4 PLACE DU PETIT HUNTER | G12: 434851150 | H12: 05 46 44 68 25 | I12: contact@wyb.fr | J12: 32083 | K12: BONNET | L12: FRANCIS | M12: 546446825 | N12: centrale.bateau@wanadoo.fr | O12: 676484361 | P12: =IF(J12<>"",VLOOKUP(J12,Feuil4!$A$2:$C$2501,3,FALSE),"") -> 100% Société | Q12: 32082 | R12: POCQUET | S12: JEAN PHILIPPE | T12: 546820797 | U12: centrale.bateau@wanadoo.fr | V12: =IF(Q12<>"",VLOOKUP(Q12,Feuil4!$A$2:$C$2501,3,FALSE),"") -> 100% Société | W12: 37245 | X12: TISSOT | Y12: FRANCK | Z12: 546446825
A13: 17 | B13: 17000 | C13: LA ROCHELLE | D13: 40415 | E13: CATWAY | F13: RUE D'ARTIMON | H13: 05 46 07 70 10 | I13: contact@catway.fr | J13: 40416 | K13: BITTARD | L13: JEAN BAPTISTE | N13: jbbitard@catway.fr | P13: =IF(J13<>"",VLOOKUP(J13,Feuil4!$A$2:$C$2501,3,FALSE),"") -> 100% Collaborateur | Q13: 47424 | R13: THOMASSERY | S13: JULIE | T13: 05 46 07 70 10 | U13: contact@catway.fr | V13: =IF(Q13<>"",VLOOKUP(Q13,Feuil4!$A$2:$C$2501,3,FALSE),"") -> 100% Collaborateur | W13: 51577 | X13: MINEAU | Y13: JEAN PHILIPPE | Z13: 546077010
A14: 17 | B14: 17000 | C14: LA ROCHELLE | D14: 39769 | E14: RAFALE | F14: 8 RUE DES RIVAUDS | H14: 02 40 13 21 57 | J14: 39774 | K14: VERMEULIN | L14: GILLES | N14: gve@rafaleboats.com | O14: 630553512 | P14: =IF(J14<>"",VLOOKUP(J14,Feuil4!$A$2:$C$2501,3,FALSE),"") -> 50% Société - 50% Collaborateur | Q14: 47188 | R14: MOLINERO | S14: HERVE | T14: 240132157 | U14: herve@molinero.fr | V14: =IF(Q14<>"",VLOOKUP(Q14,Feuil4!$A$2:$C$2501,3,FALSE),"") -> 50% Société - 50% Collaborateur
A15: 17 | B15: 17000 | C15: LA ROCHELLE | D15: 43213 | E15: SPEED NAUTIC | F15: RUE D'ARTIMON | G15: 409756491 | H15: 05 47 48 01 84 | I15: info@speednautic.fr | J15: 43214 | K15: SCHATT | L15: JEAN MARIE | P15: =IF(J15<>"",VLOOKUP(J15,Feuil4!$A$2:$C$2501,3,FALSE),"") -> 100% Société | V15: =IF(Q15<>"",VLOOKUP(Q15,Feuil4!$A$2:$C$2501,3,FALSE),"")
A16: 17 | B16: 17000 | C16: LA ROCHELLE | D16: 37270 | E16: EUROPEAN BOATS COURTAGE | F16: QUAI MARILLAC - ZA DES MINIMES | H16: 05 46 41 86 93 | I16: ebc@boats-diffusion.com | J16: 70666 | K16: SCHATT | L16: JEAN MARIE | M16: 05 46 41 86 93 | N16: ebc@boats-diffusion.com | P16: =IF(J16<>"",VLOOKUP(J16,Feuil4!$A$2:$C$2501,3,FALSE),"") -> 100% Société | Q16: 85648 | R16: SCHATT | S16: CELINE | V16: =IF(Q16<>"",VLOOKUP(Q16,Feuil4!$A$2:$C$2501,3,FALSE),"") -> 50% Société - 50% Collaborateur | W16: 37273 | X16: MOREL | Y16: IVAN
A17: 17 | B17: 17000 | C17: LA ROCHELLE | D17: 38296 | E17: NAUTIQUE SERVICE | F17: 29 QUAI MARILLAC | G17: 505343418 | H17: 05 46 44 73 13 | I17: nautiqueservice@orange.fr | J17: 38303 | K17: MOUNIER | L17: BRUNO | M17: 05 46 44 73 13 | N17: nautiqueservice@orange.fr | O17: 603015392 | P17: =IF(J17<>"",VLOOKUP(J17,Feuil4!$A$2:$C$2501,3,FALSE),"") -> 100% Collaborateur | Q17: 45342 | R17: CAILLAU | S17: FREDERIC | T17: 645224064 | U17: fcaillau@wanadoo.fr | V17: =IF(Q17<>"",VLOOKUP(Q17,Feuil4!$A$2:$C$2501,3,FALSE),"") -> 50% Société - 50% Collaborateur
A18: 17 | B18: 17000 | C18: LA ROCHELLE | D18: 69126 | E18: ESPACE BATEAUX | F18: 12 RUE DE LA PERRUCHE | G18: 789263092 | H18: 05 46 44 24 85 | I18: espacebateaux@orange.fr | J18: 69130 | K18: CAILLAU | L18: FREDERIC | M18: 06 31 70 45 53 | N18: espacebateaux@orange.fr | O18: 06 31 70 45 53 | P18: =IF(J18<>"",VLOOKUP(J18,Feuil4!$A$2:$C$2501,3,FALSE),"") -> 100% Société | V18: =IF(Q18<>"",VLOOKUP(Q18,Feuil4!$A$2:$C$2501,3,FALSE),"")
A19: 17 | B19: 17000 | C19: LA ROCHELLE | D19: 42989 | E19: ATLANTIC YACHTING | F19: QUAI MARILLAC - ZA DES MINIMES | H19: 05 16 85 95 59 | I19: yandrey@wayb.fr | J19: 42992 | K19: ANDREY | L19: PIERRE | M19: 516859559 | N19: pandrey17@gmail.com | O19: 624293318 | P19: =IF(J19<>"",VLOOKUP(J19,Feuil4!$A$2:$C$2501,3,FALSE),"") -> 50% Société - 50% Collaborateur | Q19: 42991 | R19: ANDREY | S19: YANN | T19: 05 16 85 95 59 | U19: yandrey@wayb.fr | V19: =IF(Q19<>"",VLOOKUP(Q19,Feuil4!$A$2:$C$2501,3,FALSE),"") -> 50% Société - 50% Collaborateur
A20: 17 | B20: 17000 | C20: LA ROCHELLE | D20: 31312 | E20: LJB MARINE | F20: 40 AV DU LAZARET | H20: 05 46 52 19 52 | I20: info@ljb-marine.com | J20: 32120 | K20: BOURDEL | L20: LOUIS JEAN | N20: info@ljb-marine.com | P20: =IF(J20<>"",VLOOKUP(J20,Feuil4!$A$2:$C$2501,3,FALSE),"") -> 100% Société | V20: =IF(Q20<>"",VLOOKUP(Q20,Feuil4!$A$2:$C$2501,3,FALSE),"")
A21: 17 | B21: 17000 | C21: LA ROCHELLE | D21: 39989 | E21: ALL A BOAT | F21: AV LAZARET | H21: 05 46 50 94 81 | I21: allaboat@gmail.com | J21: 72711 | K21: MOUNIER | L21: BRUNO | M21: 05 46 50 94 81 | N21: allaboat@gmail.com | O21: 06 85 49 27 12 | P21: =IF(J21<>"",VLOOKUP(J21,Feuil4!$A$2:$C$2501,3,FALSE),"") -> 100% Collaborateur | Q21: 39994 | R21: DE MOLLIENS | S21: REMI | T21: 05 46 50 94 81 | U21: allaboat@gmail.com | V21: =IF(Q21<>"",VLOOKUP(Q21,Feuil4!$A$2:$C$2501,3,FALSE),"") -> 50% Société - 50% Collaborateur | W21: 40075 | X21: DREVET | Y21: OLIVIER | Z21: 05 46 50 94 81
A22: 17 | B22: 17000 | C22: LA ROCHELLE | D22: 36233 | E22: ATLANTICOQUE | F22: 45 RUE TRINQUETTE | H22: 05 46 45 05 50 | I22: atlanticoque@wanadoo.fr | J22: 36234 | K22: BENOIT | L22: BERNARD | M22: 05 46 45 05 50 | N22: atlanticoque@wanadoo.fr | P22: =IF(J22<>"",VLOOKUP(J22,Feuil4!$A$2:$C$2501,3,FALSE),"") -> 50% Société - 50% Collaborateur | Q22: 34007 | R22: MANGIN | S22: PASCAL | T22: 546450550 | U22: atlanticoque@wanadoo.fr | V22: =IF(Q22<>"",VLOOKUP(Q22,Feuil4!$A$2:$C$2501,3,FALSE),"") -> 50% Société - 50% Collaborateur | W22: 39267 | X22: SENECHAL | Y22: CHRISTINE | Z22: 546450550
A23: 17 | B23: 17000 | C23: LA ROCHELLE | D23: 37289 | E23: RHEA MARINE | F23: RUE ELIE BARREAU | H23: 05 46 41 60 20 | I23: contact@rhea-marine.fr | K23: DANGLADE | L23: BERTRAND | P23: =IF(J23<>"",VLOOKUP(J23,Feuil4!$A$2:$C$2501,3,FALSE),"") | Q23: 37294 | R23: FRANCONY | S23: FLORENCE | T23: 546416020 | U23: contact@rhea-marine.fr | V23: =IF(Q23<>"",VLOOKUP(Q23,Feuil4!$A$2:$C$2501,3,FALSE),"") -> 50% Société - 50% Collaborateur
A24: 17 | B24: 17000 | C24: LA ROCHELLE | D24: 33613 | E24: LAROCQUE YACHTING | F24: 31 QUAI MARILLAC | H24: 546523465 | I24: contact@larocque-yachting.com | J24: 33616 | K24: DE LAROCQUE | L24: GILLES | M24: 546523465 | N24: larocque-yachting@orange.fr | O24: 06 65 54 93 08 | P24: =IF(J24<>"",VLOOKUP(J24,Feuil4!$A$2:$C$2501,3,FALSE),"") -> 50% Société - 50% Collaborateur | V24: =IF(Q24<>"",VLOOKUP(Q24,Feuil4!$A$2:$C$2501,3,FALSE),"")
A25: 17 | B25: 17000 | C25: LA ROCHELLE | D25: 69558 | E25: AMR LOCATION | F25: AVE EMILE NORMANDIN | H25: 06 44 27 29 92 | I25: amrlocation@orange.fr | J25: 69562 | K25: ROUVRAIS | L25: MORGAN | M25: 06 44 27 29 92 | O25: 06 44 27 29 92 | P25: =IF(J25<>"",VLOOKUP(J25,Feuil4!$A$2:$C$2501,3,FALSE),"") -> 50% Société - 50% Collaborateur | V25: =IF(Q25<>"",VLOOKUP(Q25,Feuil4!$A$2:$C$2501,3,FALSE),"")
A26: 17 | B26: 17000 | C26: LA ROCHELLE | D26: 69127 | E26: ANTIPODE | F26: 15 RUE BRIGANTINE | H26: 06 46 68 29 94 | I26: fk@antiode-yachts.com | J26: 69131 | K26: KAUFMANN | L26: FREDERIQUE | P26: =IF(J26<>"",VLOOKUP(J26,Feuil4!$A$2:$C$2501,3,FALSE),"") -> 50% Société - 50% Collaborateur | V26: =IF(Q26<>"",VLOOKUP(Q26,Feuil4!$A$2:$C$2501,3,FALSE),"")
A27: 17 | B27: 17000 | C27: LA ROCHELLE | D27: 63713 | E27: NETHUNS | F27: 33 QUAI MARILLAC | G27: 750927436 | H27: 05 46 43 51 40 | I27: nethuns@orange.fr | J27: 67459 | K27: CHARLES | L27: JEROME | M27: 546435140 | N27: nethuns@orange.fr | P27: =IF(J27<>"",VLOOKUP(J27,Feuil4!$A$2:$C$2501,3,FALSE),"") -> 50% Société - 50% Collaborateur | Q27: 67458 | R27: NANGLARD | S27: YANNICK | T27: 637802481 | U27: gestion.nethuns@orange.fr | V27: =IF(Q27<>"",VLOOKUP(Q27,Feuil4!$A$2:$C$2501,3,FALSE),"") -> 50% Société - 50% Collaborateur
A28: 17 | B28: 17000 | C28: LA ROCHELLE | D28: 68711 | E28: 4HAW - VOGAVECMOI | F28: 1 RUE DE LA TRINQUETTE | G28: 51792110200011 | H28: 06 77 29 09 60 | I28: contact@vogavecmoi.com | J28: 68716 | K28: PENOT | L28: ANTOINE | M28: 06 77 29 09 60 | N28: contact@vogavecmoi.com | O28: 06 77 29 09 60 | P28: =IF(J28<>"",VLOOKUP(J28,Feuil4!$A$2:$C$2501,3,FALSE),"") -> 50% Société - 50% Collaborateur | V28: =IF(Q28<>"",VLOOKUP(Q28,Feuil4!$A$2:$C$2501,3,FALSE),"")
A29: 17 | C29: LA ROCHELLE | D29: 30119 | E29: LA ROCHELLE BOAT CENTER HORS SERVICE | H29: 05 46 45 42 72 | P29: =IF(J29<>"",VLOOKUP(J29,Feuil4!$A$2:$C$2501,3,FALSE),"") | V29: =IF(Q29<>"",VLOOKUP(Q29,Feuil4!$A$2:$C$2501,3,FALSE),"")
A30: 17 | C30: LA ROCHELLE | D30: 30202 | E30: MARINA EUROPE | H30: 01 02 03 04 05 | P30: =IF(J30<>"",VLOOKUP(J30,Feuil4!$A$2:$C$2501,3,FALSE),"") | V30: =IF(Q30<>"",VLOOKUP(Q30,Feuil4!$A$2:$C$2501,3,FALSE),"")
A31: 17 | B31: 17000 | C31: LA ROCHELLE | D31: 30283 | E31: DESTINATION OCEAN | F31: QUAI MARILLAC - ZA DES MINIMES | H31: 05 46 45 17 29 | P31: =IF(J31<>"",VLOOKUP(J31,Feuil4!$A$2:$C$2501,3,FALSE),"") | V31: =IF(Q31<>"",VLOOKUP(Q31,Feuil4!$A$2:$C$2501,3,FALSE),"")
A32: 17 | B32: 17000 | C32: LA ROCHELLE | D32: 30303 | E32: TECH NAUTIC | F32: PORT DES MINIMES | H32: 05 46 44 32 80 | J32: 38302 | K32: JEANNEAU | L32: FRANCK | M32: 05 46 44 32 80 | P32: =IF(J32<>"",VLOOKUP(J32,Feuil4!$A$2:$C$2501,3,FALSE),"") -> 50% Société - 50% Collaborateur | V32: =IF(Q32<>"",VLOOKUP(Q32,Feuil4!$A$2:$C$2501,3,FALSE),"")
A33: 17 | B33: 17000 | C33: LA ROCHELLE | D33: 30424 | E33: DE MARTINI FRANCOIS | H33: 05 46 45 42 72 | P33: =IF(J33<>"",VLOOKUP(J33,Feuil4!$A$2:$C$2501,3,FALSE),"") | V33: =IF(Q33<>"",VLOOKUP(Q33,Feuil4!$A$2:$C$2501,3,FALSE),"")
A34: 17 | B34: 17000 | C34: LA ROCHELLE | D34: 30459 | E34: YACHTING SELECTION 17 | F34: AVENUE MARILLAC | H34: 05 46 07 78 00 | I34: la-rochelle@yachting-selection.com | J34: 37244 | K34: BARBIER | L34: SYLVIE | P34: =IF(J34<>"",VLOOKUP(J34,Feuil4!$A$2:$C$2501,3,FALSE),"") -> 50% Société - 50% Collaborateur | V34: =IF(Q34<>"",VLOOKUP(Q34,Feuil4!$A$2:$C$2501,3,FALSE),"")
A35: 17 | B35: 17000 | C35: LA ROCHELLE | D35: 30510 | E35: GRASSI BATEAUX | F35: 5 RUE SENAC DE MEILHAN - PLATEAU NAUTIQUE | G35: 413 843 319 | H35: 05 46 45 40 06 | I35: contact@grassibateaux.com | J35: 32453 | K35: GRASSI | L35: OLIVIER | M35: 05 46 45 40 06 | N35: contact@grassibateaux.com | P35: =IF(J35<>"",VLOOKUP(J35,Feuil4!$A$2:$C$2501,3,FALSE),"") -> 100% Société | Q35: 32238 | R35: GUIHENEUF | S35: LAURENT | T35: 546459077 | U35: contact@grassibateaux.com | V35: =IF(Q35<>"",VLOOKUP(Q35,Feuil4!$A$2:$C$2501,3,FALSE),"") -> 50% Société - 50% Collaborateur | W35: 32542 | X35: GRASSI DARMENDRAIL | Y35: INGRID | Z35: 546454006
A36: 17 | B36: 17000 | C36: LA ROCHELLE | D36: 30520 | E36: YAPLUKA | F36: 13 RUE SENAC DE MEILHAN | H36: 05 46 07 70 77 | P36: =IF(J36<>"",VLOOKUP(J36,Feuil4!$A$2:$C$2501,3,FALSE),"") | V36: =IF(Q36<>"",VLOOKUP(Q36,Feuil4!$A$2:$C$2501,3,FALSE),"")
A37: 17 | B37: 17000 | C37: LA ROCHELLE | D37: 30558 | E37: PLAISANCE ROCHELAISE | F37: AV MICHEL CREPEAU | H37: 05 46 44 48 44 | K37: TRETON | L37: GERARD | P37: =IF(J37<>"",VLOOKUP(J37,Feuil4!$A$2:$C$2501,3,FALSE),"") | V37: =IF(Q37<>"",VLOOKUP(Q37,Feuil4!$A$2:$C$2501,3,FALSE),"")
A38: 17 | B38: 17000 | C38: LA ROCHELLE | D38: 30593 | E38: DUFOUR | P38: =IF(J38<>"",VLOOKUP(J38,Feuil4!$A$2:$C$2501,3,FALSE),"") | V38: =IF(Q38<>"",VLOOKUP(Q38,Feuil4!$A$2:$C$2501,3,FALSE),"")
A39: 17 | B39: 17000 | C39: LA ROCHELLE | D39: 31305 | E39: HUNTER LA ROCHELLE | F39: AV MICHEL CREPEAU | H39: 05 46 44 48 44 | K39: TRETON | L39: GERARD | M39: 05 46 44 48 44 | N39: AZURPERF@WANADOO.FR | O39: 05 46 44 95 84 | P39: =IF(J39<>"",VLOOKUP(J39,Feuil4!$A$2:$C$2501,3,FALSE),"") | Q39: 32331 | R39: RUILLAT | S39: MICHEL | T39: 623151389 | V39: =IF(Q39<>"",VLOOKUP(Q39,Feuil4!$A$2:$C$2501,3,FALSE),"") -> 100% Société
A40: 17 | B40: 17000 | C40: LA ROCHELLE | D40: 31313 | E40: ELITE YACHTING | F40: 56 RUE DE LA TRINQUETTE | H40: 05 46 34 82 22 | K40: HAITCE | L40: OLIVIER | M40: 546348222 | O40: 06 81 78 98 81 | P40: =IF(J40<>"",VLOOKUP(J40,Feuil4!$A$2:$C$2501,3,FALSE),"") | V40: =IF(Q40<>"",VLOOKUP(Q40,Feuil4!$A$2:$C$2501,3,FALSE),"")
...

Sheet Feuil4
A1: no_utilisateur | B1: scenario_retrocession_assurance | C1: libelle
A2: 31029 | B2: 110 | C2: 50% Société - 50% Collaborateur
A3: 32000 | B3: 110 | C3: 50% Société - 50% Collaborateur
A4: 32005 | B4: 110 | C4: 50% Société - 50% Collaborateur
A5: 32008 | B5: 100 | C5: 100% Société
A6: 32009 | B6: 110 | C6: 50% Société - 50% Collaborateur
A7: 32011 | B7: 110 | C7: 50% Société - 50% Collaborateur
A8: 32013 | B8: 110 | C8: 50% Société - 50% Collaborateur
A9: 32014 | B9: 120 | C9: 100% Collaborateur
A10: 32015 | B10: 110 | C10: 50% Société - 50% Collaborateur
A11: 32016 | B11: 110 | C11: 50% Société - 50% Collaborateur
A12: 32017 | B12: 110 | C12: 50% Société - 50% Collaborateur
A13: 32018 | B13: 110 | C13: 50% Société - 50% Collaborateur
... A148: 32187 | B148: 110 | C148: 50% Société - 50% Collaborateur
A149: 32188 | C149: \N
A150: 32190 | B150: 100 | C150: 100% Société
A151: 32191 | B151: 110 | C151: 50% Société - 50% Collaborateur
A152: 32192 | B152: 110 | C152: 50% Société - 50% Collaborateur
A153: 32195 | B153: 110 | C153: 50% Société - 50% Collaborateur
A154: 32196 | B154: 110 | C154: 50% Société - 50% Collaborateur
A155: 32197 | B155: 110 | C155: 50% Société - 50% Collaborateur
A156: 32198 | B156: 110 | C156: 50% Société - 50% Collaborateur
A157: 32199 | B157: 110 | C157: 50% Société - 50% Collaborateur
A158: 32200 | B158: 110 | C158: 50% Société - 50% Collaborateur
A159: 32201 | B159: 110 | C159: 50% Société - 50% Collaborateur
A160: 32202 | B160: 110 | C160: 50% Société - 50% Collaborateur
A161: 32203 | B161: 110 | C161: 50% Société - 50% Collaborateur
... A256: 32322 | B256: 110 | C256: 50% Société - 50% Collaborateur
A257: 32323 | C257: \N
A258: 32324 | B258: 110 | C258: 50% Société - 50% Collaborateur
A259: 32325 | B259: 110 | C259: 50% Société - 50% Collaborateur
A260: 32326 | B260: 110 | C260: 50% Société - 50% Collaborateur
A261: 32327 | B261: 110 | C261: 50% Société - 50% Collaborateur
A262: 32328 | B262: 110 | C262: 50% Société - 50% Collaborateur
A263: 32329 | B263: 110 | C263: 50% Société - 50% Collaborateur
A264: 32330 | B264: 110 | C264: 50% Société - 50% Collaborateur
A265: 32331 | B265: 100 | C265: 100% Société
A266: 32332 | B266: 110 | C266: 50% Société - 50% Collaborateur
A267: 32334 | B267: 110 | C267: 50% Société - 50% Collaborateur
A268: 32335 | B268: 110 | C268: 50% Société - 50% Collaborateur
...

Sheet Feuil1
