Workbook

Sheet Feuil1
A1: Date du jour | B1: Échéances du mois
A2: =TODAY() -> 42212 | B2: =MONTH(TODAY()) -> 7
B3: =IF(AND(Feuil2!B2-TODAY()<=90,Feuil2!B2-TODAY()>=0),Feuil2!A2,"***") -> ***
B4: =IF(AND(Feuil2!B3-TODAY()<=90,Feuil2!B3-TODAY()>=0),Feuil2!A3,"***") -> ***
B5: =IF(AND(Feuil2!B4-TODAY()<=90,Feuil2!B4-TODAY()>=0),Feuil2!A4,"***") -> ***
B6: =IF(AND(Feuil2!B5-TODAY()<=90,Feuil2!B5-TODAY()>=0),Feuil2!A5,"***") -> ***
B7: =IF(AND(Feuil2!B6-TODAY()<=90,Feuil2!B6-TODAY()>=0),Feuil2!A6,"***") -> ***
B8: =IF(AND(Feuil2!B7-TODAY()<=90,Feuil2!B7-TODAY()>=0),Feuil2!A7,"***") -> ***
B9: =IF(AND(Feuil2!B8-TODAY()<=90,Feuil2!B8-TODAY()>=0),Feuil2!A8,"***") -> G
B10: =IF(AND(Feuil2!B9-TODAY()<=90,Feuil2!B9-TODAY()>=0),Feuil2!A9,"***") -> H
B11: =IF(AND(Feuil2!B10-TODAY()<=90,Feuil2!B10-TODAY()>=0),Feuil2!A10,"***") -> I
B12: =IF(AND(Feuil2!B11-TODAY()<=90,Feuil2!B11-TODAY()>=0),Feuil2!A11,"***") -> ***
B13: =IF(AND(Feuil2!B12-TODAY()<=90,Feuil2!B12-TODAY()>=0),Feuil2!A12,"***") -> ***
B14: =IF(AND(Feuil2!B13-TODAY()<=90,Feuil2!B13-TODAY()>=0),Feuil2!A13,"***") -> ***
... B22: =IF(AND(Feuil2!B21-TODAY()<=90,Feuil2!B21-TODAY()>=0),Feuil2!A21,"***") -> ***

Sheet Feuil2
A1: Opérateur | B1: FDV
A2: A | B2: 42370
A3: B | B3: 42050
A4: C | B4: 42102
A5: D | B5: 42143
A6: E | B6: 42177
A7: F | B7: 42186
A8: G | B8: 42225
A9: H | B9: 42276
A10: I | B10: 42279
A11: J | B11: 42313
A12: K | B12: 42348
A13: L | B13: 42106
... A21: T | B21: 42307

Sheet Feuil3
