Workbook

Sheet planning professeur
B1: M. DUPOIS | C1: MME LEBAT | D1: MME RILES | E1: M. CAMARA | F1: MME VIAL | G1: M. DURAND
A2: 9.375 | B2: ASPI
A3: =A2+"0:15" -> 9.3854167 | B3: BAD | F3: PERON | G3: SOW
A4: =A3+"0:15" -> 9.3958333 | C4: BELH
A5: =A4+"0:15" -> 9.40625 | C5: CAM | G5: SILLAH
A6: =A5+"0:15" -> 9.4166667 | D6: DRA | F6: SALL
A7: =A6+"0:15" -> 9.4270833 | D7: DJUR | G7: CLERI
A8: =A7+"0:15" -> 9.4375 | E8: IZEM
A9: =A8+"0:15" -> 9.4479167 | E9: LOPERA

Sheet planning eleve
C1: 9.375 | D1: =C1+"0:15" -> 9.3854167 | E1: =D1+"0:15" -> 9.3958333 | F1: =E1+"0:15" -> 9.40625 | G1: =F1+"0:15" -> 9.4166667 | H1: =G1+"0:15" -> 9.4270833 | I1: =H1+"0:15" -> 9.4375 | J1: =I1+"0:15" -> 9.4479167
A2: 3 | B2: ASPI | C2: =IF(SUMPRODUCT(('planning professeur'!$B$2:$G$9=$B2)*(ROW('planning professeur'!$B$2:$G$9)=COLUMN()-1)),INDEX('planning professeur'!$B$1:$G$1,SUMPRODUCT(('planning professeur'!$B$2:$G$9=$B2)*COLUMN('planning professeur'!$B$2:$G$9))-1),"") -> M. DUPOIS | D2: =IF(SUMPRODUCT(('planning professeur'!$B$2:$G$9=$B2)*(ROW('planning professeur'!$B$2:$G$9)=COLUMN()-1)),INDEX('planning professeur'!$B$1:$G$1,SUMPRODUCT(('planning professeur'!$B$2:$G$9=$B2)*COLUMN('planning professeur'!$B$2:$G$9))-1),"") | E2: =IF(SUMPRODUCT(('planning professeur'!$B$2:$G$9=$B2)*(ROW('planning professeur'!$B$2:$G$9)=COLUMN()-1)),INDEX('planning professeur'!$B$1:$G$1,SUMPRODUCT(('planning professeur'!$B$2:$G$9=$B2)*COLUMN('planning professeur'!$B$2:$G$9))-1),"") | F2: =IF(SUMPRODUCT(('planning professeur'!$B$2:$G$9=$B2)*(ROW('planning professeur'!$B$2:$G$9)=COLUMN()-1)),INDEX('planning professeur'!$B$1:$G$1,SUMPRODUCT(('planning professeur'!$B$2:$G$9=$B2)*COLUMN('planning professeur'!$B$2:$G$9))-1),"") | G2: =IF(SUMPRODUCT(('planning professeur'!$B$2:$G$9=$B2)*(ROW('planning professeur'!$B$2:$G$9)=COLUMN()-1)),INDEX('planning professeur'!$B$1:$G$1,SUMPRODUCT(('planning professeur'!$B$2:$G$9=$B2)*COLUMN('planning professeur'!$B$2:$G$9))-1),"") | H2: =IF(SUMPRODUCT(('planning professeur'!$B$2:$G$9=$B2)*(ROW('planning professeur'!$B$2:$G$9)=COLUMN()-1)),INDEX('planning professeur'!$B$1:$G$1,SUMPRODUCT(('planning professeur'!$B$2:$G$9=$B2)*COLUMN('planning professeur'!$B$2:$G$9))-1),"") | I2: =IF(SUMPRODUCT(('planning professeur'!$B$2:$G$9=$B2)*(ROW('planning professeur'!$B$2:$G$9)=COLUMN()-1)),INDEX('planning professeur'!$B$1:$G$1,SUMPRODUCT(('planning professeur'!$B$2:$G$9=$B2)*COLUMN('planning professeur'!$B$2:$G$9))-1),"") | J2: =IF(SUMPRODUCT(('planning professeur'!$B$2:$G$9=$B2)*(ROW('planning professeur'!$B$2:$G$9)=COLUMN()-1)),INDEX('planning professeur'!$B$1:$G$1,SUMPRODUCT(('planning professeur'!$B$2:$G$9=$B2)*COLUMN('planning professeur'!$B$2:$G$9))-1),"")
A3: 3 | B3: BAD | C3: =IF(SUMPRODUCT(('planning professeur'!$B$2:$G$9=$B3)*(ROW('planning professeur'!$B$2:$G$9)=COLUMN()-1)),INDEX('planning professeur'!$B$1:$G$1,SUMPRODUCT(('planning professeur'!$B$2:$G$9=$B3)*COLUMN('planning professeur'!$B$2:$G$9))-1),"") | D3: =IF(SUMPRODUCT(('planning professeur'!$B$2:$G$9=$B3)*(ROW('planning professeur'!$B$2:$G$9)=COLUMN()-1)),INDEX('planning professeur'!$B$1:$G$1,SUMPRODUCT(('planning professeur'!$B$2:$G$9=$B3)*COLUMN('planning professeur'!$B$2:$G$9))-1),"") -> M. DUPOIS | E3: =IF(SUMPRODUCT(('planning professeur'!$B$2:$G$9=$B3)*(ROW('planning professeur'!$B$2:$G$9)=COLUMN()-1)),INDEX('planning professeur'!$B$1:$G$1,SUMPRODUCT(('planning professeur'!$B$2:$G$9=$B3)*COLUMN('planning professeur'!$B$2:$G$9))-1),"") | F3: =IF(SUMPRODUCT(('planning professeur'!$B$2:$G$9=$B3)*(ROW('planning professeur'!$B$2:$G$9)=COLUMN()-1)),INDEX('planning professeur'!$B$1:$G$1,SUMPRODUCT(('planning professeur'!$B$2:$G$9=$B3)*COLUMN('planning professeur'!$B$2:$G$9))-1),"") | G3: =IF(SUMPRODUCT(('planning professeur'!$B$2:$G$9=$B3)*(ROW('planning professeur'!$B$2:$G$9)=COLUMN()-1)),INDEX('planning professeur'!$B$1:$G$1,SUMPRODUCT(('planning professeur'!$B$2:$G$9=$B3)*COLUMN('planning professeur'!$B$2:$G$9))-1),"") | H3: =IF(SUMPRODUCT(('planning professeur'!$B$2:$G$9=$B3)*(ROW('planning professeur'!$B$2:$G$9)=COLUMN()-1)),INDEX('planning professeur'!$B$1:$G$1,SUMPRODUCT(('planning professeur'!$B$2:$G$9=$B3)*COLUMN('planning professeur'!$B$2:$G$9))-1),"") | I3: =IF(SUMPRODUCT(('planning professeur'!$B$2:$G$9=$B3)*(ROW('planning professeur'!$B$2:$G$9)=COLUMN()-1)),INDEX('planning professeur'!$B$1:$G$1,SUMPRODUCT(('planning professeur'!$B$2:$G$9=$B3)*COLUMN('planning professeur'!$B$2:$G$9))-1),"") | J3: =IF(SUMPRODUCT(('planning professeur'!$B$2:$G$9=$B3)*(ROW('planning professeur'!$B$2:$G$9)=COLUMN()-1)),INDEX('planning professeur'!$B$1:$G$1,SUMPRODUCT(('planning professeur'!$B$2:$G$9=$B3)*COLUMN('planning professeur'!$B$2:$G$9))-1),"")
A4: 3 | B4: BELH | C4: =IF(SUMPRODUCT(('planning professeur'!$B$2:$G$9=$B4)*(ROW('planning professeur'!$B$2:$G$9)=COLUMN()-1)),INDEX('planning professeur'!$B$1:$G$1,SUMPRODUCT(('planning professeur'!$B$2:$G$9=$B4)*COLUMN('planning professeur'!$B$2:$G$9))-1),"") | D4: =IF(SUMPRODUCT(('planning professeur'!$B$2:$G$9=$B4)*(ROW('planning professeur'!$B$2:$G$9)=COLUMN()-1)),INDEX('planning professeur'!$B$1:$G$1,SUMPRODUCT(('planning professeur'!$B$2:$G$9=$B4)*COLUMN('planning professeur'!$B$2:$G$9))-1),"") | E4: =IF(SUMPRODUCT(('planning professeur'!$B$2:$G$9=$B4)*(ROW('planning professeur'!$B$2:$G$9)=COLUMN()-1)),INDEX('planning professeur'!$B$1:$G$1,SUMPRODUCT(('planning professeur'!$B$2:$G$9=$B4)*COLUMN('planning professeur'!$B$2:$G$9))-1),"") -> MME LEBAT | F4: =IF(SUMPRODUCT(('planning professeur'!$B$2:$G$9=$B4)*(ROW('planning professeur'!$B$2:$G$9)=COLUMN()-1)),INDEX('planning professeur'!$B$1:$G$1,SUMPRODUCT(('planning professeur'!$B$2:$G$9=$B4)*COLUMN('planning professeur'!$B$2:$G$9))-1),"") | G4: =IF(SUMPRODUCT(('planning professeur'!$B$2:$G$9=$B4)*(ROW('planning professeur'!$B$2:$G$9)=COLUMN()-1)),INDEX('planning professeur'!$B$1:$G$1,SUMPRODUCT(('planning professeur'!$B$2:$G$9=$B4)*COLUMN('planning professeur'!$B$2:$G$9))-1),"") | H4: =IF(SUMPRODUCT(('planning professeur'!$B$2:$G$9=$B4)*(ROW('planning professeur'!$B$2:$G$9)=COLUMN()-1)),INDEX('planning professeur'!$B$1:$G$1,SUMPRODUCT(('planning professeur'!$B$2:$G$9=$B4)*COLUMN('planning professeur'!$B$2:$G$9))-1),"") | I4: =IF(SUMPRODUCT(('planning professeur'!$B$2:$G$9=$B4)*(ROW('planning professeur'!$B$2:$G$9)=COLUMN()-1)),INDEX('planning professeur'!$B$1:$G$1,SUMPRODUCT(('planning professeur'!$B$2:$G$9=$B4)*COLUMN('planning professeur'!$B$2:$G$9))-1),"") | J4: =IF(SUMPRODUCT(('planning professeur'!$B$2:$G$9=$B4)*(ROW('planning professeur'!$B$2:$G$9)=COLUMN()-1)),INDEX('planning professeur'!$B$1:$G$1,SUMPRODUCT(('planning professeur'!$B$2:$G$9=$B4)*COLUMN('planning professeur'!$B$2:$G$9))-1),"")
A5: 3 | B5: CAM | C5: =IF(SUMPRODUCT(('planning professeur'!$B$2:$G$9=$B5)*(ROW('planning professeur'!$B$2:$G$9)=COLUMN()-1)),INDEX('planning professeur'!$B$1:$G$1,SUMPRODUCT(('planning professeur'!$B$2:$G$9=$B5)*COLUMN('planning professeur'!$B$2:$G$9))-1),"") | D5: =IF(SUMPRODUCT(('planning professeur'!$B$2:$G$9=$B5)*(ROW('planning professeur'!$B$2:$G$9)=COLUMN()-1)),INDEX('planning professeur'!$B$1:$G$1,SUMPRODUCT(('planning professeur'!$B$2:$G$9=$B5)*COLUMN('planning professeur'!$B$2:$G$9))-1),"") | E5: =IF(SUMPRODUCT(('planning professeur'!$B$2:$G$9=$B5)*(ROW('planning professeur'!$B$2:$G$9)=COLUMN()-1)),INDEX('planning professeur'!$B$1:$G$1,SUMPRODUCT(('planning professeur'!$B$2:$G$9=$B5)*COLUMN('planning professeur'!$B$2:$G$9))-1),"") | F5: =IF(SUMPRODUCT(('planning professeur'!$B$2:$G$9=$B5)*(ROW('planning professeur'!$B$2:$G$9)=COLUMN()-1)),INDEX('planning professeur'!$B$1:$G$1,SUMPRODUCT(('planning professeur'!$B$2:$G$9=$B5)*COLUMN('planning professeur'!$B$2:$G$9))-1),"") -> MME LEBAT | G5: =IF(SUMPRODUCT(('planning professeur'!$B$2:$G$9=$B5)*(ROW('planning professeur'!$B$2:$G$9)=COLUMN()-1)),INDEX('planning professeur'!$B$1:$G$1,SUMPRODUCT(('planning professeur'!$B$2:$G$9=$B5)*COLUMN('planning professeur'!$B$2:$G$9))-1),"") | H5: =IF(SUMPRODUCT(('planning professeur'!$B$2:$G$9=$B5)*(ROW('planning professeur'!$B$2:$G$9)=COLUMN()-1)),INDEX('planning professeur'!$B$1:$G$1,SUMPRODUCT(('planning professeur'!$B$2:$G$9=$B5)*COLUMN('planning professeur'!$B$2:$G$9))-1),"") | I5: =IF(SUMPRODUCT(('planning professeur'!$B$2:$G$9=$B5)*(ROW('planning professeur'!$B$2:$G$9)=COLUMN()-1)),INDEX('planning professeur'!$B$1:$G$1,SUMPRODUCT(('planning professeur'!$B$2:$G$9=$B5)*COLUMN('planning professeur'!$B$2:$G$9))-1),"") | J5: =IF(SUMPRODUCT(('planning professeur'!$B$2:$G$9=$B5)*(ROW('planning professeur'!$B$2:$G$9)=COLUMN()-1)),INDEX('planning professeur'!$B$1:$G$1,SUMPRODUCT(('planning professeur'!$B$2:$G$9=$B5)*COLUMN('planning professeur'!$B$2:$G$9))-1),"")
A6: 3 | B6: CHAO | C6: =IF(SUMPRODUCT(('planning professeur'!$B$2:$G$9=$B6)*(ROW('planning professeur'!$B$2:$G$9)=COLUMN()-1)),INDEX('planning professeur'!$B$1:$G$1,SUMPRODUCT(('planning professeur'!$B$2:$G$9=$B6)*COLUMN('planning professeur'!$B$2:$G$9))-1),"") | D6: =IF(SUMPRODUCT(('planning professeur'!$B$2:$G$9=$B6)*(ROW('planning professeur'!$B$2:$G$9)=COLUMN()-1)),INDEX('planning professeur'!$B$1:$G$1,SUMPRODUCT(('planning professeur'!$B$2:$G$9=$B6)*COLUMN('planning professeur'!$B$2:$G$9))-1),"") | E6: =IF(SUMPRODUCT(('planning professeur'!$B$2:$G$9=$B6)*(ROW('planning professeur'!$B$2:$G$9)=COLUMN()-1)),INDEX('planning professeur'!$B$1:$G$1,SUMPRODUCT(('planning professeur'!$B$2:$G$9=$B6)*COLUMN('planning professeur'!$B$2:$G$9))-1),"") | F6: =IF(SUMPRODUCT(('planning professeur'!$B$2:$G$9=$B6)*(ROW('planning professeur'!$B$2:$G$9)=COLUMN()-1)),INDEX('planning professeur'!$B$1:$G$1,SUMPRODUCT(('planning professeur'!$B$2:$G$9=$B6)*COLUMN('planning professeur'!$B$2:$G$9))-1),"") | G6: =IF(SUMPRODUCT(('planning professeur'!$B$2:$G$9=$B6)*(ROW('planning professeur'!$B$2:$G$9)=COLUMN()-1)),INDEX('planning professeur'!$B$1:$G$1,SUMPRODUCT(('planning professeur'!$B$2:$G$9=$B6)*COLUMN('planning professeur'!$B$2:$G$9))-1),"") | H6: =IF(SUMPRODUCT(('planning professeur'!$B$2:$G$9=$B6)*(ROW('planning professeur'!$B$2:$G$9)=COLUMN()-1)),INDEX('planning professeur'!$B$1:$G$1,SUMPRODUCT(('planning professeur'!$B$2:$G$9=$B6)*COLUMN('planning professeur'!$B$2:$G$9))-1),"") | I6: =IF(SUMPRODUCT(('planning professeur'!$B$2:$G$9=$B6)*(ROW('planning professeur'!$B$2:$G$9)=COLUMN()-1)),INDEX('planning professeur'!$B$1:$G$1,SUMPRODUCT(('planning professeur'!$B$2:$G$9=$B6)*COLUMN('planning professeur'!$B$2:$G$9))-1),"") | J6: =IF(SUMPRODUCT(('planning professeur'!$B$2:$G$9=$B6)*(ROW('planning professeur'!$B$2:$G$9)=COLUMN()-1)),INDEX('planning professeur'!$B$1:$G$1,SUMPRODUCT(('planning professeur'!$B$2:$G$9=$B6)*COLUMN('planning professeur'!$B$2:$G$9))-1),"")
A7: 3 | B7: CLERI | C7: =IF(SUMPRODUCT(('planning professeur'!$B$2:$G$9=$B7)*(ROW('planning professeur'!$B$2:$G$9)=COLUMN()-1)),INDEX('planning professeur'!$B$1:$G$1,SUMPRODUCT(('planning professeur'!$B$2:$G$9=$B7)*COLUMN('planning professeur'!$B$2:$G$9))-1),"") | D7: =IF(SUMPRODUCT(('planning professeur'!$B$2:$G$9=$B7)*(ROW('planning professeur'!$B$2:$G$9)=COLUMN()-1)),INDEX('planning professeur'!$B$1:$G$1,SUMPRODUCT(('planning professeur'!$B$2:$G$9=$B7)*COLUMN('planning professeur'!$B$2:$G$9))-1),"") | E7: =IF(SUMPRODUCT(('planning professeur'!$B$2:$G$9=$B7)*(ROW('planning professeur'!$B$2:$G$9)=COLUMN()-1)),INDEX('planning professeur'!$B$1:$G$1,SUMPRODUCT(('planning professeur'!$B$2:$G$9=$B7)*COLUMN('planning professeur'!$B$2:$G$9))-1),"") | F7: =IF(SUMPRODUCT(('planning professeur'!$B$2:$G$9=$B7)*(ROW('planning professeur'!$B$2:$G$9)=COLUMN()-1)),INDEX('planning professeur'!$B$1:$G$1,SUMPRODUCT(('planning professeur'!$B$2:$G$9=$B7)*COLUMN('planning professeur'!$B$2:$G$9))-1),"") | G7: =IF(SUMPRODUCT(('planning professeur'!$B$2:$G$9=$B7)*(ROW('planning professeur'!$B$2:$G$9)=COLUMN()-1)),INDEX('planning professeur'!$B$1:$G$1,SUMPRODUCT(('planning professeur'!$B$2:$G$9=$B7)*COLUMN('planning professeur'!$B$2:$G$9))-1),"") | H7: =IF(SUMPRODUCT(('planning professeur'!$B$2:$G$9=$B7)*(ROW('planning professeur'!$B$2:$G$9)=COLUMN()-1)),INDEX('planning professeur'!$B$1:$G$1,SUMPRODUCT(('planning professeur'!$B$2:$G$9=$B7)*COLUMN('planning professeur'!$B$2:$G$9))-1),"") -> M. DURAND | I7: =IF(SUMPRODUCT(('planning professeur'!$B$2:$G$9=$B7)*(ROW('planning professeur'!$B$2:$G$9)=COLUMN()-1)),INDEX('planning professeur'!$B$1:$G$1,SUMPRODUCT(('planning professeur'!$B$2:$G$9=$B7)*COLUMN('planning professeur'!$B$2:$G$9))-1),"") | J7: =IF(SUMPRODUCT(('planning professeur'!$B$2:$G$9=$B7)*(ROW('planning professeur'!$B$2:$G$9)=COLUMN()-1)),INDEX('planning professeur'!$B$1:$G$1,SUMPRODUCT(('planning professeur'!$B$2:$G$9=$B7)*COLUMN('planning professeur'!$B$2:$G$9))-1),"")
A8: 3 | B8: DJUR | C8: =IF(SUMPRODUCT(('planning professeur'!$B$2:$G$9=$B8)*(ROW('planning professeur'!$B$2:$G$9)=COLUMN()-1)),INDEX('planning professeur'!$B$1:$G$1,SUMPRODUCT(('planning professeur'!$B$2:$G$9=$B8)*COLUMN('planning professeur'!$B$2:$G$9))-1),"") | D8: =IF(SUMPRODUCT(('planning professeur'!$B$2:$G$9=$B8)*(ROW('planning professeur'!$B$2:$G$9)=COLUMN()-1)),INDEX('planning professeur'!$B$1:$G$1,SUMPRODUCT(('planning professeur'!$B$2:$G$9=$B8)*COLUMN('planning professeur'!$B$2:$G$9))-1),"") | E8: =IF(SUMPRODUCT(('planning professeur'!$B$2:$G$9=$B8)*(ROW('planning professeur'!$B$2:$G$9)=COLUMN()-1)),INDEX('planning professeur'!$B$1:$G$1,SUMPRODUCT(('planning professeur'!$B$2:$G$9=$B8)*COLUMN('planning professeur'!$B$2:$G$9))-1),"") | F8: =IF(SUMPRODUCT(('planning professeur'!$B$2:$G$9=$B8)*(ROW('planning professeur'!$B$2:$G$9)=COLUMN()-1)),INDEX('planning professeur'!$B$1:$G$1,SUMPRODUCT(('planning professeur'!$B$2:$G$9=$B8)*COLUMN('planning professeur'!$B$2:$G$9))-1),"") | G8: =IF(SUMPRODUCT(('planning professeur'!$B$2:$G$9=$B8)*(ROW('planning professeur'!$B$2:$G$9)=COLUMN()-1)),INDEX('planning professeur'!$B$1:$G$1,SUMPRODUCT(('planning professeur'!$B$2:$G$9=$B8)*COLUMN('planning professeur'!$B$2:$G$9))-1),"") | H8: =IF(SUMPRODUCT(('planning professeur'!$B$2:$G$9=$B8)*(ROW('planning professeur'!$B$2:$G$9)=COLUMN()-1)),INDEX('planning professeur'!$B$1:$G$1,SUMPRODUCT(('planning professeur'!$B$2:$G$9=$B8)*COLUMN('planning professeur'!$B$2:$G$9))-1),"") -> MME RILES | I8: =IF(SUMPRODUCT(('planning professeur'!$B$2:$G$9=$B8)*(ROW('planning professeur'!$B$2:$G$9)=COLUMN()-1)),INDEX('planning professeur'!$B$1:$G$1,SUMPRODUCT(('planning professeur'!$B$2:$G$9=$B8)*COLUMN('planning professeur'!$B$2:$G$9))-1),"") | J8: =IF(SUMPRODUCT(('planning professeur'!$B$2:$G$9=$B8)*(ROW('planning professeur'!$B$2:$G$9)=COLUMN()-1)),INDEX('planning professeur'!$B$1:$G$1,SUMPRODUCT(('planning professeur'!$B$2:$G$9=$B8)*COLUMN('planning professeur'!$B$2:$G$9))-1),"")
A9: 3 | B9: DRA | C9: =IF(SUMPRODUCT(('planning professeur'!$B$2:$G$9=$B9)*(ROW('planning professeur'!$B$2:$G$9)=COLUMN()-1)),INDEX('planning professeur'!$B$1:$G$1,SUMPRODUCT(('planning professeur'!$B$2:$G$9=$B9)*COLUMN('planning professeur'!$B$2:$G$9))-1),"") | D9: =IF(SUMPRODUCT(('planning professeur'!$B$2:$G$9=$B9)*(ROW('planning professeur'!$B$2:$G$9)=COLUMN()-1)),INDEX('planning professeur'!$B$1:$G$1,SUMPRODUCT(('planning professeur'!$B$2:$G$9=$B9)*COLUMN('planning professeur'!$B$2:$G$9))-1),"") | E9: =IF(SUMPRODUCT(('planning professeur'!$B$2:$G$9=$B9)*(ROW('planning professeur'!$B$2:$G$9)=COLUMN()-1)),INDEX('planning professeur'!$B$1:$G$1,SUMPRODUCT(('planning professeur'!$B$2:$G$9=$B9)*COLUMN('planning professeur'!$B$2:$G$9))-1),"") | F9: =IF(SUMPRODUCT(('planning professeur'!$B$2:$G$9=$B9)*(ROW('planning professeur'!$B$2:$G$9)=COLUMN()-1)),INDEX('planning professeur'!$B$1:$G$1,SUMPRODUCT(('planning professeur'!$B$2:$G$9=$B9)*COLUMN('planning professeur'!$B$2:$G$9))-1),"") | G9: =IF(SUMPRODUCT(('planning professeur'!$B$2:$G$9=$B9)*(ROW('planning professeur'!$B$2:$G$9)=COLUMN()-1)),INDEX('planning professeur'!$B$1:$G$1,SUMPRODUCT(('planning professeur'!$B$2:$G$9=$B9)*COLUMN('planning professeur'!$B$2:$G$9))-1),"") -> MME RILES | H9: =IF(SUMPRODUCT(('planning professeur'!$B$2:$G$9=$B9)*(ROW('planning professeur'!$B$2:$G$9)=COLUMN()-1)),INDEX('planning professeur'!$B$1:$G$1,SUMPRODUCT(('planning professeur'!$B$2:$G$9=$B9)*COLUMN('planning professeur'!$B$2:$G$9))-1),"") | I9: =IF(SUMPRODUCT(('planning professeur'!$B$2:$G$9=$B9)*(ROW('planning professeur'!$B$2:$G$9)=COLUMN()-1)),INDEX('planning professeur'!$B$1:$G$1,SUMPRODUCT(('planning professeur'!$B$2:$G$9=$B9)*COLUMN('planning professeur'!$B$2:$G$9))-1),"") | J9: =IF(SUMPRODUCT(('planning professeur'!$B$2:$G$9=$B9)*(ROW('planning professeur'!$B$2:$G$9)=COLUMN()-1)),INDEX('planning professeur'!$B$1:$G$1,SUMPRODUCT(('planning professeur'!$B$2:$G$9=$B9)*COLUMN('planning professeur'!$B$2:$G$9))-1),"")
A10: 3 | B10: EUST | C10: =IF(SUMPRODUCT(('planning professeur'!$B$2:$G$9=$B10)*(ROW('planning professeur'!$B$2:$G$9)=COLUMN()-1)),INDEX('planning professeur'!$B$1:$G$1,SUMPRODUCT(('planning professeur'!$B$2:$G$9=$B10)*COLUMN('planning professeur'!$B$2:$G$9))-1),"") | D10: =IF(SUMPRODUCT(('planning professeur'!$B$2:$G$9=$B10)*(ROW('planning professeur'!$B$2:$G$9)=COLUMN()-1)),INDEX('planning professeur'!$B$1:$G$1,SUMPRODUCT(('planning professeur'!$B$2:$G$9=$B10)*COLUMN('planning professeur'!$B$2:$G$9))-1),"") | E10: =IF(SUMPRODUCT(('planning professeur'!$B$2:$G$9=$B10)*(ROW('planning professeur'!$B$2:$G$9)=COLUMN()-1)),INDEX('planning professeur'!$B$1:$G$1,SUMPRODUCT(('planning professeur'!$B$2:$G$9=$B10)*COLUMN('planning professeur'!$B$2:$G$9))-1),"") | F10: =IF(SUMPRODUCT(('planning professeur'!$B$2:$G$9=$B10)*(ROW('planning professeur'!$B$2:$G$9)=COLUMN()-1)),INDEX('planning professeur'!$B$1:$G$1,SUMPRODUCT(('planning professeur'!$B$2:$G$9=$B10)*COLUMN('planning professeur'!$B$2:$G$9))-1),"") | G10: =IF(SUMPRODUCT(('planning professeur'!$B$2:$G$9=$B10)*(ROW('planning professeur'!$B$2:$G$9)=COLUMN()-1)),INDEX('planning professeur'!$B$1:$G$1,SUMPRODUCT(('planning professeur'!$B$2:$G$9=$B10)*COLUMN('planning professeur'!$B$2:$G$9))-1),"") | H10: =IF(SUMPRODUCT(('planning professeur'!$B$2:$G$9=$B10)*(ROW('planning professeur'!$B$2:$G$9)=COLUMN()-1)),INDEX('planning professeur'!$B$1:$G$1,SUMPRODUCT(('planning professeur'!$B$2:$G$9=$B10)*COLUMN('planning professeur'!$B$2:$G$9))-1),"") | I10: =IF(SUMPRODUCT(('planning professeur'!$B$2:$G$9=$B10)*(ROW('planning professeur'!$B$2:$G$9)=COLUMN()-1)),INDEX('planning professeur'!$B$1:$G$1,SUMPRODUCT(('planning professeur'!$B$2:$G$9=$B10)*COLUMN('planning professeur'!$B$2:$G$9))-1),"") | J10: =IF(SUMPRODUCT(('planning professeur'!$B$2:$G$9=$B10)*(ROW('planning professeur'!$B$2:$G$9)=COLUMN()-1)),INDEX('planning professeur'!$B$1:$G$1,SUMPRODUCT(('planning professeur'!$B$2:$G$9=$B10)*COLUMN('planning professeur'!$B$2:$G$9))-1),"")
A11: 3 | B11: FOF | C11: =IF(SUMPRODUCT(('planning professeur'!$B$2:$G$9=$B11)*(ROW('planning professeur'!$B$2:$G$9)=COLUMN()-1)),INDEX('planning professeur'!$B$1:$G$1,SUMPRODUCT(('planning professeur'!$B$2:$G$9=$B11)*COLUMN('planning professeur'!$B$2:$G$9))-1),"") | D11: =IF(SUMPRODUCT(('planning professeur'!$B$2:$G$9=$B11)*(ROW('planning professeur'!$B$2:$G$9)=COLUMN()-1)),INDEX('planning professeur'!$B$1:$G$1,SUMPRODUCT(('planning professeur'!$B$2:$G$9=$B11)*COLUMN('planning professeur'!$B$2:$G$9))-1),"") | E11: =IF(SUMPRODUCT(('planning professeur'!$B$2:$G$9=$B11)*(ROW('planning professeur'!$B$2:$G$9)=COLUMN()-1)),INDEX('planning professeur'!$B$1:$G$1,SUMPRODUCT(('planning professeur'!$B$2:$G$9=$B11)*COLUMN('planning professeur'!$B$2:$G$9))-1),"") | F11: =IF(SUMPRODUCT(('planning professeur'!$B$2:$G$9=$B11)*(ROW('planning professeur'!$B$2:$G$9)=COLUMN()-1)),INDEX('planning professeur'!$B$1:$G$1,SUMPRODUCT(('planning professeur'!$B$2:$G$9=$B11)*COLUMN('planning professeur'!$B$2:$G$9))-1),"") | G11: =IF(SUMPRODUCT(('planning professeur'!$B$2:$G$9=$B11)*(ROW('planning professeur'!$B$2:$G$9)=COLUMN()-1)),INDEX('planning professeur'!$B$1:$G$1,SUMPRODUCT(('planning professeur'!$B$2:$G$9=$B11)*COLUMN('planning professeur'!$B$2:$G$9))-1),"") | H11: =IF(SUMPRODUCT(('planning professeur'!$B$2:$G$9=$B11)*(ROW('planning professeur'!$B$2:$G$9)=COLUMN()-1)),INDEX('planning professeur'!$B$1:$G$1,SUMPRODUCT(('planning professeur'!$B$2:$G$9=$B11)*COLUMN('planning professeur'!$B$2:$G$9))-1),"") | I11: =IF(SUMPRODUCT(('planning professeur'!$B$2:$G$9=$B11)*(ROW('planning professeur'!$B$2:$G$9)=COLUMN()-1)),INDEX('planning professeur'!$B$1:$G$1,SUMPRODUCT(('planning professeur'!$B$2:$G$9=$B11)*COLUMN('planning professeur'!$B$2:$G$9))-1),"") | J11: =IF(SUMPRODUCT(('planning professeur'!$B$2:$G$9=$B11)*(ROW('planning professeur'!$B$2:$G$9)=COLUMN()-1)),INDEX('planning professeur'!$B$1:$G$1,SUMPRODUCT(('planning professeur'!$B$2:$G$9=$B11)*COLUMN('planning professeur'!$B$2:$G$9))-1),"")
A12: 3 | B12: IZEM | C12: =IF(SUMPRODUCT(('planning professeur'!$B$2:$G$9=$B12)*(ROW('planning professeur'!$B$2:$G$9)=COLUMN()-1)),INDEX('planning professeur'!$B$1:$G$1,SUMPRODUCT(('planning professeur'!$B$2:$G$9=$B12)*COLUMN('planning professeur'!$B$2:$G$9))-1),"") | D12: =IF(SUMPRODUCT(('planning professeur'!$B$2:$G$9=$B12)*(ROW('planning professeur'!$B$2:$G$9)=COLUMN()-1)),INDEX('planning professeur'!$B$1:$G$1,SUMPRODUCT(('planning professeur'!$B$2:$G$9=$B12)*COLUMN('planning professeur'!$B$2:$G$9))-1),"") | E12: =IF(SUMPRODUCT(('planning professeur'!$B$2:$G$9=$B12)*(ROW('planning professeur'!$B$2:$G$9)=COLUMN()-1)),INDEX('planning professeur'!$B$1:$G$1,SUMPRODUCT(('planning professeur'!$B$2:$G$9=$B12)*COLUMN('planning professeur'!$B$2:$G$9))-1),"") | F12: =IF(SUMPRODUCT(('planning professeur'!$B$2:$G$9=$B12)*(ROW('planning professeur'!$B$2:$G$9)=COLUMN()-1)),INDEX('planning professeur'!$B$1:$G$1,SUMPRODUCT(('planning professeur'!$B$2:$G$9=$B12)*COLUMN('planning professeur'!$B$2:$G$9))-1),"") | G12: =IF(SUMPRODUCT(('planning professeur'!$B$2:$G$9=$B12)*(ROW('planning professeur'!$B$2:$G$9)=COLUMN()-1)),INDEX('planning professeur'!$B$1:$G$1,SUMPRODUCT(('planning professeur'!$B$2:$G$9=$B12)*COLUMN('planning professeur'!$B$2:$G$9))-1),"") | H12: =IF(SUMPRODUCT(('planning professeur'!$B$2:$G$9=$B12)*(ROW('planning professeur'!$B$2:$G$9)=COLUMN()-1)),INDEX('planning professeur'!$B$1:$G$1,SUMPRODUCT(('planning professeur'!$B$2:$G$9=$B12)*COLUMN('planning professeur'!$B$2:$G$9))-1),"") | I12: =IF(SUMPRODUCT(('planning professeur'!$B$2:$G$9=$B12)*(ROW('planning professeur'!$B$2:$G$9)=COLUMN()-1)),INDEX('planning professeur'!$B$1:$G$1,SUMPRODUCT(('planning professeur'!$B$2:$G$9=$B12)*COLUMN('planning professeur'!$B$2:$G$9))-1),"") -> M. CAMARA | J12: =IF(SUMPRODUCT(('planning professeur'!$B$2:$G$9=$B12)*(ROW('planning professeur'!$B$2:$G$9)=COLUMN()-1)),INDEX('planning professeur'!$B$1:$G$1,SUMPRODUCT(('planning professeur'!$B$2:$G$9=$B12)*COLUMN('planning professeur'!$B$2:$G$9))-1),"")
A13: 3 | B13: JOAO | C13: =IF(SUMPRODUCT(('planning professeur'!$B$2:$G$9=$B13)*(ROW('planning professeur'!$B$2:$G$9)=COLUMN()-1)),INDEX('planning professeur'!$B$1:$G$1,SUMPRODUCT(('planning professeur'!$B$2:$G$9=$B13)*COLUMN('planning professeur'!$B$2:$G$9))-1),"") | D13: =IF(SUMPRODUCT(('planning professeur'!$B$2:$G$9=$B13)*(ROW('planning professeur'!$B$2:$G$9)=COLUMN()-1)),INDEX('planning professeur'!$B$1:$G$1,SUMPRODUCT(('planning professeur'!$B$2:$G$9=$B13)*COLUMN('planning professeur'!$B$2:$G$9))-1),"") | E13: =IF(SUMPRODUCT(('planning professeur'!$B$2:$G$9=$B13)*(ROW('planning professeur'!$B$2:$G$9)=COLUMN()-1)),INDEX('planning professeur'!$B$1:$G$1,SUMPRODUCT(('planning professeur'!$B$2:$G$9=$B13)*COLUMN('planning professeur'!$B$2:$G$9))-1),"") | F13: =IF(SUMPRODUCT(('planning professeur'!$B$2:$G$9=$B13)*(ROW('planning professeur'!$B$2:$G$9)=COLUMN()-1)),INDEX('planning professeur'!$B$1:$G$1,SUMPRODUCT(('planning professeur'!$B$2:$G$9=$B13)*COLUMN('planning professeur'!$B$2:$G$9))-1),"") | G13: =IF(SUMPRODUCT(('planning professeur'!$B$2:$G$9=$B13)*(ROW('planning professeur'!$B$2:$G$9)=COLUMN()-1)),INDEX('planning professeur'!$B$1:$G$1,SUMPRODUCT(('planning professeur'!$B$2:$G$9=$B13)*COLUMN('planning professeur'!$B$2:$G$9))-1),"") | H13: =IF(SUMPRODUCT(('planning professeur'!$B$2:$G$9=$B13)*(ROW('planning professeur'!$B$2:$G$9)=COLUMN()-1)),INDEX('planning professeur'!$B$1:$G$1,SUMPRODUCT(('planning professeur'!$B$2:$G$9=$B13)*COLUMN('planning professeur'!$B$2:$G$9))-1),"") | I13: =IF(SUMPRODUCT(('planning professeur'!$B$2:$G$9=$B13)*(ROW('planning professeur'!$B$2:$G$9)=COLUMN()-1)),INDEX('planning professeur'!$B$1:$G$1,SUMPRODUCT(('planning professeur'!$B$2:$G$9=$B13)*COLUMN('planning professeur'!$B$2:$G$9))-1),"") | J13: =IF(SUMPRODUCT(('planning professeur'!$B$2:$G$9=$B13)*(ROW('planning professeur'!$B$2:$G$9)=COLUMN()-1)),INDEX('planning professeur'!$B$1:$G$1,SUMPRODUCT(('planning professeur'!$B$2:$G$9=$B13)*COLUMN('planning professeur'!$B$2:$G$9))-1),"")
... A24: 3 | B24: VUNGO | C24: =IF(SUMPRODUCT(('planning professeur'!$B$2:$G$9=$B24)*(ROW('planning professeur'!$B$2:$G$9)=COLUMN()-1)),INDEX('planning professeur'!$B$1:$G$1,SUMPRODUCT(('planning professeur'!$B$2:$G$9=$B24)*COLUMN('planning professeur'!$B$2:$G$9))-1),"") | D24: =IF(SUMPRODUCT(('planning professeur'!$B$2:$G$9=$B24)*(ROW('planning professeur'!$B$2:$G$9)=COLUMN()-1)),INDEX('planning professeur'!$B$1:$G$1,SUMPRODUCT(('planning professeur'!$B$2:$G$9=$B24)*COLUMN('planning professeur'!$B$2:$G$9))-1),"") | E24: =IF(SUMPRODUCT(('planning professeur'!$B$2:$G$9=$B24)*(ROW('planning professeur'!$B$2:$G$9)=COLUMN()-1)),INDEX('planning professeur'!$B$1:$G$1,SUMPRODUCT(('planning professeur'!$B$2:$G$9=$B24)*COLUMN('planning professeur'!$B$2:$G$9))-1),"") | F24: =IF(SUMPRODUCT(('planning professeur'!$B$2:$G$9=$B24)*(ROW('planning professeur'!$B$2:$G$9)=COLUMN()-1)),INDEX('planning professeur'!$B$1:$G$1,SUMPRODUCT(('planning professeur'!$B$2:$G$9=$B24)*COLUMN('planning professeur'!$B$2:$G$9))-1),"") | G24: =IF(SUMPRODUCT(('planning professeur'!$B$2:$G$9=$B24)*(ROW('planning professeur'!$B$2:$G$9)=COLUMN()-1)),INDEX('planning professeur'!$B$1:$G$1,SUMPRODUCT(('planning professeur'!$B$2:$G$9=$B24)*COLUMN('planning professeur'!$B$2:$G$9))-1),"") | H24: =IF(SUMPRODUCT(('planning professeur'!$B$2:$G$9=$B24)*(ROW('planning professeur'!$B$2:$G$9)=COLUMN()-1)),INDEX('planning professeur'!$B$1:$G$1,SUMPRODUCT(('planning professeur'!$B$2:$G$9=$B24)*COLUMN('planning professeur'!$B$2:$G$9))-1),"") | I24: =IF(SUMPRODUCT(('planning professeur'!$B$2:$G$9=$B24)*(ROW('planning professeur'!$B$2:$G$9)=COLUMN()-1)),INDEX('planning professeur'!$B$1:$G$1,SUMPRODUCT(('planning professeur'!$B$2:$G$9=$B24)*COLUMN('planning professeur'!$B$2:$G$9))-1),"") | J24: =IF(SUMPRODUCT(('planning professeur'!$B$2:$G$9=$B24)*(ROW('planning professeur'!$B$2:$G$9)=COLUMN()-1)),INDEX('planning professeur'!$B$1:$G$1,SUMPRODUCT(('planning professeur'!$B$2:$G$9=$B24)*COLUMN('planning professeur'!$B$2:$G$9))-1),"")
