Workbook

Sheet EXTRACTION
A1: Date | B1: N° TIERS | C1: LIBELLE | D1: TTC | E1: HT | F1: COMTE
A2: 42401 | B2: 51302324 | C2: dupont | D2: 1200 | E2: 1000 | F2: 706100
A3: 42410 | B3: 51302325 | C3: DURANT | D3: 2400 | E3: 2000 | F3: 706100
A4: 42415 | B4: 85002360 | C4: duval | D4: 1600 | E4: 1333.33 | F4: 706100
A5: 42416 | B5: 80002400 | C5: bernie | D5: 3200 | E5: 2666.66 | F5: 707100

Sheet OD (2)
A1: Lorsque je copie les 3 premières lignes sur les lignes suivantes,
A2: la formule se décale de 3 cellules à chaque fois sur les zones en jaune
A3: date | B3: Compte | C3: libelle | D3: debit | E3: credit
A4: =OFFSET(EXTRACTION!$A$2,INT(ROW(1:1)/3),) -> 42401 | B4: =OFFSET(EXTRACTION!$F$2,INT(ROW(1:1)/3),) -> 706100 | C4: =OFFSET(EXTRACTION!$C$2,INT(ROW(1:1)/3),) -> dupont | E4: =OFFSET(EXTRACTION!$E$2,INT(ROW(1:1)/3),) -> 1000
A5: =A4 -> 42401 | B5: 445750 | C5: =C4 -> dupont | E5: =E4*0.2 -> 200
A6: =A4 -> 42401 | B6: =OFFSET(EXTRACTION!$B$2,INT(ROW(1:1)/3),) -> 51302324 | C6: =C4 -> dupont | D6: =OFFSET(EXTRACTION!$D$2,INT(ROW(1:1)/3),) -> 1200
A7: =OFFSET(EXTRACTION!$A$2,INT(ROW(4:4)/3),) -> 42410 | B7: =OFFSET(EXTRACTION!$F$2,INT(ROW(4:4)/3),) -> 706100 | C7: =OFFSET(EXTRACTION!$C$2,INT(ROW(4:4)/3),) -> DURANT | E7: =OFFSET(EXTRACTION!$E$2,INT(ROW(4:4)/3),) -> 2000
A8: =A7 -> 42410 | B8: 445751 | C8: =C7 -> DURANT | E8: =E7*0.2 -> 400
A9: =A7 -> 42410 | B9: =OFFSET(EXTRACTION!$B$2,INT(ROW(4:4)/3),) -> 51302325 | C9: =C7 -> DURANT | D9: =OFFSET(EXTRACTION!$D$2,INT(ROW(4:4)/3),) -> 2400
A10: =OFFSET(EXTRACTION!$A$2,INT(ROW(7:7)/3),) -> 42415 | B10: =OFFSET(EXTRACTION!$F$2,INT(ROW(7:7)/3),) -> 706100 | C10: =OFFSET(EXTRACTION!$C$2,INT(ROW(7:7)/3),) -> duval | E10: =OFFSET(EXTRACTION!$E$2,INT(ROW(7:7)/3),) -> 1333.33
A11: =A10 -> 42415 | B11: 445751 | C11: =C10 -> duval | E11: =E10*0.2 -> 266.666
A12: =A10 -> 42415 | B12: =OFFSET(EXTRACTION!$B$2,INT(ROW(7:7)/3),) -> 85002360 | C12: =C10 -> duval | D12: =OFFSET(EXTRACTION!$D$2,INT(ROW(7:7)/3),) -> 1600
A13: =OFFSET(EXTRACTION!$A$2,INT(ROW(10:10)/3),) -> 42416 | B13: =OFFSET(EXTRACTION!$F$2,INT(ROW(10:10)/3),) -> 707100 | C13: =OFFSET(EXTRACTION!$C$2,INT(ROW(10:10)/3),) -> bernie | E13: =OFFSET(EXTRACTION!$E$2,INT(ROW(10:10)/3),) -> 2666.66
A14: =A13 -> 42416 | B14: 445751 | C14: =C13 -> bernie | E14: =E13*0.2 -> 533.332
A15: =A13 -> 42416 | B15: =OFFSET(EXTRACTION!$B$2,INT(ROW(10:10)/3),) -> 80002400 | C15: =C13 -> bernie | D15: =OFFSET(EXTRACTION!$D$2,INT(ROW(10:10)/3),) -> 3200
A17: Est-il possible, qu'en copiant ces trois premières lignes sur les suivantes,
A18: la formule ne se décale que d'une cellule ?
A19: en A5 = EXTRACTION!A3
A20: en B5 = EXTRACTION!F3
A21: EN B7= EXTRACTION!B3
A22: EN C5 = EXTRACTION!C3
A23: EN D7 = EXTRACTION!D3
A24: EN E5 = EXTRACTION!E3
A26: Et ainsi de suite pour arriver à ce résultat
A28: date | B28: Compte | C28: libelle | D28: debit | E28: credit
A29: =+EXTRACTION!A17 -> 0 | B29: =+EXTRACTION!F2 -> 706100 | C29: =+EXTRACTION!C2 -> dupont | E29: =+EXTRACTION!E2 -> 1000
A30: =+A29 -> 0 | B30: 445750 | C30: =+C29 -> dupont | E30: =+E29*0.2 -> 200
A31: =+A30 -> 0 | B31: =+EXTRACTION!B2 -> 51302324 | C31: =+C30 -> dupont | D31: =+EXTRACTION!D2 -> 1200
A32: =+EXTRACTION!A20 -> 0 | B32: =+EXTRACTION!F3 -> 706100 | C32: =+EXTRACTION!C3 -> DURANT | E32: =+EXTRACTION!E3 -> 2000
A33: =+A32 -> 0 | B33: 445750 | C33: =+C32 -> DURANT | E33: =+E32*0.2 -> 400
A34: =+A33 -> 0 | B34: =+EXTRACTION!B3 -> 51302325 | C34: =+C33 -> DURANT | D34: =+EXTRACTION!D3 -> 2400
A35: =+EXTRACTION!A23 -> 0 | B35: =+EXTRACTION!F4 -> 706100 | C35: =+EXTRACTION!C4 -> duval | E35: =+EXTRACTION!E4 -> 1333.33
A36: =+A35 -> 0 | B36: 445750 | C36: =+C35 -> duval | E36: =+E35*0.2 -> 266.666
A37: =+A36 -> 0 | B37: =+EXTRACTION!B4 -> 85002360 | C37: =+C36 -> duval | D37: =+EXTRACTION!D4 -> 1600
A38: =+EXTRACTION!A26 -> 0 | B38: =+EXTRACTION!F5 -> 707100 | C38: =+EXTRACTION!C5 -> bernie | E38: =+EXTRACTION!E5 -> 2666.66
A39: =+A38 -> 0 | B39: 445750 | C39: =+C38 -> bernie | E39: =+E38*0.2 -> 533.332
A40: =+A39 -> 0 | B40: =+EXTRACTION!B5 -> 80002400 | C40: =+C39 -> bernie | D40: =+EXTRACTION!D5 -> 3200
