Workbook
Name Downloads: OFFSET(Intermediaire!$A$1,,,SUMPRODUCT(--ISTEXT(Intermediaire!$A:$A))+1)

Sheet Rapport
B1: 42430 | C1: Télécheargement
A2: 1 | B2: {=INDEX(Downloads,MOD(LARGE(IF(Downloads>"",OFFSET(Downloads,,1)*10000+ROW(Downloads),""),A2),10000))} -> fichier 67 | C2: =LARGE(Intermediaire!$B$3:$B$29,1) -> 24
A3: 2 | B3: {=INDEX(Downloads,MOD(LARGE(IF(Downloads>"",OFFSET(Downloads,,1)*10000+ROW(Downloads),""),A3),10000))} -> fichier 2 | C3: =LARGE(Intermediaire!$B$3:$B$29,2) -> 15
A4: 3 | B4: {=INDEX(Downloads,MOD(LARGE(IF(Downloads>"",OFFSET(Downloads,,1)*10000+ROW(Downloads),""),A4),10000))} -> fichier 55 | C4: =LARGE(Intermediaire!$B$3:$B$29,3) -> 15
A5: 4 | B5: {=INDEX(Downloads,MOD(LARGE(IF(Downloads>"",OFFSET(Downloads,,1)*10000+ROW(Downloads),""),A5),10000))} -> fichier 20 | C5: =LARGE(Intermediaire!$B$3:$B$29,4) -> 13
A6: 5 | B6: {=INDEX(Downloads,MOD(LARGE(IF(Downloads>"",OFFSET(Downloads,,1)*10000+ROW(Downloads),""),A6),10000))} -> fichier 9 | C6: =LARGE(Intermediaire!$B$3:$B$29,5) -> 7

Sheet Intermediaire
A1: Downloads
A3: =IF(ISNA(VLOOKUP($A$1,Données!A1:C1,2,TRUE)),0,VLOOKUP($A$1,Données!A1:C1,2,TRUE)) -> fichier 1 | B3: =IF(ISNA(VLOOKUP($A$1,Données!A1:C1,3,TRUE)),0,VLOOKUP($A$1,Données!A1:C1,3,TRUE)) -> 2 | C3: =IF(ISNA(VLOOKUP($A$1,Données!A1:C1,2,TRUE)),0,VLOOKUP($A$1,Données!A1:C1,2,TRUE)) -> fichier 1
A4: =IF(ISNA(VLOOKUP($A$1,Données!A2:C2,2,TRUE)),0,VLOOKUP($A$1,Données!A2:C2,2,TRUE)) -> fichier 2 | B4: =IF(ISNA(VLOOKUP($A$1,Données!A2:C2,3,TRUE)),0,VLOOKUP($A$1,Données!A2:C2,3,TRUE)) -> 24 | C4: =IF(ISNA(VLOOKUP($A$1,Données!A2:C2,2,TRUE)),0,VLOOKUP($A$1,Données!A2:C2,2,TRUE)) -> fichier 2
A5: =IF(ISNA(VLOOKUP($A$1,Données!A3:C3,2,TRUE)),0,VLOOKUP($A$1,Données!A3:C3,2,TRUE)) -> fichier 3 | B5: =IF(ISNA(VLOOKUP($A$1,Données!A3:C3,3,TRUE)),0,VLOOKUP($A$1,Données!A3:C3,3,TRUE)) -> 2 | C5: =IF(ISNA(VLOOKUP($A$1,Données!A3:C3,2,TRUE)),0,VLOOKUP($A$1,Données!A3:C3,2,TRUE)) -> fichier 3
A6: =IF(ISNA(VLOOKUP($A$1,Données!A4:C4,2,TRUE)),0,VLOOKUP($A$1,Données!A4:C4,2,TRUE)) -> fichier 4 | B6: =IF(ISNA(VLOOKUP($A$1,Données!A4:C4,3,TRUE)),0,VLOOKUP($A$1,Données!A4:C4,3,TRUE)) -> 1 | C6: =IF(ISNA(VLOOKUP($A$1,Données!A4:C4,2,TRUE)),0,VLOOKUP($A$1,Données!A4:C4,2,TRUE)) -> fichier 4
A7: =IF(ISNA(VLOOKUP($A$1,Données!A5:C5,2,TRUE)),0,VLOOKUP($A$1,Données!A5:C5,2,TRUE)) -> fichier 5 | B7: =IF(ISNA(VLOOKUP($A$1,Données!A5:C5,3,TRUE)),0,VLOOKUP($A$1,Données!A5:C5,3,TRUE)) -> 1 | C7: =IF(ISNA(VLOOKUP($A$1,Données!A5:C5,2,TRUE)),0,VLOOKUP($A$1,Données!A5:C5,2,TRUE)) -> fichier 5
A8: =IF(ISNA(VLOOKUP($A$1,Données!A6:C6,2,TRUE)),0,VLOOKUP($A$1,Données!A6:C6,2,TRUE)) -> fichier 6 | B8: =IF(ISNA(VLOOKUP($A$1,Données!A6:C6,3,TRUE)),0,VLOOKUP($A$1,Données!A6:C6,3,TRUE)) -> 1 | C8: =IF(ISNA(VLOOKUP($A$1,Données!A6:C6,2,TRUE)),0,VLOOKUP($A$1,Données!A6:C6,2,TRUE)) -> fichier 6
A9: =IF(ISNA(VLOOKUP($A$1,Données!A7:C7,2,TRUE)),0,VLOOKUP($A$1,Données!A7:C7,2,TRUE)) -> fichier 7 | B9: =IF(ISNA(VLOOKUP($A$1,Données!A7:C7,3,TRUE)),0,VLOOKUP($A$1,Données!A7:C7,3,TRUE)) -> 2 | C9: =IF(ISNA(VLOOKUP($A$1,Données!A7:C7,2,TRUE)),0,VLOOKUP($A$1,Données!A7:C7,2,TRUE)) -> fichier 7
A10: =IF(ISNA(VLOOKUP($A$1,Données!A8:C8,2,TRUE)),0,VLOOKUP($A$1,Données!A8:C8,2,TRUE)) -> fichier 8 | B10: =IF(ISNA(VLOOKUP($A$1,Données!A8:C8,3,TRUE)),0,VLOOKUP($A$1,Données!A8:C8,3,TRUE)) -> 1 | C10: =IF(ISNA(VLOOKUP($A$1,Données!A8:C8,2,TRUE)),0,VLOOKUP($A$1,Données!A8:C8,2,TRUE)) -> fichier 8
A11: =IF(ISNA(VLOOKUP($A$1,Données!A9:C9,2,TRUE)),0,VLOOKUP($A$1,Données!A9:C9,2,TRUE)) -> fichier 9 | B11: =IF(ISNA(VLOOKUP($A$1,Données!A9:C9,3,TRUE)),0,VLOOKUP($A$1,Données!A9:C9,3,TRUE)) -> 15 | C11: =IF(ISNA(VLOOKUP($A$1,Données!A9:C9,2,TRUE)),0,VLOOKUP($A$1,Données!A9:C9,2,TRUE)) -> fichier 9
A12: =IF(ISNA(VLOOKUP($A$1,Données!A10:C10,2,TRUE)),0,VLOOKUP($A$1,Données!A10:C10,2,TRUE)) -> fichier 10 | B12: =IF(ISNA(VLOOKUP($A$1,Données!A10:C10,3,TRUE)),0,VLOOKUP($A$1,Données!A10:C10,3,TRUE)) -> 1 | C12: =IF(ISNA(VLOOKUP($A$1,Données!A10:C10,2,TRUE)),0,VLOOKUP($A$1,Données!A10:C10,2,TRUE)) -> fichier 10
A13: =IF(ISNA(VLOOKUP($A$1,Données!A11:C11,2,TRUE)),0,VLOOKUP($A$1,Données!A11:C11,2,TRUE)) -> fichier 11 | B13: =IF(ISNA(VLOOKUP($A$1,Données!A11:C11,3,TRUE)),0,VLOOKUP($A$1,Données!A11:C11,3,TRUE)) -> 1 | C13: =IF(ISNA(VLOOKUP($A$1,Données!A11:C11,2,TRUE)),0,VLOOKUP($A$1,Données!A11:C11,2,TRUE)) -> fichier 11
A14: =IF(ISNA(VLOOKUP($A$1,Données!A12:C12,2,TRUE)),0,VLOOKUP($A$1,Données!A12:C12,2,TRUE)) -> fichier 12 | B14: =IF(ISNA(VLOOKUP($A$1,Données!A12:C12,3,TRUE)),0,VLOOKUP($A$1,Données!A12:C12,3,TRUE)) -> 2 | C14: =IF(ISNA(VLOOKUP($A$1,Données!A12:C12,2,TRUE)),0,VLOOKUP($A$1,Données!A12:C12,2,TRUE)) -> fichier 12
... A271: =IF(ISNA(VLOOKUP($A$1,Données!A269:C269,2,TRUE)),0,VLOOKUP($A$1,Données!A269:C269,2,TRUE)) -> 0 | B271: =IF(ISNA(VLOOKUP($A$1,Données!A269:C269,3,TRUE)),0,VLOOKUP($A$1,Données!A269:C269,3,TRUE)) -> 0 | C271: =IF(ISNA(VLOOKUP($A$1,Données!A269:C269,2,TRUE)),0,VLOOKUP($A$1,Données!A269:C269,2,TRUE)) -> 0

Sheet Données
A1: Downloads | B1: fichier 1 | C1: 2
A2: Downloads | B2: fichier 2 | C2: 24
A3: Downloads | B3: fichier 3 | C3: 2
A4: Downloads | B4: fichier 4 | C4: 1
A5: Downloads | B5: fichier 5 | C5: 1
A6: Downloads | B6: fichier 6 | C6: 1
A7: Downloads | B7: fichier 7 | C7: 2
A8: Downloads | B8: fichier 8 | C8: 1
A9: Downloads | B9: fichier 9 | C9: 15
A10: Downloads | B10: fichier 10 | C10: 1
A11: Downloads | B11: fichier 11 | C11: 1
A12: Downloads | B12: fichier 12 | C12: 2
... A224: Outbound links | B224: http://lien74.com | C224: 2
