Workbook
Name DH: ROUND(Feuil1!$C1+Feuil1!A$1,5)

Sheet Feuil1
E1: 0.375 | F1: 0.375 | G1: 0.37847 | H1: 0.37847 | I1: 0.38194 | J1: 0.38194 | K1: 0.38542 | L1: 0.38889 | M1: 0.39236 | N1: 0.39583 | O1: 0.39931 | P1: 0.40278
C3: 40077 | E3: =OFFSET(Feuil3!$B$1,MATCH(DH,Feuil3!$B:$B,0)-1,2) -> -78 | F3: -78 | G3: =OFFSET(Feuil3!$B$1,MATCH(DH,Feuil3!$B:$B,0)-1,2) -> #N/A | H3: N/A | I3: =OFFSET(Feuil3!$B$1,MATCH(DH,Feuil3!$B:$B,0)-1,2) -> #N/A | J3: N/A | K3: =OFFSET(Feuil3!$B$1,MATCH(DH,Feuil3!$B:$B,0)-1,2) -> #N/A | L3: =OFFSET(Feuil3!$B$1,MATCH(DH,Feuil3!$B:$B,0)-1,2) -> #N/A | M3: =OFFSET(Feuil3!$B$1,MATCH(DH,Feuil3!$B:$B,0)-1,2) -> #N/A | N3: =OFFSET(Feuil3!$B$1,MATCH(DH,Feuil3!$B:$B,0)-1,2) -> #N/A | O3: =OFFSET(Feuil3!$B$1,MATCH(DH,Feuil3!$B:$B,0)-1,2) -> #N/A | P3: =OFFSET(Feuil3!$B$1,MATCH(DH,Feuil3!$B:$B,0)-1,2) -> #N/A
C4: 40078 | E4: =OFFSET(Feuil3!$B$1,MATCH(DH,Feuil3!$B:$B,0)-1,2) -> 57 | F4: 57 | G4: =OFFSET(Feuil3!$B$1,MATCH(DH,Feuil3!$B:$B,0)-1,2) -> #N/A | H4: N/A | I4: =OFFSET(Feuil3!$B$1,MATCH(DH,Feuil3!$B:$B,0)-1,2) -> #N/A | J4: N/A | K4: =OFFSET(Feuil3!$B$1,MATCH(DH,Feuil3!$B:$B,0)-1,2) -> #N/A | L4: =OFFSET(Feuil3!$B$1,MATCH(DH,Feuil3!$B:$B,0)-1,2) -> #N/A | M4: =OFFSET(Feuil3!$B$1,MATCH(DH,Feuil3!$B:$B,0)-1,2) -> #N/A | N4: =OFFSET(Feuil3!$B$1,MATCH(DH,Feuil3!$B:$B,0)-1,2) -> #N/A | O4: =OFFSET(Feuil3!$B$1,MATCH(DH,Feuil3!$B:$B,0)-1,2) -> #N/A | P4: =OFFSET(Feuil3!$B$1,MATCH(DH,Feuil3!$B:$B,0)-1,2) -> #N/A
C5: 40079 | E5: =OFFSET(Feuil3!$B$1,MATCH(DH,Feuil3!$B:$B,0)-1,2) -> 52 | F5: 52 | G5: =OFFSET(Feuil3!$B$1,MATCH(DH,Feuil3!$B:$B,0)-1,2) -> #N/A | H5: N/A | I5: =OFFSET(Feuil3!$B$1,MATCH(DH,Feuil3!$B:$B,0)-1,2) -> #N/A | J5: N/A | K5: =OFFSET(Feuil3!$B$1,MATCH(DH,Feuil3!$B:$B,0)-1,2) -> #N/A | L5: =OFFSET(Feuil3!$B$1,MATCH(DH,Feuil3!$B:$B,0)-1,2) -> #N/A | M5: =OFFSET(Feuil3!$B$1,MATCH(DH,Feuil3!$B:$B,0)-1,2) -> #N/A | N5: =OFFSET(Feuil3!$B$1,MATCH(DH,Feuil3!$B:$B,0)-1,2) -> #N/A | O5: =OFFSET(Feuil3!$B$1,MATCH(DH,Feuil3!$B:$B,0)-1,2) -> #N/A | P5: =OFFSET(Feuil3!$B$1,MATCH(DH,Feuil3!$B:$B,0)-1,2) -> #N/A
C6: 40080 | E6: =OFFSET(Feuil3!$B$1,MATCH(DH,Feuil3!$B:$B,0)-1,2) -> -54 | F6: -54 | G6: =OFFSET(Feuil3!$B$1,MATCH(DH,Feuil3!$B:$B,0)-1,2) -> #N/A | H6: N/A | I6: =OFFSET(Feuil3!$B$1,MATCH(DH,Feuil3!$B:$B,0)-1,2) -> #N/A | J6: N/A | K6: =OFFSET(Feuil3!$B$1,MATCH(DH,Feuil3!$B:$B,0)-1,2) -> #N/A | L6: =OFFSET(Feuil3!$B$1,MATCH(DH,Feuil3!$B:$B,0)-1,2) -> #N/A | M6: =OFFSET(Feuil3!$B$1,MATCH(DH,Feuil3!$B:$B,0)-1,2) -> #N/A | N6: =OFFSET(Feuil3!$B$1,MATCH(DH,Feuil3!$B:$B,0)-1,2) -> 77 | O6: =OFFSET(Feuil3!$B$1,MATCH(DH,Feuil3!$B:$B,0)-1,2) -> #N/A | P6: =OFFSET(Feuil3!$B$1,MATCH(DH,Feuil3!$B:$B,0)-1,2) -> #N/A
C7: 40081 | E7: =OFFSET(Feuil3!$B$1,MATCH(DH,Feuil3!$B:$B,0)-1,2) -> -30 | F7: -30 | G7: =OFFSET(Feuil3!$B$1,MATCH(DH,Feuil3!$B:$B,0)-1,2) -> #N/A | H7: N/A | I7: =OFFSET(Feuil3!$B$1,MATCH(DH,Feuil3!$B:$B,0)-1,2) -> 26 | J7: 26 | K7: =OFFSET(Feuil3!$B$1,MATCH(DH,Feuil3!$B:$B,0)-1,2) -> #N/A | L7: =OFFSET(Feuil3!$B$1,MATCH(DH,Feuil3!$B:$B,0)-1,2) -> -52 | M7: =OFFSET(Feuil3!$B$1,MATCH(DH,Feuil3!$B:$B,0)-1,2) -> #N/A | N7: =OFFSET(Feuil3!$B$1,MATCH(DH,Feuil3!$B:$B,0)-1,2) -> #N/A | O7: =OFFSET(Feuil3!$B$1,MATCH(DH,Feuil3!$B:$B,0)-1,2) -> #N/A | P7: =OFFSET(Feuil3!$B$1,MATCH(DH,Feuil3!$B:$B,0)-1,2) -> #N/A
C8: 40084 | E8: =OFFSET(Feuil3!$B$1,MATCH(DH,Feuil3!$B:$B,0)-1,2) -> 23 | F8: 23 | G8: =OFFSET(Feuil3!$B$1,MATCH(DH,Feuil3!$B:$B,0)-1,2) -> -90 | H8: -90 | I8: =OFFSET(Feuil3!$B$1,MATCH(DH,Feuil3!$B:$B,0)-1,2) -> #N/A | J8: N/A | K8: =OFFSET(Feuil3!$B$1,MATCH(DH,Feuil3!$B:$B,0)-1,2) -> #N/A | L8: =OFFSET(Feuil3!$B$1,MATCH(DH,Feuil3!$B:$B,0)-1,2) -> #N/A | M8: =OFFSET(Feuil3!$B$1,MATCH(DH,Feuil3!$B:$B,0)-1,2) -> #N/A | N8: =OFFSET(Feuil3!$B$1,MATCH(DH,Feuil3!$B:$B,0)-1,2) -> #N/A | O8: =OFFSET(Feuil3!$B$1,MATCH(DH,Feuil3!$B:$B,0)-1,2) -> #N/A | P8: =OFFSET(Feuil3!$B$1,MATCH(DH,Feuil3!$B:$B,0)-1,2) -> 73
C9: 40085 | E9: =OFFSET(Feuil3!$B$1,MATCH(DH,Feuil3!$B:$B,0)-1,2) -> -31 | F9: -31 | G9: =OFFSET(Feuil3!$B$1,MATCH(DH,Feuil3!$B:$B,0)-1,2) -> #N/A | H9: N/A | I9: =OFFSET(Feuil3!$B$1,MATCH(DH,Feuil3!$B:$B,0)-1,2) -> #N/A | J9: N/A | K9: =OFFSET(Feuil3!$B$1,MATCH(DH,Feuil3!$B:$B,0)-1,2) -> #N/A | L9: =OFFSET(Feuil3!$B$1,MATCH(DH,Feuil3!$B:$B,0)-1,2) -> 21 | M9: =OFFSET(Feuil3!$B$1,MATCH(DH,Feuil3!$B:$B,0)-1,2) -> -20 | N9: =OFFSET(Feuil3!$B$1,MATCH(DH,Feuil3!$B:$B,0)-1,2) -> 20 | O9: =OFFSET(Feuil3!$B$1,MATCH(DH,Feuil3!$B:$B,0)-1,2) -> -41 | P9: =OFFSET(Feuil3!$B$1,MATCH(DH,Feuil3!$B:$B,0)-1,2) -> #N/A
C10: 40086 | E10: =OFFSET(Feuil3!$B$1,MATCH(DH,Feuil3!$B:$B,0)-1,2) -> #N/A | F10: N/A | G10: =OFFSET(Feuil3!$B$1,MATCH(DH,Feuil3!$B:$B,0)-1,2) -> -23 | H10: -23 | I10: =OFFSET(Feuil3!$B$1,MATCH(DH,Feuil3!$B:$B,0)-1,2) -> #N/A | J10: N/A | K10: =OFFSET(Feuil3!$B$1,MATCH(DH,Feuil3!$B:$B,0)-1,2) -> #N/A | L10: =OFFSET(Feuil3!$B$1,MATCH(DH,Feuil3!$B:$B,0)-1,2) -> #N/A | M10: =OFFSET(Feuil3!$B$1,MATCH(DH,Feuil3!$B:$B,0)-1,2) -> #N/A | N10: =OFFSET(Feuil3!$B$1,MATCH(DH,Feuil3!$B:$B,0)-1,2) -> #N/A | O10: =OFFSET(Feuil3!$B$1,MATCH(DH,Feuil3!$B:$B,0)-1,2) -> #N/A | P10: =OFFSET(Feuil3!$B$1,MATCH(DH,Feuil3!$B:$B,0)-1,2) -> #N/A
C11: 40087 | E11: =OFFSET(Feuil3!$B$1,MATCH(DH,Feuil3!$B:$B,0)-1,2) -> 49 | F11: 49 | G11: =OFFSET(Feuil3!$B$1,MATCH(DH,Feuil3!$B:$B,0)-1,2) -> #N/A | H11: N/A | I11: =OFFSET(Feuil3!$B$1,MATCH(DH,Feuil3!$B:$B,0)-1,2) -> #N/A | J11: N/A | K11: =OFFSET(Feuil3!$B$1,MATCH(DH,Feuil3!$B:$B,0)-1,2) -> #N/A | L11: =OFFSET(Feuil3!$B$1,MATCH(DH,Feuil3!$B:$B,0)-1,2) -> #N/A | M11: =OFFSET(Feuil3!$B$1,MATCH(DH,Feuil3!$B:$B,0)-1,2) -> #N/A | N11: =OFFSET(Feuil3!$B$1,MATCH(DH,Feuil3!$B:$B,0)-1,2) -> #N/A | O11: =OFFSET(Feuil3!$B$1,MATCH(DH,Feuil3!$B:$B,0)-1,2) -> -72 | P11: =OFFSET(Feuil3!$B$1,MATCH(DH,Feuil3!$B:$B,0)-1,2) -> #N/A
C12: 40088 | E12: =OFFSET(Feuil3!$B$1,MATCH(DH,Feuil3!$B:$B,0)-1,2) -> 24 | F12: 24 | G12: =OFFSET(Feuil3!$B$1,MATCH(DH,Feuil3!$B:$B,0)-1,2) -> #N/A | H12: N/A | I12: =OFFSET(Feuil3!$B$1,MATCH(DH,Feuil3!$B:$B,0)-1,2) -> -42 | J12: -42 | K12: =OFFSET(Feuil3!$B$1,MATCH(DH,Feuil3!$B:$B,0)-1,2) -> #N/A | L12: =OFFSET(Feuil3!$B$1,MATCH(DH,Feuil3!$B:$B,0)-1,2) -> #N/A | M12: =OFFSET(Feuil3!$B$1,MATCH(DH,Feuil3!$B:$B,0)-1,2) -> #N/A | N12: =OFFSET(Feuil3!$B$1,MATCH(DH,Feuil3!$B:$B,0)-1,2) -> #N/A | O12: =OFFSET(Feuil3!$B$1,MATCH(DH,Feuil3!$B:$B,0)-1,2) -> 43 | P12: =OFFSET(Feuil3!$B$1,MATCH(DH,Feuil3!$B:$B,0)-1,2) -> #N/A
C13: 40091 | E13: =OFFSET(Feuil3!$B$1,MATCH(DH,Feuil3!$B:$B,0)-1,2) -> -34 | F13: -34 | G13: =OFFSET(Feuil3!$B$1,MATCH(DH,Feuil3!$B:$B,0)-1,2) -> 29 | H13: 29 | I13: =OFFSET(Feuil3!$B$1,MATCH(DH,Feuil3!$B:$B,0)-1,2) -> #N/A | J13: N/A | K13: =OFFSET(Feuil3!$B$1,MATCH(DH,Feuil3!$B:$B,0)-1,2) -> #N/A | L13: =OFFSET(Feuil3!$B$1,MATCH(DH,Feuil3!$B:$B,0)-1,2) -> -20 | M13: =OFFSET(Feuil3!$B$1,MATCH(DH,Feuil3!$B:$B,0)-1,2) -> #N/A | N13: =OFFSET(Feuil3!$B$1,MATCH(DH,Feuil3!$B:$B,0)-1,2) -> #N/A | O13: =OFFSET(Feuil3!$B$1,MATCH(DH,Feuil3!$B:$B,0)-1,2) -> #N/A | P13: =OFFSET(Feuil3!$B$1,MATCH(DH,Feuil3!$B:$B,0)-1,2) -> 46
C14: 40092 | E14: =OFFSET(Feuil3!$B$1,MATCH(DH,Feuil3!$B:$B,0)-1,2) -> -23 | F14: -23 | G14: =OFFSET(Feuil3!$B$1,MATCH(DH,Feuil3!$B:$B,0)-1,2) -> #N/A | H14: N/A | I14: =OFFSET(Feuil3!$B$1,MATCH(DH,Feuil3!$B:$B,0)-1,2) -> #N/A | J14: N/A | K14: =OFFSET(Feuil3!$B$1,MATCH(DH,Feuil3!$B:$B,0)-1,2) -> #N/A | L14: =OFFSET(Feuil3!$B$1,MATCH(DH,Feuil3!$B:$B,0)-1,2) -> #N/A | M14: =OFFSET(Feuil3!$B$1,MATCH(DH,Feuil3!$B:$B,0)-1,2) -> 97 | N14: =OFFSET(Feuil3!$B$1,MATCH(DH,Feuil3!$B:$B,0)-1,2) -> #N/A | O14: =OFFSET(Feuil3!$B$1,MATCH(DH,Feuil3!$B:$B,0)-1,2) -> #N/A | P14: =OFFSET(Feuil3!$B$1,MATCH(DH,Feuil3!$B:$B,0)-1,2) -> #N/A
C15: 40093 | E15: =OFFSET(Feuil3!$B$1,MATCH(DH,Feuil3!$B:$B,0)-1,2) -> #N/A | F15: N/A | G15: =OFFSET(Feuil3!$B$1,MATCH(DH,Feuil3!$B:$B,0)-1,2) -> 52 | H15: 52 | I15: =OFFSET(Feuil3!$B$1,MATCH(DH,Feuil3!$B:$B,0)-1,2) -> #N/A | J15: N/A | K15: =OFFSET(Feuil3!$B$1,MATCH(DH,Feuil3!$B:$B,0)-1,2) -> #N/A | L15: =OFFSET(Feuil3!$B$1,MATCH(DH,Feuil3!$B:$B,0)-1,2) -> -32 | M15: =OFFSET(Feuil3!$B$1,MATCH(DH,Feuil3!$B:$B,0)-1,2) -> #N/A | N15: =OFFSET(Feuil3!$B$1,MATCH(DH,Feuil3!$B:$B,0)-1,2) -> #N/A | O15: =OFFSET(Feuil3!$B$1,MATCH(DH,Feuil3!$B:$B,0)-1,2) -> #N/A | P15: =OFFSET(Feuil3!$B$1,MATCH(DH,Feuil3!$B:$B,0)-1,2) -> 46
C16: 40094 | E16: =OFFSET(Feuil3!$B$1,MATCH(DH,Feuil3!$B:$B,0)-1,2) -> -21 | F16: -21 | G16: =OFFSET(Feuil3!$B$1,MATCH(DH,Feuil3!$B:$B,0)-1,2) -> #N/A | H16: N/A | I16: =OFFSET(Feuil3!$B$1,MATCH(DH,Feuil3!$B:$B,0)-1,2) -> #N/A | J16: N/A | K16: =OFFSET(Feuil3!$B$1,MATCH(DH,Feuil3!$B:$B,0)-1,2) -> #N/A | L16: =OFFSET(Feuil3!$B$1,MATCH(DH,Feuil3!$B:$B,0)-1,2) -> 21 | M16: =OFFSET(Feuil3!$B$1,MATCH(DH,Feuil3!$B:$B,0)-1,2) -> -28 | N16: =OFFSET(Feuil3!$B$1,MATCH(DH,Feuil3!$B:$B,0)-1,2) -> #N/A | O16: =OFFSET(Feuil3!$B$1,MATCH(DH,Feuil3!$B:$B,0)-1,2) -> #N/A | P16: =OFFSET(Feuil3!$B$1,MATCH(DH,Feuil3!$B:$B,0)-1,2) -> 26
C17: 40095 | E17: =OFFSET(Feuil3!$B$1,MATCH(DH,Feuil3!$B:$B,0)-1,2) -> 65 | F17: 65 | G17: =OFFSET(Feuil3!$B$1,MATCH(DH,Feuil3!$B:$B,0)-1,2) -> #N/A | H17: N/A | I17: =OFFSET(Feuil3!$B$1,MATCH(DH,Feuil3!$B:$B,0)-1,2) -> #N/A | J17: N/A | K17: =OFFSET(Feuil3!$B$1,MATCH(DH,Feuil3!$B:$B,0)-1,2) -> #N/A | L17: =OFFSET(Feuil3!$B$1,MATCH(DH,Feuil3!$B:$B,0)-1,2) -> -59 | M17: =OFFSET(Feuil3!$B$1,MATCH(DH,Feuil3!$B:$B,0)-1,2) -> #N/A | N17: =OFFSET(Feuil3!$B$1,MATCH(DH,Feuil3!$B:$B,0)-1,2) -> #N/A | O17: =OFFSET(Feuil3!$B$1,MATCH(DH,Feuil3!$B:$B,0)-1,2) -> #N/A | P17: =OFFSET(Feuil3!$B$1,MATCH(DH,Feuil3!$B:$B,0)-1,2) -> #N/A
C18: 40098 | E18: =OFFSET(Feuil3!$B$1,MATCH(DH,Feuil3!$B:$B,0)-1,2) -> #N/A | F18: N/A | G18: =OFFSET(Feuil3!$B$1,MATCH(DH,Feuil3!$B:$B,0)-1,2) -> #N/A | H18: N/A | I18: =OFFSET(Feuil3!$B$1,MATCH(DH,Feuil3!$B:$B,0)-1,2) -> #N/A | J18: N/A | K18: =OFFSET(Feuil3!$B$1,MATCH(DH,Feuil3!$B:$B,0)-1,2) -> 69 | L18: =OFFSET(Feuil3!$B$1,MATCH(DH,Feuil3!$B:$B,0)-1,2) -> #N/A | M18: =OFFSET(Feuil3!$B$1,MATCH(DH,Feuil3!$B:$B,0)-1,2) -> #N/A | N18: =OFFSET(Feuil3!$B$1,MATCH(DH,Feuil3!$B:$B,0)-1,2) -> #N/A | O18: =OFFSET(Feuil3!$B$1,MATCH(DH,Feuil3!$B:$B,0)-1,2) -> #N/A | P18: =OFFSET(Feuil3!$B$1,MATCH(DH,Feuil3!$B:$B,0)-1,2) -> #N/A
C19: 40099 | E19: =OFFSET(Feuil3!$B$1,MATCH(DH,Feuil3!$B:$B,0)-1,2) -> #N/A | F19: N/A | G19: =OFFSET(Feuil3!$B$1,MATCH(DH,Feuil3!$B:$B,0)-1,2) -> 30 | H19: 30 | I19: =OFFSET(Feuil3!$B$1,MATCH(DH,Feuil3!$B:$B,0)-1,2) -> #N/A | J19: N/A | K19: =OFFSET(Feuil3!$B$1,MATCH(DH,Feuil3!$B:$B,0)-1,2) -> #N/A | L19: =OFFSET(Feuil3!$B$1,MATCH(DH,Feuil3!$B:$B,0)-1,2) -> #N/A | M19: =OFFSET(Feuil3!$B$1,MATCH(DH,Feuil3!$B:$B,0)-1,2) -> #N/A | N19: =OFFSET(Feuil3!$B$1,MATCH(DH,Feuil3!$B:$B,0)-1,2) -> -34 | O19: =OFFSET(Feuil3!$B$1,MATCH(DH,Feuil3!$B:$B,0)-1,2) -> #N/A | P19: =OFFSET(Feuil3!$B$1,MATCH(DH,Feuil3!$B:$B,0)-1,2) -> #N/A
C20: 40100 | E20: =OFFSET(Feuil3!$B$1,MATCH(DH,Feuil3!$B:$B,0)-1,2) -> #N/A | F20: N/A | G20: =OFFSET(Feuil3!$B$1,MATCH(DH,Feuil3!$B:$B,0)-1,2) -> -21 | H20: -21 | I20: =OFFSET(Feuil3!$B$1,MATCH(DH,Feuil3!$B:$B,0)-1,2) -> #N/A | J20: N/A | K20: =OFFSET(Feuil3!$B$1,MATCH(DH,Feuil3!$B:$B,0)-1,2) -> #N/A | L20: =OFFSET(Feuil3!$B$1,MATCH(DH,Feuil3!$B:$B,0)-1,2) -> #N/A | M20: =OFFSET(Feuil3!$B$1,MATCH(DH,Feuil3!$B:$B,0)-1,2) -> #N/A | N20: =OFFSET(Feuil3!$B$1,MATCH(DH,Feuil3!$B:$B,0)-1,2) -> #N/A | O20: =OFFSET(Feuil3!$B$1,MATCH(DH,Feuil3!$B:$B,0)-1,2) -> #N/A | P20: =OFFSET(Feuil3!$B$1,MATCH(DH,Feuil3!$B:$B,0)-1,2) -> 83
C21: 40101 | E21: =OFFSET(Feuil3!$B$1,MATCH(DH,Feuil3!$B:$B,0)-1,2) -> #N/A | F21: N/A | G21: =OFFSET(Feuil3!$B$1,MATCH(DH,Feuil3!$B:$B,0)-1,2) -> #N/A | H21: N/A | I21: =OFFSET(Feuil3!$B$1,MATCH(DH,Feuil3!$B:$B,0)-1,2) -> -27 | J21: -27 | K21: =OFFSET(Feuil3!$B$1,MATCH(DH,Feuil3!$B:$B,0)-1,2) -> #N/A | L21: =OFFSET(Feuil3!$B$1,MATCH(DH,Feuil3!$B:$B,0)-1,2) -> #N/A | M21: =OFFSET(Feuil3!$B$1,MATCH(DH,Feuil3!$B:$B,0)-1,2) -> #N/A | N21: =OFFSET(Feuil3!$B$1,MATCH(DH,Feuil3!$B:$B,0)-1,2) -> #N/A | O21: =OFFSET(Feuil3!$B$1,MATCH(DH,Feuil3!$B:$B,0)-1,2) -> #N/A | P21: =OFFSET(Feuil3!$B$1,MATCH(DH,Feuil3!$B:$B,0)-1,2) -> #N/A
C22: 40102 | E22: =OFFSET(Feuil3!$B$1,MATCH(DH,Feuil3!$B:$B,0)-1,2) -> 38 | F22: 38 | G22: =OFFSET(Feuil3!$B$1,MATCH(DH,Feuil3!$B:$B,0)-1,2) -> #N/A | H22: N/A | I22: =OFFSET(Feuil3!$B$1,MATCH(DH,Feuil3!$B:$B,0)-1,2) -> #N/A | J22: N/A | K22: =OFFSET(Feuil3!$B$1,MATCH(DH,Feuil3!$B:$B,0)-1,2) -> #N/A | L22: =OFFSET(Feuil3!$B$1,MATCH(DH,Feuil3!$B:$B,0)-1,2) -> #N/A | M22: =OFFSET(Feuil3!$B$1,MATCH(DH,Feuil3!$B:$B,0)-1,2) -> #N/A | N22: =OFFSET(Feuil3!$B$1,MATCH(DH,Feuil3!$B:$B,0)-1,2) -> -36 | O22: =OFFSET(Feuil3!$B$1,MATCH(DH,Feuil3!$B:$B,0)-1,2) -> #N/A | P22: =OFFSET(Feuil3!$B$1,MATCH(DH,Feuil3!$B:$B,0)-1,2) -> #N/A
C23: 40105 | E23: =OFFSET(Feuil3!$B$1,MATCH(DH,Feuil3!$B:$B,0)-1,2) -> 47 | F23: 47 | G23: =OFFSET(Feuil3!$B$1,MATCH(DH,Feuil3!$B:$B,0)-1,2) -> #N/A | H23: N/A | I23: =OFFSET(Feuil3!$B$1,MATCH(DH,Feuil3!$B:$B,0)-1,2) -> #N/A | J23: N/A | K23: =OFFSET(Feuil3!$B$1,MATCH(DH,Feuil3!$B:$B,0)-1,2) -> #N/A | L23: =OFFSET(Feuil3!$B$1,MATCH(DH,Feuil3!$B:$B,0)-1,2) -> #N/A | M23: =OFFSET(Feuil3!$B$1,MATCH(DH,Feuil3!$B:$B,0)-1,2) -> #N/A | N23: =OFFSET(Feuil3!$B$1,MATCH(DH,Feuil3!$B:$B,0)-1,2) -> #N/A | O23: =OFFSET(Feuil3!$B$1,MATCH(DH,Feuil3!$B:$B,0)-1,2) -> #N/A | P23: =OFFSET(Feuil3!$B$1,MATCH(DH,Feuil3!$B:$B,0)-1,2) -> #N/A
C24: 40106 | E24: =OFFSET(Feuil3!$B$1,MATCH(DH,Feuil3!$B:$B,0)-1,2) -> -75 | F24: -75 | G24: =OFFSET(Feuil3!$B$1,MATCH(DH,Feuil3!$B:$B,0)-1,2) -> #N/A | H24: N/A | I24: =OFFSET(Feuil3!$B$1,MATCH(DH,Feuil3!$B:$B,0)-1,2) -> #N/A | J24: N/A | K24: =OFFSET(Feuil3!$B$1,MATCH(DH,Feuil3!$B:$B,0)-1,2) -> #N/A | L24: =OFFSET(Feuil3!$B$1,MATCH(DH,Feuil3!$B:$B,0)-1,2) -> #N/A | M24: =OFFSET(Feuil3!$B$1,MATCH(DH,Feuil3!$B:$B,0)-1,2) -> #N/A | N24: =OFFSET(Feuil3!$B$1,MATCH(DH,Feuil3!$B:$B,0)-1,2) -> #N/A | O24: =OFFSET(Feuil3!$B$1,MATCH(DH,Feuil3!$B:$B,0)-1,2) -> #N/A | P24: =OFFSET(Feuil3!$B$1,MATCH(DH,Feuil3!$B:$B,0)-1,2) -> #N/A
C25: 40107 | E25: =OFFSET(Feuil3!$B$1,MATCH(DH,Feuil3!$B:$B,0)-1,2) -> -29 | F25: -29 | G25: =OFFSET(Feuil3!$B$1,MATCH(DH,Feuil3!$B:$B,0)-1,2) -> #N/A | H25: N/A | I25: =OFFSET(Feuil3!$B$1,MATCH(DH,Feuil3!$B:$B,0)-1,2) -> 28 | J25: 28 | K25: =OFFSET(Feuil3!$B$1,MATCH(DH,Feuil3!$B:$B,0)-1,2) -> #N/A | L25: =OFFSET(Feuil3!$B$1,MATCH(DH,Feuil3!$B:$B,0)-1,2) -> -64 | M25: =OFFSET(Feuil3!$B$1,MATCH(DH,Feuil3!$B:$B,0)-1,2) -> #N/A | N25: =OFFSET(Feuil3!$B$1,MATCH(DH,Feuil3!$B:$B,0)-1,2) -> #N/A | O25: =OFFSET(Feuil3!$B$1,MATCH(DH,Feuil3!$B:$B,0)-1,2) -> #N/A | P25: =OFFSET(Feuil3!$B$1,MATCH(DH,Feuil3!$B:$B,0)-1,2) -> #N/A
E26: =OFFSET(Feuil3!$B$1,MATCH(DH,Feuil3!$B:$B,0)-1,2) -> #N/A | G26: =OFFSET(Feuil3!$B$1,MATCH(DH,Feuil3!$B:$B,0)-1,2) -> #N/A | I26: =OFFSET(Feuil3!$B$1,MATCH(DH,Feuil3!$B:$B,0)-1,2) -> #N/A | K26: =OFFSET(Feuil3!$B$1,MATCH(DH,Feuil3!$B:$B,0)-1,2) -> #N/A | L26: =OFFSET(Feuil3!$B$1,MATCH(DH,Feuil3!$B:$B,0)-1,2) -> #N/A | M26: =OFFSET(Feuil3!$B$1,MATCH(DH,Feuil3!$B:$B,0)-1,2) -> #N/A | N26: =OFFSET(Feuil3!$B$1,MATCH(DH,Feuil3!$B:$B,0)-1,2) -> #N/A | O26: =OFFSET(Feuil3!$B$1,MATCH(DH,Feuil3!$B:$B,0)-1,2) -> #N/A | P26: =OFFSET(Feuil3!$B$1,MATCH(DH,Feuil3!$B:$B,0)-1,2) -> #N/A
E27: =OFFSET(Feuil3!$B$1,MATCH(DH,Feuil3!$B:$B,0)-1,2) -> #N/A | G27: =OFFSET(Feuil3!$B$1,MATCH(DH,Feuil3!$B:$B,0)-1,2) -> #N/A | I27: =OFFSET(Feuil3!$B$1,MATCH(DH,Feuil3!$B:$B,0)-1,2) -> #N/A | K27: =OFFSET(Feuil3!$B$1,MATCH(DH,Feuil3!$B:$B,0)-1,2) -> #N/A | L27: =OFFSET(Feuil3!$B$1,MATCH(DH,Feuil3!$B:$B,0)-1,2) -> #N/A | M27: =OFFSET(Feuil3!$B$1,MATCH(DH,Feuil3!$B:$B,0)-1,2) -> #N/A | N27: =OFFSET(Feuil3!$B$1,MATCH(DH,Feuil3!$B:$B,0)-1,2) -> #N/A | O27: =OFFSET(Feuil3!$B$1,MATCH(DH,Feuil3!$B:$B,0)-1,2) -> #N/A | P27: =OFFSET(Feuil3!$B$1,MATCH(DH,Feuil3!$B:$B,0)-1,2) -> #N/A

Sheet Feuil3
A2: 40077.375 | B2: =ROUND(A2,5) -> 40077.375 | C2: 0.375 | D2: -78
A3: 40077.483 | B3: =ROUND(A3,5) -> 40077.483 | C3: 0.48264 | D3: 29
A4: 40078.375 | B4: =ROUND(A4,5) -> 40078.375 | C4: 0.375 | D4: 57
A5: 40079.375 | B5: =ROUND(A5,5) -> 40079.375 | C5: 0.375 | D5: 52
A6: 40079.406 | B6: =ROUND(A6,5) -> 40079.406 | C6: 0.40625 | D6: -44
A7: 40079.497 | B7: =ROUND(A7,5) -> 40079.497 | C7: 0.49653 | D7: 22
A8: 40080.375 | B8: =ROUND(A8,5) -> 40080.375 | C8: 0.375 | D8: -54
A9: 40080.396 | B9: =ROUND(A9,5) -> 40080.396 | C9: 0.39583 | D9: 77
A10: 40080.493 | B10: =ROUND(A10,5) -> 40080.493 | C10: 0.49306 | D10: -26
A11: 40081.375 | B11: =ROUND(A11,5) -> 40081.375 | C11: 0.375 | D11: -30
A12: 40081.382 | B12: =ROUND(A12,5) -> 40081.382 | C12: 0.38194 | D12: 26
A13: 40081.389 | B13: =ROUND(A13,5) -> 40081.389 | C13: 0.38889 | D13: -52
... A86: 40107.49 | B86: =ROUND(A86,5) -> 40107.49 | C86: 0.48958 | D86: 22
