Workbook

Sheet Relevés compétences travaillées
A1: Domaine | B1: Français | C1: Mathématiques | D1: Mathématiques | E1: Français | F1: Français | G1: Français | H1: Français | I1: Français | J1: Français | K1: Français | L1: Français | M1: Français
A2: Matière | B2: Orthographe | C2: Mesures | D2: Géométrie | E2: Orthographe | F2: Orthographe | G2: Orthographe | H2: Orthographe | I2: Orthographe | J2: Orthographe | K2: Orthographe | L2: Orthographe | M2: Orthographe
A3: élèves | B3: Respecter les correspondances entre lettres et sons. | C3: Temps : l’heure, la minute, la seconde, le mois, l’année. | D3: Construire un cercle avec un compas. | E3: Utiliser sans erreur les accents (é,è,ê). | F3: Respecter les correspondances entre lettres et sons. | G3: Respecter les correspondances entre lettres et sons. | H3: Respecter les correspondances entre lettres et sons. | I3: Respecter les correspondances entre lettres et sons. | J3: Respecter les correspondances entre lettres et sons. | K3: Respecter les correspondances entre lettres et sons. | L3: Respecter les correspondances entre lettres et sons. | M3: Respecter les correspondances entre lettres et sons.
A4: Hendrick | B4: 1 | C4: 2 | D4: 4 | E4: 2
A5: Ilyes | B5: 2 | C5: 2 | D5: 4 | E5: 2
A6: Maëlys | B6: 4 | C6: 3 | D6: 5 | E6: 2
A7: Guillaume | B7: 1 | C7: 1 | D7: 2 | E7: 2
A8: Sulyvan | B8: 4 | C8: 1 | D8: 1 | E8: 3
A9: Kenzo | B9: 4 | C9: 1 | D9: 1 | E9: 1
A10: Anaïs | B10: 3 | C10: 4 | D10: 3 | E10: 1
A11: Vincenzo | B11: 2 | C11: 4 | D11: 3 | E11: 4
A12: Logan | B12: 1 | C12: 2 | D12: 4 | E12: 2
A13: Romane | B13: 2 | C13: 3 | D13: 4 | E13: 1
A16: 1 : rouge = grosse difficulté, 2 : difficulté = orange, 3 : Compris dans l'ensemble = jaune, 4 : Tout compris = vert

Sheet Relevé ceintures
B1: Conjugaison | J1: Calcul | R1: Numération
B2: Ceinture Blanche | F2: Ceinture Blanche Jaune | J2: Ceinture Blanche | N2: Ceinture Blanche jaune | R2: Ceinture Blanche | V2: Ceinture Blanche jaune
B3: Passé/présent/futur | C3: Le verbe et son infinitif | D3: Les personnes de conjugaison | E3: Les groupes de verbes | F3: Le présent de l’indicatif des verbes du 1er groupe | G3: Le présent de l’indicatif : être, avoir et aller | H3: Le présent des verbes du 2ème groupe | I3: Le présent des verbes faire prendre voir venir partir vouloir dire pouvoir | J3: Addition posée de deux nombres de deux chiffres | K3: Addition posée de deux nombres de trois chiffres | L3: Soustraction de deux nombres à deux chiffres sans retenue. | M3: Soustraction de deux nombres à trois chiffres sans retenue. | N3: Ceinture Blanche | O3: Soustraction de deux nombres à deux chiffres avec retenue. | P3: Soustraction de deux nombres inférieurs à 10 000 avec retenue. | Q3: Multiplication d’un nombre inférieur à 999 par un nombre à un chiffre. | R3: Savoir écrire en lettres les nombres entiers jusqu’à 999 | S3: Savoir ranger dans l'ordre croissant ou décroissant des nombres entiers jusqu’à 999 | T3: Savoir repérer des nombres entiers jusqu’à 999, les placer sur une droite graduée. | U3: Connaître la valeur de chaque chiffre d’un nombre entier jusqu’à 999 en fonction de sa position | V3: Savoir écrire en lettres les nombres entiers jusqu’à 9 999 | W3: Savoir ranger dans l'ordre croissant ou décroissant des nombres entiers jusqu’à 9 999 | X3: Savoir comparer, encadrer des nombres entiers jusqu’à 9 999 | Y3: Connaître la valeur de chaque chiffre d’un nombre entier jusqu’à 9 999 en fonction de sa position
A4: Hendrick | B4: 1 | C4: 2 | D4: 2 | E4: 2 | J4: 2 | K4: 2 | L4: 1 | M4: 1 | R4: 2 | S4: 2
A5: Ilyes | B5: 2 | J5: 2 | M5: 2 | R5: 2 | S5: 2
A6: Maëlys | B6: 2 | C6: 2 | D6: 2 | E6: 2 | F6: 2 | G6: 2 | H6: 1 | J6: 2 | K6: 2 | L6: 2 | M6: 2 | P6: 2 | Q6: 2 | R6: 2
A7: Guillaume | B7: 2 | C7: 2 | D7: 2 | E7: 2 | F7: 2 | G7: 1 | J7: 2 | K7: 2 | L7: 2 | M7: 2 | O7: 2 | P7: 1 | R7: 2
A8: Sulyvan | B8: 2 | C8: 2 | D8: 1 | E8: 1 | J8: 2 | K8: 1 | L8: 2 | M8: 1 | R8: 2 | S8: 2
A9: Kenzo | C9: 1 | D9: 1 | J9: 2 | K9: 1 | L9: 2 | M9: 2 | R9: 2
A10: Anaïs | B10: 2 | C10: 2 | D10: 2 | E10: 1 | J10: 2 | K10: 2 | M10: 1 | R10: 2 | S10: 2
A11: Vincenzo | B11: 2 | C11: 2 | D11: 1 | E11: 2 | J11: 2 | K11: 2 | L11: 2 | R11: 1 | S11: 2
A12: Logan | B12: 1 | C12: 2 | D12: 1 | E12: 2 | J12: 2 | K12: 2 | L12: 2 | R12: 1
A13: Romane | B13: 1 | C13: 2 | E13: 1 | J13: 2 | K13: 2 | L13: 1 | M13: 2 | R13: 2 | S13: 2
A15: Période 1 : 1 :tenté mais échoué; 2 : réussi
A16: Période 2 : 3 : tenté mais échoué; 4 : réussi
A17: Période 3 : 5 tenté mais échoué, 6 : réussi

Sheet Bulletin
B1: CM2 | C1: M. Meens
B2: 1er Période
B3: Elève : | C3: Guillaume
A5: J'ai travaillé sur :
A6: Domaine | B6: Matière | C6: Compétences | D6: Résultats
A7: ='Relevés compétences travaillées'!B1 -> Français | B7: ='Relevés compétences travaillées'!B2 -> Orthographe | C7: ='Relevés compétences travaillées'!B3 -> Respecter les correspondances entre lettres et sons. | D7: =VLOOKUP(C3,'Relevés compétences travaillées'!A3:E13,2,FALSE) -> 1
A8: ='Relevés compétences travaillées'!C1 -> Mathématiques | B8: ='Relevés compétences travaillées'!C2 -> Mesures | C8: ='Relevés compétences travaillées'!C3 -> Temps : l’heure, la minute, la seconde, le mois, l’année. | D8: =VLOOKUP(C3,'Relevés compétences travaillées'!A3:E13,3,FALSE) -> 1
A9: ='Relevés compétences travaillées'!D1 -> Mathématiques | B9: ='Relevés compétences travaillées'!D2 -> Géométrie | C9: ='Relevés compétences travaillées'!D3 -> Construire un cercle avec un compas. | D9: =VLOOKUP(C3,'Relevés compétences travaillées'!A3:E13,4,FALSE) -> 2
A10: ='Relevés compétences travaillées'!E1 -> Français | B10: ='Relevés compétences travaillées'!E2 -> Orthographe | C10: ='Relevés compétences travaillées'!E3 -> Utiliser sans erreur les accents (é,è,ê). | D10: =VLOOKUP(C3,'Relevés compétences travaillées'!A3:E13,5,FALSE) -> 2
D11: =VLOOKUP(C3,'[1]Synthèse CE1'!A2:AJ22,6,FALSE) -> #N/A
D12: =VLOOKUP(C3,'[1]Synthèse CE1'!A2:AJ22,7,FALSE) -> #N/A
D13: =VLOOKUP(C3,'[1]Synthèse CE1'!A2:AJ22,8,FALSE) -> #N/A
D14: =VLOOKUP(C3,'[1]Synthèse CE1'!A2:AJ22,9,FALSE) -> #N/A
A16: J'ai validé :
A17: Domaine | B17: Ceintures | C17: Compétences | D17: Résultats
A18: =IF(C18<>"",INDEX('Relevé ceintures'!$B$1:$Y$1,INT((MATCH($C18,'Relevé ceintures'!$B$3:$Y$3,0)-1)/8)*8+1),"") -> Conjugaison | B18: =IF(C18<>"",INDEX('Relevé ceintures'!$B$2:$Y$2,INT((MATCH($C18,'Relevé ceintures'!$B$3:$Y$3,0)-1)/4)*4+1),"") -> Ceinture Blanche | C18: {=IFERROR(INDEX('Relevé ceintures'!$A$3:$Y$3,SMALL(IF(OFFSET('Relevé ceintures'!$B$3:$Y$3,MATCH($C$3,'Relevé ceintures'!$A$4:$A$13,0),)=2,COLUMN('Relevé ceintures'!$B$3:$Y$3),20000),ROW(1:1))),"")} -> Passé/présent/futur | D18: =VLOOKUP(C14,'Relevés compétences travaillées'!A14:E24,2,FALSE) -> #N/A
A19: =IF(C19<>"",INDEX('Relevé ceintures'!$B$1:$Y$1,INT((MATCH($C19,'Relevé ceintures'!$B$3:$Y$3,0)-1)/8)*8+1),"") -> Conjugaison | B19: =IF(C19<>"",INDEX('Relevé ceintures'!$B$2:$Y$2,INT((MATCH($C19,'Relevé ceintures'!$B$3:$Y$3,0)-1)/4)*4+1),"") -> Ceinture Blanche | C19: {=IFERROR(INDEX('Relevé ceintures'!$A$3:$Y$3,SMALL(IF(OFFSET('Relevé ceintures'!$B$3:$Y$3,MATCH($C$3,'Relevé ceintures'!$A$4:$A$13,0),)=2,COLUMN('Relevé ceintures'!$B$3:$Y$3),20000),ROW(2:2))),"")} -> Le verbe et son infinitif | D19: =VLOOKUP(C14,'Relevés compétences travaillées'!A14:E24,3,FALSE) -> #N/A
A20: =IF(C20<>"",INDEX('Relevé ceintures'!$B$1:$Y$1,INT((MATCH($C20,'Relevé ceintures'!$B$3:$Y$3,0)-1)/8)*8+1),"") -> Conjugaison | B20: =IF(C20<>"",INDEX('Relevé ceintures'!$B$2:$Y$2,INT((MATCH($C20,'Relevé ceintures'!$B$3:$Y$3,0)-1)/4)*4+1),"") -> Ceinture Blanche | C20: {=IFERROR(INDEX('Relevé ceintures'!$A$3:$Y$3,SMALL(IF(OFFSET('Relevé ceintures'!$B$3:$Y$3,MATCH($C$3,'Relevé ceintures'!$A$4:$A$13,0),)=2,COLUMN('Relevé ceintures'!$B$3:$Y$3),20000),ROW(3:3))),"")} -> Les personnes de conjugaison | D20: =VLOOKUP(C14,'Relevés compétences travaillées'!A14:E24,4,FALSE) -> #N/A
A21: =IF(C21<>"",INDEX('Relevé ceintures'!$B$1:$Y$1,INT((MATCH($C21,'Relevé ceintures'!$B$3:$Y$3,0)-1)/8)*8+1),"") -> Conjugaison | B21: =IF(C21<>"",INDEX('Relevé ceintures'!$B$2:$Y$2,INT((MATCH($C21,'Relevé ceintures'!$B$3:$Y$3,0)-1)/4)*4+1),"") -> Ceinture Blanche | C21: {=IFERROR(INDEX('Relevé ceintures'!$A$3:$Y$3,SMALL(IF(OFFSET('Relevé ceintures'!$B$3:$Y$3,MATCH($C$3,'Relevé ceintures'!$A$4:$A$13,0),)=2,COLUMN('Relevé ceintures'!$B$3:$Y$3),20000),ROW(4:4))),"")} -> Les groupes de verbes | D21: =VLOOKUP(C14,'Relevés compétences travaillées'!A14:E24,5,FALSE) -> #N/A
A22: =IF(C22<>"",INDEX('Relevé ceintures'!$B$1:$Y$1,INT((MATCH($C22,'Relevé ceintures'!$B$3:$Y$3,0)-1)/8)*8+1),"") -> Conjugaison | B22: =IF(C22<>"",INDEX('Relevé ceintures'!$B$2:$Y$2,INT((MATCH($C22,'Relevé ceintures'!$B$3:$Y$3,0)-1)/4)*4+1),"") -> Ceinture Blanche Jaune | C22: {=IFERROR(INDEX('Relevé ceintures'!$A$3:$Y$3,SMALL(IF(OFFSET('Relevé ceintures'!$B$3:$Y$3,MATCH($C$3,'Relevé ceintures'!$A$4:$A$13,0),)=2,COLUMN('Relevé ceintures'!$B$3:$Y$3),20000),ROW(5:5))),"")} -> Le présent de l’indicatif des verbes du 1er groupe | D22: =VLOOKUP(C14,'[1]Synthèse CE1'!A13:AJ33,6,FALSE) -> #N/A
A23: =IF(C23<>"",INDEX('Relevé ceintures'!$B$1:$Y$1,INT((MATCH($C23,'Relevé ceintures'!$B$3:$Y$3,0)-1)/8)*8+1),"") -> Calcul | B23: =IF(C23<>"",INDEX('Relevé ceintures'!$B$2:$Y$2,INT((MATCH($C23,'Relevé ceintures'!$B$3:$Y$3,0)-1)/4)*4+1),"") -> Ceinture Blanche | C23: {=IFERROR(INDEX('Relevé ceintures'!$A$3:$Y$3,SMALL(IF(OFFSET('Relevé ceintures'!$B$3:$Y$3,MATCH($C$3,'Relevé ceintures'!$A$4:$A$13,0),)=2,COLUMN('Relevé ceintures'!$B$3:$Y$3),20000),ROW(6:6))),"")} -> Addition posée de deux nombres de deux chiffres | D23: =VLOOKUP(C14,'[1]Synthèse CE1'!A13:AJ33,7,FALSE) -> #N/A
A24: =IF(C24<>"",INDEX('Relevé ceintures'!$B$1:$Y$1,INT((MATCH($C24,'Relevé ceintures'!$B$3:$Y$3,0)-1)/8)*8+1),"") -> Calcul | B24: =IF(C24<>"",INDEX('Relevé ceintures'!$B$2:$Y$2,INT((MATCH($C24,'Relevé ceintures'!$B$3:$Y$3,0)-1)/4)*4+1),"") -> Ceinture Blanche | C24: {=IFERROR(INDEX('Relevé ceintures'!$A$3:$Y$3,SMALL(IF(OFFSET('Relevé ceintures'!$B$3:$Y$3,MATCH($C$3,'Relevé ceintures'!$A$4:$A$13,0),)=2,COLUMN('Relevé ceintures'!$B$3:$Y$3),20000),ROW(7:7))),"")} -> Addition posée de deux nombres de trois chiffres | D24: =VLOOKUP(C14,'[1]Synthèse CE1'!A13:AJ33,8,FALSE) -> #N/A
A25: =IF(C25<>"",INDEX('Relevé ceintures'!$B$1:$Y$1,INT((MATCH($C25,'Relevé ceintures'!$B$3:$Y$3,0)-1)/8)*8+1),"") -> Calcul | B25: =IF(C25<>"",INDEX('Relevé ceintures'!$B$2:$Y$2,INT((MATCH($C25,'Relevé ceintures'!$B$3:$Y$3,0)-1)/4)*4+1),"") -> Ceinture Blanche | C25: {=IFERROR(INDEX('Relevé ceintures'!$A$3:$Y$3,SMALL(IF(OFFSET('Relevé ceintures'!$B$3:$Y$3,MATCH($C$3,'Relevé ceintures'!$A$4:$A$13,0),)=2,COLUMN('Relevé ceintures'!$B$3:$Y$3),20000),ROW(8:8))),"")} -> Soustraction de deux nombres à deux chiffres sans retenue. | D25: =VLOOKUP(C14,'[1]Synthèse CE1'!A13:AJ33,9,FALSE) -> #N/A
A26: =IF(C26<>"",INDEX('Relevé ceintures'!$B$1:$Y$1,INT((MATCH($C26,'Relevé ceintures'!$B$3:$Y$3,0)-1)/8)*8+1),"") -> Calcul | B26: =IF(C26<>"",INDEX('Relevé ceintures'!$B$2:$Y$2,INT((MATCH($C26,'Relevé ceintures'!$B$3:$Y$3,0)-1)/4)*4+1),"") -> Ceinture Blanche | C26: {=IFERROR(INDEX('Relevé ceintures'!$A$3:$Y$3,SMALL(IF(OFFSET('Relevé ceintures'!$B$3:$Y$3,MATCH($C$3,'Relevé ceintures'!$A$4:$A$13,0),)=2,COLUMN('Relevé ceintures'!$B$3:$Y$3),20000),ROW(9:9))),"")} -> Soustraction de deux nombres à trois chiffres sans retenue.
A27: =IF(C27<>"",INDEX('Relevé ceintures'!$B$1:$Y$1,INT((MATCH($C27,'Relevé ceintures'!$B$3:$Y$3,0)-1)/8)*8+1),"") -> Calcul | B27: =IF(C27<>"",INDEX('Relevé ceintures'!$B$2:$Y$2,INT((MATCH($C27,'Relevé ceintures'!$B$3:$Y$3,0)-1)/4)*4+1),"") -> Ceinture Blanche jaune | C27: {=IFERROR(INDEX('Relevé ceintures'!$A$3:$Y$3,SMALL(IF(OFFSET('Relevé ceintures'!$B$3:$Y$3,MATCH($C$3,'Relevé ceintures'!$A$4:$A$13,0),)=2,COLUMN('Relevé ceintures'!$B$3:$Y$3),20000),ROW(10:10))),"")} -> Soustraction de deux nombres à deux chiffres avec retenue.
A28: =IF(C28<>"",INDEX('Relevé ceintures'!$B$1:$Y$1,INT((MATCH($C28,'Relevé ceintures'!$B$3:$Y$3,0)-1)/8)*8+1),"") -> Numération | B28: =IF(C28<>"",INDEX('Relevé ceintures'!$B$2:$Y$2,INT((MATCH($C28,'Relevé ceintures'!$B$3:$Y$3,0)-1)/4)*4+1),"") -> Ceinture Blanche | C28: {=IFERROR(INDEX('Relevé ceintures'!$A$3:$Y$3,SMALL(IF(OFFSET('Relevé ceintures'!$B$3:$Y$3,MATCH($C$3,'Relevé ceintures'!$A$4:$A$13,0),)=2,COLUMN('Relevé ceintures'!$B$3:$Y$3),20000),ROW(11:11))),"")} -> Savoir écrire en lettres les nombres entiers jusqu’à 999
A29: =IF(C29<>"",INDEX('Relevé ceintures'!$B$1:$Y$1,INT((MATCH($C29,'Relevé ceintures'!$B$3:$Y$3,0)-1)/8)*8+1),"") | B29: =IF(C29<>"",INDEX('Relevé ceintures'!$B$2:$Y$2,INT((MATCH($C29,'Relevé ceintures'!$B$3:$Y$3,0)-1)/4)*4+1),"") | C29: {=IFERROR(INDEX('Relevé ceintures'!$A$3:$Y$3,SMALL(IF(OFFSET('Relevé ceintures'!$B$3:$Y$3,MATCH($C$3,'Relevé ceintures'!$A$4:$A$13,0),)=2,COLUMN('Relevé ceintures'!$B$3:$Y$3),20000),ROW(12:12))),"")}
A30: =IF(C30<>"",INDEX('Relevé ceintures'!$B$1:$Y$1,INT((MATCH($C30,'Relevé ceintures'!$B$3:$Y$3,0)-1)/8)*8+1),"") | B30: =IF(C30<>"",INDEX('Relevé ceintures'!$B$2:$Y$2,INT((MATCH($C30,'Relevé ceintures'!$B$3:$Y$3,0)-1)/4)*4+1),"") | C30: {=IFERROR(INDEX('Relevé ceintures'!$A$3:$Y$3,SMALL(IF(OFFSET('Relevé ceintures'!$B$3:$Y$3,MATCH($C$3,'Relevé ceintures'!$A$4:$A$13,0),)=2,COLUMN('Relevé ceintures'!$B$3:$Y$3),20000),ROW(13:13))),"")}
A31: =IF(C31<>"",INDEX('Relevé ceintures'!$B$1:$Y$1,INT((MATCH($C31,'Relevé ceintures'!$B$3:$Y$3,0)-1)/8)*8+1),"") | B31: =IF(C31<>"",INDEX('Relevé ceintures'!$B$2:$Y$2,INT((MATCH($C31,'Relevé ceintures'!$B$3:$Y$3,0)-1)/4)*4+1),"") | C31: {=IFERROR(INDEX('Relevé ceintures'!$A$3:$Y$3,SMALL(IF(OFFSET('Relevé ceintures'!$B$3:$Y$3,MATCH($C$3,'Relevé ceintures'!$A$4:$A$13,0),)=2,COLUMN('Relevé ceintures'!$B$3:$Y$3),20000),ROW(14:14))),"")}
A32: =IF(C32<>"",INDEX('Relevé ceintures'!$B$1:$Y$1,INT((MATCH($C32,'Relevé ceintures'!$B$3:$Y$3,0)-1)/8)*8+1),"") | B32: =IF(C32<>"",INDEX('Relevé ceintures'!$B$2:$Y$2,INT((MATCH($C32,'Relevé ceintures'!$B$3:$Y$3,0)-1)/4)*4+1),"") | C32: {=IFERROR(INDEX('Relevé ceintures'!$A$3:$Y$3,SMALL(IF(OFFSET('Relevé ceintures'!$B$3:$Y$3,MATCH($C$3,'Relevé ceintures'!$A$4:$A$13,0),)=2,COLUMN('Relevé ceintures'!$B$3:$Y$3),20000),ROW(15:15))),"")}
A33: =IF(C33<>"",INDEX('Relevé ceintures'!$B$1:$Y$1,INT((MATCH($C33,'Relevé ceintures'!$B$3:$Y$3,0)-1)/8)*8+1),"") | B33: =IF(C33<>"",INDEX('Relevé ceintures'!$B$2:$Y$2,INT((MATCH($C33,'Relevé ceintures'!$B$3:$Y$3,0)-1)/4)*4+1),"") | C33: {=IFERROR(INDEX('Relevé ceintures'!$A$3:$Y$3,SMALL(IF(OFFSET('Relevé ceintures'!$B$3:$Y$3,MATCH($C$3,'Relevé ceintures'!$A$4:$A$13,0),)=2,COLUMN('Relevé ceintures'!$B$3:$Y$3),20000),ROW(16:16))),"")}
A34: =IF(C34<>"",INDEX('Relevé ceintures'!$B$1:$Y$1,INT((MATCH($C34,'Relevé ceintures'!$B$3:$Y$3,0)-1)/8)*8+1),"") | B34: =IF(C34<>"",INDEX('Relevé ceintures'!$B$2:$Y$2,INT((MATCH($C34,'Relevé ceintures'!$B$3:$Y$3,0)-1)/4)*4+1),"") | C34: {=IFERROR(INDEX('Relevé ceintures'!$A$3:$Y$3,SMALL(IF(OFFSET('Relevé ceintures'!$B$3:$Y$3,MATCH($C$3,'Relevé ceintures'!$A$4:$A$13,0),)=2,COLUMN('Relevé ceintures'!$B$3:$Y$3),20000),ROW(17:17))),"")}
A35: =IF(C35<>"",INDEX('Relevé ceintures'!$B$1:$Y$1,INT((MATCH($C35,'Relevé ceintures'!$B$3:$Y$3,0)-1)/8)*8+1),"") | B35: =IF(C35<>"",INDEX('Relevé ceintures'!$B$2:$Y$2,INT((MATCH($C35,'Relevé ceintures'!$B$3:$Y$3,0)-1)/4)*4+1),"") | C35: {=IFERROR(INDEX('Relevé ceintures'!$A$3:$Y$3,SMALL(IF(OFFSET('Relevé ceintures'!$B$3:$Y$3,MATCH($C$3,'Relevé ceintures'!$A$4:$A$13,0),)=2,COLUMN('Relevé ceintures'!$B$3:$Y$3),20000),ROW(18:18))),"")}
A36: =IF(C36<>"",INDEX('Relevé ceintures'!$B$1:$Y$1,INT((MATCH($C36,'Relevé ceintures'!$B$3:$Y$3,0)-1)/8)*8+1),"") | B36: =IF(C36<>"",INDEX('Relevé ceintures'!$B$2:$Y$2,INT((MATCH($C36,'Relevé ceintures'!$B$3:$Y$3,0)-1)/4)*4+1),"") | C36: {=IFERROR(INDEX('Relevé ceintures'!$A$3:$Y$3,SMALL(IF(OFFSET('Relevé ceintures'!$B$3:$Y$3,MATCH($C$3,'Relevé ceintures'!$A$4:$A$13,0),)=2,COLUMN('Relevé ceintures'!$B$3:$Y$3),20000),ROW(19:19))),"")}
A37: =IF(C37<>"",INDEX('Relevé ceintures'!$B$1:$Y$1,INT((MATCH($C37,'Relevé ceintures'!$B$3:$Y$3,0)-1)/8)*8+1),"") | B37: =IF(C37<>"",INDEX('Relevé ceintures'!$B$2:$Y$2,INT((MATCH($C37,'Relevé ceintures'!$B$3:$Y$3,0)-1)/4)*4+1),"") | C37: {=IFERROR(INDEX('Relevé ceintures'!$A$3:$Y$3,SMALL(IF(OFFSET('Relevé ceintures'!$B$3:$Y$3,MATCH($C$3,'Relevé ceintures'!$A$4:$A$13,0),)=2,COLUMN('Relevé ceintures'!$B$3:$Y$3),20000),ROW(20:20))),"")}
A38: =IF(C38<>"",INDEX('Relevé ceintures'!$B$1:$Y$1,INT((MATCH($C38,'Relevé ceintures'!$B$3:$Y$3,0)-1)/8)*8+1),"") | B38: =IF(C38<>"",INDEX('Relevé ceintures'!$B$2:$Y$2,INT((MATCH($C38,'Relevé ceintures'!$B$3:$Y$3,0)-1)/4)*4+1),"") | C38: {=IFERROR(INDEX('Relevé ceintures'!$A$3:$Y$3,SMALL(IF(OFFSET('Relevé ceintures'!$B$3:$Y$3,MATCH($C$3,'Relevé ceintures'!$A$4:$A$13,0),)=2,COLUMN('Relevé ceintures'!$B$3:$Y$3),20000),ROW(21:21))),"")}
A39: =IF(C39<>"",INDEX('Relevé ceintures'!$B$1:$Y$1,INT((MATCH($C39,'Relevé ceintures'!$B$3:$Y$3,0)-1)/8)*8+1),"") | B39: =IF(C39<>"",INDEX('Relevé ceintures'!$B$2:$Y$2,INT((MATCH($C39,'Relevé ceintures'!$B$3:$Y$3,0)-1)/4)*4+1),"") | C39: {=IFERROR(INDEX('Relevé ceintures'!$A$3:$Y$3,SMALL(IF(OFFSET('Relevé ceintures'!$B$3:$Y$3,MATCH($C$3,'Relevé ceintures'!$A$4:$A$13,0),)=2,COLUMN('Relevé ceintures'!$B$3:$Y$3),20000),ROW(22:22))),"")}
A40: =IF(C40<>"",INDEX('Relevé ceintures'!$B$1:$Y$1,INT((MATCH($C40,'Relevé ceintures'!$B$3:$Y$3,0)-1)/8)*8+1),"") | B40: =IF(C40<>"",INDEX('Relevé ceintures'!$B$2:$Y$2,INT((MATCH($C40,'Relevé ceintures'!$B$3:$Y$3,0)-1)/4)*4+1),"") | C40: {=IFERROR(INDEX('Relevé ceintures'!$A$3:$Y$3,SMALL(IF(OFFSET('Relevé ceintures'!$B$3:$Y$3,MATCH($C$3,'Relevé ceintures'!$A$4:$A$13,0),)=2,COLUMN('Relevé ceintures'!$B$3:$Y$3),20000),ROW(23:23))),"")}
A41: =IF(C41<>"",INDEX('Relevé ceintures'!$B$1:$Y$1,INT((MATCH($C41,'Relevé ceintures'!$B$3:$Y$3,0)-1)/8)*8+1),"") | B41: =IF(C41<>"",INDEX('Relevé ceintures'!$B$2:$Y$2,INT((MATCH($C41,'Relevé ceintures'!$B$3:$Y$3,0)-1)/4)*4+1),"") | C41: {=IFERROR(INDEX('Relevé ceintures'!$A$3:$Y$3,SMALL(IF(OFFSET('Relevé ceintures'!$B$3:$Y$3,MATCH($C$3,'Relevé ceintures'!$A$4:$A$13,0),)=2,COLUMN('Relevé ceintures'!$B$3:$Y$3),20000),ROW(24:24))),"")}

Sheet Compétences
A1: Français | C1: Conjugaison | F1: LANGAGE ORAL
A2: Mathématiques | C2: Grammaire | E2: 1 | F2: Raconter, décrire, exposer
C3: Orthographe | E3: 2 | F3: Faire un récit structuré et compréhensible pour un tiers ignorant des faits rapportés ou de l’histoire racontée, inventer et modifier des histoires, décrire une image, exprimer des senti­ments, en s’exprimant en phrases correctes et dans un vocabulaire approprié.
C4: Vocabulaire | E4: 3 | F4: Décrire un objet, présenter un travail à la classe en s’exprimant en phrases correctes et dans un vocabulaire approprié.
C5: Expression écrite | E5: 4 | F5: Echanger, débattre
C6: Lecture | E6: 5 | F6: Ecouter et prendre en compte ce qui a été dit.
E7: 6 | F7: Questionner afin de mieux comprendre.
C8: Numération | E8: 7 | F8: Exprimer et justifier un accord ou un désaccord, émettre un point de vue personnel motivé.
C9: Calcul | E9: 8 | F9: Demander et prendre la parole à bon escient.
C10: Géométrie | E10: 9 | F10: Réagir à l’exposé d’un autre élève en apportant un point de vue motivé.
C11: Mesures | E11: 10 | F11: Participer à un débat en respectant les tours de parole et les règles de la politesse.
C12: Problèmes | E12: 11 | F12: Présenter à la classe un travail collectif.
E13: 12 | F13: Participer aux échanges de manière constructive : rester dans le sujet, situer son propos par rapport aux autres, apporter des arguments, mobiliser des connaissances, respecter les règles habituelles de la communication.
E14: 13 | F14: Réciter
E15: 14 | F15: Dire sans erreur et de manière expressive des textes en prose ou des poèmes (une dizaine).
E16: 15
E17: 16
E18: 17
E19: 18
F20: LECTURE
E21: 1 | F21: Lire les consignes de travail, les énoncés de problèmes dont le vocabulaire difficile ou nouveau a été élucidé par le maître.
E22: 2 | F22: Lire à haute voix avec fluidité et de manière expressive un extrait de texte, après préparation.
E23: 3 | F23: Lire silencieusement un texte littéraire ou documentaire et le comprendre (reformuler, répondre à des questions sur ce texte).
E24: 4 | F24: Repérer dans un texte des informations explicites en s’appuyant en particulier sur le titre, l’organisation (phrases, paragraphes), le vocabulaire.
E25: 5 | F25: Reconnaître les marques de ponctuation.
E26: 6 | F26: Dans un récit
E27: 7 | F27: Dans un récit d'appuyer sur le repérage des différents termes désignant un personnage,
E28: 8 | F28: Dans un récit s'appuyer sur les temps des verbes et sur les mots de liaison exprimant les relations temporelles pour comprendre avec précision la chronologie des événements,
E29: 9 | F29: Dans un récit s'appuyer sur les deux-points et guillemets pour repérer les paroles des personnages.
E30: 10 | F30: Lire un texte documentaire, descriptif ou narratif, et restituer à l’oral ou par écrit l’essentiel du texte (sujet du texte, objet de la description, trame de l’histoire, relations entre les personnages…).
E31: 11 | F31: Adopter une stratégie pour parvenir à comprendre : repérer des mots inconnus et incompris, relire, questionner, recourir au dictionnaire, etc.
E32: 12 | F32: Se repérer dans une bibliothèque habituellement fréquentée pour choisir et emprunter un livre.
... E49: 29 | F49: Utiliser ses connaissances pour réfléchir sur un texte, mieux le comprendre
E50: 30
E51: 31
E52: 32
F53: ECRIRE
E54: 1 | F54: Copier sans erreur un texte en lui donnant une présentation adaptée. (au moins 5 lignes CE2; 10 C61lignes CM1 15 lignes CM2
E55: 2 | F55: Copier avec soin, en respectant la mise en page, un texte en prose ou poème appris en récitation.
E56: 3 | F56: Répondre à une question par une phrase complète à l’écrit
...
