Workbook

Sheet Feuil1
A1: Novembre
A2: 1 | B2: Total samedi | C2: =IFERROR(INDEX(Feuil2!$B$2:$B$10,MATCH(B2,Feuil2!$A$2:$A$10,0)),"") -> 0.375 | F2: Perm soir | G2: 0.83333333 | H2: 0.91666667 | I2: =H2-G2 -> 0.083333333
A3: 2 | B3: Permanence Lundi | C3: =IFERROR(INDEX(Feuil2!$B$2:$B$10,MATCH(B3,Feuil2!$A$2:$A$10,0)),"") -> 0.083333333 | F3: Perm matin | G3: 0.27083333 | H3: 0.33333333 | I3: =H3-G3 -> 0.0625
A4: 3 | C4: =IFERROR(INDEX(Feuil2!$B$2:$B$10,MATCH(B4,Feuil2!$A$2:$A$10,0)),"") | F4: Perm samedi matin | G4: 0.27083333 | H4: 0.3125 | I4: =H4-G4 -> 0.041666667
A5: 4 | C5: =IFERROR(INDEX(Feuil2!$B$2:$B$10,MATCH(B5,Feuil2!$A$2:$A$10,0)),"") | F5: Perm samedi soirée | G5: 0.58333333 | H5: 0.91666667 | I5: =H5-G5 -> 0.33333333 | J5: Bonjour et merci de votre reponse aussi rapide mais je suis vraiment pas experimenter avec excel
A6: 5 | C6: =IFERROR(INDEX(Feuil2!$B$2:$B$10,MATCH(B6,Feuil2!$A$2:$A$10,0)),"") | F6: Perm Dimanche matin | G6: 0.27083333 | H6: 0.39583333 | I6: =H6-G6 -> 0.125 | J6: donc dans la colonne B j'ai mis un menu sur chaque cellule le tableau de reference ce trouve feuil2
A7: 6 | C7: =IFERROR(INDEX(Feuil2!$B$2:$B$10,MATCH(B7,Feuil2!$A$2:$A$10,0)),"") | F7: Perm Dimanche journée | G7: 0.58333333 | H7: 0.79166667 | I7: =H7-G7 -> 0.20833333 | J7: comme vous le voyez feuil2 il y a deux colonnes une Nom et l'autre Heures
A8: 7 | C8: =IFERROR(INDEX(Feuil2!$B$2:$B$10,MATCH(B8,Feuil2!$A$2:$A$10,0)),"") | F8: Animation | G8: 0.58333333 | H8: 0.70833333 | I8: =H8-G8 -> 0.125 | J8: je souhaiterai que lorsque je choisi total samedi en B2 feuil1 l'heure en face Total samedi en feuil2 s'affiche en C2 feuil1
A9: 8 | C9: =IFERROR(INDEX(Feuil2!$B$2:$B$10,MATCH(B9,Feuil2!$A$2:$A$10,0)),"") | F9: Loyers | G9: 0.66666667 | H9: 0.83333333 | I9: =H9-G9 -> 0.16666667 | J9: merci d'avance
A10: 9 | C10: =IFERROR(INDEX(Feuil2!$B$2:$B$10,MATCH(B10,Feuil2!$A$2:$A$10,0)),"")
A11: 10 | C11: =IFERROR(INDEX(Feuil2!$B$2:$B$10,MATCH(B11,Feuil2!$A$2:$A$10,0)),"")
A12: 11 | C12: =IFERROR(INDEX(Feuil2!$B$2:$B$10,MATCH(B12,Feuil2!$A$2:$A$10,0)),"")
A13: 12 | C13: =IFERROR(INDEX(Feuil2!$B$2:$B$10,MATCH(B13,Feuil2!$A$2:$A$10,0)),"")
A14: 13 | C14: =IFERROR(INDEX(Feuil2!$B$2:$B$10,MATCH(B14,Feuil2!$A$2:$A$10,0)),"") | F14: Total samedi | G14: =I4+I5 -> 0.375
A15: 14 | C15: =IFERROR(INDEX(Feuil2!$B$2:$B$10,MATCH(B15,Feuil2!$A$2:$A$10,0)),"") | F15: Total dimance | G15: =I6+I7+I2 -> 0.41666667
A16: 15 | C16: =IFERROR(INDEX(Feuil2!$B$2:$B$10,MATCH(B16,Feuil2!$A$2:$A$10,0)),"") | F16: Permanence Lundi | G16: =I2 -> 0.083333333
A17: 16 | C17: =IFERROR(INDEX(Feuil2!$B$2:$B$10,MATCH(B17,Feuil2!$A$2:$A$10,0)),"") | F17: Permanence Mardi | G17: =I3+I2 -> 0.14583333
A18: 17 | C18: =IFERROR(INDEX(Feuil2!$B$2:$B$10,MATCH(B18,Feuil2!$A$2:$A$10,0)),"") | F18: Permanence Mercredi | G18: =I3+I2 -> 0.14583333
A19: 18 | C19: =IFERROR(INDEX(Feuil2!$B$2:$B$10,MATCH(B19,Feuil2!$A$2:$A$10,0)),"") | F19: Permanence Jeudi | G19: =I3+I2 -> 0.14583333
A20: 19 | C20: =IFERROR(INDEX(Feuil2!$B$2:$B$10,MATCH(B20,Feuil2!$A$2:$A$10,0)),"") | F20: Permanence Vendredi | G20: =I3+I2 -> 0.14583333
A21: 20 | C21: =IFERROR(INDEX(Feuil2!$B$2:$B$10,MATCH(B21,Feuil2!$A$2:$A$10,0)),"") | F21: Loyer | G21: =I9 -> 0.16666667
A22: 21 | C22: =IFERROR(INDEX(Feuil2!$B$2:$B$10,MATCH(B22,Feuil2!$A$2:$A$10,0)),"") | F22: Repos
A23: 22 | C23: =IFERROR(INDEX(Feuil2!$B$2:$B$10,MATCH(B23,Feuil2!$A$2:$A$10,0)),"")
A24: 23 | C24: =IFERROR(INDEX(Feuil2!$B$2:$B$10,MATCH(B24,Feuil2!$A$2:$A$10,0)),"")
A25: 24 | C25: =IFERROR(INDEX(Feuil2!$B$2:$B$10,MATCH(B25,Feuil2!$A$2:$A$10,0)),"")
A26: 25 | C26: =IFERROR(INDEX(Feuil2!$B$2:$B$10,MATCH(B26,Feuil2!$A$2:$A$10,0)),"")
A27: 26 | C27: =IFERROR(INDEX(Feuil2!$B$2:$B$10,MATCH(B27,Feuil2!$A$2:$A$10,0)),"")
A28: 27 | C28: =IFERROR(INDEX(Feuil2!$B$2:$B$10,MATCH(B28,Feuil2!$A$2:$A$10,0)),"")
A29: 28 | C29: =IFERROR(INDEX(Feuil2!$B$2:$B$10,MATCH(B29,Feuil2!$A$2:$A$10,0)),"")
A30: 29 | C30: =IFERROR(INDEX(Feuil2!$B$2:$B$10,MATCH(B30,Feuil2!$A$2:$A$10,0)),"")
A31: 30 | C31: =IFERROR(INDEX(Feuil2!$B$2:$B$10,MATCH(B31,Feuil2!$A$2:$A$10,0)),"")
A32: 31 | C32: =IFERROR(INDEX(Feuil2!$B$2:$B$10,MATCH(B32,Feuil2!$A$2:$A$10,0)),"")

Sheet Feuil2
A1: Nom | B1: Heures
A2: Total samedi | B2: 0.375
A3: Total dimance | B3: 0.41666667
A4: Permanence Lundi | B4: 0.083333333
A5: Permanence Mardi | B5: 0.14583333
A6: Permanence Mercredi | B6: 0.14583333
A7: Permanence Jeudi | B7: 0.14583333
A8: Permanence Vendredi | B8: 0.14583333
A9: Loyer | B9: 0.16666667
A10: Repos | B10: 0
