Workbook

Sheet Feuil1
B1: Horaire_C | C1: Horaire_1/2 C | D1: Horaire_8-17 | E1: Horaire_8-16
A2: Heure effective début travail | C2: 0.33680556 | D2: 0.33680556 | E2: 0.33680556
A3: Heure effective fin travail | C3: 0.40625 | D3: 0.40625 | E3: 0.40625
A4: Durée Travail Effective | B4: =IF(B2=0,"",B3-B2) | C4: =IF(C2=0,"",C3-C2) -> 0.069444444 | D4: =IF(D2=0,"",D3-D2) -> 0.069444444 | E4: =IF(E2=0,"",E3-E2) -> 0.069444444
A5: Début_Pause_n°1 | C5: 0.40625 | D5: 0.40625 | E5: 0.40625
A6: Fin_Pause_n°1 | C6: 0.41666667 | D6: 0.41666667 | E6: 0.41666667
A7: Durée Pause Effective | B7: =IF(B5="","",B6-B5) | C7: =IF(C5="","",C6-C5) -> 0.010416667 | D7: =IF(D5="","",D6-D5) -> 0.010416667 | E7: =IF(E5="","",E6-E5) -> 0.010416667
A8: Heure reprise travail | C8: 0.41666667 | D8: 0.41666667 | E8: 0.41666667
A9: Heure fin de travail | C9: 0.49652778 | D9: 0.49652778 | E9: 0.49652778
A10: Durée Travail Effective | B10: =IF(B8=0,"",B9-B8) | C10: =IF(C8=0,"",C9-C8) -> 0.079861111 | D10: =IF(D8=0,"",D9-D8) -> 0.079861111 | E10: =IF(E8=0,"",E9-E8) -> 0.079861111
A11: Début_Pause_n°2 | D11: 0.49652778 | E11: 0.49652778
A12: Fin_Pause_n°2 | D12: 0.54166667 | E12: 0.54166667
A13: Durée Pause Effective | B13: =IF(B11="","",B12-B11) | C13: =IF(C11="","",C12-C11) | D13: =IF(D11="","",D12-D11) -> 0.045138889 | E13: =IF(E11="","",E12-E11) -> 0.045138889
A14: Heure reprise travail | D14: 0.54166667 | E14: 0.54166667
A15: Heure fin de travail | D15: 0.625 | E15: 0.625
A16: Durée Travail Effective | B16: =IF(B14=0,"",B15-B14) | C16: =IF(C14=0,"",C15-C14) | D16: =IF(D14=0,"",D15-D14) -> 0.083333333 | E16: =IF(E14=0,"",E15-E14) -> 0.083333333
A17: Début_Pause_n°3 | D17: 0.625 | E17: 0.625
A18: Fin_Pause_n°3 | D18: 0.63541667 | E18: 0.63541667
A19: Durée Pause Effective | B19: =IF(B17="","",B18-B17) | C19: =IF(C17="","",C18-C17) | D19: =IF(D17="","",D18-D17) -> 0.010416667 | E19: =IF(E17="","",E18-E17) -> 0.010416667
A20: Heure reprise travail | D20: 0.63541667 | E20: 0.63541667
A21: Heure fin de travail | D21: 0.70486111 | E21: 0.66319444
A22: Durée Travail Effective | B22: =IF(B20=0,"",B21-B20) | C22: =IF(C20=0,"",C21-C20) | D22: =IF(D20=0,"",D21-D20) -> 0.069444444 | E22: =IF(E20=0,"",E21-E20) -> 0.027777778
B24: =IF(B1="","",B1) -> Horaire_C | C24: =IF(C1="","",C1) -> Horaire_1/2 C | D24: =IF(D1="","",D1) -> Horaire_8-17 | E24: =IF(E1="","",E1) -> Horaire_8-16
A25: Durée Travail Effective Totale | B25: 0 | C25: =IF(C2="","",SUMIF($A2:C22,"Durée Travail Effective",C2:C22)) -> 0.14930556 | D25: =IF(D2="","",SUMIF($A2:D22,"Durée Travail Effective",D2:D22)) -> 0.30208333 | E25: =IF(E2="","",SUMIF($A2:E22,"Durée Travail Effective",E2:E22)) -> 0.26041667
A26: Durée Pause effective Totale | B26: 0 | C26: =IF(C5="","",SUMIF($A2:C22,"Durée Pause Effective",C2:C22)) -> 0.010416667 | D26: =IF(D5="","",SUMIF($A2:D22,"Durée Pause Effective",D2:D22)) -> 0.065972222 | E26: =IF(E5="","",SUMIF($A2:E22,"Durée Pause Effective",E2:E22)) -> 0.065972222
B28: JS ou RTT ou SS ou férié | C28: 1/2 (JS ou RTT ou SS) | D28: L+M+M+J | E28: Vendredi

Sheet Tableau_à_Remplir
L2: Nombre Total de type horaire choisis par jour jounée | Q2: Résultat d'heure par type d'horaire
A3: Date | B3: Férié_Ouvré | C3: Jour | D3: Ouvrier 1 | E3: Ouvrier 2 | F3: Ouvrier 3 | G3: Ouvrier 4 | H3: Ouvrier 5 | I3: Ouvrier 6 | L3: Horaire_C | M3: Horaire_1/2 C | N3: Horaire_8-17 | O3: Horaire_8-16 | Q3: Horaire_C | R3: Horaire_1/2 C | S3: Horaire_8-17 | T3: Horaire_8-16 | V3: Heure Travail Total au cours d'une journée | W3: Heure de travail par jour en décimal | X3: Restant à faire à partir du lendemain | Y3: Ramené au nombre de personnes | AC3: 9h45 | AD3: intermédiaire | AE3: 12h00 | AF3: intermédiaire | AG3: 15h00 | AH3: Final | AI3: Date | AJ3: Jour
A4: 42915 | B4: Ouvré | C4: Jeudi | D4: Horaire_C | E4: Horaire_8-17 | F4: Horaire_8-17 | G4: Horaire_8-17 | H4: Horaire_8-17 | I4: Horaire_8-17 | L4: =COUNTIF($D4:$I4,"Horaire_C") -> 1 | M4: =COUNTIF($D4:$I4,"Horaire_1/2 C") -> 0 | N4: =COUNTIF($D4:$I4,"Horaire_8-17") -> 5 | O4: =COUNTIF($D4:$I4,"Horaire_8-16") -> 0 | Q4: =(Feuil1!$B$25)*L4 -> 0 | R4: =(Feuil1!$C$25)*M4 -> 0 | S4: =(Feuil1!$D$25)*N4 -> 1.5104167 | T4: =(Feuil1!$E$25)*O4 -> 0 | V4: =SUM(R4:T4) -> 1.5104167 | W4: =V4*24 -> 36.25 | X4: 100 | AA4: =IF(Z4="Fin du travail aujourd'hui vers",(X3+8)/24,"") | AB4: =IF(AA4="","",(AA4-INT(AA4))*24) | AC4: =IF(AB4="","",IF(AB4>9.75,0.25,0)) | AD4: =IF(Z4="","",(AC4+AB4)) | AE4: =IF(Z4="","",IF(AD4>12,1,0)) | AF4: =IF(Z4="","",(AE4+AD4)) | AG4: =IF(Z4="","",IF(AF4>15,0.25,0)) | AH4: =IF(AA4="","",(AB4+AC4+AE4+AG4)/24) | AI4: 42915 | AJ4: Jeudi
A5: 42916 | B5: Ouvré | C5: Vendredi | D5: Horaire_C | E5: Horaire_8-16 | F5: Horaire_8-16 | G5: Horaire_8-16 | H5: Horaire_8-16 | I5: Horaire_8-16 | L5: =COUNTIF($D5:$I5,"Horaire_C") -> 1 | M5: =COUNTIF($D5:$I5,"Horaire_1/2 C") -> 0 | N5: =COUNTIF($D5:$I5,"Horaire_8-17") -> 0 | O5: =COUNTIF($D5:$I5,"Horaire_8-16") -> 5 | Q5: =(Feuil1!$B$25)*L5 -> 0 | R5: =(Feuil1!$C$25)*M5 -> 0 | S5: =(Feuil1!$D$25)*N5 -> 0 | T5: =(Feuil1!$E$25)*O5 -> 1.3020833 | V5: =SUM(R5:T5) -> 1.3020833 | W5: =V5*24 -> 31.25 | X5: =IF(OR(X4<0,X4=""),"",IF(W5=0,X4,(X4-W5))) -> 68.75 | Y5: =IF(AND(X5<0,X4>0),(X4/SUM(M5:O5)),"") | Z5: =IF(AND(X4>0,X5<0), "Fin du travail aujourd'hui vers","") | AA5: =IF(Z5="Fin du travail aujourd'hui vers",(Y5+8)/24,"") | AB5: =IF(AA5="","",(AA5-INT(AA5))*24) | AC5: =IF(AB5="","",IF(AB5>9.75,0.25,0)) | AD5: =IF(Z5="","",(AC5+AB5)) | AE5: =IF(Z5="","",IF(AD5>12,1,0)) | AF5: =IF(Z5="","",IF(AE5=0,0,(AE5+AD5))) | AG5: =IF(Z5="","",IF(AF5>15,0.25,0)) | AH5: =IF(AA5="","",(AB5+AC5+AE5+AG5)/24) | AI5: 42916 | AJ5: Vendredi
A6: 42917 | B6: Férié | C6: Samedi | D6: Horaire_C | E6: Horaire_C | F6: Horaire_C | G6: Horaire_C | H6: Horaire_C | I6: Horaire_C | L6: =COUNTIF($D6:$I6,"Horaire_C") -> 6 | M6: =COUNTIF($D6:$I6,"Horaire_1/2 C") -> 0 | N6: =COUNTIF($D6:$I6,"Horaire_8-17") -> 0 | O6: =COUNTIF($D6:$I6,"Horaire_8-16") -> 0 | Q6: =(Feuil1!$B$25)*L6 -> 0 | R6: =(Feuil1!$C$25)*M6 -> 0 | S6: =(Feuil1!$D$25)*N6 -> 0 | T6: =(Feuil1!$E$25)*O6 -> 0 | V6: =SUM(R6:T6) -> 0 | W6: =V6*24 -> 0 | X6: =IF(OR(X5<0,X5=""),"",IF(W6=0,X5,(X5-W6))) -> 68.75 | Y6: =IF(AND(X6<0,X5>0),(X5/SUM(M6:O6)),"") | Z6: =IF(AND(X5>0,X6<0), "Fin du travail aujourd'hui vers","") | AA6: =IF(Z6="Fin du travail aujourd'hui vers",(Y6+8)/24,"") | AB6: =IF(AA6="","",(AA6-INT(AA6))*24) | AC6: =IF(AB6="","",IF(AB6>9.75,0.25,0)) | AD6: =IF(Z6="","",(AC6+AB6)) | AE6: =IF(Z6="","",IF(AD6>12,1,0)) | AF6: =IF(Z6="","",IF(AE6=0,0,(AE6+AD6))) | AG6: =IF(Z6="","",IF(AF6>15,0.25,0)) | AH6: =IF(AA6="","",(AB6+AC6+AE6+AG6)/24) | AI6: 42917 | AJ6: Samedi
A7: 42918 | B7: Férié | C7: Dimanche | D7: Horaire_C | E7: Horaire_C | F7: Horaire_C | G7: Horaire_C | H7: Horaire_C | I7: Horaire_C | L7: =COUNTIF($D7:$I7,"Horaire_C") -> 6 | M7: =COUNTIF($D7:$I7,"Horaire_1/2 C") -> 0 | N7: =COUNTIF($D7:$I7,"Horaire_8-17") -> 0 | O7: =COUNTIF($D7:$I7,"Horaire_8-16") -> 0 | Q7: =(Feuil1!$B$25)*L7 -> 0 | R7: =(Feuil1!$C$25)*M7 -> 0 | S7: =(Feuil1!$D$25)*N7 -> 0 | T7: =(Feuil1!$E$25)*O7 -> 0 | V7: =SUM(R7:T7) -> 0 | W7: =V7*24 -> 0 | X7: =IF(OR(X6<0,X6=""),"",IF(W7=0,X6,(X6-W7))) -> 68.75 | Y7: =IF(AND(X7<0,X6>0),(X6/SUM(M7:O7)),"") | Z7: =IF(AND(X6>0,X7<0), "Fin du travail aujourd'hui vers","") | AA7: =IF(Z7="Fin du travail aujourd'hui vers",(Y7+8)/24,"") | AB7: =IF(AA7="","",(AA7-INT(AA7))*24) | AC7: =IF(AB7="","",IF(AB7>9.75,0.25,0)) | AD7: =IF(Z7="","",(AC7+AB7)) | AE7: =IF(Z7="","",IF(AD7>12,1,0)) | AF7: =IF(Z7="","",IF(AE7=0,0,(AE7+AD7))) | AG7: =IF(Z7="","",IF(AF7>15,0.25,0)) | AH7: =IF(AA7="","",(AB7+AC7+AE7+AG7)/24) | AI7: 42918 | AJ7: Dimanche
A8: 42919 | B8: Ouvré | C8: Lundi | D8: Horaire_8-17 | E8: Horaire_8-17 | F8: Horaire_8-17 | G8: Horaire_8-17 | H8: Horaire_8-17 | I8: Horaire_8-17 | L8: =COUNTIF($D8:$I8,"Horaire_C") -> 0 | M8: =COUNTIF($D8:$I8,"Horaire_1/2 C") -> 0 | N8: =COUNTIF($D8:$I8,"Horaire_8-17") -> 6 | O8: =COUNTIF($D8:$I8,"Horaire_8-16") -> 0 | Q8: =(Feuil1!$B$25)*L8 -> 0 | R8: =(Feuil1!$C$25)*M8 -> 0 | S8: =(Feuil1!$D$25)*N8 -> 1.8125 | T8: =(Feuil1!$E$25)*O8 -> 0 | V8: =SUM(R8:T8) -> 1.8125 | W8: =V8*24 -> 43.5 | X8: =IF(OR(X7<0,X7=""),"",IF(W8=0,X7,(X7-W8))) -> 25.25 | Y8: =IF(AND(X8<0,X7>0),(X7/SUM(M8:O8)),"") | Z8: =IF(AND(X7>0,X8<0), "Fin du travail aujourd'hui vers","") | AA8: =IF(Z8="Fin du travail aujourd'hui vers",(Y8+8)/24,"") | AB8: =IF(AA8="","",(AA8-INT(AA8))*24) | AC8: =IF(AB8="","",IF(AB8>9.75,0.25,0)) | AD8: =IF(Z8="","",(AC8+AB8)) | AE8: =IF(Z8="","",IF(AD8>12,1,0)) | AF8: =IF(Z8="","",IF(AE8=0,0,(AE8+AD8))) | AG8: =IF(Z8="","",IF(AF8>15,0.25,0)) | AH8: =IF(AA8="","",(AB8+AC8+AE8+AG8)/24) | AI8: 42919 | AJ8: Lundi
A9: 42920 | B9: Ouvré | C9: Mardi | D9: Horaire_8-17 | E9: Horaire_8-17 | F9: Horaire_8-17 | G9: Horaire_8-17 | H9: Horaire_8-17 | I9: Horaire_8-17 | L9: =COUNTIF($D9:$I9,"Horaire_C") -> 0 | M9: =COUNTIF($D9:$I9,"Horaire_1/2 C") -> 0 | N9: =COUNTIF($D9:$I9,"Horaire_8-17") -> 6 | O9: =COUNTIF($D9:$I9,"Horaire_8-16") -> 0 | Q9: =(Feuil1!$B$25)*L9 -> 0 | R9: =(Feuil1!$C$25)*M9 -> 0 | S9: =(Feuil1!$D$25)*N9 -> 1.8125 | T9: =(Feuil1!$E$25)*O9 -> 0 | V9: =SUM(R9:T9) -> 1.8125 | W9: =V9*24 -> 43.5 | X9: =IF(OR(X8<0,X8=""),"",IF(W9=0,X8,(X8-W9))) -> -18.25 | Y9: =IF(AND(X9<0,X8>0),(X8/SUM(M9:O9)),"") -> 4.2083333 | Z9: =IF(AND(X8>0,X9<0), "Fin du travail aujourd'hui vers","") -> Fin du travail aujourd'hui vers | AA9: =IF(Z9="Fin du travail aujourd'hui vers",(Y9+8)/24,"") -> 0.50868056 | AB9: =IF(AA9="","",(AA9-INT(AA9))*24) -> 12.208333 | AC9: =IF(AB9="","",IF(AB9>9.75,0.25,0)) -> 0.25 | AD9: =IF(Z9="","",(AC9+AB9)) -> 12.458333 | AE9: =IF(Z9="","",IF(AD9>12,1,0)) -> 1 | AF9: =IF(Z9="","",IF(AE9=0,0,(AE9+AD9))) -> 13.458333 | AG9: =IF(Z9="","",IF(AF9>15,0.25,0)) -> 0 | AH9: =IF(AA9="","",(AB9+AC9+AE9+AG9)/24) -> 0.56076389 | AI9: 42920 | AJ9: Mardi
A10: 42921 | B10: Ouvré | C10: Mercredi | D10: Horaire_8-17 | E10: Horaire_8-17 | F10: Horaire_8-17 | G10: Horaire_8-17 | H10: Horaire_8-17 | I10: Horaire_8-17 | L10: =COUNTIF($D10:$I10,"Horaire_C") -> 0 | M10: =COUNTIF($D10:$I10,"Horaire_1/2 C") -> 0 | N10: =COUNTIF($D10:$I10,"Horaire_8-17") -> 6 | O10: =COUNTIF($D10:$I10,"Horaire_8-16") -> 0 | Q10: =(Feuil1!$B$25)*L10 -> 0 | R10: =(Feuil1!$C$25)*M10 -> 0 | S10: =(Feuil1!$D$25)*N10 -> 1.8125 | T10: =(Feuil1!$E$25)*O10 -> 0 | V10: =SUM(R10:T10) -> 1.8125 | W10: =V10*24 -> 43.5 | X10: =IF(OR(X9<0,X9=""),"",IF(W10=0,X9,(X9-W10))) | Y10: =IF(AND(X10<0,X9>0),(X9/SUM(M10:O10)),"") | Z10: =IF(AND(X9>0,X10<0), "Fin du travail aujourd'hui vers","") | AA10: =IF(Z10="Fin du travail aujourd'hui vers",(Y10+8)/24,"") | AB10: =IF(AA10="","",(AA10-INT(AA10))*24) | AC10: =IF(AB10="","",IF(AB10>9.75,0.25,0)) | AD10: =IF(Z10="","",(AC10+AB10)) | AE10: =IF(Z10="","",IF(AD10>12,1,0)) | AF10: =IF(Z10="","",IF(AE10=0,0,(AE10+AD10))) | AG10: =IF(Z10="","",IF(AF10>15,0.25,0)) | AH10: =IF(AA10="","",(AB10+AC10+AE10+AG10)/24) | AI10: 42921 | AJ10: Mercredi
A11: 42922 | B11: Ouvré | C11: Jeudi | D11: Horaire_C | E11: Horaire_8-17 | F11: Horaire_8-17 | G11: Horaire_8-17 | H11: Horaire_8-17 | I11: Horaire_8-17 | L11: =COUNTIF($D11:$I11,"Horaire_C") -> 1 | M11: =COUNTIF($D11:$I11,"Horaire_1/2 C") -> 0 | N11: =COUNTIF($D11:$I11,"Horaire_8-17") -> 5 | O11: =COUNTIF($D11:$I11,"Horaire_8-16") -> 0 | Q11: =(Feuil1!$B$25)*L11 -> 0 | R11: =(Feuil1!$C$25)*M11 -> 0 | S11: =(Feuil1!$D$25)*N11 -> 1.5104167 | T11: =(Feuil1!$E$25)*O11 -> 0 | V11: =SUM(R11:T11) -> 1.5104167 | W11: =V11*24 -> 36.25 | X11: =IF(OR(X10<0,X10=""),"",IF(W11=0,X10,(X10-W11))) | Y11: =IF(AND(X11<0,X10>0),(X10/SUM(M11:O11)),"") | Z11: =IF(AND(X10>0,X11<0), "Fin du travail aujourd'hui vers","") | AA11: =IF(Z11="Fin du travail aujourd'hui vers",(Y11+8)/24,"") | AB11: =IF(AA11="","",(AA11-INT(AA11))*24) | AC11: =IF(AB11="","",IF(AB11>9.75,0.25,0)) | AD11: =IF(Z11="","",(AC11+AB11)) | AE11: =IF(Z11="","",IF(AD11>12,1,0)) | AF11: =IF(Z11="","",IF(AE11=0,0,(AE11+AD11))) | AG11: =IF(Z11="","",IF(AF11>15,0.25,0)) | AH11: =IF(AA11="","",(AB11+AC11+AE11+AG11)/24) | AI11: 42922 | AJ11: Jeudi
A12: 42923 | B12: Ouvré | C12: Vendredi | D12: Horaire_8-16 | E12: Horaire_8-16 | F12: Horaire_8-16 | G12: Horaire_8-16 | H12: Horaire_8-16 | I12: Horaire_8-16 | L12: =COUNTIF($D12:$I12,"Horaire_C") -> 0 | M12: =COUNTIF($D12:$I12,"Horaire_1/2 C") -> 0 | N12: =COUNTIF($D12:$I12,"Horaire_8-17") -> 0 | O12: =COUNTIF($D12:$I12,"Horaire_8-16") -> 6 | Q12: =(Feuil1!$B$25)*L12 -> 0 | R12: =(Feuil1!$C$25)*M12 -> 0 | S12: =(Feuil1!$D$25)*N12 -> 0 | T12: =(Feuil1!$E$25)*O12 -> 1.5625 | V12: =SUM(R12:T12) -> 1.5625 | W12: =V12*24 -> 37.5 | X12: =IF(OR(X11<0,X11=""),"",IF(W12=0,X11,(X11-W12))) | Y12: =IF(AND(X12<0,X11>0),(X11/SUM(M12:O12)),"") | Z12: =IF(AND(X11>0,X12<0), "Fin du travail aujourd'hui vers","") | AA12: =IF(Z12="Fin du travail aujourd'hui vers",(Y12+8)/24,"") | AB12: =IF(AA12="","",(AA12-INT(AA12))*24) | AC12: =IF(AB12="","",IF(AB12>9.75,0.25,0)) | AD12: =IF(Z12="","",(AC12+AB12)) | AE12: =IF(Z12="","",IF(AD12>12,1,0)) | AF12: =IF(Z12="","",IF(AE12=0,0,(AE12+AD12))) | AG12: =IF(Z12="","",IF(AF12>15,0.25,0)) | AH12: =IF(AA12="","",(AB12+AC12+AE12+AG12)/24) | AI12: 42923 | AJ12: Vendredi
A13: 42924 | B13: Férié | C13: Samedi | D13: Horaire_C | E13: Horaire_C | F13: Horaire_C | G13: Horaire_C | H13: Horaire_C | I13: Horaire_C | L13: =COUNTIF($D13:$I13,"Horaire_C") -> 6 | M13: =COUNTIF($D13:$I13,"Horaire_1/2 C") -> 0 | N13: =COUNTIF($D13:$I13,"Horaire_8-17") -> 0 | O13: =COUNTIF($D13:$I13,"Horaire_8-16") -> 0 | Q13: =(Feuil1!$B$25)*L13 -> 0 | R13: =(Feuil1!$C$25)*M13 -> 0 | S13: =(Feuil1!$D$25)*N13 -> 0 | T13: =(Feuil1!$E$25)*O13 -> 0 | V13: =SUM(R13:T13) -> 0 | W13: =V13*24 -> 0 | X13: =IF(OR(X12<0,X12=""),"",IF(W13=0,X12,(X12-W13))) | Y13: =IF(AND(X13<0,X12>0),(X12/SUM(M13:O13)),"") | Z13: =IF(AND(X12>0,X13<0), "Fin du travail aujourd'hui vers","") | AA13: =IF(Z13="Fin du travail aujourd'hui vers",(Y13+8)/24,"") | AB13: =IF(AA13="","",(AA13-INT(AA13))*24) | AC13: =IF(AB13="","",IF(AB13>9.75,0.25,0)) | AD13: =IF(Z13="","",(AC13+AB13)) | AE13: =IF(Z13="","",IF(AD13>12,1,0)) | AF13: =IF(Z13="","",IF(AE13=0,0,(AE13+AD13))) | AG13: =IF(Z13="","",IF(AF13>15,0.25,0)) | AH13: =IF(AA13="","",(AB13+AC13+AE13+AG13)/24) | AI13: 42924 | AJ13: Samedi
A14: 42925 | B14: Férié | C14: Dimanche | D14: Horaire_C | E14: Horaire_C | F14: Horaire_C | G14: Horaire_C | H14: Horaire_C | I14: Horaire_C | L14: =COUNTIF($D14:$I14,"Horaire_C") -> 6 | M14: =COUNTIF($D14:$I14,"Horaire_1/2 C") -> 0 | N14: =COUNTIF($D14:$I14,"Horaire_8-17") -> 0 | O14: =COUNTIF($D14:$I14,"Horaire_8-16") -> 0 | Q14: =(Feuil1!$B$25)*L14 -> 0 | R14: =(Feuil1!$C$25)*M14 -> 0 | S14: =(Feuil1!$D$25)*N14 -> 0 | T14: =(Feuil1!$E$25)*O14 -> 0 | V14: =SUM(R14:T14) -> 0 | W14: =V14*24 -> 0 | X14: =IF(OR(X13<0,X13=""),"",IF(W14=0,X13,(X13-W14))) | Y14: =IF(AND(X14<0,X13>0),(X13/SUM(M14:O14)),"") | Z14: =IF(AND(X13>0,X14<0), "Fin du travail aujourd'hui vers","") | AA14: =IF(Z14="Fin du travail aujourd'hui vers",(Y14+8)/24,"") | AB14: =IF(AA14="","",(AA14-INT(AA14))*24) | AC14: =IF(AB14="","",IF(AB14>9.75,0.25,0)) | AD14: =IF(Z14="","",(AC14+AB14)) | AE14: =IF(Z14="","",IF(AD14>12,1,0)) | AF14: =IF(Z14="","",IF(AE14=0,0,(AE14+AD14))) | AG14: =IF(Z14="","",IF(AF14>15,0.25,0)) | AH14: =IF(AA14="","",(AB14+AC14+AE14+AG14)/24) | AI14: 42925 | AJ14: Dimanche
A15: 42926 | B15: Ouvré | C15: Lundi | D15: Horaire_8-17 | E15: Horaire_8-17 | F15: Horaire_8-17 | G15: Horaire_8-17 | H15: Horaire_8-17 | I15: Horaire_8-17 | L15: =COUNTIF($D15:$I15,"Horaire_C") -> 0 | M15: =COUNTIF($D15:$I15,"Horaire_1/2 C") -> 0 | N15: =COUNTIF($D15:$I15,"Horaire_8-17") -> 6 | O15: =COUNTIF($D15:$I15,"Horaire_8-16") -> 0 | Q15: =(Feuil1!$B$25)*L15 -> 0 | R15: =(Feuil1!$C$25)*M15 -> 0 | S15: =(Feuil1!$D$25)*N15 -> 1.8125 | T15: =(Feuil1!$E$25)*O15 -> 0 | V15: =SUM(R15:T15) -> 1.8125 | W15: =V15*24 -> 43.5 | X15: =IF(OR(X14<0,X14=""),"",IF(W15=0,X14,(X14-W15))) | Y15: =IF(AND(X15<0,X14>0),(X14/SUM(M15:O15)),"") | Z15: =IF(AND(X14>0,X15<0), "Fin du travail aujourd'hui vers","") | AA15: =IF(Z15="Fin du travail aujourd'hui vers",(Y15+8)/24,"") | AB15: =IF(AA15="","",(AA15-INT(AA15))*24) | AC15: =IF(AB15="","",IF(AB15>9.75,0.25,0)) | AD15: =IF(Z15="","",(AC15+AB15)) | AE15: =IF(Z15="","",IF(AD15>12,1,0)) | AF15: =IF(Z15="","",IF(AE15=0,0,(AE15+AD15))) | AG15: =IF(Z15="","",IF(AF15>15,0.25,0)) | AH15: =IF(AA15="","",(AB15+AC15+AE15+AG15)/24) | AI15: 42926 | AJ15: Lundi
A16: 42927 | B16: Ouvré | C16: Mardi | D16: Horaire_8-17 | E16: Horaire_8-17 | F16: Horaire_8-17 | G16: Horaire_8-17 | H16: Horaire_8-17 | I16: Horaire_8-17 | L16: =COUNTIF($D16:$I16,"Horaire_C") -> 0 | M16: =COUNTIF($D16:$I16,"Horaire_1/2 C") -> 0 | N16: =COUNTIF($D16:$I16,"Horaire_8-17") -> 6 | O16: =COUNTIF($D16:$I16,"Horaire_8-16") -> 0 | Q16: =(Feuil1!$B$25)*L16 -> 0 | R16: =(Feuil1!$C$25)*M16 -> 0 | S16: =(Feuil1!$D$25)*N16 -> 1.8125 | T16: =(Feuil1!$E$25)*O16 -> 0 | V16: =SUM(R16:T16) -> 1.8125 | W16: =V16*24 -> 43.5 | X16: =IF(OR(X15<0,X15=""),"",IF(W16=0,X15,(X15-W16))) | Y16: =IF(AND(X16<0,X15>0),(X15/SUM(M16:O16)),"") | Z16: =IF(AND(X15>0,X16<0), "Fin du travail aujourd'hui vers","") | AA16: =IF(Z16="Fin du travail aujourd'hui vers",(Y16+8)/24,"") | AB16: =IF(AA16="","",(AA16-INT(AA16))*24) | AC16: =IF(AB16="","",IF(AB16>9.75,0.25,0)) | AD16: =IF(Z16="","",(AC16+AB16)) | AE16: =IF(Z16="","",IF(AD16>12,1,0)) | AF16: =IF(Z16="","",IF(AE16=0,0,(AE16+AD16))) | AG16: =IF(Z16="","",IF(AF16>15,0.25,0)) | AH16: =IF(AA16="","",(AB16+AC16+AE16+AG16)/24) | AI16: 42927 | AJ16: Mardi
... A189: 43100 | B189: Férié | C189: Dimanche | D189: Horaire_C | E189: Horaire_C | F189: Horaire_C | G189: Horaire_C | H189: Horaire_C | I189: Horaire_C | L189: =COUNTIF($D189:$I189,"Horaire_C") -> 6 | M189: =COUNTIF($D189:$I189,"Horaire_1/2 C") -> 0 | N189: =COUNTIF($D189:$I189,"Horaire_8-17") -> 0 | O189: =COUNTIF($D189:$I189,"Horaire_8-16") -> 0 | Q189: =(Feuil1!$B$25)*L189 -> 0 | R189: =(Feuil1!$C$25)*M189 -> 0 | S189: =(Feuil1!$D$25)*N189 -> 0 | T189: =(Feuil1!$E$25)*O189 -> 0 | V189: =SUM(R189:T189) -> 0 | W189: =V189*24 -> 0 | X189: =IF(OR(X188<0,X188=""),"",IF(W189=0,X188,(X188-W189))) | Y189: =IF(AND(X189<0,X188>0),(X188/SUM(M189:O189)),"") | Z189: =IF(AND(X188>0,X189<0), "Fin du travail aujourd'hui vers","") | AA189: =IF(Z189="Fin du travail aujourd'hui vers",(Y189+8)/24,"") | AB189: =IF(AA189="","",(AA189-INT(AA189))*24) | AC189: =IF(AB189="","",IF(AB189>9.75,0.25,0)) | AD189: =IF(Z189="","",(AC189+AB189)) | AE189: =IF(Z189="","",IF(AD189>12,1,0)) | AF189: =IF(Z189="","",IF(AE189=0,0,(AE189+AD189))) | AG189: =IF(Z189="","",IF(AF189>15,0.25,0)) | AH189: =IF(AA189="","",(AB189+AC189+AE189+AG189)/24) | AI189: 43100 | AJ189: Dimanche
