Workbook

Sheet Horaires
A1: Année | B1: 2016 | D1: SEMAINE | H1: DU | K1: =DATE(B1,1,3)-WEEKDAY(DATE(B1,1,3))+2+(B2-1)*7 -> 42422 | P1: AU | S1: =K1+6 -> 42428
A2: N° semaine | B2: 8
C5: LUNDI | H5: MARDI | M5: MERCREDI | R5: JEUDI | W5: VENDREDI | AB5: SAMEDI | AG5: DIMANCHE
C7: arrivée | D7: départ | E7: pause | F7: total | H7: arrivée | I7: départ | J7: pause | K7: total | M7: arrivée | N7: départ | O7: pause | P7: total | R7: arrivée | S7: départ | T7: pause | U7: total | W7: arrivée | X7: départ | Y7: pause | Z7: total | AB7: arrivée | AC7: départ | AD7: pause | AE7: total | AG7: arrivée | AH7: départ | AI7: pause | AJ7: total
A8: =Feuil2!F70 -> employé 00 | C8: 0.20833333 | D8: 0.41666667 | E8: =(D8-C8)*0.05 -> 0.010416667 | H8: 0.41666667 | I8: 0.75 | J8: =(I8-H8)*0.05 -> 0.016666667 | M8: 0.41666667 | N8: 0.75 | O8: =(N8-M8)*0.05 -> 0.016666667 | R8: 0.20833333 | S8: 0.41666667 | T8: =(S8-R8)*0.05 -> 0.010416667 | Y8: =(X8-W8)*0.05 -> 0 | AB8: 0.20833333 | AC8: 0.41666667 | AD8: =(AC8-AB8)*0.05 -> 0.010416667 | AI8: =(AH8-AG8)*0.05 -> 0
F9: =(D8-C8)+(D10-C10) -> 0.20833333 | K9: =(I8-H8)+(I10-H10) -> 0.33333333 | P9: =(N8-M8)+(N10-M10) -> 0.33333333 | U9: =(S8-R8)+(S10-R10) -> 0.375 | Z9: =(X8-W8)+(X10-W10) -> 0 | AE9: =(AC8-AB8)+(AC10-AB10) -> 0.375 | AJ9: =(AH8-AG8)+(AH10-AG10) -> 0 | AL9: =AJ9+AE9+Z9+U9+P9+K9+F9 -> 1.625
A10: =Feuil2!G70 -> prénom 0 | E10: =(D10-C10)*0.05 -> 0 | J10: =(I10-H10)*0.05 -> 0 | O10: =(N10-M10)*0.05 -> 0 | R10: 0.54166667 | S10: 0.70833333 | T10: =(S10-R10)*0.05 -> 0.0083333333 | Y10: =(X10-W10)*0.05 -> 0 | AB10: 0.54166667 | AC10: 0.70833333 | AD10: =(AC10-AB10)*0.05 -> 0.0083333333 | AI10: =(AH10-AG10)*0.05 -> 0
A11: =Feuil2!H70 -> 39h00
A13: =Feuil2!F71 -> employé 01 | C13: 0.20833333 | D13: 0.41666667 | E13: =(D13-C13)*0.05 -> 0.010416667 | H13: 0.41666667 | I13: 0.75 | J13: =(I13-H13)*0.05 -> 0.016666667 | M13: 0.41666667 | N13: 0.75 | O13: =(N13-M13)*0.05 -> 0.016666667 | R13: 0.20833333 | S13: 0.41666667 | T13: =(S13-R13)*0.05 -> 0.010416667 | Y13: =(X13-W13)*0.05 -> 0 | AB13: 0.20833333 | AC13: 0.41666667 | AD13: =(AC13-AB13)*0.05 -> 0.010416667 | AI13: =(AH13-AG13)*0.05 -> 0
F14: =(D13-C13)+(D15-C15) -> 0.20833333 | K14: =(I13-H13)+(I15-H15) -> 0.33333333 | P14: =(N13-M13)+(N15-M15) -> 0.33333333 | U14: =(S13-R13)+(S15-R15) -> 0.375 | Z14: =(X13-W13)+(X15-W15) -> 0 | AE14: =(AC13-AB13)+(AC15-AB15) -> 0.375 | AJ14: =(AH13-AG13)+(AH15-AG15) -> 0 | AL14: =AJ14+AE14+Z14+U14+P14+K14+F14 -> 1.625
A15: =Feuil2!G71 -> prénom 1 | E15: =(D15-C15)*0.05 -> 0 | J15: =(I15-H15)*0.05 -> 0 | O15: =(N15-M15)*0.05 -> 0 | R15: 0.54166667 | S15: 0.70833333 | T15: =(S15-R15)*0.05 -> 0.0083333333 | Y15: =(X15-W15)*0.05 -> 0 | AB15: 0.54166667 | AC15: 0.70833333 | AD15: =(AC15-AB15)*0.05 -> 0.0083333333 | AI15: =(AH15-AG15)*0.05 -> 0
A16: =Feuil2!H71 -> 36h75
A18: =Feuil2!F72 -> employé 02 | C18: 0.20833333 | D18: 0.41666667 | E18: =(D18-C18)*0.05 -> 0.010416667 | H18: 0.41666667 | I18: 0.75 | J18: =(I18-H18)*0.05 -> 0.016666667 | M18: 0.41666667 | N18: 0.75 | O18: =(N18-M18)*0.05 -> 0.016666667 | R18: 0.20833333 | S18: 0.41666667 | T18: =(S18-R18)*0.05 -> 0.010416667 | Y18: =(X18-W18)*0.05 -> 0 | AB18: 0.20833333 | AC18: 0.41666667 | AD18: =(AC18-AB18)*0.05 -> 0.010416667 | AI18: =(AH18-AG18)*0.05 -> 0
F19: =(D18-C18)+(D20-C20) -> 0.20833333 | K19: =(I18-H18)+(I20-H20) -> 0.33333333 | P19: =(N18-M18)+(N20-M20) -> 0.33333333 | U19: =(S18-R18)+(S20-R20) -> 0.375 | Z19: =(X18-W18)+(X20-W20) -> 0 | AE19: =(AC18-AB18)+(AC20-AB20) -> 0.375 | AJ19: =(AH18-AG18)+(AH20-AG20) -> 0 | AL19: =AJ19+AE19+Z19+U19+P19+K19+F19 -> 1.625
A20: =Feuil2!G72 -> prénom 2 | E20: =(D20-C20)*0.05 -> 0 | J20: =(I20-H20)*0.05 -> 0 | O20: =(N20-M20)*0.05 -> 0 | R20: 0.54166667 | S20: 0.70833333 | T20: =(S20-R20)*0.05 -> 0.0083333333 | Y20: =(X20-W20)*0.05 -> 0 | AB20: 0.54166667 | AC20: 0.70833333 | AD20: =(AC20-AB20)*0.05 -> 0.0083333333 | AI20: =(AH20-AG20)*0.05 -> 0
A21: =Feuil2!H72 -> 35h00
A23: =Feuil2!F73 -> employé 03 | C23: 0.20833333 | D23: 0.41666667 | E23: =(D23-C23)*0.05 -> 0.010416667 | H23: 0.41666667 | I23: 0.75 | J23: =(I23-H23)*0.05 -> 0.016666667 | M23: 0.41666667 | N23: 0.75 | O23: =(N23-M23)*0.05 -> 0.016666667 | R23: 0.20833333 | S23: 0.41666667 | T23: =(S23-R23)*0.05 -> 0.010416667 | Y23: =(X23-W23)*0.05 -> 0 | AB23: 0.20833333 | AC23: 0.41666667 | AD23: =(AC23-AB23)*0.05 -> 0.010416667 | AI23: =(AH23-AG23)*0.05 -> 0
F24: =(D23-C23)+(D25-C25) -> 0.20833333 | K24: =(I23-H23)+(I25-H25) -> 0.33333333 | P24: =(N23-M23)+(N25-M25) -> 0.33333333 | U24: =(S23-R23)+(S25-R25) -> 0.375 | Z24: =(X23-W23)+(X25-W25) -> 0 | AE24: =(AC23-AB23)+(AC25-AB25) -> 0.375 | AJ24: =(AH23-AG23)+(AH25-AG25) -> 0 | AL24: =AJ24+AE24+Z24+U24+P24+K24+F24 -> 1.625
A25: =Feuil2!G73 -> prénom 3 | E25: =(D25-C25)*0.05 -> 0 | J25: =(I25-H25)*0.05 -> 0 | O25: =(N25-M25)*0.05 -> 0 | R25: 0.54166667 | S25: 0.70833333 | T25: =(S25-R25)*0.05 -> 0.0083333333 | Y25: =(X25-W25)*0.05 -> 0 | AB25: 0.54166667 | AC25: 0.70833333 | AD25: =(AC25-AB25)*0.05 -> 0.0083333333 | AI25: =(AH25-AG25)*0.05 -> 0
A26: =Feuil2!H73 -> 35h00
A28: =Feuil2!F74 -> employé 04 | C28: 0.20833333 | D28: 0.41666667 | E28: =(D28-C28)*0.05 -> 0.010416667 | H28: 0.41666667 | I28: 0.75 | J28: =(I28-H28)*0.05 -> 0.016666667 | M28: 0.41666667 | N28: 0.75 | O28: =(N28-M28)*0.05 -> 0.016666667 | R28: 0.20833333 | S28: 0.41666667 | T28: =(S28-R28)*0.05 -> 0.010416667 | Y28: =(X28-W28)*0.05 -> 0 | AB28: 0.20833333 | AC28: 0.41666667 | AD28: =(AC28-AB28)*0.05 -> 0.010416667 | AI28: =(AH28-AG28)*0.05 -> 0
F29: =(D28-C28)+(D30-C30) -> 0.20833333 | K29: =(I28-H28)+(I30-H30) -> 0.33333333 | P29: =(N28-M28)+(N30-M30) -> 0.33333333 | U29: =(S28-R28)+(S30-R30) -> 0.375 | Z29: =(X28-W28)+(X30-W30) -> 0 | AE29: =(AC28-AB28)+(AC30-AB30) -> 0.375 | AJ29: =(AH28-AG28)+(AH30-AG30) -> 0 | AL29: =AJ29+AE29+Z29+U29+P29+K29+F29 -> 1.625
A30: =Feuil2!G74 -> prénom 4 | E30: =(D30-C30)*0.05 -> 0 | J30: =(I30-H30)*0.05 -> 0 | O30: =(N30-M30)*0.05 -> 0 | R30: 0.54166667 | S30: 0.70833333 | T30: =(S30-R30)*0.05 -> 0.0083333333 | Y30: =(X30-W30)*0.05 -> 0 | AB30: 0.54166667 | AC30: 0.70833333 | AD30: =(AC30-AB30)*0.05 -> 0.0083333333 | AI30: =(AH30-AG30)*0.05 -> 0
A31: =Feuil2!H74 -> 35h00
A33: =Feuil2!F75 -> employé 05 | C33: 0.20833333 | D33: 0.41666667 | E33: =(D33-C33)*0.05 -> 0.010416667 | H33: 0.41666667 | I33: 0.75 | J33: =(I33-H33)*0.05 -> 0.016666667 | M33: 0.41666667 | N33: 0.75 | O33: =(N33-M33)*0.05 -> 0.016666667 | R33: 0.20833333 | S33: 0.41666667 | T33: =(S33-R33)*0.05 -> 0.010416667 | Y33: =(X33-W33)*0.05 -> 0 | AB33: 0.20833333 | AC33: 0.41666667 | AD33: =(AC33-AB33)*0.05 -> 0.010416667 | AI33: =(AH33-AG33)*0.05 -> 0
F34: =(D33-C33)+(D35-C35) -> 0.20833333 | K34: =(I33-H33)+(I35-H35) -> 0.33333333 | P34: =(N33-M33)+(N35-M35) -> 0.33333333 | U34: =(S33-R33)+(S35-R35) -> 0.375 | Z34: =(X33-W33)+(X35-W35) -> 0 | AE34: =(AC33-AB33)+(AC35-AB35) -> 0.375 | AJ34: =(AH33-AG33)+(AH35-AG35) -> 0 | AL34: =AJ34+AE34+Z34+U34+P34+K34+F34 -> 1.625
A35: =Feuil2!G75 -> prénom 5 | E35: =(D35-C35)*0.05 -> 0 | J35: =(I35-H35)*0.05 -> 0 | O35: =(N35-M35)*0.05 -> 0 | R35: 0.54166667 | S35: 0.70833333 | T35: =(S35-R35)*0.05 -> 0.0083333333 | Y35: =(X35-W35)*0.05 -> 0 | AB35: 0.54166667 | AC35: 0.70833333 | AD35: =(AC35-AB35)*0.05 -> 0.0083333333 | AI35: =(AH35-AG35)*0.05 -> 0
A36: =Feuil2!H75 -> 35h00
A38: =Feuil2!F76 -> employé 06 | C38: 0.20833333 | D38: 0.41666667 | E38: =(D38-C38)*0.05 -> 0.010416667 | H38: 0.41666667 | I38: 0.75 | J38: =(I38-H38)*0.05 -> 0.016666667 | M38: 0.41666667 | N38: 0.75 | O38: =(N38-M38)*0.05 -> 0.016666667 | R38: 0.20833333 | S38: 0.41666667 | T38: =(S38-R38)*0.05 -> 0.010416667 | Y38: =(X38-W38)*0.05 -> 0 | AB38: 0.20833333 | AC38: 0.41666667 | AD38: =(AC38-AB38)*0.05 -> 0.010416667 | AI38: =(AH38-AG38)*0.05 -> 0
F39: =(D38-C38)+(D40-C40) -> 0.20833333 | K39: =(I38-H38)+(I40-H40) -> 0.33333333 | P39: =(N38-M38)+(N40-M40) -> 0.33333333 | U39: =(S38-R38)+(S40-R40) -> 0.375 | Z39: =(X38-W38)+(X40-W40) -> 0 | AE39: =(AC38-AB38)+(AC40-AB40) -> 0.375 | AJ39: =(AH38-AG38)+(AH40-AG40) -> 0 | AL39: =AJ39+AE39+Z39+U39+P39+K39+F39 -> 1.625
A40: =Feuil2!G76 -> prénom 6 | E40: =(D40-C40)*0.05 -> 0 | J40: =(I40-H40)*0.05 -> 0 | O40: =(N40-M40)*0.05 -> 0 | R40: 0.54166667 | S40: 0.70833333 | T40: =(S40-R40)*0.05 -> 0.0083333333 | Y40: =(X40-W40)*0.05 -> 0 | AB40: 0.54166667 | AC40: 0.70833333 | AD40: =(AC40-AB40)*0.05 -> 0.0083333333 | AI40: =(AH40-AG40)*0.05 -> 0
A41: =Feuil2!H76 -> 35h00
A43: =Feuil2!F77 -> employé 07 | C43: 0.20833333 | D43: 0.41666667 | E43: =(D43-C43)*0.05 -> 0.010416667 | H43: 0.41666667 | I43: 0.75 | J43: =(I43-H43)*0.05 -> 0.016666667 | M43: 0.41666667 | N43: 0.75 | O43: =(N43-M43)*0.05 -> 0.016666667 | R43: 0.20833333 | S43: 0.41666667 | T43: =(S43-R43)*0.05 -> 0.010416667 | Y43: =(X43-W43)*0.05 -> 0 | AB43: 0.20833333 | AC43: 0.41666667 | AD43: =(AC43-AB43)*0.05 -> 0.010416667 | AI43: =(AH43-AG43)*0.05 -> 0
F44: =(D43-C43)+(D45-C45) -> 0.20833333 | K44: =(I43-H43)+(I45-H45) -> 0.33333333 | P44: =(N43-M43)+(N45-M45) -> 0.33333333 | U44: =(S43-R43)+(S45-R45) -> 0.375 | Z44: =(X43-W43)+(X45-W45) -> 0 | AE44: =(AC43-AB43)+(AC45-AB45) -> 0.375 | AJ44: =(AH43-AG43)+(AH45-AG45) -> 0 | AL44: =AJ44+AE44+Z44+U44+P44+K44+F44 -> 1.625
A45: =Feuil2!G77 -> prénom 7 | E45: =(D45-C45)*0.05 -> 0 | J45: =(I45-H45)*0.05 -> 0 | O45: =(N45-M45)*0.05 -> 0 | R45: 0.54166667 | S45: 0.70833333 | T45: =(S45-R45)*0.05 -> 0.0083333333 | Y45: =(X45-W45)*0.05 -> 0 | AB45: 0.54166667 | AC45: 0.70833333 | AD45: =(AC45-AB45)*0.05 -> 0.0083333333 | AI45: =(AH45-AG45)*0.05 -> 0
A46: =Feuil2!H77 -> 35h00
A48: =Feuil2!F78 -> employé 08 | C48: 0.20833333 | D48: 0.41666667 | E48: =(D48-C48)*0.05 -> 0.010416667 | H48: 0.41666667 | I48: 0.75 | J48: =(I48-H48)*0.05 -> 0.016666667 | M48: 0.41666667 | N48: 0.75 | O48: =(N48-M48)*0.05 -> 0.016666667 | R48: 0.20833333 | S48: 0.41666667 | T48: =(S48-R48)*0.05 -> 0.010416667 | Y48: =(X48-W48)*0.05 -> 0 | AB48: 0.20833333 | AC48: 0.41666667 | AD48: =(AC48-AB48)*0.05 -> 0.010416667 | AI48: =(AH48-AG48)*0.05 -> 0
F49: =(D48-C48)+(D50-C50) -> 0.20833333 | K49: =(I48-H48)+(I50-H50) -> 0.33333333 | P49: =(N48-M48)+(N50-M50) -> 0.33333333 | U49: =(S48-R48)+(S50-R50) -> 0.375 | Z49: =(X48-W48)+(X50-W50) -> 0 | AE49: =(AC48-AB48)+(AC50-AB50) -> 0.375 | AJ49: =(AH48-AG48)+(AH50-AG50) -> 0 | AL49: =AJ49+AE49+Z49+U49+P49+K49+F49 -> 1.625
A50: =Feuil2!G78 -> prénom 8 | E50: =(D50-C50)*0.05 -> 0 | J50: =(I50-H50)*0.05 -> 0 | O50: =(N50-M50)*0.05 -> 0 | R50: 0.54166667 | S50: 0.70833333 | T50: =(S50-R50)*0.05 -> 0.0083333333 | Y50: =(X50-W50)*0.05 -> 0 | AB50: 0.54166667 | AC50: 0.70833333 | AD50: =(AC50-AB50)*0.05 -> 0.0083333333 | AI50: =(AH50-AG50)*0.05 -> 0
A51: =Feuil2!H78 -> 35h00
A53: =Feuil2!F79 -> employé 09 | C53: 0.20833333 | D53: 0.41666667 | E53: =(D53-C53)*0.05 -> 0.010416667 | H53: 0.41666667 | I53: 0.75 | J53: =(I53-H53)*0.05 -> 0.016666667 | M53: 0.41666667 | N53: 0.75 | O53: =(N53-M53)*0.05 -> 0.016666667 | R53: 0.20833333 | S53: 0.41666667 | T53: =(S53-R53)*0.05 -> 0.010416667 | Y53: =(X53-W53)*0.05 -> 0 | AB53: 0.20833333 | AC53: 0.41666667 | AD53: =(AC53-AB53)*0.05 -> 0.010416667 | AI53: =(AH53-AG53)*0.05 -> 0
F54: =(D53-C53)+(D55-C55) -> 0.20833333 | K54: =(I53-H53)+(I55-H55) -> 0.33333333 | P54: =(N53-M53)+(N55-M55) -> 0.33333333 | U54: =(S53-R53)+(S55-R55) -> 0.375 | Z54: =(X53-W53)+(X55-W55) -> 0 | AE54: =(AC53-AB53)+(AC55-AB55) -> 0.375 | AJ54: =(AH53-AG53)+(AH55-AG55) -> 0 | AL54: =AJ54+AE54+Z54+U54+P54+K54+F54 -> 1.625
A55: =Feuil2!G79 -> prénom 9 | E55: =(D55-C55)*0.05 -> 0 | J55: =(I55-H55)*0.05 -> 0 | O55: =(N55-M55)*0.05 -> 0 | R55: 0.54166667 | S55: 0.70833333 | T55: =(S55-R55)*0.05 -> 0.0083333333 | Y55: =(X55-W55)*0.05 -> 0 | AB55: 0.54166667 | AC55: 0.70833333 | AD55: =(AC55-AB55)*0.05 -> 0.0083333333 | AI55: =(AH55-AG55)*0.05 -> 0
A56: =Feuil2!H79 -> 35h00
A58: =Feuil2!F80 -> employé 10 | C58: 0.20833333 | D58: 0.41666667 | E58: =(D58-C58)*0.05 -> 0.010416667 | H58: 0.41666667 | I58: 0.75 | J58: =(I58-H58)*0.05 -> 0.016666667 | M58: 0.41666667 | N58: 0.75 | O58: =(N58-M58)*0.05 -> 0.016666667 | R58: 0.20833333 | S58: 0.41666667 | T58: =(S58-R58)*0.05 -> 0.010416667 | Y58: =(X58-W58)*0.05 -> 0 | AB58: 0.20833333 | AC58: 0.41666667 | AD58: =(AC58-AB58)*0.05 -> 0.010416667 | AI58: =(AH58-AG58)*0.05 -> 0
F59: =(D58-C58)+(D60-C60) -> 0.20833333 | K59: =(I58-H58)+(I60-H60) -> 0.33333333 | P59: =(N58-M58)+(N60-M60) -> 0.33333333 | U59: =(S58-R58)+(S60-R60) -> 0.375 | Z59: =(X58-W58)+(X60-W60) -> 0 | AE59: =(AC58-AB58)+(AC60-AB60) -> 0.375 | AJ59: =(AH58-AG58)+(AH60-AG60) -> 0 | AL59: =AJ59+AE59+Z59+U59+P59+K59+F59 -> 1.625
A60: =Feuil2!G80 -> prénom 10 | E60: =(D60-C60)*0.05 -> 0 | J60: =(I60-H60)*0.05 -> 0 | O60: =(N60-M60)*0.05 -> 0 | R60: 0.54166667 | S60: 0.70833333 | T60: =(S60-R60)*0.05 -> 0.0083333333 | Y60: =(X60-W60)*0.05 -> 0 | AB60: 0.54166667 | AC60: 0.70833333 | AD60: =(AC60-AB60)*0.05 -> 0.0083333333 | AI60: =(AH60-AG60)*0.05 -> 0
A61: =Feuil2!H80 -> 39h00
A63: =Feuil2!F81 -> employé 11 | C63: 0.20833333 | D63: 0.41666667 | E63: =(D63-C63)*0.05 -> 0.010416667 | H63: 0.41666667 | I63: 0.75 | J63: =(I63-H63)*0.05 -> 0.016666667 | M63: 0.41666667 | N63: 0.75 | O63: =(N63-M63)*0.05 -> 0.016666667 | R63: 0.20833333 | S63: 0.41666667 | T63: =(S63-R63)*0.05 -> 0.010416667 | Y63: =(X63-W63)*0.05 -> 0 | AB63: 0.20833333 | AC63: 0.41666667 | AD63: =(AC63-AB63)*0.05 -> 0.010416667 | AI63: =(AH63-AG63)*0.05 -> 0
F64: =(D63-C63)+(D65-C65) -> 0.20833333 | K64: =(I63-H63)+(I65-H65) -> 0.33333333 | P64: =(N63-M63)+(N65-M65) -> 0.33333333 | U64: =(S63-R63)+(S65-R65) -> 0.375 | Z64: =(X63-W63)+(X65-W65) -> 0 | AE64: =(AC63-AB63)+(AC65-AB65) -> 0.375 | AJ64: =(AH63-AG63)+(AH65-AG65) -> 0 | AL64: =AJ64+AE64+Z64+U64+P64+K64+F64 -> 1.625
A65: =Feuil2!G81 -> prénom 11 | E65: =(D65-C65)*0.05 -> 0 | J65: =(I65-H65)*0.05 -> 0 | O65: =(N65-M65)*0.05 -> 0 | R65: 0.54166667 | S65: 0.70833333 | T65: =(S65-R65)*0.05 -> 0.0083333333 | Y65: =(X65-W65)*0.05 -> 0 | AB65: 0.54166667 | AC65: 0.70833333 | AD65: =(AC65-AB65)*0.05 -> 0.0083333333 | AI65: =(AH65-AG65)*0.05 -> 0
A66: =Feuil2!H81 -> 35h00
A68: =Feuil2!F82 -> employé 12 | C68: 0.20833333 | D68: 0.41666667 | E68: =(D68-C68)*0.05 -> 0.010416667 | H68: 0.41666667 | I68: 0.75 | J68: =(I68-H68)*0.05 -> 0.016666667 | M68: 0.41666667 | N68: 0.75 | O68: =(N68-M68)*0.05 -> 0.016666667 | R68: 0.20833333 | S68: 0.41666667 | T68: =(S68-R68)*0.05 -> 0.010416667 | Y68: =(X68-W68)*0.05 -> 0 | AB68: 0.20833333 | AC68: 0.41666667 | AD68: =(AC68-AB68)*0.05 -> 0.010416667 | AI68: =(AH68-AG68)*0.05 -> 0
F69: =(D68-C68)+(D70-C70) -> 0.20833333 | K69: =(I68-H68)+(I70-H70) -> 0.33333333 | P69: =(N68-M68)+(N70-M70) -> 0.33333333 | U69: =(S68-R68)+(S70-R70) -> 0.375 | Z69: =(X68-W68)+(X70-W70) -> 0 | AE69: =(AC68-AB68)+(AC70-AB70) -> 0.375 | AJ69: =(AH68-AG68)+(AH70-AG70) -> 0 | AL69: =AJ69+AE69+Z69+U69+P69+K69+F69 -> 1.625
A70: =Feuil2!G86 -> prénom 16 | E70: =(D70-C70)*0.05 -> 0 | J70: =(I70-H70)*0.05 -> 0 | O70: =(N70-M70)*0.05 -> 0 | R70: 0.54166667 | S70: 0.70833333 | T70: =(S70-R70)*0.05 -> 0.0083333333 | Y70: =(X70-W70)*0.05 -> 0 | AB70: 0.54166667 | AC70: 0.70833333 | AD70: =(AC70-AB70)*0.05 -> 0.0083333333 | AI70: =(AH70-AG70)*0.05 -> 0
A71: =Feuil2!H86 -> 35h00
A73: =Feuil2!F83 -> employé 13 | C73: 0.20833333 | D73: 0.41666667 | E73: =(D73-C73)*0.05 -> 0.010416667 | H73: 0.41666667 | I73: 0.75 | J73: =(I73-H73)*0.05 -> 0.016666667 | M73: 0.41666667 | N73: 0.75 | O73: =(N73-M73)*0.05 -> 0.016666667 | R73: 0.20833333 | S73: 0.41666667 | T73: =(S73-R73)*0.05 -> 0.010416667 | Y73: =(X73-W73)*0.05 -> 0 | AB73: 0.20833333 | AC73: 0.41666667 | AD73: =(AC73-AB73)*0.05 -> 0.010416667 | AI73: =(AH73-AG73)*0.05 -> 0
F74: =(D73-C73)+(D75-C75) -> 0.20833333 | K74: =(I73-H73)+(I75-H75) -> 0.33333333 | P74: =(N73-M73)+(N75-M75) -> 0.33333333 | U74: =(S73-R73)+(S75-R75) -> 0.375 | Z74: =(X73-W73)+(X75-W75) -> 0 | AE74: =(AC73-AB73)+(AC75-AB75) -> 0.375 | AJ74: =(AH73-AG73)+(AH75-AG75) -> 0 | AL74: =AJ74+AE74+Z74+U74+P74+K74+F74 -> 1.625
A75: =Feuil2!G83 -> prénom 13 | E75: =(D75-C75)*0.05 -> 0 | J75: =(I75-H75)*0.05 -> 0 | O75: =(N75-M75)*0.05 -> 0 | R75: 0.54166667 | S75: 0.70833333 | T75: =(S75-R75)*0.05 -> 0.0083333333 | Y75: =(X75-W75)*0.05 -> 0 | AB75: 0.54166667 | AC75: 0.70833333 | AD75: =(AC75-AB75)*0.05 -> 0.0083333333 | AI75: =(AH75-AG75)*0.05 -> 0
A76: =Feuil2!H83 -> 35h00
A78: =Feuil2!F84 -> employé 14 | C78: 0.20833333 | D78: 0.41666667 | E78: =(D78-C78)*0.05 -> 0.010416667 | H78: 0.41666667 | I78: 0.75 | J78: =(I78-H78)*0.05 -> 0.016666667 | M78: 0.41666667 | N78: 0.75 | O78: =(N78-M78)*0.05 -> 0.016666667 | R78: 0.20833333 | S78: 0.41666667 | T78: =(S78-R78)*0.05 -> 0.010416667 | Y78: =(X78-W78)*0.05 -> 0 | AB78: 0.20833333 | AC78: 0.41666667 | AD78: =(AC78-AB78)*0.05 -> 0.010416667 | AI78: =(AH78-AG78)*0.05 -> 0
F79: =(D78-C78)+(D80-C80) -> 0.20833333 | K79: =(I78-H78)+(I80-H80) -> 0.33333333 | P79: =(N78-M78)+(N80-M80) -> 0.33333333 | U79: =(S78-R78)+(S80-R80) -> 0.375 | Z79: =(X78-W78)+(X80-W80) -> 0 | AE79: =(AC78-AB78)+(AC80-AB80) -> 0.375 | AJ79: =(AH78-AG78)+(AH80-AG80) -> 0 | AL79: =AJ79+AE79+Z79+U79+P79+K79+F79 -> 1.625
A80: =Feuil2!G84 -> prénom 14 | E80: =(D80-C80)*0.05 -> 0 | J80: =(I80-H80)*0.05 -> 0 | O80: =(N80-M80)*0.05 -> 0 | R80: 0.54166667 | S80: 0.70833333 | T80: =(S80-R80)*0.05 -> 0.0083333333 | Y80: =(X80-W80)*0.05 -> 0 | AB80: 0.54166667 | AC80: 0.70833333 | AD80: =(AC80-AB80)*0.05 -> 0.0083333333 | AI80: =(AH80-AG80)*0.05 -> 0
A81: =Feuil2!H84 -> 35h00
A83: =Feuil2!F85 -> employé 15 | C83: 0.20833333 | D83: 0.41666667 | E83: =(D83-C83)*0.05 -> 0.010416667 | H83: 0.41666667 | I83: 0.75 | J83: =(I83-H83)*0.05 -> 0.016666667 | M83: 0.41666667 | N83: 0.75 | O83: =(N83-M83)*0.05 -> 0.016666667 | R83: 0.20833333 | S83: 0.41666667 | T83: =(S83-R83)*0.05 -> 0.010416667 | Y83: =(X83-W83)*0.05 -> 0 | AB83: 0.20833333 | AC83: 0.41666667 | AD83: =(AC83-AB83)*0.05 -> 0.010416667 | AI83: =(AH83-AG83)*0.05 -> 0
F84: =(D83-C83)+(D85-C85) -> 0.20833333 | K84: =(I83-H83)+(I85-H85) -> 0.33333333 | P84: =(N83-M83)+(N85-M85) -> 0.33333333 | U84: =(S83-R83)+(S85-R85) -> 0.375 | Z84: =(X83-W83)+(X85-W85) -> 0 | AE84: =(AC83-AB83)+(AC85-AB85) -> 0.375 | AJ84: =(AH83-AG83)+(AH85-AG85) -> 0 | AL84: =AJ84+AE84+Z84+U84+P84+K84+F84 -> 1.625
A85: =Feuil2!G85 -> prénom 15 | E85: =(D85-C85)*0.05 -> 0 | J85: =(I85-H85)*0.05 -> 0 | O85: =(N85-M85)*0.05 -> 0 | R85: 0.54166667 | S85: 0.70833333 | T85: =(S85-R85)*0.05 -> 0.0083333333 | Y85: =(X85-W85)*0.05 -> 0 | AB85: 0.54166667 | AC85: 0.70833333 | AD85: =(AC85-AB85)*0.05 -> 0.0083333333 | AI85: =(AH85-AG85)*0.05 -> 0
A86: =Feuil2!H85 -> 35h00

Sheet Lundi
A1: LUNDI
C4: =Feuil2!B2 -> 0.20833333 | D4: =Feuil2!B3 -> 0.21875 | E4: =Feuil2!B4 -> 0.22916667 | F4: =Feuil2!B5 -> 0.23958333 | G4: =Feuil2!B6 -> 0.25 | H4: =Feuil2!B7 -> 0.26041667 | I4: =Feuil2!B8 -> 0.27083333 | J4: =Feuil2!B9 -> 0.28125 | K4: =Feuil2!B10 -> 0.29166667 | L4: =Feuil2!B11 -> 0.30208333 | M4: =Feuil2!B12 -> 0.3125 | N4: =Feuil2!B13 -> 0.32291667 | O4: =Feuil2!B14 -> 0.33333333 | P4: =Feuil2!B15 -> 0.34375 | Q4: =Feuil2!B16 -> 0.35416667 | R4: =Feuil2!B17 -> 0.36458333 | S4: =+Feuil2!B18 -> 0.375 | T4: =+Feuil2!B19 -> 0.38541667 | U4: =+Feuil2!B20 -> 0.39583333 | V4: =+Feuil2!B21 -> 0.40625 | W4: =+Feuil2!B22 -> 0.41666667 | X4: =+Feuil2!B23 -> 0.42708333 | Y4: =+Feuil2!B24 -> 0.4375 | Z4: =+Feuil2!B25 -> 0.44791667 | AA4: =+Feuil2!B26 -> 0.45833333 | AB4: =+Feuil2!B27 -> 0.46875 | AC4: =+Feuil2!B28 -> 0.47916667 | AD4: =+Feuil2!B29 -> 0.48958333 | AE4: =+Feuil2!B30 -> 0.5 | AF4: =+Feuil2!B31 -> 0.51041667 | AG4: =+Feuil2!B32 -> 0.52083333 | AH4: =+Feuil2!B33 -> 0.53125 | AI4: =+Feuil2!B34 -> 0.54166667 | AJ4: =+Feuil2!B35 -> 0.55208333 | AK4: =+Feuil2!B36 -> 0.5625 | AL4: =+Feuil2!B37 -> 0.57291667 | AM4: =+Feuil2!B38 -> 0.58333333 | AN4: =+Feuil2!B39 -> 0.59375 | AO4: =+Feuil2!B40 -> 0.60416667 | AP4: =+Feuil2!B41 -> 0.61458333 | AQ4: =+Feuil2!B42 -> 0.625 | AR4: =+Feuil2!B43 -> 0.63541667 | AS4: =+Feuil2!B44 -> 0.64583333 | AT4: =+Feuil2!B45 -> 0.65625 | AU4: =+Feuil2!B46 -> 0.66666667 | AV4: =+Feuil2!B47 -> 0.67708333 | AW4: =+Feuil2!B48 -> 0.6875 | AX4: =+Feuil2!B49 -> 0.69791667 | AY4: =+Feuil2!B50 -> 0.70833333 | AZ4: =+Feuil2!B51 -> 0.71875 | BA4: =+Feuil2!B52 -> 0.72916667 | BB4: =+Feuil2!B53 -> 0.73958333 | BC4: =+Feuil2!B54 -> 0.75 | BD4: =+Feuil2!B55 -> 0.76041667 | BE4: =+Feuil2!B56 -> 0.77083333 | BF4: =+Feuil2!B57 -> 0.78125 | BG4: =+Feuil2!B58 -> 0.79166667 | BH4: =+Feuil2!B59 -> 0.80208333 | BI4: =+Feuil2!B60 -> 0.8125 | BJ4: =+Feuil2!B61 -> 0.82291667 | BK4: =+Feuil2!B62 -> 0.83333333
A5: =Horaires!A8 -> employé 00 | B5: =Feuil2!G70 -> prénom 0
A6: =Horaires!A13 -> employé 01 | B6: =Feuil2!G71 -> prénom 1
A7: =Horaires!A18 -> employé 02 | B7: =Feuil2!G72 -> prénom 2
A8: =Horaires!A23 -> employé 03 | B8: =Feuil2!G73 -> prénom 3
A9: =Horaires!A28 -> employé 04 | B9: =Feuil2!G74 -> prénom 4
A10: =Horaires!A33 -> employé 05 | B10: =Feuil2!G75 -> prénom 5
A11: =Feuil2!F76 -> employé 06 | B11: =Feuil2!G76 -> prénom 6
A12: =Feuil2!F77 -> employé 07 | B12: =Feuil2!G77 -> prénom 7
A13: =Feuil2!F78 -> employé 08 | B13: =Feuil2!G78 -> prénom 8
A14: =Feuil2!F79 -> employé 09 | B14: =Feuil2!G79 -> prénom 9
A15: =Feuil2!F80 -> employé 10 | B15: =Feuil2!G80 -> prénom 10
A16: =Feuil2!F81 -> employé 11 | B16: =Feuil2!G81 -> prénom 11
A17: =Feuil2!F82 -> employé 12 | B17: =Feuil2!G82 -> prénom 12
A18: =Feuil2!F83 -> employé 13 | B18: =Feuil2!G83 -> prénom 13
A19: =Feuil2!F84 -> employé 14 | B19: =Feuil2!G84 -> prénom 14
A20: =Feuil2!F85 -> employé 15 | B20: =Feuil2!G85 -> prénom 15
A21: =Feuil2!F86 -> employé 16 | B21: =Feuil2!G86 -> prénom 16
A22: =Feuil2!F87 -> employé 17 | B22: =Feuil2!G87 -> prénom 17
A23: =Feuil2!F88 -> employé 18 | B23: =Feuil2!G88 -> prénom 18
B25: TOTAL

Sheet Mardi
A1: MARDI
C4: =Feuil2!B2 -> 0.20833333 | D4: =Feuil2!B3 -> 0.21875 | E4: =Feuil2!B4 -> 0.22916667 | F4: =Feuil2!B5 -> 0.23958333 | G4: =Feuil2!B6 -> 0.25 | H4: =Feuil2!B7 -> 0.26041667 | I4: =Feuil2!B8 -> 0.27083333 | J4: =Feuil2!B9 -> 0.28125 | K4: =Feuil2!B10 -> 0.29166667 | L4: =Feuil2!B11 -> 0.30208333 | M4: =Feuil2!B12 -> 0.3125 | N4: =Feuil2!B13 -> 0.32291667 | O4: =Feuil2!B14 -> 0.33333333 | P4: =Feuil2!B15 -> 0.34375 | Q4: =Feuil2!B16 -> 0.35416667 | R4: =Feuil2!B17 -> 0.36458333 | S4: =+Feuil2!B18 -> 0.375 | T4: =+Feuil2!B19 -> 0.38541667 | U4: =+Feuil2!B20 -> 0.39583333 | V4: =+Feuil2!B21 -> 0.40625 | W4: =+Feuil2!B22 -> 0.41666667 | X4: =+Feuil2!B23 -> 0.42708333 | Y4: =+Feuil2!B24 -> 0.4375 | Z4: =+Feuil2!B25 -> 0.44791667 | AA4: =+Feuil2!B26 -> 0.45833333 | AB4: =+Feuil2!B27 -> 0.46875 | AC4: =+Feuil2!B28 -> 0.47916667 | AD4: =+Feuil2!B29 -> 0.48958333 | AE4: =+Feuil2!B30 -> 0.5 | AF4: =+Feuil2!B31 -> 0.51041667 | AG4: =+Feuil2!B32 -> 0.52083333 | AH4: =+Feuil2!B33 -> 0.53125 | AI4: =+Feuil2!B34 -> 0.54166667 | AJ4: =+Feuil2!B35 -> 0.55208333 | AK4: =+Feuil2!B36 -> 0.5625 | AL4: =+Feuil2!B37 -> 0.57291667 | AM4: =+Feuil2!B38 -> 0.58333333 | AN4: =+Feuil2!B39 -> 0.59375 | AO4: =+Feuil2!B40 -> 0.60416667 | AP4: =+Feuil2!B41 -> 0.61458333 | AQ4: =+Feuil2!B42 -> 0.625 | AR4: =+Feuil2!B43 -> 0.63541667 | AS4: =+Feuil2!B44 -> 0.64583333 | AT4: =+Feuil2!B45 -> 0.65625 | AU4: =+Feuil2!B46 -> 0.66666667 | AV4: =+Feuil2!B47 -> 0.67708333 | AW4: =+Feuil2!B48 -> 0.6875 | AX4: =+Feuil2!B49 -> 0.69791667 | AY4: =+Feuil2!B50 -> 0.70833333 | AZ4: =+Feuil2!B51 -> 0.71875 | BA4: =+Feuil2!B52 -> 0.72916667 | BB4: =+Feuil2!B53 -> 0.73958333 | BC4: =+Feuil2!B54 -> 0.75 | BD4: =+Feuil2!B55 -> 0.76041667 | BE4: =+Feuil2!B56 -> 0.77083333 | BF4: =+Feuil2!B57 -> 0.78125 | BG4: =+Feuil2!B58 -> 0.79166667 | BH4: =+Feuil2!B59 -> 0.80208333 | BI4: =+Feuil2!B60 -> 0.8125 | BJ4: =+Feuil2!B61 -> 0.82291667 | BK4: =+Feuil2!B62 -> 0.83333333
A5: =Horaires!A8 -> employé 00 | B5: =Feuil2!G70 -> prénom 0
A6: =Horaires!A13 -> employé 01 | B6: =Feuil2!G71 -> prénom 1
A7: =Horaires!A18 -> employé 02 | B7: =Feuil2!G72 -> prénom 2
A8: =Horaires!A23 -> employé 03 | B8: =Feuil2!G73 -> prénom 3
A9: =Horaires!A28 -> employé 04 | B9: =Feuil2!G74 -> prénom 4
A10: =Horaires!A33 -> employé 05 | B10: =Feuil2!G75 -> prénom 5
A11: =Feuil2!F76 -> employé 06 | B11: =Feuil2!G76 -> prénom 6
A12: =Feuil2!F77 -> employé 07 | B12: =Feuil2!G77 -> prénom 7
A13: =Feuil2!F78 -> employé 08 | B13: =Feuil2!G78 -> prénom 8
A14: =Feuil2!F79 -> employé 09 | B14: =Feuil2!G79 -> prénom 9
A15: =Feuil2!F80 -> employé 10 | B15: =Feuil2!G80 -> prénom 10
A16: =Feuil2!F81 -> employé 11 | B16: =Feuil2!G81 -> prénom 11
A17: =Feuil2!F82 -> employé 12 | B17: =Feuil2!G82 -> prénom 12
A18: =Feuil2!F83 -> employé 13 | B18: =Feuil2!G83 -> prénom 13
A19: =Feuil2!F84 -> employé 14 | B19: =Feuil2!G84 -> prénom 14
A20: =Feuil2!F85 -> employé 15 | B20: =Feuil2!G85 -> prénom 15
A21: =Feuil2!F86 -> employé 16 | B21: =Feuil2!G86 -> prénom 16
A22: =Feuil2!F87 -> employé 17 | B22: =Feuil2!G87 -> prénom 17
A23: =Feuil2!F88 -> employé 18 | B23: =Feuil2!G88 -> prénom 18
B25: TOTAL

Sheet Mercredi
A1: MERCREDI
C4: =Feuil2!B2 -> 0.20833333 | D4: =Feuil2!B3 -> 0.21875 | E4: =Feuil2!B4 -> 0.22916667 | F4: =Feuil2!B5 -> 0.23958333 | G4: =Feuil2!B6 -> 0.25 | H4: =Feuil2!B7 -> 0.26041667 | I4: =Feuil2!B8 -> 0.27083333 | J4: =Feuil2!B9 -> 0.28125 | K4: =Feuil2!B10 -> 0.29166667 | L4: =Feuil2!B11 -> 0.30208333 | M4: =Feuil2!B12 -> 0.3125 | N4: =Feuil2!B13 -> 0.32291667 | O4: =Feuil2!B14 -> 0.33333333 | P4: =Feuil2!B15 -> 0.34375 | Q4: =Feuil2!B16 -> 0.35416667 | R4: =Feuil2!B17 -> 0.36458333 | S4: =+Feuil2!B18 -> 0.375 | T4: =+Feuil2!B19 -> 0.38541667 | U4: =+Feuil2!B20 -> 0.39583333 | V4: =+Feuil2!B21 -> 0.40625 | W4: =+Feuil2!B22 -> 0.41666667 | X4: =+Feuil2!B23 -> 0.42708333 | Y4: =+Feuil2!B24 -> 0.4375 | Z4: =+Feuil2!B25 -> 0.44791667 | AA4: =+Feuil2!B26 -> 0.45833333 | AB4: =+Feuil2!B27 -> 0.46875 | AC4: =+Feuil2!B28 -> 0.47916667 | AD4: =+Feuil2!B29 -> 0.48958333 | AE4: =+Feuil2!B30 -> 0.5 | AF4: =+Feuil2!B31 -> 0.51041667 | AG4: =+Feuil2!B32 -> 0.52083333 | AH4: =+Feuil2!B33 -> 0.53125 | AI4: =+Feuil2!B34 -> 0.54166667 | AJ4: =+Feuil2!B35 -> 0.55208333 | AK4: =+Feuil2!B36 -> 0.5625 | AL4: =+Feuil2!B37 -> 0.57291667 | AM4: =+Feuil2!B38 -> 0.58333333 | AN4: =+Feuil2!B39 -> 0.59375 | AO4: =+Feuil2!B40 -> 0.60416667 | AP4: =+Feuil2!B41 -> 0.61458333 | AQ4: =+Feuil2!B42 -> 0.625 | AR4: =+Feuil2!B43 -> 0.63541667 | AS4: =+Feuil2!B44 -> 0.64583333 | AT4: =+Feuil2!B45 -> 0.65625 | AU4: =+Feuil2!B46 -> 0.66666667 | AV4: =+Feuil2!B47 -> 0.67708333 | AW4: =+Feuil2!B48 -> 0.6875 | AX4: =+Feuil2!B49 -> 0.69791667 | AY4: =+Feuil2!B50 -> 0.70833333 | AZ4: =+Feuil2!B51 -> 0.71875 | BA4: =+Feuil2!B52 -> 0.72916667 | BB4: =+Feuil2!B53 -> 0.73958333 | BC4: =+Feuil2!B54 -> 0.75 | BD4: =+Feuil2!B55 -> 0.76041667 | BE4: =+Feuil2!B56 -> 0.77083333 | BF4: =+Feuil2!B57 -> 0.78125 | BG4: =+Feuil2!B58 -> 0.79166667 | BH4: =+Feuil2!B59 -> 0.80208333 | BI4: =+Feuil2!B60 -> 0.8125 | BJ4: =+Feuil2!B61 -> 0.82291667 | BK4: =+Feuil2!B62 -> 0.83333333
A5: =Horaires!A8 -> employé 00 | B5: =Feuil2!G70 -> prénom 0
A6: =Horaires!A13 -> employé 01 | B6: =Feuil2!G71 -> prénom 1
A7: =Horaires!A18 -> employé 02 | B7: =Feuil2!G72 -> prénom 2
A8: =Horaires!A23 -> employé 03 | B8: =Feuil2!G73 -> prénom 3
A9: =Horaires!A28 -> employé 04 | B9: =Feuil2!G74 -> prénom 4
A10: =Horaires!A33 -> employé 05 | B10: =Feuil2!G75 -> prénom 5
A11: =Feuil2!F76 -> employé 06 | B11: =Feuil2!G76 -> prénom 6
A12: =Feuil2!F77 -> employé 07 | B12: =Feuil2!G77 -> prénom 7
A13: =Feuil2!F78 -> employé 08 | B13: =Feuil2!G78 -> prénom 8
A14: =Feuil2!F79 -> employé 09 | B14: =Feuil2!G79 -> prénom 9
A15: =Feuil2!F80 -> employé 10 | B15: =Feuil2!G80 -> prénom 10
A16: =Feuil2!F81 -> employé 11 | B16: =Feuil2!G81 -> prénom 11
A17: =Feuil2!F82 -> employé 12 | B17: =Feuil2!G82 -> prénom 12
A18: =Feuil2!F83 -> employé 13 | B18: =Feuil2!G83 -> prénom 13
A19: =Feuil2!F84 -> employé 14 | B19: =Feuil2!G84 -> prénom 14
A20: =Feuil2!F85 -> employé 15 | B20: =Feuil2!G85 -> prénom 15
A21: =Feuil2!F86 -> employé 16 | B21: =Feuil2!G86 -> prénom 16
A22: =Feuil2!F87 -> employé 17 | B22: =Feuil2!G87 -> prénom 17
A23: =Feuil2!F88 -> employé 18 | B23: =Feuil2!G88 -> prénom 18
B25: TOTAL

Sheet Jeudi
A1: JEUDI
C4: =Feuil2!B2 -> 0.20833333 | D4: =Feuil2!B3 -> 0.21875 | E4: =Feuil2!B4 -> 0.22916667 | F4: =Feuil2!B5 -> 0.23958333 | G4: =Feuil2!B6 -> 0.25 | H4: =Feuil2!B7 -> 0.26041667 | I4: =Feuil2!B8 -> 0.27083333 | J4: =Feuil2!B9 -> 0.28125 | K4: =Feuil2!B10 -> 0.29166667 | L4: =Feuil2!B11 -> 0.30208333 | M4: =Feuil2!B12 -> 0.3125 | N4: =Feuil2!B13 -> 0.32291667 | O4: =Feuil2!B14 -> 0.33333333 | P4: =Feuil2!B15 -> 0.34375 | Q4: =Feuil2!B16 -> 0.35416667 | R4: =Feuil2!B17 -> 0.36458333 | S4: =+Feuil2!B18 -> 0.375 | T4: =+Feuil2!B19 -> 0.38541667 | U4: =+Feuil2!B20 -> 0.39583333 | V4: =+Feuil2!B21 -> 0.40625 | W4: =+Feuil2!B22 -> 0.41666667 | X4: =+Feuil2!B23 -> 0.42708333 | Y4: =+Feuil2!B24 -> 0.4375 | Z4: =+Feuil2!B25 -> 0.44791667 | AA4: =+Feuil2!B26 -> 0.45833333 | AB4: =+Feuil2!B27 -> 0.46875 | AC4: =+Feuil2!B28 -> 0.47916667 | AD4: =+Feuil2!B29 -> 0.48958333 | AE4: =+Feuil2!B30 -> 0.5 | AF4: =+Feuil2!B31 -> 0.51041667 | AG4: =+Feuil2!B32 -> 0.52083333 | AH4: =+Feuil2!B33 -> 0.53125 | AI4: =+Feuil2!B34 -> 0.54166667 | AJ4: =+Feuil2!B35 -> 0.55208333 | AK4: =+Feuil2!B36 -> 0.5625 | AL4: =+Feuil2!B37 -> 0.57291667 | AM4: =+Feuil2!B38 -> 0.58333333 | AN4: =+Feuil2!B39 -> 0.59375 | AO4: =+Feuil2!B40 -> 0.60416667 | AP4: =+Feuil2!B41 -> 0.61458333 | AQ4: =+Feuil2!B42 -> 0.625 | AR4: =+Feuil2!B43 -> 0.63541667 | AS4: =+Feuil2!B44 -> 0.64583333 | AT4: =+Feuil2!B45 -> 0.65625 | AU4: =+Feuil2!B46 -> 0.66666667 | AV4: =+Feuil2!B47 -> 0.67708333 | AW4: =+Feuil2!B48 -> 0.6875 | AX4: =+Feuil2!B49 -> 0.69791667 | AY4: =+Feuil2!B50 -> 0.70833333 | AZ4: =+Feuil2!B51 -> 0.71875 | BA4: =+Feuil2!B52 -> 0.72916667 | BB4: =+Feuil2!B53 -> 0.73958333 | BC4: =+Feuil2!B54 -> 0.75 | BD4: =+Feuil2!B55 -> 0.76041667 | BE4: =+Feuil2!B56 -> 0.77083333 | BF4: =+Feuil2!B57 -> 0.78125 | BG4: =+Feuil2!B58 -> 0.79166667 | BH4: =+Feuil2!B59 -> 0.80208333 | BI4: =+Feuil2!B60 -> 0.8125 | BJ4: =+Feuil2!B61 -> 0.82291667 | BK4: =+Feuil2!B62 -> 0.83333333
A5: =Horaires!A8 -> employé 00 | B5: =Feuil2!G70 -> prénom 0
A6: =Horaires!A13 -> employé 01 | B6: =Feuil2!G71 -> prénom 1
A7: =Horaires!A18 -> employé 02 | B7: =Feuil2!G72 -> prénom 2
A8: =Horaires!A23 -> employé 03 | B8: =Feuil2!G73 -> prénom 3
A9: =Horaires!A28 -> employé 04 | B9: =Feuil2!G74 -> prénom 4
A10: =Horaires!A33 -> employé 05 | B10: =Feuil2!G75 -> prénom 5
A11: =Feuil2!F76 -> employé 06 | B11: =Feuil2!G76 -> prénom 6
A12: =Feuil2!F77 -> employé 07 | B12: =Feuil2!G77 -> prénom 7
A13: =Feuil2!F78 -> employé 08 | B13: =Feuil2!G78 -> prénom 8
A14: =Feuil2!F79 -> employé 09 | B14: =Feuil2!G79 -> prénom 9
A15: =Feuil2!F80 -> employé 10 | B15: =Feuil2!G80 -> prénom 10
A16: =Feuil2!F81 -> employé 11 | B16: =Feuil2!G81 -> prénom 11
A17: =Feuil2!F82 -> employé 12 | B17: =Feuil2!G82 -> prénom 12
A18: =Feuil2!F83 -> employé 13 | B18: =Feuil2!G83 -> prénom 13
A19: =Feuil2!F84 -> employé 14 | B19: =Feuil2!G84 -> prénom 14
A20: =Feuil2!F85 -> employé 15 | B20: =Feuil2!G85 -> prénom 15
A21: =Feuil2!F86 -> employé 16 | B21: =Feuil2!G86 -> prénom 16
A22: =Feuil2!F87 -> employé 17 | B22: =Feuil2!G87 -> prénom 17
A23: =Feuil2!F88 -> employé 18 | B23: =Feuil2!G88 -> prénom 18
B25: TOTAL

Sheet Vendredi
A1: VENDREDI
C4: =Feuil2!B2 -> 0.20833333 | D4: =Feuil2!B3 -> 0.21875 | E4: =Feuil2!B4 -> 0.22916667 | F4: =Feuil2!B5 -> 0.23958333 | G4: =Feuil2!B6 -> 0.25 | H4: =Feuil2!B7 -> 0.26041667 | I4: =Feuil2!B8 -> 0.27083333 | J4: =Feuil2!B9 -> 0.28125 | K4: =Feuil2!B10 -> 0.29166667 | L4: =Feuil2!B11 -> 0.30208333 | M4: =Feuil2!B12 -> 0.3125 | N4: =Feuil2!B13 -> 0.32291667 | O4: =Feuil2!B14 -> 0.33333333 | P4: =Feuil2!B15 -> 0.34375 | Q4: =Feuil2!B16 -> 0.35416667 | R4: =Feuil2!B17 -> 0.36458333 | S4: =+Feuil2!B18 -> 0.375 | T4: =+Feuil2!B19 -> 0.38541667 | U4: =+Feuil2!B20 -> 0.39583333 | V4: =+Feuil2!B21 -> 0.40625 | W4: =+Feuil2!B22 -> 0.41666667 | X4: =+Feuil2!B23 -> 0.42708333 | Y4: =+Feuil2!B24 -> 0.4375 | Z4: =+Feuil2!B25 -> 0.44791667 | AA4: =+Feuil2!B26 -> 0.45833333 | AB4: =+Feuil2!B27 -> 0.46875 | AC4: =+Feuil2!B28 -> 0.47916667 | AD4: =+Feuil2!B29 -> 0.48958333 | AE4: =+Feuil2!B30 -> 0.5 | AF4: =+Feuil2!B31 -> 0.51041667 | AG4: =+Feuil2!B32 -> 0.52083333 | AH4: =+Feuil2!B33 -> 0.53125 | AI4: =+Feuil2!B34 -> 0.54166667 | AJ4: =+Feuil2!B35 -> 0.55208333 | AK4: =+Feuil2!B36 -> 0.5625 | AL4: =+Feuil2!B37 -> 0.57291667 | AM4: =+Feuil2!B38 -> 0.58333333 | AN4: =+Feuil2!B39 -> 0.59375 | AO4: =+Feuil2!B40 -> 0.60416667 | AP4: =+Feuil2!B41 -> 0.61458333 | AQ4: =+Feuil2!B42 -> 0.625 | AR4: =+Feuil2!B43 -> 0.63541667 | AS4: =+Feuil2!B44 -> 0.64583333 | AT4: =+Feuil2!B45 -> 0.65625 | AU4: =+Feuil2!B46 -> 0.66666667 | AV4: =+Feuil2!B47 -> 0.67708333 | AW4: =+Feuil2!B48 -> 0.6875 | AX4: =+Feuil2!B49 -> 0.69791667 | AY4: =+Feuil2!B50 -> 0.70833333 | AZ4: =+Feuil2!B51 -> 0.71875 | BA4: =+Feuil2!B52 -> 0.72916667 | BB4: =+Feuil2!B53 -> 0.73958333 | BC4: =+Feuil2!B54 -> 0.75 | BD4: =+Feuil2!B55 -> 0.76041667 | BE4: =+Feuil2!B56 -> 0.77083333 | BF4: =+Feuil2!B57 -> 0.78125 | BG4: =+Feuil2!B58 -> 0.79166667 | BH4: =+Feuil2!B59 -> 0.80208333 | BI4: =+Feuil2!B60 -> 0.8125 | BJ4: =+Feuil2!B61 -> 0.82291667 | BK4: =+Feuil2!B62 -> 0.83333333
A5: =Horaires!A8 -> employé 00 | B5: =Feuil2!G70 -> prénom 0
A6: =Horaires!A13 -> employé 01 | B6: =Feuil2!G71 -> prénom 1
A7: =Horaires!A18 -> employé 02 | B7: =Feuil2!G72 -> prénom 2
A8: =Horaires!A23 -> employé 03 | B8: =Feuil2!G73 -> prénom 3
A9: =Horaires!A28 -> employé 04 | B9: =Feuil2!G74 -> prénom 4
A10: =Horaires!A33 -> employé 05 | B10: =Feuil2!G75 -> prénom 5
A11: =Feuil2!F76 -> employé 06 | B11: =Feuil2!G76 -> prénom 6
A12: =Feuil2!F77 -> employé 07 | B12: =Feuil2!G77 -> prénom 7
A13: =Feuil2!F78 -> employé 08 | B13: =Feuil2!G78 -> prénom 8
A14: =Feuil2!F79 -> employé 09 | B14: =Feuil2!G79 -> prénom 9
A15: =Feuil2!F80 -> employé 10 | B15: =Feuil2!G80 -> prénom 10
A16: =Feuil2!F81 -> employé 11 | B16: =Feuil2!G81 -> prénom 11
A17: =Feuil2!F82 -> employé 12 | B17: =Feuil2!G82 -> prénom 12
A18: =Feuil2!F83 -> employé 13 | B18: =Feuil2!G83 -> prénom 13
A19: =Feuil2!F84 -> employé 14 | B19: =Feuil2!G84 -> prénom 14
A20: =Feuil2!F85 -> employé 15 | B20: =Feuil2!G85 -> prénom 15
A21: =Feuil2!F86 -> employé 16 | B21: =Feuil2!G86 -> prénom 16
A22: =Feuil2!F87 -> employé 17 | B22: =Feuil2!G87 -> prénom 17
A23: =Feuil2!F88 -> employé 18 | B23: =Feuil2!G88 -> prénom 18
B25: TOTAL

Sheet Samedi
A1: SAMEDI
C4: =Feuil2!B2 -> 0.20833333 | D4: =Feuil2!B3 -> 0.21875 | E4: =Feuil2!B4 -> 0.22916667 | F4: =Feuil2!B5 -> 0.23958333 | G4: =Feuil2!B6 -> 0.25 | H4: =Feuil2!B7 -> 0.26041667 | I4: =Feuil2!B8 -> 0.27083333 | J4: =Feuil2!B9 -> 0.28125 | K4: =Feuil2!B10 -> 0.29166667 | L4: =Feuil2!B11 -> 0.30208333 | M4: =Feuil2!B12 -> 0.3125 | N4: =Feuil2!B13 -> 0.32291667 | O4: =Feuil2!B14 -> 0.33333333 | P4: =Feuil2!B15 -> 0.34375 | Q4: =Feuil2!B16 -> 0.35416667 | R4: =Feuil2!B17 -> 0.36458333 | S4: =+Feuil2!B18 -> 0.375 | T4: =+Feuil2!B19 -> 0.38541667 | U4: =+Feuil2!B20 -> 0.39583333 | V4: =+Feuil2!B21 -> 0.40625 | W4: =+Feuil2!B22 -> 0.41666667 | X4: =+Feuil2!B23 -> 0.42708333 | Y4: =+Feuil2!B24 -> 0.4375 | Z4: =+Feuil2!B25 -> 0.44791667 | AA4: =+Feuil2!B26 -> 0.45833333 | AB4: =+Feuil2!B27 -> 0.46875 | AC4: =+Feuil2!B28 -> 0.47916667 | AD4: =+Feuil2!B29 -> 0.48958333 | AE4: =+Feuil2!B30 -> 0.5 | AF4: =+Feuil2!B31 -> 0.51041667 | AG4: =+Feuil2!B32 -> 0.52083333 | AH4: =+Feuil2!B33 -> 0.53125 | AI4: =+Feuil2!B34 -> 0.54166667 | AJ4: =+Feuil2!B35 -> 0.55208333 | AK4: =+Feuil2!B36 -> 0.5625 | AL4: =+Feuil2!B37 -> 0.57291667 | AM4: =+Feuil2!B38 -> 0.58333333 | AN4: =+Feuil2!B39 -> 0.59375 | AO4: =+Feuil2!B40 -> 0.60416667 | AP4: =+Feuil2!B41 -> 0.61458333 | AQ4: =+Feuil2!B42 -> 0.625 | AR4: =+Feuil2!B43 -> 0.63541667 | AS4: =+Feuil2!B44 -> 0.64583333 | AT4: =+Feuil2!B45 -> 0.65625 | AU4: =+Feuil2!B46 -> 0.66666667 | AV4: =+Feuil2!B47 -> 0.67708333 | AW4: =+Feuil2!B48 -> 0.6875 | AX4: =+Feuil2!B49 -> 0.69791667 | AY4: =+Feuil2!B50 -> 0.70833333 | AZ4: =+Feuil2!B51 -> 0.71875 | BA4: =+Feuil2!B52 -> 0.72916667 | BB4: =+Feuil2!B53 -> 0.73958333 | BC4: =+Feuil2!B54 -> 0.75 | BD4: =+Feuil2!B55 -> 0.76041667 | BE4: =+Feuil2!B56 -> 0.77083333 | BF4: =+Feuil2!B57 -> 0.78125 | BG4: =+Feuil2!B58 -> 0.79166667 | BH4: =+Feuil2!B59 -> 0.80208333 | BI4: =+Feuil2!B60 -> 0.8125 | BJ4: =+Feuil2!B61 -> 0.82291667 | BK4: =+Feuil2!B62 -> 0.83333333
A5: =Horaires!A8 -> employé 00 | B5: =Feuil2!G70 -> prénom 0
A6: =Horaires!A13 -> employé 01 | B6: =Feuil2!G71 -> prénom 1
A7: =Horaires!A18 -> employé 02 | B7: =Feuil2!G72 -> prénom 2
A8: =Horaires!A23 -> employé 03 | B8: =Feuil2!G73 -> prénom 3
A9: =Horaires!A28 -> employé 04 | B9: =Feuil2!G74 -> prénom 4
A10: =Horaires!A33 -> employé 05 | B10: =Feuil2!G75 -> prénom 5
A11: =Feuil2!F76 -> employé 06 | B11: =Feuil2!G76 -> prénom 6
A12: =Feuil2!F77 -> employé 07 | B12: =Feuil2!G77 -> prénom 7
A13: =Feuil2!F78 -> employé 08 | B13: =Feuil2!G78 -> prénom 8
A14: =Feuil2!F79 -> employé 09 | B14: =Feuil2!G79 -> prénom 9
A15: =Feuil2!F80 -> employé 10 | B15: =Feuil2!G80 -> prénom 10
A16: =Feuil2!F81 -> employé 11 | B16: =Feuil2!G81 -> prénom 11
A17: =Feuil2!F82 -> employé 12 | B17: =Feuil2!G82 -> prénom 12
A18: =Feuil2!F83 -> employé 13 | B18: =Feuil2!G83 -> prénom 13
A19: =Feuil2!F84 -> employé 14 | B19: =Feuil2!G84 -> prénom 14
A20: =Feuil2!F85 -> employé 15 | B20: =Feuil2!G85 -> prénom 15
A21: =Feuil2!F86 -> employé 16 | B21: =Feuil2!G86 -> prénom 16
A22: =Feuil2!F87 -> employé 17 | B22: =Feuil2!G87 -> prénom 17
A23: =Feuil2!F88 -> employé 18 | B23: =Feuil2!G88 -> prénom 18
B25: TOTAL

Sheet Dimanche
A1: DIMANCHE
C4: =Feuil2!B2 -> 0.20833333 | D4: =Feuil2!B3 -> 0.21875 | E4: =Feuil2!B4 -> 0.22916667 | F4: =Feuil2!B5 -> 0.23958333 | G4: =Feuil2!B6 -> 0.25 | H4: =Feuil2!B7 -> 0.26041667 | I4: =Feuil2!B8 -> 0.27083333 | J4: =Feuil2!B9 -> 0.28125 | K4: =Feuil2!B10 -> 0.29166667 | L4: =Feuil2!B11 -> 0.30208333 | M4: =Feuil2!B12 -> 0.3125 | N4: =Feuil2!B13 -> 0.32291667 | O4: =Feuil2!B14 -> 0.33333333 | P4: =Feuil2!B15 -> 0.34375 | Q4: =Feuil2!B16 -> 0.35416667 | R4: =Feuil2!B17 -> 0.36458333 | S4: =+Feuil2!B18 -> 0.375 | T4: =+Feuil2!B19 -> 0.38541667 | U4: =+Feuil2!B20 -> 0.39583333 | V4: =+Feuil2!B21 -> 0.40625 | W4: =+Feuil2!B22 -> 0.41666667 | X4: =+Feuil2!B23 -> 0.42708333 | Y4: =+Feuil2!B24 -> 0.4375 | Z4: =+Feuil2!B25 -> 0.44791667 | AA4: =+Feuil2!B26 -> 0.45833333 | AB4: =+Feuil2!B27 -> 0.46875 | AC4: =+Feuil2!B28 -> 0.47916667 | AD4: =+Feuil2!B29 -> 0.48958333 | AE4: =+Feuil2!B30 -> 0.5 | AF4: =+Feuil2!B31 -> 0.51041667 | AG4: =+Feuil2!B32 -> 0.52083333 | AH4: =+Feuil2!B33 -> 0.53125 | AI4: =+Feuil2!B34 -> 0.54166667 | AJ4: =+Feuil2!B35 -> 0.55208333 | AK4: =+Feuil2!B36 -> 0.5625 | AL4: =+Feuil2!B37 -> 0.57291667 | AM4: =+Feuil2!B38 -> 0.58333333 | AN4: =+Feuil2!B39 -> 0.59375 | AO4: =+Feuil2!B40 -> 0.60416667 | AP4: =+Feuil2!B41 -> 0.61458333 | AQ4: =+Feuil2!B42 -> 0.625 | AR4: =+Feuil2!B43 -> 0.63541667 | AS4: =+Feuil2!B44 -> 0.64583333 | AT4: =+Feuil2!B45 -> 0.65625 | AU4: =+Feuil2!B46 -> 0.66666667 | AV4: =+Feuil2!B47 -> 0.67708333 | AW4: =+Feuil2!B48 -> 0.6875 | AX4: =+Feuil2!B49 -> 0.69791667 | AY4: =+Feuil2!B50 -> 0.70833333 | AZ4: =+Feuil2!B51 -> 0.71875 | BA4: =+Feuil2!B52 -> 0.72916667 | BB4: =+Feuil2!B53 -> 0.73958333 | BC4: =+Feuil2!B54 -> 0.75 | BD4: =+Feuil2!B55 -> 0.76041667 | BE4: =+Feuil2!B56 -> 0.77083333 | BF4: =+Feuil2!B57 -> 0.78125 | BG4: =+Feuil2!B58 -> 0.79166667 | BH4: =+Feuil2!B59 -> 0.80208333 | BI4: =+Feuil2!B60 -> 0.8125 | BJ4: =+Feuil2!B61 -> 0.82291667 | BK4: =+Feuil2!B62 -> 0.83333333
A5: =Horaires!A8 -> employé 00 | B5: =Feuil2!G70 -> prénom 0
A6: =Horaires!A13 -> employé 01 | B6: =Feuil2!G71 -> prénom 1
A7: =Horaires!A18 -> employé 02 | B7: =Feuil2!G72 -> prénom 2
A8: =Horaires!A23 -> employé 03 | B8: =Feuil2!G73 -> prénom 3
A9: =Horaires!A28 -> employé 04 | B9: =Feuil2!G74 -> prénom 4
A10: =Horaires!A33 -> employé 05 | B10: =Feuil2!G75 -> prénom 5
A11: =Feuil2!F76 -> employé 06 | B11: =Feuil2!G76 -> prénom 6
A12: =Feuil2!F77 -> employé 07 | B12: =Feuil2!G77 -> prénom 7
A13: =Feuil2!F78 -> employé 08 | B13: =Feuil2!G78 -> prénom 8
A14: =Feuil2!F79 -> employé 09 | B14: =Feuil2!G79 -> prénom 9
A15: =Feuil2!F80 -> employé 10 | B15: =Feuil2!G80 -> prénom 10
A16: =Feuil2!F81 -> employé 11 | B16: =Feuil2!G81 -> prénom 11
A17: =Feuil2!F82 -> employé 12 | B17: =Feuil2!G82 -> prénom 12
A18: =Feuil2!F83 -> employé 13 | B18: =Feuil2!G83 -> prénom 13
A19: =Feuil2!F84 -> employé 14 | B19: =Feuil2!G84 -> prénom 14
A20: =Feuil2!F85 -> employé 15 | B20: =Feuil2!G85 -> prénom 15
A21: =Feuil2!F86 -> employé 16 | B21: =Feuil2!G86 -> prénom 16
A22: =Feuil2!F87 -> employé 17 | B22: =Feuil2!G87 -> prénom 17
A23: =Feuil2!F88 -> employé 18 | B23: =Feuil2!G88 -> prénom 18
B25: TOTAL

Sheet Feuil2
B2: 0.20833333
B3: 0.21875
B4: 0.22916667
B5: 0.23958333
B6: 0.25
B7: 0.26041667
B8: 0.27083333
B9: 0.28125
B10: 0.29166667
B11: 0.30208333
B12: 0.3125
B13: 0.32291667
... B68: 0.89583333
B69: 0.90625 | F69: liste employé | H69: base horaire
B70: 0.91666667 | F70: employé 00 | G70: prénom 0 | H70: 39h00
B71: 0.92708333 | F71: employé 01 | G71: prénom 1 | H71: 36h75
B72: 0.9375 | F72: employé 02 | G72: prénom 2 | H72: 35h00
B73: 0.94791667 | F73: employé 03 | G73: prénom 3 | H73: 35h00
B74: 0.95833333 | F74: employé 04 | G74: prénom 4 | H74: 35h00
B75: 0.96875 | F75: employé 05 | G75: prénom 5 | H75: 35h00
B76: 0.97916667 | F76: employé 06 | G76: prénom 6 | H76: 35h00
B77: 0.98958333 | F77: employé 07 | G77: prénom 7 | H77: 35h00
B78: 1 | F78: employé 08 | G78: prénom 8 | H78: 35h00
B79: 1.0104167 | F79: employé 09 | G79: prénom 9 | H79: 35h00
B80: 1.0208333 | F80: employé 10 | G80: prénom 10 | H80: 39h00
B81: 1.03125 | F81: employé 11 | G81: prénom 11 | H81: 35h00
... B88: 1.1041667 | F88: employé 18 | G88: prénom 18 | H88: 35h00
B89: 1.1145833
B90: 1.125
B91: 1.1354167
B92: 1.1458333
B93: 1.15625
B94: 1.1666667
B95: 1.1770833
B96: 1.1875
B97: 1.1979167
B98: 1.2083333
