Workbook

Sheet Report_Afriquia
A1: Gar Péage | B1: Station | C1: Ville Station | D1: Date transaction | E1: Carte | F1: Libelle | G1: Quantité | H1: Montant Ht | I1: Montant TTC | J1: Montant Tva
A2: Kénitra Centre | D2: 12/06/2015 | E2: 708358200139600235 | F2: Péage | G2: 0 | H2: 13.13 | I2: 13.13 | J2: 0
A3: Kénitra Centre | D3: 12/06/2015 | E3: 708358200139600235 | F3: Péage | G3: 0 | H3: 13.13 | I3: 13.13 | J3: 0
A4: Kénitra Centre | D4: 12/06/2015 | E4: 708358200139600235 | F4: Péage | G4: 0 | H4: 13.13 | I4: 13.13 | J4: 0
A5: Bouznika PV Sorties | D5: 26/05/2015 | E5: 708358200139600235 | F5: Péage | G5: 0 | H5: 23.23 | I5: 23.23 | J5: 0
A6: Bouznika PV Entrées | D6: 05/06/2015 | E6: 708358200139600235 | F6: Péage | G6: 0 | H6: 23.23 | I6: 23.23 | J6: 0
A7: Bouznika PV Sorties | D7: 08/06/2015 | E7: 708358200139600235 | F7: Péage | G7: 0 | H7: 23.23 | I7: 23.23 | J7: 0
A8: 191401 | B8: CARREFOUR OUJDA | C8: OUJDA | D8: 07/06/2015 | E8: 708358200139600235 | F8: GASOIL | G8: 32.98 | H8: 286.36 | I8: 315 | J8: 28.64
A9: 153102 | B9: AF.SODIGEC IV | D9: 05/06/2015 | E9: 708358200139600235 | F9: GASOIL | G9: 53.76 | H9: 454.55 | I9: 500 | J9: 45.45
A10: 20004242 | B10: S/S AFRIQUIA NARJISS | D10: 12/06/2015 | E10: 708358200139600235 | F10: GASOIL | G10: 21.44 | H10: 181.82 | I10: 200 | J10: 18.18
A11: 20004361 | B11: S/S AFRIQUIA HAY HASSANI | D11: 11/06/2015 | E11: 708358200139600235 | F11: GASOIL | G11: 21.51 | H11: 181.82 | I11: 200 | J11: 18.18
A12: 20004542 | B12: S/S AFRIQUIA BD MLY ISMAIL | C12: CASABLANCA | D12: 03/06/2015 | E12: 708358200139600235 | F12: GASOIL | G12: 21.51 | H12: 181.82 | I12: 200 | J12: 18.18
A13: 20004492 | B13: S/S AFRIQUIA ADM LAAYOUNE | C13: LAAYOUNE | D13: 06/06/2015 | E13: 708358200139600235 | F13: GASOIL | G13: 21.03 | H13: 181.82 | I13: 200 | J13: 18.18
B14: S/S ABDELMOUMEN GSM 1 | C14: CASABLANCA | D14: 08/06/2015 | E14: 708358200139600235 | F14: GASOIL | G14: 21.51 | H14: 181.82 | I14: 200 | J14: 18.18
A15: Taza Est | D15: 07/06/2015 | E15: 708358200139600235 | F15: Péage | G15: 0 | H15: 66.66 | I15: 66.66 | J15: 0
A16: Oujda | D16: 18/06/2015 | E16: 708358200139600235 | F16: Péage | G16: 0 | H16: 83.83 | I16: 83.83 | J16: 0
A17: Sidi Allal El Bahraoui | D17: 26/05/2015 | E17: 708358200139600235 | F17: Péage | G17: 0 | H17: 157.56 | I17: 157.56 | J17: 0
A18: Oujda | D18: 06/06/2015 | E18: 708358200139600235 | F18: Péage | G18: 0 | H18: 157.56 | I18: 157.56 | J18: 0
A19: 153102 | B19: AF.SODIGEC IV | D19: 14/06/2015 | E19: 708358200139600235 | F19: GASOIL | G19: 19.35 | H19: 163.64 | I19: 180 | J19: 16.36
A20: Bouznika PV Entrées | D20: 12/06/2015 | E20: 708358200139600235 | F20: Péage | G20: 0 | H20: 23.23 | I20: 23.23 | J20: 0
A21: Bouznika PV Sorties | D21: 12/06/2015 | E21: 708358200139600235 | F21: Péage | G21: 0 | H21: 23.23 | I21: 23.23 | J21: 0
A22: Bouznika PV Entrées | D22: 18/06/2015 | E22: 708358200139600235 | F22: Péage | G22: 0 | H22: 23.23 | I22: 23.23 | J22: 0
A23: Fès | D23: 07/06/2015 | E23: 708358200139600235 | F23: Péage | G23: 0 | H23: 42.42 | I23: 42.42 | J23: 0
A24: Sidi Allal El Bahraoui | D24: 08/06/2015 | E24: 708358200139600235 | F24: Péage | G24: 0 | H24: 50.5 | I24: 50.5 | J24: 0
A25: Ras Tabouda | D25: 18/06/2015 | E25: 708358200139600235 | F25: Péage | G25: 0 | H25: 64.64 | I25: 64.64 | J25: 0
A26: Casablanca Est Entrée | D26: 26/05/2015 | E26: 708358200139600243 | F26: Péage | G26: 0 | H26: 11.11 | I26: 11.11 | J26: 0
A27: Berrechid Centre | D27: 26/05/2015 | E27: 708358200139600243 | F27: Péage | G27: 0 | H27: 20.2 | I27: 20.2 | J27: 0
A28: Kénitra Centre | D28: 21/05/2015 | E28: 708358200139600243 | F28: Péage | G28: 0 | H28: 27.27 | I28: 27.27 | J28: 0
A29: Kénitra Centre | D29: 24/05/2015 | E29: 708358200139600243 | F29: Péage | G29: 0 | H29: 27.27 | I29: 27.27 | J29: 0
A30: Bouznika PV Entrées | D30: 21/05/2015 | E30: 708358200139600243 | F30: Péage | G30: 0 | H30: 41.41 | I30: 41.41 | J30: 0
A31: Bouznika PV Sorties | D31: 24/05/2015 | E31: 708358200139600243 | F31: Péage | G31: 0 | H31: 41.41 | I31: 41.41 | J31: 0
... A33: Amskroud BPV | D33: 30/05/2015 | E33: 708358200139600243 | F33: Péage | G33: 0 | H33: 148.47 | I33: 148.47 | J33: 0
A34: 20004253 | B34: BELFIKH HMIDA | D34: 08/06/2015 | E34: 708358200139600243 | F34: GASOIL | G34: 528.54 | H34: 4545.45 | I34: 5000 | J34: 454.55
A35: 20004371 | B35: S/S AFRIQUIA NAFT SOUSS CARB | C35: AGADIR | D35: 18/06/2015 | E35: 708358200139600243 | F35: GASOIL | G35: 538.79 | H35: 4545.45 | I35: 5000 | J35: 454.55
A36: 165203 | B36: S/S AFRIQUIA AL JAOUHARI HINDA | C36: AGADIR | D36: 05/06/2015 | E36: 708358200139600250 | F36: GASOIL | G36: 63.69 | H36: 545.45 | I36: 600 | J36: 54.55
A37: Tiflet | D37: 27/05/2015 | E37: 708358200139600276 | F37: Péage | G37: 0 | H37: 8.08 | I37: 8.08 | J37: 0
A38: Gare de Tit Mellil | D38: 06/06/2015 | E38: 708358200139600276 | F38: Péage | G38: 0 | H38: 8.08 | I38: 8.08 | J38: 0
A39: Gare de Tit Mellil | D39: 12/06/2015 | E39: 708358200139600276 | F39: Péage | G39: 0 | H39: 8.08 | I39: 8.08 | J39: 0
A40: Tiflet | D40: 19/06/2015 | E40: 708358200139600276 | F40: Péage | G40: 0 | H40: 8.08 | I40: 8.08 | J40: 0
A41: Gare de Tit Mellil | D41: 20/06/2015 | E41: 708358200139600276 | F41: Péage | G41: 0 | H41: 8.08 | I41: 8.08 | J41: 0
...

Sheet Feuil1
D4: GASOIL | E4: Péage
C5: 708358200139600235 | D5: =SUMPRODUCT(Report_Afriquia!$I$2:$I$392*(Report_Afriquia!$E$2:$E$392=$C5)*(Report_Afriquia!$F$2:$F$392=D$4)) -> 1995 | E5: =SUMPRODUCT(Report_Afriquia!$I$2:$I$392*(Report_Afriquia!$E$2:$E$392=$C5)*(Report_Afriquia!$F$2:$F$392=E$4)) -> 801.94
C6: 708358200139600243 | D6: =SUMPRODUCT(Report_Afriquia!$I$2:$I$392*(Report_Afriquia!$E$2:$E$392=$C6)*(Report_Afriquia!$F$2:$F$392=D$4)) -> 10000 | E6: =SUMPRODUCT(Report_Afriquia!$I$2:$I$392*(Report_Afriquia!$E$2:$E$392=$C6)*(Report_Afriquia!$F$2:$F$392=E$4)) -> 386.83
C7: 708358200139600250 | D7: =SUMPRODUCT(Report_Afriquia!$I$2:$I$392*(Report_Afriquia!$E$2:$E$392=$C7)*(Report_Afriquia!$F$2:$F$392=D$4)) -> 600 | E7: =SUMPRODUCT(Report_Afriquia!$I$2:$I$392*(Report_Afriquia!$E$2:$E$392=$C7)*(Report_Afriquia!$F$2:$F$392=E$4)) -> 0
C8: 708358200139600276 | D8: =SUMPRODUCT(Report_Afriquia!$I$2:$I$392*(Report_Afriquia!$E$2:$E$392=$C8)*(Report_Afriquia!$F$2:$F$392=D$4)) -> 1500 | E8: =SUMPRODUCT(Report_Afriquia!$I$2:$I$392*(Report_Afriquia!$E$2:$E$392=$C8)*(Report_Afriquia!$F$2:$F$392=E$4)) -> 1120.09
C9: 708358200139600284 | D9: =SUMPRODUCT(Report_Afriquia!$I$2:$I$392*(Report_Afriquia!$E$2:$E$392=$C9)*(Report_Afriquia!$F$2:$F$392=D$4)) -> 1500 | E9: =SUMPRODUCT(Report_Afriquia!$I$2:$I$392*(Report_Afriquia!$E$2:$E$392=$C9)*(Report_Afriquia!$F$2:$F$392=E$4)) -> 0
C10: 708358200139600292 | D10: =SUMPRODUCT(Report_Afriquia!$I$2:$I$392*(Report_Afriquia!$E$2:$E$392=$C10)*(Report_Afriquia!$F$2:$F$392=D$4)) -> 4000 | E10: =SUMPRODUCT(Report_Afriquia!$I$2:$I$392*(Report_Afriquia!$E$2:$E$392=$C10)*(Report_Afriquia!$F$2:$F$392=E$4)) -> 0
C11: 708358200139600300 | D11: =SUMPRODUCT(Report_Afriquia!$I$2:$I$392*(Report_Afriquia!$E$2:$E$392=$C11)*(Report_Afriquia!$F$2:$F$392=D$4)) -> 1000 | E11: =SUMPRODUCT(Report_Afriquia!$I$2:$I$392*(Report_Afriquia!$E$2:$E$392=$C11)*(Report_Afriquia!$F$2:$F$392=E$4)) -> 0
C12: 708358200139600318 | D12: =SUMPRODUCT(Report_Afriquia!$I$2:$I$392*(Report_Afriquia!$E$2:$E$392=$C12)*(Report_Afriquia!$F$2:$F$392=D$4)) -> 1950 | E12: =SUMPRODUCT(Report_Afriquia!$I$2:$I$392*(Report_Afriquia!$E$2:$E$392=$C12)*(Report_Afriquia!$F$2:$F$392=E$4)) -> 467.63
C13: 708358200139600334 | D13: =SUMPRODUCT(Report_Afriquia!$I$2:$I$392*(Report_Afriquia!$E$2:$E$392=$C13)*(Report_Afriquia!$F$2:$F$392=D$4)) -> 5000 | E13: =SUMPRODUCT(Report_Afriquia!$I$2:$I$392*(Report_Afriquia!$E$2:$E$392=$C13)*(Report_Afriquia!$F$2:$F$392=E$4)) -> 1480.66
C14: 708358200139600342 | D14: =SUMPRODUCT(Report_Afriquia!$I$2:$I$392*(Report_Afriquia!$E$2:$E$392=$C14)*(Report_Afriquia!$F$2:$F$392=D$4)) -> 1500 | E14: =SUMPRODUCT(Report_Afriquia!$I$2:$I$392*(Report_Afriquia!$E$2:$E$392=$C14)*(Report_Afriquia!$F$2:$F$392=E$4)) -> 888.8
C15: 708358200139600359 | D15: =SUMPRODUCT(Report_Afriquia!$I$2:$I$392*(Report_Afriquia!$E$2:$E$392=$C15)*(Report_Afriquia!$F$2:$F$392=D$4)) -> 2000 | E15: =SUMPRODUCT(Report_Afriquia!$I$2:$I$392*(Report_Afriquia!$E$2:$E$392=$C15)*(Report_Afriquia!$F$2:$F$392=E$4)) -> 956.47
C16: 708358200139600367 | D16: =SUMPRODUCT(Report_Afriquia!$I$2:$I$392*(Report_Afriquia!$E$2:$E$392=$C16)*(Report_Afriquia!$F$2:$F$392=D$4)) -> 1500 | E16: =SUMPRODUCT(Report_Afriquia!$I$2:$I$392*(Report_Afriquia!$E$2:$E$392=$C16)*(Report_Afriquia!$F$2:$F$392=E$4)) -> 0
... C30: 708358210139600200 | D30: =SUMPRODUCT(Report_Afriquia!$I$2:$I$392*(Report_Afriquia!$E$2:$E$392=$C30)*(Report_Afriquia!$F$2:$F$392=D$4)) -> 4000 | E30: =SUMPRODUCT(Report_Afriquia!$I$2:$I$392*(Report_Afriquia!$E$2:$E$392=$C30)*(Report_Afriquia!$F$2:$F$392=E$4)) -> 0
