Workbook

Sheet Report_Afriquia
A1: Gar Péage | B1: Station | C1: Ville Station | D1: Date transaction | E1: Carte | F1: Libelle | G1: Quantité | H1: Montant Ht | I1: Montant TTC | J1: Montant Tva
A2: Kénitra Centre | D2: 12/06/2015 | E2: 708358200139600235 | F2: Péage | G2: 0 | H2: 13.13 | I2: 13.13 | J2: 0
A3: Kénitra Centre | D3: 12/06/2015 | E3: 708358200139600235 | F3: Péage | G3: 0 | H3: 13.13 | I3: 13.13 | J3: 0
A4: Kénitra Centre | D4: 12/06/2015 | E4: 708358200139600235 | F4: Péage | G4: 0 | H4: 13.13 | I4: 13.13 | J4: 0
A5: Bouznika PV Sorties | D5: 26/05/2015 | E5: 708358200139600235 | F5: Péage | G5: 0 | H5: 23.23 | I5: 23.23 | J5: 0
A6: Bouznika PV Entrées | D6: 05/06/2015 | E6: 708358200139600235 | F6: Péage | G6: 0 | H6: 23.23 | I6: 23.23 | J6: 0
A7: Bouznika PV Sorties | D7: 08/06/2015 | E7: 708358200139600235 | F7: Péage | G7: 0 | H7: 23.23 | I7: 23.23 | J7: 0
A8: 191401 | B8: CARREFOUR OUJDA | C8: OUJDA | D8: 07/06/2015 | E8: 708358200139600235 | F8: GASOIL | G8: 32.98 | H8: 286.36 | I8: 315 | J8: 28.64
A9: 153102 | B9: AF.SODIGEC IV | D9: 05/06/2015 | E9: 708358200139600235 | F9: GASOIL | G9: 53.76 | H9: 454.55 | I9: 500 | J9: 45.45
A10: 20004242 | B10: S/S AFRIQUIA NARJISS | D10: 12/06/2015 | E10: 708358200139600235 | F10: GASOIL | G10: 21.44 | H10: 181.82 | I10: 200 | J10: 18.18
A11: 20004361 | B11: S/S AFRIQUIA HAY HASSANI | D11: 11/06/2015 | E11: 708358200139600235 | F11: GASOIL | G11: 21.51 | H11: 181.82 | I11: 200 | J11: 18.18
A12: 20004542 | B12: S/S AFRIQUIA BD MLY ISMAIL | C12: CASABLANCA | D12: 03/06/2015 | E12: 708358200139600235 | F12: GASOIL | G12: 21.51 | H12: 181.82 | I12: 200 | J12: 18.18
A13: 20004492 | B13: S/S AFRIQUIA ADM LAAYOUNE | C13: LAAYOUNE | D13: 06/06/2015 | E13: 708358200139600235 | F13: GASOIL | G13: 21.03 | H13: 181.82 | I13: 200 | J13: 18.18
B14: S/S ABDELMOUMEN GSM 1 | C14: CASABLANCA | D14: 08/06/2015 | E14: 708358200139600235 | F14: GASOIL | G14: 21.51 | H14: 181.82 | I14: 200 | J14: 18.18
A15: Taza Est | D15: 07/06/2015 | E15: 708358200139600235 | F15: Péage | G15: 0 | H15: 66.66 | I15: 66.66 | J15: 0
A16: Oujda | D16: 18/06/2015 | E16: 708358200139600235 | F16: Péage | G16: 0 | H16: 83.83 | I16: 83.83 | J16: 0
A17: Sidi Allal El Bahraoui | D17: 26/05/2015 | E17: 708358200139600235 | F17: Péage | G17: 0 | H17: 157.56 | I17: 157.56 | J17: 0
A18: Oujda | D18: 06/06/2015 | E18: 708358200139600235 | F18: Péage | G18: 0 | H18: 157.56 | I18: 157.56 | J18: 0
A19: 153102 | B19: AF.SODIGEC IV | D19: 14/06/2015 | E19: 708358200139600235 | F19: GASOIL | G19: 19.35 | H19: 163.64 | I19: 180 | J19: 16.36
A20: Bouznika PV Entrées | D20: 12/06/2015 | E20: 708358200139600235 | F20: Péage | G20: 0 | H20: 23.23 | I20: 23.23 | J20: 0
A21: Bouznika PV Sorties | D21: 12/06/2015 | E21: 708358200139600235 | F21: Péage | G21: 0 | H21: 23.23 | I21: 23.23 | J21: 0
A22: Bouznika PV Entrées | D22: 18/06/2015 | E22: 708358200139600235 | F22: Péage | G22: 0 | H22: 23.23 | I22: 23.23 | J22: 0
A23: Fès | D23: 07/06/2015 | E23: 708358200139600235 | F23: Péage | G23: 0 | H23: 42.42 | I23: 42.42 | J23: 0
A24: Sidi Allal El Bahraoui | D24: 08/06/2015 | E24: 708358200139600235 | F24: Péage | G24: 0 | H24: 50.5 | I24: 50.5 | J24: 0
A25: Ras Tabouda | D25: 18/06/2015 | E25: 708358200139600235 | F25: Péage | G25: 0 | H25: 64.64 | I25: 64.64 | J25: 0
A26: Casablanca Est Entrée | D26: 26/05/2015 | E26: 708358200139600243 | F26: Péage | G26: 0 | H26: 11.11 | I26: 11.11 | J26: 0
A27: Berrechid Centre | D27: 26/05/2015 | E27: 708358200139600243 | F27: Péage | G27: 0 | H27: 20.2 | I27: 20.2 | J27: 0
A28: Kénitra Centre | D28: 21/05/2015 | E28: 708358200139600243 | F28: Péage | G28: 0 | H28: 27.27 | I28: 27.27 | J28: 0
A29: Kénitra Centre | D29: 24/05/2015 | E29: 708358200139600243 | F29: Péage | G29: 0 | H29: 27.27 | I29: 27.27 | J29: 0
A30: Bouznika PV Entrées | D30: 21/05/2015 | E30: 708358200139600243 | F30: Péage | G30: 0 | H30: 41.41 | I30: 41.41 | J30: 0
A31: Bouznika PV Sorties | D31: 24/05/2015 | E31: 708358200139600243 | F31: Péage | G31: 0 | H31: 41.41 | I31: 41.41 | J31: 0
... A33: Amskroud BPV | D33: 30/05/2015 | E33: 708358200139600243 | F33: Péage | G33: 0 | H33: 148.47 | I33: 148.47 | J33: 0
A34: 20004253 | B34: BELFIKH HMIDA | D34: 08/06/2015 | E34: 708358200139600243 | F34: GASOIL | G34: 528.54 | H34: 4545.45 | I34: 5000 | J34: 454.55
A35: 20004371 | B35: S/S AFRIQUIA NAFT SOUSS CARB | C35: AGADIR | D35: 18/06/2015 | E35: 708358200139600243 | F35: GASOIL | G35: 538.79 | H35: 4545.45 | I35: 5000 | J35: 454.55
A36: 165203 | B36: S/S AFRIQUIA AL JAOUHARI HINDA | C36: AGADIR | D36: 05/06/2015 | E36: 708358200139600250 | F36: GASOIL | G36: 63.69 | H36: 545.45 | I36: 600 | J36: 54.55
A37: Tiflet | D37: 27/05/2015 | E37: 708358200139600276 | F37: Péage | G37: 0 | H37: 8.08 | I37: 8.08 | J37: 0
A38: Gare de Tit Mellil | D38: 06/06/2015 | E38: 708358200139600276 | F38: Péage | G38: 0 | H38: 8.08 | I38: 8.08 | J38: 0
A39: Gare de Tit Mellil | D39: 12/06/2015 | E39: 708358200139600276 | F39: Péage | G39: 0 | H39: 8.08 | I39: 8.08 | J39: 0
A40: Tiflet | D40: 19/06/2015 | E40: 708358200139600276 | F40: Péage | G40: 0 | H40: 8.08 | I40: 8.08 | J40: 0
A41: Gare de Tit Mellil | D41: 20/06/2015 | E41: 708358200139600276 | F41: Péage | G41: 0 | H41: 8.08 | I41: 8.08 | J41: 0
A42: Berrechid Centre | D42: 20/06/2015 | E42: 708358200139600276 | F42: Péage | G42: 0 | H42: 11.11 | I42: 11.11 | J42: 0
A43: Amskroud BPV | D43: 20/06/2015 | E43: 708358200139600276 | F43: Péage | G43: 0 | H43: 154.53 | I43: 154.53 | J43: 0
A44: 20004897 | B44: S/S AFRIQUIA BIR RAMI GSM 1 | C44: KENITRA | D44: 14/06/2015 | E44: 708358200139600276 | F44: GASOIL | G44: 21.44 | H44: 181.82 | I44: 200 | J44: 18.18
A45: 20004529 | B45: S/S MIMOUNA GSM 1 | C45: KHEMISSET | D45: 02/06/2015 | E45: 708358200139600276 | F45: GASOIL | G45: 21.39 | H45: 181.82 | I45: 200 | J45: 18.18
A46: 20004500 | B46: MARJANE KENITRA | C46: KENITRA | D46: 17/06/2015 | E46: 708358200139600276 | F46: GASOIL | G46: 21.81 | H46: 181.82 | I46: 200 | J46: 18.18
A47: 20004231 | B47: SOCIETE CLUB LES CHENES | C47: SALE | D47: 04/06/2015 | E47: 708358200139600276 | F47: GASOIL | G47: 32.19 | H47: 272.73 | I47: 300 | J47: 27.27
A48: 20004242 | B48: S/S AFRIQUIA NARJISS | D48: 06/06/2015 | E48: 708358200139600276 | F48: GASOIL | G48: 37.51 | H48: 318.18 | I48: 350 | J48: 31.82
A49: Larache | D49: 04/06/2015 | E49: 708358200139600276 | F49: Péage | G49: 0 | H49: 39.39 | I49: 39.39 | J49: 0
A50: Kénitra Nord | D50: 04/06/2015 | E50: 708358200139600276 | F50: Péage | G50: 0 | H50: 39.39 | I50: 39.39 | J50: 0
A51: Amskroud BPV | D51: 07/06/2015 | E51: 708358200139600276 | F51: Péage | G51: 0 | H51: 39.39 | I51: 39.39 | J51: 0
A52: Imintanout | D52: 11/06/2015 | E52: 708358200139600276 | F52: Péage | G52: 0 | H52: 39.39 | I52: 39.39 | J52: 0
A53: 20004897 | B53: S/S AFRIQUIA BIR RAMI GSM 1 | C53: KENITRA | D53: 17/06/2015 | E53: 708358200139600276 | F53: GASOIL | G53: 10.91 | H53: 90.91 | I53: 100 | J53: 9.09
A54: 20004549 | B54: STATION AGADIR | D54: 11/06/2015 | E54: 708358200139600276 | F54: GASOIL | G54: 15.94 | H54: 136.36 | I54: 150 | J54: 13.64
A55: Bouznika PV Entrées | D55: 12/06/2015 | E55: 708358200139600276 | F55: Péage | G55: 0 | H55: 23.23 | I55: 23.23 | J55: 0
A56: Bouznika PV Sorties | D56: 20/06/2015 | E56: 708358200139600276 | F56: Péage | G56: 0 | H56: 23.23 | I56: 23.23 | J56: 0
A57: Azemour | D57: 06/06/2015 | E57: 708358200139600276 | F57: Péage | G57: 0 | H57: 25.25 | I57: 25.25 | J57: 0
A58: Nassim | D58: 12/06/2015 | E58: 708358200139600276 | F58: Péage | G58: 0 | H58: 25.25 | I58: 25.25 | J58: 0
A59: Méknés Ouest | D59: 18/06/2015 | E59: 708358200139600276 | F59: Péage | G59: 0 | H59: 34.34 | I59: 34.34 | J59: 0
A60: Sidi Allal El Bahraoui | D60: 18/06/2015 | E60: 708358200139600276 | F60: Péage | G60: 0 | H60: 34.34 | I60: 34.34 | J60: 0
A61: Khémisset | D61: 19/06/2015 | E61: 708358200139600276 | F61: Péage | G61: 0 | H61: 16.16 | I61: 16.16 | J61: 0
A62: Méknès Est | D62: 19/06/2015 | E62: 708358200139600276 | F62: Péage | G62: 0 | H62: 22.22 | I62: 22.22 | J62: 0
A63: Khémisset | D63: 19/06/2015 | E63: 708358200139600276 | F63: Péage | G63: 0 | H63: 22.22 | I63: 22.22 | J63: 0
A64: Bouznika PV Sorties | D64: 25/05/2015 | E64: 708358200139600276 | F64: Péage | G64: 0 | H64: 23.23 | I64: 23.23 | J64: 0
A65: Bouznika PV Entrées | D65: 25/05/2015 | E65: 708358200139600276 | F65: Péage | G65: 0 | H65: 23.23 | I65: 23.23 | J65: 0
A66: Bouznika PV Sorties | D66: 06/06/2015 | E66: 708358200139600276 | F66: Péage | G66: 0 | H66: 23.23 | I66: 23.23 | J66: 0
... A96: Kénitra Centre | D96: 06/06/2015 | E96: 708358200139600276 | F96: Péage | G96: 0 | H96: 13.13 | I96: 13.13 | J96: 0
A97: 20004192 | B97: AFRIQUIA OUARZAZATE OUAHA | D97: 03/06/2015 | E97: 708358200139600284 | F97: GASOIL | G97: 10.53 | H97: 90.91 | I97: 100 | J97: 9.09
A98: 164401 | B98: Société Amal Daraa SARL | C98: ZAGORA | D98: 06/06/2015 | E98: 708358200139600284 | F98: GASOIL | G98: 20.88 | H98: 181.82 | I98: 200 | J98: 18.18
A99: 164401 | B99: Société Amal Daraa SARL | C99: ZAGORA | D99: 11/06/2015 | E99: 708358200139600284 | F99: GASOIL | G99: 20.88 | H99: 181.82 | I99: 200 | J99: 18.18
A100: 164401 | B100: Société Amal Daraa SARL | C100: ZAGORA | D100: 02/06/2015 | E100: 708358200139600284 | F100: GASOIL | G100: 52.19 | H100: 454.55 | I100: 500 | J100: 45.45
A101: 164401 | B101: Société Amal Daraa SARL | C101: ZAGORA | D101: 05/06/2015 | E101: 708358200139600284 | F101: GASOIL | G101: 52.19 | H101: 454.55 | I101: 500 | J101: 45.45
A102: 20004500 | B102: MARJANE KENITRA | C102: KENITRA | D102: 10/06/2015 | E102: 708358200139600292 | F102: GASOIL | G102: 26.8 | H102: 227.27 | I102: 250 | J102: 22.73
A103: 136601 | B103: BAICH M'HANED BEN ALI | D103: 16/06/2015 | E103: 708358200139600292 | F103: GASOIL | G103: 59.27 | H103: 500 | I103: 550 | J103: 50
A104: 123501 | B104: S/S AIT MOUSSA GSM 1 | C104: AGADIR | D104: 13/06/2015 | E104: 708358200139600292 | F104: GASOIL | G104: 85.02 | H104: 727.27 | I104: 800 | J104: 72.73
A105: 20004529 | B105: S/S MIMOUNA GSM 1 | C105: KHEMISSET | D105: 04/06/2015 | E105: 708358200139600292 | F105: GASOIL | G105: 117.65 | H105: 1000 | I105: 1100 | J105: 100
A106: 20004879 | B106: S/S MEDIOUNA CARB | C106: MEDIOUNA | D106: 12/06/2015 | E106: 708358200139600292 | F106: GASOIL | G106: 139.78 | H106: 1181.82 | I106: 1300 | J106: 118.18
B107: SOCIETE NAFTAM | C107: AGADIR | D107: 02/06/2015 | E107: 708358200139600300 | F107: GASOIL | G107: 7.44 | H107: 63.64 | I107: 70 | J107: 6.36
A108: 20004332 | B108: SOCIETE NAFTAM | C108: AGADIR | D108: 04/06/2015 | E108: 708358200139600300 | F108: GASOIL | G108: 7.44 | H108: 63.64 | I108: 70 | J108: 6.36
A109: 20004332 | B109: SOCIETE NAFTAM | C109: AGADIR | D109: 08/06/2015 | E109: 708358200139600300 | F109: GASOIL | G109: 7.44 | H109: 63.64 | I109: 70 | J109: 6.36
A110: 20004332 | B110: SOCIETE NAFTAM | C110: AGADIR | D110: 10/06/2015 | E110: 708358200139600300 | F110: GASOIL | G110: 7.44 | H110: 63.64 | I110: 70 | J110: 6.36
A111: 20004332 | B111: SOCIETE NAFTAM | C111: AGADIR | D111: 15/06/2015 | E111: 708358200139600300 | F111: GASOIL | G111: 7.44 | H111: 63.64 | I111: 70 | J111: 6.36
A112: 20004332 | B112: SOCIETE NAFTAM | C112: AGADIR | D112: 18/06/2015 | E112: 708358200139600300 | F112: GASOIL | G112: 7.57 | H112: 63.64 | I112: 70 | J112: 6.36
A113: 20004332 | B113: SOCIETE NAFTAM | C113: AGADIR | D113: 23/06/2015 | E113: 708358200139600300 | F113: GASOIL | G113: 7.57 | H113: 63.64 | I113: 70 | J113: 6.36
A114: 20004332 | B114: SOCIETE NAFTAM | C114: AGADIR | D114: 29/06/2015 | E114: 708358200139600300 | F114: GASOIL | G114: 7.57 | H114: 63.64 | I114: 70 | J114: 6.36
A115: 20004332 | B115: SOCIETE NAFTAM | C115: AGADIR | D115: 05/06/2015 | E115: 708358200139600300 | F115: GASOIL | G115: 10.63 | H115: 90.91 | I115: 100 | J115: 9.09
A116: 20004099 | B116: S/S TASSILA | C116: AGADIR | D116: 30/06/2015 | E116: 708358200139600300 | F116: GASOIL | G116: 15.12 | H116: 127.27 | I116: 140 | J116: 12.73
A117: 20004332 | B117: SOCIETE NAFTAM | C117: AGADIR | D117: 26/06/2015 | E117: 708358200139600300 | F117: GASOIL | G117: 21.62 | H117: 181.82 | I117: 200 | J117: 18.18
A118: Casablanca Est sortie | D118: 03/06/2015 | E118: 708358200139600318 | F118: Péage | G118: 0 | H118: 9.09 | I118: 9.09 | J118: 0
A119: Khémisset | D119: 23/05/2015 | E119: 708358200139600318 | F119: Péage | G119: 0 | H119: 12.12 | I119: 12.12 | J119: 0
A120: Khémisset | D120: 28/05/2015 | E120: 708358200139600318 | F120: Péage | G120: 0 | H120: 12.12 | I120: 12.12 | J120: 0
A121: Berrechid Centre | D121: 03/06/2015 | E121: 708358200139600318 | F121: Péage | G121: 0 | H121: 16.16 | I121: 16.16 | J121: 0
A122: Berrechid Centre | D122: 03/06/2015 | E122: 708358200139600318 | F122: Péage | G122: 0 | H122: 16.16 | I122: 16.16 | J122: 0
A123: Sidi Allal El Bahraoui | D123: 28/05/2015 | E123: 708358200139600318 | F123: Péage | G123: 0 | H123: 24.24 | I123: 24.24 | J123: 0
A124: 20004461 | B124: S/S AFRIQUIA AZROU | D124: 13/06/2015 | E124: 708358200139600318 | F124: GASOIL | G124: 63.76 | H124: 545.45 | I124: 600 | J124: 54.55
A125: 4401 | B125: S/S GUADDOUR | C125: TANGER | D125: 20/06/2015 | E125: 708358200139600318 | F125: GASOIL | G125: 113.02 | H125: 954.55 | I125: 1050 | J125: 95.45
A126: 20004461 | B126: S/S AFRIQUIA AZROU | D126: 13/06/2015 | E126: 708358200139600318 | F126: SUPER SP | G126: 4.5 | H126: 45.45 | I126: 50 | J126: 4.55
A127: Sidi El Yamani | D127: 14/06/2015 | E127: 708358200139600318 | F127: Péage | G127: 0 | H127: 76.76 | I127: 76.76 | J127: 0
A128: Kénitra Nord | D128: 23/05/2015 | E128: 708358200139600318 | F128: Péage | G128: 0 | H128: 98.98 | I128: 98.98 | J128: 0
A129: 20004529 | B129: S/S MIMOUNA GSM 1 | C129: KHEMISSET | D129: 12/06/2015 | E129: 708358200139600318 | F129: GASOIL | G129: 32.09 | H129: 272.73 | I129: 300 | J129: 27.27
A130: Khémisset | D130: 04/06/2015 | E130: 708358200139600318 | F130: Péage | G130: 0 | H130: 24.24 | I130: 24.24 | J130: 0
...

Sheet Feuil1
D4: GASOIL | E4: Péage
C5: 708358200139600235 | D5: =SUMPRODUCT(Report_Afriquia!$I$2:$I$392*(Report_Afriquia!$E$2:$E$392=$C5)*(Report_Afriquia!$F$2:$F$392=D$4)) -> 1995 | E5: =SUMPRODUCT(Report_Afriquia!$I$2:$I$392*(Report_Afriquia!$E$2:$E$392=$C5)*(Report_Afriquia!$F$2:$F$392=E$4)) -> 801.94
C6: 708358200139600243 | D6: =SUMPRODUCT(Report_Afriquia!$I$2:$I$392*(Report_Afriquia!$E$2:$E$392=$C6)*(Report_Afriquia!$F$2:$F$392=D$4)) -> 10000 | E6: =SUMPRODUCT(Report_Afriquia!$I$2:$I$392*(Report_Afriquia!$E$2:$E$392=$C6)*(Report_Afriquia!$F$2:$F$392=E$4)) -> 386.83
C7: 708358200139600250 | D7: =SUMPRODUCT(Report_Afriquia!$I$2:$I$392*(Report_Afriquia!$E$2:$E$392=$C7)*(Report_Afriquia!$F$2:$F$392=D$4)) -> 600 | E7: =SUMPRODUCT(Report_Afriquia!$I$2:$I$392*(Report_Afriquia!$E$2:$E$392=$C7)*(Report_Afriquia!$F$2:$F$392=E$4)) -> 0
C8: 708358200139600276 | D8: =SUMPRODUCT(Report_Afriquia!$I$2:$I$392*(Report_Afriquia!$E$2:$E$392=$C8)*(Report_Afriquia!$F$2:$F$392=D$4)) -> 1500 | E8: =SUMPRODUCT(Report_Afriquia!$I$2:$I$392*(Report_Afriquia!$E$2:$E$392=$C8)*(Report_Afriquia!$F$2:$F$392=E$4)) -> 1120.09
C9: 708358200139600284 | D9: =SUMPRODUCT(Report_Afriquia!$I$2:$I$392*(Report_Afriquia!$E$2:$E$392=$C9)*(Report_Afriquia!$F$2:$F$392=D$4)) -> 1500 | E9: =SUMPRODUCT(Report_Afriquia!$I$2:$I$392*(Report_Afriquia!$E$2:$E$392=$C9)*(Report_Afriquia!$F$2:$F$392=E$4)) -> 0
C10: 708358200139600292 | D10: =SUMPRODUCT(Report_Afriquia!$I$2:$I$392*(Report_Afriquia!$E$2:$E$392=$C10)*(Report_Afriquia!$F$2:$F$392=D$4)) -> 4000 | E10: =SUMPRODUCT(Report_Afriquia!$I$2:$I$392*(Report_Afriquia!$E$2:$E$392=$C10)*(Report_Afriquia!$F$2:$F$392=E$4)) -> 0
C11: 708358200139600300 | D11: =SUMPRODUCT(Report_Afriquia!$I$2:$I$392*(Report_Afriquia!$E$2:$E$392=$C11)*(Report_Afriquia!$F$2:$F$392=D$4)) -> 1000 | E11: =SUMPRODUCT(Report_Afriquia!$I$2:$I$392*(Report_Afriquia!$E$2:$E$392=$C11)*(Report_Afriquia!$F$2:$F$392=E$4)) -> 0
C12: 708358200139600318 | D12: =SUMPRODUCT(Report_Afriquia!$I$2:$I$392*(Report_Afriquia!$E$2:$E$392=$C12)*(Report_Afriquia!$F$2:$F$392=D$4)) -> 1950 | E12: =SUMPRODUCT(Report_Afriquia!$I$2:$I$392*(Report_Afriquia!$E$2:$E$392=$C12)*(Report_Afriquia!$F$2:$F$392=E$4)) -> 467.63
C13: 708358200139600334 | D13: =SUMPRODUCT(Report_Afriquia!$I$2:$I$392*(Report_Afriquia!$E$2:$E$392=$C13)*(Report_Afriquia!$F$2:$F$392=D$4)) -> 5000 | E13: =SUMPRODUCT(Report_Afriquia!$I$2:$I$392*(Report_Afriquia!$E$2:$E$392=$C13)*(Report_Afriquia!$F$2:$F$392=E$4)) -> 1480.66
C14: 708358200139600342 | D14: =SUMPRODUCT(Report_Afriquia!$I$2:$I$392*(Report_Afriquia!$E$2:$E$392=$C14)*(Report_Afriquia!$F$2:$F$392=D$4)) -> 1500 | E14: =SUMPRODUCT(Report_Afriquia!$I$2:$I$392*(Report_Afriquia!$E$2:$E$392=$C14)*(Report_Afriquia!$F$2:$F$392=E$4)) -> 888.8
C15: 708358200139600359 | D15: =SUMPRODUCT(Report_Afriquia!$I$2:$I$392*(Report_Afriquia!$E$2:$E$392=$C15)*(Report_Afriquia!$F$2:$F$392=D$4)) -> 2000 | E15: =SUMPRODUCT(Report_Afriquia!$I$2:$I$392*(Report_Afriquia!$E$2:$E$392=$C15)*(Report_Afriquia!$F$2:$F$392=E$4)) -> 956.47
C16: 708358200139600367 | D16: =SUMPRODUCT(Report_Afriquia!$I$2:$I$392*(Report_Afriquia!$E$2:$E$392=$C16)*(Report_Afriquia!$F$2:$F$392=D$4)) -> 1500 | E16: =SUMPRODUCT(Report_Afriquia!$I$2:$I$392*(Report_Afriquia!$E$2:$E$392=$C16)*(Report_Afriquia!$F$2:$F$392=E$4)) -> 0
... C30: 708358210139600200 | D30: =SUMPRODUCT(Report_Afriquia!$I$2:$I$392*(Report_Afriquia!$E$2:$E$392=$C30)*(Report_Afriquia!$F$2:$F$392=D$4)) -> 4000 | E30: =SUMPRODUCT(Report_Afriquia!$I$2:$I$392*(Report_Afriquia!$E$2:$E$392=$C30)*(Report_Afriquia!$F$2:$F$392=E$4)) -> 0
