Workbook

Sheet Feuil1
B3: Comparatif des émissions de GES
B7: Nom | C7: Emission 2013 en tonnes C02 eq | F7: Emissions 2014 en tonnes C02 eq | I7: Objectif de réduction futur? | J7: % Scope | K7: Type Scope | L7: Échéance | M7: Restant | N7: Commentaire
C8: Scope 1 | D8: Scope 2 | E8: Total | F8: Scope 1 | G8: Scope 2 | H8: Total
B10: Statoil | C10: 16000000 | D10: 437000 | E10: =C10+D10 -> 16437000 | F10: 16300000 | G10: 300000 | H10: =F10+G10 -> 16600000 | I10: Oui | J10: 0.583 | K10: 1 | L10: 2020 | M10: =[1]Statoil!H92 -> 409600
B11: Total | C11: 46000000 | D11: 4300000 | E11: =C11+D11 -> 50300000 | F11: 44000000 | G11: 4100000 | H11: =F11+G11 -> 48100000 | I11: Oui, intensity | J11: 1 | L11: 2015 | M11: =[1]Total!O31 -> -1115000 | N11: l'objectif de réduction de 15% de 2008 à 2015 des GES a été accompli
B12: Royal Dutch Shell | C12: 73000000 | D12: 10000000 | E12: =C12+D12 -> 83000000 | F12: 76000000 | G12: 10000000 | H12: =F12+G12 -> 86000000 | I12: Oui | J12: 0.04 | K12: 1 | L12: 2016 | M12: =[1]Shell!H41 -> 850000 | N12: Réduction de 25% sur 4% des scopes 1 d'ici à 2016
B13: BHP Billiton | C13: 22000000 | D13: 24700000 | E13: =C13+D13 -> 46700000 | F13: 22700000 | G13: 22300000 | H13: =F13+G13 -> 45000000 | I13: Oui | J13: 1 | K13: 1 & 2 | L13: 2017 | M13: =H13-50700000 -> -5700000 | N13: L'objectif de BHP est de maintenir d'ici à 2017 les émissions de GES en dessous du niveau de 2006 (50,7 M tonnes MAJ)
B14: BP | C14: 50300000 | D14: 6600000 | E14: =C14+D14 -> 56900000 | F14: 48600000 | G14: 6600000 | H14: =F14+G14 -> 55200000 | I14: Non
B15: ENI | C15: 47599206 | D15: 742910 | E15: =C15+D15 -> 48342116 | F15: 42925895 | G15: 672295 | H15: =F15+G15 -> 43598190 | I15: Oui | J15: 0.128 | K15: 1 | L15: 2030 | M15: =[1]Eni!I85 -> 5481692 | N15: Reduction sur les gas flaring Objectif zero émissions à 2030
J16: 0.102 | K16: 1 | L16: 2018 | M16: =[1]Eni!I86 -> 1012370.3 | N16: Reduction sur les hydrocarbon flared
J17: 0.75 | K17: 1 | L17: 2017 | M17: =[1]Eni!I87 -> 334561.36 | N17: Reduction sur le Scope 1 en conditions de régime
B18: Lafarge | C18: 91120000 | D18: 8700000 | E18: =C18+D18 -> 99820000 | F18: 93290000 | G18: 8700000 | H18: =F18+G18 -> 101990000 | I18: Oui | J18: 1 | K18: 1 & 2 | L18: 2020 | M18: =[1]Lafarge!I37 -> -370000 | N18: Objectif de maintenance des émissions de C02 à leur niveaux actuel
B19: Holcim Nom | C19: 100000000 | D19: 6400000 | E19: =C19+D19 -> 106400000 | F19: 103200000 | G19: 6900000 | H19: =F19+G19 -> 110100000 | I19: Oui | J19: 1 | K19: 1 & 2 | L19: 2030 | M19: =[1]Holcim!I70 -> 3700000 | N19: L'objectif d'Holcim est de maintenir sa conso de C02 en dessous du niveau de 2013 soit 125748510. (scope 1 2 3)
B20: Veolia | C20: 20300000 | D20: 7400000 | E20: =C20+D20 -> 27700000 | F20: 18800000 | G20: 7700000 | H20: =F20+G20 -> 26500000 | I20: Oui, intensity | K20: 1 & 2 | L20: 2015 | M20: =[1]Veolia!H140 -> 322236.47
B21: E on SE | C21: 117200000 | D21: 3500000 | E21: =C21+D21 -> 120700000 | F21: 97900000 | G21: 3900000 | H21: =F21+G21 -> 101800000 | I21: Oui, intensity | K21: 1 | L21: 2025 | M21: ='[1]E.ON SE'!H76 -> 38440000 | N21: Marge de manœuvre peu pertinente car les estimations sont basées sur les niveaux de 1990 / Split entre E.on et la nouvelle entité Uniper (très émettrice) prévue pour début 2016
B22: Engie | C22: 141987778 | D22: 5727750 | E22: =C22+D22 -> 147715528 | F22: 131154736 | G22: 4927369 | H22: =F22+G22 -> 136082105 | I22: Oui | J22: 0.01 | K22: 1 | L22: 2020 | M22: =[1]Engie!K48 -> 128869.47 | N22: objectifs 2015 accomplis et dépassé . Objectifs à 2020 retenu dans le tableau
I23: Oui, intensity | J23: 0.95 | K23: 1 | L23: 2020 | M23: =-[1]Engie!$M$96 -> 15302970
B24: EDF | C24: 17056000 | D24: 28000 | E24: =C24+D24 -> 17084000 | F24: 8490000 | G24: 24000 | H24: =F24+G24 -> 8514000 | I24: Oui, intensity | J24: 0.25 | K24: 1 | L24: 2015 | M24: =[1]EDF!J126 -> 1767999.2
I25: Oui, intensity | J25: 0.25 | K25: 1 | L25: 2030 | M25: =[1]EDF!J127 -> 18298792 | N25: Un seul objectif de réduction en absolu non encore accompli, qui porte uniquement sur le scope 3
B26: Suez Environnement | C26: 5426088 | D26: 1804812 | E26: =C26+D26 -> 7230900 | F26: =[1]Suez!B79 -> 6067341.8 | G26: =[1]Suez!C79 -> 1816419.2 | H26: =F26+G26 -> 7883761 | I26: Oui | K26: 1 & 2 | L26: 2030 | M26: =[1]Suez!N93 -> 2324714.7 | N26: Plusieurs objectifs absolus, échéance 2016, 2020 et 2030
I27: Oui | K27: 1 & 2 | L27: 2016 & 2050 | M27: =[1]Suez!N91+[1]Suez!N90 -> 27301.925
I28: Oui, intensity | K28: 1 & 2 | L28: 2016 | M28: =[1]Suez!N94 -> 494258.78
B29: Saint Gobain | C29: 12240000 | D29: =E29-C29 -> 4460000 | E29: 16700000 | F29: 11700000 | G29: 4100000 | H29: 15800000 | I29: Oui, intensity | K29: 1 | L29: 2025 | M29: 0 | N29: Pas de conversion en absolu des objectifs d'intensité
B30: Linde AG | C30: 9200000 | D30: 13000000 | E30: =C30+D30 -> 22200000 | F30: 9300000 | G30: =H30-F30 -> 15000000 | H30: 24300000 | I30: Oui | J30: 0.72 | K30: 1 & 2 | L30: 2015 | M30: ='[1]Linde AG'!G95 -> 120000 | N30: Nouveau objectifs à prévoir en 2015
I31: Oui, intensity | J31: 0.87 | K31: 2 | L31: 2017 | M31: =-'[1]Linde AG'!C101 -> 962046
B32: Air liquide | C32: 11800000 | D32: 9900000 | E32: =C32+D32 -> 21700000 | F32: 11600000 | G32: 11400000 | H32: =F32+G32 -> 23000000 | I32: Oui | K32: 1 & 2 | L32: 2015 | M32: ='[1]Air Liquide'!G94 -> 0
I33: Oui, intensity | K33: 1 & 2 | L33: 2015 | M33: ='[1]Air Liquide'!E102 -> 266000
B34: Wendel
B35: Groupe Delhaize | C35: 990044 | D35: 1481826 | E35: =D35+C35 -> 2471870 | F35: 962853 | G35: 1438083 | H35: =F35+G35 -> 2400936 | I35: Oui, intensity | K35: 1 & 2 | L35: 2020 | M35: =-'[1]Groupe Delhaize'!P138 -> 444000 | N35: Estimation de l'empreinte carbone pour 2020 à 2130000 t
B36: Carnival | C36: 10551667 | D36: 65769 | E36: =C36+D36 -> 10617436 | F36: 10319475 | G36: 67921 | H36: =F36+G36 -> 10387396 | I36: Oui, intensity | K36: 1 | L36: 2015 | M36: ='[1]Carnival PLC'!G48 -> -572950.51 | N36: Possibilité d'une hausse des émissions sur l'exercice 2015
B37: Basf SE | C37: ='[1]BASF SE'!K12 -> 18842000 | D37: ='[1]BASF SE'!K14 -> 3987000 | E37: =C37+D37 -> 22829000 | F37: ='[1]BASF SE'!L12 -> 18450000 | G37: ='[1]BASF SE'!L14 -> 3911000 | H37: =G37+F37 -> 22361000 | I37: Oui, intensity | K37: 1 & 2 | L37: 2020 | M37: ='[1]BASF SE'!G41 -> -3362880
B39: Sources: Sustainables reports & CDP

Sheet Feuil2
C4: Emissions 2014 | D4: Montant à réduire | E4: Target year | F4: 2015 | G4: 2016 | H4: 2017 | I4: 2018 | J4: 2019 | K4: 2020 | L4: 2021 | M4: 2022 | N4: 2023 | O4: 2024 | P4: 2025 | Q4: 2026 | R4: 2027 | S4: 2028 | T4: 2029 | U4: 2030
B5: Statoil | C5: =Feuil1!H10 -> 16600000 | D5: 409600 | E5: 2020 | F5: =IF($E5>=F$4,IF(F$4=$E5,$D5-SUM($E5:E5)+$E5,ROUND($D5/(MATCH($E5,$4:$4,0)-5),0)),"") -> 68267 | G5: =IF($E5>=G$4,IF(G$4=$E5,$D5-SUM($E5:F5)+$E5,ROUND($D5/(MATCH($E5,$4:$4,0)-5),0)),"") -> 68267 | H5: =IF($E5>=H$4,IF(H$4=$E5,$D5-SUM($E5:G5)+$E5,ROUND($D5/(MATCH($E5,$4:$4,0)-5),0)),"") -> 68267 | I5: =IF($E5>=I$4,IF(I$4=$E5,$D5-SUM($E5:H5)+$E5,ROUND($D5/(MATCH($E5,$4:$4,0)-5),0)),"") -> 68267 | J5: =IF($E5>=J$4,IF(J$4=$E5,$D5-SUM($E5:I5)+$E5,ROUND($D5/(MATCH($E5,$4:$4,0)-5),0)),"") -> 68267 | K5: =IF($E5>=K$4,IF(K$4=$E5,$D5-SUM($E5:J5)+$E5,ROUND($D5/(MATCH($E5,$4:$4,0)-5),0)),"") -> 68265 | L5: =IF($E5>=L$4,IF(L$4=$E5,$D5-SUM($E5:K5)+$E5,ROUND($D5/(MATCH($E5,$4:$4,0)-5),0)),"") | M5: =IF($E5>=M$4,IF(M$4=$E5,$D5-SUM($E5:L5)+$E5,ROUND($D5/(MATCH($E5,$4:$4,0)-5),0)),"") | ... U5: =IF($E5>=U$4,IF(U$4=$E5,$D5-SUM($E5:T5)+$E5,ROUND($D5/(MATCH($E5,$4:$4,0)-5),0)),"")
B6: Total | C6: =Feuil1!H11 -> 48100000 | D6: -1115000 | E6: 2015 | F6: =IF($E6>=F$4,IF(F$4=$E6,$D6-SUM($E6:E6)+$E6,ROUND($D6/(MATCH($E6,$4:$4,0)-5),0)),"") -> -1115000 | G6: =IF($E6>=G$4,IF(G$4=$E6,$D6-SUM($E6:F6)+$E6,ROUND($D6/(MATCH($E6,$4:$4,0)-5),0)),"") | H6: =IF($E6>=H$4,IF(H$4=$E6,$D6-SUM($E6:G6)+$E6,ROUND($D6/(MATCH($E6,$4:$4,0)-5),0)),"") | I6: =IF($E6>=I$4,IF(I$4=$E6,$D6-SUM($E6:H6)+$E6,ROUND($D6/(MATCH($E6,$4:$4,0)-5),0)),"") | J6: =IF($E6>=J$4,IF(J$4=$E6,$D6-SUM($E6:I6)+$E6,ROUND($D6/(MATCH($E6,$4:$4,0)-5),0)),"") | K6: =IF($E6>=K$4,IF(K$4=$E6,$D6-SUM($E6:J6)+$E6,ROUND($D6/(MATCH($E6,$4:$4,0)-5),0)),"") | L6: =IF($E6>=L$4,IF(L$4=$E6,$D6-SUM($E6:K6)+$E6,ROUND($D6/(MATCH($E6,$4:$4,0)-5),0)),"") | M6: =IF($E6>=M$4,IF(M$4=$E6,$D6-SUM($E6:L6)+$E6,ROUND($D6/(MATCH($E6,$4:$4,0)-5),0)),"") | ... U6: =IF($E6>=U$4,IF(U$4=$E6,$D6-SUM($E6:T6)+$E6,ROUND($D6/(MATCH($E6,$4:$4,0)-5),0)),"")
B7: Royal Dutch Shell | C7: =Feuil1!H12 -> 86000000 | D7: 850000 | E7: 2016 | F7: =IF($E7>=F$4,IF(F$4=$E7,$D7-SUM($E7:E7)+$E7,ROUND($D7/(MATCH($E7,$4:$4,0)-5),0)),"") -> 425000 | G7: =IF($E7>=G$4,IF(G$4=$E7,$D7-SUM($E7:F7)+$E7,ROUND($D7/(MATCH($E7,$4:$4,0)-5),0)),"") -> 425000 | H7: =IF($E7>=H$4,IF(H$4=$E7,$D7-SUM($E7:G7)+$E7,ROUND($D7/(MATCH($E7,$4:$4,0)-5),0)),"") | I7: =IF($E7>=I$4,IF(I$4=$E7,$D7-SUM($E7:H7)+$E7,ROUND($D7/(MATCH($E7,$4:$4,0)-5),0)),"") | J7: =IF($E7>=J$4,IF(J$4=$E7,$D7-SUM($E7:I7)+$E7,ROUND($D7/(MATCH($E7,$4:$4,0)-5),0)),"") | K7: =IF($E7>=K$4,IF(K$4=$E7,$D7-SUM($E7:J7)+$E7,ROUND($D7/(MATCH($E7,$4:$4,0)-5),0)),"") | L7: =IF($E7>=L$4,IF(L$4=$E7,$D7-SUM($E7:K7)+$E7,ROUND($D7/(MATCH($E7,$4:$4,0)-5),0)),"") | M7: =IF($E7>=M$4,IF(M$4=$E7,$D7-SUM($E7:L7)+$E7,ROUND($D7/(MATCH($E7,$4:$4,0)-5),0)),"") | ... U7: =IF($E7>=U$4,IF(U$4=$E7,$D7-SUM($E7:T7)+$E7,ROUND($D7/(MATCH($E7,$4:$4,0)-5),0)),"")
B8: BHP Billiton | C8: =Feuil1!H13 -> 45000000 | D8: -5700000 | E8: 2017 | F8: =IF($E8>=F$4,IF(F$4=$E8,$D8-SUM($E8:E8)+$E8,ROUND($D8/(MATCH($E8,$4:$4,0)-5),0)),"") -> -1900000 | G8: =IF($E8>=G$4,IF(G$4=$E8,$D8-SUM($E8:F8)+$E8,ROUND($D8/(MATCH($E8,$4:$4,0)-5),0)),"") -> -1900000 | H8: =IF($E8>=H$4,IF(H$4=$E8,$D8-SUM($E8:G8)+$E8,ROUND($D8/(MATCH($E8,$4:$4,0)-5),0)),"") -> -1900000 | I8: =IF($E8>=I$4,IF(I$4=$E8,$D8-SUM($E8:H8)+$E8,ROUND($D8/(MATCH($E8,$4:$4,0)-5),0)),"") | J8: =IF($E8>=J$4,IF(J$4=$E8,$D8-SUM($E8:I8)+$E8,ROUND($D8/(MATCH($E8,$4:$4,0)-5),0)),"") | K8: =IF($E8>=K$4,IF(K$4=$E8,$D8-SUM($E8:J8)+$E8,ROUND($D8/(MATCH($E8,$4:$4,0)-5),0)),"") | L8: =IF($E8>=L$4,IF(L$4=$E8,$D8-SUM($E8:K8)+$E8,ROUND($D8/(MATCH($E8,$4:$4,0)-5),0)),"") | M8: =IF($E8>=M$4,IF(M$4=$E8,$D8-SUM($E8:L8)+$E8,ROUND($D8/(MATCH($E8,$4:$4,0)-5),0)),"") | ... U8: =IF($E8>=U$4,IF(U$4=$E8,$D8-SUM($E8:T8)+$E8,ROUND($D8/(MATCH($E8,$4:$4,0)-5),0)),"")
B9: BP | C9: =Feuil1!H14 -> 55200000 | F9: =IF($E9>=F$4,IF(F$4=$E9,$D9-SUM($E9:E9)+$E9,ROUND($D9/(MATCH($E9,$4:$4,0)-5),0)),"") | G9: =IF($E9>=G$4,IF(G$4=$E9,$D9-SUM($E9:F9)+$E9,ROUND($D9/(MATCH($E9,$4:$4,0)-5),0)),"") | H9: =IF($E9>=H$4,IF(H$4=$E9,$D9-SUM($E9:G9)+$E9,ROUND($D9/(MATCH($E9,$4:$4,0)-5),0)),"") | I9: =IF($E9>=I$4,IF(I$4=$E9,$D9-SUM($E9:H9)+$E9,ROUND($D9/(MATCH($E9,$4:$4,0)-5),0)),"") | J9: =IF($E9>=J$4,IF(J$4=$E9,$D9-SUM($E9:I9)+$E9,ROUND($D9/(MATCH($E9,$4:$4,0)-5),0)),"") | K9: =IF($E9>=K$4,IF(K$4=$E9,$D9-SUM($E9:J9)+$E9,ROUND($D9/(MATCH($E9,$4:$4,0)-5),0)),"") | L9: =IF($E9>=L$4,IF(L$4=$E9,$D9-SUM($E9:K9)+$E9,ROUND($D9/(MATCH($E9,$4:$4,0)-5),0)),"") | M9: =IF($E9>=M$4,IF(M$4=$E9,$D9-SUM($E9:L9)+$E9,ROUND($D9/(MATCH($E9,$4:$4,0)-5),0)),"") | ... U9: =IF($E9>=U$4,IF(U$4=$E9,$D9-SUM($E9:T9)+$E9,ROUND($D9/(MATCH($E9,$4:$4,0)-5),0)),"")
B10: ENI | C10: =Feuil1!H15 -> 43598190 | D10: 5481692 | E10: 2030 | F10: =IF($E10>=F$4,IF(F$4=$E10,$D10-SUM($E10:E10)+$E10,ROUND($D10/(MATCH($E10,$4:$4,0)-5),0)),"") -> 342606 | G10: =IF($E10>=G$4,IF(G$4=$E10,$D10-SUM($E10:F10)+$E10,ROUND($D10/(MATCH($E10,$4:$4,0)-5),0)),"") -> 342606 | H10: =IF($E10>=H$4,IF(H$4=$E10,$D10-SUM($E10:G10)+$E10,ROUND($D10/(MATCH($E10,$4:$4,0)-5),0)),"") -> 342606 | I10: =IF($E10>=I$4,IF(I$4=$E10,$D10-SUM($E10:H10)+$E10,ROUND($D10/(MATCH($E10,$4:$4,0)-5),0)),"") -> 342606 | J10: =IF($E10>=J$4,IF(J$4=$E10,$D10-SUM($E10:I10)+$E10,ROUND($D10/(MATCH($E10,$4:$4,0)-5),0)),"") -> 342606 | K10: =IF($E10>=K$4,IF(K$4=$E10,$D10-SUM($E10:J10)+$E10,ROUND($D10/(MATCH($E10,$4:$4,0)-5),0)),"") -> 342606 | L10: =IF($E10>=L$4,IF(L$4=$E10,$D10-SUM($E10:K10)+$E10,ROUND($D10/(MATCH($E10,$4:$4,0)-5),0)),"") -> 342606 | M10: =IF($E10>=M$4,IF(M$4=$E10,$D10-SUM($E10:L10)+$E10,ROUND($D10/(MATCH($E10,$4:$4,0)-5),0)),"") -> 342606 | ... U10: =IF($E10>=U$4,IF(U$4=$E10,$D10-SUM($E10:T10)+$E10,ROUND($D10/(MATCH($E10,$4:$4,0)-5),0)),"") -> 342602
D11: 1012370.3 | E11: 2018 | F11: =IF($E11>=F$4,IF(F$4=$E11,$D11-SUM($E11:E11)+$E11,ROUND($D11/(MATCH($E11,$4:$4,0)-5),0)),"") -> 253093 | G11: =IF($E11>=G$4,IF(G$4=$E11,$D11-SUM($E11:F11)+$E11,ROUND($D11/(MATCH($E11,$4:$4,0)-5),0)),"") -> 253093 | H11: =IF($E11>=H$4,IF(H$4=$E11,$D11-SUM($E11:G11)+$E11,ROUND($D11/(MATCH($E11,$4:$4,0)-5),0)),"") -> 253093 | I11: =IF($E11>=I$4,IF(I$4=$E11,$D11-SUM($E11:H11)+$E11,ROUND($D11/(MATCH($E11,$4:$4,0)-5),0)),"") -> 253091.3 | J11: =IF($E11>=J$4,IF(J$4=$E11,$D11-SUM($E11:I11)+$E11,ROUND($D11/(MATCH($E11,$4:$4,0)-5),0)),"") | K11: =IF($E11>=K$4,IF(K$4=$E11,$D11-SUM($E11:J11)+$E11,ROUND($D11/(MATCH($E11,$4:$4,0)-5),0)),"") | L11: =IF($E11>=L$4,IF(L$4=$E11,$D11-SUM($E11:K11)+$E11,ROUND($D11/(MATCH($E11,$4:$4,0)-5),0)),"") | M11: =IF($E11>=M$4,IF(M$4=$E11,$D11-SUM($E11:L11)+$E11,ROUND($D11/(MATCH($E11,$4:$4,0)-5),0)),"") | ... U11: =IF($E11>=U$4,IF(U$4=$E11,$D11-SUM($E11:T11)+$E11,ROUND($D11/(MATCH($E11,$4:$4,0)-5),0)),"")
D12: 334561.36 | E12: 2017 | F12: =IF($E12>=F$4,IF(F$4=$E12,$D12-SUM($E12:E12)+$E12,ROUND($D12/(MATCH($E12,$4:$4,0)-5),0)),"") -> 111520 | G12: =IF($E12>=G$4,IF(G$4=$E12,$D12-SUM($E12:F12)+$E12,ROUND($D12/(MATCH($E12,$4:$4,0)-5),0)),"") -> 111520 | H12: =IF($E12>=H$4,IF(H$4=$E12,$D12-SUM($E12:G12)+$E12,ROUND($D12/(MATCH($E12,$4:$4,0)-5),0)),"") -> 111521.36 | I12: =IF($E12>=I$4,IF(I$4=$E12,$D12-SUM($E12:H12)+$E12,ROUND($D12/(MATCH($E12,$4:$4,0)-5),0)),"") | J12: =IF($E12>=J$4,IF(J$4=$E12,$D12-SUM($E12:I12)+$E12,ROUND($D12/(MATCH($E12,$4:$4,0)-5),0)),"") | K12: =IF($E12>=K$4,IF(K$4=$E12,$D12-SUM($E12:J12)+$E12,ROUND($D12/(MATCH($E12,$4:$4,0)-5),0)),"") | L12: =IF($E12>=L$4,IF(L$4=$E12,$D12-SUM($E12:K12)+$E12,ROUND($D12/(MATCH($E12,$4:$4,0)-5),0)),"") | M12: =IF($E12>=M$4,IF(M$4=$E12,$D12-SUM($E12:L12)+$E12,ROUND($D12/(MATCH($E12,$4:$4,0)-5),0)),"") | ... U12: =IF($E12>=U$4,IF(U$4=$E12,$D12-SUM($E12:T12)+$E12,ROUND($D12/(MATCH($E12,$4:$4,0)-5),0)),"")
B13: Lafarge | C13: =Feuil1!H18 -> 101990000 | D13: -370000 | E13: 2020 | F13: =IF($E13>=F$4,IF(F$4=$E13,$D13-SUM($E13:E13)+$E13,ROUND($D13/(MATCH($E13,$4:$4,0)-5),0)),"") -> -61667 | G13: =IF($E13>=G$4,IF(G$4=$E13,$D13-SUM($E13:F13)+$E13,ROUND($D13/(MATCH($E13,$4:$4,0)-5),0)),"") -> -61667 | H13: =IF($E13>=H$4,IF(H$4=$E13,$D13-SUM($E13:G13)+$E13,ROUND($D13/(MATCH($E13,$4:$4,0)-5),0)),"") -> -61667 | I13: =IF($E13>=I$4,IF(I$4=$E13,$D13-SUM($E13:H13)+$E13,ROUND($D13/(MATCH($E13,$4:$4,0)-5),0)),"") -> -61667 | J13: =IF($E13>=J$4,IF(J$4=$E13,$D13-SUM($E13:I13)+$E13,ROUND($D13/(MATCH($E13,$4:$4,0)-5),0)),"") -> -61667 | K13: =IF($E13>=K$4,IF(K$4=$E13,$D13-SUM($E13:J13)+$E13,ROUND($D13/(MATCH($E13,$4:$4,0)-5),0)),"") -> -61665 | L13: =IF($E13>=L$4,IF(L$4=$E13,$D13-SUM($E13:K13)+$E13,ROUND($D13/(MATCH($E13,$4:$4,0)-5),0)),"") | M13: =IF($E13>=M$4,IF(M$4=$E13,$D13-SUM($E13:L13)+$E13,ROUND($D13/(MATCH($E13,$4:$4,0)-5),0)),"") | ... U13: =IF($E13>=U$4,IF(U$4=$E13,$D13-SUM($E13:T13)+$E13,ROUND($D13/(MATCH($E13,$4:$4,0)-5),0)),"")
B14: Holcim Nom | C14: =Feuil1!H19 -> 110100000 | D14: 3700000 | E14: 2030 | F14: =IF($E14>=F$4,IF(F$4=$E14,$D14-SUM($E14:E14)+$E14,ROUND($D14/(MATCH($E14,$4:$4,0)-5),0)),"") -> 231250 | G14: =IF($E14>=G$4,IF(G$4=$E14,$D14-SUM($E14:F14)+$E14,ROUND($D14/(MATCH($E14,$4:$4,0)-5),0)),"") -> 231250 | H14: =IF($E14>=H$4,IF(H$4=$E14,$D14-SUM($E14:G14)+$E14,ROUND($D14/(MATCH($E14,$4:$4,0)-5),0)),"") -> 231250 | I14: =IF($E14>=I$4,IF(I$4=$E14,$D14-SUM($E14:H14)+$E14,ROUND($D14/(MATCH($E14,$4:$4,0)-5),0)),"") -> 231250 | J14: =IF($E14>=J$4,IF(J$4=$E14,$D14-SUM($E14:I14)+$E14,ROUND($D14/(MATCH($E14,$4:$4,0)-5),0)),"") -> 231250 | K14: =IF($E14>=K$4,IF(K$4=$E14,$D14-SUM($E14:J14)+$E14,ROUND($D14/(MATCH($E14,$4:$4,0)-5),0)),"") -> 231250 | L14: =IF($E14>=L$4,IF(L$4=$E14,$D14-SUM($E14:K14)+$E14,ROUND($D14/(MATCH($E14,$4:$4,0)-5),0)),"") -> 231250 | M14: =IF($E14>=M$4,IF(M$4=$E14,$D14-SUM($E14:L14)+$E14,ROUND($D14/(MATCH($E14,$4:$4,0)-5),0)),"") -> 231250 | ... U14: =IF($E14>=U$4,IF(U$4=$E14,$D14-SUM($E14:T14)+$E14,ROUND($D14/(MATCH($E14,$4:$4,0)-5),0)),"") -> 231250
B15: Veolia | C15: =Feuil1!H20 -> 26500000 | D15: 322236.47 | E15: 2015 | F15: =IF($E15>=F$4,IF(F$4=$E15,$D15-SUM($E15:E15)+$E15,ROUND($D15/(MATCH($E15,$4:$4,0)-5),0)),"") -> 322236.47 | G15: =IF($E15>=G$4,IF(G$4=$E15,$D15-SUM($E15:F15)+$E15,ROUND($D15/(MATCH($E15,$4:$4,0)-5),0)),"") | H15: =IF($E15>=H$4,IF(H$4=$E15,$D15-SUM($E15:G15)+$E15,ROUND($D15/(MATCH($E15,$4:$4,0)-5),0)),"") | I15: =IF($E15>=I$4,IF(I$4=$E15,$D15-SUM($E15:H15)+$E15,ROUND($D15/(MATCH($E15,$4:$4,0)-5),0)),"") | J15: =IF($E15>=J$4,IF(J$4=$E15,$D15-SUM($E15:I15)+$E15,ROUND($D15/(MATCH($E15,$4:$4,0)-5),0)),"") | K15: =IF($E15>=K$4,IF(K$4=$E15,$D15-SUM($E15:J15)+$E15,ROUND($D15/(MATCH($E15,$4:$4,0)-5),0)),"") | L15: =IF($E15>=L$4,IF(L$4=$E15,$D15-SUM($E15:K15)+$E15,ROUND($D15/(MATCH($E15,$4:$4,0)-5),0)),"") | M15: =IF($E15>=M$4,IF(M$4=$E15,$D15-SUM($E15:L15)+$E15,ROUND($D15/(MATCH($E15,$4:$4,0)-5),0)),"") | ... U15: =IF($E15>=U$4,IF(U$4=$E15,$D15-SUM($E15:T15)+$E15,ROUND($D15/(MATCH($E15,$4:$4,0)-5),0)),"")
B16: E on SE | C16: =Feuil1!H21 -> 101800000 | D16: 38440000 | E16: 2025 | F16: =IF($E16>=F$4,IF(F$4=$E16,$D16-SUM($E16:E16)+$E16,ROUND($D16/(MATCH($E16,$4:$4,0)-5),0)),"") -> 3494545 | G16: =IF($E16>=G$4,IF(G$4=$E16,$D16-SUM($E16:F16)+$E16,ROUND($D16/(MATCH($E16,$4:$4,0)-5),0)),"") -> 3494545 | H16: =IF($E16>=H$4,IF(H$4=$E16,$D16-SUM($E16:G16)+$E16,ROUND($D16/(MATCH($E16,$4:$4,0)-5),0)),"") -> 3494545 | I16: =IF($E16>=I$4,IF(I$4=$E16,$D16-SUM($E16:H16)+$E16,ROUND($D16/(MATCH($E16,$4:$4,0)-5),0)),"") -> 3494545 | J16: =IF($E16>=J$4,IF(J$4=$E16,$D16-SUM($E16:I16)+$E16,ROUND($D16/(MATCH($E16,$4:$4,0)-5),0)),"") -> 3494545 | K16: =IF($E16>=K$4,IF(K$4=$E16,$D16-SUM($E16:J16)+$E16,ROUND($D16/(MATCH($E16,$4:$4,0)-5),0)),"") -> 3494545 | L16: =IF($E16>=L$4,IF(L$4=$E16,$D16-SUM($E16:K16)+$E16,ROUND($D16/(MATCH($E16,$4:$4,0)-5),0)),"") -> 3494545 | M16: =IF($E16>=M$4,IF(M$4=$E16,$D16-SUM($E16:L16)+$E16,ROUND($D16/(MATCH($E16,$4:$4,0)-5),0)),"") -> 3494545 | ... U16: =IF($E16>=U$4,IF(U$4=$E16,$D16-SUM($E16:T16)+$E16,ROUND($D16/(MATCH($E16,$4:$4,0)-5),0)),"")
B17: Engie | C17: =Feuil1!H22 -> 136082105 | D17: 128869.47 | E17: 2020 | F17: =IF($E17>=F$4,IF(F$4=$E17,$D17-SUM($E17:E17)+$E17,ROUND($D17/(MATCH($E17,$4:$4,0)-5),0)),"") -> 21478 | G17: =IF($E17>=G$4,IF(G$4=$E17,$D17-SUM($E17:F17)+$E17,ROUND($D17/(MATCH($E17,$4:$4,0)-5),0)),"") -> 21478 | H17: =IF($E17>=H$4,IF(H$4=$E17,$D17-SUM($E17:G17)+$E17,ROUND($D17/(MATCH($E17,$4:$4,0)-5),0)),"") -> 21478 | I17: =IF($E17>=I$4,IF(I$4=$E17,$D17-SUM($E17:H17)+$E17,ROUND($D17/(MATCH($E17,$4:$4,0)-5),0)),"") -> 21478 | J17: =IF($E17>=J$4,IF(J$4=$E17,$D17-SUM($E17:I17)+$E17,ROUND($D17/(MATCH($E17,$4:$4,0)-5),0)),"") -> 21478 | K17: =IF($E17>=K$4,IF(K$4=$E17,$D17-SUM($E17:J17)+$E17,ROUND($D17/(MATCH($E17,$4:$4,0)-5),0)),"") -> 21479.472 | L17: =IF($E17>=L$4,IF(L$4=$E17,$D17-SUM($E17:K17)+$E17,ROUND($D17/(MATCH($E17,$4:$4,0)-5),0)),"") | M17: =IF($E17>=M$4,IF(M$4=$E17,$D17-SUM($E17:L17)+$E17,ROUND($D17/(MATCH($E17,$4:$4,0)-5),0)),"") | ... U17: =IF($E17>=U$4,IF(U$4=$E17,$D17-SUM($E17:T17)+$E17,ROUND($D17/(MATCH($E17,$4:$4,0)-5),0)),"")
D18: 15302970 | E18: 2020 | F18: =IF($E18>=F$4,IF(F$4=$E18,$D18-SUM($E18:E18)+$E18,ROUND($D18/(MATCH($E18,$4:$4,0)-5),0)),"") -> 2550495 | G18: =IF($E18>=G$4,IF(G$4=$E18,$D18-SUM($E18:F18)+$E18,ROUND($D18/(MATCH($E18,$4:$4,0)-5),0)),"") -> 2550495 | H18: =IF($E18>=H$4,IF(H$4=$E18,$D18-SUM($E18:G18)+$E18,ROUND($D18/(MATCH($E18,$4:$4,0)-5),0)),"") -> 2550495 | I18: =IF($E18>=I$4,IF(I$4=$E18,$D18-SUM($E18:H18)+$E18,ROUND($D18/(MATCH($E18,$4:$4,0)-5),0)),"") -> 2550495 | J18: =IF($E18>=J$4,IF(J$4=$E18,$D18-SUM($E18:I18)+$E18,ROUND($D18/(MATCH($E18,$4:$4,0)-5),0)),"") -> 2550495 | K18: =IF($E18>=K$4,IF(K$4=$E18,$D18-SUM($E18:J18)+$E18,ROUND($D18/(MATCH($E18,$4:$4,0)-5),0)),"") -> 2550495 | L18: =IF($E18>=L$4,IF(L$4=$E18,$D18-SUM($E18:K18)+$E18,ROUND($D18/(MATCH($E18,$4:$4,0)-5),0)),"") | M18: =IF($E18>=M$4,IF(M$4=$E18,$D18-SUM($E18:L18)+$E18,ROUND($D18/(MATCH($E18,$4:$4,0)-5),0)),"") | ... U18: =IF($E18>=U$4,IF(U$4=$E18,$D18-SUM($E18:T18)+$E18,ROUND($D18/(MATCH($E18,$4:$4,0)-5),0)),"")
B19: EDF | C19: =Feuil1!H24 -> 8514000 | D19: 1767999.2 | E19: 2015 | F19: =IF($E19>=F$4,IF(F$4=$E19,$D19-SUM($E19:E19)+$E19,ROUND($D19/(MATCH($E19,$4:$4,0)-5),0)),"") -> 1767999.2 | G19: =IF($E19>=G$4,IF(G$4=$E19,$D19-SUM($E19:F19)+$E19,ROUND($D19/(MATCH($E19,$4:$4,0)-5),0)),"") | H19: =IF($E19>=H$4,IF(H$4=$E19,$D19-SUM($E19:G19)+$E19,ROUND($D19/(MATCH($E19,$4:$4,0)-5),0)),"") | I19: =IF($E19>=I$4,IF(I$4=$E19,$D19-SUM($E19:H19)+$E19,ROUND($D19/(MATCH($E19,$4:$4,0)-5),0)),"") | J19: =IF($E19>=J$4,IF(J$4=$E19,$D19-SUM($E19:I19)+$E19,ROUND($D19/(MATCH($E19,$4:$4,0)-5),0)),"") | K19: =IF($E19>=K$4,IF(K$4=$E19,$D19-SUM($E19:J19)+$E19,ROUND($D19/(MATCH($E19,$4:$4,0)-5),0)),"") | L19: =IF($E19>=L$4,IF(L$4=$E19,$D19-SUM($E19:K19)+$E19,ROUND($D19/(MATCH($E19,$4:$4,0)-5),0)),"") | M19: =IF($E19>=M$4,IF(M$4=$E19,$D19-SUM($E19:L19)+$E19,ROUND($D19/(MATCH($E19,$4:$4,0)-5),0)),"") | ... U19: =IF($E19>=U$4,IF(U$4=$E19,$D19-SUM($E19:T19)+$E19,ROUND($D19/(MATCH($E19,$4:$4,0)-5),0)),"")
D20: 18298792 | E20: 2030 | F20: =IF($E20>=F$4,IF(F$4=$E20,$D20-SUM($E20:E20)+$E20,ROUND($D20/(MATCH($E20,$4:$4,0)-5),0)),"") -> 1143674 | G20: =IF($E20>=G$4,IF(G$4=$E20,$D20-SUM($E20:F20)+$E20,ROUND($D20/(MATCH($E20,$4:$4,0)-5),0)),"") -> 1143674 | H20: =IF($E20>=H$4,IF(H$4=$E20,$D20-SUM($E20:G20)+$E20,ROUND($D20/(MATCH($E20,$4:$4,0)-5),0)),"") -> 1143674 | I20: =IF($E20>=I$4,IF(I$4=$E20,$D20-SUM($E20:H20)+$E20,ROUND($D20/(MATCH($E20,$4:$4,0)-5),0)),"") -> 1143674 | J20: =IF($E20>=J$4,IF(J$4=$E20,$D20-SUM($E20:I20)+$E20,ROUND($D20/(MATCH($E20,$4:$4,0)-5),0)),"") -> 1143674 | K20: =IF($E20>=K$4,IF(K$4=$E20,$D20-SUM($E20:J20)+$E20,ROUND($D20/(MATCH($E20,$4:$4,0)-5),0)),"") -> 1143674 | L20: =IF($E20>=L$4,IF(L$4=$E20,$D20-SUM($E20:K20)+$E20,ROUND($D20/(MATCH($E20,$4:$4,0)-5),0)),"") -> 1143674 | M20: =IF($E20>=M$4,IF(M$4=$E20,$D20-SUM($E20:L20)+$E20,ROUND($D20/(MATCH($E20,$4:$4,0)-5),0)),"") -> 1143674 | ... U20: =IF($E20>=U$4,IF(U$4=$E20,$D20-SUM($E20:T20)+$E20,ROUND($D20/(MATCH($E20,$4:$4,0)-5),0)),"") -> 1143681.7
B21: Suez Environnement | C21: =Feuil1!H26 -> 7883761 | D21: 2324714.7 | E21: 2030 | F21: =IF($E21>=F$4,IF(F$4=$E21,$D21-SUM($E21:E21)+$E21,ROUND($D21/(MATCH($E21,$4:$4,0)-5),0)),"") -> 145295 | G21: =IF($E21>=G$4,IF(G$4=$E21,$D21-SUM($E21:F21)+$E21,ROUND($D21/(MATCH($E21,$4:$4,0)-5),0)),"") -> 145295 | H21: =IF($E21>=H$4,IF(H$4=$E21,$D21-SUM($E21:G21)+$E21,ROUND($D21/(MATCH($E21,$4:$4,0)-5),0)),"") -> 145295 | I21: =IF($E21>=I$4,IF(I$4=$E21,$D21-SUM($E21:H21)+$E21,ROUND($D21/(MATCH($E21,$4:$4,0)-5),0)),"") -> 145295 | J21: =IF($E21>=J$4,IF(J$4=$E21,$D21-SUM($E21:I21)+$E21,ROUND($D21/(MATCH($E21,$4:$4,0)-5),0)),"") -> 145295 | K21: =IF($E21>=K$4,IF(K$4=$E21,$D21-SUM($E21:J21)+$E21,ROUND($D21/(MATCH($E21,$4:$4,0)-5),0)),"") -> 145295 | L21: =IF($E21>=L$4,IF(L$4=$E21,$D21-SUM($E21:K21)+$E21,ROUND($D21/(MATCH($E21,$4:$4,0)-5),0)),"") -> 145295 | M21: =IF($E21>=M$4,IF(M$4=$E21,$D21-SUM($E21:L21)+$E21,ROUND($D21/(MATCH($E21,$4:$4,0)-5),0)),"") -> 145295 | ... U21: =IF($E21>=U$4,IF(U$4=$E21,$D21-SUM($E21:T21)+$E21,ROUND($D21/(MATCH($E21,$4:$4,0)-5),0)),"") -> 145289.7
D22: 27301.925 | E22: 2016 & 2050 | F22: =IF($E22>=F$4,IF(F$4=$E22,$D22-SUM($E22:E22)+$E22,ROUND($D22/(MATCH($E22,$4:$4,0)-5),0)),"") -> #N/A | G22: =IF($E22>=G$4,IF(G$4=$E22,$D22-SUM($E22:F22)+$E22,ROUND($D22/(MATCH($E22,$4:$4,0)-5),0)),"") -> #N/A | H22: =IF($E22>=H$4,IF(H$4=$E22,$D22-SUM($E22:G22)+$E22,ROUND($D22/(MATCH($E22,$4:$4,0)-5),0)),"") -> #N/A | I22: =IF($E22>=I$4,IF(I$4=$E22,$D22-SUM($E22:H22)+$E22,ROUND($D22/(MATCH($E22,$4:$4,0)-5),0)),"") -> #N/A | J22: =IF($E22>=J$4,IF(J$4=$E22,$D22-SUM($E22:I22)+$E22,ROUND($D22/(MATCH($E22,$4:$4,0)-5),0)),"") -> #N/A | K22: =IF($E22>=K$4,IF(K$4=$E22,$D22-SUM($E22:J22)+$E22,ROUND($D22/(MATCH($E22,$4:$4,0)-5),0)),"") -> #N/A | L22: =IF($E22>=L$4,IF(L$4=$E22,$D22-SUM($E22:K22)+$E22,ROUND($D22/(MATCH($E22,$4:$4,0)-5),0)),"") -> #N/A | M22: =IF($E22>=M$4,IF(M$4=$E22,$D22-SUM($E22:L22)+$E22,ROUND($D22/(MATCH($E22,$4:$4,0)-5),0)),"") -> #N/A | ... U22: =IF($E22>=U$4,IF(U$4=$E22,$D22-SUM($E22:T22)+$E22,ROUND($D22/(MATCH($E22,$4:$4,0)-5),0)),"") -> #N/A
D23: 494258.78 | E23: 2016 | F23: =IF($E23>=F$4,IF(F$4=$E23,$D23-SUM($E23:E23)+$E23,ROUND($D23/(MATCH($E23,$4:$4,0)-5),0)),"") -> 247129 | G23: =IF($E23>=G$4,IF(G$4=$E23,$D23-SUM($E23:F23)+$E23,ROUND($D23/(MATCH($E23,$4:$4,0)-5),0)),"") -> 247129.78 | H23: =IF($E23>=H$4,IF(H$4=$E23,$D23-SUM($E23:G23)+$E23,ROUND($D23/(MATCH($E23,$4:$4,0)-5),0)),"") | I23: =IF($E23>=I$4,IF(I$4=$E23,$D23-SUM($E23:H23)+$E23,ROUND($D23/(MATCH($E23,$4:$4,0)-5),0)),"") | J23: =IF($E23>=J$4,IF(J$4=$E23,$D23-SUM($E23:I23)+$E23,ROUND($D23/(MATCH($E23,$4:$4,0)-5),0)),"") | K23: =IF($E23>=K$4,IF(K$4=$E23,$D23-SUM($E23:J23)+$E23,ROUND($D23/(MATCH($E23,$4:$4,0)-5),0)),"") | L23: =IF($E23>=L$4,IF(L$4=$E23,$D23-SUM($E23:K23)+$E23,ROUND($D23/(MATCH($E23,$4:$4,0)-5),0)),"") | M23: =IF($E23>=M$4,IF(M$4=$E23,$D23-SUM($E23:L23)+$E23,ROUND($D23/(MATCH($E23,$4:$4,0)-5),0)),"") | ... U23: =IF($E23>=U$4,IF(U$4=$E23,$D23-SUM($E23:T23)+$E23,ROUND($D23/(MATCH($E23,$4:$4,0)-5),0)),"")
B24: Saint Gobain | C24: =Feuil1!H29 -> 15800000 | D24: 0 | E24: 2025 | F24: =IF($E24>=F$4,IF(F$4=$E24,$D24-SUM($E24:E24)+$E24,ROUND($D24/(MATCH($E24,$4:$4,0)-5),0)),"") -> 0 | G24: =IF($E24>=G$4,IF(G$4=$E24,$D24-SUM($E24:F24)+$E24,ROUND($D24/(MATCH($E24,$4:$4,0)-5),0)),"") -> 0 | H24: =IF($E24>=H$4,IF(H$4=$E24,$D24-SUM($E24:G24)+$E24,ROUND($D24/(MATCH($E24,$4:$4,0)-5),0)),"") -> 0 | I24: =IF($E24>=I$4,IF(I$4=$E24,$D24-SUM($E24:H24)+$E24,ROUND($D24/(MATCH($E24,$4:$4,0)-5),0)),"") -> 0 | J24: =IF($E24>=J$4,IF(J$4=$E24,$D24-SUM($E24:I24)+$E24,ROUND($D24/(MATCH($E24,$4:$4,0)-5),0)),"") -> 0 | K24: =IF($E24>=K$4,IF(K$4=$E24,$D24-SUM($E24:J24)+$E24,ROUND($D24/(MATCH($E24,$4:$4,0)-5),0)),"") -> 0 | L24: =IF($E24>=L$4,IF(L$4=$E24,$D24-SUM($E24:K24)+$E24,ROUND($D24/(MATCH($E24,$4:$4,0)-5),0)),"") -> 0 | M24: =IF($E24>=M$4,IF(M$4=$E24,$D24-SUM($E24:L24)+$E24,ROUND($D24/(MATCH($E24,$4:$4,0)-5),0)),"") -> 0 | ... U24: =IF($E24>=U$4,IF(U$4=$E24,$D24-SUM($E24:T24)+$E24,ROUND($D24/(MATCH($E24,$4:$4,0)-5),0)),"")
B25: Linde AG | C25: =Feuil1!H30 -> 24300000 | D25: 120000 | E25: 2015 | F25: =IF($E25>=F$4,IF(F$4=$E25,$D25-SUM($E25:E25)+$E25,ROUND($D25/(MATCH($E25,$4:$4,0)-5),0)),"") -> 120000 | G25: =IF($E25>=G$4,IF(G$4=$E25,$D25-SUM($E25:F25)+$E25,ROUND($D25/(MATCH($E25,$4:$4,0)-5),0)),"") | H25: =IF($E25>=H$4,IF(H$4=$E25,$D25-SUM($E25:G25)+$E25,ROUND($D25/(MATCH($E25,$4:$4,0)-5),0)),"") | I25: =IF($E25>=I$4,IF(I$4=$E25,$D25-SUM($E25:H25)+$E25,ROUND($D25/(MATCH($E25,$4:$4,0)-5),0)),"") | J25: =IF($E25>=J$4,IF(J$4=$E25,$D25-SUM($E25:I25)+$E25,ROUND($D25/(MATCH($E25,$4:$4,0)-5),0)),"") | K25: =IF($E25>=K$4,IF(K$4=$E25,$D25-SUM($E25:J25)+$E25,ROUND($D25/(MATCH($E25,$4:$4,0)-5),0)),"") | L25: =IF($E25>=L$4,IF(L$4=$E25,$D25-SUM($E25:K25)+$E25,ROUND($D25/(MATCH($E25,$4:$4,0)-5),0)),"") | M25: =IF($E25>=M$4,IF(M$4=$E25,$D25-SUM($E25:L25)+$E25,ROUND($D25/(MATCH($E25,$4:$4,0)-5),0)),"") | ... U25: =IF($E25>=U$4,IF(U$4=$E25,$D25-SUM($E25:T25)+$E25,ROUND($D25/(MATCH($E25,$4:$4,0)-5),0)),"")
D26: 962046 | E26: 2017 | F26: =IF($E26>=F$4,IF(F$4=$E26,$D26-SUM($E26:E26)+$E26,ROUND($D26/(MATCH($E26,$4:$4,0)-5),0)),"") -> 320682 | G26: =IF($E26>=G$4,IF(G$4=$E26,$D26-SUM($E26:F26)+$E26,ROUND($D26/(MATCH($E26,$4:$4,0)-5),0)),"") -> 320682 | H26: =IF($E26>=H$4,IF(H$4=$E26,$D26-SUM($E26:G26)+$E26,ROUND($D26/(MATCH($E26,$4:$4,0)-5),0)),"") -> 320682 | I26: =IF($E26>=I$4,IF(I$4=$E26,$D26-SUM($E26:H26)+$E26,ROUND($D26/(MATCH($E26,$4:$4,0)-5),0)),"") | J26: =IF($E26>=J$4,IF(J$4=$E26,$D26-SUM($E26:I26)+$E26,ROUND($D26/(MATCH($E26,$4:$4,0)-5),0)),"") | K26: =IF($E26>=K$4,IF(K$4=$E26,$D26-SUM($E26:J26)+$E26,ROUND($D26/(MATCH($E26,$4:$4,0)-5),0)),"") | L26: =IF($E26>=L$4,IF(L$4=$E26,$D26-SUM($E26:K26)+$E26,ROUND($D26/(MATCH($E26,$4:$4,0)-5),0)),"") | M26: =IF($E26>=M$4,IF(M$4=$E26,$D26-SUM($E26:L26)+$E26,ROUND($D26/(MATCH($E26,$4:$4,0)-5),0)),"") | ... U26: =IF($E26>=U$4,IF(U$4=$E26,$D26-SUM($E26:T26)+$E26,ROUND($D26/(MATCH($E26,$4:$4,0)-5),0)),"")
B27: Air liquide | C27: =Feuil1!H32 -> 23000000 | D27: 0 | E27: 2015 | F27: =IF($E27>=F$4,IF(F$4=$E27,$D27-SUM($E27:E27)+$E27,ROUND($D27/(MATCH($E27,$4:$4,0)-5),0)),"") -> 0 | G27: =IF($E27>=G$4,IF(G$4=$E27,$D27-SUM($E27:F27)+$E27,ROUND($D27/(MATCH($E27,$4:$4,0)-5),0)),"") | H27: =IF($E27>=H$4,IF(H$4=$E27,$D27-SUM($E27:G27)+$E27,ROUND($D27/(MATCH($E27,$4:$4,0)-5),0)),"") | I27: =IF($E27>=I$4,IF(I$4=$E27,$D27-SUM($E27:H27)+$E27,ROUND($D27/(MATCH($E27,$4:$4,0)-5),0)),"") | J27: =IF($E27>=J$4,IF(J$4=$E27,$D27-SUM($E27:I27)+$E27,ROUND($D27/(MATCH($E27,$4:$4,0)-5),0)),"") | K27: =IF($E27>=K$4,IF(K$4=$E27,$D27-SUM($E27:J27)+$E27,ROUND($D27/(MATCH($E27,$4:$4,0)-5),0)),"") | L27: =IF($E27>=L$4,IF(L$4=$E27,$D27-SUM($E27:K27)+$E27,ROUND($D27/(MATCH($E27,$4:$4,0)-5),0)),"") | M27: =IF($E27>=M$4,IF(M$4=$E27,$D27-SUM($E27:L27)+$E27,ROUND($D27/(MATCH($E27,$4:$4,0)-5),0)),"") | ... U27: =IF($E27>=U$4,IF(U$4=$E27,$D27-SUM($E27:T27)+$E27,ROUND($D27/(MATCH($E27,$4:$4,0)-5),0)),"")
D28: 266000 | E28: 2015 | F28: =IF($E28>=F$4,IF(F$4=$E28,$D28-SUM($E28:E28)+$E28,ROUND($D28/(MATCH($E28,$4:$4,0)-5),0)),"") -> 266000 | G28: =IF($E28>=G$4,IF(G$4=$E28,$D28-SUM($E28:F28)+$E28,ROUND($D28/(MATCH($E28,$4:$4,0)-5),0)),"") | H28: =IF($E28>=H$4,IF(H$4=$E28,$D28-SUM($E28:G28)+$E28,ROUND($D28/(MATCH($E28,$4:$4,0)-5),0)),"") | I28: =IF($E28>=I$4,IF(I$4=$E28,$D28-SUM($E28:H28)+$E28,ROUND($D28/(MATCH($E28,$4:$4,0)-5),0)),"") | J28: =IF($E28>=J$4,IF(J$4=$E28,$D28-SUM($E28:I28)+$E28,ROUND($D28/(MATCH($E28,$4:$4,0)-5),0)),"") | K28: =IF($E28>=K$4,IF(K$4=$E28,$D28-SUM($E28:J28)+$E28,ROUND($D28/(MATCH($E28,$4:$4,0)-5),0)),"") | L28: =IF($E28>=L$4,IF(L$4=$E28,$D28-SUM($E28:K28)+$E28,ROUND($D28/(MATCH($E28,$4:$4,0)-5),0)),"") | M28: =IF($E28>=M$4,IF(M$4=$E28,$D28-SUM($E28:L28)+$E28,ROUND($D28/(MATCH($E28,$4:$4,0)-5),0)),"") | ... U28: =IF($E28>=U$4,IF(U$4=$E28,$D28-SUM($E28:T28)+$E28,ROUND($D28/(MATCH($E28,$4:$4,0)-5),0)),"")
B29: Wendel | F29: =IF($E29>=F$4,IF(F$4=$E29,$D29-SUM($E29:E29)+$E29,ROUND($D29/(MATCH($E29,$4:$4,0)-5),0)),"") | G29: =IF($E29>=G$4,IF(G$4=$E29,$D29-SUM($E29:F29)+$E29,ROUND($D29/(MATCH($E29,$4:$4,0)-5),0)),"") | H29: =IF($E29>=H$4,IF(H$4=$E29,$D29-SUM($E29:G29)+$E29,ROUND($D29/(MATCH($E29,$4:$4,0)-5),0)),"") | I29: =IF($E29>=I$4,IF(I$4=$E29,$D29-SUM($E29:H29)+$E29,ROUND($D29/(MATCH($E29,$4:$4,0)-5),0)),"") | J29: =IF($E29>=J$4,IF(J$4=$E29,$D29-SUM($E29:I29)+$E29,ROUND($D29/(MATCH($E29,$4:$4,0)-5),0)),"") | K29: =IF($E29>=K$4,IF(K$4=$E29,$D29-SUM($E29:J29)+$E29,ROUND($D29/(MATCH($E29,$4:$4,0)-5),0)),"") | L29: =IF($E29>=L$4,IF(L$4=$E29,$D29-SUM($E29:K29)+$E29,ROUND($D29/(MATCH($E29,$4:$4,0)-5),0)),"") | M29: =IF($E29>=M$4,IF(M$4=$E29,$D29-SUM($E29:L29)+$E29,ROUND($D29/(MATCH($E29,$4:$4,0)-5),0)),"") | ... U29: =IF($E29>=U$4,IF(U$4=$E29,$D29-SUM($E29:T29)+$E29,ROUND($D29/(MATCH($E29,$4:$4,0)-5),0)),"")
B30: Groupe Delhaize | C30: =Feuil1!H35 -> 2400936 | D30: 444000 | E30: 2020 | F30: =IF($E30>=F$4,IF(F$4=$E30,$D30-SUM($E30:E30)+$E30,ROUND($D30/(MATCH($E30,$4:$4,0)-5),0)),"") -> 74000 | G30: =IF($E30>=G$4,IF(G$4=$E30,$D30-SUM($E30:F30)+$E30,ROUND($D30/(MATCH($E30,$4:$4,0)-5),0)),"") -> 74000 | H30: =IF($E30>=H$4,IF(H$4=$E30,$D30-SUM($E30:G30)+$E30,ROUND($D30/(MATCH($E30,$4:$4,0)-5),0)),"") -> 74000 | I30: =IF($E30>=I$4,IF(I$4=$E30,$D30-SUM($E30:H30)+$E30,ROUND($D30/(MATCH($E30,$4:$4,0)-5),0)),"") -> 74000 | J30: =IF($E30>=J$4,IF(J$4=$E30,$D30-SUM($E30:I30)+$E30,ROUND($D30/(MATCH($E30,$4:$4,0)-5),0)),"") -> 74000 | K30: =IF($E30>=K$4,IF(K$4=$E30,$D30-SUM($E30:J30)+$E30,ROUND($D30/(MATCH($E30,$4:$4,0)-5),0)),"") -> 74000 | L30: =IF($E30>=L$4,IF(L$4=$E30,$D30-SUM($E30:K30)+$E30,ROUND($D30/(MATCH($E30,$4:$4,0)-5),0)),"") | M30: =IF($E30>=M$4,IF(M$4=$E30,$D30-SUM($E30:L30)+$E30,ROUND($D30/(MATCH($E30,$4:$4,0)-5),0)),"") | ... U30: =IF($E30>=U$4,IF(U$4=$E30,$D30-SUM($E30:T30)+$E30,ROUND($D30/(MATCH($E30,$4:$4,0)-5),0)),"")
B31: Carnival | C31: =Feuil1!H36 -> 10387396 | D31: -572950.51 | E31: 2015 | F31: =IF($E31>=F$4,IF(F$4=$E31,$D31-SUM($E31:E31)+$E31,ROUND($D31/(MATCH($E31,$4:$4,0)-5),0)),"") -> -572950.51 | G31: =IF($E31>=G$4,IF(G$4=$E31,$D31-SUM($E31:F31)+$E31,ROUND($D31/(MATCH($E31,$4:$4,0)-5),0)),"") | H31: =IF($E31>=H$4,IF(H$4=$E31,$D31-SUM($E31:G31)+$E31,ROUND($D31/(MATCH($E31,$4:$4,0)-5),0)),"") | I31: =IF($E31>=I$4,IF(I$4=$E31,$D31-SUM($E31:H31)+$E31,ROUND($D31/(MATCH($E31,$4:$4,0)-5),0)),"") | J31: =IF($E31>=J$4,IF(J$4=$E31,$D31-SUM($E31:I31)+$E31,ROUND($D31/(MATCH($E31,$4:$4,0)-5),0)),"") | K31: =IF($E31>=K$4,IF(K$4=$E31,$D31-SUM($E31:J31)+$E31,ROUND($D31/(MATCH($E31,$4:$4,0)-5),0)),"") | L31: =IF($E31>=L$4,IF(L$4=$E31,$D31-SUM($E31:K31)+$E31,ROUND($D31/(MATCH($E31,$4:$4,0)-5),0)),"") | M31: =IF($E31>=M$4,IF(M$4=$E31,$D31-SUM($E31:L31)+$E31,ROUND($D31/(MATCH($E31,$4:$4,0)-5),0)),"") | ... U31: =IF($E31>=U$4,IF(U$4=$E31,$D31-SUM($E31:T31)+$E31,ROUND($D31/(MATCH($E31,$4:$4,0)-5),0)),"")
B32: Basf SE | C32: =Feuil1!H37 -> 22361000 | D32: -3362880 | E32: 2020 | F32: =IF($E32>=F$4,IF(F$4=$E32,$D32-SUM($E32:E32)+$E32,ROUND($D32/(MATCH($E32,$4:$4,0)-5),0)),"") -> -560480 | G32: =IF($E32>=G$4,IF(G$4=$E32,$D32-SUM($E32:F32)+$E32,ROUND($D32/(MATCH($E32,$4:$4,0)-5),0)),"") -> -560480 | H32: =IF($E32>=H$4,IF(H$4=$E32,$D32-SUM($E32:G32)+$E32,ROUND($D32/(MATCH($E32,$4:$4,0)-5),0)),"") -> -560480 | I32: =IF($E32>=I$4,IF(I$4=$E32,$D32-SUM($E32:H32)+$E32,ROUND($D32/(MATCH($E32,$4:$4,0)-5),0)),"") -> -560480 | J32: =IF($E32>=J$4,IF(J$4=$E32,$D32-SUM($E32:I32)+$E32,ROUND($D32/(MATCH($E32,$4:$4,0)-5),0)),"") -> -560480 | K32: =IF($E32>=K$4,IF(K$4=$E32,$D32-SUM($E32:J32)+$E32,ROUND($D32/(MATCH($E32,$4:$4,0)-5),0)),"") -> -560480 | L32: =IF($E32>=L$4,IF(L$4=$E32,$D32-SUM($E32:K32)+$E32,ROUND($D32/(MATCH($E32,$4:$4,0)-5),0)),"") | M32: =IF($E32>=M$4,IF(M$4=$E32,$D32-SUM($E32:L32)+$E32,ROUND($D32/(MATCH($E32,$4:$4,0)-5),0)),"") | ... U32: =IF($E32>=U$4,IF(U$4=$E32,$D32-SUM($E32:T32)+$E32,ROUND($D32/(MATCH($E32,$4:$4,0)-5),0)),"")

Sheet Feuil3
