Workbook
Name CHEMIN_GEN: [1]DONNEES!$C$6
Name CHOIX_CABLE: [1]SUPPORTS!$C$2:$C$28
Name CHOIX_CHAINE: [1]SUPPORTS!$R$2:$R$42
Name CODE_LIT: [1]DONNEES!$C$5
Name DATA_CANTON: [1]SUPPORTS!$A$1:$I$1
Name DATA_CHAINE: [1]SUPPORTS!$Q$1:$W$1
Name DATA_DONNEES: [1]DONNEES!$A$9:$V$9
Name DATA_NAPPE: [1]SUPPORTS!$J$1:$L$1
Name DATA_SUPPORTS: [1]SUPPORTS!$A$59:$AB$59
Name DATA_TERRAIN: [1]TERRAIN!$A$1:$B$1
Name dist1: '[2]Réglages importants'!$R$23
Name dist2: '[2]Réglages importants'!$R$24
Name dist3: '[2]Réglages importants'!$R$25
Name FICHIER_ELIANE: [1]DONNEES!$C$4
Name Flèche: #REF!
Name Flèche_4: #REF!
Name GABARIT: [1]DONNEES!$L$1
Name gé2: #REF!
Name hypclim: '[2]Réglages importants'!$U$11
Name Imap: #REF!
Name Imap_4: #REF!
Name LIT: [1]DONNEES!$C$5
Name LOGO: INDIRECT(VLOOKUP(#REF!,#REF!,2,0))
Name NOM_LIGNE: [1]DONNEES!$C$1
Name réglement: '[2]Réglages importants'!#REF!
Name Tableau1: #REF!
Name tension: '[2]Réglages importants'!$S$11
Name TENSION_LIGNE: [1]DONNEES!$C$2
Name ZONE_ROUGE: [1]DONNEES!$C$7

Sheet TABLEAU DE BORD
A1: =MATCH(D1,{63;90;150;225;400},0) -> 1 | D1: 63 | E1: KV | F1: FRONTENAUD - GRAND CHENE | I1: Indice : | J1: A | L1: =F1 -> FRONTENAUD - GRAND CHENE | N1: =B6 -> 240 Pa : ZVN zone normale
D2: Cône de balancement | I2: Etabli par : | J2: JDE | L2: =G6 -> CCG LA
D3: TABLEAU DE BORD | I3: Date : | J3: 43250
B5: Choix hypothèses météo | G5: choix hypothèses de calculs | J5: Paramètre °C | K5: T°C Répartition | L5: Marges CCG LA | M5: Résultats | N5: Marges AT 2001 | O5: Résultats | Q5: Choix fractionnement des cônes
B6: 240 Pa : ZVN zone normale | D6: 2 ou 0 cm | G6: CCG LA | J6: 15 | K6: 45 | L6: G1 | M6: =IF(G6="CCG LA",'[3]Formalisme RTE'!AG46,"Non concerné") -> 3.5 | N6: T1+1m | O6: =IF(G6="AT 2001",2,"Non concerné") -> Non concerné | Q6: Fraction 1/ | U6: 8
L7: G2 | M7: =IF(G6="CCG LA",'[3]Formalisme RTE'!AG47,"Non concerné") -> 3.5 | N7: T3+1m | O7: =IF(G6="AT 2001",INDEX(V4:X8,MATCH(D1,V4:V8,0),3),"Non concerné") -> Non concerné | Q7: Pas | U7: 50
L8: +5m | M8: OUI
D10: Valeur incohérente | G10: Valeur forcée | Q10: Valeur forcée | R10: Valeur forcée
B11: TABLEAU DE SYNTHESE DES DONNEES DE L'OUVRAGE
B12: Support gauche | C12: Z sol support gauche | D12: Longueur de chaîne | E12: Z câble | F12: Demi- nappe | G12: Soufflet / Pas soufflet (support gauche) | H12: Support droit | I12: Z sol support droit | J12: Longueur de chaîne | K12: Z câble | L12: Demi- nappe | M12: Portée à droite | N12: Câble | O12: Paramètre à 15 °C (AT 2001) | P12: Paramètre à la température d'exploitation (CCG LA) | Q12: Zone de vent | R12: Epaisseur de givre | W12: 63 | X12: 0.9 | Y12: 3.95
B13: =IF('[3]Structure Coordinate Report'!N17=0,"",'[3]Structure Coordinate Report'!N17) -> POSTE DE PALENTE | C13: =IF('[3]Structure Coordinate Report'!O17=0,"",'[3]Structure Coordinate Report'!O17) -> 321.70 | D13: =IF('[3]Coordonnees fixation au support'!EH4=0,"",'[3]Coordonnees fixation au support'!EH4) -> 2.1614347 | E13: =IF(ISNA(VLOOKUP(B13,'[3]Coordonnees fixation au support'!$Z$4:$AA$2961,2,FALSE)),"",VLOOKUP(B13,'[3]Coordonnees fixation au support'!$Z$4:$AA$2961,2,FALSE)) -> 329.73 | F13: =IF(VLOOKUP(B13,'[3]Coordonnees fixation au support'!$DT$4:$DU$5000,2,FALSE)=0,"",VLOOKUP(B13,'[3]Coordonnees fixation au support'!$DT$4:$DU$5000,2,FALSE)) -> 3.8522478 | G13: =IF('[3]Structure Coordinate Report'!X17=0,"",'[3]Structure Coordinate Report'!X17) -> Pas Soufflet | H13: =IF('[3]Structure Coordinate Report'!Q17=0,"",'[3]Structure Coordinate Report'!Q17) -> 1 | I13: =IF('[3]Structure Coordinate Report'!R17=0,"",'[3]Structure Coordinate Report'!R17) -> 320.12 | J13: =IF('[3]Coordonnees fixation au support'!EJ4=0,"",'[3]Coordonnees fixation au support'!EJ4) -> 2.2173407 | K13: =IF(ISNA(VLOOKUP(H13,'[3]Coordonnees fixation au support'!$Z$4:$AA$3546,2,FALSE)),"",VLOOKUP(H13,'[3]Coordonnees fixation au support'!$Z$4:$AA$3546,2,FALSE)) -> 329.18 | L13: =IF(VLOOKUP(H13,'[3]Coordonnees fixation au support'!$DW$4:$DX$5000,2,FALSE)=0,"",VLOOKUP(H13,'[3]Coordonnees fixation au support'!$DW$4:$DX$5000,2,FALSE)) -> 0.66949608 | M13: =IF('[3]Structure Coordinate Report'!V17=0,"",'[3]Structure Coordinate Report'!V17) -> 13.30 | N13: =IF(ISNA(INDEX('[3]Tableau de pose'!B11:R5000,MATCH('TABLEAU DE BORD'!B13,'[3]Tableau de pose'!C11:C5000,0),17)),"",INDEX('[3]Tableau de pose'!B11:R5000,MATCH('TABLEAU DE BORD'!B13,'[3]Tableau de pose'!C11:C5000,0),17)) -> aster228 | O13: =IF(ISNA(INDEX('[3]Tableau de pose'!B11:T5000,MATCH('TABLEAU DE BORD'!B13&"-"&'TABLEAU DE BORD'!$J$6,'[3]Tableau de pose'!T11:T5000,0),14)),"",INDEX('[3]Tableau de pose'!B11:T5000,MATCH('TABLEAU DE BORD'!B13&"-"&'TABLEAU DE BORD'!$J$6,'[3]Tableau de pose'!T11:T5000,0),14)) -> 308.78 | P13: =IF(ISNA(INDEX('[3]Tableau de pose'!B11:T5000,MATCH('TABLEAU DE BORD'!B13&"-"&'TABLEAU DE BORD'!$K$6,'[3]Tableau de pose'!T11:T5000,0),14)),"",INDEX('[3]Tableau de pose'!B11:T5000,MATCH('TABLEAU DE BORD'!B13&"-"&'TABLEAU DE BORD'!$K$6,'[3]Tableau de pose'!T11:T5000,0),14)) -> 289.35 | Q13: =IF('[3]Structure Coordinate Report'!Z17=0,"",'[3]Structure Coordinate Report'!Z17) -> 240 Pa : ZVN zone normale | R13: =IF('[3]Structure Coordinate Report'!AB17=0,"",'[3]Structure Coordinate Report'!AB17) -> 2 ou 0 cm | W13: 90 | X13: 0.9 | Y13: 3.95
B14: =IF('[3]Structure Coordinate Report'!N18=0,"",'[3]Structure Coordinate Report'!N18) -> 1 | C14: =IF('[3]Structure Coordinate Report'!O18=0,"",'[3]Structure Coordinate Report'!O18) -> 320.12 | D14: =IF('[3]Coordonnees fixation au support'!EH5=0,"",'[3]Coordonnees fixation au support'!EH5) -> 2.2173407 | E14: =IF(ISNA(VLOOKUP(B14,'[3]Coordonnees fixation au support'!$Z$4:$AA$2961,2,FALSE)),"",VLOOKUP(B14,'[3]Coordonnees fixation au support'!$Z$4:$AA$2961,2,FALSE)) -> 329.18 | F14: =IF(VLOOKUP(B14,'[3]Coordonnees fixation au support'!$DT$4:$DU$5000,2,FALSE)=0,"",VLOOKUP(B14,'[3]Coordonnees fixation au support'!$DT$4:$DU$5000,2,FALSE)) -> 0.66949608 | G14: =IF('[3]Structure Coordinate Report'!X18=0,"",'[3]Structure Coordinate Report'!X18) -> Soufflet | H14: =IF('[3]Structure Coordinate Report'!Q18=0,"",'[3]Structure Coordinate Report'!Q18) -> 2 | I14: =IF('[3]Structure Coordinate Report'!R18=0,"",'[3]Structure Coordinate Report'!R18) -> 312.60 | J14: =IF('[3]Coordonnees fixation au support'!EJ5=0,"",'[3]Coordonnees fixation au support'!EJ5) -> 2.2226561 | K14: =IF(ISNA(VLOOKUP(H14,'[3]Coordonnees fixation au support'!$Z$4:$AA$3546,2,FALSE)),"",VLOOKUP(H14,'[3]Coordonnees fixation au support'!$Z$4:$AA$3546,2,FALSE)) -> 328.8 | L14: =IF(VLOOKUP(H14,'[3]Coordonnees fixation au support'!$DW$4:$DX$5000,2,FALSE)=0,"",VLOOKUP(H14,'[3]Coordonnees fixation au support'!$DW$4:$DX$5000,2,FALSE)) -> 4.1052153 | M14: =IF('[3]Structure Coordinate Report'!V18=0,"",'[3]Structure Coordinate Report'!V18) -> 97.40 | N14: =IF(ISNA(INDEX('[3]Tableau de pose'!B12:R5001,MATCH('TABLEAU DE BORD'!B14,'[3]Tableau de pose'!C12:C5001,0),17)),"",INDEX('[3]Tableau de pose'!B12:R5001,MATCH('TABLEAU DE BORD'!B14,'[3]Tableau de pose'!C12:C5001,0),17)) -> aster228 | O14: =IF(ISNA(INDEX('[3]Tableau de pose'!B12:T5001,MATCH('TABLEAU DE BORD'!B14&"-"&'TABLEAU DE BORD'!$J$6,'[3]Tableau de pose'!T12:T5001,0),14)),"",INDEX('[3]Tableau de pose'!B12:T5001,MATCH('TABLEAU DE BORD'!B14&"-"&'TABLEAU DE BORD'!$J$6,'[3]Tableau de pose'!T12:T5001,0),14)) -> 1078.64 | P14: =IF(ISNA(INDEX('[3]Tableau de pose'!B12:T5001,MATCH('TABLEAU DE BORD'!B14&"-"&'TABLEAU DE BORD'!$K$6,'[3]Tableau de pose'!T12:T5001,0),14)),"",INDEX('[3]Tableau de pose'!B12:T5001,MATCH('TABLEAU DE BORD'!B14&"-"&'TABLEAU DE BORD'!$K$6,'[3]Tableau de pose'!T12:T5001,0),14)) -> 767.95 | Q14: =IF('[3]Structure Coordinate Report'!Z18=0,"",'[3]Structure Coordinate Report'!Z18) -> 240 Pa : ZVN zone normale | R14: =IF('[3]Structure Coordinate Report'!AB18=0,"",'[3]Structure Coordinate Report'!AB18) -> 2 ou 0 cm | W14: 150 | X14: 1.6 | Y14: 3.5
B15: =IF('[3]Structure Coordinate Report'!N19=0,"",'[3]Structure Coordinate Report'!N19) -> 2 | C15: =IF('[3]Structure Coordinate Report'!O19=0,"",'[3]Structure Coordinate Report'!O19) -> 312.60 | D15: =IF('[3]Coordonnees fixation au support'!EH6=0,"",'[3]Coordonnees fixation au support'!EH6) -> 2.2226561 | E15: =IF(ISNA(VLOOKUP(B15,'[3]Coordonnees fixation au support'!$Z$4:$AA$2961,2,FALSE)),"",VLOOKUP(B15,'[3]Coordonnees fixation au support'!$Z$4:$AA$2961,2,FALSE)) -> 328.8 | F15: =IF(VLOOKUP(B15,'[3]Coordonnees fixation au support'!$DT$4:$DU$5000,2,FALSE)=0,"",VLOOKUP(B15,'[3]Coordonnees fixation au support'!$DT$4:$DU$5000,2,FALSE)) -> 4.1052153 | G15: =IF('[3]Structure Coordinate Report'!X19=0,"",'[3]Structure Coordinate Report'!X19) -> Soufflet | H15: =IF('[3]Structure Coordinate Report'!Q19=0,"",'[3]Structure Coordinate Report'!Q19) -> 3 | I15: =IF('[3]Structure Coordinate Report'!R19=0,"",'[3]Structure Coordinate Report'!R19) -> 302.44 | J15: =IF('[3]Coordonnees fixation au support'!EJ6=0,"",'[3]Coordonnees fixation au support'!EJ6) -> 2.2196621 | K15: =IF(ISNA(VLOOKUP(H15,'[3]Coordonnees fixation au support'!$Z$4:$AA$3546,2,FALSE)),"",VLOOKUP(H15,'[3]Coordonnees fixation au support'!$Z$4:$AA$3546,2,FALSE)) -> 319.17 | L15: =IF(VLOOKUP(H15,'[3]Coordonnees fixation au support'!$DW$4:$DX$5000,2,FALSE)=0,"",VLOOKUP(H15,'[3]Coordonnees fixation au support'!$DW$4:$DX$5000,2,FALSE)) -> 5.1045122 | M15: =IF('[3]Structure Coordinate Report'!V19=0,"",'[3]Structure Coordinate Report'!V19) -> 351.92 | N15: =IF(ISNA(INDEX('[3]Tableau de pose'!B13:R5002,MATCH('TABLEAU DE BORD'!B15,'[3]Tableau de pose'!C13:C5002,0),17)),"",INDEX('[3]Tableau de pose'!B13:R5002,MATCH('TABLEAU DE BORD'!B15,'[3]Tableau de pose'!C13:C5002,0),17)) -> aster228 | O15: =IF(ISNA(INDEX('[3]Tableau de pose'!B13:T5002,MATCH('TABLEAU DE BORD'!B15&"-"&'TABLEAU DE BORD'!$J$6,'[3]Tableau de pose'!T13:T5002,0),14)),"",INDEX('[3]Tableau de pose'!B13:T5002,MATCH('TABLEAU DE BORD'!B15&"-"&'TABLEAU DE BORD'!$J$6,'[3]Tableau de pose'!T13:T5002,0),14)) -> 1535.53 | P15: =IF(ISNA(INDEX('[3]Tableau de pose'!B13:T5002,MATCH('TABLEAU DE BORD'!B15&"-"&'TABLEAU DE BORD'!$K$6,'[3]Tableau de pose'!T13:T5002,0),14)),"",INDEX('[3]Tableau de pose'!B13:T5002,MATCH('TABLEAU DE BORD'!B15&"-"&'TABLEAU DE BORD'!$K$6,'[3]Tableau de pose'!T13:T5002,0),14)) -> 1361.74 | Q15: =IF('[3]Structure Coordinate Report'!Z19=0,"",'[3]Structure Coordinate Report'!Z19) -> 240 Pa : ZVN zone normale | R15: =IF('[3]Structure Coordinate Report'!AB19=0,"",'[3]Structure Coordinate Report'!AB19) -> 2 ou 0 cm | W15: 225 | X15: 2.3 | Y15: 3.5
B16: =IF('[3]Structure Coordinate Report'!N20=0,"",'[3]Structure Coordinate Report'!N20) -> 3 | C16: =IF('[3]Structure Coordinate Report'!O20=0,"",'[3]Structure Coordinate Report'!O20) -> 302.44 | D16: =IF('[3]Coordonnees fixation au support'!EH7=0,"",'[3]Coordonnees fixation au support'!EH7) -> 2.2196621 | E16: =IF(ISNA(VLOOKUP(B16,'[3]Coordonnees fixation au support'!$Z$4:$AA$2961,2,FALSE)),"",VLOOKUP(B16,'[3]Coordonnees fixation au support'!$Z$4:$AA$2961,2,FALSE)) -> 319.17 | F16: =IF(VLOOKUP(B16,'[3]Coordonnees fixation au support'!$DT$4:$DU$5000,2,FALSE)=0,"",VLOOKUP(B16,'[3]Coordonnees fixation au support'!$DT$4:$DU$5000,2,FALSE)) -> 5.1045122 | G16: =IF('[3]Structure Coordinate Report'!X20=0,"",'[3]Structure Coordinate Report'!X20) -> Soufflet | H16: =IF('[3]Structure Coordinate Report'!Q20=0,"",'[3]Structure Coordinate Report'!Q20) -> 4 | I16: =IF('[3]Structure Coordinate Report'!R20=0,"",'[3]Structure Coordinate Report'!R20) -> 294.68 | J16: =IF('[3]Coordonnees fixation au support'!EJ7=0,"",'[3]Coordonnees fixation au support'!EJ7) -> 2.3729307 | K16: =IF(ISNA(VLOOKUP(H16,'[3]Coordonnees fixation au support'!$Z$4:$AA$3546,2,FALSE)),"",VLOOKUP(H16,'[3]Coordonnees fixation au support'!$Z$4:$AA$3546,2,FALSE)) -> 307.66 | L16: =IF(VLOOKUP(H16,'[3]Coordonnees fixation au support'!$DW$4:$DX$5000,2,FALSE)=0,"",VLOOKUP(H16,'[3]Coordonnees fixation au support'!$DW$4:$DX$5000,2,FALSE)) -> 4.6769803 | M16: =IF('[3]Structure Coordinate Report'!V20=0,"",'[3]Structure Coordinate Report'!V20) -> 134.25 | N16: =IF(ISNA(INDEX('[3]Tableau de pose'!B14:R5003,MATCH('TABLEAU DE BORD'!B16,'[3]Tableau de pose'!C14:C5003,0),17)),"",INDEX('[3]Tableau de pose'!B14:R5003,MATCH('TABLEAU DE BORD'!B16,'[3]Tableau de pose'!C14:C5003,0),17)) -> crocus228 | O16: =IF(ISNA(INDEX('[3]Tableau de pose'!B14:T5003,MATCH('TABLEAU DE BORD'!B16&"-"&'TABLEAU DE BORD'!$J$6,'[3]Tableau de pose'!T14:T5003,0),14)),"",INDEX('[3]Tableau de pose'!B14:T5003,MATCH('TABLEAU DE BORD'!B16&"-"&'TABLEAU DE BORD'!$J$6,'[3]Tableau de pose'!T14:T5003,0),14)) -> 1106.56 | P16: =IF(ISNA(INDEX('[3]Tableau de pose'!B14:T5003,MATCH('TABLEAU DE BORD'!B16&"-"&'TABLEAU DE BORD'!$K$6,'[3]Tableau de pose'!T14:T5003,0),14)),"",INDEX('[3]Tableau de pose'!B14:T5003,MATCH('TABLEAU DE BORD'!B16&"-"&'TABLEAU DE BORD'!$K$6,'[3]Tableau de pose'!T14:T5003,0),14)) -> 999.47 | Q16: =IF('[3]Structure Coordinate Report'!Z20=0,"",'[3]Structure Coordinate Report'!Z20) -> 240 Pa : ZVN zone normale | R16: =IF('[3]Structure Coordinate Report'!AB20=0,"",'[3]Structure Coordinate Report'!AB20) -> 2 ou 0 cm | W16: 400 | X16: 3.4 | Y16: 7.2
B17: =IF('[3]Structure Coordinate Report'!N21=0,"",'[3]Structure Coordinate Report'!N21) -> 4 | C17: =IF('[3]Structure Coordinate Report'!O21=0,"",'[3]Structure Coordinate Report'!O21) -> 294.68 | D17: =IF('[3]Coordonnees fixation au support'!EH8=0,"",'[3]Coordonnees fixation au support'!EH8) -> 2.3729307 | E17: =IF(ISNA(VLOOKUP(B17,'[3]Coordonnees fixation au support'!$Z$4:$AA$2961,2,FALSE)),"",VLOOKUP(B17,'[3]Coordonnees fixation au support'!$Z$4:$AA$2961,2,FALSE)) -> 307.66 | F17: =IF(VLOOKUP(B17,'[3]Coordonnees fixation au support'!$DT$4:$DU$5000,2,FALSE)=0,"",VLOOKUP(B17,'[3]Coordonnees fixation au support'!$DT$4:$DU$5000,2,FALSE)) -> 4.6769803 | G17: =IF('[3]Structure Coordinate Report'!X21=0,"",'[3]Structure Coordinate Report'!X21) -> Soufflet | H17: =IF('[3]Structure Coordinate Report'!Q21=0,"",'[3]Structure Coordinate Report'!Q21) -> 5 | I17: =IF('[3]Structure Coordinate Report'!R21=0,"",'[3]Structure Coordinate Report'!R21) -> 283.01 | J17: =IF('[3]Coordonnees fixation au support'!EJ8=0,"",'[3]Coordonnees fixation au support'!EJ8) -> 2.651377 | K17: =IF(ISNA(VLOOKUP(H17,'[3]Coordonnees fixation au support'!$Z$4:$AA$3546,2,FALSE)),"",VLOOKUP(H17,'[3]Coordonnees fixation au support'!$Z$4:$AA$3546,2,FALSE)) -> 296.88 | L17: =IF(VLOOKUP(H17,'[3]Coordonnees fixation au support'!$DW$4:$DX$5000,2,FALSE)=0,"",VLOOKUP(H17,'[3]Coordonnees fixation au support'!$DW$4:$DX$5000,2,FALSE)) -> 4.8423413 | M17: =IF('[3]Structure Coordinate Report'!V21=0,"",'[3]Structure Coordinate Report'!V21) -> 240.93 | N17: =IF(ISNA(INDEX('[3]Tableau de pose'!B15:R5004,MATCH('TABLEAU DE BORD'!B17,'[3]Tableau de pose'!C15:C5004,0),17)),"",INDEX('[3]Tableau de pose'!B15:R5004,MATCH('TABLEAU DE BORD'!B17,'[3]Tableau de pose'!C15:C5004,0),17)) -> crocus228 | O17: =IF(ISNA(INDEX('[3]Tableau de pose'!B15:T5004,MATCH('TABLEAU DE BORD'!B17&"-"&'TABLEAU DE BORD'!$J$6,'[3]Tableau de pose'!T15:T5004,0),14)),"",INDEX('[3]Tableau de pose'!B15:T5004,MATCH('TABLEAU DE BORD'!B17&"-"&'TABLEAU DE BORD'!$J$6,'[3]Tableau de pose'!T15:T5004,0),14)) -> 1090.4 | P17: =IF(ISNA(INDEX('[3]Tableau de pose'!B15:T5004,MATCH('TABLEAU DE BORD'!B17&"-"&'TABLEAU DE BORD'!$K$6,'[3]Tableau de pose'!T15:T5004,0),14)),"",INDEX('[3]Tableau de pose'!B15:T5004,MATCH('TABLEAU DE BORD'!B17&"-"&'TABLEAU DE BORD'!$K$6,'[3]Tableau de pose'!T15:T5004,0),14)) -> 987.84 | Q17: =IF('[3]Structure Coordinate Report'!Z21=0,"",'[3]Structure Coordinate Report'!Z21) -> 240 Pa : ZVN zone normale | R17: =IF('[3]Structure Coordinate Report'!AB21=0,"",'[3]Structure Coordinate Report'!AB21) -> 2 ou 0 cm
B18: =IF('[3]Structure Coordinate Report'!N22=0,"",'[3]Structure Coordinate Report'!N22) -> 5 | C18: =IF('[3]Structure Coordinate Report'!O22=0,"",'[3]Structure Coordinate Report'!O22) -> 283.01 | D18: =IF('[3]Coordonnees fixation au support'!EH9=0,"",'[3]Coordonnees fixation au support'!EH9) -> 2.651377 | E18: =IF(ISNA(VLOOKUP(B18,'[3]Coordonnees fixation au support'!$Z$4:$AA$2961,2,FALSE)),"",VLOOKUP(B18,'[3]Coordonnees fixation au support'!$Z$4:$AA$2961,2,FALSE)) -> 296.88 | F18: =IF(VLOOKUP(B18,'[3]Coordonnees fixation au support'!$DT$4:$DU$5000,2,FALSE)=0,"",VLOOKUP(B18,'[3]Coordonnees fixation au support'!$DT$4:$DU$5000,2,FALSE)) -> 4.8423413 | G18: =IF('[3]Structure Coordinate Report'!X22=0,"",'[3]Structure Coordinate Report'!X22) -> Pas Soufflet | H18: =IF('[3]Structure Coordinate Report'!Q22=0,"",'[3]Structure Coordinate Report'!Q22) -> 6 | I18: =IF('[3]Structure Coordinate Report'!R22=0,"",'[3]Structure Coordinate Report'!R22) -> 266.35 | J18: =IF('[3]Coordonnees fixation au support'!EJ9=0,"",'[3]Coordonnees fixation au support'!EJ9) -> 2.630019 | K18: =IF(ISNA(VLOOKUP(H18,'[3]Coordonnees fixation au support'!$Z$4:$AA$3546,2,FALSE)),"",VLOOKUP(H18,'[3]Coordonnees fixation au support'!$Z$4:$AA$3546,2,FALSE)) -> 287.08 | L18: =IF(VLOOKUP(H18,'[3]Coordonnees fixation au support'!$DW$4:$DX$5000,2,FALSE)=0,"",VLOOKUP(H18,'[3]Coordonnees fixation au support'!$DW$4:$DX$5000,2,FALSE)) -> 4.7894335 | M18: =IF('[3]Structure Coordinate Report'!V22=0,"",'[3]Structure Coordinate Report'!V22) -> 308.35 | N18: =IF(ISNA(INDEX('[3]Tableau de pose'!B16:R5005,MATCH('TABLEAU DE BORD'!B18,'[3]Tableau de pose'!C16:C5005,0),17)),"",INDEX('[3]Tableau de pose'!B16:R5005,MATCH('TABLEAU DE BORD'!B18,'[3]Tableau de pose'!C16:C5005,0),17)) -> crocus228 | O18: =IF(ISNA(INDEX('[3]Tableau de pose'!B16:T5005,MATCH('TABLEAU DE BORD'!B18&"-"&'TABLEAU DE BORD'!$J$6,'[3]Tableau de pose'!T16:T5005,0),14)),"",INDEX('[3]Tableau de pose'!B16:T5005,MATCH('TABLEAU DE BORD'!B18&"-"&'TABLEAU DE BORD'!$J$6,'[3]Tableau de pose'!T16:T5005,0),14)) -> 1118.17 | P18: =IF(ISNA(INDEX('[3]Tableau de pose'!B16:T5005,MATCH('TABLEAU DE BORD'!B18&"-"&'TABLEAU DE BORD'!$K$6,'[3]Tableau de pose'!T16:T5005,0),14)),"",INDEX('[3]Tableau de pose'!B16:T5005,MATCH('TABLEAU DE BORD'!B18&"-"&'TABLEAU DE BORD'!$K$6,'[3]Tableau de pose'!T16:T5005,0),14)) -> 1023.66 | Q18: =IF('[3]Structure Coordinate Report'!Z22=0,"",'[3]Structure Coordinate Report'!Z22) -> 240 Pa : ZVN zone normale | R18: =IF('[3]Structure Coordinate Report'!AB22=0,"",'[3]Structure Coordinate Report'!AB22) -> 2 ou 0 cm
B19: =IF('[3]Structure Coordinate Report'!N23=0,"",'[3]Structure Coordinate Report'!N23) -> 6 | C19: =IF('[3]Structure Coordinate Report'!O23=0,"",'[3]Structure Coordinate Report'!O23) -> 266.35 | D19: =IF('[3]Coordonnees fixation au support'!EH10=0,"",'[3]Coordonnees fixation au support'!EH10) -> 2.630019 | E19: =IF(ISNA(VLOOKUP(B19,'[3]Coordonnees fixation au support'!$Z$4:$AA$2961,2,FALSE)),"",VLOOKUP(B19,'[3]Coordonnees fixation au support'!$Z$4:$AA$2961,2,FALSE)) -> 287.08 | F19: =IF(VLOOKUP(B19,'[3]Coordonnees fixation au support'!$DT$4:$DU$5000,2,FALSE)=0,"",VLOOKUP(B19,'[3]Coordonnees fixation au support'!$DT$4:$DU$5000,2,FALSE)) -> 4.7894335 | G19: =IF('[3]Structure Coordinate Report'!X23=0,"",'[3]Structure Coordinate Report'!X23) -> Pas Soufflet | H19: =IF('[3]Structure Coordinate Report'!Q23=0,"",'[3]Structure Coordinate Report'!Q23) -> 7 | I19: =IF('[3]Structure Coordinate Report'!R23=0,"",'[3]Structure Coordinate Report'!R23) -> 264.32 | J19: =IF('[3]Coordonnees fixation au support'!EJ10=0,"",'[3]Coordonnees fixation au support'!EJ10) -> 2.6912636 | K19: =IF(ISNA(VLOOKUP(H19,'[3]Coordonnees fixation au support'!$Z$4:$AA$3546,2,FALSE)),"",VLOOKUP(H19,'[3]Coordonnees fixation au support'!$Z$4:$AA$3546,2,FALSE)) -> 285.24 | L19: =IF(VLOOKUP(H19,'[3]Coordonnees fixation au support'!$DW$4:$DX$5000,2,FALSE)=0,"",VLOOKUP(H19,'[3]Coordonnees fixation au support'!$DW$4:$DX$5000,2,FALSE)) -> 4.578505 | M19: =IF('[3]Structure Coordinate Report'!V23=0,"",'[3]Structure Coordinate Report'!V23) -> 301.05 | N19: =IF(ISNA(INDEX('[3]Tableau de pose'!B17:R5006,MATCH('TABLEAU DE BORD'!B19,'[3]Tableau de pose'!C17:C5006,0),17)),"",INDEX('[3]Tableau de pose'!B17:R5006,MATCH('TABLEAU DE BORD'!B19,'[3]Tableau de pose'!C17:C5006,0),17)) -> crocus228 | O19: =IF(ISNA(INDEX('[3]Tableau de pose'!B17:T5006,MATCH('TABLEAU DE BORD'!B19&"-"&'TABLEAU DE BORD'!$J$6,'[3]Tableau de pose'!T17:T5006,0),14)),"",INDEX('[3]Tableau de pose'!B17:T5006,MATCH('TABLEAU DE BORD'!B19&"-"&'TABLEAU DE BORD'!$J$6,'[3]Tableau de pose'!T17:T5006,0),14)) -> 1120.83 | P19: =IF(ISNA(INDEX('[3]Tableau de pose'!B17:T5006,MATCH('TABLEAU DE BORD'!B19&"-"&'TABLEAU DE BORD'!$K$6,'[3]Tableau de pose'!T17:T5006,0),14)),"",INDEX('[3]Tableau de pose'!B17:T5006,MATCH('TABLEAU DE BORD'!B19&"-"&'TABLEAU DE BORD'!$K$6,'[3]Tableau de pose'!T17:T5006,0),14)) -> 1029.21 | Q19: =IF('[3]Structure Coordinate Report'!Z23=0,"",'[3]Structure Coordinate Report'!Z23) -> 240 Pa : ZVN zone normale | R19: =IF('[3]Structure Coordinate Report'!AB23=0,"",'[3]Structure Coordinate Report'!AB23) -> 2 ou 0 cm
B20: =IF('[3]Structure Coordinate Report'!N24=0,"",'[3]Structure Coordinate Report'!N24) -> 7 | C20: =IF('[3]Structure Coordinate Report'!O24=0,"",'[3]Structure Coordinate Report'!O24) -> 264.32 | D20: =IF('[3]Coordonnees fixation au support'!EH11=0,"",'[3]Coordonnees fixation au support'!EH11) -> 2.6912636 | E20: =IF(ISNA(VLOOKUP(B20,'[3]Coordonnees fixation au support'!$Z$4:$AA$2961,2,FALSE)),"",VLOOKUP(B20,'[3]Coordonnees fixation au support'!$Z$4:$AA$2961,2,FALSE)) -> 285.24 | F20: =IF(VLOOKUP(B20,'[3]Coordonnees fixation au support'!$DT$4:$DU$5000,2,FALSE)=0,"",VLOOKUP(B20,'[3]Coordonnees fixation au support'!$DT$4:$DU$5000,2,FALSE)) -> 4.578505 | G20: =IF('[3]Structure Coordinate Report'!X24=0,"",'[3]Structure Coordinate Report'!X24) -> Pas Soufflet | H20: =IF('[3]Structure Coordinate Report'!Q24=0,"",'[3]Structure Coordinate Report'!Q24) -> 8 | I20: =IF('[3]Structure Coordinate Report'!R24=0,"",'[3]Structure Coordinate Report'!R24) -> 284.92 | J20: =IF('[3]Coordonnees fixation au support'!EJ11=0,"",'[3]Coordonnees fixation au support'!EJ11) -> 1.7828909 | K20: =IF(ISNA(VLOOKUP(H20,'[3]Coordonnees fixation au support'!$Z$4:$AA$3546,2,FALSE)),"",VLOOKUP(H20,'[3]Coordonnees fixation au support'!$Z$4:$AA$3546,2,FALSE)) -> 300.11 | L20: =IF(VLOOKUP(H20,'[3]Coordonnees fixation au support'!$DW$4:$DX$5000,2,FALSE)=0,"",VLOOKUP(H20,'[3]Coordonnees fixation au support'!$DW$4:$DX$5000,2,FALSE)) -> 2.7460827 | M20: =IF('[3]Structure Coordinate Report'!V24=0,"",'[3]Structure Coordinate Report'!V24) -> 278.14 | N20: =IF(ISNA(INDEX('[3]Tableau de pose'!B18:R5007,MATCH('TABLEAU DE BORD'!B20,'[3]Tableau de pose'!C18:C5007,0),17)),"",INDEX('[3]Tableau de pose'!B18:R5007,MATCH('TABLEAU DE BORD'!B20,'[3]Tableau de pose'!C18:C5007,0),17)) -> crocus228 | O20: =IF(ISNA(INDEX('[3]Tableau de pose'!B18:T5007,MATCH('TABLEAU DE BORD'!B20&"-"&'TABLEAU DE BORD'!$J$6,'[3]Tableau de pose'!T18:T5007,0),14)),"",INDEX('[3]Tableau de pose'!B18:T5007,MATCH('TABLEAU DE BORD'!B20&"-"&'TABLEAU DE BORD'!$J$6,'[3]Tableau de pose'!T18:T5007,0),14)) -> 1112.61 | P20: =IF(ISNA(INDEX('[3]Tableau de pose'!B18:T5007,MATCH('TABLEAU DE BORD'!B20&"-"&'TABLEAU DE BORD'!$K$6,'[3]Tableau de pose'!T18:T5007,0),14)),"",INDEX('[3]Tableau de pose'!B18:T5007,MATCH('TABLEAU DE BORD'!B20&"-"&'TABLEAU DE BORD'!$K$6,'[3]Tableau de pose'!T18:T5007,0),14)) -> 1020.92 | Q20: =IF('[3]Structure Coordinate Report'!Z24=0,"",'[3]Structure Coordinate Report'!Z24) -> 240 Pa : ZVN zone normale | R20: =IF('[3]Structure Coordinate Report'!AB24=0,"",'[3]Structure Coordinate Report'!AB24) -> 2 ou 0 cm
B21: =IF('[3]Structure Coordinate Report'!N25=0,"",'[3]Structure Coordinate Report'!N25) -> 8 | C21: =IF('[3]Structure Coordinate Report'!O25=0,"",'[3]Structure Coordinate Report'!O25) -> 284.92 | D21: =IF('[3]Coordonnees fixation au support'!EH12=0,"",'[3]Coordonnees fixation au support'!EH12) -> 1.7828909 | E21: =IF(ISNA(VLOOKUP(B21,'[3]Coordonnees fixation au support'!$Z$4:$AA$2961,2,FALSE)),"",VLOOKUP(B21,'[3]Coordonnees fixation au support'!$Z$4:$AA$2961,2,FALSE)) -> 300.11 | F21: =IF(VLOOKUP(B21,'[3]Coordonnees fixation au support'!$DT$4:$DU$5000,2,FALSE)=0,"",VLOOKUP(B21,'[3]Coordonnees fixation au support'!$DT$4:$DU$5000,2,FALSE)) -> 2.7460827 | G21: =IF('[3]Structure Coordinate Report'!X25=0,"",'[3]Structure Coordinate Report'!X25) -> Soufflet | H21: =IF('[3]Structure Coordinate Report'!Q25=0,"",'[3]Structure Coordinate Report'!Q25) -> 10/9 | I21: =IF('[3]Structure Coordinate Report'!R25=0,"",'[3]Structure Coordinate Report'!R25) -> 276.89 | J21: =IF('[3]Coordonnees fixation au support'!EJ12=0,"",'[3]Coordonnees fixation au support'!EJ12) -> 1.7879877 | K21: =IF(ISNA(VLOOKUP(H21,'[3]Coordonnees fixation au support'!$Z$4:$AA$3546,2,FALSE)),"",VLOOKUP(H21,'[3]Coordonnees fixation au support'!$Z$4:$AA$3546,2,FALSE)) -> 291.18 | L21: =IF(VLOOKUP(H21,'[3]Coordonnees fixation au support'!$DW$4:$DX$5000,2,FALSE)=0,"",VLOOKUP(H21,'[3]Coordonnees fixation au support'!$DW$4:$DX$5000,2,FALSE)) -> 5.0033674 | M21: =IF('[3]Structure Coordinate Report'!V25=0,"",'[3]Structure Coordinate Report'!V25) -> 265.43 | N21: =IF(ISNA(INDEX('[3]Tableau de pose'!B19:R5008,MATCH('TABLEAU DE BORD'!B21,'[3]Tableau de pose'!C19:C5008,0),17)),"",INDEX('[3]Tableau de pose'!B19:R5008,MATCH('TABLEAU DE BORD'!B21,'[3]Tableau de pose'!C19:C5008,0),17)) -> aster228 | O21: =IF(ISNA(INDEX('[3]Tableau de pose'!B19:T5008,MATCH('TABLEAU DE BORD'!B21&"-"&'TABLEAU DE BORD'!$J$6,'[3]Tableau de pose'!T19:T5008,0),14)),"",INDEX('[3]Tableau de pose'!B19:T5008,MATCH('TABLEAU DE BORD'!B21&"-"&'TABLEAU DE BORD'!$J$6,'[3]Tableau de pose'!T19:T5008,0),14)) -> 1344.8 | P21: =IF(ISNA(INDEX('[3]Tableau de pose'!B19:T5008,MATCH('TABLEAU DE BORD'!B21&"-"&'TABLEAU DE BORD'!$K$6,'[3]Tableau de pose'!T19:T5008,0),14)),"",INDEX('[3]Tableau de pose'!B19:T5008,MATCH('TABLEAU DE BORD'!B21&"-"&'TABLEAU DE BORD'!$K$6,'[3]Tableau de pose'!T19:T5008,0),14)) -> 1150.68 | Q21: =IF('[3]Structure Coordinate Report'!Z25=0,"",'[3]Structure Coordinate Report'!Z25) -> 240 Pa : ZVN zone normale | R21: =IF('[3]Structure Coordinate Report'!AB25=0,"",'[3]Structure Coordinate Report'!AB25) -> 2 ou 0 cm
B22: =IF('[3]Structure Coordinate Report'!N26=0,"",'[3]Structure Coordinate Report'!N26) -> 10/9 | C22: =IF('[3]Structure Coordinate Report'!O26=0,"",'[3]Structure Coordinate Report'!O26) -> 276.89 | D22: =IF('[3]Coordonnees fixation au support'!EH13=0,"",'[3]Coordonnees fixation au support'!EH13) -> 1.7879877 | E22: =IF(ISNA(VLOOKUP(B22,'[3]Coordonnees fixation au support'!$Z$4:$AA$2961,2,FALSE)),"",VLOOKUP(B22,'[3]Coordonnees fixation au support'!$Z$4:$AA$2961,2,FALSE)) -> 291.18 | F22: =IF(VLOOKUP(B22,'[3]Coordonnees fixation au support'!$DT$4:$DU$5000,2,FALSE)=0,"",VLOOKUP(B22,'[3]Coordonnees fixation au support'!$DT$4:$DU$5000,2,FALSE)) -> 5.0033674 | G22: =IF('[3]Structure Coordinate Report'!X26=0,"",'[3]Structure Coordinate Report'!X26) -> Soufflet | H22: =IF('[3]Structure Coordinate Report'!Q26=0,"",'[3]Structure Coordinate Report'!Q26) -> 11/10 | I22: =IF('[3]Structure Coordinate Report'!R26=0,"",'[3]Structure Coordinate Report'!R26) -> 282.07 | J22: =IF('[3]Coordonnees fixation au support'!EJ13=0,"",'[3]Coordonnees fixation au support'!EJ13) -> 1.480608 | K22: =IF(ISNA(VLOOKUP(H22,'[3]Coordonnees fixation au support'!$Z$4:$AA$3546,2,FALSE)),"",VLOOKUP(H22,'[3]Coordonnees fixation au support'!$Z$4:$AA$3546,2,FALSE)) -> 302.81 | L22: =IF(VLOOKUP(H22,'[3]Coordonnees fixation au support'!$DW$4:$DX$5000,2,FALSE)=0,"",VLOOKUP(H22,'[3]Coordonnees fixation au support'!$DW$4:$DX$5000,2,FALSE)) -> 3.9919962 | M22: =IF('[3]Structure Coordinate Report'!V26=0,"",'[3]Structure Coordinate Report'!V26) -> 270.17 | N22: =IF(ISNA(INDEX('[3]Tableau de pose'!B20:R5009,MATCH('TABLEAU DE BORD'!B22,'[3]Tableau de pose'!C20:C5009,0),17)),"",INDEX('[3]Tableau de pose'!B20:R5009,MATCH('TABLEAU DE BORD'!B22,'[3]Tableau de pose'!C20:C5009,0),17)) -> aster228 | O22: =IF(ISNA(INDEX('[3]Tableau de pose'!B20:T5009,MATCH('TABLEAU DE BORD'!B22&"-"&'TABLEAU DE BORD'!$J$6,'[3]Tableau de pose'!T20:T5009,0),14)),"",INDEX('[3]Tableau de pose'!B20:T5009,MATCH('TABLEAU DE BORD'!B22&"-"&'TABLEAU DE BORD'!$J$6,'[3]Tableau de pose'!T20:T5009,0),14)) -> 1627.79 | P22: =IF(ISNA(INDEX('[3]Tableau de pose'!B20:T5009,MATCH('TABLEAU DE BORD'!B22&"-"&'TABLEAU DE BORD'!$K$6,'[3]Tableau de pose'!T20:T5009,0),14)),"",INDEX('[3]Tableau de pose'!B20:T5009,MATCH('TABLEAU DE BORD'!B22&"-"&'TABLEAU DE BORD'!$K$6,'[3]Tableau de pose'!T20:T5009,0),14)) -> 1413.58 | Q22: =IF('[3]Structure Coordinate Report'!Z26=0,"",'[3]Structure Coordinate Report'!Z26) -> 240 Pa : ZVN zone normale | R22: =IF('[3]Structure Coordinate Report'!AB26=0,"",'[3]Structure Coordinate Report'!AB26) -> 2 ou 0 cm
B23: =IF('[3]Structure Coordinate Report'!N27=0,"",'[3]Structure Coordinate Report'!N27) -> 11/10 | C23: =IF('[3]Structure Coordinate Report'!O27=0,"",'[3]Structure Coordinate Report'!O27) -> 282.07 | D23: =IF('[3]Coordonnees fixation au support'!EH14=0,"",'[3]Coordonnees fixation au support'!EH14) -> 1.480608 | E23: =IF(ISNA(VLOOKUP(B23,'[3]Coordonnees fixation au support'!$Z$4:$AA$2961,2,FALSE)),"",VLOOKUP(B23,'[3]Coordonnees fixation au support'!$Z$4:$AA$2961,2,FALSE)) -> 302.81 | F23: =IF(VLOOKUP(B23,'[3]Coordonnees fixation au support'!$DT$4:$DU$5000,2,FALSE)=0,"",VLOOKUP(B23,'[3]Coordonnees fixation au support'!$DT$4:$DU$5000,2,FALSE)) -> 3.9919962 | G23: =IF('[3]Structure Coordinate Report'!X27=0,"",'[3]Structure Coordinate Report'!X27) -> Pas Soufflet | H23: =IF('[3]Structure Coordinate Report'!Q27=0,"",'[3]Structure Coordinate Report'!Q27) -> 12/11 | I23: =IF('[3]Structure Coordinate Report'!R27=0,"",'[3]Structure Coordinate Report'!R27) -> 285.47 | J23: =IF('[3]Coordonnees fixation au support'!EJ14=0,"",'[3]Coordonnees fixation au support'!EJ14) -> 1.5001667 | K23: =IF(ISNA(VLOOKUP(H23,'[3]Coordonnees fixation au support'!$Z$4:$AA$3546,2,FALSE)),"",VLOOKUP(H23,'[3]Coordonnees fixation au support'!$Z$4:$AA$3546,2,FALSE)) -> 309.27 | L23: =IF(VLOOKUP(H23,'[3]Coordonnees fixation au support'!$DW$4:$DX$5000,2,FALSE)=0,"",VLOOKUP(H23,'[3]Coordonnees fixation au support'!$DW$4:$DX$5000,2,FALSE)) -> 3.967323 | M23: =IF('[3]Structure Coordinate Report'!V27=0,"",'[3]Structure Coordinate Report'!V27) -> 380.28 | N23: =IF(ISNA(INDEX('[3]Tableau de pose'!B21:R5010,MATCH('TABLEAU DE BORD'!B23,'[3]Tableau de pose'!C21:C5010,0),17)),"",INDEX('[3]Tableau de pose'!B21:R5010,MATCH('TABLEAU DE BORD'!B23,'[3]Tableau de pose'!C21:C5010,0),17)) -> aster228 | O23: =IF(ISNA(INDEX('[3]Tableau de pose'!B21:T5010,MATCH('TABLEAU DE BORD'!B23&"-"&'TABLEAU DE BORD'!$J$6,'[3]Tableau de pose'!T21:T5010,0),14)),"",INDEX('[3]Tableau de pose'!B21:T5010,MATCH('TABLEAU DE BORD'!B23&"-"&'TABLEAU DE BORD'!$J$6,'[3]Tableau de pose'!T21:T5010,0),14)) -> 1635.97 | P23: =IF(ISNA(INDEX('[3]Tableau de pose'!B21:T5010,MATCH('TABLEAU DE BORD'!B23&"-"&'TABLEAU DE BORD'!$K$6,'[3]Tableau de pose'!T21:T5010,0),14)),"",INDEX('[3]Tableau de pose'!B21:T5010,MATCH('TABLEAU DE BORD'!B23&"-"&'TABLEAU DE BORD'!$K$6,'[3]Tableau de pose'!T21:T5010,0),14)) -> 1436.07 | Q23: =IF('[3]Structure Coordinate Report'!Z27=0,"",'[3]Structure Coordinate Report'!Z27) -> 240 Pa : ZVN zone normale | R23: =IF('[3]Structure Coordinate Report'!AB27=0,"",'[3]Structure Coordinate Report'!AB27) -> 2 ou 0 cm
B24: =IF('[3]Structure Coordinate Report'!N28=0,"",'[3]Structure Coordinate Report'!N28) -> 12/11 | C24: =IF('[3]Structure Coordinate Report'!O28=0,"",'[3]Structure Coordinate Report'!O28) -> 285.47 | D24: =IF('[3]Coordonnees fixation au support'!EH15=0,"",'[3]Coordonnees fixation au support'!EH15) -> 1.5001667 | E24: =IF(ISNA(VLOOKUP(B24,'[3]Coordonnees fixation au support'!$Z$4:$AA$2961,2,FALSE)),"",VLOOKUP(B24,'[3]Coordonnees fixation au support'!$Z$4:$AA$2961,2,FALSE)) -> 309.27 | F24: =IF(VLOOKUP(B24,'[3]Coordonnees fixation au support'!$DT$4:$DU$5000,2,FALSE)=0,"",VLOOKUP(B24,'[3]Coordonnees fixation au support'!$DT$4:$DU$5000,2,FALSE)) -> 3.967323 | G24: =IF('[3]Structure Coordinate Report'!X28=0,"",'[3]Structure Coordinate Report'!X28) -> Pas Soufflet | H24: =IF('[3]Structure Coordinate Report'!Q28=0,"",'[3]Structure Coordinate Report'!Q28) -> 13/12 | I24: =IF('[3]Structure Coordinate Report'!R28=0,"",'[3]Structure Coordinate Report'!R28) -> 290.38 | J24: =IF('[3]Coordonnees fixation au support'!EJ15=0,"",'[3]Coordonnees fixation au support'!EJ15) -> 1.784965 | K24: =IF(ISNA(VLOOKUP(H24,'[3]Coordonnees fixation au support'!$Z$4:$AA$3546,2,FALSE)),"",VLOOKUP(H24,'[3]Coordonnees fixation au support'!$Z$4:$AA$3546,2,FALSE)) -> 314.8 | L24: =IF(VLOOKUP(H24,'[3]Coordonnees fixation au support'!$DW$4:$DX$5000,2,FALSE)=0,"",VLOOKUP(H24,'[3]Coordonnees fixation au support'!$DW$4:$DX$5000,2,FALSE)) -> 5.0279396 | M24: =IF('[3]Structure Coordinate Report'!V28=0,"",'[3]Structure Coordinate Report'!V28) -> 398.80 | N24: =IF(ISNA(INDEX('[3]Tableau de pose'!B22:R5011,MATCH('TABLEAU DE BORD'!B24,'[3]Tableau de pose'!C22:C5011,0),17)),"",INDEX('[3]Tableau de pose'!B22:R5011,MATCH('TABLEAU DE BORD'!B24,'[3]Tableau de pose'!C22:C5011,0),17)) -> aster228 | O24: =IF(ISNA(INDEX('[3]Tableau de pose'!B22:T5011,MATCH('TABLEAU DE BORD'!B24&"-"&'TABLEAU DE BORD'!$J$6,'[3]Tableau de pose'!T22:T5011,0),14)),"",INDEX('[3]Tableau de pose'!B22:T5011,MATCH('TABLEAU DE BORD'!B24&"-"&'TABLEAU DE BORD'!$J$6,'[3]Tableau de pose'!T22:T5011,0),14)) -> 1660.29 | P24: =IF(ISNA(INDEX('[3]Tableau de pose'!B22:T5011,MATCH('TABLEAU DE BORD'!B24&"-"&'TABLEAU DE BORD'!$K$6,'[3]Tableau de pose'!T22:T5011,0),14)),"",INDEX('[3]Tableau de pose'!B22:T5011,MATCH('TABLEAU DE BORD'!B24&"-"&'TABLEAU DE BORD'!$K$6,'[3]Tableau de pose'!T22:T5011,0),14)) -> 1468.38 | Q24: =IF('[3]Structure Coordinate Report'!Z28=0,"",'[3]Structure Coordinate Report'!Z28) -> 240 Pa : ZVN zone normale | R24: =IF('[3]Structure Coordinate Report'!AB28=0,"",'[3]Structure Coordinate Report'!AB28) -> 2 ou 0 cm
B25: =IF('[3]Structure Coordinate Report'!N29=0,"",'[3]Structure Coordinate Report'!N29) -> 13/12 | C25: =IF('[3]Structure Coordinate Report'!O29=0,"",'[3]Structure Coordinate Report'!O29) -> 290.38 | D25: =IF('[3]Coordonnees fixation au support'!EH16=0,"",'[3]Coordonnees fixation au support'!EH16) -> 1.784965 | E25: =IF(ISNA(VLOOKUP(B25,'[3]Coordonnees fixation au support'!$Z$4:$AA$2961,2,FALSE)),"",VLOOKUP(B25,'[3]Coordonnees fixation au support'!$Z$4:$AA$2961,2,FALSE)) -> 314.8 | F25: =IF(VLOOKUP(B25,'[3]Coordonnees fixation au support'!$DT$4:$DU$5000,2,FALSE)=0,"",VLOOKUP(B25,'[3]Coordonnees fixation au support'!$DT$4:$DU$5000,2,FALSE)) -> 5.0279396 | G25: =IF('[3]Structure Coordinate Report'!X29=0,"",'[3]Structure Coordinate Report'!X29) -> Soufflet | H25: =IF('[3]Structure Coordinate Report'!Q29=0,"",'[3]Structure Coordinate Report'!Q29) -> 14/13 | I25: =IF('[3]Structure Coordinate Report'!R29=0,"",'[3]Structure Coordinate Report'!R29) -> 283.94 | J25: =IF('[3]Coordonnees fixation au support'!EJ16=0,"",'[3]Coordonnees fixation au support'!EJ16) -> 1.5202631 | K25: =IF(ISNA(VLOOKUP(H25,'[3]Coordonnees fixation au support'!$Z$4:$AA$3546,2,FALSE)),"",VLOOKUP(H25,'[3]Coordonnees fixation au support'!$Z$4:$AA$3546,2,FALSE)) -> 304.61 | L25: =IF(VLOOKUP(H25,'[3]Coordonnees fixation au support'!$DW$4:$DX$5000,2,FALSE)=0,"",VLOOKUP(H25,'[3]Coordonnees fixation au support'!$DW$4:$DX$5000,2,FALSE)) -> 4.1063332 | M25: =IF('[3]Structure Coordinate Report'!V29=0,"",'[3]Structure Coordinate Report'!V29) -> 331.76 | N25: =IF(ISNA(INDEX('[3]Tableau de pose'!B23:R5012,MATCH('TABLEAU DE BORD'!B25,'[3]Tableau de pose'!C23:C5012,0),17)),"",INDEX('[3]Tableau de pose'!B23:R5012,MATCH('TABLEAU DE BORD'!B25,'[3]Tableau de pose'!C23:C5012,0),17)) -> aster228 | O25: =IF(ISNA(INDEX('[3]Tableau de pose'!B23:T5012,MATCH('TABLEAU DE BORD'!B25&"-"&'TABLEAU DE BORD'!$J$6,'[3]Tableau de pose'!T23:T5012,0),14)),"",INDEX('[3]Tableau de pose'!B23:T5012,MATCH('TABLEAU DE BORD'!B25&"-"&'TABLEAU DE BORD'!$J$6,'[3]Tableau de pose'!T23:T5012,0),14)) -> 1679.18 | P25: =IF(ISNA(INDEX('[3]Tableau de pose'!B23:T5012,MATCH('TABLEAU DE BORD'!B25&"-"&'TABLEAU DE BORD'!$K$6,'[3]Tableau de pose'!T23:T5012,0),14)),"",INDEX('[3]Tableau de pose'!B23:T5012,MATCH('TABLEAU DE BORD'!B25&"-"&'TABLEAU DE BORD'!$K$6,'[3]Tableau de pose'!T23:T5012,0),14)) -> 1469.01 | Q25: =IF('[3]Structure Coordinate Report'!Z29=0,"",'[3]Structure Coordinate Report'!Z29) -> 240 Pa : ZVN zone normale | R25: =IF('[3]Structure Coordinate Report'!AB29=0,"",'[3]Structure Coordinate Report'!AB29) -> 2 ou 0 cm
B26: =IF('[3]Structure Coordinate Report'!N30=0,"",'[3]Structure Coordinate Report'!N30) -> 14/13 | C26: =IF('[3]Structure Coordinate Report'!O30=0,"",'[3]Structure Coordinate Report'!O30) -> 283.94 | D26: =IF('[3]Coordonnees fixation au support'!EH17=0,"",'[3]Coordonnees fixation au support'!EH17) -> 1.5202631 | E26: =IF(ISNA(VLOOKUP(B26,'[3]Coordonnees fixation au support'!$Z$4:$AA$2961,2,FALSE)),"",VLOOKUP(B26,'[3]Coordonnees fixation au support'!$Z$4:$AA$2961,2,FALSE)) -> 304.61 | F26: =IF(VLOOKUP(B26,'[3]Coordonnees fixation au support'!$DT$4:$DU$5000,2,FALSE)=0,"",VLOOKUP(B26,'[3]Coordonnees fixation au support'!$DT$4:$DU$5000,2,FALSE)) -> 4.1063332 | G26: =IF('[3]Structure Coordinate Report'!X30=0,"",'[3]Structure Coordinate Report'!X30) -> Pas Soufflet | H26: =IF('[3]Structure Coordinate Report'!Q30=0,"",'[3]Structure Coordinate Report'!Q30) -> 15/14 | I26: =IF('[3]Structure Coordinate Report'!R30=0,"",'[3]Structure Coordinate Report'!R30) -> 279.52 | J26: =IF('[3]Coordonnees fixation au support'!EJ17=0,"",'[3]Coordonnees fixation au support'!EJ17) -> 1.4905704 | K26: =IF(ISNA(VLOOKUP(H26,'[3]Coordonnees fixation au support'!$Z$4:$AA$3546,2,FALSE)),"",VLOOKUP(H26,'[3]Coordonnees fixation au support'!$Z$4:$AA$3546,2,FALSE)) -> 304.99 | L26: =IF(VLOOKUP(H26,'[3]Coordonnees fixation au support'!$DW$4:$DX$5000,2,FALSE)=0,"",VLOOKUP(H26,'[3]Coordonnees fixation au support'!$DW$4:$DX$5000,2,FALSE)) -> 4.0030968 | M26: =IF('[3]Structure Coordinate Report'!V30=0,"",'[3]Structure Coordinate Report'!V30) -> 385.40 | N26: =IF(ISNA(INDEX('[3]Tableau de pose'!B24:R5013,MATCH('TABLEAU DE BORD'!B26,'[3]Tableau de pose'!C24:C5013,0),17)),"",INDEX('[3]Tableau de pose'!B24:R5013,MATCH('TABLEAU DE BORD'!B26,'[3]Tableau de pose'!C24:C5013,0),17)) -> aster228 | O26: =IF(ISNA(INDEX('[3]Tableau de pose'!B24:T5013,MATCH('TABLEAU DE BORD'!B26&"-"&'TABLEAU DE BORD'!$J$6,'[3]Tableau de pose'!T24:T5013,0),14)),"",INDEX('[3]Tableau de pose'!B24:T5013,MATCH('TABLEAU DE BORD'!B26&"-"&'TABLEAU DE BORD'!$J$6,'[3]Tableau de pose'!T24:T5013,0),14)) -> 1681.73 | P26: =IF(ISNA(INDEX('[3]Tableau de pose'!B24:T5013,MATCH('TABLEAU DE BORD'!B26&"-"&'TABLEAU DE BORD'!$K$6,'[3]Tableau de pose'!T24:T5013,0),14)),"",INDEX('[3]Tableau de pose'!B24:T5013,MATCH('TABLEAU DE BORD'!B26&"-"&'TABLEAU DE BORD'!$K$6,'[3]Tableau de pose'!T24:T5013,0),14)) -> 1478.45 | Q26: =IF('[3]Structure Coordinate Report'!Z30=0,"",'[3]Structure Coordinate Report'!Z30) -> 240 Pa : ZVN zone normale | R26: =IF('[3]Structure Coordinate Report'!AB30=0,"",'[3]Structure Coordinate Report'!AB30) -> 2 ou 0 cm
B27: =IF('[3]Structure Coordinate Report'!N31=0,"",'[3]Structure Coordinate Report'!N31) -> 15/14 | C27: =IF('[3]Structure Coordinate Report'!O31=0,"",'[3]Structure Coordinate Report'!O31) -> 279.52 | D27: =IF('[3]Coordonnees fixation au support'!EH18=0,"",'[3]Coordonnees fixation au support'!EH18) -> 1.4905704 | E27: =IF(ISNA(VLOOKUP(B27,'[3]Coordonnees fixation au support'!$Z$4:$AA$2961,2,FALSE)),"",VLOOKUP(B27,'[3]Coordonnees fixation au support'!$Z$4:$AA$2961,2,FALSE)) -> 304.99 | F27: =IF(VLOOKUP(B27,'[3]Coordonnees fixation au support'!$DT$4:$DU$5000,2,FALSE)=0,"",VLOOKUP(B27,'[3]Coordonnees fixation au support'!$DT$4:$DU$5000,2,FALSE)) -> 4.0030968 | G27: =IF('[3]Structure Coordinate Report'!X31=0,"",'[3]Structure Coordinate Report'!X31) -> Pas Soufflet | H27: =IF('[3]Structure Coordinate Report'!Q31=0,"",'[3]Structure Coordinate Report'!Q31) -> 16/15 | I27: =IF('[3]Structure Coordinate Report'!R31=0,"",'[3]Structure Coordinate Report'!R31) -> 274.85 | J27: =IF('[3]Coordonnees fixation au support'!EJ18=0,"",'[3]Coordonnees fixation au support'!EJ18) -> 1.4623269 | K27: =IF(ISNA(VLOOKUP(H27,'[3]Coordonnees fixation au support'!$Z$4:$AA$3546,2,FALSE)),"",VLOOKUP(H27,'[3]Coordonnees fixation au support'!$Z$4:$AA$3546,2,FALSE)) -> 294.56 | L27: =IF(VLOOKUP(H27,'[3]Coordonnees fixation au support'!$DW$4:$DX$5000,2,FALSE)=0,"",VLOOKUP(H27,'[3]Coordonnees fixation au support'!$DW$4:$DX$5000,2,FALSE)) -> 5.4595238 | M27: =IF('[3]Structure Coordinate Report'!V31=0,"",'[3]Structure Coordinate Report'!V31) -> 354.09 | N27: =IF(ISNA(INDEX('[3]Tableau de pose'!B25:R5014,MATCH('TABLEAU DE BORD'!B27,'[3]Tableau de pose'!C25:C5014,0),17)),"",INDEX('[3]Tableau de pose'!B25:R5014,MATCH('TABLEAU DE BORD'!B27,'[3]Tableau de pose'!C25:C5014,0),17)) -> aster228 | O27: =IF(ISNA(INDEX('[3]Tableau de pose'!B25:T5014,MATCH('TABLEAU DE BORD'!B27&"-"&'TABLEAU DE BORD'!$J$6,'[3]Tableau de pose'!T25:T5014,0),14)),"",INDEX('[3]Tableau de pose'!B25:T5014,MATCH('TABLEAU DE BORD'!B27&"-"&'TABLEAU DE BORD'!$J$6,'[3]Tableau de pose'!T25:T5014,0),14)) -> 1684.15 | P27: =IF(ISNA(INDEX('[3]Tableau de pose'!B25:T5014,MATCH('TABLEAU DE BORD'!B27&"-"&'TABLEAU DE BORD'!$K$6,'[3]Tableau de pose'!T25:T5014,0),14)),"",INDEX('[3]Tableau de pose'!B25:T5014,MATCH('TABLEAU DE BORD'!B27&"-"&'TABLEAU DE BORD'!$K$6,'[3]Tableau de pose'!T25:T5014,0),14)) -> 1484.52 | Q27: =IF('[3]Structure Coordinate Report'!Z31=0,"",'[3]Structure Coordinate Report'!Z31) -> 240 Pa : ZVN zone normale | R27: =IF('[3]Structure Coordinate Report'!AB31=0,"",'[3]Structure Coordinate Report'!AB31) -> 2 ou 0 cm
B28: =IF('[3]Structure Coordinate Report'!N32=0,"",'[3]Structure Coordinate Report'!N32) -> 16/15 | C28: =IF('[3]Structure Coordinate Report'!O32=0,"",'[3]Structure Coordinate Report'!O32) -> 274.85 | D28: =IF('[3]Coordonnees fixation au support'!EH19=0,"",'[3]Coordonnees fixation au support'!EH19) -> 1.4623269 | E28: =IF(ISNA(VLOOKUP(B28,'[3]Coordonnees fixation au support'!$Z$4:$AA$2961,2,FALSE)),"",VLOOKUP(B28,'[3]Coordonnees fixation au support'!$Z$4:$AA$2961,2,FALSE)) -> 294.56 | F28: =IF(VLOOKUP(B28,'[3]Coordonnees fixation au support'!$DT$4:$DU$5000,2,FALSE)=0,"",VLOOKUP(B28,'[3]Coordonnees fixation au support'!$DT$4:$DU$5000,2,FALSE)) -> 5.4595238 | G28: =IF('[3]Structure Coordinate Report'!X32=0,"",'[3]Structure Coordinate Report'!X32) -> Pas Soufflet | H28: =IF('[3]Structure Coordinate Report'!Q32=0,"",'[3]Structure Coordinate Report'!Q32) -> 17/16 | I28: =IF('[3]Structure Coordinate Report'!R32=0,"",'[3]Structure Coordinate Report'!R32) -> 303.33 | J28: =IF('[3]Coordonnees fixation au support'!EJ19=0,"",'[3]Coordonnees fixation au support'!EJ19) -> 1.4625321 | K28: =IF(ISNA(VLOOKUP(H28,'[3]Coordonnees fixation au support'!$Z$4:$AA$3546,2,FALSE)),"",VLOOKUP(H28,'[3]Coordonnees fixation au support'!$Z$4:$AA$3546,2,FALSE)) -> 320.32 | L28: =IF(VLOOKUP(H28,'[3]Coordonnees fixation au support'!$DW$4:$DX$5000,2,FALSE)=0,"",VLOOKUP(H28,'[3]Coordonnees fixation au support'!$DW$4:$DX$5000,2,FALSE)) -> 3.9967343 | M28: =IF('[3]Structure Coordinate Report'!V32=0,"",'[3]Structure Coordinate Report'!V32) -> 431.71 | N28: =IF(ISNA(INDEX('[3]Tableau de pose'!B26:R5015,MATCH('TABLEAU DE BORD'!B28,'[3]Tableau de pose'!C26:C5015,0),17)),"",INDEX('[3]Tableau de pose'!B26:R5015,MATCH('TABLEAU DE BORD'!B28,'[3]Tableau de pose'!C26:C5015,0),17)) -> aster228 | O28: =IF(ISNA(INDEX('[3]Tableau de pose'!B26:T5015,MATCH('TABLEAU DE BORD'!B28&"-"&'TABLEAU DE BORD'!$J$6,'[3]Tableau de pose'!T26:T5015,0),14)),"",INDEX('[3]Tableau de pose'!B26:T5015,MATCH('TABLEAU DE BORD'!B28&"-"&'TABLEAU DE BORD'!$J$6,'[3]Tableau de pose'!T26:T5015,0),14)) -> 1680.02 | P28: =IF(ISNA(INDEX('[3]Tableau de pose'!B26:T5015,MATCH('TABLEAU DE BORD'!B28&"-"&'TABLEAU DE BORD'!$K$6,'[3]Tableau de pose'!T26:T5015,0),14)),"",INDEX('[3]Tableau de pose'!B26:T5015,MATCH('TABLEAU DE BORD'!B28&"-"&'TABLEAU DE BORD'!$K$6,'[3]Tableau de pose'!T26:T5015,0),14)) -> 1487.99 | Q28: =IF('[3]Structure Coordinate Report'!Z32=0,"",'[3]Structure Coordinate Report'!Z32) -> 240 Pa : ZVN zone normale | R28: =IF('[3]Structure Coordinate Report'!AB32=0,"",'[3]Structure Coordinate Report'!AB32) -> 2 ou 0 cm
... B1132: =IF('[3]Structure Coordinate Report'!N1136=0,"",'[3]Structure Coordinate Report'!N1136) | C1132: =IF('[3]Structure Coordinate Report'!O1136=0,"",'[3]Structure Coordinate Report'!O1136) | D1132: =IF('[3]Coordonnees fixation au support'!EH1123=0,"",'[3]Coordonnees fixation au support'!EH1123) | E1132: =IF(ISNA(VLOOKUP(B1132,'[3]Coordonnees fixation au support'!$Z$4:$AA$2961,2,FALSE)),"",VLOOKUP(B1132,'[3]Coordonnees fixation au support'!$Z$4:$AA$2961,2,FALSE)) | F1132: =IF(VLOOKUP(B1132,'[3]Coordonnees fixation au support'!$DT$4:$DU$5000,2,FALSE)=0,"",VLOOKUP(B1132,'[3]Coordonnees fixation au support'!$DT$4:$DU$5000,2,FALSE)) | G1132: =IF('[3]Structure Coordinate Report'!X1136=0,"",'[3]Structure Coordinate Report'!X1136) | H1132: =IF('[3]Structure Coordinate Report'!Q1136=0,"",'[3]Structure Coordinate Report'!Q1136) | I1132: =IF('[3]Structure Coordinate Report'!R1136=0,"",'[3]Structure Coordinate Report'!R1136) | J1132: =IF('[3]Coordonnees fixation au support'!EJ1123=0,"",'[3]Coordonnees fixation au support'!EJ1123) | K1132: =IF(ISNA(VLOOKUP(H1132,'[3]Coordonnees fixation au support'!$Z$4:$AA$3546,2,FALSE)),"",VLOOKUP(H1132,'[3]Coordonnees fixation au support'!$Z$4:$AA$3546,2,FALSE)) | L1132: =IF(VLOOKUP(H1132,'[3]Coordonnees fixation au support'!$DW$4:$DX$5000,2,FALSE)=0,"",VLOOKUP(H1132,'[3]Coordonnees fixation au support'!$DW$4:$DX$5000,2,FALSE)) | M1132: =IF('[3]Structure Coordinate Report'!V1136=0,"",'[3]Structure Coordinate Report'!V1136) | N1132: =IF(ISNA(INDEX('[3]Tableau de pose'!B1130:R6119,MATCH('TABLEAU DE BORD'!B1132,'[3]Tableau de pose'!C1130:C6119,0),17)),"",INDEX('[3]Tableau de pose'!B1130:R6119,MATCH('TABLEAU DE BORD'!B1132,'[3]Tableau de pose'!C1130:C6119,0),17)) | O1132: =IF(ISNA(INDEX('[3]Tableau de pose'!B1130:T6119,MATCH('TABLEAU DE BORD'!B1132&"-"&'TABLEAU DE BORD'!$J$6,'[3]Tableau de pose'!T1130:T6119,0),14)),"",INDEX('[3]Tableau de pose'!B1130:T6119,MATCH('TABLEAU DE BORD'!B1132&"-"&'TABLEAU DE BORD'!$J$6,'[3]Tableau de pose'!T1130:T6119,0),14)) | P1132: =IF(ISNA(INDEX('[3]Tableau de pose'!B1130:T6119,MATCH('TABLEAU DE BORD'!B1132&"-"&'TABLEAU DE BORD'!$K$6,'[3]Tableau de pose'!T1130:T6119,0),14)),"",INDEX('[3]Tableau de pose'!B1130:T6119,MATCH('TABLEAU DE BORD'!B1132&"-"&'TABLEAU DE BORD'!$K$6,'[3]Tableau de pose'!T1130:T6119,0),14)) | Q1132: =IF('[3]Structure Coordinate Report'!Z1136=0,"",'[3]Structure Coordinate Report'!Z1136) | R1132: =IF('[3]Structure Coordinate Report'!AB1136=0,"",'[3]Structure Coordinate Report'!AB1136)
