Workbook

Sheet Extract
B1: Données
B4: Code projet | C4: Type conso | D4: Chantier | E4: 42005 | F4: 42036 | G4: 42064 | H4: 42095 | I4: 42125 | J4: 42156 | K4: 42186 | L4: 42217 | M4: 42248 | N4: 42278 | O4: 42309 | P4: 42339
B5: P1 | C5: Conso 1 | D5: Chantier 1 | E5: 0.75
B6: P1 | C6: Conso 1 | D6: Chantier 2 | E6: 3.25 | F6: 5 | G6: 5
B7: P1 | C7: Conso 1 | D7: Chantier 3 | E7: 10 | F7: 2.5
B8: P1 | C8: Conso 1 | D8: Chantier 4 | F8: 4
B9: P1 | C9: Conso 2 | D9: Chantier 5 | M9: 4.76 | N9: 20.69 | O9: 18.18 | P9: 18.56
B10: P1 | C10: Conso 1 | D10: Chantier 1 | I10: 0.75 | J10: 6.5
B11: P1 | C11: Conso 1 | D11: Chantier 2 | E11: 2 | F11: 2
B12: P1 | C12: Conso 1 | D12: Chantier 3 | E12: 1 | G12: 0.5
B13: P1 | C13: Conso 1 | D13: Chantier 4 | E13: 1.25 | F13: 1.75
B14: P1 | C14: Conso 1 | D14: Chantier 5 | J14: 3
B15: P1 | C15: Conso 1 | D15: Chantier 4 | E15: 1
B16: P1 | C16: Conso 1 | D16: Chantier 5 | J16: 0.5
B17: P1 | C17: Conso 1 | D17: Chantier 4 | J17: 2
B18: P1 | C18: Conso 1 | D18: Chantier 5 | J18: 0.25
B19: P1 | C19: Conso 1 | D19: Chantier 3 | J19: 4
B20: P1 | C20: Conso 1 | D20: Chantier 4 | J20: 3
B21: P1 | C21: Conso 1 | D21: Chantier 5 | J21: 0.71 | K21: 0.75 | L21: 0.54
B22: P1 | C22: Conso 1 | D22: Chantier 3 | K22: 2.17 | L22: 0.83
B23: P1 | C23: Conso 1 | D23: Chantier 4 | K23: 4
B24: P1 | C24: Conso 1 | D24: Chantier 5 | K24: 1.5
B25: P1 | C25: Conso 1 | D25: Chantier 1 | L25: 0.1 | M25: 2.2 | N25: 0.7
B26: P1 | C26: Conso 1 | D26: Chantier 2 | L26: 1.1 | M26: 1.8 | N26: 0.1
B27: P1 | C27: Conso 1 | D27: Chantier 3 | J27: 10
B28: P1 | C28: Conso 1 | D28: Chantier 6 | J28: 1.19 | K28: 2.37 | L28: 2.27 | M28: 2.37 | N28: 2.37 | O28: 2.16 | P28: 2.27
B29: P1 | C29: Conso 1 | D29: Chantier 5 | M29: 5.05 | N29: 10.11 | O29: 9.19 | P29: 9.65
B30: P1 | C30: Conso 1 | D30: Chantier 5 | J30: 11.22 | K30: 11.22 | L30: 2.55
B31: P1 | C31: Conso 1 | D31: Chantier 3 | J31: 5.68 | K31: 5.95 | L31: 5.68 | M31: 5.95 | N31: 5.95 | O31: 5.41 | P31: 5.41
B32: P1 | C32: Conso 1 | D32: Chantier 2 | M32: 5.2 | N32: 10.41 | O32: 9.46 | P32: 9.93
B33: P1 | C33: Conso 3 | D33: Chantier 1 | E33: 17.646039 | F33: 12.031392
B34: P1 | C34: Conso 3 | D34: Chantier 4 | E34: 3.9370078 | F34: 3.9370078 | G34: 4.3307085 | H34: 4.3307056 | I34: 4.1338599 | J34: 4.33071
B35: P1 | C35: Conso 3 | D35: Chantier 1 | K35: 0 | L35: 0 | M35: 0 | N35: 0 | O35: 0 | P35: 0
B36: P1 | C36: Conso 3 | D36: Chantier 2 | E36: 0.021352942 | F36: 0.019411764
B37: P1 | C37: Conso 4 | D37: Chantier 3 | K37: 5.7 | L37: 5.5 | M37: 5.5 | N37: 5.5 | O37: 5.5 | P37: 5.5
B38: P1 | C38: Conso 4 | D38: Chantier 4 | J38: 2
B39: P1 | C39: Conso 4 | D39: Chantier 1 | M39: 21.95 | N39: 21.95
B40: P2 | C40: Conso 1 | D40: Chantier 2 | H40: 4 | I40: 4.5 | J40: 4.9 | K40: 4.2 | L40: 2.57 | M40: 5.13 | N40: 5.13 | O40: 4.67 | P40: 4.9
B41: P2 | C41: Conso 2 | D41: Chantier 6 | J41: 0.49 | K41: 0.49 | L41: 0.02
B42: P2 | C42: Conso 1 | D42: Chantier 5 | I42: 1
B43: P2 | C43: Conso 2 | D43: Chantier 5 | J43: 3.96 | K43: 3.96 | L43: 3.78 | M43: 3.96 | N43: 3.96 | O43: 0.36
B44: P2 | C44: Conso 1 | D44: Chantier 3 | I44: 1
B45: P2 | C45: Conso 1 | D45: Chantier 2 | I45: 2
B46: P2 | C46: Conso 1 | D46: Chantier 1 | J46: 0.4 | K46: 0.93 | L46: 0.67 | M46: 0.8 | N46: 0.98 | O46: 0.22
B47: P2 | C47: Conso 1 | D47: Chantier 4 | J47: 0.34 | K47: 0.4 | L47: 0.38 | M47: 0.4 | N47: 0.4 | O47: 0.09
B48: P2 | C48: Conso 1 | D48: Chantier 6 | J48: 0.86 | K48: 1.04 | L48: 0.95 | M48: 0.99 | N48: 0.99 | O48: 0.18
B49: P2 | C49: Conso 3 | D49: Chantier 5 | E49: 0.47076923 | F49: 0.94153845 | G49: 1.0356923 | H49: 1.0356923 | I49: 0.98861536 | J49: 1.0356923 | K49: 0
B50: P2 | C50: Conso 3 | D50: Chantier 5 | I50: 7.1
B51: P2 | C51: Conso 3 | D51: Chantier 3 | K51: 0 | L51: 0 | M51: 0
B52: P2 | C52: Conso 3 | D52: Chantier 6 | K52: 0
B53: P2 | C53: Conso 3 | D53: Chantier 5 | J53: 0.14 | K53: 0 | L53: 0 | M53: 0
B54: P2 | C54: Conso 3 | D54: Chantier 5 | K54: 0 | L54: 0 | M54: 0
B55: P2 | C55: Conso 4 | D55: Chantier 3 | J55: 2.45
B56: P2 | C56: Conso 4 | D56: Chantier 2 | K56: 4.8 | L56: 4.8 | M56: 4.8 | N56: 0
B57: P2 | C57: Conso 4 | D57: Chantier 1 | K57: 5 | L57: 5 | M57: 5 | N57: 4
B58: P2 | C58: Conso 4 | D58: Chantier 6 | K58: 5 | L58: 5 | M58: 5.6
B59: P2 | C59: Conso 4 | D59: Chantier 5 | J59: 7.1
B60: P2 | C60: Conso 4 | D60: Chantier 5 | J60: 3.2189674 | K60: 3.3262663 | L60: 3.3262663
B61: P3 | C61: Conso 1 | D61: Chantier 3 | H61: 4 | I61: 4 | J61: 3.42 | K61: 2.93 | L61: 1.79 | M61: 3.59 | N61: 3.59 | O61: 3.26 | P61: 3.42
B62: P3 | C62: Conso 1 | D62: Chantier 2 | J62: 2.48 | K62: 2.48 | L62: 0.45 | M62: 2.48 | N62: 2.48 | O62: 2.26 | P62: 2.37
B63: P3 | C63: Conso 1 | D63: Chantier 1 | J63: 10.5
B64: P3 | C64: Conso 1 | D64: Chantier 4 | J64: 4
B65: P3 | C65: Conso 1 | D65: Chantier 1 | J65: 3.54 | K65: 0.96
B66: P3 | C66: Conso 1 | D66: Chantier 6 | J66: 4
B67: P3 | C67: Conso 1 | D67: Chantier 5 | J67: 3
B68: P3 | C68: Conso 2 | D68: Chantier 5 | J68: 3.06 | K68: 3.06 | L68: 2.92 | M68: 3.06 | N68: 3.06 | O68: 2.78 | P68: 3.06
B69: P3 | C69: Conso 1 | D69: Chantier 3 | H69: 1
B70: P3 | C70: Conso 3 | D70: Chantier 6 | I70: 6.5714287 | J70: 7.2285713
B71: P3 | C71: Conso 3 | D71: Chantier 5 | K71: 0 | L71: 0 | M71: 0
B72: P3 | C72: Conso 3 | D72: Chantier 5 | K72: 0 | L72: 0 | M72: 0
B73: P3 | C73: Conso 3 | D73: Chantier 3 | K73: 0 | L73: 0 | M73: 0 | N73: 0 | O73: 0 | P73: 0
B74: P3 | C74: Conso 4 | D74: Chantier 6 | J74: 1.65
B75: P3 | C75: Conso 4 | D75: Chantier 5 | K75: 7.0592391 | L75: 7.0592391 | M75: 6.8315217 | N75: 7.0592391 | O75: 6.8315217 | P75: 7.0592391
B76: P4 | C76: Conso 1 | D76: Chantier 5 | J76: 4.2 | K76: 3.6 | L76: 2.2 | M76: 4.4 | N76: 4.4 | O76: 4 | P76: 4.4
B77: P4 | C77: Conso 2 | D77: Chantier 3 | M77: 17 | N77: 5
B78: P4 | C78: Conso 2 | D78: Chantier 2 | L78: 2.31 | M78: 12.69
B79: P4 | C79: Conso 2 | D79: Chantier 1 | O79: 20 | P79: 22
B80: P4 | C80: Conso 3 | D80: Chantier 4 | K80: 0 | L80: 0 | M80: 0 | N80: 0 | O80: 0 | P80: 0
B81: P4 | C81: Conso 4 | D81: Chantier 1 | K81: 11.726087 | L81: 11.726087 | M81: 11.347826 | N81: 11.726087 | O81: 11.347826 | P81: 11.726087

Sheet DATA
A1: Projet | B1: Type conso | C1: Chantier
A3: P1 | B3: Type Conso 1 | C3: Chantier 1
A4: P2 | B4: Type Conso 2 | C4: Chantier 2
A5: P3 | B5: Type Conso 3 | C5: Chantier 3
A6: P4 | B6: Type Conso 4 | C6: Chantier 4
C7: Chantier 5
C8: Chantier 6

Sheet Objectif
A1: Je souhaiterais obtenir un tableau de ce type (sans forcément passer par un TCD)
D2: 42005 | E2: 42036 | F2: 42064 | G2: 42095 | H2: 42125 | I2: 42156 | J2: 42186 | K2: 42217 | L2: 42248 | M2: 42278 | N2: 42309 | O2: 42339
A3: P1 | B3: Type Conso 1 | C3: Chantier 1 | D3: =SUMPRODUCT((Extract!$B$5:$B$81=$A3)*(Extract!$C$5:$C$81=RIGHT($B3,7))*(Extract!$D$5:$D$81=$C3)*Extract!E$5:E$81) -> 0.75 | E3: =SUMPRODUCT((Extract!$B$5:$B$81=$A3)*(Extract!$C$5:$C$81=RIGHT($B3,7))*(Extract!$D$5:$D$81=$C3)*Extract!F$5:F$81) -> 0 | F3: =SUMPRODUCT((Extract!$B$5:$B$81=$A3)*(Extract!$C$5:$C$81=RIGHT($B3,7))*(Extract!$D$5:$D$81=$C3)*Extract!G$5:G$81) -> 0 | G3: =SUMPRODUCT((Extract!$B$5:$B$81=$A3)*(Extract!$C$5:$C$81=RIGHT($B3,7))*(Extract!$D$5:$D$81=$C3)*Extract!H$5:H$81) -> 0 | H3: =SUMPRODUCT((Extract!$B$5:$B$81=$A3)*(Extract!$C$5:$C$81=RIGHT($B3,7))*(Extract!$D$5:$D$81=$C3)*Extract!I$5:I$81) -> 0.75 | I3: =SUMPRODUCT((Extract!$B$5:$B$81=$A3)*(Extract!$C$5:$C$81=RIGHT($B3,7))*(Extract!$D$5:$D$81=$C3)*Extract!J$5:J$81) -> 6.5 | J3: =SUMPRODUCT((Extract!$B$5:$B$81=$A3)*(Extract!$C$5:$C$81=RIGHT($B3,7))*(Extract!$D$5:$D$81=$C3)*Extract!K$5:K$81) -> 0 | K3: =SUMPRODUCT((Extract!$B$5:$B$81=$A3)*(Extract!$C$5:$C$81=RIGHT($B3,7))*(Extract!$D$5:$D$81=$C3)*Extract!L$5:L$81) -> 0.1 | ... O3: =SUMPRODUCT((Extract!$B$5:$B$81=$A3)*(Extract!$C$5:$C$81=RIGHT($B3,7))*(Extract!$D$5:$D$81=$C3)*Extract!P$5:P$81) -> 0
A4: P1 | B4: Type Conso 1 | C4: Chantier 2 | D4: =SUMPRODUCT((Extract!$B$5:$B$81=$A4)*(Extract!$C$5:$C$81=RIGHT($B4,7))*(Extract!$D$5:$D$81=$C4)*Extract!E$5:E$81) -> 5.25 | E4: =SUMPRODUCT((Extract!$B$5:$B$81=$A4)*(Extract!$C$5:$C$81=RIGHT($B4,7))*(Extract!$D$5:$D$81=$C4)*Extract!F$5:F$81) -> 7 | F4: =SUMPRODUCT((Extract!$B$5:$B$81=$A4)*(Extract!$C$5:$C$81=RIGHT($B4,7))*(Extract!$D$5:$D$81=$C4)*Extract!G$5:G$81) -> 5 | G4: =SUMPRODUCT((Extract!$B$5:$B$81=$A4)*(Extract!$C$5:$C$81=RIGHT($B4,7))*(Extract!$D$5:$D$81=$C4)*Extract!H$5:H$81) -> 0 | H4: =SUMPRODUCT((Extract!$B$5:$B$81=$A4)*(Extract!$C$5:$C$81=RIGHT($B4,7))*(Extract!$D$5:$D$81=$C4)*Extract!I$5:I$81) -> 0 | I4: =SUMPRODUCT((Extract!$B$5:$B$81=$A4)*(Extract!$C$5:$C$81=RIGHT($B4,7))*(Extract!$D$5:$D$81=$C4)*Extract!J$5:J$81) -> 0 | J4: =SUMPRODUCT((Extract!$B$5:$B$81=$A4)*(Extract!$C$5:$C$81=RIGHT($B4,7))*(Extract!$D$5:$D$81=$C4)*Extract!K$5:K$81) -> 0 | K4: =SUMPRODUCT((Extract!$B$5:$B$81=$A4)*(Extract!$C$5:$C$81=RIGHT($B4,7))*(Extract!$D$5:$D$81=$C4)*Extract!L$5:L$81) -> 1.1 | ... O4: =SUMPRODUCT((Extract!$B$5:$B$81=$A4)*(Extract!$C$5:$C$81=RIGHT($B4,7))*(Extract!$D$5:$D$81=$C4)*Extract!P$5:P$81) -> 9.93
A5: P1 | B5: Type Conso 1 | C5: Chantier 3 | D5: =SUMPRODUCT((Extract!$B$5:$B$81=$A5)*(Extract!$C$5:$C$81=RIGHT($B5,7))*(Extract!$D$5:$D$81=$C5)*Extract!E$5:E$81) -> 11 | E5: =SUMPRODUCT((Extract!$B$5:$B$81=$A5)*(Extract!$C$5:$C$81=RIGHT($B5,7))*(Extract!$D$5:$D$81=$C5)*Extract!F$5:F$81) -> 2.5 | F5: =SUMPRODUCT((Extract!$B$5:$B$81=$A5)*(Extract!$C$5:$C$81=RIGHT($B5,7))*(Extract!$D$5:$D$81=$C5)*Extract!G$5:G$81) -> 0.5 | G5: =SUMPRODUCT((Extract!$B$5:$B$81=$A5)*(Extract!$C$5:$C$81=RIGHT($B5,7))*(Extract!$D$5:$D$81=$C5)*Extract!H$5:H$81) -> 0 | H5: =SUMPRODUCT((Extract!$B$5:$B$81=$A5)*(Extract!$C$5:$C$81=RIGHT($B5,7))*(Extract!$D$5:$D$81=$C5)*Extract!I$5:I$81) -> 0 | I5: =SUMPRODUCT((Extract!$B$5:$B$81=$A5)*(Extract!$C$5:$C$81=RIGHT($B5,7))*(Extract!$D$5:$D$81=$C5)*Extract!J$5:J$81) -> 19.68 | J5: =SUMPRODUCT((Extract!$B$5:$B$81=$A5)*(Extract!$C$5:$C$81=RIGHT($B5,7))*(Extract!$D$5:$D$81=$C5)*Extract!K$5:K$81) -> 8.12 | K5: =SUMPRODUCT((Extract!$B$5:$B$81=$A5)*(Extract!$C$5:$C$81=RIGHT($B5,7))*(Extract!$D$5:$D$81=$C5)*Extract!L$5:L$81) -> 6.51 | ... O5: =SUMPRODUCT((Extract!$B$5:$B$81=$A5)*(Extract!$C$5:$C$81=RIGHT($B5,7))*(Extract!$D$5:$D$81=$C5)*Extract!P$5:P$81) -> 5.41
A6: P1 | B6: Type Conso 1 | C6: Chantier 4 | D6: =SUMPRODUCT((Extract!$B$5:$B$81=$A6)*(Extract!$C$5:$C$81=RIGHT($B6,7))*(Extract!$D$5:$D$81=$C6)*Extract!E$5:E$81) -> 2.25 | E6: =SUMPRODUCT((Extract!$B$5:$B$81=$A6)*(Extract!$C$5:$C$81=RIGHT($B6,7))*(Extract!$D$5:$D$81=$C6)*Extract!F$5:F$81) -> 5.75 | F6: =SUMPRODUCT((Extract!$B$5:$B$81=$A6)*(Extract!$C$5:$C$81=RIGHT($B6,7))*(Extract!$D$5:$D$81=$C6)*Extract!G$5:G$81) -> 0 | G6: =SUMPRODUCT((Extract!$B$5:$B$81=$A6)*(Extract!$C$5:$C$81=RIGHT($B6,7))*(Extract!$D$5:$D$81=$C6)*Extract!H$5:H$81) -> 0 | H6: =SUMPRODUCT((Extract!$B$5:$B$81=$A6)*(Extract!$C$5:$C$81=RIGHT($B6,7))*(Extract!$D$5:$D$81=$C6)*Extract!I$5:I$81) -> 0 | I6: =SUMPRODUCT((Extract!$B$5:$B$81=$A6)*(Extract!$C$5:$C$81=RIGHT($B6,7))*(Extract!$D$5:$D$81=$C6)*Extract!J$5:J$81) -> 5 | J6: =SUMPRODUCT((Extract!$B$5:$B$81=$A6)*(Extract!$C$5:$C$81=RIGHT($B6,7))*(Extract!$D$5:$D$81=$C6)*Extract!K$5:K$81) -> 4 | K6: =SUMPRODUCT((Extract!$B$5:$B$81=$A6)*(Extract!$C$5:$C$81=RIGHT($B6,7))*(Extract!$D$5:$D$81=$C6)*Extract!L$5:L$81) -> 0 | ... O6: =SUMPRODUCT((Extract!$B$5:$B$81=$A6)*(Extract!$C$5:$C$81=RIGHT($B6,7))*(Extract!$D$5:$D$81=$C6)*Extract!P$5:P$81) -> 0
A7: P1 | B7: Type Conso 1 | C7: Chantier 5 | D7: =SUMPRODUCT((Extract!$B$5:$B$81=$A7)*(Extract!$C$5:$C$81=RIGHT($B7,7))*(Extract!$D$5:$D$81=$C7)*Extract!E$5:E$81) -> 0 | E7: =SUMPRODUCT((Extract!$B$5:$B$81=$A7)*(Extract!$C$5:$C$81=RIGHT($B7,7))*(Extract!$D$5:$D$81=$C7)*Extract!F$5:F$81) -> 0 | F7: =SUMPRODUCT((Extract!$B$5:$B$81=$A7)*(Extract!$C$5:$C$81=RIGHT($B7,7))*(Extract!$D$5:$D$81=$C7)*Extract!G$5:G$81) -> 0 | G7: =SUMPRODUCT((Extract!$B$5:$B$81=$A7)*(Extract!$C$5:$C$81=RIGHT($B7,7))*(Extract!$D$5:$D$81=$C7)*Extract!H$5:H$81) -> 0 | H7: =SUMPRODUCT((Extract!$B$5:$B$81=$A7)*(Extract!$C$5:$C$81=RIGHT($B7,7))*(Extract!$D$5:$D$81=$C7)*Extract!I$5:I$81) -> 0 | I7: =SUMPRODUCT((Extract!$B$5:$B$81=$A7)*(Extract!$C$5:$C$81=RIGHT($B7,7))*(Extract!$D$5:$D$81=$C7)*Extract!J$5:J$81) -> 15.68 | J7: =SUMPRODUCT((Extract!$B$5:$B$81=$A7)*(Extract!$C$5:$C$81=RIGHT($B7,7))*(Extract!$D$5:$D$81=$C7)*Extract!K$5:K$81) -> 13.47 | K7: =SUMPRODUCT((Extract!$B$5:$B$81=$A7)*(Extract!$C$5:$C$81=RIGHT($B7,7))*(Extract!$D$5:$D$81=$C7)*Extract!L$5:L$81) -> 3.09 | ... O7: =SUMPRODUCT((Extract!$B$5:$B$81=$A7)*(Extract!$C$5:$C$81=RIGHT($B7,7))*(Extract!$D$5:$D$81=$C7)*Extract!P$5:P$81) -> 9.65
A8: P1 | B8: Type Conso 1 | C8: Chantier 6 | D8: =SUMPRODUCT((Extract!$B$5:$B$81=$A8)*(Extract!$C$5:$C$81=RIGHT($B8,7))*(Extract!$D$5:$D$81=$C8)*Extract!E$5:E$81) -> 0 | E8: =SUMPRODUCT((Extract!$B$5:$B$81=$A8)*(Extract!$C$5:$C$81=RIGHT($B8,7))*(Extract!$D$5:$D$81=$C8)*Extract!F$5:F$81) -> 0 | F8: =SUMPRODUCT((Extract!$B$5:$B$81=$A8)*(Extract!$C$5:$C$81=RIGHT($B8,7))*(Extract!$D$5:$D$81=$C8)*Extract!G$5:G$81) -> 0 | G8: =SUMPRODUCT((Extract!$B$5:$B$81=$A8)*(Extract!$C$5:$C$81=RIGHT($B8,7))*(Extract!$D$5:$D$81=$C8)*Extract!H$5:H$81) -> 0 | H8: =SUMPRODUCT((Extract!$B$5:$B$81=$A8)*(Extract!$C$5:$C$81=RIGHT($B8,7))*(Extract!$D$5:$D$81=$C8)*Extract!I$5:I$81) -> 0 | I8: =SUMPRODUCT((Extract!$B$5:$B$81=$A8)*(Extract!$C$5:$C$81=RIGHT($B8,7))*(Extract!$D$5:$D$81=$C8)*Extract!J$5:J$81) -> 1.19 | J8: =SUMPRODUCT((Extract!$B$5:$B$81=$A8)*(Extract!$C$5:$C$81=RIGHT($B8,7))*(Extract!$D$5:$D$81=$C8)*Extract!K$5:K$81) -> 2.37 | K8: =SUMPRODUCT((Extract!$B$5:$B$81=$A8)*(Extract!$C$5:$C$81=RIGHT($B8,7))*(Extract!$D$5:$D$81=$C8)*Extract!L$5:L$81) -> 2.27 | ... O8: =SUMPRODUCT((Extract!$B$5:$B$81=$A8)*(Extract!$C$5:$C$81=RIGHT($B8,7))*(Extract!$D$5:$D$81=$C8)*Extract!P$5:P$81) -> 2.27
A9: P1 | B9: Type Conso 2 | C9: Chantier 1 | D9: =SUMPRODUCT((Extract!$B$5:$B$81=$A9)*(Extract!$C$5:$C$81=RIGHT($B9,7))*(Extract!$D$5:$D$81=$C9)*Extract!E$5:E$81) -> 0 | E9: =SUMPRODUCT((Extract!$B$5:$B$81=$A9)*(Extract!$C$5:$C$81=RIGHT($B9,7))*(Extract!$D$5:$D$81=$C9)*Extract!F$5:F$81) -> 0 | F9: =SUMPRODUCT((Extract!$B$5:$B$81=$A9)*(Extract!$C$5:$C$81=RIGHT($B9,7))*(Extract!$D$5:$D$81=$C9)*Extract!G$5:G$81) -> 0 | G9: =SUMPRODUCT((Extract!$B$5:$B$81=$A9)*(Extract!$C$5:$C$81=RIGHT($B9,7))*(Extract!$D$5:$D$81=$C9)*Extract!H$5:H$81) -> 0 | H9: =SUMPRODUCT((Extract!$B$5:$B$81=$A9)*(Extract!$C$5:$C$81=RIGHT($B9,7))*(Extract!$D$5:$D$81=$C9)*Extract!I$5:I$81) -> 0 | I9: =SUMPRODUCT((Extract!$B$5:$B$81=$A9)*(Extract!$C$5:$C$81=RIGHT($B9,7))*(Extract!$D$5:$D$81=$C9)*Extract!J$5:J$81) -> 0 | J9: =SUMPRODUCT((Extract!$B$5:$B$81=$A9)*(Extract!$C$5:$C$81=RIGHT($B9,7))*(Extract!$D$5:$D$81=$C9)*Extract!K$5:K$81) -> 0 | K9: =SUMPRODUCT((Extract!$B$5:$B$81=$A9)*(Extract!$C$5:$C$81=RIGHT($B9,7))*(Extract!$D$5:$D$81=$C9)*Extract!L$5:L$81) -> 0 | ... O9: =SUMPRODUCT((Extract!$B$5:$B$81=$A9)*(Extract!$C$5:$C$81=RIGHT($B9,7))*(Extract!$D$5:$D$81=$C9)*Extract!P$5:P$81) -> 0
A10: P1 | B10: Type Conso 2 | C10: Chantier 2 | D10: =SUMPRODUCT((Extract!$B$5:$B$81=$A10)*(Extract!$C$5:$C$81=RIGHT($B10,7))*(Extract!$D$5:$D$81=$C10)*Extract!E$5:E$81) -> 0 | E10: =SUMPRODUCT((Extract!$B$5:$B$81=$A10)*(Extract!$C$5:$C$81=RIGHT($B10,7))*(Extract!$D$5:$D$81=$C10)*Extract!F$5:F$81) -> 0 | F10: =SUMPRODUCT((Extract!$B$5:$B$81=$A10)*(Extract!$C$5:$C$81=RIGHT($B10,7))*(Extract!$D$5:$D$81=$C10)*Extract!G$5:G$81) -> 0 | G10: =SUMPRODUCT((Extract!$B$5:$B$81=$A10)*(Extract!$C$5:$C$81=RIGHT($B10,7))*(Extract!$D$5:$D$81=$C10)*Extract!H$5:H$81) -> 0 | H10: =SUMPRODUCT((Extract!$B$5:$B$81=$A10)*(Extract!$C$5:$C$81=RIGHT($B10,7))*(Extract!$D$5:$D$81=$C10)*Extract!I$5:I$81) -> 0 | I10: =SUMPRODUCT((Extract!$B$5:$B$81=$A10)*(Extract!$C$5:$C$81=RIGHT($B10,7))*(Extract!$D$5:$D$81=$C10)*Extract!J$5:J$81) -> 0 | J10: =SUMPRODUCT((Extract!$B$5:$B$81=$A10)*(Extract!$C$5:$C$81=RIGHT($B10,7))*(Extract!$D$5:$D$81=$C10)*Extract!K$5:K$81) -> 0 | K10: =SUMPRODUCT((Extract!$B$5:$B$81=$A10)*(Extract!$C$5:$C$81=RIGHT($B10,7))*(Extract!$D$5:$D$81=$C10)*Extract!L$5:L$81) -> 0 | ... O10: =SUMPRODUCT((Extract!$B$5:$B$81=$A10)*(Extract!$C$5:$C$81=RIGHT($B10,7))*(Extract!$D$5:$D$81=$C10)*Extract!P$5:P$81) -> 0
A11: P1 | B11: Type Conso 2 | C11: Chantier 3 | D11: =SUMPRODUCT((Extract!$B$5:$B$81=$A11)*(Extract!$C$5:$C$81=RIGHT($B11,7))*(Extract!$D$5:$D$81=$C11)*Extract!E$5:E$81) -> 0 | E11: =SUMPRODUCT((Extract!$B$5:$B$81=$A11)*(Extract!$C$5:$C$81=RIGHT($B11,7))*(Extract!$D$5:$D$81=$C11)*Extract!F$5:F$81) -> 0 | F11: =SUMPRODUCT((Extract!$B$5:$B$81=$A11)*(Extract!$C$5:$C$81=RIGHT($B11,7))*(Extract!$D$5:$D$81=$C11)*Extract!G$5:G$81) -> 0 | G11: =SUMPRODUCT((Extract!$B$5:$B$81=$A11)*(Extract!$C$5:$C$81=RIGHT($B11,7))*(Extract!$D$5:$D$81=$C11)*Extract!H$5:H$81) -> 0 | H11: =SUMPRODUCT((Extract!$B$5:$B$81=$A11)*(Extract!$C$5:$C$81=RIGHT($B11,7))*(Extract!$D$5:$D$81=$C11)*Extract!I$5:I$81) -> 0 | I11: =SUMPRODUCT((Extract!$B$5:$B$81=$A11)*(Extract!$C$5:$C$81=RIGHT($B11,7))*(Extract!$D$5:$D$81=$C11)*Extract!J$5:J$81) -> 0 | J11: =SUMPRODUCT((Extract!$B$5:$B$81=$A11)*(Extract!$C$5:$C$81=RIGHT($B11,7))*(Extract!$D$5:$D$81=$C11)*Extract!K$5:K$81) -> 0 | K11: =SUMPRODUCT((Extract!$B$5:$B$81=$A11)*(Extract!$C$5:$C$81=RIGHT($B11,7))*(Extract!$D$5:$D$81=$C11)*Extract!L$5:L$81) -> 0 | ... O11: =SUMPRODUCT((Extract!$B$5:$B$81=$A11)*(Extract!$C$5:$C$81=RIGHT($B11,7))*(Extract!$D$5:$D$81=$C11)*Extract!P$5:P$81) -> 0
A12: P1 | B12: Type Conso 2 | C12: Chantier 4 | D12: =SUMPRODUCT((Extract!$B$5:$B$81=$A12)*(Extract!$C$5:$C$81=RIGHT($B12,7))*(Extract!$D$5:$D$81=$C12)*Extract!E$5:E$81) -> 0 | E12: =SUMPRODUCT((Extract!$B$5:$B$81=$A12)*(Extract!$C$5:$C$81=RIGHT($B12,7))*(Extract!$D$5:$D$81=$C12)*Extract!F$5:F$81) -> 0 | F12: =SUMPRODUCT((Extract!$B$5:$B$81=$A12)*(Extract!$C$5:$C$81=RIGHT($B12,7))*(Extract!$D$5:$D$81=$C12)*Extract!G$5:G$81) -> 0 | G12: =SUMPRODUCT((Extract!$B$5:$B$81=$A12)*(Extract!$C$5:$C$81=RIGHT($B12,7))*(Extract!$D$5:$D$81=$C12)*Extract!H$5:H$81) -> 0 | H12: =SUMPRODUCT((Extract!$B$5:$B$81=$A12)*(Extract!$C$5:$C$81=RIGHT($B12,7))*(Extract!$D$5:$D$81=$C12)*Extract!I$5:I$81) -> 0 | I12: =SUMPRODUCT((Extract!$B$5:$B$81=$A12)*(Extract!$C$5:$C$81=RIGHT($B12,7))*(Extract!$D$5:$D$81=$C12)*Extract!J$5:J$81) -> 0 | J12: =SUMPRODUCT((Extract!$B$5:$B$81=$A12)*(Extract!$C$5:$C$81=RIGHT($B12,7))*(Extract!$D$5:$D$81=$C12)*Extract!K$5:K$81) -> 0 | K12: =SUMPRODUCT((Extract!$B$5:$B$81=$A12)*(Extract!$C$5:$C$81=RIGHT($B12,7))*(Extract!$D$5:$D$81=$C12)*Extract!L$5:L$81) -> 0 | ... O12: =SUMPRODUCT((Extract!$B$5:$B$81=$A12)*(Extract!$C$5:$C$81=RIGHT($B12,7))*(Extract!$D$5:$D$81=$C12)*Extract!P$5:P$81) -> 0
A13: P1 | B13: Type Conso 2 | C13: Chantier 5 | D13: =SUMPRODUCT((Extract!$B$5:$B$81=$A13)*(Extract!$C$5:$C$81=RIGHT($B13,7))*(Extract!$D$5:$D$81=$C13)*Extract!E$5:E$81) -> 0 | E13: =SUMPRODUCT((Extract!$B$5:$B$81=$A13)*(Extract!$C$5:$C$81=RIGHT($B13,7))*(Extract!$D$5:$D$81=$C13)*Extract!F$5:F$81) -> 0 | F13: =SUMPRODUCT((Extract!$B$5:$B$81=$A13)*(Extract!$C$5:$C$81=RIGHT($B13,7))*(Extract!$D$5:$D$81=$C13)*Extract!G$5:G$81) -> 0 | G13: =SUMPRODUCT((Extract!$B$5:$B$81=$A13)*(Extract!$C$5:$C$81=RIGHT($B13,7))*(Extract!$D$5:$D$81=$C13)*Extract!H$5:H$81) -> 0 | H13: =SUMPRODUCT((Extract!$B$5:$B$81=$A13)*(Extract!$C$5:$C$81=RIGHT($B13,7))*(Extract!$D$5:$D$81=$C13)*Extract!I$5:I$81) -> 0 | I13: =SUMPRODUCT((Extract!$B$5:$B$81=$A13)*(Extract!$C$5:$C$81=RIGHT($B13,7))*(Extract!$D$5:$D$81=$C13)*Extract!J$5:J$81) -> 0 | J13: =SUMPRODUCT((Extract!$B$5:$B$81=$A13)*(Extract!$C$5:$C$81=RIGHT($B13,7))*(Extract!$D$5:$D$81=$C13)*Extract!K$5:K$81) -> 0 | K13: =SUMPRODUCT((Extract!$B$5:$B$81=$A13)*(Extract!$C$5:$C$81=RIGHT($B13,7))*(Extract!$D$5:$D$81=$C13)*Extract!L$5:L$81) -> 0 | ... O13: =SUMPRODUCT((Extract!$B$5:$B$81=$A13)*(Extract!$C$5:$C$81=RIGHT($B13,7))*(Extract!$D$5:$D$81=$C13)*Extract!P$5:P$81) -> 18.56
A14: P1 | B14: Type Conso 2 | C14: Chantier 6 | D14: =SUMPRODUCT((Extract!$B$5:$B$81=$A14)*(Extract!$C$5:$C$81=RIGHT($B14,7))*(Extract!$D$5:$D$81=$C14)*Extract!E$5:E$81) -> 0 | E14: =SUMPRODUCT((Extract!$B$5:$B$81=$A14)*(Extract!$C$5:$C$81=RIGHT($B14,7))*(Extract!$D$5:$D$81=$C14)*Extract!F$5:F$81) -> 0 | F14: =SUMPRODUCT((Extract!$B$5:$B$81=$A14)*(Extract!$C$5:$C$81=RIGHT($B14,7))*(Extract!$D$5:$D$81=$C14)*Extract!G$5:G$81) -> 0 | G14: =SUMPRODUCT((Extract!$B$5:$B$81=$A14)*(Extract!$C$5:$C$81=RIGHT($B14,7))*(Extract!$D$5:$D$81=$C14)*Extract!H$5:H$81) -> 0 | H14: =SUMPRODUCT((Extract!$B$5:$B$81=$A14)*(Extract!$C$5:$C$81=RIGHT($B14,7))*(Extract!$D$5:$D$81=$C14)*Extract!I$5:I$81) -> 0 | I14: =SUMPRODUCT((Extract!$B$5:$B$81=$A14)*(Extract!$C$5:$C$81=RIGHT($B14,7))*(Extract!$D$5:$D$81=$C14)*Extract!J$5:J$81) -> 0 | J14: =SUMPRODUCT((Extract!$B$5:$B$81=$A14)*(Extract!$C$5:$C$81=RIGHT($B14,7))*(Extract!$D$5:$D$81=$C14)*Extract!K$5:K$81) -> 0 | K14: =SUMPRODUCT((Extract!$B$5:$B$81=$A14)*(Extract!$C$5:$C$81=RIGHT($B14,7))*(Extract!$D$5:$D$81=$C14)*Extract!L$5:L$81) -> 0 | ... O14: =SUMPRODUCT((Extract!$B$5:$B$81=$A14)*(Extract!$C$5:$C$81=RIGHT($B14,7))*(Extract!$D$5:$D$81=$C14)*Extract!P$5:P$81) -> 0
... A98: P4 | B98: Type Conso 4 | C98: Chantier 6 | D98: =SUMPRODUCT((Extract!$B$5:$B$81=$A98)*(Extract!$C$5:$C$81=RIGHT($B98,7))*(Extract!$D$5:$D$81=$C98)*Extract!E$5:E$81) -> 0 | E98: =SUMPRODUCT((Extract!$B$5:$B$81=$A98)*(Extract!$C$5:$C$81=RIGHT($B98,7))*(Extract!$D$5:$D$81=$C98)*Extract!F$5:F$81) -> 0 | F98: =SUMPRODUCT((Extract!$B$5:$B$81=$A98)*(Extract!$C$5:$C$81=RIGHT($B98,7))*(Extract!$D$5:$D$81=$C98)*Extract!G$5:G$81) -> 0 | G98: =SUMPRODUCT((Extract!$B$5:$B$81=$A98)*(Extract!$C$5:$C$81=RIGHT($B98,7))*(Extract!$D$5:$D$81=$C98)*Extract!H$5:H$81) -> 0 | H98: =SUMPRODUCT((Extract!$B$5:$B$81=$A98)*(Extract!$C$5:$C$81=RIGHT($B98,7))*(Extract!$D$5:$D$81=$C98)*Extract!I$5:I$81) -> 0 | I98: =SUMPRODUCT((Extract!$B$5:$B$81=$A98)*(Extract!$C$5:$C$81=RIGHT($B98,7))*(Extract!$D$5:$D$81=$C98)*Extract!J$5:J$81) -> 0 | J98: =SUMPRODUCT((Extract!$B$5:$B$81=$A98)*(Extract!$C$5:$C$81=RIGHT($B98,7))*(Extract!$D$5:$D$81=$C98)*Extract!K$5:K$81) -> 0 | K98: =SUMPRODUCT((Extract!$B$5:$B$81=$A98)*(Extract!$C$5:$C$81=RIGHT($B98,7))*(Extract!$D$5:$D$81=$C98)*Extract!L$5:L$81) -> 0 | ... O98: =SUMPRODUCT((Extract!$B$5:$B$81=$A98)*(Extract!$C$5:$C$81=RIGHT($B98,7))*(Extract!$D$5:$D$81=$C98)*Extract!P$5:P$81) -> 0
