Workbook

Sheet Feuil1
A1: DATE | B1: CATEGORIE | C1: AFFECTATION | D1: MONTANT
A2: 42370 | B2: Cotisation | C2: Hervé | D2: 45
A3: 42374 | B3: Cotisation | C3: Henri | D3: 45
A4: 42405 | B4: Assurance | C4: Hervé | D4: 37
A5: 42406 | B5: Assurance | C5: Henri | D5: 37
A6: 42431 | B6: Dépense bar | C6: Association | D6: 105
A7: 42432 | B7: Recette bar | C7: Association | D7: 150
A12: J'aimerais en feuille2 calculer par mois les cotisations et les assurances réunies.
A14: Aussi par exemple la somme total des Hervés et des Henris

Sheet Feuil2
A1: Mois | B1: Montant
A2: Janvier | B2: =SUMPRODUCT((MONTH(Feuil1!$A$2:$A$7)=ROW()-1)*((Feuil1!$B$2:$B$7="Assurance")+(Feuil1!$B$2:$B$7="Cotisation"))*Feuil1!$D$2:$D$7) -> 90 | C2: =SUMPRODUCT((MONTH(Feuil1!$A$2:$A$7)=ROW()-1)*((Feuil1!$C$2:$C$7="Henri")+(Feuil1!$C$2:$C$7="Hervé"))*Feuil1!$D$2:$D$7) -> 90
A3: Février | B3: =SUMPRODUCT((MONTH(Feuil1!$A$2:$A$7)=ROW()-1)*((Feuil1!$B$2:$B$7="Assurance")+(Feuil1!$B$2:$B$7="Cotisation"))*Feuil1!$D$2:$D$7) -> 74 | C3: =SUMPRODUCT((MONTH(Feuil1!$A$2:$A$7)=ROW()-1)*((Feuil1!$C$2:$C$7="Henri")+(Feuil1!$C$2:$C$7="Hervé"))*Feuil1!$D$2:$D$7) -> 74
A4: Mars | B4: =SUMPRODUCT((MONTH(Feuil1!$A$2:$A$7)=ROW()-1)*((Feuil1!$B$2:$B$7="Assurance")+(Feuil1!$B$2:$B$7="Cotisation"))*Feuil1!$D$2:$D$7) -> 0 | C4: =SUMPRODUCT((MONTH(Feuil1!$A$2:$A$7)=ROW()-1)*((Feuil1!$C$2:$C$7="Henri")+(Feuil1!$C$2:$C$7="Hervé"))*Feuil1!$D$2:$D$7) -> 0
A5: Avril | B5: =SUMPRODUCT((MONTH(Feuil1!$A$2:$A$7)=ROW()-1)*((Feuil1!$B$2:$B$7="Assurance")+(Feuil1!$B$2:$B$7="Cotisation"))*Feuil1!$D$2:$D$7) -> 0 | C5: =SUMPRODUCT((MONTH(Feuil1!$A$2:$A$7)=ROW()-1)*((Feuil1!$C$2:$C$7="Henri")+(Feuil1!$C$2:$C$7="Hervé"))*Feuil1!$D$2:$D$7) -> 0
A6: Mai | B6: =SUMPRODUCT((MONTH(Feuil1!$A$2:$A$7)=ROW()-1)*((Feuil1!$B$2:$B$7="Assurance")+(Feuil1!$B$2:$B$7="Cotisation"))*Feuil1!$D$2:$D$7) -> 0 | C6: =SUMPRODUCT((MONTH(Feuil1!$A$2:$A$7)=ROW()-1)*((Feuil1!$C$2:$C$7="Henri")+(Feuil1!$C$2:$C$7="Hervé"))*Feuil1!$D$2:$D$7) -> 0
A7: Juin | B7: =SUMPRODUCT((MONTH(Feuil1!$A$2:$A$7)=ROW()-1)*((Feuil1!$B$2:$B$7="Assurance")+(Feuil1!$B$2:$B$7="Cotisation"))*Feuil1!$D$2:$D$7) -> 0 | C7: =SUMPRODUCT((MONTH(Feuil1!$A$2:$A$7)=ROW()-1)*((Feuil1!$C$2:$C$7="Henri")+(Feuil1!$C$2:$C$7="Hervé"))*Feuil1!$D$2:$D$7) -> 0
A8: Juillet | B8: =SUMPRODUCT((MONTH(Feuil1!$A$2:$A$7)=ROW()-1)*((Feuil1!$B$2:$B$7="Assurance")+(Feuil1!$B$2:$B$7="Cotisation"))*Feuil1!$D$2:$D$7) -> 0 | C8: =SUMPRODUCT((MONTH(Feuil1!$A$2:$A$7)=ROW()-1)*((Feuil1!$C$2:$C$7="Henri")+(Feuil1!$C$2:$C$7="Hervé"))*Feuil1!$D$2:$D$7) -> 0
A9: Août | B9: =SUMPRODUCT((MONTH(Feuil1!$A$2:$A$7)=ROW()-1)*((Feuil1!$B$2:$B$7="Assurance")+(Feuil1!$B$2:$B$7="Cotisation"))*Feuil1!$D$2:$D$7) -> 0 | C9: =SUMPRODUCT((MONTH(Feuil1!$A$2:$A$7)=ROW()-1)*((Feuil1!$C$2:$C$7="Henri")+(Feuil1!$C$2:$C$7="Hervé"))*Feuil1!$D$2:$D$7) -> 0
A10: Septembre | B10: =SUMPRODUCT((MONTH(Feuil1!$A$2:$A$7)=ROW()-1)*((Feuil1!$B$2:$B$7="Assurance")+(Feuil1!$B$2:$B$7="Cotisation"))*Feuil1!$D$2:$D$7) -> 0 | C10: =SUMPRODUCT((MONTH(Feuil1!$A$2:$A$7)=ROW()-1)*((Feuil1!$C$2:$C$7="Henri")+(Feuil1!$C$2:$C$7="Hervé"))*Feuil1!$D$2:$D$7) -> 0
A11: Octobre | B11: =SUMPRODUCT((MONTH(Feuil1!$A$2:$A$7)=ROW()-1)*((Feuil1!$B$2:$B$7="Assurance")+(Feuil1!$B$2:$B$7="Cotisation"))*Feuil1!$D$2:$D$7) -> 0 | C11: =SUMPRODUCT((MONTH(Feuil1!$A$2:$A$7)=ROW()-1)*((Feuil1!$C$2:$C$7="Henri")+(Feuil1!$C$2:$C$7="Hervé"))*Feuil1!$D$2:$D$7) -> 0
A12: Novembre | B12: =SUMPRODUCT((MONTH(Feuil1!$A$2:$A$7)=ROW()-1)*((Feuil1!$B$2:$B$7="Assurance")+(Feuil1!$B$2:$B$7="Cotisation"))*Feuil1!$D$2:$D$7) -> 0 | C12: =SUMPRODUCT((MONTH(Feuil1!$A$2:$A$7)=ROW()-1)*((Feuil1!$C$2:$C$7="Henri")+(Feuil1!$C$2:$C$7="Hervé"))*Feuil1!$D$2:$D$7) -> 0
A13: Décembre | B13: =SUMPRODUCT((MONTH(Feuil1!$A$2:$A$7)=ROW()-1)*((Feuil1!$B$2:$B$7="Assurance")+(Feuil1!$B$2:$B$7="Cotisation"))*Feuil1!$D$2:$D$7) -> 0 | C13: =SUMPRODUCT((MONTH(Feuil1!$A$2:$A$7)=ROW()-1)*((Feuil1!$C$2:$C$7="Henri")+(Feuil1!$C$2:$C$7="Hervé"))*Feuil1!$D$2:$D$7) -> 0
