Workbook

Sheet Feuil1
E3: SEMAINE DU | F3: 42275 | G3: =TEXT(F3,"jj/mm/aaaa") -> 28/09/2015
A4: ID | C4: NOM | D4: PRENOM | E4: =CONCATENATE(G2," / ",E2," / SEMAINE DU ",G3," / ",F2) -> / / SEMAINE DU 28/09/2015 /
G6: LUNDI | J6: MARDI | M6: MERCREDI | P6: JEUDI | S6: VENDREDI
G7: Lundi(28/09/2015) | J7: Mardi(29/09/2015) | M7: Mercredi(30/09/2015) | P7: Jeudi(01/10/2015) | S7: Vendredi(02/10/2015)
G9: Inscription | H9: Présence | J9: Inscription | K9: Présence | M9: Inscription | N9: Présence | P9: Inscription | Q9: Présence | S9: Inscription | T9: Présence
E10: Nom et Prénom
A11: 27056 | C11: BERNARD Bertrand | D11: Bertrand | E11: =IF(A11="","",CONCATENATE(C11," (",A11,")")) -> BERNARD Bertrand (27056) | G11: =IFERROR(OFFSET(Feuil2!$J$1,MATCH($A11,Feuil2!$B$2:$B$7,0),MATCH(G$7,Feuil2!$K$1:$P$1,0)),"") -> . | J11: =IFERROR(OFFSET(Feuil2!$J$1,MATCH($A11,Feuil2!$B$2:$B$7,0),MATCH(J$7,Feuil2!$K$1:$P$1,0)),"") -> . | M11: =IFERROR(OFFSET(Feuil2!$J$1,MATCH($A11,Feuil2!$B$2:$B$7,0),MATCH(M$7,Feuil2!$K$1:$P$1,0)),"") -> R | P11: =IFERROR(OFFSET(Feuil2!$J$1,MATCH($A11,Feuil2!$B$2:$B$7,0),MATCH(P$7,Feuil2!$K$1:$P$1,0)),"") -> R | S11: =IFERROR(OFFSET(Feuil2!$J$1,MATCH($A11,Feuil2!$B$2:$B$7,0),MATCH(S$7,Feuil2!$K$1:$P$1,0)),"") -> R | U11: =IF(E11="","",E11) -> BERNARD Bertrand (27056)
A12: 27057 | C12: PATRICK Bernard | D12: Bernard | E12: =IF(A12="","",CONCATENATE(C12," (",A12,")")) -> PATRICK Bernard (27057) | G12: =IFERROR(OFFSET(Feuil2!$J$1,MATCH($A12,Feuil2!$B$2:$B$7,0),MATCH(G$7,Feuil2!$K$1:$P$1,0)),"") -> R | J12: =IFERROR(OFFSET(Feuil2!$J$1,MATCH($A12,Feuil2!$B$2:$B$7,0),MATCH(J$7,Feuil2!$K$1:$P$1,0)),"") -> R | M12: =IFERROR(OFFSET(Feuil2!$J$1,MATCH($A12,Feuil2!$B$2:$B$7,0),MATCH(M$7,Feuil2!$K$1:$P$1,0)),"") -> R | P12: =IFERROR(OFFSET(Feuil2!$J$1,MATCH($A12,Feuil2!$B$2:$B$7,0),MATCH(P$7,Feuil2!$K$1:$P$1,0)),"") -> . | S12: =IFERROR(OFFSET(Feuil2!$J$1,MATCH($A12,Feuil2!$B$2:$B$7,0),MATCH(S$7,Feuil2!$K$1:$P$1,0)),"") -> R | U12: =IF(E12="","",E12) -> PATRICK Bernard (27057)
A13: 27058 | C13: JOSE Josette | D13: Josette | E13: =IF(A13="","",CONCATENATE(C13," (",A13,")")) -> JOSE Josette (27058) | G13: =IFERROR(OFFSET(Feuil2!$J$1,MATCH($A13,Feuil2!$B$2:$B$7,0),MATCH(G$7,Feuil2!$K$1:$P$1,0)),"") -> R | J13: =IFERROR(OFFSET(Feuil2!$J$1,MATCH($A13,Feuil2!$B$2:$B$7,0),MATCH(J$7,Feuil2!$K$1:$P$1,0)),"") -> R | M13: =IFERROR(OFFSET(Feuil2!$J$1,MATCH($A13,Feuil2!$B$2:$B$7,0),MATCH(M$7,Feuil2!$K$1:$P$1,0)),"") -> R | P13: =IFERROR(OFFSET(Feuil2!$J$1,MATCH($A13,Feuil2!$B$2:$B$7,0),MATCH(P$7,Feuil2!$K$1:$P$1,0)),"") -> . | S13: =IFERROR(OFFSET(Feuil2!$J$1,MATCH($A13,Feuil2!$B$2:$B$7,0),MATCH(S$7,Feuil2!$K$1:$P$1,0)),"") -> . | U13: =IF(E13="","",E13) -> JOSE Josette (27058)
A14: 27059 | C14: MARTIN Martine | D14: Martine | E14: =IF(A14="","",CONCATENATE(C14," (",A14,")")) -> MARTIN Martine (27059) | G14: =IFERROR(OFFSET(Feuil2!$J$1,MATCH($A14,Feuil2!$B$2:$B$7,0),MATCH(G$7,Feuil2!$K$1:$P$1,0)),"") -> . | J14: =IFERROR(OFFSET(Feuil2!$J$1,MATCH($A14,Feuil2!$B$2:$B$7,0),MATCH(J$7,Feuil2!$K$1:$P$1,0)),"") -> . | M14: =IFERROR(OFFSET(Feuil2!$J$1,MATCH($A14,Feuil2!$B$2:$B$7,0),MATCH(M$7,Feuil2!$K$1:$P$1,0)),"") -> R | P14: =IFERROR(OFFSET(Feuil2!$J$1,MATCH($A14,Feuil2!$B$2:$B$7,0),MATCH(P$7,Feuil2!$K$1:$P$1,0)),"") -> R | S14: =IFERROR(OFFSET(Feuil2!$J$1,MATCH($A14,Feuil2!$B$2:$B$7,0),MATCH(S$7,Feuil2!$K$1:$P$1,0)),"") -> . | U14: =IF(E14="","",E14) -> MARTIN Martine (27059)
A15: 27060 | C15: CHRISTIAN | D15: Christine | E15: =IF(A15="","",CONCATENATE(C15," (",A15,")")) -> CHRISTIAN (27060) | G15: =IFERROR(OFFSET(Feuil2!$J$1,MATCH($A15,Feuil2!$B$2:$B$7,0),MATCH(G$7,Feuil2!$K$1:$P$1,0)),"") -> . | J15: =IFERROR(OFFSET(Feuil2!$J$1,MATCH($A15,Feuil2!$B$2:$B$7,0),MATCH(J$7,Feuil2!$K$1:$P$1,0)),"") -> . | M15: =IFERROR(OFFSET(Feuil2!$J$1,MATCH($A15,Feuil2!$B$2:$B$7,0),MATCH(M$7,Feuil2!$K$1:$P$1,0)),"") -> R | P15: =IFERROR(OFFSET(Feuil2!$J$1,MATCH($A15,Feuil2!$B$2:$B$7,0),MATCH(P$7,Feuil2!$K$1:$P$1,0)),"") -> R | S15: =IFERROR(OFFSET(Feuil2!$J$1,MATCH($A15,Feuil2!$B$2:$B$7,0),MATCH(S$7,Feuil2!$K$1:$P$1,0)),"") -> . | U15: =IF(E15="","",E15) -> CHRISTIAN (27060)
E16: =IF(A16="","",CONCATENATE(C16," (",A16,")")) | G16: =IFERROR(OFFSET(Feuil2!$J$1,MATCH($A16,Feuil2!$B$2:$B$7,0),MATCH(G$7,Feuil2!$K$1:$P$1,0)),"") | J16: =IFERROR(OFFSET(Feuil2!$J$1,MATCH($A16,Feuil2!$B$2:$B$7,0),MATCH(J$7,Feuil2!$K$1:$P$1,0)),"") | M16: =IFERROR(OFFSET(Feuil2!$J$1,MATCH($A16,Feuil2!$B$2:$B$7,0),MATCH(M$7,Feuil2!$K$1:$P$1,0)),"") | P16: =IFERROR(OFFSET(Feuil2!$J$1,MATCH($A16,Feuil2!$B$2:$B$7,0),MATCH(P$7,Feuil2!$K$1:$P$1,0)),"") | S16: =IFERROR(OFFSET(Feuil2!$J$1,MATCH($A16,Feuil2!$B$2:$B$7,0),MATCH(S$7,Feuil2!$K$1:$P$1,0)),"") | U16: =IF(E16="","",E16)
E17: =IF(A17="","",CONCATENATE(C17," (",A17,")")) | G17: =IFERROR(OFFSET(Feuil2!$J$1,MATCH($A17,Feuil2!$B$2:$B$7,0),MATCH(G$7,Feuil2!$K$1:$P$1,0)),"") | J17: =IFERROR(OFFSET(Feuil2!$J$1,MATCH($A17,Feuil2!$B$2:$B$7,0),MATCH(J$7,Feuil2!$K$1:$P$1,0)),"") | M17: =IFERROR(OFFSET(Feuil2!$J$1,MATCH($A17,Feuil2!$B$2:$B$7,0),MATCH(M$7,Feuil2!$K$1:$P$1,0)),"") | P17: =IFERROR(OFFSET(Feuil2!$J$1,MATCH($A17,Feuil2!$B$2:$B$7,0),MATCH(P$7,Feuil2!$K$1:$P$1,0)),"") | S17: =IFERROR(OFFSET(Feuil2!$J$1,MATCH($A17,Feuil2!$B$2:$B$7,0),MATCH(S$7,Feuil2!$K$1:$P$1,0)),"") | U17: =IF(E17="","",E17)
E18: =IF(A18="","",CONCATENATE(C18," (",A18,")")) | G18: =IFERROR(OFFSET(Feuil2!$J$1,MATCH($A18,Feuil2!$B$2:$B$7,0),MATCH(G$7,Feuil2!$K$1:$P$1,0)),"") | J18: =IFERROR(OFFSET(Feuil2!$J$1,MATCH($A18,Feuil2!$B$2:$B$7,0),MATCH(J$7,Feuil2!$K$1:$P$1,0)),"") | M18: =IFERROR(OFFSET(Feuil2!$J$1,MATCH($A18,Feuil2!$B$2:$B$7,0),MATCH(M$7,Feuil2!$K$1:$P$1,0)),"") | P18: =IFERROR(OFFSET(Feuil2!$J$1,MATCH($A18,Feuil2!$B$2:$B$7,0),MATCH(P$7,Feuil2!$K$1:$P$1,0)),"") | S18: =IFERROR(OFFSET(Feuil2!$J$1,MATCH($A18,Feuil2!$B$2:$B$7,0),MATCH(S$7,Feuil2!$K$1:$P$1,0)),"") | U18: =IF(E18="","",E18)
E19: =IF(A19="","",CONCATENATE(C19," (",A19,")")) | G19: =IFERROR(OFFSET(Feuil2!$J$1,MATCH($A19,Feuil2!$B$2:$B$7,0),MATCH(G$7,Feuil2!$K$1:$P$1,0)),"") | J19: =IFERROR(OFFSET(Feuil2!$J$1,MATCH($A19,Feuil2!$B$2:$B$7,0),MATCH(J$7,Feuil2!$K$1:$P$1,0)),"") | M19: =IFERROR(OFFSET(Feuil2!$J$1,MATCH($A19,Feuil2!$B$2:$B$7,0),MATCH(M$7,Feuil2!$K$1:$P$1,0)),"") | P19: =IFERROR(OFFSET(Feuil2!$J$1,MATCH($A19,Feuil2!$B$2:$B$7,0),MATCH(P$7,Feuil2!$K$1:$P$1,0)),"") | S19: =IFERROR(OFFSET(Feuil2!$J$1,MATCH($A19,Feuil2!$B$2:$B$7,0),MATCH(S$7,Feuil2!$K$1:$P$1,0)),"") | U19: =IF(E19="","",E19)
E20: =IF(A20="","",CONCATENATE(C20," (",A20,")")) | G20: =IFERROR(OFFSET(Feuil2!$J$1,MATCH($A20,Feuil2!$B$2:$B$7,0),MATCH(G$7,Feuil2!$K$1:$P$1,0)),"") | J20: =IFERROR(OFFSET(Feuil2!$J$1,MATCH($A20,Feuil2!$B$2:$B$7,0),MATCH(J$7,Feuil2!$K$1:$P$1,0)),"") | M20: =IFERROR(OFFSET(Feuil2!$J$1,MATCH($A20,Feuil2!$B$2:$B$7,0),MATCH(M$7,Feuil2!$K$1:$P$1,0)),"") | P20: =IFERROR(OFFSET(Feuil2!$J$1,MATCH($A20,Feuil2!$B$2:$B$7,0),MATCH(P$7,Feuil2!$K$1:$P$1,0)),"") | S20: =IFERROR(OFFSET(Feuil2!$J$1,MATCH($A20,Feuil2!$B$2:$B$7,0),MATCH(S$7,Feuil2!$K$1:$P$1,0)),"") | U20: =IF(E20="","",E20)
E21: =IF(A21="","",CONCATENATE(C21," (",A21,")")) | G21: =IFERROR(OFFSET(Feuil2!$J$1,MATCH($A21,Feuil2!$B$2:$B$7,0),MATCH(G$7,Feuil2!$K$1:$P$1,0)),"") | J21: =IFERROR(OFFSET(Feuil2!$J$1,MATCH($A21,Feuil2!$B$2:$B$7,0),MATCH(J$7,Feuil2!$K$1:$P$1,0)),"") | M21: =IFERROR(OFFSET(Feuil2!$J$1,MATCH($A21,Feuil2!$B$2:$B$7,0),MATCH(M$7,Feuil2!$K$1:$P$1,0)),"") | P21: =IFERROR(OFFSET(Feuil2!$J$1,MATCH($A21,Feuil2!$B$2:$B$7,0),MATCH(P$7,Feuil2!$K$1:$P$1,0)),"") | S21: =IFERROR(OFFSET(Feuil2!$J$1,MATCH($A21,Feuil2!$B$2:$B$7,0),MATCH(S$7,Feuil2!$K$1:$P$1,0)),"") | U21: =IF(E21="","",E21)
E22: =IF(A22="","",CONCATENATE(C22," (",A22,")")) | G22: =IFERROR(OFFSET(Feuil2!$J$1,MATCH($A22,Feuil2!$B$2:$B$7,0),MATCH(G$7,Feuil2!$K$1:$P$1,0)),"") | J22: =IFERROR(OFFSET(Feuil2!$J$1,MATCH($A22,Feuil2!$B$2:$B$7,0),MATCH(J$7,Feuil2!$K$1:$P$1,0)),"") | M22: =IFERROR(OFFSET(Feuil2!$J$1,MATCH($A22,Feuil2!$B$2:$B$7,0),MATCH(M$7,Feuil2!$K$1:$P$1,0)),"") | P22: =IFERROR(OFFSET(Feuil2!$J$1,MATCH($A22,Feuil2!$B$2:$B$7,0),MATCH(P$7,Feuil2!$K$1:$P$1,0)),"") | S22: =IFERROR(OFFSET(Feuil2!$J$1,MATCH($A22,Feuil2!$B$2:$B$7,0),MATCH(S$7,Feuil2!$K$1:$P$1,0)),"") | U22: =IF(E22="","",E22)
E23: =IF(A23="","",CONCATENATE(C23," (",A23,")")) | G23: =IFERROR(OFFSET(Feuil2!$J$1,MATCH($A23,Feuil2!$B$2:$B$7,0),MATCH(G$7,Feuil2!$K$1:$P$1,0)),"") | J23: =IFERROR(OFFSET(Feuil2!$J$1,MATCH($A23,Feuil2!$B$2:$B$7,0),MATCH(J$7,Feuil2!$K$1:$P$1,0)),"") | M23: =IFERROR(OFFSET(Feuil2!$J$1,MATCH($A23,Feuil2!$B$2:$B$7,0),MATCH(M$7,Feuil2!$K$1:$P$1,0)),"") | P23: =IFERROR(OFFSET(Feuil2!$J$1,MATCH($A23,Feuil2!$B$2:$B$7,0),MATCH(P$7,Feuil2!$K$1:$P$1,0)),"") | S23: =IFERROR(OFFSET(Feuil2!$J$1,MATCH($A23,Feuil2!$B$2:$B$7,0),MATCH(S$7,Feuil2!$K$1:$P$1,0)),"") | U23: =IF(E23="","",E23)
E24: =IF(A24="","",CONCATENATE(C24," (",A24,")")) | G24: =IFERROR(OFFSET(Feuil2!$J$1,MATCH($A24,Feuil2!$B$2:$B$7,0),MATCH(G$7,Feuil2!$K$1:$P$1,0)),"") | J24: =IFERROR(OFFSET(Feuil2!$J$1,MATCH($A24,Feuil2!$B$2:$B$7,0),MATCH(J$7,Feuil2!$K$1:$P$1,0)),"") | M24: =IFERROR(OFFSET(Feuil2!$J$1,MATCH($A24,Feuil2!$B$2:$B$7,0),MATCH(M$7,Feuil2!$K$1:$P$1,0)),"") | P24: =IFERROR(OFFSET(Feuil2!$J$1,MATCH($A24,Feuil2!$B$2:$B$7,0),MATCH(P$7,Feuil2!$K$1:$P$1,0)),"") | S24: =IFERROR(OFFSET(Feuil2!$J$1,MATCH($A24,Feuil2!$B$2:$B$7,0),MATCH(S$7,Feuil2!$K$1:$P$1,0)),"") | U24: =IF(E24="","",E24)
E25: =IF(A25="","",CONCATENATE(C25," (",A25,")")) | G25: =IFERROR(OFFSET(Feuil2!$J$1,MATCH($A25,Feuil2!$B$2:$B$7,0),MATCH(G$7,Feuil2!$K$1:$P$1,0)),"") | J25: =IFERROR(OFFSET(Feuil2!$J$1,MATCH($A25,Feuil2!$B$2:$B$7,0),MATCH(J$7,Feuil2!$K$1:$P$1,0)),"") | M25: =IFERROR(OFFSET(Feuil2!$J$1,MATCH($A25,Feuil2!$B$2:$B$7,0),MATCH(M$7,Feuil2!$K$1:$P$1,0)),"") | P25: =IFERROR(OFFSET(Feuil2!$J$1,MATCH($A25,Feuil2!$B$2:$B$7,0),MATCH(P$7,Feuil2!$K$1:$P$1,0)),"") | S25: =IFERROR(OFFSET(Feuil2!$J$1,MATCH($A25,Feuil2!$B$2:$B$7,0),MATCH(S$7,Feuil2!$K$1:$P$1,0)),"") | U25: =IF(E25="","",E25)
E26: =IF(A26="","",CONCATENATE(C26," (",A26,")")) | G26: =IFERROR(OFFSET(Feuil2!$J$1,MATCH($A26,Feuil2!$B$2:$B$7,0),MATCH(G$7,Feuil2!$K$1:$P$1,0)),"") | J26: =IFERROR(OFFSET(Feuil2!$J$1,MATCH($A26,Feuil2!$B$2:$B$7,0),MATCH(J$7,Feuil2!$K$1:$P$1,0)),"") | M26: =IFERROR(OFFSET(Feuil2!$J$1,MATCH($A26,Feuil2!$B$2:$B$7,0),MATCH(M$7,Feuil2!$K$1:$P$1,0)),"") | P26: =IFERROR(OFFSET(Feuil2!$J$1,MATCH($A26,Feuil2!$B$2:$B$7,0),MATCH(P$7,Feuil2!$K$1:$P$1,0)),"") | S26: =IFERROR(OFFSET(Feuil2!$J$1,MATCH($A26,Feuil2!$B$2:$B$7,0),MATCH(S$7,Feuil2!$K$1:$P$1,0)),"") | U26: =IF(E26="","",E26)
E27: =IF(A27="","",CONCATENATE(C27," (",A27,")")) | G27: =IFERROR(OFFSET(Feuil2!$J$1,MATCH($A27,Feuil2!$B$2:$B$7,0),MATCH(G$7,Feuil2!$K$1:$P$1,0)),"") | J27: =IFERROR(OFFSET(Feuil2!$J$1,MATCH($A27,Feuil2!$B$2:$B$7,0),MATCH(J$7,Feuil2!$K$1:$P$1,0)),"") | M27: =IFERROR(OFFSET(Feuil2!$J$1,MATCH($A27,Feuil2!$B$2:$B$7,0),MATCH(M$7,Feuil2!$K$1:$P$1,0)),"") | P27: =IFERROR(OFFSET(Feuil2!$J$1,MATCH($A27,Feuil2!$B$2:$B$7,0),MATCH(P$7,Feuil2!$K$1:$P$1,0)),"") | S27: =IFERROR(OFFSET(Feuil2!$J$1,MATCH($A27,Feuil2!$B$2:$B$7,0),MATCH(S$7,Feuil2!$K$1:$P$1,0)),"") | U27: =IF(E27="","",E27)
... E41: =IF(A41="","",CONCATENATE(C41," (",A41,")")) | G41: =IFERROR(OFFSET(Feuil2!$J$1,MATCH($A41,Feuil2!$B$2:$B$7,0),MATCH(G$7,Feuil2!$K$1:$P$1,0)),"") | J41: =IFERROR(OFFSET(Feuil2!$J$1,MATCH($A41,Feuil2!$B$2:$B$7,0),MATCH(J$7,Feuil2!$K$1:$P$1,0)),"") | M41: =IFERROR(OFFSET(Feuil2!$J$1,MATCH($A41,Feuil2!$B$2:$B$7,0),MATCH(M$7,Feuil2!$K$1:$P$1,0)),"") | P41: =IFERROR(OFFSET(Feuil2!$J$1,MATCH($A41,Feuil2!$B$2:$B$7,0),MATCH(P$7,Feuil2!$K$1:$P$1,0)),"") | S41: =IFERROR(OFFSET(Feuil2!$J$1,MATCH($A41,Feuil2!$B$2:$B$7,0),MATCH(S$7,Feuil2!$K$1:$P$1,0)),"") | U41: =IF(E41="","",E41)
G42: =IFERROR(OFFSET(Feuil2!$J$1,MATCH($A42,Feuil2!$B$2:$B$7,0),MATCH(G$7,Feuil2!$K$1:$P$1,0)),"") | J42: =IFERROR(OFFSET(Feuil2!$J$1,MATCH($A42,Feuil2!$B$2:$B$7,0),MATCH(J$7,Feuil2!$K$1:$P$1,0)),"") | M42: =IFERROR(OFFSET(Feuil2!$J$1,MATCH($A42,Feuil2!$B$2:$B$7,0),MATCH(M$7,Feuil2!$K$1:$P$1,0)),"") | P42: =IFERROR(OFFSET(Feuil2!$J$1,MATCH($A42,Feuil2!$B$2:$B$7,0),MATCH(P$7,Feuil2!$K$1:$P$1,0)),"") | S42: =IFERROR(OFFSET(Feuil2!$J$1,MATCH($A42,Feuil2!$B$2:$B$7,0),MATCH(S$7,Feuil2!$K$1:$P$1,0)),"") | U42: =IF(E42="","",E42)
F43: TOTAL | U43: =IF(E43="","",E43)

Sheet Feuil2
B1: Personne | K1: Vendredi(25/09/2015 | L1: Lundi(28/09/2015) | M1: Mardi(29/09/2015) | N1: Mercredi(30/09/2015) | O1: Jeudi(01/10/2015) | P1: Vendredi(02/10/2015)
B2: 27056 | K2: . | L2: . | M2: . | N2: R | O2: R | P2: R
B3: 27057 | K3: . | L3: R | M3: R | N3: R | O3: . | P3: R
B4: 28302 | K4: R | L4: R | M4: R | N4: . | O4: . | P4: R
B5: 27058 | K5: R | L5: R | M5: R | N5: R | O5: . | P5: .
B6: 27059 | K6: . | L6: . | M6: . | N6: R | O6: R | P6: .
B7: 27060 | K7: . | L7: . | M7: . | N7: R | O7: R | P7: .

Sheet Feuil3
