Workbook

Sheet Calendrier
A1: Plan de Travail | B1: du | C1: au
A2: 1 | B2: 42248 | C2: 42272
A3: =A2+1 -> 2 | B3: 42275 | C3: 42293
A4: =A3+1 -> 3 | B4: 42310 | C4: =B4+19 -> 42329
A5: =A4+1 -> 4 | B5: 42331 | C5: 42349
A6: =A5+1 -> 5 | B6: 42373 | C6: =B6+18 -> 42391
A7: =A6+1 -> 6 | B7: 42394 | C7: =B7+18 -> 42412
A8: =A7+1 -> 7 | B8: 42436 | C8: =B8+18 -> 42454
A9: =A8+1 -> 8 | B9: 42457 | C9: =B9+18 -> 42475
A10: =A9+1 -> 9 | B10: 42492 | C10: =B10+18 -> 42510
A11: =A10+1 -> 10 | B11: 42513 | C11: =B11+18 -> 42531
A12: =A11+1 -> 11 | B12: 42534 | C12: =B12+18 -> 42552

Sheet Liste élèves
A1: Niveau | B1: Nom de famille élève | C1: Prénom élève | D1: Date naiss. | E1: Sexe | F1: Âge
A2: CE2 | B2: A | C2: a | D2: 38787 | E2: MASCULIN | F2: =ROUND((TODAY()-D2)/365,1) -> 10.2
A3: CE2 | B3: B | C3: b | D3: 39126 | E3: FEMININ | F3: =ROUND((TODAY()-D3)/365,1) -> 9.2
A4: CE2 | B4: C | C4: c | D4: 39320 | E4: MASCULIN | F4: =ROUND((TODAY()-D4)/365,1) -> 8.7
A5: CM1 | B5: D | C5: d | D5: 38976 | E5: FEMININ | F5: =ROUND((TODAY()-D5)/365,1) -> 9.7
A6: CM1 | B6: E | C6: e | D6: 38953 | E6: MASCULIN | F6: =ROUND((TODAY()-D6)/365,1) -> 9.7
A7: CM1 | B7: F | C7: f | D7: 38730 | E7: FEMININ | F7: =ROUND((TODAY()-D7)/365,1) -> 10.3
A8: CM1 | B8: G | C8: g | D8: 38927 | E8: MASCULIN | F8: =ROUND((TODAY()-D8)/365,1) -> 9.8
A9: CM1 | B9: H | C9: h | D9: 38919 | E9: MASCULIN | F9: =ROUND((TODAY()-D9)/365,1) -> 9.8
A10: CM2 | B10: I | C10: i | D10: 38246 | E10: MASCULIN | F10: =ROUND((TODAY()-D10)/365,1) -> 11.7
A11: CM2 | B11: J | C11: j | D11: 38534 | E11: MASCULIN | F11: =ROUND((TODAY()-D11)/365,1) -> 10.9
A12: CM2 | B12: K | C12: k | D12: 38574 | E12: MASCULIN | F12: =ROUND((TODAY()-D12)/365,1) -> 10.8

Sheet Français
A1: PDT | B1: Niv. | C1: Grammaire 1 | D1: Orthographe 1 | E1: Conjugaison 1 | F1: Vocabulaire | G1: Grammaire 2 | H1: Orthographe 2 | I1: Conjugaison 2
A2: 1 | B2: CE2 | C2: Identifier le verbe p. 16 | D2: La lettre, le son p. 76 | E2: Distinguer le passé, le présent et le futur p. 136 | F2: Avec mon dictionnaire (1) p. 185 | I2: Les personnes, le radical et les terminaisons p. 132 | J2: =COUNTA(C2:I2) -> 5
A3: 1 | B3: CM1 | C3: Identifier le sujet du verbe p. 18 | D3: Distinguer les mots qui se ressemblent p. 78 | E3: Distinguer le passé, le présent et le futur p. 136 | F3: Avec mon dictionnaire (2) p. 186 | I3: Les personnes, le radical et les terminaisons p. 132 | J3: =COUNTA(C3:I3) -> 5
A4: 1 | B4: CM2 | C4: Distinguer le COD et le COI p. 24 | D4: Écrire le verbe à l'infinitif p. 84 | E4: Les personnes, le radical et les terminaisons p. 132 | F4: Avec mon dictionnaire (2) p. 186 | H4: Accorder le verbe avec son sujet (1) p. 80 | J4: =COUNTA(C4:I4) -> 5
A5: 2 | B5: CE2 | C5: Identifier le sujet du verbe p. 18 | D5: Masculin ou féminin / marquer le féminin pp. 89/90 | E5: L'infinitif du verbe et les trois groupes p. 134 | F5: Les différents sens d'un mot p. 189 | G5: Identifier les pronoms personnels sujets p. 30 | J5: =COUNTA(C5:I5) -> 5
A6: 2 | B6: CM1 | C6: Dans la phrase : Qui ? Quoi ? Où ? Quand ? p. 19 | D6: Masculin ou féminin / marquer le féminin pp. 89/90 | E6: Utiliser le présent de l'indicatif p. 138 | F6: Les différents sens d'un mot p. 189 | G6: Identifier les pronoms personnels sujets p. 30 | J6: =COUNTA(C6:I6) -> 5
A7: 2 | B7: CM2 | C7: Identifier une phrase simple et une phrase complexe p. 26 | D7: Accorder le verbe avec son sujet (2) p. 82 | E7: Utiliser le présent de l'indicatif p. 138 | F7: Les différents sens d'un mot p. 189 | G7: Identifier les pronoms personnels compléments p. 32 | J7: =COUNTA(C7:I7) -> 5
A8: 3 | B8: CE2 | C8: Dans la phrase : Qui ? Quoi ? Où ? Quand ? p. 19 | D8: Singulier ou pluriel / Marquer le pluriel pp. 91/92 | E8: Les personnes, le radical et les terminaisons p. 132 | H8: Accorder le verbe avec son sujet (1) p. 80 | J8: =COUNTA(C8:I8) -> 4
A9: 3 | B9: CM1 | C9: Identifier une phrase simple et une phrase complexe p. 26 | D9: Singulier ou pluriel / Marquer le pluriel pp. 91/92 | E9: Conjuguer au présent de l'indicatif (2) p. 142 | G9: Distinguer le COD et le COI p. 24 | J9: =COUNTA(C9:I9) -> 4
A10: 3 | B10: CM2 | C10: Identifier les pronoms définis, démonstratifs et possessifs p. 58 | D10: Accorder le verbe avec son sujet (3) p. 86 | E10: Conjuguer au présent de l'indicatif (3) p. 144 | I10: Comprendre la chaîne du temps p. 150 | J10: =COUNTA(C10:I10) -> 4
A11: 4 | B11: CE2 | D11: Accorder le verbe avec son sujet (2) p. 82 | E11: Utiliser le présent de l'indicatif p. 138 | I11: Conjuguer les verbes au présent de l'indicatif (1) et (2) pp. 140 et 142 | J11: =COUNTA(C11:I11) -> 3
A12: 4 | B12: CM1 | C12: Le verbe et ses compléments d'objet p. 28 | D12: Accorder le verbe avec son sujet (3) p. 86 | H12: Accorder le verbe avec son sujet (4) p. 88 | J12: =COUNTA(C12:I12) -> 3
A13: 4 | B13: CM2 | C13: Le verbe et ses compléments d'objet p. 28 | D13: Accorder le verbe avec son sujet (4) p. 88 | H13: Écrire « on » ou « on n' » p. 107 | J13: =COUNTA(C13:I13) -> 3
A14: 5 | B14: CE2 | C14: Identifier le nom et le groupe nominal p. 46 | D14: Distinguer les mots qui se ressemblent p. 78 | E14: Utiliser l'imparfait p. 146 | G14: Identifier les adjectifs qualificatifs p. 50 | J14: =COUNTA(C14:I14) -> 4
A15: 5 | B15: CM1 | C15: identifier les pronoms personnels compléments p. 32 | D15: Marquer le genre et le nombre p. 98 | E15: Utiliser l'imparfait p. 146 | H15: Le pluriel des noms terminés par « ou » p. 101 | J15: =COUNTA(C15:I15) -> 4
A16: 5 | B16: CM2 | C16: Identifier les adverbes p. 40 | D16: Marquer le genre et le nombre p. 98 | E16: Utiliser l'imparfait p. 146 | H16: Le pluriel des noms terminés par « ou » p. 101 | J16: =COUNTA(C16:I16) -> 4
A17: 6 | B17: CE2 | C17: Identifier les déterminants p. 48 | D17: Accorder l'adjectif qualificatif p. 94 | H17: Les accords dans le groupe nominal p. 96 | J17: =COUNTA(C17:I17) -> 3
A18: 6 | B18: CM1 | C18: Identifier les adjectifs qualificatifs p. 50 | D18: Accorder l'adjectif qualificatif p. 94 | G18: Identifier la proposition subordonnée relative p. 56 | H18: Le pluriel des noms terminés par « eu » ou « eux » p. 102 | J18: =COUNTA(C18:I18) -> 4
A19: 6 | B19: CM2 | C19: Identifier les compléments circonstanciels (2) p. 38 | D19: Accorder l'adjectif qualificatif p. 94 | G19: Identifier la proposition subordonnée relative p. 56 | H19: Le pluriel des noms terminés par « eu » ou « eux » p. 102 | J19: =COUNTA(C19:I19) -> 4
A20: 7 | B20: CE2 | C20: Le verbe et ses compléments d'objet p. 28 | D20: Reconnaître « à » et le pronom « on » pp. 107/108 | E20: Utiliser le passé composé de l'indicatif (1) p. 152 | G20: Identifier les compléments circonstanciels (1) p. 36 | J20: =COUNTA(C20:I20) -> 4
A21: 7 | B21: CM1 | C21: Identifier les compléments circonstanciels (2) p. 38 | E21: Utiliser le passé composé de l'indicatif (1) p. 152 | G21: Attribuer une qualité : l'attribut du sujet p. 44 | I21: Utiliser le passé composé de l'indicatif (2) p. 154 | J21: =COUNTA(C21:I21) -> 4
A22: 7 | B22: CM2 | C22: Identifier la proposition subordonnée circonstancielle p. 42 | E22: Utiliser le passé composé de l'indicatif (1) p. 152 | G22: Attribuer une qualité : l'attribut du sujet p. 44 | I22: Utiliser le passé composé de l'indicatif (2) p. 154 | J22: =COUNTA(C22:I22) -> 4
A23: 8 | B23: CE2 | C23: Identifier les formes affirmatives et négatives p. 62 | D23: Reconnaître « son », « ses » et « ces » p. 110 | E23: Utiliser le passé composé de l'indicatif (2) p. 154 | J23: =COUNTA(C23:I23) -> 3
A24: 8 | B24: CM1 | C24: Compléter un nom p. 54 | D24: Accorder le participe passé (1) p. 114 | E24: Conjuguer au passé simple de l'indicatif p. 158 | I24: Utiliser le passé simple et le passé composé de l'indicatif p. 156 | J24: =COUNTA(C24:I24) -> 4
A25: 8 | B25: CM2 | C25: Compléter un nom p. 54 | D25: Accorder le participe passé (1) p. 114 | E25: Conjuguer au passé simple de l'indicatif p. 158 | I25: Utiliser l'imparfait et le passé simple de l'indicatif p. 160 | J25: =COUNTA(C25:I25) -> 4
A26: 9 | B26: CE2 | C26: Identifier les phrases déclaratives, interrogatives et injonctives p. 64 | D26: Le pluriel des noms se terminant par « au », « eau » et « al » p. 100 | E26: Le futur simple et le futur proche p. 164 | J26: =COUNTA(C26:I26) -> 3
A27: 9 | B27: CM1 | C27: Identifier les phrases déclaratives, interrogatives et injonctives p. 64 | E27: Le futur simple et le futur proche p. 164 | G27: Identifier la nature et la fonction d'un mot p. 60 | I27: Utiliser et conjuguer le présent de l'impératif p. 174 | J27: =COUNTA(C27:I27) -> 4
A28: 9 | B28: CM2 | C28: Identifier les phrases déclaratives, interrogatives et injonctives p. 64 | E28: Conjuguer au futur simple et au futur antérieur de l'indicatif p. 166 | G28: Identifier la nature et la fonction d'un mot p. 60 | I28: Utiliser et conjuguer le présent de l'impératif p. 174 | J28: =COUNTA(C28:I28) -> 4
A29: 10 | B29: CE2 | D29: Les consonnes finales muettes p. 106 | E29: Conjuguer les verbes « appeler », « lancer », « jeter » et « manger » p. 172 | J29: =COUNTA(C29:I29) -> 2
A30: 10 | B30: CM1 | C30: Identifier les différentes proposition dans la phrase complexe p.66 | D30: Accorder le participe passé (2) p. 114 | E30: Conjuguer les verbes « appeler », « lancer », « jeter » et « manger » p. 172 | H30: Le pluriel des noms terminés par « ai/aille », « eil/eille », « euil/euille » p. 104 | J30: =COUNTA(C30:I30) -> 4
A31: 10 | B31: CM2 | C31: Identifier la voix active et la voix passive p. 68 | D31: Accorder le participe passé (2) p. 114 | E31: Utiliser et conjuguer le présent du conditionnel p. 176 | H31: Le pluriel des noms terminés par « ai/aille », « eil/eille », « euil/euille » p. 104 | J31: =COUNTA(C31:I31) -> 4
A32: 11 | B32: CE2 | J32: =COUNTA(C32:I32) -> 0
A33: 11 | B33: CM1 | J33: =COUNTA(C33:I33) -> 0
A34: 11 | B34: CM2 | J34: =COUNTA(C34:I34) -> 0

Sheet Français NV
A1: 1 | B1: CE2 | C1: Identifier le verbe p. 16 | D1: La lettre, le son p. 76 | E1: Distinguer le passé, le présent et le futur p. 136 | F1: Avec mon dictionnaire (1) p. 185 | G1: Les personnes, le radical et les terminaisons p. 132
A2: 1 | B2: CM1 | C2: Identifier le sujet du verbe p. 18 | D2: Distinguer les mots qui se ressemblent p. 78 | E2: Distinguer le passé, le présent et le futur p. 136 | F2: Avec mon dictionnaire (2) p. 186 | G2: Les personnes, le radical et les terminaisons p. 132
A3: 1 | B3: CM2 | C3: Distinguer le COD et le COI p. 24 | D3: Écrire le verbe à l'infinitif p. 84 | E3: Les personnes, le radical et les terminaisons p. 132 | F3: Avec mon dictionnaire (2) p. 186 | G3: Accorder le verbe avec son sujet (1) p. 80
A4: 2 | B4: CE2 | C4: Identifier le sujet du verbe p. 18 | D4: Masculin ou féminin / marquer le féminin pp. 89/90 | E4: L'infinitif du verbe et les trois groupes p. 134 | F4: Les différents sens d'un mot p. 189 | G4: Identifier les pronoms personnels sujets p. 30
A5: 2 | B5: CM1 | C5: Dans la phrase : Qui ? Quoi ? Où ? Quand ? p. 19 | D5: Masculin ou féminin / marquer le féminin pp. 89/90 | E5: Utiliser le présent de l'indicatif p. 138 | F5: Les différents sens d'un mot p. 189 | G5: Identifier les pronoms personnels sujets p. 30
A6: 2 | B6: CM2 | C6: Identifier une phrase simple et une phrase complexe p. 26 | D6: Accorder le verbe avec son sujet (2) p. 82 | E6: Utiliser le présent de l'indicatif p. 138 | F6: Les différents sens d'un mot p. 189 | G6: Identifier les pronoms personnels compléments p. 32
A7: 3 | B7: CE2 | C7: Dans la phrase : Qui ? Quoi ? Où ? Quand ? p. 19 | D7: Singulier ou pluriel / Marquer le pluriel pp. 91/92 | E7: Les personnes, le radical et les terminaisons p. 132 | F7: Accorder le verbe avec son sujet (1) p. 80
A8: 3 | B8: CM1 | C8: Identifier une phrase simple et une phrase complexe p. 26 | D8: Singulier ou pluriel / Marquer le pluriel pp. 91/92 | E8: Conjuguer au présent de l'indicatif (2) p. 142 | F8: Distinguer le COD et le COI p. 24
A9: 3 | B9: CM2 | C9: Identifier les pronoms définis, démonstratifs et possessifs p. 58 | D9: Accorder le verbe avec son sujet (3) p. 86 | E9: Conjuguer au présent de l'indicatif (3) p. 144 | F9: Comprendre la chaîne du temps p. 150
A10: 4 | B10: CE2 | C10: Accorder le verbe avec son sujet (2) p. 82 | D10: Utiliser le présent de l'indicatif p. 138 | E10: Conjuguer les verbes au présent de l'indicatif (1) et (2) pp. 140 et 142
A11: 4 | B11: CM1 | C11: Le verbe et ses compléments d'objet p. 28 | D11: Accorder le verbe avec son sujet (3) p. 86 | E11: Accorder le verbe avec son sujet (4) p. 88
A12: 4 | B12: CM2 | C12: Le verbe et ses compléments d'objet p. 28 | D12: Accorder le verbe avec son sujet (4) p. 88 | E12: Écrire « on » ou « on n' » p. 107
A13: 5 | B13: CE2 | C13: Identifier le nom et le groupe nominal p. 46 | D13: Distinguer les mots qui se ressemblent p. 78 | E13: Utiliser l'imparfait p. 146 | F13: Identifier les adjectifs qualificatifs p. 50
A14: 5 | B14: CM1 | C14: identifier les pronoms personnels compléments p. 32 | D14: Marquer le genre et le nombre p. 98 | E14: Utiliser l'imparfait p. 146 | F14: Le pluriel des noms terminés par « ou » p. 101
A15: 5 | B15: CM2 | C15: Identifier les adverbes p. 40 | D15: Marquer le genre et le nombre p. 98 | E15: Utiliser l'imparfait p. 146 | F15: Le pluriel des noms terminés par « ou » p. 101
A16: 6 | B16: CE2 | C16: Identifier les déterminants p. 48 | D16: Accorder l'adjectif qualificatif p. 94 | E16: Les accords dans le groupe nominal p. 96
A17: 6 | B17: CM1 | C17: Identifier les déterminants p. 48 | D17: Accorder l'adjectif qualificatif p. 94 | E17: Identifier la proposition subordonnée relative p. 56 | F17: Le pluriel des noms terminés par « eu » ou « eux » p. 102
A18: 6 | B18: CM2 | C18: Identifier les compléments circonstanciels (2) p. 38 | D18: Accorder l'adjectif qualificatif p. 94 | E18: Identifier la proposition subordonnée relative p. 56 | F18: Le pluriel des noms terminés par « eu » ou « eux » p. 102
A19: 7 | B19: CE2 | C19: Le verbe et ses compléments d'objet p. 28 | D19: Reconnaître « à » / Reconnaître le pronom « on » pp. 107/108 | E19: Utiliser le passé composé de l'indicatif (1) p. 152 | F19: Identifier les compléments circonstanciels (1) p. 36
A20: 7 | B20: CM1 | C20: Identifier les compléments circonstanciels (2) p. 38 | D20: Utiliser le passé composé de l'indicatif (1) p. 152 | E20: Attribuer une qualité : l'attribut du sujet p. 44 | F20: Utiliser le passé composé de l'indicatif (2) p. 154
A21: 7 | B21: CM2 | C21: Identifier la proposition subordonnée circonstancielle p. 42 | D21: Utiliser le passé composé de l'indicatif (1) p. 152 | E21: Attribuer une qualité : l'attribut du sujet p. 44 | F21: Utiliser le passé composé de l'indicatif (2) p. 154
A22: 8 | B22: CE2 | C22: Identifier les formes affirmatives et négatives p. 62 | D22: Reconnaître « son », « ses » et « ces » p. 110 | E22: Utiliser le passé composé de l'indicatif (2) p. 154
A23: 8 | B23: CM1 | C23: Compléter un nom p. 54 | D23: Accorder le participe passé (1) p. 114 | E23: Conjuguer au passé simple de l'indicatif p. 158 | F23: Utiliser le passé simple et le passé composé de l'indicatif p. 156
A24: 8 | B24: CM2 | C24: Accorder le participe passé (1) p. 114 | D24: Conjuguer au passé simple de l'indicatif p. 158 | E24: Compléter un nom p. 54 | F24: Utiliser l'imparfait et le passé simple de l'indicatif p. 160
A25: 9 | B25: CE2 | C25: Identifier les phrases déclaratives, interrogatives et injonctives p. 64 | D25: Le pluriel des noms se terminant par « au », « eau » et « al » p. 100 | E25: Le futur simple et le futur proche p. 164
A26: 9 | B26: CM1 | C26: Identifier la nature et la fonction d'un mot p. 60 | D26: Le futur simple et le futur proche p. 164 | E26: Identifier les phrases déclaratives, interrogatives et injonctives p. 64 | F26: Utiliser et conjuguer le présent de l'impératif p. 174
A27: 9 | B27: CM2 | C27: Identifier la nature et la fonction d'un mot p. 60 | D27: Conjuguer au futur simple et au futur antérieur de l'indicatif p. 166 | E27: Identifier une proposition subordonnée complétive p. 34 | F27: Utiliser et conjuguer le présent de l'impératif p. 174
A28: 10 | B28: CE2 | C28: Les consonnes finales muettes p. 106 | D28: Conjuguer les verbes « appeler », « lancer », « jeter » et « manger » p. 172
A29: 10 | B29: CM1 | C29: Identifier les différentes proposition dans la phrase complexe p.66 | D29: Accorder le participe passé (2) p. 114 | E29: Conjuguer les verbes « appeler », « lancer », « jeter » et « manger » p. 172 | F29: Le pluriel des noms terminés par « ai/aille », « eil/eille », « euil/euille » p. 104
A30: 10 | B30: CM2 | C30: Identifier la voix active et la voix passive p. 68 | D30: Accorder le participe passé (2) p. 114 | E30: Utiliser et conjuguer le présent du conditionnel p. 176 | F30: Le pluriel des noms terminés par « ai/aille », « eil/eille », « euil/euille » p. 104
A31: 11 | B31: CE2
A32: 11 | B32: CM1
A33: 11 | B33: CM2

Sheet Maths
A1: PDT | B1: Niv. | C1: Nombres et calcul 1 | D1: Géométrie 1 | E1: Grandeurs et mesures 1 | F1: Nombres et calcul 2 | G1: Géométrie 2 | H1: Grandeurs et mesures 2 | I1: Gestion de données | J1: Autre | K1: Problèmes
A2: 1 | B2: CE2 | C2: Les nombre de 0 à 999 - p. 17 | D2: Pliages et découpages - p. 107 | F2: Les nombres de 0 à 999 - p. 21 | G2: Droites perpendiculaires et angles droits - p. 115 | K2: 01 Identification d'un problème
A3: 1 | B3: CM1 | C3: Les grands nombres (1) - p. 17 | D3: Symétrie axiale (1) - p. 91 / Symétrie axiale (2) - p. 95 | F3: Les grands nombres (2) - p. 21 | G3: Parallèles et perpendiculaires - p. 99 | K3: E300 Est-ce un problème ?
A4: 1 | B4: CM2 | C4: Les grands nombres (1) - p. 17 | D4: Tracés de figures - p. 79 | F4: Les grands nombres (2) - p. 21 | G4: Parallèles et perpendiculaires - p. 83 | K4: E300 Est-ce un problème ?
A5: 2 | B5: CE2 | C5: Les nombres de 0 à 9999 - p. 25 | E5: Reconnaître les grandeurs - p. 137 | F5: Les nombres de 0 à 9999 - p. 29 | H5: Les longueurs : unités usuelles - p. 145 | J5: Les longueurs : comparaisons et calculs - p. 149 | K5: 02 Problèmes impossibles (indiquer pourquoi un problème est impossible)
A6: 2 | B6: CM1 | C6: Relations numériques - p. 25 | E6: Mesures de longueurs - p. 129 | F6: Les grands nombres : additions et soustraction - p. 29 | H6: Calculer un périmètre - p. 137 | J6: Mesures d’aires - p. 141 | K6: E310 Quelle question m'oblige à faire un calcul ?
A7: 2 | B7: CM2 | C7: Les fractions - p. 25 | E7: Mesures de longueurs, de masses, de contenances / Les angles - pp. 121/141 | F7: Les fractions décimales - p. 29 | H7: Les périmètres - p. 125 | J7: Aires et périmètres - p. 129 | K7: E310 Quelle question m'oblige à faire un calcul ? | M7: 07 Choisir deux questions possibles
A8: 3 | B8: CE2 | C8: Les nombres jusqu’au million - p. 33 | D8: figures planes : classement et description p. 119 | F8: L’addition - p. 37 | G8: figures planes : reproduction et construction p. 123 | K8: 03 Données inutiles – 1 04 Données inutiles – 2
A9: 3 | B9: CM1 | C9: Multiplication de nombres entiers p. 33 | D9: Polygones quelconques et polygones réguliers p. 103 | F9: Technique de la multiplication p. 37 | G9: Triangles et cas particuliers p. 107 | K9: E340/E580 Supprime les informations inutiles
A10: 3 | B10: CM2 | C10: Les nombres décimaux p. 33 | D10: Les polygones p. 87 | F10: Les nombres décimaux : addition et soustraction p. 37 | G10: Les triangles p. 91 | K10: E340/E580 Supprime les informations inutiles
A11: 4 | B11: CE2 | C11: De l’addition vers la soustraction - p. 41 | D11: Rectangles, carrés et triangles p. 127 | E11: Les masses : unités usuelles p. 153 | F11: Soustractions ou additions - p. 45 | J11: Situations soustractives - p. 49 | K11: 05 Associer un énoncé à sa question
A12: 4 | B12: CM1 | C12: Multiplier et diviser p. 41 | D12: Rectangles, losanges et carrés p. 111 | E12: Mesures de masses p. 133 | F12: Découverte de la fraction p. 45 | J12: Ecritures de la fraction p. 46 | K12: E320/E330 Trouver une question
A13: 4 | B13: CM2 | C13: Décimaux et conversions p. 41 | D13: Les quadrilatères : reconnaissance p. 95 | E13: Aires : les unités de mesures p. 133 | F13: Décimaux : encadrements p. 45 | J13: Fonctions numériques p. 497 | K13: E320/E330 Trouver une question
A14: 5 | B14: CE2 | C14: Technique de la soustraction (1) - p. 53 | E14: Les mesures : comparaisons et calculs p. 149 | F14: Technique de la soustraction (2) - p. 57 | K14: 06 Choisir entre 2 questions
A15: 5 | B15: CM1 | C15: Fractions égales p. 53 | E15: Les angles p. 145 | F15: Fractions décimales p. 57 | K15: E550/E560 Trouver une question
A16: 5 | B16: CM2 | C16: Multiplication d’un décimal par un entier p. 53 | E16: Calculs d’aires p. 137 | F16: Relations entre les nombres p. 57 | K16: E550/E560 Trouver une question | M16: 16 Reconstitution de trois énoncés mélangés
A17: 6 | B17: CE2 | C17: La multiplication : situations multiplicatives - p. 61 | E17: La monnaie : l’euro p. 141 | I17: Tableaux et graphiques p. 173 | K17: 08 Inventer une question –1 09 Inventer une question – 2 | M17: 17 Ecrire un énoncé à partir d'un texte télégraphique
A18: 6 | B18: CM1 | C18: Des fractions aux nombres décimaux p. 61 | E18: La monnaie : l’euro p. 161 | I18: Tableaux et graphiques p. 165 | K18: Pb300/Pb310/Pb320 Résolution de problèmes
A19: 6 | B19: CM2 | C19: Technique de la division : diviseur à 1 chiffre p. 61 | D19: Les quadrilatères : construction p. 99 | G19: Les programmes de construction p. 115 | K19: Pb300/Pb310/Pb320 Résolution de problèmes
A20: 7 | B20: CE2 | C20: Technique de la multiplication (1) - p. 65 | D20: La symétrie : pliages, découpages, axes p. 111 | F20: la multiplication par 10, 20, 30, 100 - p. 69 | K20: 10 Anticiper sur l'opération – 1 11 Anticiper sur l'opération – 2
A21: 7 | B21: CM1 | C21: Comparer et encadrer les nombres décimaux p. 65 | D21: Le cercle p. 115 | F21: Les nombres décimaux : addition et soustraction p. 69 | K21: Pb330/Pb340/Pb350 Résolution de problèmes
A22: 7 | B22: CM2 | C22: Technique de la division : diviseur à plusieurs chiffres. p. 65 | D22: Cercles, disques et couronnes p. 103 | F22: Technique de la division : soustractions mentales p. 69 | K22: Pb330/Pb340/Pb350 Résolution de problèmes | M22: 22 Ecrire un énoncé à partir d'une opération
A23: 8 | B23: CE2 | C23: Choisir la bonne opération - p. 73 | E23: Les contenances : comparaisons et unités usuelles p. 161 | K23: 12 Anticiper sur le résultat – 1 13 Anticiper sur le résultat – 2 | M23: 23 Ecrire un énoncé qui entraîne deux opérations
A24: 8 | B24: CM1 | C24: Multiplication d’un nombre décimal par un nombre entier p. 73 | E24: Mesures de contenances p. 157 | K24: Pb370/Pb380/Pb390 Résolution de problèmes | M24: 24 Résoudre un problème avec une addition – 1
A25: 8 | B25: CM2 | C25: Division : dividendes et quotients décimaux p. 73 | E25: Les volumes p. 145 | K25: Pb370/Pb380/Pb390 Résolution de problèmes | M25: 25 Résoudre un problème avec une addition – 2
A26: 9 | B26: CE2 | C26: Technique de la multiplication (2)/(3) - pp. 77/81 | F26: Technique de la multiplication (4) - p. 85 | J26: Vers la division - p. 89 | K26: 14 Reconstitution d'un énoncé 15 Reconstitution de deux énoncés mélangés | M26: 26 Résoudre un problème avec une addition – 3
A27: 9 | B27: CM1 | C27: Vers la division p. 77 | D27: Programmes de construction p. 119 | I27: Coordonnées d’un point p. 171 | K27: Pb400/Pb410/Pb420 Résolution de problèmes | M27: 27 Résoudre un problème avec une multiplication – 1
A28: 9 | B28: CM2 | D28: Reconnaître et classer les solides p. 107 | I28: Proportionnalité p. 153 | J28: Proportionnalité : les pourcentages p. 157 | K28: Pb400/Pb410/Pb420 Résolution de problèmes | M28: 28 Résoudre un problème avec une multiplication – 2
A29: 10 | B29: CE2 | C29: Vers la division - p. 93 | D29: Les solides : le cube et le pavé droit p. 131 | F29: Vers la division / Technique de la division - pp. 97/101 | K29: 18 Compléter un énoncé avec les mots proposés 19 Ecrire un énoncé en utilisant les mots proposés | M29: 29 Résoudre un problème avec une multiplication – 3
A30: 10 | B30: CM1 | C30: Technique de la division : diviseur à 1 chiffre p. 81 | D30: Solides et patrons p. 123 | F30: Technique de la division : diviseur à 2 chiffres p. 85 | K30: Pb430/Pb440/Pb450 Résolution de problèmes | M30: 30 Résoudre un problème avec une soustraction – 1
A31: 10 | B31: CM2 | D31: Les patrons de solides p. 111 | I31: Proportionnalité : les échelles p. 161 | J31: Proportionnalité : les vitesses moyennes p. 161 | K31: Pb430/Pb440/Pb450 Résolution de problèmes | M31: 31 Résoudre un problème avec une soustraction – 2
A32: 11 | B32: CE2 | E32: Le calendrier p. 165 | H32: Quelle heure est-il ? p. 169 | K32: 20 Ecrire un énoncé à partir d'une question 21 Ecrire un énoncé à partir d'une réponse | M32: 32 Résoudre un problème avec une soustraction – 3
A33: 11 | B33: CM1 | E33: Mesures du temps : le calendrier p. 149 | H33: Les durées p. 153 | K33: Pb500/Pb510/Pb530 Résolution de problèmes | M33: 33 Résoudre un problème avec une division – 1
A34: 11 | B34: CM2 | E34: Les durées p. 149 | I34: Tableaux et graphiques p. 169 | K34: Pb500/Pb510/Pb530 Résolution de problèmes | M34: 34 Résoudre un problème avec une division – 2
M35: 35 Résoudre un problème avec une division – 3
M36: 36 Résoudre un problème avec addition et multiplication – 1
M37: 37 Résoudre un problème avec addition et multiplication – 2
M38: 38 Résoudre un problème avec addition et multiplication – 3
M39: 39 Résoudre un problème avec multiplication et soustraction – 1
M40: 40 Résoudre un problème avec multiplication et soustraction – 2
...

Sheet Maths NV
A1: 1 | B1: CE2 | C1: Les nombre de 0 à 999 - p. 17 | D1: Pliages et découpages - p. 107 | E1: Les nombres de 0 à 999 - p. 21 | F1: Droites perpendiculaires et angles droits - p. 115 | G1: 01 Identification d'un problème
A2: 1 | B2: CM1 | C2: Les grands nombres (1) - p. 17 | D2: Symétrie axiale (1) - p. 91 / Symétrie axiale (2) - p. 95 | E2: Les grands nombres (2) - p. 21 | F2: Parallèles et perpendiculaires - p. 99 | G2: E300 Est-ce un problème ?
A3: 1 | B3: CM2 | C3: Les grands nombres (1) - p. 17 | D3: Tracés de figures - p. 79 | E3: Les grands nombres (2) - p. 21 | F3: Parallèles et perpendiculaires - p. 83 | G3: E300 Est-ce un problème ?
A4: 2 | B4: CE2 | C4: Les nombres de 0 à 9999 - p. 25 | D4: Reconnaître les grandeurs - p. 137 | E4: Les nombres de 0 à 9999 - p. 29 | F4: Les longueurs : unités usuelles - p. 145 | G4: Les longueurs : comparaisons et calculs - p. 149 | H4: 02 Problèmes impossibles (indiquer pourquoi un problème est impossible)
A5: 2 | B5: CM1 | C5: Relations numériques - p. 25 | D5: Mesures de longueurs - p. 129 | E5: Les grands nombres : additions et soustraction - p. 29 | F5: Calculer un périmètre - p. 137 | G5: Mesures d’aires - p. 141 | H5: E310 Quelle question m'oblige à faire un calcul ?
A6: 2 | B6: CM2 | C6: Les fractions - p. 25 | D6: Mesures de longueurs, de masses, de contenances / Les angles - pp. 121/141 | E6: Les fractions décimales - p. 29 | F6: Les périmètres - p. 125 | G6: Aires et périmètres - p. 129 | H6: E310 Quelle question m'oblige à faire un calcul ? | I6: 07 Choisir deux questions possibles
A7: 3 | B7: CE2 | C7: Les nombres jusqu’au million - p. 33 | D7: figures planes : classement et description p. 119 | E7: L’addition - p. 37 | F7: figures planes : reproduction et construction p. 123 | G7: de l’addition vers la soustraction - p. 41 | H7: 03 Données inutiles – 1 04 Données inutiles – 2
A8: 3 | B8: CM1 | C8: Multiplication de nombres entiers p. 33 | D8: Polygones quelconques et polygones réguliers p. 103 | E8: Technique de la multiplication p. 37 | F8: Triangles et cas particuliers p. 107 | G8: Multiplier et diviser p. 41
A9: 3 | B9: CM2 | C9: Les nombres décimaux p. 33 | D9: Les polygones p. 87 | E9: Les nombres décimaux : addition et soustraction p. 37 | F9: Les triangles p. 91 | G9: Décimaux et conversions p. 41
A10: 4 | B10: CE2 | C10: Soustractions ou additions - p. 45 | D10: Rectangles, carrés et triangles p. 127 | E10: Les masses : unités usuelles p. 153 | F10: situations soustractives - p. 49 | G10: 05 Associer un énoncé à sa question
A11: 4 | B11: CM1 | C11: Découverte de la fraction p. 45 | D11: Rectangles, losanges et carrés p. 111 | E11: Mesures de masses p. 133 | F11: Ecritures de la fraction p. 49
A12: 4 | B12: CM2 | C12: Décimaux : encadrements p. 45 | D12: Les quadrilatères : reconnaissance p. 95 | E12: Aires : les unités de mesures p. 133 | F12: Fonctions numériques p. 49
A13: 5 | B13: CE2 | C13: Technique de la soustraction (1) - p. 53 | D13: Les masses : comparaisons et calculs p. 149 | E13: Technique de la soustraction (2) - p. 57 | F13: 06 Choisir entre 2 questions
A14: 5 | B14: CM1 | C14: Fractions égales p. 53 | D14: Les angles p. 145 | E14: Fractions décimales p. 57
A15: 5 | B15: CM2 | C15: Multiplication d’un décimal par un entier p. 53 | D15: Calculs d’aires p. 137 | E15: Relations entre les nombres p. 57 | F15: 16 Reconstitution de trois énoncés mélangés
A16: 6 | B16: CE2 | C16: La multiplication : situations multiplicatives - p. 61 | D16: La monnaie : l’euro p. 141 | E16: Tableaux et graphiques p. 173 | F16: 08 Inventer une question –1 09 Inventer une question – 2 | G16: 17 Ecrire un énoncé à partir d'un texte télégraphique
A17: 6 | B17: CM1 | C17: Des fractions aux nombres décimaux p. 61 | D17: La monnaie : l’euro p. 161 | E17: Tableaux et graphiques p. 165
A18: 6 | B18: CM2 | C18: Technique de la division : diviseur à 1 chiffre p. 61 | D18: Les quadrilatères : construction p. 99 | E18: Les programmes de construction p. 115
A19: 7 | B19: CE2 | C19: Technique de la multiplication (1) - p. 65 | D19: La symétrie : pliages, découpages, axes p. 111 | E19: la multiplication par 10, 20, 30, 100 - p. 69 | F19: 10 Anticiper sur l'opération – 1 11 Anticiper sur l'opération – 2
A20: 7 | B20: CM1 | C20: Comparer et encadrer les nombres décimaux p. 65 | D20: Le cercle p. 115 | E20: Les nombres décimaux : addition et soustraction p. 69
A21: 7 | B21: CM2 | C21: Technique de la division : diviseur à plusieurs chiffres. p. 65 | D21: Cercles, disques et couronnes p. 103 | E21: Technique de la division : soustractions mentales p. 69 | F21: 22 Ecrire un énoncé à partir d'une opération
A22: 8 | B22: CE2 | C22: Choisir la bonne opération - p. 73 | D22: Les contenances : comparaisons et unités usuelles p. 161 | E22: 12 Anticiper sur le résultat – 1 13 Anticiper sur le résultat – 2 | F22: 23 Ecrire un énoncé qui entraîne deux opérations
A23: 8 | B23: CM1 | C23: Multiplication d’un nombre décimal par un nombre entier p. 73 | D23: Mesures de contenances p. 157 | E23: 24 Résoudre un problème avec une addition – 1
A24: 8 | B24: CM2 | C24: Division : dividendes et quotients décimaux p. 73 | D24: Les volumes p. 145 | E24: 25 Résoudre un problème avec une addition – 2
A25: 9 | B25: CE2 | C25: Technique de la multiplication (2)/(3) - pp. 77/81 | D25: Technique de la multiplication (4) - p. 85 | E25: Vers la division - p. 89 | F25: 14 Reconstitution d'un énoncé 15 Reconstitution de deux énoncés mélangés | G25: 26 Résoudre un problème avec une addition – 3
A26: 9 | B26: CM1 | C26: Vers la division p. 77 | D26: Programmes de construction p. 119 | E26: Coordonnées d’un point p. 171 | F26: 27 Résoudre un problème avec une multiplication – 1
A27: 9 | B27: CM2 | C27: Reconnaître et classer les solides p. 107 | D27: Proportionnalité p. 153 | E27: Proportionnalité : les pourcentages p. 157 | F27: 28 Résoudre un problème avec une multiplication – 2
A28: 10 | B28: CE2 | C28: Vers la division - p. 93 | D28: Les solides : le cube et le pavé droit p. 131 | E28: Vers la division / Technique de la division - pp. 97/101 | F28: 18 Compléter un énoncé avec les mots proposés 19 Ecrire un énoncé en utilisant les mots proposés | G28: 29 Résoudre un problème avec une multiplication – 3
A29: 10 | B29: CM1 | C29: Technique de la division : diviseur à 1 chiffre p. 81 | D29: Solides et patrons p. 123 | E29: Technique de la division : diviseur à 2 chiffres p. 85 | F29: 30 Résoudre un problème avec une soustraction – 1
A30: 10 | B30: CM2 | C30: Les patrons de solides p. 111 | D30: Proportionnalité : les échelles p. 161 | E30: Proportionnalité : les vitesses moyennes p. 161 | F30: 31 Résoudre un problème avec une soustraction – 2
A31: 11 | B31: CE2 | C31: Le calendrier p. 165 | D31: Quelle heure est-il ? p. 169 | E31: 20 Ecrire un énoncé à partir d'une question 21 Ecrire un énoncé à partir d'une réponse | F31: 32 Résoudre un problème avec une soustraction – 3
A32: 11 | B32: CM1 | C32: Mesures du temps : le calendrier p. 149 | D32: Les durées p. 153 | E32: 33 Résoudre un problème avec une division – 1
A33: 11 | B33: CM2 | C33: Les durées p. 149 | D33: Tableaux et graphiques p. 169 | E33: 34 Résoudre un problème avec une division – 2
M34: 35 Résoudre un problème avec une division – 3
M35: 36 Résoudre un problème avec addition et multiplication – 1
M36: 37 Résoudre un problème avec addition et multiplication – 2
M37: 38 Résoudre un problème avec addition et multiplication – 3
M38: 39 Résoudre un problème avec multiplication et soustraction – 1
M39: 40 Résoudre un problème avec multiplication et soustraction – 2
M40: 41 Résoudre un problème avec addition et soustraction – 1
...

Sheet Bilans Français
A1: Bilan des plans de travail Français
A2: CE2 | B2: 1 | C2: {=IFERROR(INDEX('Bilan Fra (CACHE)'!C$1:C$33,MATCH($A2&$B2,'Bilan Fra (CACHE)'!$A$1:$A$33&'Bilan Fra (CACHE)'!$B$1:$B$33,0)),"")} -> Identifier le verbe p. 16 | D2: {=IFERROR(INDEX('Bilan Fra (CACHE)'!D$1:D$33,MATCH($A2&$B2,'Bilan Fra (CACHE)'!$A$1:$A$33&'Bilan Fra (CACHE)'!$B$1:$B$33,0)),"")} -> La lettre, le son p. 76 | E2: {=IFERROR(INDEX('Bilan Fra (CACHE)'!E$1:E$33,MATCH($A2&$B2,'Bilan Fra (CACHE)'!$A$1:$A$33&'Bilan Fra (CACHE)'!$B$1:$B$33,0)),"")} -> Distinguer le passé, le présent et le futur p. 136 | F2: {=IFERROR(INDEX('Bilan Fra (CACHE)'!F$1:F$33,MATCH($A2&$B2,'Bilan Fra (CACHE)'!$A$1:$A$33&'Bilan Fra (CACHE)'!$B$1:$B$33,0)),"")} -> Avec mon dictionnaire (1) p. 185 | G2: {=IFERROR(INDEX('Bilan Fra (CACHE)'!G$1:G$33,MATCH($A2&$B2,'Bilan Fra (CACHE)'!$A$1:$A$33&'Bilan Fra (CACHE)'!$B$1:$B$33,0)),"")} -> Les personnes, le radical et les terminaisons p. 132
B3: Nathan | C3: ⃝ ⃝ ⃝ ⃝ ⃝ ⃝ ⃝ | D3: ⃝ ⃝ ⃝ ⃝ ⃝ ⃝ ⃝ | E3: ⃝ ⃝ ⃝ ⃝ ⃝ ⃝ ⃝ | F3: ⃝ ⃝ ⃝ ⃝ ⃝ ⃝ ⃝ | G3: ⃝ ⃝ ⃝ ⃝ ⃝ ⃝ ⃝
B4: Léane | C4: ⃝ ⃝ ⃝ ⃝ ⃝ ⃝ ⃝ | D4: ⃝ ⃝ ⃝ ⃝ ⃝ ⃝ ⃝ | E4: ⃝ ⃝ ⃝ ⃝ ⃝ ⃝ ⃝ | F4: ⃝ ⃝ ⃝ ⃝ ⃝ ⃝ ⃝ | G4: ⃝ ⃝ ⃝ ⃝ ⃝ ⃝ ⃝
B5: Lohann | C5: ⃝ ⃝ ⃝ ⃝ ⃝ ⃝ ⃝ | D5: ⃝ ⃝ ⃝ ⃝ ⃝ ⃝ ⃝ | E5: ⃝ ⃝ ⃝ ⃝ ⃝ ⃝ ⃝ | F5: ⃝ ⃝ ⃝ ⃝ ⃝ ⃝ ⃝ | G5: ⃝ ⃝ ⃝ ⃝ ⃝ ⃝ ⃝
A6: CM1 | B6: 1 | C6: {=IFERROR(INDEX('Bilan Fra (CACHE)'!C$1:C$33,MATCH($A6&$B6,'Bilan Fra (CACHE)'!$A$1:$A$33&'Bilan Fra (CACHE)'!$B$1:$B$33,0)),"")} -> Identifier le sujet du verbe p. 18 | D6: {=IFERROR(INDEX('Bilan Fra (CACHE)'!D$1:D$33,MATCH($A6&$B6,'Bilan Fra (CACHE)'!$A$1:$A$33&'Bilan Fra (CACHE)'!$B$1:$B$33,0)),"")} -> Distinguer les mots qui se ressemblent p. 78 | E6: {=IFERROR(INDEX('Bilan Fra (CACHE)'!E$1:E$33,MATCH($A6&$B6,'Bilan Fra (CACHE)'!$A$1:$A$33&'Bilan Fra (CACHE)'!$B$1:$B$33,0)),"")} -> Distinguer le passé, le présent et le futur p. 136 | F6: {=IFERROR(INDEX('Bilan Fra (CACHE)'!F$1:F$33,MATCH($A6&$B6,'Bilan Fra (CACHE)'!$A$1:$A$33&'Bilan Fra (CACHE)'!$B$1:$B$33,0)),"")} -> Avec mon dictionnaire (2) p. 186 | G6: {=IFERROR(INDEX('Bilan Fra (CACHE)'!G$1:G$33,MATCH($A6&$B6,'Bilan Fra (CACHE)'!$A$1:$A$33&'Bilan Fra (CACHE)'!$B$1:$B$33,0)),"")} -> Les personnes, le radical et les terminaisons p. 132
B7: Louis | C7: ⃝ ⃝ ⃝ ⃝ ⃝ ⃝ ⃝ | D7: ⃝ ⃝ ⃝ ⃝ ⃝ ⃝ ⃝ | E7: ⃝ ⃝ ⃝ ⃝ ⃝ ⃝ ⃝ | F7: ⃝ ⃝ ⃝ ⃝ ⃝ ⃝ ⃝ | G7: ⃝ ⃝ ⃝ ⃝ ⃝ ⃝ ⃝
B8: Céleste | C8: ⃝ ⃝ ⃝ ⃝ ⃝ ⃝ ⃝ | D8: ⃝ ⃝ ⃝ ⃝ ⃝ ⃝ ⃝ | E8: ⃝ ⃝ ⃝ ⃝ ⃝ ⃝ ⃝ | F8: ⃝ ⃝ ⃝ ⃝ ⃝ ⃝ ⃝ | G8: ⃝ ⃝ ⃝ ⃝ ⃝ ⃝ ⃝
B9: Arthur | C9: ⃝ ⃝ ⃝ ⃝ ⃝ ⃝ ⃝ | D9: ⃝ ⃝ ⃝ ⃝ ⃝ ⃝ ⃝ | E9: ⃝ ⃝ ⃝ ⃝ ⃝ ⃝ ⃝ | F9: ⃝ ⃝ ⃝ ⃝ ⃝ ⃝ ⃝ | G9: ⃝ ⃝ ⃝ ⃝ ⃝ ⃝ ⃝
B10: Nans | C10: ⃝ ⃝ ⃝ ⃝ ⃝ ⃝ ⃝ | D10: ⃝ ⃝ ⃝ ⃝ ⃝ ⃝ ⃝ | E10: ⃝ ⃝ ⃝ ⃝ ⃝ ⃝ ⃝ | F10: ⃝ ⃝ ⃝ ⃝ ⃝ ⃝ ⃝ | G10: ⃝ ⃝ ⃝ ⃝ ⃝ ⃝ ⃝
A11: CM2 | B11: 1 | C11: {=IFERROR(INDEX('Bilan Fra (CACHE)'!C$1:C$33,MATCH($A11&$B11,'Bilan Fra (CACHE)'!$A$1:$A$33&'Bilan Fra (CACHE)'!$B$1:$B$33,0)),"")} -> Distinguer le COD et le COI p. 24 | D11: {=IFERROR(INDEX('Bilan Fra (CACHE)'!D$1:D$33,MATCH($A11&$B11,'Bilan Fra (CACHE)'!$A$1:$A$33&'Bilan Fra (CACHE)'!$B$1:$B$33,0)),"")} -> Écrire le verbe à l'infinitif p. 84 | E11: {=IFERROR(INDEX('Bilan Fra (CACHE)'!E$1:E$33,MATCH($A11&$B11,'Bilan Fra (CACHE)'!$A$1:$A$33&'Bilan Fra (CACHE)'!$B$1:$B$33,0)),"")} -> Les personnes, le radical et les terminaisons p. 132 | F11: {=IFERROR(INDEX('Bilan Fra (CACHE)'!F$1:F$33,MATCH($A11&$B11,'Bilan Fra (CACHE)'!$A$1:$A$33&'Bilan Fra (CACHE)'!$B$1:$B$33,0)),"")} -> Avec mon dictionnaire (2) p. 186 | G11: {=IFERROR(INDEX('Bilan Fra (CACHE)'!G$1:G$33,MATCH($A11&$B11,'Bilan Fra (CACHE)'!$A$1:$A$33&'Bilan Fra (CACHE)'!$B$1:$B$33,0)),"")} -> Accorder le verbe avec son sujet (1) p. 80
B12: Matthys | C12: ⃝ ⃝ ⃝ ⃝ ⃝ ⃝ ⃝ | D12: ⃝ ⃝ ⃝ ⃝ ⃝ ⃝ ⃝ | E12: ⃝ ⃝ ⃝ ⃝ ⃝ ⃝ ⃝ | F12: ⃝ ⃝ ⃝ ⃝ ⃝ ⃝ ⃝ | G12: ⃝ ⃝ ⃝ ⃝ ⃝ ⃝ ⃝
B13: Gabriel | C13: ⃝ ⃝ ⃝ ⃝ ⃝ ⃝ ⃝ | D13: ⃝ ⃝ ⃝ ⃝ ⃝ ⃝ ⃝ | E13: ⃝ ⃝ ⃝ ⃝ ⃝ ⃝ ⃝ | F13: ⃝ ⃝ ⃝ ⃝ ⃝ ⃝ ⃝ | G13: ⃝ ⃝ ⃝ ⃝ ⃝ ⃝ ⃝
B14: Lorenzo | C14: ⃝ ⃝ ⃝ ⃝ ⃝ ⃝ ⃝ | D14: ⃝ ⃝ ⃝ ⃝ ⃝ ⃝ ⃝ | E14: ⃝ ⃝ ⃝ ⃝ ⃝ ⃝ ⃝ | F14: ⃝ ⃝ ⃝ ⃝ ⃝ ⃝ ⃝ | G14: ⃝ ⃝ ⃝ ⃝ ⃝ ⃝ ⃝
A16: CE2 | B16: =B2+1 -> 2 | C16: {=IFERROR(INDEX('Bilan Fra (CACHE)'!C$1:C$33,MATCH($A16&$B16,'Bilan Fra (CACHE)'!$A$1:$A$33&'Bilan Fra (CACHE)'!$B$1:$B$33,0)),"")} -> Identifier le sujet du verbe p. 18 | D16: {=IFERROR(INDEX('Bilan Fra (CACHE)'!D$1:D$33,MATCH($A16&$B16,'Bilan Fra (CACHE)'!$A$1:$A$33&'Bilan Fra (CACHE)'!$B$1:$B$33,0)),"")} -> Masculin ou féminin / marquer le féminin pp. 89/90 | E16: {=IFERROR(INDEX('Bilan Fra (CACHE)'!E$1:E$33,MATCH($A16&$B16,'Bilan Fra (CACHE)'!$A$1:$A$33&'Bilan Fra (CACHE)'!$B$1:$B$33,0)),"")} -> L'infinitif du verbe et les trois groupes p. 134 | F16: {=IFERROR(INDEX('Bilan Fra (CACHE)'!F$1:F$33,MATCH($A16&$B16,'Bilan Fra (CACHE)'!$A$1:$A$33&'Bilan Fra (CACHE)'!$B$1:$B$33,0)),"")} -> Les différents sens d'un mot p. 189 | G16: {=IFERROR(INDEX('Bilan Fra (CACHE)'!G$1:G$33,MATCH($A16&$B16,'Bilan Fra (CACHE)'!$A$1:$A$33&'Bilan Fra (CACHE)'!$B$1:$B$33,0)),"")} -> Identifier les pronoms personnels sujets p. 30
B17: Nathan | C17: ⃝ ⃝ ⃝ ⃝ ⃝ ⃝ ⃝ | D17: ⃝ ⃝ ⃝ ⃝ ⃝ ⃝ ⃝ | E17: ⃝ ⃝ ⃝ ⃝ ⃝ ⃝ ⃝ | F17: ⃝ ⃝ ⃝ ⃝ ⃝ ⃝ ⃝ | G17: ⃝ ⃝ ⃝ ⃝ ⃝ ⃝ ⃝
B18: Léane | C18: ⃝ ⃝ ⃝ ⃝ ⃝ ⃝ ⃝ | D18: ⃝ ⃝ ⃝ ⃝ ⃝ ⃝ ⃝ | E18: ⃝ ⃝ ⃝ ⃝ ⃝ ⃝ ⃝ | F18: ⃝ ⃝ ⃝ ⃝ ⃝ ⃝ ⃝ | G18: ⃝ ⃝ ⃝ ⃝ ⃝ ⃝ ⃝
B19: Lohann | C19: ⃝ ⃝ ⃝ ⃝ ⃝ ⃝ ⃝ | D19: ⃝ ⃝ ⃝ ⃝ ⃝ ⃝ ⃝ | E19: ⃝ ⃝ ⃝ ⃝ ⃝ ⃝ ⃝ | F19: ⃝ ⃝ ⃝ ⃝ ⃝ ⃝ ⃝ | G19: ⃝ ⃝ ⃝ ⃝ ⃝ ⃝ ⃝
A20: CM1 | B20: =B6+1 -> 2 | C20: {=IFERROR(INDEX('Bilan Fra (CACHE)'!C$1:C$33,MATCH($A20&$B20,'Bilan Fra (CACHE)'!$A$1:$A$33&'Bilan Fra (CACHE)'!$B$1:$B$33,0)),"")} -> Dans la phrase : Qui ? Quoi ? Où ? Quand ? p. 19 | D20: {=IFERROR(INDEX('Bilan Fra (CACHE)'!D$1:D$33,MATCH($A20&$B20,'Bilan Fra (CACHE)'!$A$1:$A$33&'Bilan Fra (CACHE)'!$B$1:$B$33,0)),"")} -> Masculin ou féminin / marquer le féminin pp. 89/90 | E20: {=IFERROR(INDEX('Bilan Fra (CACHE)'!E$1:E$33,MATCH($A20&$B20,'Bilan Fra (CACHE)'!$A$1:$A$33&'Bilan Fra (CACHE)'!$B$1:$B$33,0)),"")} -> Utiliser le présent de l'indicatif p. 138 | F20: {=IFERROR(INDEX('Bilan Fra (CACHE)'!F$1:F$33,MATCH($A20&$B20,'Bilan Fra (CACHE)'!$A$1:$A$33&'Bilan Fra (CACHE)'!$B$1:$B$33,0)),"")} -> Les différents sens d'un mot p. 189 | G20: {=IFERROR(INDEX('Bilan Fra (CACHE)'!G$1:G$33,MATCH($A20&$B20,'Bilan Fra (CACHE)'!$A$1:$A$33&'Bilan Fra (CACHE)'!$B$1:$B$33,0)),"")} -> Identifier les pronoms personnels sujets p. 30
B21: Louis | C21: ⃝ ⃝ ⃝ ⃝ ⃝ ⃝ ⃝ | D21: ⃝ ⃝ ⃝ ⃝ ⃝ ⃝ ⃝ | E21: ⃝ ⃝ ⃝ ⃝ ⃝ ⃝ ⃝ | F21: ⃝ ⃝ ⃝ ⃝ ⃝ ⃝ ⃝ | G21: ⃝ ⃝ ⃝ ⃝ ⃝ ⃝ ⃝
B22: Céleste | C22: ⃝ ⃝ ⃝ ⃝ ⃝ ⃝ ⃝ | D22: ⃝ ⃝ ⃝ ⃝ ⃝ ⃝ ⃝ | E22: ⃝ ⃝ ⃝ ⃝ ⃝ ⃝ ⃝ | F22: ⃝ ⃝ ⃝ ⃝ ⃝ ⃝ ⃝ | G22: ⃝ ⃝ ⃝ ⃝ ⃝ ⃝ ⃝
B23: Arthur | C23: ⃝ ⃝ ⃝ ⃝ ⃝ ⃝ ⃝ | D23: ⃝ ⃝ ⃝ ⃝ ⃝ ⃝ ⃝ | E23: ⃝ ⃝ ⃝ ⃝ ⃝ ⃝ ⃝ | F23: ⃝ ⃝ ⃝ ⃝ ⃝ ⃝ ⃝ | G23: ⃝ ⃝ ⃝ ⃝ ⃝ ⃝ ⃝
B24: Nans | C24: ⃝ ⃝ ⃝ ⃝ ⃝ ⃝ ⃝ | D24: ⃝ ⃝ ⃝ ⃝ ⃝ ⃝ ⃝ | E24: ⃝ ⃝ ⃝ ⃝ ⃝ ⃝ ⃝ | F24: ⃝ ⃝ ⃝ ⃝ ⃝ ⃝ ⃝ | G24: ⃝ ⃝ ⃝ ⃝ ⃝ ⃝ ⃝
A25: CM2 | B25: =B11+1 -> 2 | C25: {=IFERROR(INDEX('Bilan Fra (CACHE)'!C$1:C$33,MATCH($A25&$B25,'Bilan Fra (CACHE)'!$A$1:$A$33&'Bilan Fra (CACHE)'!$B$1:$B$33,0)),"")} -> Identifier une phrase simple et une phrase complexe p. 26 | D25: {=IFERROR(INDEX('Bilan Fra (CACHE)'!D$1:D$33,MATCH($A25&$B25,'Bilan Fra (CACHE)'!$A$1:$A$33&'Bilan Fra (CACHE)'!$B$1:$B$33,0)),"")} -> Accorder le verbe avec son sujet (2) p. 82 | E25: {=IFERROR(INDEX('Bilan Fra (CACHE)'!E$1:E$33,MATCH($A25&$B25,'Bilan Fra (CACHE)'!$A$1:$A$33&'Bilan Fra (CACHE)'!$B$1:$B$33,0)),"")} -> Utiliser le présent de l'indicatif p. 138 | F25: {=IFERROR(INDEX('Bilan Fra (CACHE)'!F$1:F$33,MATCH($A25&$B25,'Bilan Fra (CACHE)'!$A$1:$A$33&'Bilan Fra (CACHE)'!$B$1:$B$33,0)),"")} -> Les différents sens d'un mot p. 189 | G25: {=IFERROR(INDEX('Bilan Fra (CACHE)'!G$1:G$33,MATCH($A25&$B25,'Bilan Fra (CACHE)'!$A$1:$A$33&'Bilan Fra (CACHE)'!$B$1:$B$33,0)),"")} -> Identifier les pronoms personnels compléments p. 32
B26: Matthys | C26: ⃝ ⃝ ⃝ ⃝ ⃝ ⃝ ⃝ | D26: ⃝ ⃝ ⃝ ⃝ ⃝ ⃝ ⃝ | E26: ⃝ ⃝ ⃝ ⃝ ⃝ ⃝ ⃝ | F26: ⃝ ⃝ ⃝ ⃝ ⃝ ⃝ ⃝ | G26: ⃝ ⃝ ⃝ ⃝ ⃝ ⃝ ⃝
B27: Gabriel | C27: ⃝ ⃝ ⃝ ⃝ ⃝ ⃝ ⃝ | D27: ⃝ ⃝ ⃝ ⃝ ⃝ ⃝ ⃝ | E27: ⃝ ⃝ ⃝ ⃝ ⃝ ⃝ ⃝ | F27: ⃝ ⃝ ⃝ ⃝ ⃝ ⃝ ⃝ | G27: ⃝ ⃝ ⃝ ⃝ ⃝ ⃝ ⃝
B28: Lorenzo | C28: ⃝ ⃝ ⃝ ⃝ ⃝ ⃝ ⃝ | D28: ⃝ ⃝ ⃝ ⃝ ⃝ ⃝ ⃝ | E28: ⃝ ⃝ ⃝ ⃝ ⃝ ⃝ ⃝ | F28: ⃝ ⃝ ⃝ ⃝ ⃝ ⃝ ⃝ | G28: ⃝ ⃝ ⃝ ⃝ ⃝ ⃝ ⃝
A30: CE2 | B30: =B16+1 -> 3 | C30: {=IFERROR(INDEX('Bilan Fra (CACHE)'!C$1:C$33,MATCH($A30&$B30,'Bilan Fra (CACHE)'!$A$1:$A$33&'Bilan Fra (CACHE)'!$B$1:$B$33,0)),"")} -> Dans la phrase : Qui ? Quoi ? Où ? Quand ? p. 19 | D30: {=IFERROR(INDEX('Bilan Fra (CACHE)'!D$1:D$33,MATCH($A30&$B30,'Bilan Fra (CACHE)'!$A$1:$A$33&'Bilan Fra (CACHE)'!$B$1:$B$33,0)),"")} -> Singulier ou pluriel / Marquer le pluriel pp. 91/92 | E30: {=IFERROR(INDEX('Bilan Fra (CACHE)'!E$1:E$33,MATCH($A30&$B30,'Bilan Fra (CACHE)'!$A$1:$A$33&'Bilan Fra (CACHE)'!$B$1:$B$33,0)),"")} -> Les personnes, le radical et les terminaisons p. 132 | F30: {=IFERROR(INDEX('Bilan Fra (CACHE)'!F$1:F$33,MATCH($A30&$B30,'Bilan Fra (CACHE)'!$A$1:$A$33&'Bilan Fra (CACHE)'!$B$1:$B$33,0)),"")} -> Accorder le verbe avec son sujet (1) p. 80 | G30: {=IFERROR(INDEX('Bilan Fra (CACHE)'!G$1:G$33,MATCH($A30&$B30,'Bilan Fra (CACHE)'!$A$1:$A$33&'Bilan Fra (CACHE)'!$B$1:$B$33,0)),"")}
B31: Nathan | C31: ⃝ ⃝ ⃝ ⃝ ⃝ ⃝ ⃝ | D31: ⃝ ⃝ ⃝ ⃝ ⃝ ⃝ ⃝ | E31: ⃝ ⃝ ⃝ ⃝ ⃝ ⃝ ⃝ | F31: ⃝ ⃝ ⃝ ⃝ ⃝ ⃝ ⃝ | G31: ⃝ ⃝ ⃝ ⃝ ⃝ ⃝ ⃝
B32: Léane | C32: ⃝ ⃝ ⃝ ⃝ ⃝ ⃝ ⃝ | D32: ⃝ ⃝ ⃝ ⃝ ⃝ ⃝ ⃝ | E32: ⃝ ⃝ ⃝ ⃝ ⃝ ⃝ ⃝ | F32: ⃝ ⃝ ⃝ ⃝ ⃝ ⃝ ⃝ | G32: ⃝ ⃝ ⃝ ⃝ ⃝ ⃝ ⃝
B33: Lohann | C33: ⃝ ⃝ ⃝ ⃝ ⃝ ⃝ ⃝ | D33: ⃝ ⃝ ⃝ ⃝ ⃝ ⃝ ⃝ | E33: ⃝ ⃝ ⃝ ⃝ ⃝ ⃝ ⃝ | F33: ⃝ ⃝ ⃝ ⃝ ⃝ ⃝ ⃝ | G33: ⃝ ⃝ ⃝ ⃝ ⃝ ⃝ ⃝
A34: CM1 | B34: =B20+1 -> 3 | C34: {=IFERROR(INDEX('Bilan Fra (CACHE)'!C$1:C$33,MATCH($A34&$B34,'Bilan Fra (CACHE)'!$A$1:$A$33&'Bilan Fra (CACHE)'!$B$1:$B$33,0)),"")} -> Identifier une phrase simple et une phrase complexe p. 26 | D34: {=IFERROR(INDEX('Bilan Fra (CACHE)'!D$1:D$33,MATCH($A34&$B34,'Bilan Fra (CACHE)'!$A$1:$A$33&'Bilan Fra (CACHE)'!$B$1:$B$33,0)),"")} -> Singulier ou pluriel / Marquer le pluriel pp. 91/92 | E34: {=IFERROR(INDEX('Bilan Fra (CACHE)'!E$1:E$33,MATCH($A34&$B34,'Bilan Fra (CACHE)'!$A$1:$A$33&'Bilan Fra (CACHE)'!$B$1:$B$33,0)),"")} -> Conjuguer au présent de l'indicatif (2) p. 142 | F34: {=IFERROR(INDEX('Bilan Fra (CACHE)'!F$1:F$33,MATCH($A34&$B34,'Bilan Fra (CACHE)'!$A$1:$A$33&'Bilan Fra (CACHE)'!$B$1:$B$33,0)),"")} -> Distinguer le COD et le COI p. 24 | G34: {=IFERROR(INDEX('Bilan Fra (CACHE)'!G$1:G$33,MATCH($A34&$B34,'Bilan Fra (CACHE)'!$A$1:$A$33&'Bilan Fra (CACHE)'!$B$1:$B$33,0)),"")}
B35: Louis | C35: ⃝ ⃝ ⃝ ⃝ ⃝ ⃝ ⃝ | D35: ⃝ ⃝ ⃝ ⃝ ⃝ ⃝ ⃝ | E35: ⃝ ⃝ ⃝ ⃝ ⃝ ⃝ ⃝ | F35: ⃝ ⃝ ⃝ ⃝ ⃝ ⃝ ⃝ | G35: ⃝ ⃝ ⃝ ⃝ ⃝ ⃝ ⃝
B36: Céleste | C36: ⃝ ⃝ ⃝ ⃝ ⃝ ⃝ ⃝ | D36: ⃝ ⃝ ⃝ ⃝ ⃝ ⃝ ⃝ | E36: ⃝ ⃝ ⃝ ⃝ ⃝ ⃝ ⃝ | F36: ⃝ ⃝ ⃝ ⃝ ⃝ ⃝ ⃝ | G36: ⃝ ⃝ ⃝ ⃝ ⃝ ⃝ ⃝
B37: Arthur | C37: ⃝ ⃝ ⃝ ⃝ ⃝ ⃝ ⃝ | D37: ⃝ ⃝ ⃝ ⃝ ⃝ ⃝ ⃝ | E37: ⃝ ⃝ ⃝ ⃝ ⃝ ⃝ ⃝ | F37: ⃝ ⃝ ⃝ ⃝ ⃝ ⃝ ⃝ | G37: ⃝ ⃝ ⃝ ⃝ ⃝ ⃝ ⃝
B38: Nans | C38: ⃝ ⃝ ⃝ ⃝ ⃝ ⃝ ⃝ | D38: ⃝ ⃝ ⃝ ⃝ ⃝ ⃝ ⃝ | E38: ⃝ ⃝ ⃝ ⃝ ⃝ ⃝ ⃝ | F38: ⃝ ⃝ ⃝ ⃝ ⃝ ⃝ ⃝ | G38: ⃝ ⃝ ⃝ ⃝ ⃝ ⃝ ⃝
A39: CM2 | B39: =B25+1 -> 3 | C39: {=IFERROR(INDEX('Bilan Fra (CACHE)'!C$1:C$33,MATCH($A39&$B39,'Bilan Fra (CACHE)'!$A$1:$A$33&'Bilan Fra (CACHE)'!$B$1:$B$33,0)),"")} -> Identifier les pronoms définis, démonstratifs et possessifs p. 58 | D39: {=IFERROR(INDEX('Bilan Fra (CACHE)'!D$1:D$33,MATCH($A39&$B39,'Bilan Fra (CACHE)'!$A$1:$A$33&'Bilan Fra (CACHE)'!$B$1:$B$33,0)),"")} -> Accorder le verbe avec son sujet (3) p. 86 | E39: {=IFERROR(INDEX('Bilan Fra (CACHE)'!E$1:E$33,MATCH($A39&$B39,'Bilan Fra (CACHE)'!$A$1:$A$33&'Bilan Fra (CACHE)'!$B$1:$B$33,0)),"")} -> Conjuguer au présent de l'indicatif (3) p. 144 | F39: {=IFERROR(INDEX('Bilan Fra (CACHE)'!F$1:F$33,MATCH($A39&$B39,'Bilan Fra (CACHE)'!$A$1:$A$33&'Bilan Fra (CACHE)'!$B$1:$B$33,0)),"")} -> Comprendre la chaîne du temps p. 150 | G39: {=IFERROR(INDEX('Bilan Fra (CACHE)'!G$1:G$33,MATCH($A39&$B39,'Bilan Fra (CACHE)'!$A$1:$A$33&'Bilan Fra (CACHE)'!$B$1:$B$33,0)),"")}
B40: Matthys | C40: ⃝ ⃝ ⃝ ⃝ ⃝ ⃝ ⃝ | D40: ⃝ ⃝ ⃝ ⃝ ⃝ ⃝ ⃝ | E40: ⃝ ⃝ ⃝ ⃝ ⃝ ⃝ ⃝ | F40: ⃝ ⃝ ⃝ ⃝ ⃝ ⃝ ⃝ | G40: ⃝ ⃝ ⃝ ⃝ ⃝ ⃝ ⃝
B41: Gabriel | C41: ⃝ ⃝ ⃝ ⃝ ⃝ ⃝ ⃝ | D41: ⃝ ⃝ ⃝ ⃝ ⃝ ⃝ ⃝ | E41: ⃝ ⃝ ⃝ ⃝ ⃝ ⃝ ⃝ | F41: ⃝ ⃝ ⃝ ⃝ ⃝ ⃝ ⃝ | G41: ⃝ ⃝ ⃝ ⃝ ⃝ ⃝ ⃝
B42: Lorenzo | C42: ⃝ ⃝ ⃝ ⃝ ⃝ ⃝ ⃝ | D42: ⃝ ⃝ ⃝ ⃝ ⃝ ⃝ ⃝ | E42: ⃝ ⃝ ⃝ ⃝ ⃝ ⃝ ⃝ | F42: ⃝ ⃝ ⃝ ⃝ ⃝ ⃝ ⃝ | G42: ⃝ ⃝ ⃝ ⃝ ⃝ ⃝ ⃝
...

Sheet Bilans Maths
A1: Bilan des plans de travail Mathématiques
A2: CE2 | B2: 1 | C2: {=IFERROR(INDEX('Bilan Mat (CACHE)'!C$1:C$33,MATCH($A2&$B2,'Bilan Mat (CACHE)'!$A$1:$A$33&'Bilan Mat (CACHE)'!$B$1:$B$33,0)),"")} -> Les nombre de 0 à 999 - p. 17 | D2: {=IFERROR(INDEX('Bilan Mat (CACHE)'!D$1:D$33,MATCH($A2&$B2,'Bilan Mat (CACHE)'!$A$1:$A$33&'Bilan Mat (CACHE)'!$B$1:$B$33,0)),"")} -> Pliages et découpages - p. 107 | E2: {=IFERROR(INDEX('Bilan Mat (CACHE)'!E$1:E$33,MATCH($A2&$B2,'Bilan Mat (CACHE)'!$A$1:$A$33&'Bilan Mat (CACHE)'!$B$1:$B$33,0)),"")} -> Les nombres de 0 à 999 - p. 21 | F2: {=IFERROR(INDEX('Bilan Mat (CACHE)'!F$1:F$33,MATCH($A2&$B2,'Bilan Mat (CACHE)'!$A$1:$A$33&'Bilan Mat (CACHE)'!$B$1:$B$33,0)),"")} -> Droites perpendiculaires et angles droits - p. 115 | G2: {=IFERROR(INDEX('Bilan Mat (CACHE)'!G$1:G$33,MATCH($A2&$B2,'Bilan Mat (CACHE)'!$A$1:$A$33&'Bilan Mat (CACHE)'!$B$1:$B$33,0)),"")} -> 01 Identification d'un problème | H2: {=IFERROR(INDEX('Bilan Mat (CACHE)'!H$1:H$33,MATCH($A2&$B2,'Bilan Mat (CACHE)'!$A$1:$A$33&'Bilan Mat (CACHE)'!$B$1:$B$33,0)),"")} | I2: {=IFERROR(INDEX('Bilan Mat (CACHE)'!I$1:I$33,MATCH($A2&$B2,'Bilan Mat (CACHE)'!$A$1:$A$33&'Bilan Mat (CACHE)'!$B$1:$B$33,0)),"")}
B3: Nathan | C3: ⃝ ⃝ ⃝ ⃝ ⃝ ⃝ ⃝ | D3: ⃝ ⃝ ⃝ ⃝ ⃝ ⃝ ⃝ | E3: ⃝ ⃝ ⃝ ⃝ ⃝ ⃝ ⃝ | F3: ⃝ ⃝ ⃝ ⃝ ⃝ ⃝ ⃝ | G3: ⃝ ⃝ ⃝ ⃝ ⃝ ⃝ ⃝ | H3: ⃝ ⃝ ⃝ ⃝ ⃝ ⃝ ⃝ | I3: ⃝ ⃝ ⃝ ⃝ ⃝ ⃝ ⃝
B4: Léane | C4: ⃝ ⃝ ⃝ ⃝ ⃝ ⃝ ⃝ | D4: ⃝ ⃝ ⃝ ⃝ ⃝ ⃝ ⃝ | E4: ⃝ ⃝ ⃝ ⃝ ⃝ ⃝ ⃝ | F4: ⃝ ⃝ ⃝ ⃝ ⃝ ⃝ ⃝ | G4: ⃝ ⃝ ⃝ ⃝ ⃝ ⃝ ⃝ | H4: ⃝ ⃝ ⃝ ⃝ ⃝ ⃝ ⃝ | I4: ⃝ ⃝ ⃝ ⃝ ⃝ ⃝ ⃝
B5: Lohann | C5: ⃝ ⃝ ⃝ ⃝ ⃝ ⃝ ⃝ | D5: ⃝ ⃝ ⃝ ⃝ ⃝ ⃝ ⃝ | E5: ⃝ ⃝ ⃝ ⃝ ⃝ ⃝ ⃝ | F5: ⃝ ⃝ ⃝ ⃝ ⃝ ⃝ ⃝ | G5: ⃝ ⃝ ⃝ ⃝ ⃝ ⃝ ⃝ | H5: ⃝ ⃝ ⃝ ⃝ ⃝ ⃝ ⃝ | I5: ⃝ ⃝ ⃝ ⃝ ⃝ ⃝ ⃝
A6: CM1 | B6: 1 | C6: {=IFERROR(INDEX('Bilan Mat (CACHE)'!C$1:C$33,MATCH($A6&$B6,'Bilan Mat (CACHE)'!$A$1:$A$33&'Bilan Mat (CACHE)'!$B$1:$B$33,0)),"")} -> Les grands nombres (1) - p. 17 | D6: {=IFERROR(INDEX('Bilan Mat (CACHE)'!D$1:D$33,MATCH($A6&$B6,'Bilan Mat (CACHE)'!$A$1:$A$33&'Bilan Mat (CACHE)'!$B$1:$B$33,0)),"")} -> Symétrie axiale (1) - p. 91 / Symétrie axiale (2) - p. 95 | E6: {=IFERROR(INDEX('Bilan Mat (CACHE)'!E$1:E$33,MATCH($A6&$B6,'Bilan Mat (CACHE)'!$A$1:$A$33&'Bilan Mat (CACHE)'!$B$1:$B$33,0)),"")} -> Les grands nombres (2) - p. 21 | F6: {=IFERROR(INDEX('Bilan Mat (CACHE)'!F$1:F$33,MATCH($A6&$B6,'Bilan Mat (CACHE)'!$A$1:$A$33&'Bilan Mat (CACHE)'!$B$1:$B$33,0)),"")} -> Parallèles et perpendiculaires - p. 99 | G6: {=IFERROR(INDEX('Bilan Mat (CACHE)'!G$1:G$33,MATCH($A6&$B6,'Bilan Mat (CACHE)'!$A$1:$A$33&'Bilan Mat (CACHE)'!$B$1:$B$33,0)),"")} -> E300 Est-ce un problème ? | H6: {=IFERROR(INDEX('Bilan Mat (CACHE)'!H$1:H$33,MATCH($A6&$B6,'Bilan Mat (CACHE)'!$A$1:$A$33&'Bilan Mat (CACHE)'!$B$1:$B$33,0)),"")} | I6: {=IFERROR(INDEX('Bilan Mat (CACHE)'!I$1:I$33,MATCH($A6&$B6,'Bilan Mat (CACHE)'!$A$1:$A$33&'Bilan Mat (CACHE)'!$B$1:$B$33,0)),"")}
B7: Louis | C7: ⃝ ⃝ ⃝ ⃝ ⃝ ⃝ ⃝ | D7: ⃝ ⃝ ⃝ ⃝ ⃝ ⃝ ⃝ | E7: ⃝ ⃝ ⃝ ⃝ ⃝ ⃝ ⃝ | F7: ⃝ ⃝ ⃝ ⃝ ⃝ ⃝ ⃝ | G7: ⃝ ⃝ ⃝ ⃝ ⃝ ⃝ ⃝ | H7: ⃝ ⃝ ⃝ ⃝ ⃝ ⃝ ⃝ | I7: ⃝ ⃝ ⃝ ⃝ ⃝ ⃝ ⃝
B8: Céleste | C8: ⃝ ⃝ ⃝ ⃝ ⃝ ⃝ ⃝ | D8: ⃝ ⃝ ⃝ ⃝ ⃝ ⃝ ⃝ | E8: ⃝ ⃝ ⃝ ⃝ ⃝ ⃝ ⃝ | F8: ⃝ ⃝ ⃝ ⃝ ⃝ ⃝ ⃝ | G8: ⃝ ⃝ ⃝ ⃝ ⃝ ⃝ ⃝ | H8: ⃝ ⃝ ⃝ ⃝ ⃝ ⃝ ⃝ | I8: ⃝ ⃝ ⃝ ⃝ ⃝ ⃝ ⃝
B9: Arthur | C9: ⃝ ⃝ ⃝ ⃝ ⃝ ⃝ ⃝ | D9: ⃝ ⃝ ⃝ ⃝ ⃝ ⃝ ⃝ | E9: ⃝ ⃝ ⃝ ⃝ ⃝ ⃝ ⃝ | F9: ⃝ ⃝ ⃝ ⃝ ⃝ ⃝ ⃝ | G9: ⃝ ⃝ ⃝ ⃝ ⃝ ⃝ ⃝ | H9: ⃝ ⃝ ⃝ ⃝ ⃝ ⃝ ⃝ | I9: ⃝ ⃝ ⃝ ⃝ ⃝ ⃝ ⃝
B10: Nans | C10: ⃝ ⃝ ⃝ ⃝ ⃝ ⃝ ⃝ | D10: ⃝ ⃝ ⃝ ⃝ ⃝ ⃝ ⃝ | E10: ⃝ ⃝ ⃝ ⃝ ⃝ ⃝ ⃝ | F10: ⃝ ⃝ ⃝ ⃝ ⃝ ⃝ ⃝ | G10: ⃝ ⃝ ⃝ ⃝ ⃝ ⃝ ⃝ | H10: ⃝ ⃝ ⃝ ⃝ ⃝ ⃝ ⃝ | I10: ⃝ ⃝ ⃝ ⃝ ⃝ ⃝ ⃝
A11: CM2 | B11: 1 | C11: {=IFERROR(INDEX('Bilan Mat (CACHE)'!C$1:C$33,MATCH($A11&$B11,'Bilan Mat (CACHE)'!$A$1:$A$33&'Bilan Mat (CACHE)'!$B$1:$B$33,0)),"")} -> Les grands nombres (1) - p. 17 | D11: {=IFERROR(INDEX('Bilan Mat (CACHE)'!D$1:D$33,MATCH($A11&$B11,'Bilan Mat (CACHE)'!$A$1:$A$33&'Bilan Mat (CACHE)'!$B$1:$B$33,0)),"")} -> Tracés de figures - p. 79 | E11: {=IFERROR(INDEX('Bilan Mat (CACHE)'!E$1:E$33,MATCH($A11&$B11,'Bilan Mat (CACHE)'!$A$1:$A$33&'Bilan Mat (CACHE)'!$B$1:$B$33,0)),"")} -> Les grands nombres (2) - p. 21 | F11: {=IFERROR(INDEX('Bilan Mat (CACHE)'!F$1:F$33,MATCH($A11&$B11,'Bilan Mat (CACHE)'!$A$1:$A$33&'Bilan Mat (CACHE)'!$B$1:$B$33,0)),"")} -> Parallèles et perpendiculaires - p. 83 | G11: {=IFERROR(INDEX('Bilan Mat (CACHE)'!G$1:G$33,MATCH($A11&$B11,'Bilan Mat (CACHE)'!$A$1:$A$33&'Bilan Mat (CACHE)'!$B$1:$B$33,0)),"")} -> E300 Est-ce un problème ? | H11: {=IFERROR(INDEX('Bilan Mat (CACHE)'!H$1:H$33,MATCH($A11&$B11,'Bilan Mat (CACHE)'!$A$1:$A$33&'Bilan Mat (CACHE)'!$B$1:$B$33,0)),"")} | I11: {=IFERROR(INDEX('Bilan Mat (CACHE)'!I$1:I$33,MATCH($A11&$B11,'Bilan Mat (CACHE)'!$A$1:$A$33&'Bilan Mat (CACHE)'!$B$1:$B$33,0)),"")}
B12: Matthys | C12: ⃝ ⃝ ⃝ ⃝ ⃝ ⃝ ⃝ | D12: ⃝ ⃝ ⃝ ⃝ ⃝ ⃝ ⃝ | E12: ⃝ ⃝ ⃝ ⃝ ⃝ ⃝ ⃝ | F12: ⃝ ⃝ ⃝ ⃝ ⃝ ⃝ ⃝ | G12: ⃝ ⃝ ⃝ ⃝ ⃝ ⃝ ⃝ | H12: ⃝ ⃝ ⃝ ⃝ ⃝ ⃝ ⃝ | I12: ⃝ ⃝ ⃝ ⃝ ⃝ ⃝ ⃝
B13: Gabriel | C13: ⃝ ⃝ ⃝ ⃝ ⃝ ⃝ ⃝ | D13: ⃝ ⃝ ⃝ ⃝ ⃝ ⃝ ⃝ | E13: ⃝ ⃝ ⃝ ⃝ ⃝ ⃝ ⃝ | F13: ⃝ ⃝ ⃝ ⃝ ⃝ ⃝ ⃝ | G13: ⃝ ⃝ ⃝ ⃝ ⃝ ⃝ ⃝ | H13: ⃝ ⃝ ⃝ ⃝ ⃝ ⃝ ⃝ | I13: ⃝ ⃝ ⃝ ⃝ ⃝ ⃝ ⃝
B14: Lorenzo | C14: ⃝ ⃝ ⃝ ⃝ ⃝ ⃝ ⃝ | D14: ⃝ ⃝ ⃝ ⃝ ⃝ ⃝ ⃝ | E14: ⃝ ⃝ ⃝ ⃝ ⃝ ⃝ ⃝ | F14: ⃝ ⃝ ⃝ ⃝ ⃝ ⃝ ⃝ | G14: ⃝ ⃝ ⃝ ⃝ ⃝ ⃝ ⃝ | H14: ⃝ ⃝ ⃝ ⃝ ⃝ ⃝ ⃝ | I14: ⃝ ⃝ ⃝ ⃝ ⃝ ⃝ ⃝
A16: CE2 | B16: =B2+1 -> 2 | C16: {=IFERROR(INDEX('Bilan Mat (CACHE)'!C$1:C$33,MATCH($A16&$B16,'Bilan Mat (CACHE)'!$A$1:$A$33&'Bilan Mat (CACHE)'!$B$1:$B$33,0)),"")} -> Les nombres de 0 à 9999 - p. 25 | D16: {=IFERROR(INDEX('Bilan Mat (CACHE)'!D$1:D$33,MATCH($A16&$B16,'Bilan Mat (CACHE)'!$A$1:$A$33&'Bilan Mat (CACHE)'!$B$1:$B$33,0)),"")} -> Reconnaître les grandeurs - p. 137 | E16: {=IFERROR(INDEX('Bilan Mat (CACHE)'!E$1:E$33,MATCH($A16&$B16,'Bilan Mat (CACHE)'!$A$1:$A$33&'Bilan Mat (CACHE)'!$B$1:$B$33,0)),"")} -> Les nombres de 0 à 9999 - p. 29 | F16: {=IFERROR(INDEX('Bilan Mat (CACHE)'!F$1:F$33,MATCH($A16&$B16,'Bilan Mat (CACHE)'!$A$1:$A$33&'Bilan Mat (CACHE)'!$B$1:$B$33,0)),"")} -> Les longueurs : unités usuelles - p. 145 | G16: {=IFERROR(INDEX('Bilan Mat (CACHE)'!G$1:G$33,MATCH($A16&$B16,'Bilan Mat (CACHE)'!$A$1:$A$33&'Bilan Mat (CACHE)'!$B$1:$B$33,0)),"")} -> Les longueurs : comparaisons et calculs - p. 149 | H16: {=IFERROR(INDEX('Bilan Mat (CACHE)'!H$1:H$33,MATCH($A16&$B16,'Bilan Mat (CACHE)'!$A$1:$A$33&'Bilan Mat (CACHE)'!$B$1:$B$33,0)),"")} -> 02 Problèmes impossibles (indiquer pourquoi un problème est impossible) | I16: {=IFERROR(INDEX('Bilan Mat (CACHE)'!I$1:I$33,MATCH($A16&$B16,'Bilan Mat (CACHE)'!$A$1:$A$33&'Bilan Mat (CACHE)'!$B$1:$B$33,0)),"")}
B17: Nathan | C17: ⃝ ⃝ ⃝ ⃝ ⃝ ⃝ ⃝ | D17: ⃝ ⃝ ⃝ ⃝ ⃝ ⃝ ⃝ | E17: ⃝ ⃝ ⃝ ⃝ ⃝ ⃝ ⃝ | F17: ⃝ ⃝ ⃝ ⃝ ⃝ ⃝ ⃝ | G17: ⃝ ⃝ ⃝ ⃝ ⃝ ⃝ ⃝ | H17: ⃝ ⃝ ⃝ ⃝ ⃝ ⃝ ⃝ | I17: ⃝ ⃝ ⃝ ⃝ ⃝ ⃝ ⃝
B18: Léane | C18: ⃝ ⃝ ⃝ ⃝ ⃝ ⃝ ⃝ | D18: ⃝ ⃝ ⃝ ⃝ ⃝ ⃝ ⃝ | E18: ⃝ ⃝ ⃝ ⃝ ⃝ ⃝ ⃝ | F18: ⃝ ⃝ ⃝ ⃝ ⃝ ⃝ ⃝ | G18: ⃝ ⃝ ⃝ ⃝ ⃝ ⃝ ⃝ | H18: ⃝ ⃝ ⃝ ⃝ ⃝ ⃝ ⃝ | I18: ⃝ ⃝ ⃝ ⃝ ⃝ ⃝ ⃝
B19: Lohann | C19: ⃝ ⃝ ⃝ ⃝ ⃝ ⃝ ⃝ | D19: ⃝ ⃝ ⃝ ⃝ ⃝ ⃝ ⃝ | E19: ⃝ ⃝ ⃝ ⃝ ⃝ ⃝ ⃝ | F19: ⃝ ⃝ ⃝ ⃝ ⃝ ⃝ ⃝ | G19: ⃝ ⃝ ⃝ ⃝ ⃝ ⃝ ⃝ | H19: ⃝ ⃝ ⃝ ⃝ ⃝ ⃝ ⃝ | I19: ⃝ ⃝ ⃝ ⃝ ⃝ ⃝ ⃝
A20: CM1 | B20: =B6+1 -> 2 | C20: {=IFERROR(INDEX('Bilan Mat (CACHE)'!C$1:C$33,MATCH($A20&$B20,'Bilan Mat (CACHE)'!$A$1:$A$33&'Bilan Mat (CACHE)'!$B$1:$B$33,0)),"")} -> Relations numériques - p. 25 | D20: {=IFERROR(INDEX('Bilan Mat (CACHE)'!D$1:D$33,MATCH($A20&$B20,'Bilan Mat (CACHE)'!$A$1:$A$33&'Bilan Mat (CACHE)'!$B$1:$B$33,0)),"")} -> Mesures de longueurs - p. 129 | E20: {=IFERROR(INDEX('Bilan Mat (CACHE)'!E$1:E$33,MATCH($A20&$B20,'Bilan Mat (CACHE)'!$A$1:$A$33&'Bilan Mat (CACHE)'!$B$1:$B$33,0)),"")} -> Les grands nombres : additions et soustraction - p. 29 | F20: {=IFERROR(INDEX('Bilan Mat (CACHE)'!F$1:F$33,MATCH($A20&$B20,'Bilan Mat (CACHE)'!$A$1:$A$33&'Bilan Mat (CACHE)'!$B$1:$B$33,0)),"")} -> Calculer un périmètre - p. 137 | G20: {=IFERROR(INDEX('Bilan Mat (CACHE)'!G$1:G$33,MATCH($A20&$B20,'Bilan Mat (CACHE)'!$A$1:$A$33&'Bilan Mat (CACHE)'!$B$1:$B$33,0)),"")} -> Mesures d’aires - p. 141 | H20: {=IFERROR(INDEX('Bilan Mat (CACHE)'!H$1:H$33,MATCH($A20&$B20,'Bilan Mat (CACHE)'!$A$1:$A$33&'Bilan Mat (CACHE)'!$B$1:$B$33,0)),"")} -> E310 Quelle question m'oblige à faire un calcul ? | I20: {=IFERROR(INDEX('Bilan Mat (CACHE)'!I$1:I$33,MATCH($A20&$B20,'Bilan Mat (CACHE)'!$A$1:$A$33&'Bilan Mat (CACHE)'!$B$1:$B$33,0)),"")}
B21: Louis | C21: ⃝ ⃝ ⃝ ⃝ ⃝ ⃝ ⃝ | D21: ⃝ ⃝ ⃝ ⃝ ⃝ ⃝ ⃝ | E21: ⃝ ⃝ ⃝ ⃝ ⃝ ⃝ ⃝ | F21: ⃝ ⃝ ⃝ ⃝ ⃝ ⃝ ⃝ | G21: ⃝ ⃝ ⃝ ⃝ ⃝ ⃝ ⃝ | H21: ⃝ ⃝ ⃝ ⃝ ⃝ ⃝ ⃝ | I21: ⃝ ⃝ ⃝ ⃝ ⃝ ⃝ ⃝
B22: Céleste | C22: ⃝ ⃝ ⃝ ⃝ ⃝ ⃝ ⃝ | D22: ⃝ ⃝ ⃝ ⃝ ⃝ ⃝ ⃝ | E22: ⃝ ⃝ ⃝ ⃝ ⃝ ⃝ ⃝ | F22: ⃝ ⃝ ⃝ ⃝ ⃝ ⃝ ⃝ | G22: ⃝ ⃝ ⃝ ⃝ ⃝ ⃝ ⃝ | H22: ⃝ ⃝ ⃝ ⃝ ⃝ ⃝ ⃝ | I22: ⃝ ⃝ ⃝ ⃝ ⃝ ⃝ ⃝
B23: Arthur | C23: ⃝ ⃝ ⃝ ⃝ ⃝ ⃝ ⃝ | D23: ⃝ ⃝ ⃝ ⃝ ⃝ ⃝ ⃝ | E23: ⃝ ⃝ ⃝ ⃝ ⃝ ⃝ ⃝ | F23: ⃝ ⃝ ⃝ ⃝ ⃝ ⃝ ⃝ | G23: ⃝ ⃝ ⃝ ⃝ ⃝ ⃝ ⃝ | H23: ⃝ ⃝ ⃝ ⃝ ⃝ ⃝ ⃝ | I23: ⃝ ⃝ ⃝ ⃝ ⃝ ⃝ ⃝
B24: Nans | C24: ⃝ ⃝ ⃝ ⃝ ⃝ ⃝ ⃝ | D24: ⃝ ⃝ ⃝ ⃝ ⃝ ⃝ ⃝ | E24: ⃝ ⃝ ⃝ ⃝ ⃝ ⃝ ⃝ | F24: ⃝ ⃝ ⃝ ⃝ ⃝ ⃝ ⃝ | G24: ⃝ ⃝ ⃝ ⃝ ⃝ ⃝ ⃝ | H24: ⃝ ⃝ ⃝ ⃝ ⃝ ⃝ ⃝ | I24: ⃝ ⃝ ⃝ ⃝ ⃝ ⃝ ⃝
A25: CM2 | B25: =B11+1 -> 2 | C25: {=IFERROR(INDEX('Bilan Mat (CACHE)'!C$1:C$33,MATCH($A25&$B25,'Bilan Mat (CACHE)'!$A$1:$A$33&'Bilan Mat (CACHE)'!$B$1:$B$33,0)),"")} -> Les fractions - p. 25 | D25: {=IFERROR(INDEX('Bilan Mat (CACHE)'!D$1:D$33,MATCH($A25&$B25,'Bilan Mat (CACHE)'!$A$1:$A$33&'Bilan Mat (CACHE)'!$B$1:$B$33,0)),"")} -> Mesures de longueurs, de masses, de contenances / Les angles - pp. 121/141 | E25: {=IFERROR(INDEX('Bilan Mat (CACHE)'!E$1:E$33,MATCH($A25&$B25,'Bilan Mat (CACHE)'!$A$1:$A$33&'Bilan Mat (CACHE)'!$B$1:$B$33,0)),"")} -> Les fractions décimales - p. 29 | F25: {=IFERROR(INDEX('Bilan Mat (CACHE)'!F$1:F$33,MATCH($A25&$B25,'Bilan Mat (CACHE)'!$A$1:$A$33&'Bilan Mat (CACHE)'!$B$1:$B$33,0)),"")} -> Les périmètres - p. 125 | G25: {=IFERROR(INDEX('Bilan Mat (CACHE)'!G$1:G$33,MATCH($A25&$B25,'Bilan Mat (CACHE)'!$A$1:$A$33&'Bilan Mat (CACHE)'!$B$1:$B$33,0)),"")} -> Aires et périmètres - p. 129 | H25: {=IFERROR(INDEX('Bilan Mat (CACHE)'!H$1:H$33,MATCH($A25&$B25,'Bilan Mat (CACHE)'!$A$1:$A$33&'Bilan Mat (CACHE)'!$B$1:$B$33,0)),"")} -> E310 Quelle question m'oblige à faire un calcul ? | I25: {=IFERROR(INDEX('Bilan Mat (CACHE)'!I$1:I$33,MATCH($A25&$B25,'Bilan Mat (CACHE)'!$A$1:$A$33&'Bilan Mat (CACHE)'!$B$1:$B$33,0)),"")} -> 07 Choisir deux questions possibles
B26: Matthys | C26: ⃝ ⃝ ⃝ ⃝ ⃝ ⃝ ⃝ | D26: ⃝ ⃝ ⃝ ⃝ ⃝ ⃝ ⃝ | E26: ⃝ ⃝ ⃝ ⃝ ⃝ ⃝ ⃝ | F26: ⃝ ⃝ ⃝ ⃝ ⃝ ⃝ ⃝ | G26: ⃝ ⃝ ⃝ ⃝ ⃝ ⃝ ⃝ | H26: ⃝ ⃝ ⃝ ⃝ ⃝ ⃝ ⃝ | I26: ⃝ ⃝ ⃝ ⃝ ⃝ ⃝ ⃝
B27: Gabriel | C27: ⃝ ⃝ ⃝ ⃝ ⃝ ⃝ ⃝ | D27: ⃝ ⃝ ⃝ ⃝ ⃝ ⃝ ⃝ | E27: ⃝ ⃝ ⃝ ⃝ ⃝ ⃝ ⃝ | F27: ⃝ ⃝ ⃝ ⃝ ⃝ ⃝ ⃝ | G27: ⃝ ⃝ ⃝ ⃝ ⃝ ⃝ ⃝ | H27: ⃝ ⃝ ⃝ ⃝ ⃝ ⃝ ⃝ | I27: ⃝ ⃝ ⃝ ⃝ ⃝ ⃝ ⃝
B28: Lorenzo | C28: ⃝ ⃝ ⃝ ⃝ ⃝ ⃝ ⃝ | D28: ⃝ ⃝ ⃝ ⃝ ⃝ ⃝ ⃝ | E28: ⃝ ⃝ ⃝ ⃝ ⃝ ⃝ ⃝ | F28: ⃝ ⃝ ⃝ ⃝ ⃝ ⃝ ⃝ | G28: ⃝ ⃝ ⃝ ⃝ ⃝ ⃝ ⃝ | H28: ⃝ ⃝ ⃝ ⃝ ⃝ ⃝ ⃝ | I28: ⃝ ⃝ ⃝ ⃝ ⃝ ⃝ ⃝
A30: CE2 | B30: =B16+1 -> 3 | C30: {=IFERROR(INDEX('Bilan Mat (CACHE)'!C$1:C$33,MATCH($A30&$B30,'Bilan Mat (CACHE)'!$A$1:$A$33&'Bilan Mat (CACHE)'!$B$1:$B$33,0)),"")} -> Les nombres jusqu’au million - p. 33 | D30: {=IFERROR(INDEX('Bilan Mat (CACHE)'!D$1:D$33,MATCH($A30&$B30,'Bilan Mat (CACHE)'!$A$1:$A$33&'Bilan Mat (CACHE)'!$B$1:$B$33,0)),"")} -> figures planes : classement et description p. 119 | E30: {=IFERROR(INDEX('Bilan Mat (CACHE)'!E$1:E$33,MATCH($A30&$B30,'Bilan Mat (CACHE)'!$A$1:$A$33&'Bilan Mat (CACHE)'!$B$1:$B$33,0)),"")} -> L’addition - p. 37 | F30: {=IFERROR(INDEX('Bilan Mat (CACHE)'!F$1:F$33,MATCH($A30&$B30,'Bilan Mat (CACHE)'!$A$1:$A$33&'Bilan Mat (CACHE)'!$B$1:$B$33,0)),"")} -> figures planes : reproduction et construction p. 123 | G30: {=IFERROR(INDEX('Bilan Mat (CACHE)'!G$1:G$33,MATCH($A30&$B30,'Bilan Mat (CACHE)'!$A$1:$A$33&'Bilan Mat (CACHE)'!$B$1:$B$33,0)),"")} -> de l’addition vers la soustraction - p. 41 | H30: {=IFERROR(INDEX('Bilan Mat (CACHE)'!H$1:H$33,MATCH($A30&$B30,'Bilan Mat (CACHE)'!$A$1:$A$33&'Bilan Mat (CACHE)'!$B$1:$B$33,0)),"")} -> 03 Données inutiles – 1 04 Données inutiles – 2 | I30: {=IFERROR(INDEX('Bilan Mat (CACHE)'!I$1:I$33,MATCH($A30&$B30,'Bilan Mat (CACHE)'!$A$1:$A$33&'Bilan Mat (CACHE)'!$B$1:$B$33,0)),"")}
B31: Nathan | C31: ⃝ ⃝ ⃝ ⃝ ⃝ ⃝ ⃝ | D31: ⃝ ⃝ ⃝ ⃝ ⃝ ⃝ ⃝ | E31: ⃝ ⃝ ⃝ ⃝ ⃝ ⃝ ⃝ | F31: ⃝ ⃝ ⃝ ⃝ ⃝ ⃝ ⃝ | G31: ⃝ ⃝ ⃝ ⃝ ⃝ ⃝ ⃝ | H31: ⃝ ⃝ ⃝ ⃝ ⃝ ⃝ ⃝ | I31: ⃝ ⃝ ⃝ ⃝ ⃝ ⃝ ⃝
B32: Léane | C32: ⃝ ⃝ ⃝ ⃝ ⃝ ⃝ ⃝ | D32: ⃝ ⃝ ⃝ ⃝ ⃝ ⃝ ⃝ | E32: ⃝ ⃝ ⃝ ⃝ ⃝ ⃝ ⃝ | F32: ⃝ ⃝ ⃝ ⃝ ⃝ ⃝ ⃝ | G32: ⃝ ⃝ ⃝ ⃝ ⃝ ⃝ ⃝ | H32: ⃝ ⃝ ⃝ ⃝ ⃝ ⃝ ⃝ | I32: ⃝ ⃝ ⃝ ⃝ ⃝ ⃝ ⃝
B33: Lohann | C33: ⃝ ⃝ ⃝ ⃝ ⃝ ⃝ ⃝ | D33: ⃝ ⃝ ⃝ ⃝ ⃝ ⃝ ⃝ | E33: ⃝ ⃝ ⃝ ⃝ ⃝ ⃝ ⃝ | F33: ⃝ ⃝ ⃝ ⃝ ⃝ ⃝ ⃝ | G33: ⃝ ⃝ ⃝ ⃝ ⃝ ⃝ ⃝ | H33: ⃝ ⃝ ⃝ ⃝ ⃝ ⃝ ⃝ | I33: ⃝ ⃝ ⃝ ⃝ ⃝ ⃝ ⃝
A34: CM1 | B34: =B20+1 -> 3 | C34: {=IFERROR(INDEX('Bilan Mat (CACHE)'!C$1:C$33,MATCH($A34&$B34,'Bilan Mat (CACHE)'!$A$1:$A$33&'Bilan Mat (CACHE)'!$B$1:$B$33,0)),"")} -> Multiplication de nombres entiers p. 33 | D34: {=IFERROR(INDEX('Bilan Mat (CACHE)'!D$1:D$33,MATCH($A34&$B34,'Bilan Mat (CACHE)'!$A$1:$A$33&'Bilan Mat (CACHE)'!$B$1:$B$33,0)),"")} -> Polygones quelconques et polygones réguliers p. 103 | E34: {=IFERROR(INDEX('Bilan Mat (CACHE)'!E$1:E$33,MATCH($A34&$B34,'Bilan Mat (CACHE)'!$A$1:$A$33&'Bilan Mat (CACHE)'!$B$1:$B$33,0)),"")} -> Technique de la multiplication p. 37 | F34: {=IFERROR(INDEX('Bilan Mat (CACHE)'!F$1:F$33,MATCH($A34&$B34,'Bilan Mat (CACHE)'!$A$1:$A$33&'Bilan Mat (CACHE)'!$B$1:$B$33,0)),"")} -> Triangles et cas particuliers p. 107 | G34: {=IFERROR(INDEX('Bilan Mat (CACHE)'!G$1:G$33,MATCH($A34&$B34,'Bilan Mat (CACHE)'!$A$1:$A$33&'Bilan Mat (CACHE)'!$B$1:$B$33,0)),"")} -> Multiplier et diviser p. 41 | H34: {=IFERROR(INDEX('Bilan Mat (CACHE)'!H$1:H$33,MATCH($A34&$B34,'Bilan Mat (CACHE)'!$A$1:$A$33&'Bilan Mat (CACHE)'!$B$1:$B$33,0)),"")} | I34: {=IFERROR(INDEX('Bilan Mat (CACHE)'!I$1:I$33,MATCH($A34&$B34,'Bilan Mat (CACHE)'!$A$1:$A$33&'Bilan Mat (CACHE)'!$B$1:$B$33,0)),"")}
B35: Louis | C35: ⃝ ⃝ ⃝ ⃝ ⃝ ⃝ ⃝ | D35: ⃝ ⃝ ⃝ ⃝ ⃝ ⃝ ⃝ | E35: ⃝ ⃝ ⃝ ⃝ ⃝ ⃝ ⃝ | F35: ⃝ ⃝ ⃝ ⃝ ⃝ ⃝ ⃝ | G35: ⃝ ⃝ ⃝ ⃝ ⃝ ⃝ ⃝ | H35: ⃝ ⃝ ⃝ ⃝ ⃝ ⃝ ⃝ | I35: ⃝ ⃝ ⃝ ⃝ ⃝ ⃝ ⃝
B36: Céleste | C36: ⃝ ⃝ ⃝ ⃝ ⃝ ⃝ ⃝ | D36: ⃝ ⃝ ⃝ ⃝ ⃝ ⃝ ⃝ | E36: ⃝ ⃝ ⃝ ⃝ ⃝ ⃝ ⃝ | F36: ⃝ ⃝ ⃝ ⃝ ⃝ ⃝ ⃝ | G36: ⃝ ⃝ ⃝ ⃝ ⃝ ⃝ ⃝ | H36: ⃝ ⃝ ⃝ ⃝ ⃝ ⃝ ⃝ | I36: ⃝ ⃝ ⃝ ⃝ ⃝ ⃝ ⃝
B37: Arthur | C37: ⃝ ⃝ ⃝ ⃝ ⃝ ⃝ ⃝ | D37: ⃝ ⃝ ⃝ ⃝ ⃝ ⃝ ⃝ | E37: ⃝ ⃝ ⃝ ⃝ ⃝ ⃝ ⃝ | F37: ⃝ ⃝ ⃝ ⃝ ⃝ ⃝ ⃝ | G37: ⃝ ⃝ ⃝ ⃝ ⃝ ⃝ ⃝ | H37: ⃝ ⃝ ⃝ ⃝ ⃝ ⃝ ⃝ | I37: ⃝ ⃝ ⃝ ⃝ ⃝ ⃝ ⃝
B38: Nans | C38: ⃝ ⃝ ⃝ ⃝ ⃝ ⃝ ⃝ | D38: ⃝ ⃝ ⃝ ⃝ ⃝ ⃝ ⃝ | E38: ⃝ ⃝ ⃝ ⃝ ⃝ ⃝ ⃝ | F38: ⃝ ⃝ ⃝ ⃝ ⃝ ⃝ ⃝ | G38: ⃝ ⃝ ⃝ ⃝ ⃝ ⃝ ⃝ | H38: ⃝ ⃝ ⃝ ⃝ ⃝ ⃝ ⃝ | I38: ⃝ ⃝ ⃝ ⃝ ⃝ ⃝ ⃝
