Workbook

Sheet Feuil1
G1: CA BRUT
G2: AU
F3: IMPAYES 31/12/17 | G3: 43312
A5: ALESIA00 | B5: ALESIA | C5: ALESIA | D5: Alesia (X) | G5: 1406567.3 | L5: =IF(SUMPRODUCT(--(Feuil2!$A$1:$H$17=$B5))=1,INDEX(Feuil2!$A$1:$H$17,SUMPRODUCT((Feuil2!$A$1:$H$17=$B5)*ROW(Feuil2!$A$1:$H$17))+3,SUMPRODUCT((Feuil2!$A$1:$H$17=$B5)*COLUMN(Feuil2!$A$1:$H$17))+COLUMN(A:A)-1),"") -> -903.67 | M5: =IF(SUMPRODUCT(--(Feuil2!$A$1:$H$17=$B5))=1,INDEX(Feuil2!$A$1:$H$17,SUMPRODUCT((Feuil2!$A$1:$H$17=$B5)*ROW(Feuil2!$A$1:$H$17))+3,SUMPRODUCT((Feuil2!$A$1:$H$17=$B5)*COLUMN(Feuil2!$A$1:$H$17))+COLUMN(B:B)-1),"") -> 2435.93 | N5: =IF(SUMPRODUCT(--(Feuil2!$A$1:$H$17=$B5))=1,INDEX(Feuil2!$A$1:$H$17,SUMPRODUCT((Feuil2!$A$1:$H$17=$B5)*ROW(Feuil2!$A$1:$H$17))+3,SUMPRODUCT((Feuil2!$A$1:$H$17=$B5)*COLUMN(Feuil2!$A$1:$H$17))+COLUMN(C:C)-1),"") -> 128174.76
A6: ALFORT00 | B6: ALFORTVILLE | C6: ALFORTVILLE | D6: Alfortville (D) | G6: 877768.87 | L6: =IF(SUMPRODUCT(--(Feuil2!$A$1:$H$17=$B6))=1,INDEX(Feuil2!$A$1:$H$17,SUMPRODUCT((Feuil2!$A$1:$H$17=$B6)*ROW(Feuil2!$A$1:$H$17))+3,SUMPRODUCT((Feuil2!$A$1:$H$17=$B6)*COLUMN(Feuil2!$A$1:$H$17))+COLUMN(A:A)-1),"") -> 4449.46 | M6: =IF(SUMPRODUCT(--(Feuil2!$A$1:$H$17=$B6))=1,INDEX(Feuil2!$A$1:$H$17,SUMPRODUCT((Feuil2!$A$1:$H$17=$B6)*ROW(Feuil2!$A$1:$H$17))+3,SUMPRODUCT((Feuil2!$A$1:$H$17=$B6)*COLUMN(Feuil2!$A$1:$H$17))+COLUMN(B:B)-1),"") -> 4866.11 | N6: =IF(SUMPRODUCT(--(Feuil2!$A$1:$H$17=$B6))=1,INDEX(Feuil2!$A$1:$H$17,SUMPRODUCT((Feuil2!$A$1:$H$17=$B6)*ROW(Feuil2!$A$1:$H$17))+3,SUMPRODUCT((Feuil2!$A$1:$H$17=$B6)*COLUMN(Feuil2!$A$1:$H$17))+COLUMN(C:C)-1),"") -> 28154.55
A7: ANTONY00 | B7: ANTONY | C7: ANTONY | D7: Anthony (Z) | G7: 545709.87 | L7: =IF(SUMPRODUCT(--(Feuil2!$A$1:$H$17=$B7))=1,INDEX(Feuil2!$A$1:$H$17,SUMPRODUCT((Feuil2!$A$1:$H$17=$B7)*ROW(Feuil2!$A$1:$H$17))+3,SUMPRODUCT((Feuil2!$A$1:$H$17=$B7)*COLUMN(Feuil2!$A$1:$H$17))+COLUMN(A:A)-1),"") | M7: =IF(SUMPRODUCT(--(Feuil2!$A$1:$H$17=$B7))=1,INDEX(Feuil2!$A$1:$H$17,SUMPRODUCT((Feuil2!$A$1:$H$17=$B7)*ROW(Feuil2!$A$1:$H$17))+3,SUMPRODUCT((Feuil2!$A$1:$H$17=$B7)*COLUMN(Feuil2!$A$1:$H$17))+COLUMN(B:B)-1),"") | N7: =IF(SUMPRODUCT(--(Feuil2!$A$1:$H$17=$B7))=1,INDEX(Feuil2!$A$1:$H$17,SUMPRODUCT((Feuil2!$A$1:$H$17=$B7)*ROW(Feuil2!$A$1:$H$17))+3,SUMPRODUCT((Feuil2!$A$1:$H$17=$B7)*COLUMN(Feuil2!$A$1:$H$17))+COLUMN(C:C)-1),"")
A8: AUBERVIL | B8: AUBERVILLIERS | C8: AUBERVILLIERS | D8: Aubervilliers (d) | G8: 282273.5 | L8: =IF(SUMPRODUCT(--(Feuil2!$A$1:$H$17=$B8))=1,INDEX(Feuil2!$A$1:$H$17,SUMPRODUCT((Feuil2!$A$1:$H$17=$B8)*ROW(Feuil2!$A$1:$H$17))+3,SUMPRODUCT((Feuil2!$A$1:$H$17=$B8)*COLUMN(Feuil2!$A$1:$H$17))+COLUMN(A:A)-1),"") | M8: =IF(SUMPRODUCT(--(Feuil2!$A$1:$H$17=$B8))=1,INDEX(Feuil2!$A$1:$H$17,SUMPRODUCT((Feuil2!$A$1:$H$17=$B8)*ROW(Feuil2!$A$1:$H$17))+3,SUMPRODUCT((Feuil2!$A$1:$H$17=$B8)*COLUMN(Feuil2!$A$1:$H$17))+COLUMN(B:B)-1),"") | N8: =IF(SUMPRODUCT(--(Feuil2!$A$1:$H$17=$B8))=1,INDEX(Feuil2!$A$1:$H$17,SUMPRODUCT((Feuil2!$A$1:$H$17=$B8)*ROW(Feuil2!$A$1:$H$17))+3,SUMPRODUCT((Feuil2!$A$1:$H$17=$B8)*COLUMN(Feuil2!$A$1:$H$17))+COLUMN(C:C)-1),"")
A9: AURIOL00 | B9: AURIOL | C9: AURIOL | D9: Auriol (f) | G9: 913315.73 | L9: =IF(SUMPRODUCT(--(Feuil2!$A$1:$H$17=$B9))=1,INDEX(Feuil2!$A$1:$H$17,SUMPRODUCT((Feuil2!$A$1:$H$17=$B9)*ROW(Feuil2!$A$1:$H$17))+3,SUMPRODUCT((Feuil2!$A$1:$H$17=$B9)*COLUMN(Feuil2!$A$1:$H$17))+COLUMN(A:A)-1),"") | M9: =IF(SUMPRODUCT(--(Feuil2!$A$1:$H$17=$B9))=1,INDEX(Feuil2!$A$1:$H$17,SUMPRODUCT((Feuil2!$A$1:$H$17=$B9)*ROW(Feuil2!$A$1:$H$17))+3,SUMPRODUCT((Feuil2!$A$1:$H$17=$B9)*COLUMN(Feuil2!$A$1:$H$17))+COLUMN(B:B)-1),"") | N9: =IF(SUMPRODUCT(--(Feuil2!$A$1:$H$17=$B9))=1,INDEX(Feuil2!$A$1:$H$17,SUMPRODUCT((Feuil2!$A$1:$H$17=$B9)*ROW(Feuil2!$A$1:$H$17))+3,SUMPRODUCT((Feuil2!$A$1:$H$17=$B9)*COLUMN(Feuil2!$A$1:$H$17))+COLUMN(C:C)-1),"")
A10: BAGNEUX0 | B10: BAGNEUX | C10: BAGNEUX | D10: Bagneux (a) | G10: 697844.42 | L10: =IF(SUMPRODUCT(--(Feuil2!$A$1:$H$17=$B10))=1,INDEX(Feuil2!$A$1:$H$17,SUMPRODUCT((Feuil2!$A$1:$H$17=$B10)*ROW(Feuil2!$A$1:$H$17))+3,SUMPRODUCT((Feuil2!$A$1:$H$17=$B10)*COLUMN(Feuil2!$A$1:$H$17))+COLUMN(A:A)-1),"") -> 3457.48 | M10: =IF(SUMPRODUCT(--(Feuil2!$A$1:$H$17=$B10))=1,INDEX(Feuil2!$A$1:$H$17,SUMPRODUCT((Feuil2!$A$1:$H$17=$B10)*ROW(Feuil2!$A$1:$H$17))+3,SUMPRODUCT((Feuil2!$A$1:$H$17=$B10)*COLUMN(Feuil2!$A$1:$H$17))+COLUMN(B:B)-1),"") -> 4944.34 | N10: =IF(SUMPRODUCT(--(Feuil2!$A$1:$H$17=$B10))=1,INDEX(Feuil2!$A$1:$H$17,SUMPRODUCT((Feuil2!$A$1:$H$17=$B10)*ROW(Feuil2!$A$1:$H$17))+3,SUMPRODUCT((Feuil2!$A$1:$H$17=$B10)*COLUMN(Feuil2!$A$1:$H$17))+COLUMN(C:C)-1),"") -> 24501.71
A11: BARBES00 | B11: BARBES | C11: BARBES | D11: Barbes (1) | G11: 696821.14 | L11: =IF(SUMPRODUCT(--(Feuil2!$A$1:$H$17=$B11))=1,INDEX(Feuil2!$A$1:$H$17,SUMPRODUCT((Feuil2!$A$1:$H$17=$B11)*ROW(Feuil2!$A$1:$H$17))+3,SUMPRODUCT((Feuil2!$A$1:$H$17=$B11)*COLUMN(Feuil2!$A$1:$H$17))+COLUMN(A:A)-1),"") -> 9334.19 | M11: =IF(SUMPRODUCT(--(Feuil2!$A$1:$H$17=$B11))=1,INDEX(Feuil2!$A$1:$H$17,SUMPRODUCT((Feuil2!$A$1:$H$17=$B11)*ROW(Feuil2!$A$1:$H$17))+3,SUMPRODUCT((Feuil2!$A$1:$H$17=$B11)*COLUMN(Feuil2!$A$1:$H$17))+COLUMN(B:B)-1),"") -> 6735.38 | N11: =IF(SUMPRODUCT(--(Feuil2!$A$1:$H$17=$B11))=1,INDEX(Feuil2!$A$1:$H$17,SUMPRODUCT((Feuil2!$A$1:$H$17=$B11)*ROW(Feuil2!$A$1:$H$17))+3,SUMPRODUCT((Feuil2!$A$1:$H$17=$B11)*COLUMN(Feuil2!$A$1:$H$17))+COLUMN(C:C)-1),"") -> 69236.35
A12: BELLEVIL | B12: BELLEVILLE | C12: BELLEVILLE | D12: Belleville (4) | G12: 776615.88 | L12: =IF(SUMPRODUCT(--(Feuil2!$A$1:$H$17=$B12))=1,INDEX(Feuil2!$A$1:$H$17,SUMPRODUCT((Feuil2!$A$1:$H$17=$B12)*ROW(Feuil2!$A$1:$H$17))+3,SUMPRODUCT((Feuil2!$A$1:$H$17=$B12)*COLUMN(Feuil2!$A$1:$H$17))+COLUMN(A:A)-1),"") | M12: =IF(SUMPRODUCT(--(Feuil2!$A$1:$H$17=$B12))=1,INDEX(Feuil2!$A$1:$H$17,SUMPRODUCT((Feuil2!$A$1:$H$17=$B12)*ROW(Feuil2!$A$1:$H$17))+3,SUMPRODUCT((Feuil2!$A$1:$H$17=$B12)*COLUMN(Feuil2!$A$1:$H$17))+COLUMN(B:B)-1),"") | N12: =IF(SUMPRODUCT(--(Feuil2!$A$1:$H$17=$B12))=1,INDEX(Feuil2!$A$1:$H$17,SUMPRODUCT((Feuil2!$A$1:$H$17=$B12)*ROW(Feuil2!$A$1:$H$17))+3,SUMPRODUCT((Feuil2!$A$1:$H$17=$B12)*COLUMN(Feuil2!$A$1:$H$17))+COLUMN(C:C)-1),"")
A13: BLANQUI0 | B13: BLANQUI | C13: BLANQUI | D13: Blanqui (l) | G13: 1973.41 | L13: =IF(SUMPRODUCT(--(Feuil2!$A$1:$H$17=$B13))=1,INDEX(Feuil2!$A$1:$H$17,SUMPRODUCT((Feuil2!$A$1:$H$17=$B13)*ROW(Feuil2!$A$1:$H$17))+3,SUMPRODUCT((Feuil2!$A$1:$H$17=$B13)*COLUMN(Feuil2!$A$1:$H$17))+COLUMN(A:A)-1),"") | M13: =IF(SUMPRODUCT(--(Feuil2!$A$1:$H$17=$B13))=1,INDEX(Feuil2!$A$1:$H$17,SUMPRODUCT((Feuil2!$A$1:$H$17=$B13)*ROW(Feuil2!$A$1:$H$17))+3,SUMPRODUCT((Feuil2!$A$1:$H$17=$B13)*COLUMN(Feuil2!$A$1:$H$17))+COLUMN(B:B)-1),"") | N13: =IF(SUMPRODUCT(--(Feuil2!$A$1:$H$17=$B13))=1,INDEX(Feuil2!$A$1:$H$17,SUMPRODUCT((Feuil2!$A$1:$H$17=$B13)*ROW(Feuil2!$A$1:$H$17))+3,SUMPRODUCT((Feuil2!$A$1:$H$17=$B13)*COLUMN(Feuil2!$A$1:$H$17))+COLUMN(C:C)-1),"")
A14: BOULOGNE | B14: BOULOGNE | C14: BOULOGNE | D14: Boulogne (Y) | G14: 829086.6 | L14: =IF(SUMPRODUCT(--(Feuil2!$A$1:$H$17=$B14))=1,INDEX(Feuil2!$A$1:$H$17,SUMPRODUCT((Feuil2!$A$1:$H$17=$B14)*ROW(Feuil2!$A$1:$H$17))+3,SUMPRODUCT((Feuil2!$A$1:$H$17=$B14)*COLUMN(Feuil2!$A$1:$H$17))+COLUMN(A:A)-1),"") | M14: =IF(SUMPRODUCT(--(Feuil2!$A$1:$H$17=$B14))=1,INDEX(Feuil2!$A$1:$H$17,SUMPRODUCT((Feuil2!$A$1:$H$17=$B14)*ROW(Feuil2!$A$1:$H$17))+3,SUMPRODUCT((Feuil2!$A$1:$H$17=$B14)*COLUMN(Feuil2!$A$1:$H$17))+COLUMN(B:B)-1),"") | N14: =IF(SUMPRODUCT(--(Feuil2!$A$1:$H$17=$B14))=1,INDEX(Feuil2!$A$1:$H$17,SUMPRODUCT((Feuil2!$A$1:$H$17=$B14)*ROW(Feuil2!$A$1:$H$17))+3,SUMPRODUCT((Feuil2!$A$1:$H$17=$B14)*COLUMN(Feuil2!$A$1:$H$17))+COLUMN(C:C)-1),"")
A15: CHATENAY | B15: CHATENAY | C15: CHATENAY | D15: Chatenay (W) | G15: 688033.57 | L15: =IF(SUMPRODUCT(--(Feuil2!$A$1:$H$17=$B15))=1,INDEX(Feuil2!$A$1:$H$17,SUMPRODUCT((Feuil2!$A$1:$H$17=$B15)*ROW(Feuil2!$A$1:$H$17))+3,SUMPRODUCT((Feuil2!$A$1:$H$17=$B15)*COLUMN(Feuil2!$A$1:$H$17))+COLUMN(A:A)-1),"") -> 257.17 | M15: =IF(SUMPRODUCT(--(Feuil2!$A$1:$H$17=$B15))=1,INDEX(Feuil2!$A$1:$H$17,SUMPRODUCT((Feuil2!$A$1:$H$17=$B15)*ROW(Feuil2!$A$1:$H$17))+3,SUMPRODUCT((Feuil2!$A$1:$H$17=$B15)*COLUMN(Feuil2!$A$1:$H$17))+COLUMN(B:B)-1),"") -> 1998.68 | N15: =IF(SUMPRODUCT(--(Feuil2!$A$1:$H$17=$B15))=1,INDEX(Feuil2!$A$1:$H$17,SUMPRODUCT((Feuil2!$A$1:$H$17=$B15)*ROW(Feuil2!$A$1:$H$17))+3,SUMPRODUCT((Feuil2!$A$1:$H$17=$B15)*COLUMN(Feuil2!$A$1:$H$17))+COLUMN(C:C)-1),"") -> 24425.43
A16: CLICHY00 | B16: CLICHY | C16: CLICHY | D16: Clichy (N) | G16: 617520.96 | L16: =IF(SUMPRODUCT(--(Feuil2!$A$1:$H$17=$B16))=1,INDEX(Feuil2!$A$1:$H$17,SUMPRODUCT((Feuil2!$A$1:$H$17=$B16)*ROW(Feuil2!$A$1:$H$17))+3,SUMPRODUCT((Feuil2!$A$1:$H$17=$B16)*COLUMN(Feuil2!$A$1:$H$17))+COLUMN(A:A)-1),"") -> 3569.82 | M16: =IF(SUMPRODUCT(--(Feuil2!$A$1:$H$17=$B16))=1,INDEX(Feuil2!$A$1:$H$17,SUMPRODUCT((Feuil2!$A$1:$H$17=$B16)*ROW(Feuil2!$A$1:$H$17))+3,SUMPRODUCT((Feuil2!$A$1:$H$17=$B16)*COLUMN(Feuil2!$A$1:$H$17))+COLUMN(B:B)-1),"") -> 69.47 | N16: =IF(SUMPRODUCT(--(Feuil2!$A$1:$H$17=$B16))=1,INDEX(Feuil2!$A$1:$H$17,SUMPRODUCT((Feuil2!$A$1:$H$17=$B16)*ROW(Feuil2!$A$1:$H$17))+3,SUMPRODUCT((Feuil2!$A$1:$H$17=$B16)*COLUMN(Feuil2!$A$1:$H$17))+COLUMN(C:C)-1),"") -> 30066.19
... A18: DRANCY00 | B18: DRANCY | C18: DRANCY | D18: Drancy (M) | G18: 627420.04 | L18: =IF(SUMPRODUCT(--(Feuil2!$A$1:$H$17=$B18))=1,INDEX(Feuil2!$A$1:$H$17,SUMPRODUCT((Feuil2!$A$1:$H$17=$B18)*ROW(Feuil2!$A$1:$H$17))+3,SUMPRODUCT((Feuil2!$A$1:$H$17=$B18)*COLUMN(Feuil2!$A$1:$H$17))+COLUMN(A:A)-1),"") | M18: =IF(SUMPRODUCT(--(Feuil2!$A$1:$H$17=$B18))=1,INDEX(Feuil2!$A$1:$H$17,SUMPRODUCT((Feuil2!$A$1:$H$17=$B18)*ROW(Feuil2!$A$1:$H$17))+3,SUMPRODUCT((Feuil2!$A$1:$H$17=$B18)*COLUMN(Feuil2!$A$1:$H$17))+COLUMN(B:B)-1),"") | N18: =IF(SUMPRODUCT(--(Feuil2!$A$1:$H$17=$B18))=1,INDEX(Feuil2!$A$1:$H$17,SUMPRODUCT((Feuil2!$A$1:$H$17=$B18)*ROW(Feuil2!$A$1:$H$17))+3,SUMPRODUCT((Feuil2!$A$1:$H$17=$B18)*COLUMN(Feuil2!$A$1:$H$17))+COLUMN(C:C)-1),"")
A19: DRAVEIL0 | B19: DRAVEIL | C19: DRAVEIL | L19: =IF(SUMPRODUCT(--(Feuil2!$A$1:$H$17=$B19))=1,INDEX(Feuil2!$A$1:$H$17,SUMPRODUCT((Feuil2!$A$1:$H$17=$B19)*ROW(Feuil2!$A$1:$H$17))+3,SUMPRODUCT((Feuil2!$A$1:$H$17=$B19)*COLUMN(Feuil2!$A$1:$H$17))+COLUMN(A:A)-1),"") | M19: =IF(SUMPRODUCT(--(Feuil2!$A$1:$H$17=$B19))=1,INDEX(Feuil2!$A$1:$H$17,SUMPRODUCT((Feuil2!$A$1:$H$17=$B19)*ROW(Feuil2!$A$1:$H$17))+3,SUMPRODUCT((Feuil2!$A$1:$H$17=$B19)*COLUMN(Feuil2!$A$1:$H$17))+COLUMN(B:B)-1),"") | N19: =IF(SUMPRODUCT(--(Feuil2!$A$1:$H$17=$B19))=1,INDEX(Feuil2!$A$1:$H$17,SUMPRODUCT((Feuil2!$A$1:$H$17=$B19)*ROW(Feuil2!$A$1:$H$17))+3,SUMPRODUCT((Feuil2!$A$1:$H$17=$B19)*COLUMN(Feuil2!$A$1:$H$17))+COLUMN(C:C)-1),"")
A20: FELIX000 | B20: FELIX EBOUE | C20: FELIX EBOUE | D20: Bercy (2) | G20: 1338197.7 | L20: =IF(SUMPRODUCT(--(Feuil2!$A$1:$H$17=$B20))=1,INDEX(Feuil2!$A$1:$H$17,SUMPRODUCT((Feuil2!$A$1:$H$17=$B20)*ROW(Feuil2!$A$1:$H$17))+3,SUMPRODUCT((Feuil2!$A$1:$H$17=$B20)*COLUMN(Feuil2!$A$1:$H$17))+COLUMN(A:A)-1),"") | M20: =IF(SUMPRODUCT(--(Feuil2!$A$1:$H$17=$B20))=1,INDEX(Feuil2!$A$1:$H$17,SUMPRODUCT((Feuil2!$A$1:$H$17=$B20)*ROW(Feuil2!$A$1:$H$17))+3,SUMPRODUCT((Feuil2!$A$1:$H$17=$B20)*COLUMN(Feuil2!$A$1:$H$17))+COLUMN(B:B)-1),"") | N20: =IF(SUMPRODUCT(--(Feuil2!$A$1:$H$17=$B20))=1,INDEX(Feuil2!$A$1:$H$17,SUMPRODUCT((Feuil2!$A$1:$H$17=$B20)*ROW(Feuil2!$A$1:$H$17))+3,SUMPRODUCT((Feuil2!$A$1:$H$17=$B20)*COLUMN(Feuil2!$A$1:$H$17))+COLUMN(C:C)-1),"")
A21: FONTENAY | B21: FONTENAY | C21: FONTENAY | D21: Fontenay aux Roses (V) | G21: 736697.64 | L21: =IF(SUMPRODUCT(--(Feuil2!$A$1:$H$17=$B21))=1,INDEX(Feuil2!$A$1:$H$17,SUMPRODUCT((Feuil2!$A$1:$H$17=$B21)*ROW(Feuil2!$A$1:$H$17))+3,SUMPRODUCT((Feuil2!$A$1:$H$17=$B21)*COLUMN(Feuil2!$A$1:$H$17))+COLUMN(A:A)-1),"") | M21: =IF(SUMPRODUCT(--(Feuil2!$A$1:$H$17=$B21))=1,INDEX(Feuil2!$A$1:$H$17,SUMPRODUCT((Feuil2!$A$1:$H$17=$B21)*ROW(Feuil2!$A$1:$H$17))+3,SUMPRODUCT((Feuil2!$A$1:$H$17=$B21)*COLUMN(Feuil2!$A$1:$H$17))+COLUMN(B:B)-1),"") | N21: =IF(SUMPRODUCT(--(Feuil2!$A$1:$H$17=$B21))=1,INDEX(Feuil2!$A$1:$H$17,SUMPRODUCT((Feuil2!$A$1:$H$17=$B21)*ROW(Feuil2!$A$1:$H$17))+3,SUMPRODUCT((Feuil2!$A$1:$H$17=$B21)*COLUMN(Feuil2!$A$1:$H$17))+COLUMN(C:C)-1),"")
A22: FROIDE00 | B22: FROIDEVAUX | C22: FROIDEVAUX + BIOWIN | D22: Froidevaux | G22: 336187.17 | L22: =IF(SUMPRODUCT(--(Feuil2!$A$1:$H$17=$B22))=1,INDEX(Feuil2!$A$1:$H$17,SUMPRODUCT((Feuil2!$A$1:$H$17=$B22)*ROW(Feuil2!$A$1:$H$17))+3,SUMPRODUCT((Feuil2!$A$1:$H$17=$B22)*COLUMN(Feuil2!$A$1:$H$17))+COLUMN(A:A)-1),"") | M22: =IF(SUMPRODUCT(--(Feuil2!$A$1:$H$17=$B22))=1,INDEX(Feuil2!$A$1:$H$17,SUMPRODUCT((Feuil2!$A$1:$H$17=$B22)*ROW(Feuil2!$A$1:$H$17))+3,SUMPRODUCT((Feuil2!$A$1:$H$17=$B22)*COLUMN(Feuil2!$A$1:$H$17))+COLUMN(B:B)-1),"") | N22: =IF(SUMPRODUCT(--(Feuil2!$A$1:$H$17=$B22))=1,INDEX(Feuil2!$A$1:$H$17,SUMPRODUCT((Feuil2!$A$1:$H$17=$B22)*ROW(Feuil2!$A$1:$H$17))+3,SUMPRODUCT((Feuil2!$A$1:$H$17=$B22)*COLUMN(Feuil2!$A$1:$H$17))+COLUMN(C:C)-1),"")
A23: GAGNY000 | B23: GAGNY | C23: GAGNY | D23: Gagny (O) | G23: 772070.56 | L23: =IF(SUMPRODUCT(--(Feuil2!$A$1:$H$17=$B23))=1,INDEX(Feuil2!$A$1:$H$17,SUMPRODUCT((Feuil2!$A$1:$H$17=$B23)*ROW(Feuil2!$A$1:$H$17))+3,SUMPRODUCT((Feuil2!$A$1:$H$17=$B23)*COLUMN(Feuil2!$A$1:$H$17))+COLUMN(A:A)-1),"") | M23: =IF(SUMPRODUCT(--(Feuil2!$A$1:$H$17=$B23))=1,INDEX(Feuil2!$A$1:$H$17,SUMPRODUCT((Feuil2!$A$1:$H$17=$B23)*ROW(Feuil2!$A$1:$H$17))+3,SUMPRODUCT((Feuil2!$A$1:$H$17=$B23)*COLUMN(Feuil2!$A$1:$H$17))+COLUMN(B:B)-1),"") | N23: =IF(SUMPRODUCT(--(Feuil2!$A$1:$H$17=$B23))=1,INDEX(Feuil2!$A$1:$H$17,SUMPRODUCT((Feuil2!$A$1:$H$17=$B23)*ROW(Feuil2!$A$1:$H$17))+3,SUMPRODUCT((Feuil2!$A$1:$H$17=$B23)*COLUMN(Feuil2!$A$1:$H$17))+COLUMN(C:C)-1),"")
A24: GALIENI0 | B24: GALLIENI - IRIS | C24: GALLIENI - IRIS | D24: Iris - Rosny | G24: 1665776 | L24: =IF(SUMPRODUCT(--(Feuil2!$A$1:$H$17=$B24))=1,INDEX(Feuil2!$A$1:$H$17,SUMPRODUCT((Feuil2!$A$1:$H$17=$B24)*ROW(Feuil2!$A$1:$H$17))+3,SUMPRODUCT((Feuil2!$A$1:$H$17=$B24)*COLUMN(Feuil2!$A$1:$H$17))+COLUMN(A:A)-1),"") | M24: =IF(SUMPRODUCT(--(Feuil2!$A$1:$H$17=$B24))=1,INDEX(Feuil2!$A$1:$H$17,SUMPRODUCT((Feuil2!$A$1:$H$17=$B24)*ROW(Feuil2!$A$1:$H$17))+3,SUMPRODUCT((Feuil2!$A$1:$H$17=$B24)*COLUMN(Feuil2!$A$1:$H$17))+COLUMN(B:B)-1),"") | N24: =IF(SUMPRODUCT(--(Feuil2!$A$1:$H$17=$B24))=1,INDEX(Feuil2!$A$1:$H$17,SUMPRODUCT((Feuil2!$A$1:$H$17=$B24)*ROW(Feuil2!$A$1:$H$17))+3,SUMPRODUCT((Feuil2!$A$1:$H$17=$B24)*COLUMN(Feuil2!$A$1:$H$17))+COLUMN(C:C)-1),"")
A25: GAMBETTA | B25: GAMBETTA | C25: GAMBETTA + BIOWIN | D25: Gambetta | G25: 770479.39 | L25: =IF(SUMPRODUCT(--(Feuil2!$A$1:$H$17=$B25))=1,INDEX(Feuil2!$A$1:$H$17,SUMPRODUCT((Feuil2!$A$1:$H$17=$B25)*ROW(Feuil2!$A$1:$H$17))+3,SUMPRODUCT((Feuil2!$A$1:$H$17=$B25)*COLUMN(Feuil2!$A$1:$H$17))+COLUMN(A:A)-1),"") | M25: =IF(SUMPRODUCT(--(Feuil2!$A$1:$H$17=$B25))=1,INDEX(Feuil2!$A$1:$H$17,SUMPRODUCT((Feuil2!$A$1:$H$17=$B25)*ROW(Feuil2!$A$1:$H$17))+3,SUMPRODUCT((Feuil2!$A$1:$H$17=$B25)*COLUMN(Feuil2!$A$1:$H$17))+COLUMN(B:B)-1),"") | N25: =IF(SUMPRODUCT(--(Feuil2!$A$1:$H$17=$B25))=1,INDEX(Feuil2!$A$1:$H$17,SUMPRODUCT((Feuil2!$A$1:$H$17=$B25)*ROW(Feuil2!$A$1:$H$17))+3,SUMPRODUCT((Feuil2!$A$1:$H$17=$B25)*COLUMN(Feuil2!$A$1:$H$17))+COLUMN(C:C)-1),"")
A26: GOBELIN0 | B26: GOBELINS | C26: GOBELINS | D26: Gobelins (i) | G26: 1268264.8 | L26: =IF(SUMPRODUCT(--(Feuil2!$A$1:$H$17=$B26))=1,INDEX(Feuil2!$A$1:$H$17,SUMPRODUCT((Feuil2!$A$1:$H$17=$B26)*ROW(Feuil2!$A$1:$H$17))+3,SUMPRODUCT((Feuil2!$A$1:$H$17=$B26)*COLUMN(Feuil2!$A$1:$H$17))+COLUMN(A:A)-1),"") | M26: =IF(SUMPRODUCT(--(Feuil2!$A$1:$H$17=$B26))=1,INDEX(Feuil2!$A$1:$H$17,SUMPRODUCT((Feuil2!$A$1:$H$17=$B26)*ROW(Feuil2!$A$1:$H$17))+3,SUMPRODUCT((Feuil2!$A$1:$H$17=$B26)*COLUMN(Feuil2!$A$1:$H$17))+COLUMN(B:B)-1),"") | N26: =IF(SUMPRODUCT(--(Feuil2!$A$1:$H$17=$B26))=1,INDEX(Feuil2!$A$1:$H$17,SUMPRODUCT((Feuil2!$A$1:$H$17=$B26)*ROW(Feuil2!$A$1:$H$17))+3,SUMPRODUCT((Feuil2!$A$1:$H$17=$B26)*COLUMN(Feuil2!$A$1:$H$17))+COLUMN(C:C)-1),"")
A27: GRENELLE | B27: GRENELLE | C27: GRENELLE + BIOWIN | D27: Lourmelle | G27: 391074.51 | L27: =IF(SUMPRODUCT(--(Feuil2!$A$1:$H$17=$B27))=1,INDEX(Feuil2!$A$1:$H$17,SUMPRODUCT((Feuil2!$A$1:$H$17=$B27)*ROW(Feuil2!$A$1:$H$17))+3,SUMPRODUCT((Feuil2!$A$1:$H$17=$B27)*COLUMN(Feuil2!$A$1:$H$17))+COLUMN(A:A)-1),"") | M27: =IF(SUMPRODUCT(--(Feuil2!$A$1:$H$17=$B27))=1,INDEX(Feuil2!$A$1:$H$17,SUMPRODUCT((Feuil2!$A$1:$H$17=$B27)*ROW(Feuil2!$A$1:$H$17))+3,SUMPRODUCT((Feuil2!$A$1:$H$17=$B27)*COLUMN(Feuil2!$A$1:$H$17))+COLUMN(B:B)-1),"") | N27: =IF(SUMPRODUCT(--(Feuil2!$A$1:$H$17=$B27))=1,INDEX(Feuil2!$A$1:$H$17,SUMPRODUCT((Feuil2!$A$1:$H$17=$B27)*ROW(Feuil2!$A$1:$H$17))+3,SUMPRODUCT((Feuil2!$A$1:$H$17=$B27)*COLUMN(Feuil2!$A$1:$H$17))+COLUMN(C:C)-1),"")
A28: ISSY0000 | B28: ISSY | C28: ISSY | D28: Issy les Moulineaux (U) | G28: 928756.78 | L28: =IF(SUMPRODUCT(--(Feuil2!$A$1:$H$17=$B28))=1,INDEX(Feuil2!$A$1:$H$17,SUMPRODUCT((Feuil2!$A$1:$H$17=$B28)*ROW(Feuil2!$A$1:$H$17))+3,SUMPRODUCT((Feuil2!$A$1:$H$17=$B28)*COLUMN(Feuil2!$A$1:$H$17))+COLUMN(A:A)-1),"") | M28: =IF(SUMPRODUCT(--(Feuil2!$A$1:$H$17=$B28))=1,INDEX(Feuil2!$A$1:$H$17,SUMPRODUCT((Feuil2!$A$1:$H$17=$B28)*ROW(Feuil2!$A$1:$H$17))+3,SUMPRODUCT((Feuil2!$A$1:$H$17=$B28)*COLUMN(Feuil2!$A$1:$H$17))+COLUMN(B:B)-1),"") | N28: =IF(SUMPRODUCT(--(Feuil2!$A$1:$H$17=$B28))=1,INDEX(Feuil2!$A$1:$H$17,SUMPRODUCT((Feuil2!$A$1:$H$17=$B28)*ROW(Feuil2!$A$1:$H$17))+3,SUMPRODUCT((Feuil2!$A$1:$H$17=$B28)*COLUMN(Feuil2!$A$1:$H$17))+COLUMN(C:C)-1),"")
A29: ITALIE00 | B29: ITALIE | C29: ITALIE | D29: Italie (h) | G29: 1116594.5 | L29: =IF(SUMPRODUCT(--(Feuil2!$A$1:$H$17=$B29))=1,INDEX(Feuil2!$A$1:$H$17,SUMPRODUCT((Feuil2!$A$1:$H$17=$B29)*ROW(Feuil2!$A$1:$H$17))+3,SUMPRODUCT((Feuil2!$A$1:$H$17=$B29)*COLUMN(Feuil2!$A$1:$H$17))+COLUMN(A:A)-1),"") | M29: =IF(SUMPRODUCT(--(Feuil2!$A$1:$H$17=$B29))=1,INDEX(Feuil2!$A$1:$H$17,SUMPRODUCT((Feuil2!$A$1:$H$17=$B29)*ROW(Feuil2!$A$1:$H$17))+3,SUMPRODUCT((Feuil2!$A$1:$H$17=$B29)*COLUMN(Feuil2!$A$1:$H$17))+COLUMN(B:B)-1),"") | N29: =IF(SUMPRODUCT(--(Feuil2!$A$1:$H$17=$B29))=1,INDEX(Feuil2!$A$1:$H$17,SUMPRODUCT((Feuil2!$A$1:$H$17=$B29)*ROW(Feuil2!$A$1:$H$17))+3,SUMPRODUCT((Feuil2!$A$1:$H$17=$B29)*COLUMN(Feuil2!$A$1:$H$17))+COLUMN(C:C)-1),"")
A30: LAFOURCH | B30: LAFOURCHE | C30: LAFOURCHE | D30: La Fourche (8) | G30: 856029.1 | L30: =IF(SUMPRODUCT(--(Feuil2!$A$1:$H$17=$B30))=1,INDEX(Feuil2!$A$1:$H$17,SUMPRODUCT((Feuil2!$A$1:$H$17=$B30)*ROW(Feuil2!$A$1:$H$17))+3,SUMPRODUCT((Feuil2!$A$1:$H$17=$B30)*COLUMN(Feuil2!$A$1:$H$17))+COLUMN(A:A)-1),"") | M30: =IF(SUMPRODUCT(--(Feuil2!$A$1:$H$17=$B30))=1,INDEX(Feuil2!$A$1:$H$17,SUMPRODUCT((Feuil2!$A$1:$H$17=$B30)*ROW(Feuil2!$A$1:$H$17))+3,SUMPRODUCT((Feuil2!$A$1:$H$17=$B30)*COLUMN(Feuil2!$A$1:$H$17))+COLUMN(B:B)-1),"") | N30: =IF(SUMPRODUCT(--(Feuil2!$A$1:$H$17=$B30))=1,INDEX(Feuil2!$A$1:$H$17,SUMPRODUCT((Feuil2!$A$1:$H$17=$B30)*ROW(Feuil2!$A$1:$H$17))+3,SUMPRODUCT((Feuil2!$A$1:$H$17=$B30)*COLUMN(Feuil2!$A$1:$H$17))+COLUMN(C:C)-1),"")
A31: RAINCY00 | B31: LE RAINCY | C31: LE RAINCY | D31: Le Raincy (Q) | G31: 1225247.5 | L31: =IF(SUMPRODUCT(--(Feuil2!$A$1:$H$17=$B31))=1,INDEX(Feuil2!$A$1:$H$17,SUMPRODUCT((Feuil2!$A$1:$H$17=$B31)*ROW(Feuil2!$A$1:$H$17))+3,SUMPRODUCT((Feuil2!$A$1:$H$17=$B31)*COLUMN(Feuil2!$A$1:$H$17))+COLUMN(A:A)-1),"") | M31: =IF(SUMPRODUCT(--(Feuil2!$A$1:$H$17=$B31))=1,INDEX(Feuil2!$A$1:$H$17,SUMPRODUCT((Feuil2!$A$1:$H$17=$B31)*ROW(Feuil2!$A$1:$H$17))+3,SUMPRODUCT((Feuil2!$A$1:$H$17=$B31)*COLUMN(Feuil2!$A$1:$H$17))+COLUMN(B:B)-1),"") | N31: =IF(SUMPRODUCT(--(Feuil2!$A$1:$H$17=$B31))=1,INDEX(Feuil2!$A$1:$H$17,SUMPRODUCT((Feuil2!$A$1:$H$17=$B31)*ROW(Feuil2!$A$1:$H$17))+3,SUMPRODUCT((Feuil2!$A$1:$H$17=$B31)*COLUMN(Feuil2!$A$1:$H$17))+COLUMN(C:C)-1),"")
... A47: STAINS00 | B47: STAINS -BIOL | C47: STAINS -BIOL | D47: Estree (6) | G47: 960313.38 | L47: =IF(SUMPRODUCT(--(Feuil2!$A$1:$H$17=$B47))=1,INDEX(Feuil2!$A$1:$H$17,SUMPRODUCT((Feuil2!$A$1:$H$17=$B47)*ROW(Feuil2!$A$1:$H$17))+3,SUMPRODUCT((Feuil2!$A$1:$H$17=$B47)*COLUMN(Feuil2!$A$1:$H$17))+COLUMN(A:A)-1),"") | M47: =IF(SUMPRODUCT(--(Feuil2!$A$1:$H$17=$B47))=1,INDEX(Feuil2!$A$1:$H$17,SUMPRODUCT((Feuil2!$A$1:$H$17=$B47)*ROW(Feuil2!$A$1:$H$17))+3,SUMPRODUCT((Feuil2!$A$1:$H$17=$B47)*COLUMN(Feuil2!$A$1:$H$17))+COLUMN(B:B)-1),"") | N47: =IF(SUMPRODUCT(--(Feuil2!$A$1:$H$17=$B47))=1,INDEX(Feuil2!$A$1:$H$17,SUMPRODUCT((Feuil2!$A$1:$H$17=$B47)*ROW(Feuil2!$A$1:$H$17))+3,SUMPRODUCT((Feuil2!$A$1:$H$17=$B47)*COLUMN(Feuil2!$A$1:$H$17))+COLUMN(C:C)-1),"")
B48: STAINS- DIALYSES | C48: STAINS- DIALYSES | G48: 176490.36 | L48: =IF(SUMPRODUCT(--(Feuil2!$A$1:$H$17=$B48))=1,INDEX(Feuil2!$A$1:$H$17,SUMPRODUCT((Feuil2!$A$1:$H$17=$B48)*ROW(Feuil2!$A$1:$H$17))+3,SUMPRODUCT((Feuil2!$A$1:$H$17=$B48)*COLUMN(Feuil2!$A$1:$H$17))+COLUMN(A:A)-1),"") | M48: =IF(SUMPRODUCT(--(Feuil2!$A$1:$H$17=$B48))=1,INDEX(Feuil2!$A$1:$H$17,SUMPRODUCT((Feuil2!$A$1:$H$17=$B48)*ROW(Feuil2!$A$1:$H$17))+3,SUMPRODUCT((Feuil2!$A$1:$H$17=$B48)*COLUMN(Feuil2!$A$1:$H$17))+COLUMN(B:B)-1),"") | N48: =IF(SUMPRODUCT(--(Feuil2!$A$1:$H$17=$B48))=1,INDEX(Feuil2!$A$1:$H$17,SUMPRODUCT((Feuil2!$A$1:$H$17=$B48)*ROW(Feuil2!$A$1:$H$17))+3,SUMPRODUCT((Feuil2!$A$1:$H$17=$B48)*COLUMN(Feuil2!$A$1:$H$17))+COLUMN(C:C)-1),"")
B49: STAINS- SS | C49: STAINS- SS | G49: 114585.29 | L49: =IF(SUMPRODUCT(--(Feuil2!$A$1:$H$17=$B49))=1,INDEX(Feuil2!$A$1:$H$17,SUMPRODUCT((Feuil2!$A$1:$H$17=$B49)*ROW(Feuil2!$A$1:$H$17))+3,SUMPRODUCT((Feuil2!$A$1:$H$17=$B49)*COLUMN(Feuil2!$A$1:$H$17))+COLUMN(A:A)-1),"") | M49: =IF(SUMPRODUCT(--(Feuil2!$A$1:$H$17=$B49))=1,INDEX(Feuil2!$A$1:$H$17,SUMPRODUCT((Feuil2!$A$1:$H$17=$B49)*ROW(Feuil2!$A$1:$H$17))+3,SUMPRODUCT((Feuil2!$A$1:$H$17=$B49)*COLUMN(Feuil2!$A$1:$H$17))+COLUMN(B:B)-1),"") | N49: =IF(SUMPRODUCT(--(Feuil2!$A$1:$H$17=$B49))=1,INDEX(Feuil2!$A$1:$H$17,SUMPRODUCT((Feuil2!$A$1:$H$17=$B49)*ROW(Feuil2!$A$1:$H$17))+3,SUMPRODUCT((Feuil2!$A$1:$H$17=$B49)*COLUMN(Feuil2!$A$1:$H$17))+COLUMN(C:C)-1),"")
B50: STAINS- URGENCES | C50: STAINS- URGENCES | G50: 371599.1 | L50: =IF(SUMPRODUCT(--(Feuil2!$A$1:$H$17=$B50))=1,INDEX(Feuil2!$A$1:$H$17,SUMPRODUCT((Feuil2!$A$1:$H$17=$B50)*ROW(Feuil2!$A$1:$H$17))+3,SUMPRODUCT((Feuil2!$A$1:$H$17=$B50)*COLUMN(Feuil2!$A$1:$H$17))+COLUMN(A:A)-1),"") | M50: =IF(SUMPRODUCT(--(Feuil2!$A$1:$H$17=$B50))=1,INDEX(Feuil2!$A$1:$H$17,SUMPRODUCT((Feuil2!$A$1:$H$17=$B50)*ROW(Feuil2!$A$1:$H$17))+3,SUMPRODUCT((Feuil2!$A$1:$H$17=$B50)*COLUMN(Feuil2!$A$1:$H$17))+COLUMN(B:B)-1),"") | N50: =IF(SUMPRODUCT(--(Feuil2!$A$1:$H$17=$B50))=1,INDEX(Feuil2!$A$1:$H$17,SUMPRODUCT((Feuil2!$A$1:$H$17=$B50)*ROW(Feuil2!$A$1:$H$17))+3,SUMPRODUCT((Feuil2!$A$1:$H$17=$B50)*COLUMN(Feuil2!$A$1:$H$17))+COLUMN(C:C)-1),"")
B51: STAINS | C51: STAINS | G51: 835259.51 | L51: =IF(SUMPRODUCT(--(Feuil2!$A$1:$H$17=$B51))=1,INDEX(Feuil2!$A$1:$H$17,SUMPRODUCT((Feuil2!$A$1:$H$17=$B51)*ROW(Feuil2!$A$1:$H$17))+3,SUMPRODUCT((Feuil2!$A$1:$H$17=$B51)*COLUMN(Feuil2!$A$1:$H$17))+COLUMN(A:A)-1),"") | M51: =IF(SUMPRODUCT(--(Feuil2!$A$1:$H$17=$B51))=1,INDEX(Feuil2!$A$1:$H$17,SUMPRODUCT((Feuil2!$A$1:$H$17=$B51)*ROW(Feuil2!$A$1:$H$17))+3,SUMPRODUCT((Feuil2!$A$1:$H$17=$B51)*COLUMN(Feuil2!$A$1:$H$17))+COLUMN(B:B)-1),"") | N51: =IF(SUMPRODUCT(--(Feuil2!$A$1:$H$17=$B51))=1,INDEX(Feuil2!$A$1:$H$17,SUMPRODUCT((Feuil2!$A$1:$H$17=$B51)*ROW(Feuil2!$A$1:$H$17))+3,SUMPRODUCT((Feuil2!$A$1:$H$17=$B51)*COLUMN(Feuil2!$A$1:$H$17))+COLUMN(C:C)-1),"")
A52: TOLBIAC0 | B52: TOLBIAC | C52: TOLBIAC | D52: Tolbiac (e) | G52: 1011929.6 | L52: =IF(SUMPRODUCT(--(Feuil2!$A$1:$H$17=$B52))=1,INDEX(Feuil2!$A$1:$H$17,SUMPRODUCT((Feuil2!$A$1:$H$17=$B52)*ROW(Feuil2!$A$1:$H$17))+3,SUMPRODUCT((Feuil2!$A$1:$H$17=$B52)*COLUMN(Feuil2!$A$1:$H$17))+COLUMN(A:A)-1),"") | M52: =IF(SUMPRODUCT(--(Feuil2!$A$1:$H$17=$B52))=1,INDEX(Feuil2!$A$1:$H$17,SUMPRODUCT((Feuil2!$A$1:$H$17=$B52)*ROW(Feuil2!$A$1:$H$17))+3,SUMPRODUCT((Feuil2!$A$1:$H$17=$B52)*COLUMN(Feuil2!$A$1:$H$17))+COLUMN(B:B)-1),"") | N52: =IF(SUMPRODUCT(--(Feuil2!$A$1:$H$17=$B52))=1,INDEX(Feuil2!$A$1:$H$17,SUMPRODUCT((Feuil2!$A$1:$H$17=$B52)*ROW(Feuil2!$A$1:$H$17))+3,SUMPRODUCT((Feuil2!$A$1:$H$17=$B52)*COLUMN(Feuil2!$A$1:$H$17))+COLUMN(C:C)-1),"")
A53: TURBIGO0 | B53: TURBIGO | C53: TURBIGO | D53: Turbigo (3) | G53: 1342338.1 | L53: =IF(SUMPRODUCT(--(Feuil2!$A$1:$H$17=$B53))=1,INDEX(Feuil2!$A$1:$H$17,SUMPRODUCT((Feuil2!$A$1:$H$17=$B53)*ROW(Feuil2!$A$1:$H$17))+3,SUMPRODUCT((Feuil2!$A$1:$H$17=$B53)*COLUMN(Feuil2!$A$1:$H$17))+COLUMN(A:A)-1),"") | M53: =IF(SUMPRODUCT(--(Feuil2!$A$1:$H$17=$B53))=1,INDEX(Feuil2!$A$1:$H$17,SUMPRODUCT((Feuil2!$A$1:$H$17=$B53)*ROW(Feuil2!$A$1:$H$17))+3,SUMPRODUCT((Feuil2!$A$1:$H$17=$B53)*COLUMN(Feuil2!$A$1:$H$17))+COLUMN(B:B)-1),"") | N53: =IF(SUMPRODUCT(--(Feuil2!$A$1:$H$17=$B53))=1,INDEX(Feuil2!$A$1:$H$17,SUMPRODUCT((Feuil2!$A$1:$H$17=$B53)*ROW(Feuil2!$A$1:$H$17))+3,SUMPRODUCT((Feuil2!$A$1:$H$17=$B53)*COLUMN(Feuil2!$A$1:$H$17))+COLUMN(C:C)-1),"")
A54: VANVES00 | B54: VANVES | C54: VANVES | D54: Vanves (K) | G54: 767332.9 | L54: =IF(SUMPRODUCT(--(Feuil2!$A$1:$H$17=$B54))=1,INDEX(Feuil2!$A$1:$H$17,SUMPRODUCT((Feuil2!$A$1:$H$17=$B54)*ROW(Feuil2!$A$1:$H$17))+3,SUMPRODUCT((Feuil2!$A$1:$H$17=$B54)*COLUMN(Feuil2!$A$1:$H$17))+COLUMN(A:A)-1),"") | M54: =IF(SUMPRODUCT(--(Feuil2!$A$1:$H$17=$B54))=1,INDEX(Feuil2!$A$1:$H$17,SUMPRODUCT((Feuil2!$A$1:$H$17=$B54)*ROW(Feuil2!$A$1:$H$17))+3,SUMPRODUCT((Feuil2!$A$1:$H$17=$B54)*COLUMN(Feuil2!$A$1:$H$17))+COLUMN(B:B)-1),"") | N54: =IF(SUMPRODUCT(--(Feuil2!$A$1:$H$17=$B54))=1,INDEX(Feuil2!$A$1:$H$17,SUMPRODUCT((Feuil2!$A$1:$H$17=$B54)*ROW(Feuil2!$A$1:$H$17))+3,SUMPRODUCT((Feuil2!$A$1:$H$17=$B54)*COLUMN(Feuil2!$A$1:$H$17))+COLUMN(C:C)-1),"")
A55: VAUVENAR | B55: VAUVENARGUES | C55: VAUVENARGUES | D55: Vauvenargues (C) | G55: 814563.64 | L55: =IF(SUMPRODUCT(--(Feuil2!$A$1:$H$17=$B55))=1,INDEX(Feuil2!$A$1:$H$17,SUMPRODUCT((Feuil2!$A$1:$H$17=$B55)*ROW(Feuil2!$A$1:$H$17))+3,SUMPRODUCT((Feuil2!$A$1:$H$17=$B55)*COLUMN(Feuil2!$A$1:$H$17))+COLUMN(A:A)-1),"") | M55: =IF(SUMPRODUCT(--(Feuil2!$A$1:$H$17=$B55))=1,INDEX(Feuil2!$A$1:$H$17,SUMPRODUCT((Feuil2!$A$1:$H$17=$B55)*ROW(Feuil2!$A$1:$H$17))+3,SUMPRODUCT((Feuil2!$A$1:$H$17=$B55)*COLUMN(Feuil2!$A$1:$H$17))+COLUMN(B:B)-1),"") | N55: =IF(SUMPRODUCT(--(Feuil2!$A$1:$H$17=$B55))=1,INDEX(Feuil2!$A$1:$H$17,SUMPRODUCT((Feuil2!$A$1:$H$17=$B55)*ROW(Feuil2!$A$1:$H$17))+3,SUMPRODUCT((Feuil2!$A$1:$H$17=$B55)*COLUMN(Feuil2!$A$1:$H$17))+COLUMN(C:C)-1),"")
A56: VINCENNE | B56: VINCENNES | C56: VINCENNES | D56: Vincennes (G) | G56: 953986.34 | L56: =IF(SUMPRODUCT(--(Feuil2!$A$1:$H$17=$B56))=1,INDEX(Feuil2!$A$1:$H$17,SUMPRODUCT((Feuil2!$A$1:$H$17=$B56)*ROW(Feuil2!$A$1:$H$17))+3,SUMPRODUCT((Feuil2!$A$1:$H$17=$B56)*COLUMN(Feuil2!$A$1:$H$17))+COLUMN(A:A)-1),"") | M56: =IF(SUMPRODUCT(--(Feuil2!$A$1:$H$17=$B56))=1,INDEX(Feuil2!$A$1:$H$17,SUMPRODUCT((Feuil2!$A$1:$H$17=$B56)*ROW(Feuil2!$A$1:$H$17))+3,SUMPRODUCT((Feuil2!$A$1:$H$17=$B56)*COLUMN(Feuil2!$A$1:$H$17))+COLUMN(B:B)-1),"") | N56: =IF(SUMPRODUCT(--(Feuil2!$A$1:$H$17=$B56))=1,INDEX(Feuil2!$A$1:$H$17,SUMPRODUCT((Feuil2!$A$1:$H$17=$B56)*ROW(Feuil2!$A$1:$H$17))+3,SUMPRODUCT((Feuil2!$A$1:$H$17=$B56)*COLUMN(Feuil2!$A$1:$H$17))+COLUMN(C:C)-1),"")
A57: VOLT0000 | B57: VOLTAIRE | C57: VOLTAIRE | D57: Voltaire (J) | G57: 1084782.6 | L57: =IF(SUMPRODUCT(--(Feuil2!$A$1:$H$17=$B57))=1,INDEX(Feuil2!$A$1:$H$17,SUMPRODUCT((Feuil2!$A$1:$H$17=$B57)*ROW(Feuil2!$A$1:$H$17))+3,SUMPRODUCT((Feuil2!$A$1:$H$17=$B57)*COLUMN(Feuil2!$A$1:$H$17))+COLUMN(A:A)-1),"") | M57: =IF(SUMPRODUCT(--(Feuil2!$A$1:$H$17=$B57))=1,INDEX(Feuil2!$A$1:$H$17,SUMPRODUCT((Feuil2!$A$1:$H$17=$B57)*ROW(Feuil2!$A$1:$H$17))+3,SUMPRODUCT((Feuil2!$A$1:$H$17=$B57)*COLUMN(Feuil2!$A$1:$H$17))+COLUMN(B:B)-1),"") | N57: =IF(SUMPRODUCT(--(Feuil2!$A$1:$H$17=$B57))=1,INDEX(Feuil2!$A$1:$H$17,SUMPRODUCT((Feuil2!$A$1:$H$17=$B57)*ROW(Feuil2!$A$1:$H$17))+3,SUMPRODUCT((Feuil2!$A$1:$H$17=$B57)*COLUMN(Feuil2!$A$1:$H$17))+COLUMN(C:C)-1),"")
...

Sheet Feuil2
B1: ALESIA | F1: ALFORTVILLE
B2: 01/08/15-31/07/16 | C2: 01/08/16-31/07/17 | D2: 01/08/17-31/07/18 | F2: 01/08/15-31/07/16 | G2: 01/08/16-31/07/17 | H2: 01/08/17-31/07/18
A3: CA | B3: 1982445.7 | C3: 2108737.2 | D3: 2325692.6 | F3: 1470974.9 | G3: 1480540.7 | H3: 1496027.8
A4: IMP | B4: -903.67 | C4: 2435.93 | D4: 128174.76 | F4: 4449.46 | G4: 4866.11 | H4: 28154.55
B5: -0.00045583595 | C5: 0.0011551605 | D5: 0.055112512 | F5: 0.0030248374 | G5: 0.0032867114 | H5: 0.018819536
B7: BAGNEUX | F7: BARBES
B8: 01/08/15-31/07/16 | C8: 01/08/16-31/07/17 | D8: 01/08/17-31/07/18 | F8: 01/08/15-31/07/16 | G8: 01/08/16-31/07/17 | H8: 01/08/17-31/07/18
A9: CA | B9: 954513.82 | C9: 1095207.5 | D9: 1171824.4 | F9: 1151467.5 | G9: 1151044.2 | H9: 1184041.7
A10: IMP | B10: 3457.48 | C10: 4944.34 | D10: 24501.71 | F10: 9334.19 | G10: 6735.38 | H10: 69236.35
B11: 0.0036222419 | C11: 0.0045145235 | D11: 0.020909029 | F11: 0.0081063423 | G11: 0.0058515389 | H11: 0.058474588
B13: CHATENAY | F13: CLICHY
B14: 01/08/15-31/07/16 | C14: 01/08/16-31/07/17 | D14: 01/08/17-31/07/18 | F14: 01/08/15-31/07/16 | G14: 01/08/16-31/07/17 | H14: 01/08/17-31/07/18
A15: CA | B15: 1193169.8 | C15: 1110054.6 | D15: 1155855.8 | F15: 996520.87 | G15: 961426.48 | H15: 1026381.9
A16: IMP | B16: 257.17 | C16: 1998.68 | D16: 24425.43 | F16: 3569.82 | G16: 69.47 | H16: 30066.19
B17: 0.00021553513 | C17: 0.0018005241 | D17: 0.021131901 | F17: 0.0035822832 | G17: 7.2257215e-05 | H17: 0.029293375
