Workbook

Sheet REVISION
A1: REVISION BUDGETAIRE
A4: LIBELLE | B4: JANVIER | E4: FÉVRIER | H4: MARS | K4: AVRIL | N4: MAI | Q4: JUIN | T4: JUILLET | W4: AOUT | Z4: SEPTEMBRE | AC4: OCTOBRE | AF4: NOVEMBRE | AI4: DECEMBRE
B5: N | C5: N-1 | D5: BUDGET | E5: N | F5: N-1 | G5: BUDGET | H5: N | I5: N-1 | J5: BUDGET | K5: N | L5: N-1 | M5: BUDGET | N5: N | O5: N-1 | P5: BUDGET | Q5: N | R5: N-1 | S5: BUDGET | T5: N | U5: N-1 | V5: BUDGET | W5: N | X5: N-1 | Y5: BUDGET | Z5: N | AA5: N-1 | AB5: BUDGET | AC5: N | AD5: N-1 | AE5: BUDGET | AF5: N | AG5: N-1 | AH5: BUDGET | AI5: N | AJ5: N-1 | AK5: BUDGET
A6: CHIFFRE D'AFFAIRES BRUT | B6: 200000 | C6: 170000 | D6: 210000 | E6: =B6*1.1 -> 220000 | F6: =C6*1.1 -> 187000 | G6: =D6*1.1 -> 231000 | H6: =E6*1.1 -> 242000 | I6: =F6*1.1 -> 205700 | J6: =G6*1.1 -> 254100 | K6: =H6*1.1 -> 266200 | L6: =I6*1.1 -> 226270 | ... AK6: =AH6*1.1 -> 599154.51
A7: REMISES | B7: 15000 | C7: 20000 | D7: 13000 | E7: =B7*1.1 -> 16500 | F7: =C7*1.1 -> 22000 | G7: =D7*1.1 -> 14300 | H7: =E7*1.1 -> 18150 | I7: =F7*1.1 -> 24200 | J7: =G7*1.1 -> 15730 | K7: =H7*1.1 -> 19965 | L7: =I7*1.1 -> 26620 | ... AK7: =AH7*1.1 -> 37090.517
A8: CHFFRE D'AFFAIRES NET | B8: =B6-B7 -> 185000 | C8: =C6-C7 -> 150000 | D8: =D6-D7 -> 197000 | E8: =B8*1.1 -> 203500 | F8: =C8*1.1 -> 165000 | G8: =D8*1.1 -> 216700 | H8: =E8*1.1 -> 223850 | I8: =F8*1.1 -> 181500 | J8: =G8*1.1 -> 238370 | K8: =H8*1.1 -> 246235 | L8: =I8*1.1 -> 199650 | ... AK8: =AH8*1.1 -> 562063.99
A10: ELECTRICITE | B10: 1500 | C10: 1300 | D10: 1400 | E10: =B10*1.1 -> 1650 | F10: =C10*1.1 -> 1430 | G10: =D10*1.1 -> 1540 | H10: =E10*1.1 -> 1815 | I10: =F10*1.1 -> 1573 | J10: =G10*1.1 -> 1694 | K10: =H10*1.1 -> 1996.5 | L10: =I10*1.1 -> 1730.3 | ... AK10: =AH10*1.1 -> 3994.3634
A11: EAU | B11: 700 | C11: 600 | D11: 500 | E11: =B11*1.1 -> 770 | F11: =C11*1.1 -> 660 | G11: =D11*1.1 -> 550 | H11: =E11*1.1 -> 847 | I11: =F11*1.1 -> 726 | J11: =G11*1.1 -> 605 | K11: =H11*1.1 -> 931.7 | L11: =I11*1.1 -> 798.6 | ... AK11: =AH11*1.1 -> 1426.5584
A12: SERVICE BANCAIRE | B12: 300 | C12: 250 | D12: 250 | E12: =B12*1.1 -> 330 | F12: =C12*1.1 -> 275 | G12: =D12*1.1 -> 275 | H12: =E12*1.1 -> 363 | I12: =F12*1.1 -> 302.5 | J12: =G12*1.1 -> 302.5 | K12: =H12*1.1 -> 399.3 | L12: =I12*1.1 -> 332.75 | ... AK12: =AH12*1.1 -> 713.27918

Sheet BDD
A1: BUDGET BDD
A4: MOIS | B4: LIBELLE | C4: MONTANT
A5: JANVIER | B5: CHIFFRE D'AFFAIRES BRUT | C5: =HLOOKUP(A5,REVISION!$B$4:$AK$12,3,FALSE) -> 200000
A6: JANVIER | B6: REMISES | C6: =HLOOKUP(A6,REVISION!$B$4:$AK$12,4,FALSE) -> 15000
A7: JANVIER | B7: CHFFRE D'AFFAIRES NET | C7: =HLOOKUP(A7,REVISION!$B$4:$AK$12,5,FALSE) -> 185000
A8: JANVIER | B8: CHARGES EXPLOITATIONS | C8: =HLOOKUP(A8,REVISION!$B$4:$AK$12,6,FALSE) -> 0
A9: JANVIER | B9: ELECTRICITE | C9: =HLOOKUP(A9,REVISION!$B$4:$AK$12,7,FALSE) -> 1500
A10: JANVIER | B10: EAU | C10: =HLOOKUP(A10,REVISION!$B$4:$AK$12,8,FALSE) -> 700
A11: JANVIER | B11: SERVICE BANCAIRE | C11: =HLOOKUP(A11,REVISION!$B$4:$AK$12,9,FALSE) -> 300
A12: FÉVRIER | B12: CHIFFRE D'AFFAIRES BRUT | C12: =HLOOKUP(A12,REVISION!$B$4:$AK$12,3,FALSE) -> 220000
A13: FÉVRIER | B13: REMISES | C13: =HLOOKUP(A13,REVISION!$B$4:$AK$12,4,FALSE) -> 16500
A14: FÉVRIER | B14: CHFFRE D'AFFAIRES NET | C14: =HLOOKUP(A14,REVISION!$B$4:$AK$12,5,FALSE) -> 203500
A15: FÉVRIER | B15: CHARGES EXPLOITATIONS | C15: =HLOOKUP(A15,REVISION!$B$4:$AK$12,6,FALSE) -> 0
A16: FÉVRIER | B16: ELECTRICITE | C16: =HLOOKUP(A16,REVISION!$B$4:$AK$12,7,FALSE) -> 1650
A17: FÉVRIER | B17: EAU | C17: =HLOOKUP(A17,REVISION!$B$4:$AK$12,8,FALSE) -> 770
A18: FÉVRIER | B18: SERVICE BANCAIRE | C18: =HLOOKUP(A18,REVISION!$B$4:$AK$12,9,FALSE) -> 330
A19: MARS | B19: CHIFFRE D'AFFAIRES BRUT | C19: =HLOOKUP(A19,REVISION!$B$4:$AK$12,3,FALSE) -> 242000
A20: MARS | B20: REMISES | C20: =HLOOKUP(A20,REVISION!$B$4:$AK$12,4,FALSE) -> 18150
A21: MARS | B21: CHFFRE D'AFFAIRES NET | C21: =HLOOKUP(A21,REVISION!$B$4:$AK$12,5,FALSE) -> 223850
A22: MARS | B22: CHARGES EXPLOITATIONS | C22: =HLOOKUP(A22,REVISION!$B$4:$AK$12,6,FALSE) -> 0
A23: MARS | B23: ELECTRICITE | C23: =HLOOKUP(A23,REVISION!$B$4:$AK$12,7,FALSE) -> 1815
A24: MARS | B24: EAU | C24: =HLOOKUP(A24,REVISION!$B$4:$AK$12,8,FALSE) -> 847
A25: MARS | B25: SERVICE BANCAIRE | C25: =HLOOKUP(A25,REVISION!$B$4:$AK$12,9,FALSE) -> 363
A26: AVRIL | B26: CHIFFRE D'AFFAIRES BRUT | C26: =HLOOKUP(A26,REVISION!$B$4:$AK$12,3,FALSE) -> 266200
A27: AVRIL | B27: REMISES | C27: =HLOOKUP(A27,REVISION!$B$4:$AK$12,4,FALSE) -> 19965
A28: AVRIL | B28: CHFFRE D'AFFAIRES NET | C28: =HLOOKUP(A28,REVISION!$B$4:$AK$12,5,FALSE) -> 246235
A29: AVRIL | B29: CHARGES EXPLOITATIONS | C29: =HLOOKUP(A29,REVISION!$B$4:$AK$12,6,FALSE) -> 0
A30: AVRIL | B30: ELECTRICITE | C30: =HLOOKUP(A30,REVISION!$B$4:$AK$12,7,FALSE) -> 1996.5
A31: AVRIL | B31: EAU | C31: =HLOOKUP(A31,REVISION!$B$4:$AK$12,8,FALSE) -> 931.7
A32: AVRIL | B32: SERVICE BANCAIRE | C32: =HLOOKUP(A32,REVISION!$B$4:$AK$12,9,FALSE) -> 399.3
A33: MAI | B33: CHIFFRE D'AFFAIRES BRUT | C33: =HLOOKUP(A33,REVISION!$B$4:$AK$12,3,FALSE) -> 292820
A34: MAI | B34: REMISES | C34: =HLOOKUP(A34,REVISION!$B$4:$AK$12,4,FALSE) -> 21961.5
A35: MAI | B35: CHFFRE D'AFFAIRES NET | C35: =HLOOKUP(A35,REVISION!$B$4:$AK$12,5,FALSE) -> 270858.5
A36: MAI | B36: CHARGES EXPLOITATIONS | C36: =HLOOKUP(A36,REVISION!$B$4:$AK$12,6,FALSE) -> 0
A37: MAI | B37: ELECTRICITE | C37: =HLOOKUP(A37,REVISION!$B$4:$AK$12,7,FALSE) -> 2196.15
A38: MAI | B38: EAU | C38: =HLOOKUP(A38,REVISION!$B$4:$AK$12,8,FALSE) -> 1024.87
A39: MAI | B39: SERVICE BANCAIRE | C39: =HLOOKUP(A39,REVISION!$B$4:$AK$12,9,FALSE) -> 439.23
A40: JUIN | B40: CHIFFRE D'AFFAIRES BRUT | C40: =HLOOKUP(A40,REVISION!$B$4:$AK$12,3,FALSE) -> 322102
A41: JUIN | B41: REMISES | C41: =HLOOKUP(A41,REVISION!$B$4:$AK$12,4,FALSE) -> 24157.65
A42: JUIN | B42: CHFFRE D'AFFAIRES NET | C42: =HLOOKUP(A42,REVISION!$B$4:$AK$12,5,FALSE) -> 297944.35
A43: JUIN | B43: CHARGES EXPLOITATIONS | C43: =HLOOKUP(A43,REVISION!$B$4:$AK$12,6,FALSE) -> 0
A44: JUIN | B44: ELECTRICITE | C44: =HLOOKUP(A44,REVISION!$B$4:$AK$12,7,FALSE) -> 2415.765
A45: JUIN | B45: EAU | C45: =HLOOKUP(A45,REVISION!$B$4:$AK$12,8,FALSE) -> 1127.357
A46: JUIN | B46: SERVICE BANCAIRE | C46: =HLOOKUP(A46,REVISION!$B$4:$AK$12,9,FALSE) -> 483.153
A47: JUILLET | B47: CHIFFRE D'AFFAIRES BRUT | C47: =HLOOKUP(A47,REVISION!$B$4:$AK$12,3,FALSE) -> 354312.2
A48: JUILLET | B48: REMISES | C48: =HLOOKUP(A48,REVISION!$B$4:$AK$12,4,FALSE) -> 26573.415
A49: JUILLET | B49: CHFFRE D'AFFAIRES NET | C49: =HLOOKUP(A49,REVISION!$B$4:$AK$12,5,FALSE) -> 327738.79
A50: JUILLET | B50: CHARGES EXPLOITATIONS | C50: =HLOOKUP(A50,REVISION!$B$4:$AK$12,6,FALSE) -> 0
A51: JUILLET | B51: ELECTRICITE | C51: =HLOOKUP(A51,REVISION!$B$4:$AK$12,7,FALSE) -> 2657.3415
A52: JUILLET | B52: EAU | C52: =HLOOKUP(A52,REVISION!$B$4:$AK$12,8,FALSE) -> 1240.0927
A53: JUILLET | B53: SERVICE BANCAIRE | C53: =HLOOKUP(A53,REVISION!$B$4:$AK$12,9,FALSE) -> 531.4683
A54: AOUT | B54: CHIFFRE D'AFFAIRES BRUT | C54: =HLOOKUP(A54,REVISION!$B$4:$AK$12,3,FALSE) -> 389743.42
A55: AOUT | B55: REMISES | C55: =HLOOKUP(A55,REVISION!$B$4:$AK$12,4,FALSE) -> 29230.757
A56: AOUT | B56: CHFFRE D'AFFAIRES NET | C56: =HLOOKUP(A56,REVISION!$B$4:$AK$12,5,FALSE) -> 360512.66
A57: AOUT | B57: CHARGES EXPLOITATIONS | C57: =HLOOKUP(A57,REVISION!$B$4:$AK$12,6,FALSE) -> 0
A58: AOUT | B58: ELECTRICITE | C58: =HLOOKUP(A58,REVISION!$B$4:$AK$12,7,FALSE) -> 2923.0757
A59: AOUT | B59: EAU | C59: =HLOOKUP(A59,REVISION!$B$4:$AK$12,8,FALSE) -> 1364.102
A60: AOUT | B60: SERVICE BANCAIRE | C60: =HLOOKUP(A60,REVISION!$B$4:$AK$12,9,FALSE) -> 584.61513
A61: SEPTEMBRE | B61: CHIFFRE D'AFFAIRES BRUT | C61: =HLOOKUP(A61,REVISION!$B$4:$AK$12,3,FALSE) -> 428717.76
A62: SEPTEMBRE | B62: REMISES | C62: =HLOOKUP(A62,REVISION!$B$4:$AK$12,4,FALSE) -> 32153.832
A63: SEPTEMBRE | B63: CHFFRE D'AFFAIRES NET | C63: =HLOOKUP(A63,REVISION!$B$4:$AK$12,5,FALSE) -> 396563.93
A64: SEPTEMBRE | B64: CHARGES EXPLOITATIONS | C64: =HLOOKUP(A64,REVISION!$B$4:$AK$12,6,FALSE) -> 0
A65: SEPTEMBRE | B65: ELECTRICITE | C65: =HLOOKUP(A65,REVISION!$B$4:$AK$12,7,FALSE) -> 3215.3832
A66: SEPTEMBRE | B66: EAU | C66: =HLOOKUP(A66,REVISION!$B$4:$AK$12,8,FALSE) -> 1500.5122
A67: SEPTEMBRE | B67: SERVICE BANCAIRE | C67: =HLOOKUP(A67,REVISION!$B$4:$AK$12,9,FALSE) -> 643.07664
A68: OCTOBRE | B68: CHIFFRE D'AFFAIRES BRUT | C68: =HLOOKUP(A68,REVISION!$B$4:$AK$12,3,FALSE) -> 471589.54
A69: OCTOBRE | B69: REMISES | C69: =HLOOKUP(A69,REVISION!$B$4:$AK$12,4,FALSE) -> 35369.215
A70: OCTOBRE | B70: CHFFRE D'AFFAIRES NET | C70: =HLOOKUP(A70,REVISION!$B$4:$AK$12,5,FALSE) -> 436220.32
A71: OCTOBRE | B71: CHARGES EXPLOITATIONS | C71: =HLOOKUP(A71,REVISION!$B$4:$AK$12,6,FALSE) -> 0
A72: OCTOBRE | B72: ELECTRICITE | C72: =HLOOKUP(A72,REVISION!$B$4:$AK$12,7,FALSE) -> 3536.9215
A73: OCTOBRE | B73: EAU | C73: =HLOOKUP(A73,REVISION!$B$4:$AK$12,8,FALSE) -> 1650.5634
A74: OCTOBRE | B74: SERVICE BANCAIRE | C74: =HLOOKUP(A74,REVISION!$B$4:$AK$12,9,FALSE) -> 707.38431
A75: NOVEMBRE | B75: CHIFFRE D'AFFAIRES BRUT | C75: =HLOOKUP(A75,REVISION!$B$4:$AK$12,3,FALSE) -> 518748.49
A76: NOVEMBRE | B76: REMISES | C76: =HLOOKUP(A76,REVISION!$B$4:$AK$12,4,FALSE) -> 38906.137
A77: NOVEMBRE | B77: CHFFRE D'AFFAIRES NET | C77: =HLOOKUP(A77,REVISION!$B$4:$AK$12,5,FALSE) -> 479842.36
A78: NOVEMBRE | B78: CHARGES EXPLOITATIONS | C78: =HLOOKUP(A78,REVISION!$B$4:$AK$12,6,FALSE) -> 0
A79: NOVEMBRE | B79: ELECTRICITE | C79: =HLOOKUP(A79,REVISION!$B$4:$AK$12,7,FALSE) -> 3890.6137
A80: NOVEMBRE | B80: EAU | C80: =HLOOKUP(A80,REVISION!$B$4:$AK$12,8,FALSE) -> 1815.6197
A81: NOVEMBRE | B81: SERVICE BANCAIRE | C81: =HLOOKUP(A81,REVISION!$B$4:$AK$12,9,FALSE) -> 778.12274
A82: DECEMBRE | B82: CHIFFRE D'AFFAIRES BRUT | C82: =HLOOKUP(A82,REVISION!$B$4:$AK$12,3,FALSE) -> 570623.34
A83: DECEMBRE | B83: REMISES | C83: =HLOOKUP(A83,REVISION!$B$4:$AK$12,4,FALSE) -> 42796.751
A84: DECEMBRE | B84: CHFFRE D'AFFAIRES NET | C84: =HLOOKUP(A84,REVISION!$B$4:$AK$12,5,FALSE) -> 527826.59
A85: DECEMBRE | B85: CHARGES EXPLOITATIONS | C85: =HLOOKUP(A85,REVISION!$B$4:$AK$12,6,FALSE) -> 0
A86: DECEMBRE | B86: ELECTRICITE | C86: =HLOOKUP(A86,REVISION!$B$4:$AK$12,7,FALSE) -> 4279.6751
A87: DECEMBRE | B87: EAU | C87: =HLOOKUP(A87,REVISION!$B$4:$AK$12,8,FALSE) -> 1997.1817
A88: DECEMBRE | B88: SERVICE BANCAIRE | C88: =HLOOKUP(A88,REVISION!$B$4:$AK$12,9,FALSE) -> 855.93501
