Workbook
Name colb: OFFSET(Clients!$B$2,,,COUNTA(Clients!$A:$A)-1)
Name colc: OFFSET(Clients!$A$2,,,COUNTA(Clients!$A:$A)-1)

Sheet Clients
A1: ENTREPRISE | B1: NOM Prénom | C1: Fonction | F1: ( Fixe | H1: ( Portable
A2: Prz | B2: MOUTTE Daniel | C2: Conducteur Travaux | F2: 04 90 09 87 45 | H2: 06 11 92 95 41
A3: Symielec | B3: TROUSSET Margaux | C3: RA | F3: 04 98 74 68 99 | H3: 06 44 98 74 89
A4: BRONZO | B4: LATIL Roger | C4: Conduc | F4: 04 95 87 95 47 | H4: 06 11 78 96 54
A5: Escota | B5: Cyprien | C5: RA | F5: 04 98 65 74 98 | H5: 06 12 65 98 74

Sheet ClientsTriés
A1: =SUMPRODUCT(1/COUNTIF(colc,colc)) -> 4 | C1: {=TRANSPOSE(B2:B35)} -> Prz | D1: Symielec | E1: #REF! | F1: BRONZO | G1: Escota | N1: 0 | O1: 0
B2: {=IF(ROW(Clients!A1)>A$1,"",INDEX(Clients!A:A,MIN(IF(colc<>"",IF(COUNTIF(B$1:B1,colc)=0,ROW(colc))))))} -> Prz | C2: {=IF(ROW(Clients!A1)>COUNTIF(colc,C$1),"",INDEX(colb,SMALL(IF(colc=C$1,ROW(colc)-1,""),ROW($A1))))} -> MOUTTE Daniel | D2: {=IF(ROW(Clients!B1)>COUNTIF(colc,D$1),"",INDEX(colb,SMALL(IF(colc=D$1,ROW(colc)-1,""),ROW($A1))))} -> TROUSSET Margaux | E2: {=IF(ROW(Clients!C1)>COUNTIF(colc,E$1),"",INDEX(colb,SMALL(IF(colc=E$1,ROW(colc)-1,""),ROW($A1))))} | F2: {=IF(ROW(Clients!D1)>COUNTIF(colc,F$1),"",INDEX(colb,SMALL(IF(colc=F$1,ROW(colc)-1,""),ROW($A1))))} -> LATIL Roger | G2: {=IF(ROW(Clients!E1)>COUNTIF(colc,G$1),"",INDEX(colb,SMALL(IF(colc=G$1,ROW(colc)-1,""),ROW($A1))))} -> Cyprien | H2: {=IF(ROW(Clients!F1)>COUNTIF(colc,H$1),"",INDEX(colb,SMALL(IF(colc=H$1,ROW(colc)-1,""),ROW($A1))))}
B3: {=IF(ROW(Clients!A2)>A$1,"",INDEX(Clients!A:A,MIN(IF(colc<>"",IF(COUNTIF(B$1:B2,colc)=0,ROW(colc))))))} -> Symielec | C3: {=IF(ROW(Clients!A2)>COUNTIF(colc,C$1),"",INDEX(colb,SMALL(IF(colc=C$1,ROW(colc)-1,""),ROW($A2))))} | D3: {=IF(ROW(Clients!B2)>COUNTIF(colc,D$1),"",INDEX(colb,SMALL(IF(colc=D$1,ROW(colc)-1,""),ROW($A2))))} | E3: {=IF(ROW(Clients!C2)>COUNTIF(colc,E$1),"",INDEX(colb,SMALL(IF(colc=E$1,ROW(colc)-1,""),ROW($A2))))} | F3: {=IF(ROW(Clients!D2)>COUNTIF(colc,F$1),"",INDEX(colb,SMALL(IF(colc=F$1,ROW(colc)-1,""),ROW($A2))))} | G3: {=IF(ROW(Clients!E2)>COUNTIF(colc,G$1),"",INDEX(colb,SMALL(IF(colc=G$1,ROW(colc)-1,""),ROW($A2))))} | H3: {=IF(ROW(Clients!F2)>COUNTIF(colc,H$1),"",INDEX(colb,SMALL(IF(colc=H$1,ROW(colc)-1,""),ROW($A2))))}
B4: {=IF(ROW(Clients!#REF!)>A$1,"",INDEX(Clients!A:A,MIN(IF(colc<>"",IF(COUNTIF(B$1:B3,colc)=0,ROW(colc))))))} -> #REF! | C4: {=IF(ROW(Clients!#REF!)>COUNTIF(colc,C$1),"",INDEX(colb,SMALL(IF(colc=C$1,ROW(colc)-1,""),ROW($A3))))} -> #REF! | D4: {=IF(ROW(Clients!#REF!)>COUNTIF(colc,D$1),"",INDEX(colb,SMALL(IF(colc=D$1,ROW(colc)-1,""),ROW($A3))))} -> #REF! | E4: {=IF(ROW(Clients!#REF!)>COUNTIF(colc,E$1),"",INDEX(colb,SMALL(IF(colc=E$1,ROW(colc)-1,""),ROW($A3))))} -> #REF! | F4: {=IF(ROW(Clients!#REF!)>COUNTIF(colc,F$1),"",INDEX(colb,SMALL(IF(colc=F$1,ROW(colc)-1,""),ROW($A3))))} -> #REF! | G4: {=IF(ROW(Clients!#REF!)>COUNTIF(colc,G$1),"",INDEX(colb,SMALL(IF(colc=G$1,ROW(colc)-1,""),ROW($A3))))} -> #REF! | H4: {=IF(ROW(Clients!#REF!)>COUNTIF(colc,H$1),"",INDEX(colb,SMALL(IF(colc=H$1,ROW(colc)-1,""),ROW($A3))))} -> #REF!
B5: {=IF(ROW(Clients!A3)>A$1,"",INDEX(Clients!A:A,MIN(IF(colc<>"",IF(COUNTIF(B$1:B4,colc)=0,ROW(colc))))))} -> BRONZO | C5: {=IF(ROW(Clients!A3)>COUNTIF(colc,C$1),"",INDEX(colb,SMALL(IF(colc=C$1,ROW(colc)-1,""),ROW($A4))))} | D5: {=IF(ROW(Clients!B3)>COUNTIF(colc,D$1),"",INDEX(colb,SMALL(IF(colc=D$1,ROW(colc)-1,""),ROW($A4))))} | E5: {=IF(ROW(Clients!C3)>COUNTIF(colc,E$1),"",INDEX(colb,SMALL(IF(colc=E$1,ROW(colc)-1,""),ROW($A4))))} | F5: {=IF(ROW(Clients!D3)>COUNTIF(colc,F$1),"",INDEX(colb,SMALL(IF(colc=F$1,ROW(colc)-1,""),ROW($A4))))} | G5: {=IF(ROW(Clients!E3)>COUNTIF(colc,G$1),"",INDEX(colb,SMALL(IF(colc=G$1,ROW(colc)-1,""),ROW($A4))))} | H5: {=IF(ROW(Clients!F3)>COUNTIF(colc,H$1),"",INDEX(colb,SMALL(IF(colc=H$1,ROW(colc)-1,""),ROW($A4))))}
B6: {=IF(ROW(Clients!A4)>A$1,"",INDEX(Clients!A:A,MIN(IF(colc<>"",IF(COUNTIF(B$1:B5,colc)=0,ROW(colc))))))} -> Escota | C6: {=IF(ROW(Clients!A4)>COUNTIF(colc,C$1),"",INDEX(colb,SMALL(IF(colc=C$1,ROW(colc)-1,""),ROW($A5))))} | D6: {=IF(ROW(Clients!B4)>COUNTIF(colc,D$1),"",INDEX(colb,SMALL(IF(colc=D$1,ROW(colc)-1,""),ROW($A5))))} | E6: {=IF(ROW(Clients!C4)>COUNTIF(colc,E$1),"",INDEX(colb,SMALL(IF(colc=E$1,ROW(colc)-1,""),ROW($A5))))} | F6: {=IF(ROW(Clients!D4)>COUNTIF(colc,F$1),"",INDEX(colb,SMALL(IF(colc=F$1,ROW(colc)-1,""),ROW($A5))))} | G6: {=IF(ROW(Clients!E4)>COUNTIF(colc,G$1),"",INDEX(colb,SMALL(IF(colc=G$1,ROW(colc)-1,""),ROW($A5))))} | H6: {=IF(ROW(Clients!F4)>COUNTIF(colc,H$1),"",INDEX(colb,SMALL(IF(colc=H$1,ROW(colc)-1,""),ROW($A5))))}
B7: {=IF(ROW(Clients!A5)>A$1,"",INDEX(Clients!A:A,MIN(IF(colc<>"",IF(COUNTIF(B$1:B6,colc)=0,ROW(colc))))))} | C7: {=IF(ROW(Clients!A5)>COUNTIF(colc,C$1),"",INDEX(colb,SMALL(IF(colc=C$1,ROW(colc)-1,""),ROW($A6))))} | D7: {=IF(ROW(Clients!B5)>COUNTIF(colc,D$1),"",INDEX(colb,SMALL(IF(colc=D$1,ROW(colc)-1,""),ROW($A6))))} | E7: {=IF(ROW(Clients!C5)>COUNTIF(colc,E$1),"",INDEX(colb,SMALL(IF(colc=E$1,ROW(colc)-1,""),ROW($A6))))} | F7: {=IF(ROW(Clients!D5)>COUNTIF(colc,F$1),"",INDEX(colb,SMALL(IF(colc=F$1,ROW(colc)-1,""),ROW($A6))))} | G7: {=IF(ROW(Clients!E5)>COUNTIF(colc,G$1),"",INDEX(colb,SMALL(IF(colc=G$1,ROW(colc)-1,""),ROW($A6))))} | H7: {=IF(ROW(Clients!F5)>COUNTIF(colc,H$1),"",INDEX(colb,SMALL(IF(colc=H$1,ROW(colc)-1,""),ROW($A6))))}
B8: {=IF(ROW(Clients!A6)>A$1,"",INDEX(Clients!A:A,MIN(IF(colc<>"",IF(COUNTIF(B$1:B7,colc)=0,ROW(colc))))))}
B9: {=IF(ROW(Clients!A6)>A$1,"",INDEX(Clients!A:A,MIN(IF(colc<>"",IF(COUNTIF(B$1:B8,colc)=0,ROW(colc))))))}
B10: {=IF(ROW(Clients!A7)>A$1,"",INDEX(Clients!A:A,MIN(IF(colc<>"",IF(COUNTIF(B$1:B9,colc)=0,ROW(colc))))))}
B11: {=IF(ROW(Clients!A8)>A$1,"",INDEX(Clients!A:A,MIN(IF(colc<>"",IF(COUNTIF(B$1:B10,colc)=0,ROW(colc))))))}
B12: {=IF(ROW(Clients!A9)>A$1,"",INDEX(Clients!A:A,MIN(IF(colc<>"",IF(COUNTIF(B$1:B11,colc)=0,ROW(colc))))))}
