Workbook
Name col_A: Feuil2!$A$2:$A$50
Name col_B: Feuil2!$B$2:$B$50
Name unique: Feuil2!$I$2:$I$50

Sheet Feuil1
A2: tata | B2: =IF(ISNA(Feuil2!E2),"",INDEX(col_B,Feuil2!E2)) -> A | F2: {=IF(ROWS($1:1)<=COUNTIFS(Feuil2!$A$2:$A$50,$A$2,Feuil2!B:B,Feuil1!A3),INDEX(Feuil2!$C$2:$C$50,SMALL(IF(Feuil2!$A$2:$A$50=$A$2,ROW(INDIRECT("1:"&ROWS(Feuil2!$A$2:$A$50)))),ROWS($1:1))),"")} -> #VALUE!
A3: A | B3: =IF(ISNA(Feuil2!E3),"",INDEX(col_B,Feuil2!E3)) -> B | F3: {=IF(ROWS($1:2)<=COUNTIFS(Feuil2!$A$2:$A$50,$A$2),INDEX(Feuil2!$C$2:$C$50,SMALL(IF(Feuil2!$A$2:$A$50=$A$2,ROW(INDIRECT("1:"&ROWS(Feuil2!$A$2:$A$50)))),ROWS($1:2))),"")} -> 10
B4: =IF(ISNA(Feuil2!E4),"",INDEX(col_B,Feuil2!E4)) -> C | F4: {=IF(ROWS($1:3)<=COUNTIFS(Feuil2!$A$2:$A$50,$A$2),INDEX(Feuil2!$C$2:$C$50,SMALL(IF(Feuil2!$A$2:$A$50=$A$2,ROW(INDIRECT("1:"&ROWS(Feuil2!$A$2:$A$50)))),ROWS($1:3))),"")} -> 60
B5: =IF(ISNA(Feuil2!E5),"",INDEX(col_B,Feuil2!E5)) | F5: {=IF(ROWS($1:4)<=COUNTIFS(Feuil2!$A$2:$A$50,$A$2),INDEX(Feuil2!$C$2:$C$50,SMALL(IF(Feuil2!$A$2:$A$50=$A$2,ROW(INDIRECT("1:"&ROWS(Feuil2!$A$2:$A$50)))),ROWS($1:4))),"")}
B6: =IF(ISNA(Feuil2!E6),"",INDEX(col_B,Feuil2!E6)) | F6: {=IF(ROWS($1:5)<=COUNTIFS(Feuil2!$A$2:$A$50,$A$2),INDEX(Feuil2!$C$2:$C$50,SMALL(IF(Feuil2!$A$2:$A$50=$A$2,ROW(INDIRECT("1:"&ROWS(Feuil2!$A$2:$A$50)))),ROWS($1:5))),"")}
B7: =IF(ISNA(Feuil2!E7),"",INDEX(col_B,Feuil2!E7)) | F7: {=IF(ROWS($1:6)<=COUNTIFS(Feuil2!$A$2:$A$50,$A$2),INDEX(Feuil2!$C$2:$C$50,SMALL(IF(Feuil2!$A$2:$A$50=$A$2,ROW(INDIRECT("1:"&ROWS(Feuil2!$A$2:$A$50)))),ROWS($1:6))),"")}
B10: METHODE 1 | C10: classique avec colonnes intermédiaires
F18: METHODE 2
F19: sans colonnes intermédiaires
A26: VALIDATION DONNEES COL A feuil2

Sheet Feuil2
G1: ligne 1 doit rester vide
A2: tata | B2: A | C2: 30 | D2: =(Feuil1!A$2=A2) -> TRUE | E2: =MATCH(TRUE,OFFSET(D$2:D$50,E1,0),0)+E1 -> 1 | G2: A2:A59 nommé col_A | I2: {=INDEX(A:A,MIN(IF(COUNTIF(I$1:I1,col_A)=0,ROW(col_A))))&""} -> tata | J2: H1:H50 nommé unique
A3: titi | B3: A | C3: 20 | D3: =(Feuil1!A$2=A3) -> FALSE | E3: =MATCH(TRUE,OFFSET(D$2:D$50,E2,0),0)+E2 -> 3 | G3: B2:B50 nommé col_B | I3: {=INDEX(A:A,MIN(IF(COUNTIF(I$1:I2,col_A)=0,ROW(col_A))))&""} -> titi
A4: tata | B4: B | C4: 10 | D4: =(Feuil1!A$2=A4) -> TRUE | E4: =MATCH(TRUE,OFFSET(D$2:D$50,E3,0),0)+E3 -> 6 | I4: {=INDEX(A:A,MIN(IF(COUNTIF(I$1:I3,col_A)=0,ROW(col_A))))&""} -> toto | J4: VALIDATION DONNEES FEUILLE1 A2
A5: toto | B5: B | C5: 40 | D5: =(Feuil1!A$2=A5) -> FALSE | E5: =MATCH(TRUE,OFFSET(D$2:D$50,E4,0),0)+E4 -> #N/A | I5: {=INDEX(A:A,MIN(IF(COUNTIF(I$1:I4,col_A)=0,ROW(col_A))))&""}
A6: titi | B6: C | C6: 50 | D6: =(Feuil1!A$2=A6) -> FALSE | E6: =MATCH(TRUE,OFFSET(D$2:D$50,E5,0),0)+E5 -> #N/A | I6: {=INDEX(A:A,MIN(IF(COUNTIF(I$1:I5,col_A)=0,ROW(col_A))))&""}
A7: tata | B7: C | C7: 60 | D7: =(Feuil1!A$2=A7) -> TRUE | E7: =MATCH(TRUE,OFFSET(D$2:D$50,E6,0),0)+E6 -> #N/A | I7: {=INDEX(A:A,MIN(IF(COUNTIF(I$1:I6,col_A)=0,ROW(col_A))))&""}
I8: {=INDEX(A:A,MIN(IF(COUNTIF(I$1:I7,col_A)=0,ROW(col_A))))&""}
I9: {=INDEX(A:A,MIN(IF(COUNTIF(I$1:I8,col_A)=0,ROW(col_A))))&""}
I10: {=INDEX(A:A,MIN(IF(COUNTIF(I$1:I9,col_A)=0,ROW(col_A))))&""}
I11: {=INDEX(A:A,MIN(IF(COUNTIF(I$1:I10,col_A)=0,ROW(col_A))))&""}
I12: {=INDEX(A:A,MIN(IF(COUNTIF(I$1:I11,col_A)=0,ROW(col_A))))&""}
I13: {=INDEX(A:A,MIN(IF(COUNTIF(I$1:I12,col_A)=0,ROW(col_A))))&""}
D14: masquer les colonnes C:D | I14: {=INDEX(A:A,MIN(IF(COUNTIF(I$1:I13,col_A)=0,ROW(col_A))))&""}
I15: {=INDEX(A:A,MIN(IF(COUNTIF(I$1:I14,col_A)=0,ROW(col_A))))&""}
D16: METHODE 1 | I16: {=INDEX(A:A,MIN(IF(COUNTIF(I$1:I15,col_A)=0,ROW(col_A))))&""}
I17: {=INDEX(A:A,MIN(IF(COUNTIF(I$1:I16,col_A)=0,ROW(col_A))))&""}
I18: {=INDEX(A:A,MIN(IF(COUNTIF(I$1:I17,col_A)=0,ROW(col_A))))&""}
I19: {=INDEX(A:A,MIN(IF(COUNTIF(I$1:I18,col_A)=0,ROW(col_A))))&""}
I20: {=INDEX(A:A,MIN(IF(COUNTIF(I$1:I19,col_A)=0,ROW(col_A))))&""}
I21: {=INDEX(A:A,MIN(IF(COUNTIF(I$1:I20,col_A)=0,ROW(col_A))))&""}
I22: {=INDEX(A:A,MIN(IF(COUNTIF(I$1:I21,col_A)=0,ROW(col_A))))&""}
E23: Résultats en feuille 1 | I23: {=INDEX(A:A,MIN(IF(COUNTIF(I$1:I22,col_A)=0,ROW(col_A))))&""}
E24: vert: classique | I24: {=INDEX(A:A,MIN(IF(COUNTIF(I$1:I23,col_A)=0,ROW(col_A))))&""}
E25: bleu: matriciel | I25: {=INDEX(A:A,MIN(IF(COUNTIF(I$1:I24,col_A)=0,ROW(col_A))))&""}
E26: jaune: commun | I26: {=INDEX(A:A,MIN(IF(COUNTIF(I$1:I25,col_A)=0,ROW(col_A))))&""}
I27: {=INDEX(A:A,MIN(IF(COUNTIF(I$1:I26,col_A)=0,ROW(col_A))))&""}
D28: =(A2<>"")*(COUNTIF(A$2:A2,A2)<2) -> 1 | E28: =MATCH(1,OFFSET(D$28:D36,E27,0),0)+E27 -> 1 | F28: =IF(ISNA(E28),"",INDEX(A$2:A$50,E28)) -> tata | G28: LISTE DES UNIQUES SANS MATRICIELLE | I28: {=INDEX(A:A,MIN(IF(COUNTIF(I$1:I27,col_A)=0,ROW(col_A))))&""}
D29: =(A3<>"")*(COUNTIF(A$2:A3,A3)<2)*1 -> 1 | E29: =MATCH(1,OFFSET(D$28:D37,E28,0),0)+E28 -> 2 | F29: =IF(ISNA(E29),"",INDEX(A$2:A$50,E29)) -> titi | I29: {=INDEX(A:A,MIN(IF(COUNTIF(I$1:I28,col_A)=0,ROW(col_A))))&""}
D30: =(A4<>"")*(COUNTIF(A$2:A4,A4)<2)*1 -> 0 | E30: =MATCH(1,OFFSET(D$28:D38,E29,0),0)+E29 -> 4 | F30: =IF(ISNA(E30),"",INDEX(A$2:A$50,E30)) -> toto | I30: {=INDEX(A:A,MIN(IF(COUNTIF(I$1:I29,col_A)=0,ROW(col_A))))&""}
D31: =(A5<>"")*(COUNTIF(A$2:A5,A5)<2)*1 -> 1 | E31: =MATCH(1,OFFSET(D$28:D39,E30,0),0)+E30 -> #N/A | F31: =IF(ISNA(E31),"",INDEX(A$2:A$50,E31)) | I31: {=INDEX(A:A,MIN(IF(COUNTIF(I$1:I30,col_A)=0,ROW(col_A))))&""}
D32: =(A6<>"")*(COUNTIF(A$2:A6,A6)<2)*1 -> 0 | E32: =MATCH(1,OFFSET(D$28:D40,E31,0),0)+E31 -> #N/A | F32: =IF(ISNA(E32),"",INDEX(A$2:A$50,E32)) | I32: {=INDEX(A:A,MIN(IF(COUNTIF(I$1:I31,col_A)=0,ROW(col_A))))&""}
D33: =(A7<>"")*(COUNTIF(A$2:A7,A7)<2)*1 -> 0 | E33: =MATCH(1,OFFSET(D$28:D41,E32,0),0)+E32 -> #N/A | F33: =IF(ISNA(E33),"",INDEX(A$2:A$50,E33)) | I33: {=INDEX(A:A,MIN(IF(COUNTIF(I$1:I32,col_A)=0,ROW(col_A))))&""}
D34: =(A8<>"")*(COUNTIF(A$2:A8,A8)<2)*1 -> 0 | E34: =MATCH(1,OFFSET(D$28:D42,E33,0),0)+E33 -> #N/A | F34: =IF(ISNA(E34),"",INDEX(A$2:A$50,E34)) | I34: {=INDEX(A:A,MIN(IF(COUNTIF(I$1:I33,col_A)=0,ROW(col_A))))&""}
D35: =(A9<>"")*(COUNTIF(A$2:A9,A9)<2)*1 -> 0 | E35: =MATCH(1,OFFSET(D$28:D43,E34,0),0)+E34 -> #N/A | F35: =IF(ISNA(E35),"",INDEX(A$2:A$50,E35)) | I35: {=INDEX(A:A,MIN(IF(COUNTIF(I$1:I34,col_A)=0,ROW(col_A))))&""}
D36: =(A10<>"")*(COUNTIF(A$2:A10,A10)<2)*1 -> 0 | E36: =MATCH(1,OFFSET(D$28:D44,E35,0),0)+E35 -> #N/A | F36: =IF(ISNA(E36),"",INDEX(A$2:A$50,E36)) | I36: {=INDEX(A:A,MIN(IF(COUNTIF(I$1:I35,col_A)=0,ROW(col_A))))&""}
I37: {=INDEX(A:A,MIN(IF(COUNTIF(I$1:I36,col_A)=0,ROW(col_A))))&""}
D38: masquer les colonnes C:D | I38: {=INDEX(A:A,MIN(IF(COUNTIF(I$1:I37,col_A)=0,ROW(col_A))))&""}
I39: {=INDEX(A:A,MIN(IF(COUNTIF(I$1:I38,col_A)=0,ROW(col_A))))&""}
I40: {=INDEX(A:A,MIN(IF(COUNTIF(I$1:I39,col_A)=0,ROW(col_A))))&""}
...

Sheet Feuil3
A2: tata | B2: A | C2: 30 | E2: TATA et A | F2: 30
A3: titi | B3: B | C3: 20 | F3: 10
A4: tata | B4: A | C4: 10
A5: toto | B5: B | C5: 40
A6: titi | B6: C | C6: 50
A7: tata | B7: C | C7: 60
